Workbook

Sheet CUADRO SERVICIOS
A1: CUADRO DETALLADO SERVICIOS DE VIGILANCIA PRIVADA - FISCALIA GENERAL DE LA NACION
A2: DEPARTAMENTO | B2: CIUDAD/MUNICIPIO | C2: NOMBRE DEL PUESTO | D2: DESCRIPCIÓN DEL SERVICIO | E2: ELEMENTOS DEL SERVICIO | G2: PERIODO FACTURADO | H2: No. DIAS | I2: No. SERVICIOS | J2: VALOR MENSUAL UNITARIO | K2: AYS(11-%10%-8%) MENSUAL UNITARIO | L2: VR UNITARIO DEL SERVICIO | M2: SUB TOTAL ANTES DE AIU (M*I) | N2: AIU (10%) | O2: % DE IVA (19%) | P2: VALOR TOTAL
A3: CUNDINAMARCA | B3: BOGOTA DC | C3: CTI SANTUARIO / CALLE 18A 69B 15 | D3: 24 HORAS L-D | E3: CON ARMA | F3: Serv. Vig. 12 H Diurno sin arma Aero. El Dorado | G3: Del 1 al 14 de Julio 2025 | H3: 14 | I3: 3 | J3: =(9.14*1423500)+1500 -> 13012290 | K3: =+J3*10% -> 1301229 | L3: =(J3+K3)/30*H3 -> 6679642.2 | M3: =L3*I3 -> 20038927 | N3: =ROUND(M3*10%,0) -> 2003893 | O3: =ROUND(N3*19%,0) -> 380740 | P3: =+ROUND(M3+O3,0) -> 20419667
A4: CUNDINAMARCA | B4: BOGOTA DC | C4: CTI SANTUARIO / CALLE 18A 69B 15 | D4: 24 HORAS L-D | E4: SIN ARMA | F4: Serv. Vig. 24 H Diurno con arma Aero. El Dorado | G4: Del 1 al 14 de Julio 2025 | H4: 14 | I4: 1 | J4: =(9.14*1423500)+1500 -> 13012290 | K4: =+J4*0.08 -> 1040983.2 | L4: =(J4+K4)/30*H4 -> 6558194.2 | M4: =L4*I4 -> 6558194.2 | N4: =ROUND(M4*10%,0) -> 655819 | O4: =ROUND(N4*19%,0) -> 124606 | P4: =+ROUND(M4+O4,0) -> 6682800
A5: CUNDINAMARCA | B5: BOGOTA DC | C5: CTI SANTUARIO / CALLE 18A 69B 15 | D5: 12 HORAS L-V CON FESTIVOS | E5: SIN ARMA | F5: Serv. Vig. 12 H Diurno con canino Aero. Neiva | G5: Del 1 al 14 de Julio 2025 | H5: 14 | I5: 1 | J5: =((((9.14*1423500)+1500)*0.5597)/15*12)/30*22 -> 4272680.8 | K5: =+J5*0.08 -> 341814.47 | L5: =(J5+K5)/30*H5 -> 2153431.1 | M5: =L5*I5 -> 2153431.1 | N5: =ROUND(M5*10%,0) -> 215343 | O5: =ROUND(N5*19%,0) -> 40915 | P5: =+ROUND(M5+O5,0) -> 2194346
A6: CUNDINAMARCA | B6: BOGOTA DC | C6: SEDE URI USAQUEN / CARRERA 29 18A 67 | D6: 24 HORAS L-D | E6: CON ARMA | F6: Serv. Vig. 12 H Diurno sin arma Aero. El Dorado | G6: Del 1 al 14 de Julio 2025 | H6: 14 | I6: 3 | J6: =(9.14*1423500)+1500 -> 13012290 | K6: =+J6*10% -> 1301229 | L6: =(J6+K6)/30*H6 -> 6679642.2 | M6: =L6*I6 -> 20038927 | N6: =ROUND(M6*10%,0) -> 2003893 | O6: =ROUND(N6*19%,0) -> 380740 | P6: =+ROUND(M6+O6,0) -> 20419667
A7: CUNDINAMARCA | B7: BOGOTA DC | C7: SEDE URI USAQUEN / CARRERA 29 18A 67 | D7: 12 HORAS L-V CON FESTIVOS | E7: SIN ARMA | F7: Serv. Vig. 12 H Diurno con canino Aero. Neiva | G7: Del 1 al 14 de Julio 2025 | H7: 14 | I7: 2 | J7: =((((9.14*1423500)+1500)*0.5597)/15*12)/30*22 -> 4272680.8 | K7: =+J7*0.08 -> 341814.47 | L7: =(J7+K7)/30*H7 -> 2153431.1 | M7: =L7*I7 -> 4306862.3 | N7: =ROUND(M7*10%,0) -> 430686 | O7: =ROUND(N7*19%,0) -> 81830 | P7: =+ROUND(M7+O7,0) -> 4388692
A8: CUNDINAMARCA | B8: BOGOTA DC | C8: SEDE MANUEL GAONA / CALLE 18 33 18 | D8: 24 HORAS L-D | E8: CON ARMA | F8: Serv. Vig. 12 H Diurno sin arma Aero. El Dorado | G8: Del 1 al 14 de Julio 2025 | H8: 14 | I8: 3 | J8: =(9.14*1423500)+1500 -> 13012290 | K8: =+J8*10% -> 1301229 | L8: =(J8+K8)/30*H8 -> 6679642.2 | M8: =L8*I8 -> 20038927 | N8: =ROUND(M8*10%,0) -> 2003893 | O8: =ROUND(N8*19%,0) -> 380740 | P8: =+ROUND(M8+O8,0) -> 20419667
A9: CUNDINAMARCA | B9: BOGOTA DC | C9: SEDE MANUEL GAONA / CALLE 18 33 18 | D9: 12 HORAS L-V CON FESTIVOS | E9: SIN ARMA | F9: Serv. Vig. 12 H Diurno con canino Aero. Neiva | G9: Del 1 al 14 de Julio 2025 | H9: 14 | I9: 4 | J9: =((((9.14*1423500)+1500)*0.5597)/15*12)/30*22 -> 4272680.8 | K9: =+J9*0.08 -> 341814.47 | L9: =(J9+K9)/30*H9 -> 2153431.1 | M9: =L9*I9 -> 8613724.6 | N9: =ROUND(M9*10%,0) -> 861372 | O9: =ROUND(N9*19%,0) -> 163661 | P9: =+ROUND(M9+O9,0) -> 8777386
A10: CUNDINAMARCA | B10: BOGOTA DC | C10: SEDE ADMINISTRATIVA / CALLE 26 69 76 TORRE 4 PISO 16 | D10: 24 HORAS L-D | E10: CON ARMA | F10: Serv. Vig. 12 H Diurno sin arma Aero. El Dorado | G10: Del 1 al 14 de Julio 2025 | H10: 14 | I10: 1 | J10: =(9.14*1423500)+1500 -> 13012290 | K10: =+J10*10% -> 1301229 | L10: =(J10+K10)/30*H10 -> 6679642.2 | M10: =L10*I10 -> 6679642.2 | N10: =ROUND(M10*10%,0) -> 667964 | O10: =ROUND(N10*19%,0) -> 126913 | P10: =+ROUND(M10+O10,0) -> 6806555
A11: CUNDINAMARCA | B11: BOGOTA DC | C11: SEDE TRIBUNALES / CALLE 12B 7 60 | D11: 24 HORAS L-D | E11: CON ARMA | F11: Serv. Vig. 12 H Diurno sin arma Aero. El Dorado | G11: Del 1 al 14 de Julio 2025 | H11: 14 | I11: 1 | J11: =(9.14*1423500)+1500 -> 13012290 | K11: =+J11*10% -> 1301229 | L11: =(J11+K11)/30*H11 -> 6679642.2 | M11: =L11*I11 -> 6679642.2 | N11: =ROUND(M11*10%,0) -> 667964 | O11: =ROUND(N11*19%,0) -> 126913 | P11: =+ROUND(M11+O11,0) -> 6806555
A12: CUNDINAMARCA | B12: BOGOTA DC | C12: SEDE TRIBUNALES / CALLE 12B 7 60 | D12: 12 HORAS L-V CON FESTIVOS | E12: SIN ARMA | F12: Serv. Vig. 12 H Diurno con canino Aero. Neiva | G12: Del 1 al 14 de Julio 2025 | H12: 14 | I12: 1 | J12: =((((9.14*1423500)+1500)*0.5597)/15*12)/30*22 -> 4272680.8 | K12: =+J12*0.08 -> 341814.47 | L12: =(J12+K12)/30*H12 -> 2153431.1 | M12: =L12*I12 -> 2153431.1 | N12: =ROUND(M12*10%,0) -> 215343 | O12: =ROUND(N12*19%,0) -> 40915 | P12: =+ROUND(M12+O12,0) -> 2194346
A13: CUNDINAMARCA | B13: BOGOTA DC | C13: MIDPOINT / CALLE 19 33 02 | D13: 24 HORAS L-D | E13: CON ARMA | F13: Serv. Vig. 12 H Diurno sin arma Aero. El Dorado | G13: Del 1 al 14 de Julio 2025 | H13: 14 | I13: 3 | J13: =(9.14*1423500)+1500 -> 13012290 | K13: =+J13*10% -> 1301229 | L13: =(J13+K13)/30*H13 -> 6679642.2 | M13: =L13*I13 -> 20038927 | N13: =ROUND(M13*10%,0) -> 2003893 | O13: =ROUND(N13*19%,0) -> 380740 | P13: =+ROUND(M13+O13,0) -> 20419667
A14: CUNDINAMARCA | B14: BOGOTA DC | C14: MIDPOINT / CALLE 19 33 02 | D14: 12 HORAS L-V CON FESTIVOS | E14: SIN ARMA | F14: Serv. Vig. 12 H Diurno con canino Aero. Neiva | G14: Del 1 al 14 de Julio 2025 | H14: 14 | I14: 4 | J14: =((((9.14*1423500)+1500)*0.5597)/15*12)/30*22 -> 4272680.8 | K14: =+J14*0.08 -> 341814.47 | L14: =(J14+K14)/30*H14 -> 2153431.1 | M14: =L14*I14 -> 8613724.6 | N14: =ROUND(M14*10%,0) -> 861372 | O14: =ROUND(N14*19%,0) -> 163661 | P14: =+ROUND(M14+O14,0) -> 8777386
A15: CUNDINAMARCA | B15: BOGOTA DC | C15: SEDE URI CIUDAD BOLIVAR / CALLE 51 SUR 7 76 | D15: 24 HORAS L-D | E15: CON ARMA | F15: Serv. Vig. 12 H Diurno sin arma Aero. El Dorado | G15: Del 1 al 14 de Julio 2025 | H15: 14 | I15: 3 | J15: =(9.14*1423500)+1500 -> 13012290 | K15: =+J15*10% -> 1301229 | L15: =(J15+K15)/30*H15 -> 6679642.2 | M15: =L15*I15 -> 20038927 | N15: =ROUND(M15*10%,0) -> 2003893 | O15: =ROUND(N15*19%,0) -> 380740 | P15: =+ROUND(M15+O15,0) -> 20419667
A16: CUNDINAMARCA | B16: BOGOTA DC | C16: SEDE URI KENNEDY / CARRERA 69 36 72 CARVAJAL | D16: 24 HORAS L-D | E16: CON ARMA | F16: Serv. Vig. 12 H Diurno sin arma Aero. El Dorado | G16: Del 1 al 14 de Julio 2025 | H16: 14 | I16: 4 | J16: =(9.14*1423500)+1500 -> 13012290 | K16: =+J16*10% -> 1301229 | L16: =(J16+K16)/30*H16 -> 6679642.2 | M16: =L16*I16 -> 26718569 | N16: =ROUND(M16*10%,0) -> 2671857 | O16: =ROUND(N16*19%,0) -> 507653 | P16: =+ROUND(M16+O16,0) -> 27226222
A17: CUNDINAMARCA | B17: BOGOTA DC | C17: SEDE URI PUENTE ARANDA / CRA 40 10A 08 | D17: 24 HORAS L-D | E17: CON ARMA | F17: Serv. Vig. 12 H Diurno sin arma Aero. El Dorado | G17: Del 1 al 14 de Julio 2025 | H17: 14 | I17: 1 | J17: =(9.14*1423500)+1500 -> 13012290 | K17: =+J17*10% -> 1301229 | L17: =(J17+K17)/30*H17 -> 6679642.2 | M17: =L17*I17 -> 6679642.2 | N17: =ROUND(M17*10%,0) -> 667964 | O17: =ROUND(N17*19%,0) -> 126913 | P17: =+ROUND(M17+O17,0) -> 6806555
A18: CUNDINAMARCA | B18: BOGOTA DC | C18: SEDE URI PUENTE ARANDA / CRA 40 10A 08 | D18: 12 HORAS L-V CON FESTIVOS | E18: SIN ARMA | F18: Serv. Vig. 12 H Diurno con canino Aero. Neiva | G18: Del 1 al 14 de Julio 2025 | H18: 14 | I18: 1 | J18: =((((9.14*1423500)+1500)*0.5597)/15*12)/30*22 -> 4272680.8 | K18: =+J18*0.08 -> 341814.47 | L18: =(J18+K18)/30*H18 -> 2153431.1 | M18: =L18*I18 -> 2153431.1 | N18: =ROUND(M18*10%,0) -> 215343 | O18: =ROUND(N18*19%,0) -> 40915 | P18: =+ROUND(M18+O18,0) -> 2194346
A19: CUNDINAMARCA | B19: BOGOTA DC | C19: SEDE URI ANGATIVA / CRA 78A 77A 62 | D19: 24 HORAS L-D | E19: CON ARMA | F19: Serv. Vig. 12 H Diurno sin arma Aero. El Dorado | G19: Del 1 al 14 de Julio 2025 | H19: 14 | I19: 3 | J19: =(9.14*1423500)+1500 -> 13012290 | K19: =+J19*10% -> 1301229 | L19: =(J19+K19)/30*H19 -> 6679642.2 | M19: =L19*I19 -> 20038927 | N19: =ROUND(M19*10%,0) -> 2003893 | O19: =ROUND(N19*19%,0) -> 380740 | P19: =+ROUND(M19+O19,0) -> 20419667
A20: CUNDINAMARCA | B20: BOGOTA DC | C20: SEDE URI ANGATIVA / CRA 78A 77A 62 | D20: 12 HORAS L-V CON FESTIVOS | E20: SIN ARMA | F20: Serv. Vig. 12 H Diurno con canino Aero. Neiva | G20: Del 1 al 14 de Julio 2025 | H20: 14 | I20: 2 | J20: =((((9.14*1423500)+1500)*0.5597)/15*12)/30*22 -> 4272680.8 | K20: =+J20*0.08 -> 341814.47 | L20: =(J20+K20)/30*H20 -> 2153431.1 | M20: =L20*I20 -> 4306862.3 | N20: =ROUND(M20*10%,0) -> 430686 | O20: =ROUND(N20*19%,0) -> 81830 | P20: =+ROUND(M20+O20,0) -> 4388692
A21: CUNDINAMARCA | B21: BOGOTA DC | C21: CASA LOTE SUBA / CALLE 153 76 26 EL VINAR DE CASA BLANCA | D21: 24 HORAS L-D | E21: CON ARMA | F21: Serv. Vig. 12 H Diurno sin arma Aero. El Dorado | G21: Del 1 al 14 de Julio 2025 | H21: 14 | I21: 1 | J21: =(9.14*1423500)+1500 -> 13012290 | K21: =+J21*10% -> 1301229 | L21: =(J21+K21)/30*H21 -> 6679642.2 | M21: =L21*I21 -> 6679642.2 | N21: =ROUND(M21*10%,0) -> 667964 | O21: =ROUND(N21*19%,0) -> 126913 | P21: =+ROUND(M21+O21,0) -> 6806555
A22: CUNDINAMARCA | B22: BOGOTA DC | C22: URI MENORES / CALLE 12 30 35 | D22: 24 HORAS L-D | E22: CON ARMA | F22: Serv. Vig. 12 H Diurno sin arma Aero. El Dorado | G22: Del 1 al 14 de Julio 2025 | H22: 14 | I22: 1 | J22: =(9.14*1423500)+1500 -> 13012290 | K22: =+J22*10% -> 1301229 | L22: =(J22+K22)/30*H22 -> 6679642.2 | M22: =L22*I22 -> 6679642.2 | N22: =ROUND(M22*10%,0) -> 667964 | O22: =ROUND(N22*19%,0) -> 126913 | P22: =+ROUND(M22+O22,0) -> 6806555
A23: CUNDINAMARCA | B23: BOGOTA DC | C23: CAF SUBA / CALLE 133 101C 15-09 | D23: 24 HORAS L-D | E23: CON ARMA | F23: Serv. Vig. 12 H Diurno sin arma Aero. El Dorado | G23: Del 1 al 14 de Julio 2025 | H23: 14 | I23: 1 | J23: =(9.14*1423500)+1500 -> 13012290 | K23: =+J23*10% -> 1301229 | L23: =(J23+K23)/30*H23 -> 6679642.2 | M23: =L23*I23 -> 6679642.2 | N23: =ROUND(M23*10%,0) -> 667964 | O23: =ROUND(N23*19%,0) -> 126913 | P23: =+ROUND(M23+O23,0) -> 6806555
A24: CUNDINAMARCA | B24: BOGOTA DC | C24: URI CAMPO VERDE BOSA / CALLE 85 SUR 94 35 | D24: 24 HORAS L-D | E24: CON ARMA | F24: Serv. Vig. 12 H Diurno sin arma Aero. El Dorado | G24: Del 1 al 14 de Julio 2025 | H24: 14 | I24: 6 | J24: =(9.14*1423500)+1500 -> 13012290 | K24: =+J24*10% -> 1301229 | L24: =(J24+K24)/30*H24 -> 6679642.2 | M24: =L24*I24 -> 40077853 | N24: =ROUND(M24*10%,0) -> 4007785 | O24: =ROUND(N24*19%,0) -> 761479 | P24: =+ROUND(M24+O24,0) -> 40839332
A25: CUNDINAMARCA | B25: BOGOTA DC | C25: URI CAMPO VERDE BOSA / CALLE 85 SUR 94 35 | D25: 12 HORAS L-V CON FESTIVOS | E25: SIN ARMA | F25: Serv. Vig. 12 H Diurno con canino Aero. Neiva | G25: Del 1 al 14 de Julio 2025 | H25: 14 | I25: 3 | J25: =((((9.14*1423500)+1500)*0.5597)/15*12)/30*22 -> 4272680.8 | K25: =+J25*0.08 -> 341814.47 | L25: =(J25+K25)/30*H25 -> 2153431.1 | M25: =L25*I25 -> 6460293.4 | N25: =ROUND(M25*10%,0) -> 646029 | O25: =ROUND(N25*19%,0) -> 122746 | P25: =+ROUND(M25+O25,0) -> 6583039
A26: CUNDINAMARCA | B26: BOGOTA DC | C26: CAVIP / CALLE 19 27 09 | D26: 24 HORAS L-D | E26: CON ARMA | F26: Serv. Vig. 12 H Diurno sin arma Aero. El Dorado | G26: Del 1 al 14 de Julio 2025 | H26: 14 | I26: 3 | J26: =(9.14*1423500)+1500 -> 13012290 | K26: =+J26*10% -> 1301229 | L26: =(J26+K26)/30*H26 -> 6679642.2 | M26: =L26*I26 -> 20038927 | N26: =ROUND(M26*10%,0) -> 2003893 | O26: =ROUND(N26*19%,0) -> 380740 | P26: =+ROUND(M26+O26,0) -> 20419667
A27: CUNDINAMARCA | B27: BOGOTA DC | C27: CAVIP / CALLE 19 27 09 | D27: 12 HORAS L-V SIN FESTIVOS | E27: SIN ARMA | F27: Serv. Vig. 12 H Diurno con canino Aero. Neiva | G27: Del 1 al 14 de Julio 2025 | H27: 14 | I27: 1 | J27: =((((9.14*1423500)+1500)*0.5597)/15*12)/30*20 -> 3884255.3 | K27: =+J27*0.08 -> 310740.43 | L27: =(J27+K27)/30*H27 -> 1957664.7 | M27: =L27*I27 -> 1957664.7 | N27: =ROUND(M27*10%,0) -> 195766 | O27: =ROUND(N27*19%,0) -> 37196 | P27: =+ROUND(M27+O27,0) -> 1994861
A28: CUNDINAMARCA | B28: BOGOTA DC | C28: PARQUEADERO / CARRERA 29 18 45 | D28: 24 HORAS L-D | E28: SIN ARMA | F28: Serv. Vig. 12 H Diurno sin arma Aero. El Dorado | G28: Del 1 al 14 de Julio 2025 | H28: 14 | I28: 1 | J28: =(9.14*1423500)+1500 -> 13012290 | K28: =+J28*0.08 -> 1040983.2 | L28: =(J28+K28)/30*H28 -> 6558194.2 | M28: =L28*I28 -> 6558194.2 | N28: =ROUND(M28*10%,0) -> 655819 | O28: =ROUND(N28*19%,0) -> 124606 | P28: =+ROUND(M28+O28,0) -> 6682800
A29: CUNDINAMARCA | B29: LA CALERA | C29: LA CALERA / CALLE 10B 2B 08 | D29: 24 HORAS L-D | E29: CON ARMA | F29: Serv. Vig. 12 H Diurno sin arma Aero. El Dorado | G29: Del 1 al 14 de Julio 2025 | H29: 14 | I29: 1 | J29: =(9.14*1423500)+1500 -> 13012290 | K29: =+J29*10% -> 1301229 | L29: =(J29+K29)/30*H29 -> 6679642.2 | M29: =L29*I29 -> 6679642.2 | N29: =ROUND(M29*10%,0) -> 667964 | O29: =ROUND(N29*19%,0) -> 126913 | P29: =+ROUND(M29+O29,0) -> 6806555
A30: NIVEL CENTRAL BOGOTA | B30: BOGOTA DC | C30: BUNKER / AV CALLE 24 52 01 | D30: SUPERVISOR 24H L-D | E30: CON ARMA | F30: Serv. Vig. 24 H Diurno sin arma Aero. San Vicente del Caguan | G30: Del 1 al 14 de Julio 2025 | H30: 14 | I30: 1 | J30: =9.14*1423500+1500 -> 13012290 | K30: =+J30*10% -> 1301229 | L30: =(J30+K30)/30*H30 -> 6679642.2 | M30: =L30*I30 -> 6679642.2 | N30: =ROUND(M30*10%,0) -> 667964 | O30: =ROUND(N30*19%,0) -> 126913 | P30: =+ROUND(M30+O30,0) -> 6806555
A31: NIVEL CENTRAL BOGOTA | B31: BOGOTA DC | C31: BUNKER / AV CALLE 24 52 01 | D31: 24 HORAS L-D | E31: CON ARMA | F31: Serv. Vig. 12 H Diurno sin arma Aero. El Dorado | G31: Del 1 al 14 de Julio 2025 | H31: 14 | I31: 17 | J31: =(9.14*1423500)+1500 -> 13012290 | K31: =+J31*10% -> 1301229 | L31: =(J31+K31)/30*H31 -> 6679642.2 | M31: =L31*I31 -> 1.1355392e+08 | N31: =ROUND(M31*10%,0) -> 11355392 | O31: =ROUND(N31*19%,0) -> 2157524 | P31: =+ROUND(M31+O31,0) -> 115711441
A32: NIVEL CENTRAL BOGOTA | B32: BOGOTA DC | C32: BUNKER / AV CALLE 24 52 01 | D32: 24 HORAS L-D | E32: SIN ARMA | F32: Serv. Vig. 24 H Diurno sin arma Aero. San Vicente del Caguan | G32: Del 1 al 14 de Julio 2025 | H32: 14 | I32: 8 | J32: =(9.14*1423500)+1500 -> 13012290 | K32: =+J32*0.08 -> 1040983.2 | L32: =(J32+K32)/30*H32 -> 6558194.2 | M32: =L32*I32 -> 52465553 | N32: =ROUND(M32*10%,0) -> 5246555 | O32: =ROUND(N32*19%,0) -> 996845 | P32: =+ROUND(M32+O32,0) -> 53462398
A33: NIVEL CENTRAL BOGOTA | B33: BOGOTA DC | C33: BUNKER / AV CALLE 24 52 01 | D33: 12 HORAS L-V SIN FESTIVOS | E33: SIN ARMA | F33: Serv. Vig. 12 H Diurno con canino Aero. Neiva | G33: Del 1 al 14 de Julio 2025 | H33: 14 | I33: 21 | J33: =((((9.14*1423500)+1500)*0.5597)/15*12)/30*20 -> 3884255.3 | K33: =+J33*0.08 -> 310740.43 | L33: =(J33+K33)/30*H33 -> 1957664.7 | M33: =L33*I33 -> 41110958 | N33: =ROUND(M33*10%,0) -> 4111096 | O33: =ROUND(N33*19%,0) -> 781108 | P33: =+ROUND(M33+O33,0) -> 41892066
A34: NIVEL CENTRAL BOGOTA | B34: BOGOTA DC | C34: EDIF. ANTIGUO DAS / CRA 28 17 00 | D34: SUPERVISOR 24H L-D | E34: CON ARMA | F34: Serv. Vig. 24 H Diurno sin arma Aero. San Vicente del Caguan | G34: Del 1 al 14 de Julio 2025 | H34: 14 | I34: 1 | J34: =9.14*1423500+1500 -> 13012290 | K34: =+J34*10% -> 1301229 | L34: =(J34+K34)/30*H34 -> 6679642.2 | M34: =L34*I34 -> 6679642.2 | N34: =ROUND(M34*10%,0) -> 667964 | O34: =ROUND(N34*19%,0) -> 126913 | P34: =+ROUND(M34+O34,0) -> 6806555
A35: NIVEL CENTRAL BOGOTA | B35: BOGOTA DC | C35: EDIF. ANTIGUO DAS / CRA 28 17 00 | D35: 24 HORAS L-D | E35: CON ARMA | F35: Serv. Vig. 12 H Diurno sin arma Aero. El Dorado | G35: Del 1 al 14 de Julio 2025 | H35: 14 | I35: 13 | J35: =(9.14*1423500)+1500 -> 13012290 | K35: =+J35*10% -> 1301229 | L35: =(J35+K35)/30*H35 -> 6679642.2 | M35: =L35*I35 -> 86835349 | N35: =ROUND(M35*10%,0) -> 8683535 | O35: =ROUND(N35*19%,0) -> 1649872 | P35: =+ROUND(M35+O35,0) -> 88485221
A36: NIVEL CENTRAL BOGOTA | B36: BOGOTA DC | C36: EDIF. ANTIGUO DAS / CRA 28 17 00 | D36: 24 HORAS L-D | E36: SIN ARMA | F36: Serv. Vig. 24 H Diurno sin arma Aero. San Vicente del Caguan | G36: Del 1 al 14 de Julio 2025 | H36: 14 | I36: 4 | J36: =(9.14*1423500)+1500 -> 13012290 | K36: =+J36*0.08 -> 1040983.2 | L36: =(J36+K36)/30*H36 -> 6558194.2 | M36: =L36*I36 -> 26232777 | N36: =ROUND(M36*10%,0) -> 2623278 | O36: =ROUND(N36*19%,0) -> 498423 | P36: =+ROUND(M36+O36,0) -> 26731200
A37: NIVEL CENTRAL BOGOTA | B37: BOGOTA DC | C37: EDIF. ANTIGUO DAS / CRA 28 17 00 | D37: 12 HORAS L-V SIN FESTIVOS | E37: SIN ARMA | F37: Serv. Vig. 12 H Diurno con canino Aero. Neiva | G37: Del 1 al 14 de Julio 2025 | H37: 14 | I37: 12 | J37: =((((9.14*1423500)+1500)*0.5597)/15*12)/30*20 -> 3884255.3 | K37: =+J37*0.08 -> 310740.43 | L37: =(J37+K37)/30*H37 -> 1957664.7 | M37: =L37*I37 -> 23491976 | N37: =ROUND(M37*10%,0) -> 2349198 | O37: =ROUND(N37*19%,0) -> 446348 | P37: =+ROUND(M37+O37,0) -> 23938324
A38: NIVEL CENTRAL BOGOTA | B38: BOGOTA DC | C38: EDIF. JUSTICIA TRANCISIONAL / CRA 30 13 24 | D38: 24 HORAS L-D | E38: CON ARMA | F38: Serv. Vig. 12 H Diurno sin arma Aero. El Dorado | G38: Del 1 al 14 de Julio 2025 | H38: 14 | I38: 3 | J38: =(9.14*1423500)+1500 -> 13012290 | K38: =+J38*10% -> 1301229 | L38: =(J38+K38)/30*H38 -> 6679642.2 | M38: =L38*I38 -> 20038927 | N38: =ROUND(M38*10%,0) -> 2003893 | O38: =ROUND(N38*19%,0) -> 380740 | P38: =+ROUND(M38+O38,0) -> 20419667
A39: NIVEL CENTRAL BOGOTA | B39: BOGOTA DC | C39: EDIF. JUSTICIA TRANCISIONAL / CRA 30 13 24 | D39: 12 HORAS L-V SIN FESTIVOS | E39: SIN ARMA | F39: Serv. Vig. 12 H Diurno con canino Aero. Neiva | G39: Del 1 al 14 de Julio 2025 | H39: 14 | I39: 8 | J39: =((((9.14*1423500)+1500)*0.5597)/15*12)/30*20 -> 3884255.3 | K39: =+J39*0.08 -> 310740.43 | L39: =(J39+K39)/30*H39 -> 1957664.7 | M39: =L39*I39 -> 15661317 | N39: =ROUND(M39*10%,0) -> 1566132 | O39: =ROUND(N39*19%,0) -> 297565 | P39: =+ROUND(M39+O39,0) -> 15958882
A40: NIVEL CENTRAL BOGOTA | B40: BOGOTA DC | C40: ASUNTOS JURIDICOS / AV 28 39 31 | D40: 24 HORAS L-D | E40: CON ARMA | F40: Serv. Vig. 12 H Diurno sin arma Aero. El Dorado | G40: Del 1 al 14 de Julio 2025 | H40: 14 | I40: 1 | J40: =(9.14*1423500)+1500 -> 13012290 | K40: =+J40*10% -> 1301229 | L40: =(J40+K40)/30*H40 -> 6679642.2 | M40: =L40*I40 -> 6679642.2 | N40: =ROUND(M40*10%,0) -> 667964 | O40: =ROUND(N40*19%,0) -> 126913 | P40: =+ROUND(M40+O40,0) -> 6806555
...

Sheet Abril 2026
A1: CUADRO DETALLADO SERVICIOS DE VIGILANCIA PRIVADA - FISCALIA GENERAL DE LA NACION
A2: DEPARTAMENTO | B2: CIUDAD/MUNICIPIO | C2: NOMBRE DEL PUESTO | D2: DESCRIPCIÓN DEL SERVICIO | E2: ELEMENTOS DEL SERVICIO | G2: PERIODO FACTURADO | H2: No. DIAS | I2: No. SERVICIOS | J2: VALOR MENSUAL UNITARIO | K2: AYS(11-%10%-8%) MENSUAL UNITARIO | L2: VR UNITARIO DEL SERVICIO | M2: SUB TOTAL ANTES DE AIU (M*I) | N2: AIU (10%) | O2: % DE IVA (19%) | P2: VALOR TOTAL
A3: CUNDINAMARCA | B3: BOGOTA DC | C3: CTI SANTUARIO / CALLE 18A 69B 15 | D3: 24 HORAS L-D | E3: CON ARMA | F3: Serv. Vig. 12 H Diurno sin arma Aero. El Dorado | G3: Del 1 al 30 de Abril 2026 | H3: 30 | I3: 3 | J3: =(9.77*1750905)+1500 -> 17107842 | K3: =+J3*10% -> 1710784.2 | L3: =(J3+K3)/30*H3 -> 18818626 | M3: =+L3*I3 -> 56455878 | N3: =ROUND(M3*10%,0) -> 5645588 | O3: =ROUND(N3*19%,0) -> 1072662 | P3: =+ROUND(M3+O3,0) -> 57528540
A4: CUNDINAMARCA | B4: BOGOTA DC | C4: CTI SANTUARIO / CALLE 18A 69B 15 | D4: 24 HORAS L-D | E4: SIN ARMA | F4: Serv. Vig. 24 H Diurno con arma Aero. El Dorado | G4: Del 1 al 30 de Abril 2026 | H4: 30 | I4: 1 | J4: =(9.77*1750905)+1500 -> 17107842 | K4: =+J4*0.08 -> 1368627.3 | L4: =(J4+K4)/30*H4 -> 18476469 | M4: =+L4*I4 -> 18476469 | N4: =ROUND(M4*10%,0) -> 1847647 | O4: =ROUND(N4*19%,0) -> 351053 | P4: =+ROUND(M4+O4,0) -> 18827522
A5: CUNDINAMARCA | B5: BOGOTA DC | C5: CTI SANTUARIO / CALLE 18A 69B 15 | D5: 12 HORAS L-V CON FESTIVOS | E5: SIN ARMA | F5: Serv. Vig. 12 H Diurno con canino Aero. Neiva | G5: Del 1 al 30 de Abril 2026 | H5: 30 | I5: 1 | J5: =((((9.77*1750905)+1500)*0.4759)/13*12)/30*22 -> 5511251.8 | K5: =+J5*0.08 -> 440900.14 | L5: =(J5+K5)/30*H5 -> 5952151.9 | M5: =+L5*I5 -> 5952151.9 | N5: =ROUND(M5*10%,0) -> 595215 | O5: =ROUND(N5*19%,0) -> 113091 | P5: =+ROUND(M5+O5,0) -> 6065243
A6: CUNDINAMARCA | B6: BOGOTA DC | C6: SEDE URI USAQUEN / CARRERA 29 18A 67 | D6: 24 HORAS L-D | E6: CON ARMA | F6: Serv. Vig. 12 H Diurno sin arma Aero. El Dorado | G6: Del 1 al 30 de Abril 2026 | H6: 30 | I6: 3 | J6: =(9.77*1750905)+1500 -> 17107842 | K6: =+J6*10% -> 1710784.2 | L6: =(J6+K6)/30*H6 -> 18818626 | M6: =+L6*I6 -> 56455878 | N6: =ROUND(M6*10%,0) -> 5645588 | O6: =ROUND(N6*19%,0) -> 1072662 | P6: =+ROUND(M6+O6,0) -> 57528540
A7: CUNDINAMARCA | B7: BOGOTA DC | C7: SEDE URI USAQUEN / CARRERA 29 18A 67 | D7: 12 HORAS L-V CON FESTIVOS | E7: SIN ARMA | F7: Serv. Vig. 12 H Diurno con canino Aero. Neiva | G7: Del 1 al 30 de Abril 2026 | H7: 30 | I7: 2 | J7: =((((9.77*1750905)+1500)*0.4759)/13*12)/30*22 -> 5511251.8 | K7: =+J7*0.08 -> 440900.14 | L7: =(J7+K7)/30*H7 -> 5952151.9 | M7: =+L7*I7 -> 11904304 | N7: =ROUND(M7*10%,0) -> 1190430 | O7: =ROUND(N7*19%,0) -> 226182 | P7: =+ROUND(M7+O7,0) -> 12130486
A8: CUNDINAMARCA | B8: BOGOTA DC | C8: SEDE MANUEL GAONA / CALLE 18 33 18 | D8: 24 HORAS L-D | E8: CON ARMA | F8: Serv. Vig. 12 H Diurno sin arma Aero. El Dorado | G8: Del 1 al 30 de Abril 2026 | H8: 30 | I8: 3 | J8: =(9.77*1750905)+1500 -> 17107842 | K8: =+J8*10% -> 1710784.2 | L8: =(J8+K8)/30*H8 -> 18818626 | M8: =+L8*I8 -> 56455878 | N8: =ROUND(M8*10%,0) -> 5645588 | O8: =ROUND(N8*19%,0) -> 1072662 | P8: =+ROUND(M8+O8,0) -> 57528540
A9: CUNDINAMARCA | B9: BOGOTA DC | C9: SEDE MANUEL GAONA / CALLE 18 33 18 | D9: 12 HORAS L-V CON FESTIVOS | E9: SIN ARMA | F9: Serv. Vig. 12 H Diurno con canino Aero. Neiva | G9: Del 1 al 30 de Abril 2026 | H9: 30 | I9: 4 | J9: =((((9.77*1750905)+1500)*0.4759)/13*12)/30*22 -> 5511251.8 | K9: =+J9*0.08 -> 440900.14 | L9: =(J9+K9)/30*H9 -> 5952151.9 | M9: =+L9*I9 -> 23808608 | N9: =ROUND(M9*10%,0) -> 2380861 | O9: =ROUND(N9*19%,0) -> 452364 | P9: =+ROUND(M9+O9,0) -> 24260972
A10: CUNDINAMARCA | B10: BOGOTA DC | C10: SEDE ADMINISTRATIVA / CALLE 26 69 76 TORRE 4 PISO 16 | D10: 24 HORAS L-D | E10: CON ARMA | F10: Serv. Vig. 12 H Diurno sin arma Aero. El Dorado | G10: Del 1 al 30 de Abril 2026 | H10: 30 | I10: 1 | J10: =(9.77*1750905)+1500 -> 17107842 | K10: =+J10*10% -> 1710784.2 | L10: =(J10+K10)/30*H10 -> 18818626 | M10: =+L10*I10 -> 18818626 | N10: =ROUND(M10*10%,0) -> 1881863 | O10: =ROUND(N10*19%,0) -> 357554 | P10: =+ROUND(M10+O10,0) -> 19176180
A11: CUNDINAMARCA | B11: BOGOTA DC | C11: SEDE TRIBUNALES / CALLE 12B 7 60 | D11: 24 HORAS L-D | E11: CON ARMA | F11: Serv. Vig. 12 H Diurno sin arma Aero. El Dorado | G11: Del 1 al 30 de Abril 2026 | H11: 30 | I11: 1 | J11: =(9.77*1750905)+1500 -> 17107842 | K11: =+J11*10% -> 1710784.2 | L11: =(J11+K11)/30*H11 -> 18818626 | M11: =+L11*I11 -> 18818626 | N11: =ROUND(M11*10%,0) -> 1881863 | O11: =ROUND(N11*19%,0) -> 357554 | P11: =+ROUND(M11+O11,0) -> 19176180
A12: CUNDINAMARCA | B12: BOGOTA DC | C12: SEDE TRIBUNALES / CALLE 12B 7 60 | D12: 12 HORAS L-V CON FESTIVOS | E12: SIN ARMA | F12: Serv. Vig. 12 H Diurno con canino Aero. Neiva | G12: Del 1 al 30 de Abril 2026 | H12: 30 | I12: 1 | J12: =((((9.77*1750905)+1500)*0.4759)/13*12)/30*22 -> 5511251.8 | K12: =+J12*0.08 -> 440900.14 | L12: =(J12+K12)/30*H12 -> 5952151.9 | M12: =+L12*I12 -> 5952151.9 | N12: =ROUND(M12*10%,0) -> 595215 | O12: =ROUND(N12*19%,0) -> 113091 | P12: =+ROUND(M12+O12,0) -> 6065243
A13: CUNDINAMARCA | B13: BOGOTA DC | C13: MIDPOINT / CALLE 19 33 02 | D13: 24 HORAS L-D | E13: CON ARMA | F13: Serv. Vig. 12 H Diurno sin arma Aero. El Dorado | G13: Del 1 al 30 de Abril 2026 | H13: 30 | I13: 3 | J13: =(9.77*1750905)+1500 -> 17107842 | K13: =+J13*10% -> 1710784.2 | L13: =(J13+K13)/30*H13 -> 18818626 | M13: =+L13*I13 -> 56455878 | N13: =ROUND(M13*10%,0) -> 5645588 | O13: =ROUND(N13*19%,0) -> 1072662 | P13: =+ROUND(M13+O13,0) -> 57528540
A14: CUNDINAMARCA | B14: BOGOTA DC | C14: MIDPOINT / CALLE 19 33 02 | D14: 12 HORAS L-V CON FESTIVOS | E14: SIN ARMA | F14: Serv. Vig. 12 H Diurno con canino Aero. Neiva | G14: Del 1 al 30 de Abril 2026 | H14: 30 | I14: 4 | J14: =((((9.77*1750905)+1500)*0.4759)/13*12)/30*22 -> 5511251.8 | K14: =+J14*0.08 -> 440900.14 | L14: =(J14+K14)/30*H14 -> 5952151.9 | M14: =+L14*I14 -> 23808608 | N14: =ROUND(M14*10%,0) -> 2380861 | O14: =ROUND(N14*19%,0) -> 452364 | P14: =+ROUND(M14+O14,0) -> 24260972
A15: CUNDINAMARCA | B15: BOGOTA DC | C15: SEDE URI CIUDAD BOLIVAR / CALLE 51 SUR 7 76 | D15: 24 HORAS L-D | E15: CON ARMA | F15: Serv. Vig. 12 H Diurno sin arma Aero. El Dorado | G15: Del 1 al 30 de Abril 2026 | H15: 30 | I15: 3 | J15: =(9.77*1750905)+1500 -> 17107842 | K15: =+J15*10% -> 1710784.2 | L15: =(J15+K15)/30*H15 -> 18818626 | M15: =+L15*I15 -> 56455878 | N15: =ROUND(M15*10%,0) -> 5645588 | O15: =ROUND(N15*19%,0) -> 1072662 | P15: =+ROUND(M15+O15,0) -> 57528540
A16: CUNDINAMARCA | B16: BOGOTA DC | C16: SEDE URI KENNEDY / CARRERA 69 36 72 CARVAJAL | D16: 24 HORAS L-D | E16: CON ARMA | F16: Serv. Vig. 12 H Diurno sin arma Aero. El Dorado | G16: Del 1 al 30 de Abril 2026 | H16: 30 | I16: 4 | J16: =(9.77*1750905)+1500 -> 17107842 | K16: =+J16*10% -> 1710784.2 | L16: =(J16+K16)/30*H16 -> 18818626 | M16: =+L16*I16 -> 75274504 | N16: =ROUND(M16*10%,0) -> 7527450 | O16: =ROUND(N16*19%,0) -> 1430216 | P16: =+ROUND(M16+O16,0) -> 76704720
A17: CUNDINAMARCA | B17: BOGOTA DC | C17: SEDE URI PUENTE ARANDA / CRA 40 10A 08 | D17: 24 HORAS L-D | E17: CON ARMA | F17: Serv. Vig. 12 H Diurno sin arma Aero. El Dorado | G17: Del 1 al 30 de Abril 2026 | H17: 30 | I17: 1 | J17: =(9.77*1750905)+1500 -> 17107842 | K17: =+J17*10% -> 1710784.2 | L17: =(J17+K17)/30*H17 -> 18818626 | M17: =+L17*I17 -> 18818626 | N17: =ROUND(M17*10%,0) -> 1881863 | O17: =ROUND(N17*19%,0) -> 357554 | P17: =+ROUND(M17+O17,0) -> 19176180
A18: CUNDINAMARCA | B18: BOGOTA DC | C18: SEDE URI PUENTE ARANDA / CRA 40 10A 08 | D18: 12 HORAS L-V CON FESTIVOS | E18: SIN ARMA | F18: Serv. Vig. 12 H Diurno con canino Aero. Neiva | G18: Del 1 al 30 de Abril 2026 | H18: 30 | I18: 1 | J18: =((((9.77*1750905)+1500)*0.4759)/13*12)/30*22 -> 5511251.8 | K18: =+J18*0.08 -> 440900.14 | L18: =(J18+K18)/30*H18 -> 5952151.9 | M18: =+L18*I18 -> 5952151.9 | N18: =ROUND(M18*10%,0) -> 595215 | O18: =ROUND(N18*19%,0) -> 113091 | P18: =+ROUND(M18+O18,0) -> 6065243
A19: CUNDINAMARCA | B19: BOGOTA DC | C19: SEDE URI ANGATIVA / CRA 78A 77A 62 | D19: 24 HORAS L-D | E19: CON ARMA | F19: Serv. Vig. 12 H Diurno sin arma Aero. El Dorado | G19: Del 1 al 30 de Abril 2026 | H19: 30 | I19: 3 | J19: =(9.77*1750905)+1500 -> 17107842 | K19: =+J19*10% -> 1710784.2 | L19: =(J19+K19)/30*H19 -> 18818626 | M19: =+L19*I19 -> 56455878 | N19: =ROUND(M19*10%,0) -> 5645588 | O19: =ROUND(N19*19%,0) -> 1072662 | P19: =+ROUND(M19+O19,0) -> 57528540
A20: CUNDINAMARCA | B20: BOGOTA DC | C20: SEDE URI ANGATIVA / CRA 78A 77A 62 | D20: 12 HORAS L-V CON FESTIVOS | E20: SIN ARMA | F20: Serv. Vig. 12 H Diurno con canino Aero. Neiva | G20: Del 1 al 30 de Abril 2026 | H20: 30 | I20: 2 | J20: =((((9.77*1750905)+1500)*0.4759)/13*12)/30*22 -> 5511251.8 | K20: =+J20*0.08 -> 440900.14 | L20: =(J20+K20)/30*H20 -> 5952151.9 | M20: =+L20*I20 -> 11904304 | N20: =ROUND(M20*10%,0) -> 1190430 | O20: =ROUND(N20*19%,0) -> 226182 | P20: =+ROUND(M20+O20,0) -> 12130486
A21: CUNDINAMARCA | B21: BOGOTA DC | C21: CASA LOTE SUBA / CALLE 153 76 26 EL VINAR DE CASA BLANCA | D21: 24 HORAS L-D | E21: CON ARMA | F21: Serv. Vig. 12 H Diurno sin arma Aero. El Dorado | G21: Del 1 al 30 de Abril 2026 | H21: 30 | I21: 1 | J21: =(9.77*1750905)+1500 -> 17107842 | K21: =+J21*10% -> 1710784.2 | L21: =(J21+K21)/30*H21 -> 18818626 | M21: =+L21*I21 -> 18818626 | N21: =ROUND(M21*10%,0) -> 1881863 | O21: =ROUND(N21*19%,0) -> 357554 | P21: =+ROUND(M21+O21,0) -> 19176180
A22: CUNDINAMARCA | B22: BOGOTA DC | C22: URI MENORES / CALLE 12 30 35 | D22: 24 HORAS L-D | E22: CON ARMA | F22: Serv. Vig. 12 H Diurno sin arma Aero. El Dorado | G22: Del 1 al 30 de Abril 2026 | H22: 30 | I22: 1 | J22: =(9.77*1750905)+1500 -> 17107842 | K22: =+J22*10% -> 1710784.2 | L22: =(J22+K22)/30*H22 -> 18818626 | M22: =+L22*I22 -> 18818626 | N22: =ROUND(M22*10%,0) -> 1881863 | O22: =ROUND(N22*19%,0) -> 357554 | P22: =+ROUND(M22+O22,0) -> 19176180
A23: CUNDINAMARCA | B23: BOGOTA DC | C23: CAF SUBA / CALLE 133 101C 15-09 | D23: 24 HORAS L-D | E23: CON ARMA | F23: Serv. Vig. 12 H Diurno sin arma Aero. El Dorado | G23: Del 1 al 30 de Abril 2026 | H23: 30 | I23: 1 | J23: =(9.77*1750905)+1500 -> 17107842 | K23: =+J23*10% -> 1710784.2 | L23: =(J23+K23)/30*H23 -> 18818626 | M23: =+L23*I23 -> 18818626 | N23: =ROUND(M23*10%,0) -> 1881863 | O23: =ROUND(N23*19%,0) -> 357554 | P23: =+ROUND(M23+O23,0) -> 19176180
A24: CUNDINAMARCA | B24: BOGOTA DC | C24: URI CAMPO VERDE BOSA / CALLE 85 SUR 94 35 | D24: 24 HORAS L-D | E24: CON ARMA | F24: Serv. Vig. 12 H Diurno sin arma Aero. El Dorado | G24: Del 1 al 30 de Abril 2026 | H24: 30 | I24: 6 | J24: =(9.77*1750905)+1500 -> 17107842 | K24: =+J24*10% -> 1710784.2 | L24: =(J24+K24)/30*H24 -> 18818626 | M24: =+L24*I24 -> 1.1291176e+08 | N24: =ROUND(M24*10%,0) -> 11291176 | O24: =ROUND(N24*19%,0) -> 2145323 | P24: =+ROUND(M24+O24,0) -> 115057079
A25: CUNDINAMARCA | B25: BOGOTA DC | C25: URI CAMPO VERDE BOSA / CALLE 85 SUR 94 35 | D25: 12 HORAS L-V CON FESTIVOS | E25: SIN ARMA | F25: Serv. Vig. 12 H Diurno con canino Aero. Neiva | G25: Del 1 al 30 de Abril 2026 | H25: 30 | I25: 3 | J25: =((((9.77*1750905)+1500)*0.4759)/13*12)/30*22 -> 5511251.8 | K25: =+J25*0.08 -> 440900.14 | L25: =(J25+K25)/30*H25 -> 5952151.9 | M25: =+L25*I25 -> 17856456 | N25: =ROUND(M25*10%,0) -> 1785646 | O25: =ROUND(N25*19%,0) -> 339273 | P25: =+ROUND(M25+O25,0) -> 18195729
A26: CUNDINAMARCA | B26: BOGOTA DC | C26: CAVIP / CALLE 19 27 09 | D26: 24 HORAS L-D | E26: CON ARMA | F26: Serv. Vig. 12 H Diurno sin arma Aero. El Dorado | G26: Del 1 al 30 de Abril 2026 | H26: 30 | I26: 3 | J26: =(9.77*1750905)+1500 -> 17107842 | K26: =+J26*10% -> 1710784.2 | L26: =(J26+K26)/30*H26 -> 18818626 | M26: =+L26*I26 -> 56455878 | N26: =ROUND(M26*10%,0) -> 5645588 | O26: =ROUND(N26*19%,0) -> 1072662 | P26: =+ROUND(M26+O26,0) -> 57528540
A27: CUNDINAMARCA | B27: BOGOTA DC | C27: CAVIP / CALLE 19 27 09 | D27: 12 HORAS L-V SIN FESTIVOS | E27: SIN ARMA | F27: Serv. Vig. 12 H Diurno con canino Aero. Neiva | G27: Del 1 al 30 de Abril 2026 | H27: 30 | I27: 1 | J27: =((((9.77*1750905)+1500)*0.4759)/13*12)/30*20 -> 5010228.9 | K27: =+J27*0.08 -> 400818.31 | L27: =(J27+K27)/30*H27 -> 5411047.2 | M27: =+L27*I27 -> 5411047.2 | N27: =ROUND(M27*10%,0) -> 541105 | O27: =ROUND(N27*19%,0) -> 102810 | P27: =+ROUND(M27+O27,0) -> 5513857
A28: CUNDINAMARCA | B28: BOGOTA DC | C28: PARQUEADERO / CARRERA 29 18 45 | D28: 24 HORAS L-D | E28: SIN ARMA | F28: Serv. Vig. 12 H Diurno sin arma Aero. El Dorado | G28: Del 1 al 30 de Abril 2026 | H28: 30 | I28: 1 | J28: =(9.77*1750905)+1500 -> 17107842 | K28: =+J28*0.08 -> 1368627.3 | L28: =(J28+K28)/30*H28 -> 18476469 | M28: =+L28*I28 -> 18476469 | N28: =ROUND(M28*10%,0) -> 1847647 | O28: =ROUND(N28*19%,0) -> 351053 | P28: =+ROUND(M28+O28,0) -> 18827522
A29: CUNDINAMARCA | B29: LA CALERA | C29: LA CALERA / CALLE 10B 2B 08 | D29: 24 HORAS L-D | E29: CON ARMA | F29: Serv. Vig. 12 H Diurno sin arma Aero. El Dorado | G29: Del 1 al 30 de Abril 2026 | H29: 30 | I29: 1 | J29: =(9.77*1750905)+1500 -> 17107842 | K29: =+J29*10% -> 1710784.2 | L29: =(J29+K29)/30*H29 -> 18818626 | M29: =+L29*I29 -> 18818626 | N29: =ROUND(M29*10%,0) -> 1881863 | O29: =ROUND(N29*19%,0) -> 357554 | P29: =+ROUND(M29+O29,0) -> 19176180
A30: NIVEL CENTRAL BOGOTA | B30: BOGOTA DC | C30: BUNKER / AV CALLE 24 52 01 | D30: SUPERVISOR 24H L-D | E30: CON ARMA | F30: Serv. Vig. 24 H Diurno sin arma Aero. San Vicente del Caguan | G30: Del 1 al 30 de Abril 2026 | H30: 30 | I30: 1 | J30: =9.77*1750905+1500 -> 17107842 | K30: =+J30*10% -> 1710784.2 | L30: =(J30+K30)/30*H30 -> 18818626 | M30: =+L30*I30 -> 18818626 | N30: =ROUND(M30*10%,0) -> 1881863 | O30: =ROUND(N30*19%,0) -> 357554 | P30: =+ROUND(M30+O30,0) -> 19176180
A31: NIVEL CENTRAL BOGOTA | B31: BOGOTA DC | C31: BUNKER / AV CALLE 24 52 01 | D31: 24 HORAS L-D | E31: CON ARMA | F31: Serv. Vig. 12 H Diurno sin arma Aero. El Dorado | G31: Del 1 al 30 de Abril 2026 | H31: 30 | I31: 17 | J31: =(9.77*1750905)+1500 -> 17107842 | K31: =+J31*10% -> 1710784.2 | L31: =(J31+K31)/30*H31 -> 18818626 | M31: =+L31*I31 -> 3.1991664e+08 | N31: =ROUND(M31*10%,0) -> 31991664 | O31: =ROUND(N31*19%,0) -> 6078416 | P31: =+ROUND(M31+O31,0) -> 325995059
A32: NIVEL CENTRAL BOGOTA | B32: BOGOTA DC | C32: BUNKER / AV CALLE 24 52 01 | D32: 24 HORAS L-D | E32: SIN ARMA | F32: Serv. Vig. 24 H Diurno sin arma Aero. San Vicente del Caguan | G32: Del 1 al 30 de Abril 2026 | H32: 30 | I32: 8 | J32: =(9.77*1750905)+1500 -> 17107842 | K32: =+J32*0.08 -> 1368627.3 | L32: =(J32+K32)/30*H32 -> 18476469 | M32: =+L32*I32 -> 1.4781175e+08 | N32: =ROUND(M32*10%,0) -> 14781175 | O32: =ROUND(N32*19%,0) -> 2808423 | P32: =+ROUND(M32+O32,0) -> 150620177
A33: NIVEL CENTRAL BOGOTA | B33: BOGOTA DC | C33: BUNKER / AV CALLE 24 52 01 | D33: 12 HORAS L-V SIN FESTIVOS | E33: SIN ARMA | F33: Serv. Vig. 12 H Diurno con canino Aero. Neiva | G33: Del 1 al 30 de Abril 2026 | H33: 30 | I33: 21 | J33: =((((9.77*1750905)+1500)*0.4759)/13*12)/30*20 -> 5010228.9 | K33: =+J33*0.08 -> 400818.31 | L33: =(J33+K33)/30*H33 -> 5411047.2 | M33: =+L33*I33 -> 1.1363199e+08 | N33: =ROUND(M33*10%,0) -> 11363199 | O33: =ROUND(N33*19%,0) -> 2159008 | P33: =+ROUND(M33+O33,0) -> 115790999
A34: NIVEL CENTRAL BOGOTA | B34: BOGOTA DC | C34: EDIF. ANTIGUO DAS / CRA 28 17 00 | D34: SUPERVISOR 24H L-D | E34: CON ARMA | F34: Serv. Vig. 24 H Diurno sin arma Aero. San Vicente del Caguan | G34: Del 1 al 30 de Abril 2026 | H34: 30 | I34: 1 | J34: =9.77*1750905+1500 -> 17107842 | K34: =+J34*10% -> 1710784.2 | L34: =(J34+K34)/30*H34 -> 18818626 | M34: =+L34*I34 -> 18818626 | N34: =ROUND(M34*10%,0) -> 1881863 | O34: =ROUND(N34*19%,0) -> 357554 | P34: =+ROUND(M34+O34,0) -> 19176180
A35: NIVEL CENTRAL BOGOTA | B35: BOGOTA DC | C35: EDIF. ANTIGUO DAS / CRA 28 17 00 | D35: 24 HORAS L-D | E35: CON ARMA | F35: Serv. Vig. 12 H Diurno sin arma Aero. El Dorado | G35: Del 1 al 30 de Abril 2026 | H35: 30 | I35: 13 | J35: =(9.77*1750905)+1500 -> 17107842 | K35: =+J35*10% -> 1710784.2 | L35: =(J35+K35)/30*H35 -> 18818626 | M35: =+L35*I35 -> 2.4464214e+08 | N35: =ROUND(M35*10%,0) -> 24464214 | O35: =ROUND(N35*19%,0) -> 4648201 | P35: =+ROUND(M35+O35,0) -> 249290339
A36: NIVEL CENTRAL BOGOTA | B36: BOGOTA DC | C36: EDIF. ANTIGUO DAS / CRA 28 17 00 | D36: 24 HORAS L-D | E36: SIN ARMA | F36: Serv. Vig. 24 H Diurno sin arma Aero. San Vicente del Caguan | G36: Del 1 al 30 de Abril 2026 | H36: 30 | I36: 4 | J36: =(9.77*1750905)+1500 -> 17107842 | K36: =+J36*0.08 -> 1368627.3 | L36: =(J36+K36)/30*H36 -> 18476469 | M36: =+L36*I36 -> 73905877 | N36: =ROUND(M36*10%,0) -> 7390588 | O36: =ROUND(N36*19%,0) -> 1404212 | P36: =+ROUND(M36+O36,0) -> 75310089
A37: NIVEL CENTRAL BOGOTA | B37: BOGOTA DC | C37: EDIF. ANTIGUO DAS / CRA 28 17 00 | D37: 12 HORAS L-V SIN FESTIVOS | E37: SIN ARMA | F37: Serv. Vig. 12 H Diurno con canino Aero. Neiva | G37: Del 1 al 30 de Abril 2026 | H37: 30 | I37: 12 | J37: =((((9.77*1750905)+1500)*0.4759)/13*12)/30*20 -> 5010228.9 | K37: =+J37*0.08 -> 400818.31 | L37: =(J37+K37)/30*H37 -> 5411047.2 | M37: =+L37*I37 -> 64932566 | N37: =ROUND(M37*10%,0) -> 6493257 | O37: =ROUND(N37*19%,0) -> 1233719 | P37: =+ROUND(M37+O37,0) -> 66166285
A38: NIVEL CENTRAL BOGOTA | B38: BOGOTA DC | C38: EDIF. JUSTICIA TRANCISIONAL / CRA 30 13 24 | D38: 24 HORAS L-D | E38: CON ARMA | F38: Serv. Vig. 12 H Diurno sin arma Aero. El Dorado | G38: Del 1 al 30 de Abril 2026 | H38: 30 | I38: 3 | J38: =(9.77*1750905)+1500 -> 17107842 | K38: =+J38*10% -> 1710784.2 | L38: =(J38+K38)/30*H38 -> 18818626 | M38: =+L38*I38 -> 56455878 | N38: =ROUND(M38*10%,0) -> 5645588 | O38: =ROUND(N38*19%,0) -> 1072662 | P38: =+ROUND(M38+O38,0) -> 57528540
A39: NIVEL CENTRAL BOGOTA | B39: BOGOTA DC | C39: EDIF. JUSTICIA TRANCISIONAL / CRA 30 13 24 | D39: 12 HORAS L-V SIN FESTIVOS | E39: SIN ARMA | F39: Serv. Vig. 12 H Diurno con canino Aero. Neiva | G39: Del 1 al 30 de Abril 2026 | H39: 30 | I39: 8 | J39: =((((9.77*1750905)+1500)*0.4759)/13*12)/30*20 -> 5010228.9 | K39: =+J39*0.08 -> 400818.31 | L39: =(J39+K39)/30*H39 -> 5411047.2 | M39: =+L39*I39 -> 43288378 | N39: =ROUND(M39*10%,0) -> 4328838 | O39: =ROUND(N39*19%,0) -> 822479 | P39: =+ROUND(M39+O39,0) -> 44110857
A40: NIVEL CENTRAL BOGOTA | B40: BOGOTA DC | C40: ASUNTOS JURIDICOS / AV 28 39 31 | D40: 24 HORAS L-D | E40: CON ARMA | F40: Serv. Vig. 12 H Diurno sin arma Aero. El Dorado | G40: Del 1 al 30 de Abril 2026 | H40: 30 | I40: 1 | J40: =(9.77*1750905)+1500 -> 17107842 | K40: =+J40*10% -> 1710784.2 | L40: =(J40+K40)/30*H40 -> 18818626 | M40: =+L40*I40 -> 18818626 | N40: =ROUND(M40*10%,0) -> 1881863 | O40: =ROUND(N40*19%,0) -> 357554 | P40: =+ROUND(M40+O40,0) -> 19176180
...

Sheet TOTAL FACTURA JULIO
A1: CUADRO DETALLADO SERVICIOS DE VIGILANCIA PRIVADA - FISCALIA GENERAL DE LA NACION
A2: DEPARTAMENTO | B2: CIUDAD/MUNICIPIO | C2: NOMBRE DEL PUESTO | D2: DESCRIPCIÓN DEL SERVICIO | E2: ELEMENTOS DEL SERVICIO | G2: PERIODO FACTURADO | H2: No. DIAS | I2: No. SERVICIOS | J2: SUB TOTAL ANTES DE AIU (M*I) | K2: AIU (10%) | L2: % DE IVA (19%) | M2: VALOR TOTAL
A3: CUNDINAMARCA | B3: BOGOTA DC | C3: CTI SANTUARIO / CALLE 18A 69B 15 | D3: 24 HORAS L-D | E3: CON ARMA | F3: Serv. Vig. 12 H Diurno sin arma Aero. El Dorado | G3: Del 01 al 30 de Agosto 2025 | H3: 30 | I3: 3 | J3: =+#REF!+'CUADRO SERVICIOS'!M3 -> #REF! | K3: =ROUND(J3*10%,0) -> #REF! | L3: =ROUND(K3*19%,0) -> #REF! | M3: =+ROUND(J3+L3,0) -> #REF!
A4: CUNDINAMARCA | B4: BOGOTA DC | C4: CTI SANTUARIO / CALLE 18A 69B 15 | D4: 24 HORAS L-D | E4: SIN ARMA | F4: Serv. Vig. 24 H Diurno con arma Aero. El Dorado | G4: Del 01 al 30 de Agosto 2025 | H4: 30 | I4: 1 | J4: =+#REF!+'CUADRO SERVICIOS'!M4 -> #REF! | K4: =ROUND(J4*10%,0) -> #REF! | L4: =ROUND(K4*19%,0) -> #REF! | M4: =+ROUND(J4+L4,0) -> #REF!
A5: CUNDINAMARCA | B5: BOGOTA DC | C5: CTI SANTUARIO / CALLE 18A 69B 15 | D5: 12 HORAS L-V CON FESTIVOS | E5: SIN ARMA | F5: Serv. Vig. 12 H Diurno con canino Aero. Neiva | G5: Del 01 al 30 de Agosto 2025 | H5: 30 | I5: 1 | J5: =+#REF!+'CUADRO SERVICIOS'!M5 -> #REF! | K5: =ROUND(J5*10%,0) -> #REF! | L5: =ROUND(K5*19%,0) -> #REF! | M5: =+ROUND(J5+L5,0) -> #REF!
A6: CUNDINAMARCA | B6: BOGOTA DC | C6: SEDE URI USAQUEN / CARRERA 29 18A 67 | D6: 24 HORAS L-D | E6: CON ARMA | F6: Serv. Vig. 12 H Diurno sin arma Aero. El Dorado | G6: Del 01 al 30 de Agosto 2025 | H6: 30 | I6: 3 | J6: =+#REF!+'CUADRO SERVICIOS'!M6 -> #REF! | K6: =ROUND(J6*10%,0) -> #REF! | L6: =ROUND(K6*19%,0) -> #REF! | M6: =+ROUND(J6+L6,0) -> #REF!
A7: CUNDINAMARCA | B7: BOGOTA DC | C7: SEDE URI USAQUEN / CARRERA 29 18A 67 | D7: 12 HORAS L-V CON FESTIVOS | E7: SIN ARMA | F7: Serv. Vig. 12 H Diurno con canino Aero. Neiva | G7: Del 01 al 30 de Agosto 2025 | H7: 30 | I7: 2 | J7: =+#REF!+'CUADRO SERVICIOS'!M7 -> #REF! | K7: =ROUND(J7*10%,0) -> #REF! | L7: =ROUND(K7*19%,0) -> #REF! | M7: =+ROUND(J7+L7,0) -> #REF!
A8: CUNDINAMARCA | B8: BOGOTA DC | C8: SEDE MANUEL GAONA / CALLE 18 33 18 | D8: 24 HORAS L-D | E8: CON ARMA | F8: Serv. Vig. 12 H Diurno sin arma Aero. El Dorado | G8: Del 01 al 30 de Agosto 2025 | H8: 30 | I8: 3 | J8: =+#REF!+'CUADRO SERVICIOS'!M8 -> #REF! | K8: =ROUND(J8*10%,0) -> #REF! | L8: =ROUND(K8*19%,0) -> #REF! | M8: =+ROUND(J8+L8,0) -> #REF!
A9: CUNDINAMARCA | B9: BOGOTA DC | C9: SEDE MANUEL GAONA / CALLE 18 33 18 | D9: 12 HORAS L-V CON FESTIVOS | E9: SIN ARMA | F9: Serv. Vig. 12 H Diurno con canino Aero. Neiva | G9: Del 01 al 30 de Agosto 2025 | H9: 30 | I9: 4 | J9: =+#REF!+'CUADRO SERVICIOS'!M9 -> #REF! | K9: =ROUND(J9*10%,0) -> #REF! | L9: =ROUND(K9*19%,0) -> #REF! | M9: =+ROUND(J9+L9,0) -> #REF!
A10: CUNDINAMARCA | B10: BOGOTA DC | C10: SEDE ADMINISTRATIVA / CALLE 26 69 76 TORRE 4 PISO 16 | D10: 24 HORAS L-D | E10: CON ARMA | F10: Serv. Vig. 12 H Diurno sin arma Aero. El Dorado | G10: Del 01 al 30 de Agosto 2025 | H10: 30 | I10: 1 | J10: =+#REF!+'CUADRO SERVICIOS'!M10 -> #REF! | K10: =ROUND(J10*10%,0) -> #REF! | L10: =ROUND(K10*19%,0) -> #REF! | M10: =+ROUND(J10+L10,0) -> #REF!
A11: CUNDINAMARCA | B11: BOGOTA DC | C11: SEDE TRIBUNALES / CALLE 12B 7 60 | D11: 24 HORAS L-D | E11: CON ARMA | F11: Serv. Vig. 12 H Diurno sin arma Aero. El Dorado | G11: Del 01 al 30 de Agosto 2025 | H11: 30 | I11: 1 | J11: =+#REF!+'CUADRO SERVICIOS'!M11 -> #REF! | K11: =ROUND(J11*10%,0) -> #REF! | L11: =ROUND(K11*19%,0) -> #REF! | M11: =+ROUND(J11+L11,0) -> #REF!
A12: CUNDINAMARCA | B12: BOGOTA DC | C12: SEDE TRIBUNALES / CALLE 12B 7 60 | D12: 12 HORAS L-V CON FESTIVOS | E12: SIN ARMA | F12: Serv. Vig. 12 H Diurno con canino Aero. Neiva | G12: Del 01 al 30 de Agosto 2025 | H12: 30 | I12: 1 | J12: =+#REF!+'CUADRO SERVICIOS'!M12 -> #REF! | K12: =ROUND(J12*10%,0) -> #REF! | L12: =ROUND(K12*19%,0) -> #REF! | M12: =+ROUND(J12+L12,0) -> #REF!
A13: CUNDINAMARCA | B13: BOGOTA DC | C13: MIDPOINT / CALLE 19 33 02 | D13: 24 HORAS L-D | E13: CON ARMA | F13: Serv. Vig. 12 H Diurno sin arma Aero. El Dorado | G13: Del 01 al 30 de Agosto 2025 | H13: 30 | I13: 3 | J13: =+#REF!+'CUADRO SERVICIOS'!M13 -> #REF! | K13: =ROUND(J13*10%,0) -> #REF! | L13: =ROUND(K13*19%,0) -> #REF! | M13: =+ROUND(J13+L13,0) -> #REF!
A14: CUNDINAMARCA | B14: BOGOTA DC | C14: MIDPOINT / CALLE 19 33 02 | D14: 12 HORAS L-V CON FESTIVOS | E14: SIN ARMA | F14: Serv. Vig. 12 H Diurno con canino Aero. Neiva | G14: Del 01 al 30 de Agosto 2025 | H14: 30 | I14: 4 | J14: =+#REF!+'CUADRO SERVICIOS'!M14 -> #REF! | K14: =ROUND(J14*10%,0) -> #REF! | L14: =ROUND(K14*19%,0) -> #REF! | M14: =+ROUND(J14+L14,0) -> #REF!
... A53: NIVEL CENTRAL BOGOTA | B53: BOGOTA DC | C53: ALMACEN GENERAL / CRA 33 15 39 | D53: 24 HORAS L-D | E53: CON ARMA | F53: Serv. Vig. 12 H Diurno sin arma Aero. El Dorado | G53: Del 01 al 30 de Agosto 2025 | H53: 30 | I53: 1 | J53: =+#REF!+'CUADRO SERVICIOS'!M53 -> #REF! | K53: =ROUND(J53*10%,0) -> #REF! | L53: =ROUND(K53*19%,0) -> #REF! | M53: =+ROUND(J53+L53,0) -> #REF!
A54: SUMATORIA - TOTALES | I54: =SUM(I3:I53) -> 174 | J54: =SUM(J3:J53) -> #REF! | K54: =SUM(K3:K53) -> #REF! | L54: =SUM(L3:L53) -> #REF! | M54: =SUM(M3:M53) -> #REF!
J56: RESUMEN FACTURA
J57: SUBTOTAL SERVICIOS | L57: =+M54/1.019 -> #REF!
J58: IVA | L58: =+L57*0.019 -> #REF!
J59: TOTAL | L59: =+L57+L58 -> #REF!
J61: NOTA CREDITO - ANS
J62: SUBTOTAL SERVICIOS | L62: =1423500/1.019 -> 1396957.8
J63: IVA | L63: =L62*0.019 -> 26542.198
J64: TOTAL | L64: =L62+L63 -> 1423500
J66: TOTAL A PAGAR NOVIEMBRE 2024 | L66: =L59-L64 -> #REF!
A68: CUADRO DETALLADO SERVICIOS DE VIGILANCIA PRIVADA - FONDO ESPECIAL PARA LA ADMINISTRACION DE BIENES DE LA FISCALÍA GENERAL DE LA NACIÓN
A69: DEPARTAMENTO | B69: CIUDAD/MUNICIPIO | C69: NOMBRE DEL PUESTO | D69: DESCRIPCIÓN DEL SERVICIO | E69: ELEMENTOS DEL SERVICIO | G69: PERIODO FACTURADO | H69: No. DIAS | I69: No. SERVICIOS | J69: SUB TOTAL ANTES DE AIU (M*I) | K69: AIU (10%) | L69: % DE IVA (19%) | M69: VALOR TOTAL
A70: CUNDINAMARCA | B70: TENJO | C70: VEREDA JACALITO | D70: 24 HORAS L-D | E70: CON ARMA | G70: Del 01 al 30 de Agosto 2025 | H70: 16 | I70: 5 | J70: =+#REF!+'CUADRO SERVICIOS'!M70 -> #REF! | K70: =ROUND(J70*10%,0) -> #REF! | L70: =+K70*19% -> #REF! | M70: =+ROUND(J70+L70,0) -> #REF!
A71: CUNDINAMARCA | B71: TENJO | C71: VEREDA JACALITO | D71: 24 HORAS L-D | E71: SIN ARMA | G71: Del 01 al 30 de Agosto 2025 | H71: 16 | I71: 1 | J71: =+#REF!+'CUADRO SERVICIOS'!M71 -> #REF! | K71: =+J71*10% -> #REF! | L71: =+K71*19% -> #REF! | M71: =+ROUND(J71+L71,0) -> #REF!
A72: CUNDINAMARCA | B72: TENJO | C72: VEREDA JACALITO | D72: 12 HORAS L-V SIN FESTIVOS | E72: SIN ARMA | G72: Del 01 al 30 de Agosto 2025 | H72: 16 | I72: 1 | J72: =+#REF!+'CUADRO SERVICIOS'!M72 -> #REF! | K72: =+J72*10% -> #REF! | L72: =+K72*19% -> #REF! | M72: =+ROUND(J72+L72,0) -> #REF!
A73: SUMATORIA - TOTALES | I73: =I70+I71+I72 -> 7 | J73: =J70+J71+J72 -> #REF! | K73: =K70+K71+K72 -> #REF! | L73: =L70+L71+L72 -> #REF! | M73: =M70+M71+M72 -> #REF!
J76: =J73 -> #REF!
J77: =L73 -> #REF!
J78: =M73 -> #REF!

Sheet Copia de AGOSTO 2024
A1: DEPARTAMENTO | B1: CIUDAD/MUNICIPIO | C1: NOMBRE DEL PUESTO | D1: DESCRIPCIÓN DEL SERVICIO | E1: ELEMENTOS DEL SERVICIO | G1: No. DIAS | H1: No. SERVICIOS | I1: SUB TOTAL ANTES DE AIU (I+J+K)*H | J1: AIU (10%) | K1: % DE IVA (19%) | L1: VALOR TOTAL
A2: CUNDINAMARCA | B2: CAJICA | C2: SECCIONAL DG 3 SUR No 6 38 | D2: 12 HORAS L-V SIN FESTIVOS | E2: SIN ARMA | F2: Serv. Vig. 12 H Diurno sin arma Aero. El Dorado | G2: 30 | H2: 1 | I2: 3831330 | J2: 383133 | K2: 72795.27 | L2: 3904125
A3: CUNDINAMARCA | B3: CAQUEZA | C3: SECCIONAL CALLE 4A 3 53/57/59 | D3: 24 HORAS L-D | E3: CON ARMA | F3: Serv. Vig. 24 H Diurno con arma Aero. El Dorado | G3: 30 | H3: 1 | I3: 13071850 | J3: 1307185 | K3: 248365.15 | L3: 13320215
A4: CUNDINAMARCA | B4: CAQUEZA | C4: SECCIONAL CALLE 4A 3 68 | D4: 24 HORAS L-D | E4: CON ARMA | F4: Serv. Vig. 24 H Diurno sin arma Aero. El Dorado | G4: 30 | H4: 1 | I4: 13071850 | J4: 1307185 | K4: 248365.15 | L4: 13320215
A5: CUNDINAMARCA | B5: CAQUEZA | C5: FINCA CANINOS | D5: 24 HORAS L-D | E5: CON ARMA | F5: Serv. Vig. 24 H Diurno sin arma Aero. El Dorado | G5: 30 | H5: 1 | I5: 13071850 | J5: 1307185 | K5: 248365.15 | L5: 13320215
A6: CUNDINAMARCA | B6: CHIA | C6: SECCIONAL CALLE 12 1C 52 BRR 20 DE JULIO | D6: 24 HORAS L-D | E6: CON ARMA | F6: Serv. Vig. 24 H Diurno sin arma Aero. El Dorado | G6: 30 | H6: 1 | I6: 13071850 | J6: 1307185 | K6: 248365.15 | L6: 13320215
A7: CUNDINAMARCA | B7: CHOACHI | C7: SECCIONAL CARRERA 4 4 21 PISO 2 | D7: 12 HORAS L-V SIN FESTIVOS | E7: SIN ARMA | F7: Serv. Vig. 12 H Diurno con canino Aero. Guaymaral | G7: 30 | H7: 1 | I7: 3831330 | J7: 383133 | K7: 72795.27 | L7: 3904125
A8: CUNDINAMARCA | B8: CHOCONTA | C8: SECCIONAL CALLE 3 4/35 | D8: 24 HORAS L-D | E8: CON ARMA | F8: Serv. Vig. 12 H Diurno sin arma Aero. Flandes | G8: 30 | H8: 1 | I8: 13071850 | J8: 1307185 | K8: 248365.15 | L8: 13320215
A9: CUNDINAMARCA | B9: FACATATIVA | C9: SECCIONAL CALLE 13 8B 20 BRR COPIGUE | D9: 24 HORAS L-D | E9: CON ARMA | F9: Serv. Vig. 24 H Diurno con arma Aero. Flandes | G9: 30 | H9: 1 | I9: 13071850 | J9: 1307185 | K9: 248365.15 | L9: 13320215
A10: CUNDINAMARCA | B10: FACATATIVA | C10: SECCIONAL CTI CALLE 13A 6 57 | D10: 24 HORAS L-D | E10: CON ARMA | F10: Serv. Vig. 24 H Diurno con arma Aero. Flandes | G10: 30 | H10: 1 | I10: 13071850 | J10: 1307185 | K10: 248365.15 | L10: 13320215
A11: CUNDINAMARCA | B11: FLANDES | C11: SECCIONAL CALLE 10 4 10 LA CAPILLA | D11: 24 HORAS L-D | E11: CON ARMA | F11: Serv. Vig. 24 H Diurno con arma Aero. Flandes | G11: 30 | H11: 1 | I11: 13071850 | J11: 1307185 | K11: 248365.15 | L11: 13320215
A12: CUNDINAMARCA | B12: FUNZA | C12: FISCALIA INFANCIA Y ADOLESCENCIA | D12: 24 HORAS L-D | E12: CON ARMA | F12: Serv. Vig. 12 H Diurno con canino Aero. Florencia | G12: 30 | H12: 1 | I12: 13071850 | J12: 1307185 | K12: 248365.15 | L12: 13320215
A13: CUNDINAMARCA | B13: FUNZA | C13: FISCALIA INFANCIA Y ADOLESCENCIA | D13: 12 HORAS L-V SIN FESTIVOS | E13: CON ARMA | F13: Serv. Vig. 24 H Diurno con arma Aero. Ibague | G13: 30 | H13: 1 | I13: 3902281 | J13: 390228.1 | K13: 74143.339 | L13: 3976424
... A36: BOGOTA DC | B36: BOGOTA DC | C36: SECCIONAL MONTEVIDEO | D36: 24 HORAS L-D | E36: CON ARMA | F36: Serv. Vig. 24 H Diurno con arma Aero. Villa Garzon | G36: 30 | H36: 3 | I36: 39215550 | J36: 3921555 | K36: 745095.45 | L36: 39960645
A37: BOGOTA DC | B37: BOGOTA DC | C37: SECCIONAL MONTEVIDEO | D37: 12 HORAS L-V SIN FESTIVOS | E37: SIN ARMA | G37: 30 | H37: 3 | I37: 11493990 | J37: 1149399 | K37: 218385.81 | L37: 11712376
A38: AMAZONAS | B38: LETICIA | C38: SECCIONAL CRA 8 11 80 BRR JOSE MARIA HERNANDEZ | D38: 24 HORAS L-D | E38: CON ARMA | F38: Serv. Vig. 24 H Diurno con arma Estacion Flandes | G38: 30 | H38: 1 | I38: 13071850 | J38: 1307185 | K38: 0 | L38: 13071850
A39: AMAZONAS | B39: LETICIA | C39: PARQUEADERO FISCALIA | D39: 24 HORAS L-D | E39: CON ARMA | F39: Serv. Vig. 24 H Diurno con arma Estacion Flandes | G39: 30 | H39: 1 | I39: 13071850 | J39: 1307185 | K39: 0 | L39: 13071850
A40: AMAZONAS | B40: LETICIA | C40: FISCALIA C.A.V | D40: 24 HORAS L-D | E40: CON ARMA | F40: Serv. Vig. 24 H Diurno con arma Estacion Flandes | G40: 30 | H40: 1 | I40: 13071850 | J40: 1307185 | K40: 0 | L40: 13071850
A41: BOYACA | B41: CHIQUINQUIRA | C41: SECCIONAL Y POLICIA JUDICIAL CRA 9 14 90 | D41: 24 HORAS L-D | E41: CON ARMA | F41: Serv. Vig. 12 H Diurno con canino - NEAA y CGAC | G41: 30 | H41: 1 | I41: 13071850 | J41: 1307185 | K41: 248365.15 | L41: 13320215
A42: BOYACA | B42: CHIQUINQUIRA | C42: SECCIONAL Y POLICIA JUDICIAL CRA 9 14 86 | D42: 12 HORAS L-V SIN FESTIVOS | E42: CON ARMA | F42: Serv. Vig. 12 H Diurno L-V sin arma - El Dorado | G42: 30 | H42: 1 | I42: 3902281 | J42: 390228.1 | K42: 74143.339 | L42: 3976424
A43: BOYACA | B43: TUNJA | C43: SECCIONAL SAU CALLE 26 9 10 | D43: 12 HORAS L-V SIN FESTIVOS | E43: CON ARMA | F43: Serv. Vig. 24 H Diurno sin arma - Flandes | G43: 30 | H43: 1 | I43: 3902281 | J43: 390228.1 | K43: 74143.339 | L43: 3976424
A44: BOYACA | B44: DUITAMA | C44: SECCIONAL Y LOCAL CALLE 17 16 67 | D44: 12 HORAS L-V SIN FESTIVOS | E44: SIN ARMA | F44: Serv. Vig. 24 H Diurno con arma Aero. Dorado | G44: 30 | H44: 1 | I44: 3831330 | J44: 383133 | K44: 72795.27 | L44: 3904125
A45: BOYACA | B45: DUITAMA | C45: SECCIOANL Y POLICIA JUDICIAL CRA 16 17 53/55 | D45: 12 HORAS L-V SIN FESTIVOS | E45: SIN ARMA | F45: Serv. Vig. 24 H Diurno con arma Aero. Dorado | G45: 30 | H45: 1 | I45: 3831330 | J45: 383133 | K45: 72795.27 | L45: 3904125
A46: BOYACA | B46: EL COCUY | C46: UNIDAD LOCAL Y SECCIONAL CRA 4A 6 71/75 | D46: 12 HORAS L-V SIN FESTIVOS | E46: CON ARMA | F46: Serv. Vig. 24 H Diurno sin arma - Guaymaral | G46: 30 | H46: 1 | I46: 3902281 | J46: 390228.1 | K46: 74143.339 | L46: 3976424
A47: BOYACA | B47: GUATEQUE | C47: UNIDAD LOCAL Y SECCIONAL CRA 8 6 61 | D47: 12 HORAS L-V SIN FESTIVOS | E47: SIN ARMA | G47: 30 | H47: 1 | I47: 3831330 | J47: 383133 | K47: 72795.27 | L47: 3904125
A48: BOYACA | B48: LABRANZA GRANDE | C48: UNIDAD LOCAL Y SECCIONAL CALLE 9 10 58 | D48: 12 HORAS L-V SIN FESTIVOS | E48: CON ARMA | G48: 30 | H48: 1 | I48: 3902281 | J48: 390228.1 | K48: 74143.339 | L48: 3976424
A49: BOYACA | B49: MIRAFLORES | C49: SECCIOANL CRA 8 4 11 | D49: 12 HORAS L-V SIN FESTIVOS | E49: CON ARMA | G49: 30 | H49: 1 | I49: 3902281 | J49: 390228.1 | K49: 74143.339 | L49: 3976424
A50: BOYACA | B50: MUZO | C50: SECCIONAL CALLE 6 6 07 | D50: 12 HORAS L-V SIN FESTIVOS | E50: CON ARMA | G50: 30 | H50: 1 | I50: 3902281 | J50: 390228.1 | K50: 74143.339 | L50: 3976424
A51: BOYACA | B51: PAIPA | C51: SECCIONAL CRA 19 24 42/44/46 | D51: 12 HORAS L-V SIN FESTIVOS | E51: CON ARMA | G51: 30 | H51: 1 | I51: 3902281 | J51: 390228.1 | K51: 74143.339 | L51: 3976424
A52: BOYACA | B52: PAJARITO | C52: UNIDAD LOCAL CRA 2 4 23 | D52: 12 HORAS L-V SIN FESTIVOS | E52: CON ARMA | G52: 30 | H52: 1 | I52: 3902281 | J52: 390228.1 | K52: 74143.339 | L52: 3976424
A53: BOYACA | B53: RAMIRIQUI | C53: SECCIONAL Y POLICIA JUDICIAL CRA 6 6 58 | D53: 12 HORAS L-V SIN FESTIVOS | E53: SIN ARMA | G53: 30 | H53: 1 | I53: 3831330 | J53: 383133 | K53: 72795.27 | L53: 3904125
A54: BOYACA | B54: SAMACA | C54: UNIDAD LOCAL CRA 6 4 53 PISO 2 | D54: 12 HORAS L-V SIN FESTIVOS | E54: CON ARMA | G54: 30 | H54: 1 | I54: 3902281 | J54: 390228.1 | K54: 74143.339 | L54: 3976424
A55: BOYACA | B55: DUITAMA | C55: URI SAU CRA 16 18 26/36 | D55: 24 HORAS L-D | E55: CON ARMA | G55: 30 | H55: 1 | I55: 13071850 | J55: 1307185 | K55: 248365.15 | L55: 13320215
A56: BOYACA | B56: SANTA ROSA VTBO | C56: FISCALIA ESPECIALIZADA Y POLICIA JUDICIAL | D56: 12 HORAS L-V SIN FESTIVOS | E56: CON ARMA | G56: 30 | H56: 1 | I56: 3902281 | J56: 390228.1 | K56: 74143.339 | L56: 3976424
A57: BOYACA | B57: SOATA | C57: UNIDAD LOCAL CALLE 9 2 57 | D57: 12 HORAS L-V SIN FESTIVOS | E57: SIN ARMA | G57: 30 | H57: 1 | I57: 3831330 | J57: 383133 | K57: 72795.27 | L57: 3904125
A58: BOYACA | B58: SOACHA | C58: UNIDAD LOCAL Y CTI CALLE 10 4 07 | D58: 12 HORAS L-V SIN FESTIVOS | E58: SIN ARMA | G58: 30 | H58: 1 | I58: 3831330 | J58: 383133 | K58: 72795.27 | L58: 3904125
... A73: BOYACA | B73: GARAGOA | C73: SECCIONAL Y LOCAL CALLE 6 16 34 | D73: 12 HORAS L-V SIN FESTIVOS | E73: CON ARMA | G73: 0 | H73: 0 | I73: 0 | J73: 0 | K73: 0 | L73: 0
A74: TOTALES | H74: =SUM(H2:H73) -> 76 | I74: =SUM(I2:I73) -> 624904065 | J74: =SUM(J2:J73) -> 62490407 | K74: =SUM(K2:K73) -> 11128082 | L74: =SUM(L2:L73) -> 636032131
A76: BOYACA F.E.A.B | B76: SAMACA | C76: PATIO UNICO INCAUTADOS | D76: 24 HORAS L-D | E76: CON ARMA | G76: 30 | H76: 2 | I76: 26143700 | J76: 2614370 | K76: 496730.3 | L76: 26640430
A77: TOTALES | H77: =H76 -> 2 | I77: =I76 -> 26143700 | J77: =J76 -> 2614370 | K77: =K76 -> 496730.3 | L77: =L76 -> 26640430

Sheet Tabla dinámica 1
A1: CIUDAD/MUNICIPIO
A2: BOGOTA DC
A3: CAJICA
A4: CAQUEZA
A5: CHIA
A6: CHIQUINQUIRA
A7: CHOACHI
A8: CHOCONTA
A9: DUITAMA
A10: EL COCUY
A11: FACATATIVA
A12: FLANDES
... A45: Total general

Sheet Hoja 2
B1: CIUDAD/MUNICIPIO | C1: SUBTOTAL | D1: AIU | E1: IVA | F1: VR TOTAL
A2: Servicios de Vigilancia Privada - BOGOTA DC | B2: BOGOTA DC | C2: 50709540 | D2: 5070954 | E2: 963481.26 | F2: 51673021
A3: Servicios de Vigilancia Privada - CAJICA | B3: CAJICA | C3: 3831330 | D3: 383133 | E3: 72795.27 | F3: 3904125
A4: Servicios de Vigilancia Privada - CAQUEZA | B4: CAQUEZA | C4: 39215550 | D4: 3921555 | E4: 745095.45 | F4: 39960645
A5: Servicios de Vigilancia Privada - CHIA | B5: CHIA | C5: 13071850 | D5: 1307185 | E5: 248365.15 | F5: 13320215
A6: Servicios de Vigilancia Privada - CHIQUINQUIRA | B6: CHIQUINQUIRA | C6: 16974131 | D6: 1697413.1 | E6: 322508.49 | F6: 17296639
A7: Servicios de Vigilancia Privada - CHOACHI | B7: CHOACHI | C7: 3831330 | D7: 383133 | E7: 72795.27 | F7: 3904125
A8: Servicios de Vigilancia Privada - CHOCONTA | B8: CHOCONTA | C8: 13071850 | D8: 1307185 | E8: 248365.15 | F8: 13320215
A9: Servicios de Vigilancia Privada - DUITAMA | B9: DUITAMA | C9: 20734510 | D9: 2073451 | E9: 393955.69 | F9: 21128465
A10: Servicios de Vigilancia Privada - EL COCUY | B10: EL COCUY | C10: 3902281 | D10: 390228.1 | E10: 74143.339 | F10: 3976424
A11: Servicios de Vigilancia Privada - FACATATIVA | B11: FACATATIVA | C11: 26143700 | D11: 2614370 | E11: 496730.3 | F11: 26640430
A12: Servicios de Vigilancia Privada - FLANDES | B12: FLANDES | C12: 13071850 | D12: 1307185 | E12: 248365.15 | F12: 13320215
A13: Servicios de Vigilancia Privada - FUNZA | B13: FUNZA | C13: 16974131 | D13: 1697413.1 | E13: 322508.49 | F13: 17296639
... A45: Servicios de Vigilancia Privada - Suma total | B45: Suma total | C45: 624904065 | D45: 62490407 | E45: 11128082 | F45: 636032131

Sheet Copia de NOVIEMBRE 2023
G2: FORMATO
G3: FORMATO 7 PROPUESTA ECONOMICA | R3: Fecha de aprobación: 08/07/2022
G4: Clave: APOY-9.0-12-014 | N4: Version: 4
G7: OBJETO: CONTRATAR LA PRESTACION DE SERVICIOS DE VIGILANCIA Y SEGURIDAD PARA LAS INSTALACIONES Y AEROPUERTOS ADMINISTRADOS POR LA AERONAUTICA CIVIL POR LOTES (VF).
D8: DEPARTAMENTO | E8: CIUDAD | F8: NOMBRE DEL PUESTO | G8: DESCRIPCIÓN DEL SERVICIO | H8: ELEMENTOS DEL SERVICIO | J8: No. DIAS | K8: No. SERVICIOS | L8: VALOR MENSUAL UNITARIO | M8: VALOR PRIMA SEGURO DE VIDA POR SERVICIO MENSUAL UNITARIO | N8: AYS(11-%10%-8%) MENSUAL UNITARIO | O8: SUB TOTAL ANTES DE AIU (K+L+M)*J | Q8: AIU (10%) | R8: % DE IVA (19%) | S8: VALOR TOTALVIGENCIA 2023 (1 al 31 de agosto 2023)
B9: SEGURIDAD REGULADA | C9: AEROPUERTOS | D9: CUNDINAMARCA | E9: BOGOTA | F9: EL DORADO (BOGOTA) | G9: PUESTO 12 HORAS (DIURNO) | H9: SERVICIO SIN ARMA | I9: Serv. Vig. 12 H Diurno sin arma Aero. El Dorado | J9: 30 | K9: 5 | L9: =9.06*1160000*55.97%/15*12+2 -> 4705780.5 | M9: =+X$9*55.97%/15*12 -> 145.51752 | N9: =+(L9+M9)*8% -> 376474.08 | O9: =(((ROUND(N9+M9+L9,0)*K9))/30)*J9 -> 25412000 | P9: =+O9/K9 -> 5082400 | Q9: =+O9*10% -> 2541200 | R9: =+Q9*19% -> 482828 | S9: =+ROUND(O9+R9,0) -> 25894828 | T9: =S9 -> 25894828 | X9: =108.33*3 -> 324.99 | Z9: 21688707 | AA9: =+Z9-S9 -> -4206121 | AI9: =+S9 -> 25894828
D10: CUNDINAMARCA | G10: PUESTO 24 HORAS | H10: SERVICIO ARMADO | I10: Serv. Vig. 24 H Diurno con arma Aero. El Dorado | J10: 30 | K10: 1 | L10: =9.06*1160000+2 -> 10509602 | M10: =+X$9 -> 324.99 | N10: =+(L10+M10)*10% -> 1050992.7 | O10: =(((ROUND(N10+M10+L10,0)*K10))/30)*J10 -> 11560920 | P10: =+O10/K10 -> 11560920 | Q10: =+O10*10% -> 1156092 | R10: =+Q10*19% -> 219657.48 | S10: =+ROUND(O10+R10,0) -> 11780577 | T10: =T9+S10 -> 37675405 | Z10: 48440488 | AA10: =+Z10-S10 -> 36659911 | AI10: =+AI9+S10 -> 37675405
D11: CUNDINAMARCA | G11: PUESTO 24 HORAS | H11: SERVICIO SIN ARMA | I11: Serv. Vig. 24 H Diurno sin arma Aero. El Dorado | J11: 30 | K11: 6 | L11: =9.06*1160000+2 -> 10509602 | M11: =+X$9 -> 324.99 | N11: =+(L11+M11)*8% -> 840794.16 | O11: =(((ROUND(N11+M11+L11,0)*K11))/30)*J11 -> 68104326 | P11: =+O11/K11 -> 11350721 | Q11: =+O11*10% -> 6810432.6 | R11: =+Q11*19% -> 1293982.2 | S11: =+ROUND(O11+R11,0) -> 69398308 | T11: =T10+S11 -> 107073713 | Z11: 9867506.9 | AA11: =+Z11-S11 -> -59530801 | AI11: =++S11++AI10 -> 107073713
D12: CUNDINAMARCA | G12: PUESTO 24 HORAS (CGAC) | H12: SERVICIO SIN ARMA | I12: Serv. Vig. 24 H Diurno sin arma Aero. El Dorado CGAC | J12: 30 | K12: 9 | L12: =9.06*1160000+2 -> 10509602 | M12: =+X$9 -> 324.99 | N12: =+(L12+M12)*8% -> 840794.16 | O12: =(((ROUND(N12+M12+L12,0)*K12))/30)*J12 -> 102156489 | P12: =+O12/K12 -> 11350721 | Q12: =+O12*10% -> 10215649 | R12: =+Q12*19% -> 1940973.3 | S12: =+ROUND(O12+R12,0) -> 104097462 | T12: =T11+S12 -> 211171175 | Z12: 9688097.7 | AA12: =+Z12-S12 -> -94409364 | AI12: =++S12++AI11 -> 211171175 | AJ12: =S9+S10+S11+S12+S43+S44+S45+S46+S47+S48+S49+S50+S51+S52+S53+S55+S56+S57+S58+S59+S60+S61+#REF!+S84+S63+S64+S65+S66+S67 -> #REF!
D13: CUNDINAMARCA | E13: GUAYMARAL | F13: GUAYMARAL | G13: PUESTO 24 HORAS | H13: SERVICIO ARMADO | I13: Serv. Vig. 24 H Diurno con arma Aero. Guaymaral | J13: 30 | K13: 3 | L13: =9.06*1160000+2 -> 10509602 | M13: =+X$9 -> 324.99 | N13: =+(L13+M13)*10% -> 1050992.7 | O13: =(((ROUND(N13+M13+L13,0)*K13))/30)*J13 -> 34682760 | P13: =+O13/K13 -> 11560920 | Q13: =+O13*10% -> 3468276 | R13: =+Q13*19% -> 658972.44 | S13: =+ROUND(O13+R13,0) -> 35341732 | T13: =T12+S13 -> 246512907 | Z13: 38752391 | AA13: =+Z13-S13 -> 3410658.7 | AI13: =++S13++AI12 -> 246512907
G14: PUESTO 12 HORAS (DIURNO) | H14: SERVICIO CON CANINO | I14: Serv. Vig. 12 H Diurno con canino Aero. Guaymaral | J14: 30 | K14: 1 | L14: =9.06*1160000*55.97%/15*12+2 -> 4705780.5 | M14: =+X$9*55.97%/15*12 -> 145.51752 | N14: =+(L14+M14)*11% -> 517651.86 | O14: =(((ROUND(N14+M14+L14,0)*K14))/30)*J14 -> 5223578 | P14: =+O14/K14 -> 5223578 | Q14: =+O14*10% -> 522357.8 | R14: =+Q14*19% -> 99247.982 | S14: =+ROUND(O14+R14,0) -> 5322826 | T14: =T13+S14 -> 251835733 | Z14: 48440488 | AA14: =+Z14-S14 -> 43117662 | AI14: =++S14++AI13 -> 251835733 | AK14: =S13+S14+S80 -> 45843524
D15: TOLIMA | E15: FLANDES | F15: FLANDES | G15: PUESTO 12 HORAS (DIURNO) | H15: SERVICIO SIN ARMA | I15: Serv. Vig. 12 H Diurno sin arma Aero. Flandes | J15: 30 | K15: 1 | L15: =9.06*1160000*55.97%/15*12+2 -> 4705780.5 | M15: =+X$9*55.97%/15*12 -> 145.51752 | N15: =+(L15+M15)*8% -> 376474.08 | O15: =(((ROUND(N15+M15+L15,0)*K15))/30)*J15 -> 5082400 | P15: =+O15/K15 -> 5082400 | Q15: =+O15*10% -> 508240 | R15: =+Q15*19% -> 96565.6 | S15: =+ROUND(O15+R15,0) -> 5178966 | T15: =T14+S15 -> 257014699 | Z15: 29602521 | AA15: =+Z15-S15 -> 24423555 | AI15: =++S15++AI14 -> 257014699
