Workbook

Sheet OFERTA ECONOMICA
A1: CENTRO AGROPECUARIO LA GRANJA | B1: OFERTA ECONÓMICA
B4: OBJETO: CONTRATAR OBRAS MANTENIMIENTO DE BATERIAS SANITARIAS Y AMBIENTES DE FORMACION DEL CENTRO AGROPECUARIO LA GRANJA DEL ESPINAL - REGIONAL TOLIMA VIGENCIA 2026.
A6: ITEM | B6: DESCRIPCION | C6: CANTIDAD | D6: UNIDAD DE MEDIDA | E6: VR. UNITARIO | F6: VR. TOTAL | G6: VALOR UNITARIO OFERTADO | H6: VALOR TOTAL OFERTADO
A8: 1 | B8: DESMONTE APARATOS SANITARIOS, INCLUYE DESCONEXION DE TUBERIA, CARGUE, RETIRO Y DISPOSICION FINAL DE MATERIAL SOBRANTE | C8: =+SUM(C9:C23) -> 82 | D8: UN | E8: =+APU!T44 -> 10410 | F8: =+E8*C8 -> 853620 | G8: =E8-(E8*28%) -> 7495.2 | H8: =G8*C8 -> 614606.4
B9: CABAÑAS | C9: 8
B10: ALOJAMIENTOS MIXTOS | C10: 10
B11: ALOJAMIENTO ANTIGUO | C11: 8
B12: PORTERIA TECNOPARQUE | C12: 1
B13: HOMBRES FRENTE A GUADUA | C13: 6
B14: MUJERES FRENTE A GUADUA | C14: 6
B15: APRENDICES CASINO | C15: 6
B16: PORCINOS | C16: 6
B17: BAÑOS HOMBRES ADMINISTRATIVOS | C17: 6
B18: INSTRUCTORES HOMBRES | C18: 3
B19: INSTRUCTORES MUJERES | C19: 3
B20: AUTOEVALUACION | C20: 2
... B23: CASA AGRICOLA | C23: 8
A24: 2 | B24: SUMINISTRO E INSTALACION SANITARIOS AHORRADORES TIPO CORONA O SIMILAR, INCLUYE TAPA, ACCESORIOS, TUBERIAS Y TODOS LOS ELEMENTOS NECESARIOS PARA SU CORRECTA INSTALACION IN FUNCIONAMIENTO | C24: =+SUM(C25:C39) -> 65 | D24: UN | E24: =+APU!T99 -> 598067 | F24: =+E24*C24 -> 38874355 | G24: =E24-(E24*18%) -> 490414.94 | H24: =G24*C24 -> 31876971
B25: CABAÑAS | C25: 8
B26: ALOJAMIENTOS MIXTOS | C26: 10
B27: ALOJAMIENTO ANTIGUO | C27: 8
B28: PORTERIA TECNOPARQUE | C28: 1
B29: HOMBRES FRENTE A GUADUA | C29: 6
B30: MUJERES FRENTE A GUADUA | C30: 6
B31: APRENDICES CASINO | C31: 4
B32: PORCINOS | C32: 2
B33: BAÑOS HOMBRES ADMINISTRATIVOS | C33: 2
B34: INSTRUCTORES HOMBRES | C34: 3
B35: INSTRUCTORES MUJERES | C35: 3
B36: AUTOEVALUACION | C36: 1
... B39: CASA AGRICOLA | C39: 5
A40: 3 | B40: SUMINISTRO E INSTALACION LAVAMANOS DE PEDESTAL TIPO CORONA O SIMILAR, INCLUYE GRIFERIA, ACCESORIOS Y TODOS LOS ELEMENTOS NECESARIOS PARA SU CORRECTA INSTALACION Y FUNCIONAMIENTO | C40: =+SUM(C41:C47) -> 13 | D40: UN. | E40: =+APU!T153 -> 382255 | F40: =+E40*C40 -> 4969315 | G40: =E40-(E40*18%) -> 313449.1 | H40: =G40*C40 -> 4074838.3
B41: PORCINOS | C41: 4
B42: BAÑO HOMBRES ADMINISTRATIVOS | C42: 2
B43: AUTOEVALUACION | C43: 1
B44: ENFERMERIA | C44: 1
B45: POSCOSECHA | C45: 2
B46: PORTERIA TECNOPARQUE | C46: 1
B47: CASA AGRICOLA | C47: 2
A48: 4 | B48: SUMINISTRO EINSTALACION ORINAL, INCLUYE TODOS LOS ELEMENTOS NECESARIOS PARA SU CORRECTO FUNCIONAMIENTO | C48: =+SUM(C49:C51) -> 5 | D48: UN | E48: 536070 | F48: =+E48*C48 -> 2680350 | G48: =E48-(E48*18%) -> 439577.4 | H48: =G48*C48 -> 2197887
...

Sheet APU
A1: LAVA | E1: DIRECCIÓN ADMINISTRATIVA Y FINANCIERA GRUPO CONSTRUCCIONES | T1: GIL-F-061 V.1
E4: ANÁLISIS DE PRECIOS UNITARIOS
A6: A. DATOS GENERALES
A7: CONTRATO No: | E7: DE | J7: FECHA INICIO | P7: FECHA TERMINACIÓN
A8: OBJETO DEL CONTRATO: | E8: OBJETO: “CONTRATAR OBRAS PARA EL MANTENIMIENTO DE LAS BATERIAS SANITARIAS Y LOS AMBIENTES DE FORMACIÓNDEL CENTRO AGROPECUARIO LA GRANJA DEL ESPINAL – REGIONAL TOLIMA VIGENCIA 2026”.
A9: CONTRATISTA:
A10: INTERVENTOR:
A11: SUPERVISOR:
A13: B. DATOS ESPECIFICOS
A14: Item | C14: Descripción | R14: Unidad | T14: Cantidad
A15: 1 | C15: =+'OFERTA ECONOMICA'!B8 -> DESMONTE APARATOS SANITARIOS, INCLUYE DESCONEXION DE TUBERIA, CARGUE, RETIRO Y DISPOSICION FINAL DE MATERIAL SOBRANTE | R15: =+'OFERTA ECONOMICA'!D8 -> UN | T15: =+'OFERTA ECONOMICA'!C8 -> 82
A17: 1. Equipo
A18: Descripción | H18: Marca | K18: Tipo | O18: Tarifa/Hora | R18: Rendimiento | T18: Vr. Unitario
A20: HERRAMIENTA MENOR | R20: 0.03 | T20: =+R20*T40 -> 233.292
A22: SUBTOTAL | T22: =+T20+T19 -> 233.292
A24: 2. Materiales
A25: Descripción | M25: Unidad | O25: Cantidad | Q25: Precio Unit. | T25: Vr Unitario
T26: =+Q26*O26 -> 0
T27: =+Q27*O27 -> 0
A29: SUBTOTAL | T29: =+T27+T26 -> 0
A31: 3. Transportes
A32: Material | K32: Vol. o Peso | M32: Distancia | O32: m2 o Ton/Km | R32: Tarifa | T32: Vr. Unitario
A33: VOLQUETA 7 M | K33: 0.1 | M33: 20 | R33: 1200 | T33: =+R33*M33*K33 -> 2400
A36: SUBTOTAL | T36: =+T33 -> 2400
A38: 4. Mano de Obra
A39: Trabajador | J39: Jornal | L39: Prestac. | N39: hc | Q39: Rendimiento | T39: Vr. Unitario
A40: HORA CUADRILLA AA - ALBAÑILERIA | J40: 171314.64 | L40: 1.8157 | N40: =+(L40*J40)/8 -> 38882 | Q40: 0.2 | T40: =+Q40*N40 -> 7776.4
A43: SUBTOTAL | T43: =+T40 -> 7776.4
A44: TOTAL COSTO DIRECTO | T44: =ROUND(T43+T36+T29+T22,0) -> 10410
A45: AU CONTRACTUAL | B45: =+'[1]CARGA PRESTACIONAL'!$E$40 -> 0.2995 | S45: TOTAL COSTO INDIRECTO | T45: =+T44*B45 -> 3117.795
A46: VALOR TOTAL ACTIVIDAD | T46: =+T45+T44 -> 13527.795
A47: VALOR RECURSOS NECESARIOS PARA LA EJECUCIÓN DE LA ACTIVIDAD | T47: =ROUND(T46*T15,0) -> 1109279
A49: Para constancia de lo anterior, se firma la presente acta bajo la responsabilidad expresa de los que intervienen en ella, de conformidad con las funciones desempeñadas por cada uno de los mismos, de acuerdo con el manual de interventoría, en el Espinal Tolima a los veintiseis (26 ) días, del mes febrero del año 2026.
E51: Firma:
E52: ADRIANA MAGALY CAMACHO PARRA
E56: DIRECCIÓN ADMINISTRATIVA Y FINANCIERA GRUPO CONSTRUCCIONES | T56: GIL-F-061 V.1
E59: ANÁLISIS DE PRECIOS UNITARIOS
A61: A. DATOS GENERALES
A62: CONTRATO No: | E62: DE | J62: FECHA INICIO | P62: FECHA TERMINACIÓN
A63: OBJETO DEL CONTRATO: | E63: OBJETO: “CONTRATAR OBRAS PARA EL MANTENIMIENTO DE LAS BATERIAS SANITARIAS Y LOS AMBIENTES DE FORMACIÓNDEL CENTRO AGROPECUARIO LA GRANJA DEL ESPINAL – REGIONAL TOLIMA VIGENCIA 2026”.
...

Sheet DESPIECE GANADERIA
A2: ESTRUCTURA METALICA CORRAL TORILES GANADERIA
A4: PERFILES | B4: LONG | C4: CANTIDAD | D4: TOTAL
A5: VERTICALES | B5: 1.73 | C5: 14 | D5: =+C5*B5 -> 24.22
A6: CORREAS | B6: 26.15 | C6: 10 | D6: =+C6*B6 -> 261.5
A7: CUCHILAS HORIZONTAL | B7: 11.59 | C7: 7 | D7: =+C7*B7 -> 81.13
A8: CUCHILLAS INCLINADAS | B8: 12 | C8: 7 | D8: =+C8*B8 -> 84
A9: CERCHA 1 | B9: 0.52 | C9: 14 | D9: =+C9*B9 -> 7.28
A10: CERCHA 2 | B10: 0.15 | C10: 14 | D10: =+C10*B10 -> 2.1
A11: CERCHA 3 | B11: 0.85 | C11: 7 | D11: =+C11*B11 -> 5.95
A12: PUERTA HORIZONTAL | B12: 1.04 | C12: 14 | D12: =+C12*B12 -> 14.56
A13: PUERTA VERTICAL | B13: 1.1 | C13: 14 | D13: =+C13*B13 -> 15.4
A14: TOTAL ML | D14: =+SUM(D5:D13) -> 496.14

Sheet APU (2)
E1: DIRECCIÓN ADMINISTRATIVA Y FINANCIERA GRUPO CONSTRUCCIONES | T1: GIL-F-061 V.1
E4: ANÁLISIS DE PRECIOS UNITARIOS
A6: A. DATOS GENERALES
A7: CONTRATO No: | E7: DE | J7: FECHA INICIO | P7: FECHA TERMINACIÓN
A8: OBJETO DEL CONTRATO: | E8: OBJETO: “CONTRATAR OBRAS PARA EL MANTENIMIENTO DE LAS BATERIAS SANITARIAS Y LOS AMBIENTES DE FORMACIÓNDEL CENTRO AGROPECUARIO LA GRANJA DEL ESPINAL – REGIONAL TOLIMA VIGENCIA 2026”.
A9: CONTRATISTA:
A10: INTERVENTOR:
A11: SUPERVISOR:
A13: B. DATOS ESPECIFICOS
A14: Item | C14: Descripción | R14: Unidad | T14: Cantidad
A15: 1.1 | C15: =+'OFERTA ECONOMICA'!B130 -> LIMPIEZA DE CARA INTERIOR CUBIERTA Y ESTRUCTURA DE CUBIERTA, INCLUYE PERSONAL CALIFICADO, ANDAMIOS CERTIFICADOS Y TODOS LOS INSUMOS NECESARIOS PARA SU CORRECTA EJECUCION | R15: Unidad | T15: 2
A17: 1. Equipo
A18: Descripción | H18: Marca | K18: Tipo | O18: Tarifa/Hora | R18: Rendimiento | T18: Vr. Unitario
A19: HIDROLAVADORA | O19: =68500/8 -> 8562.5 | R19: 60 | T19: =+R19*O19 -> 513750
A20: HERRAMIENTA MENOR | R20: 0.03 | T20: =+T43*R20 -> 46658.4
A22: SUBTOTAL | T22: =+SUM(T19:V21) -> 560408.4
A24: 2. Materiales
A25: Descripción | M25: Unidad | O25: Cantidad | Q25: Precio Unit. | T25: Vr Unitario
A29: SUBTOTAL | T29: =+SUM(T26:V28) -> 0
A31: 3. Transportes
A32: Material | K32: Vol. o Peso | M32: Distancia | O32: m2 o Ton/Km | R32: Tarifa | T32: Vr. Unitario
A36: SUBTOTAL
A38: 4. Mano de Obra
A39: Trabajador | J39: Jornal | L39: Prestac. | N39: hc | Q39: Rendimiento | T39: Vr. Unitario
A40: HORA CUADRILLA AA - ALBAÑILERIA | J40: =+'[1]CARGA PRESTACIONAL'!E35+'[1]CARGA PRESTACIONAL'!E36 -> 171314.64 | L40: 1.8157 | N40: =+(L40*J40)/8 -> 38882 | Q40: 40 | T40: =+Q40*N40 -> 1555280
A43: SUBTOTAL | T43: =+T40 -> 1555280
A44: TOTAL COSTO DIRECTO | T44: =ROUND(T43+T36+T29+T22,0) -> 2115688
A45: AU CONTRACTUAL | B45: =+'[1]CARGA PRESTACIONAL'!$E$40 -> 0.2995 | S45: TOTAL COSTO INDIRECTO | T45: =+T44*B45 -> 633648.56
A46: VALOR TOTAL ACTIVIDAD | T46: =+T45+T44 -> 2749336.6
A47: VALOR RECURSOS NECESARIOS PARA LA EJECUCIÓN DE LA ACTIVIDAD | T47: =ROUND(T46*T15,0) -> 5498673
A49: Para constancia de lo anterior, se firma la presente acta bajo la responsabilidad expresa de los que intervienen en ella, de conformidad con las funciones desempeñadas por cada uno de los mismos, de acuerdo con el manual de interventoría, en el Espinal Tolima a los veintiseis (26 ) días, del mes febrero del año 2026.
E51: Firma:
E52: ADRIANA MAGALY CAMACHO PARRA
E55: DIRECCIÓN ADMINISTRATIVA Y FINANCIERA GRUPO CONSTRUCCIONES | T55: GIL-F-061 V.1
E58: ANÁLISIS DE PRECIOS UNITARIOS
A60: A. DATOS GENERALES
A61: CONTRATO No: | E61: DE | J61: FECHA INICIO | P61: FECHA TERMINACIÓN
A62: OBJETO DEL CONTRATO: | E62: OBJETO: “CONTRATAR OBRAS PARA EL MANTENIMIENTO DE LAS BATERIAS SANITARIAS Y LOS AMBIENTES DE FORMACIÓNDEL CENTRO AGROPECUARIO LA GRANJA DEL ESPINAL – REGIONAL TOLIMA VIGENCIA 2026”.
A63: CONTRATISTA:
A64: INTERVENTOR:
...
