Workbook

Sheet CONSOLIDADO
C2: MINISTERIO DE TRANSPORTE
C3: SUBDIRECCIÓN ADMINISTRATIVA Y FINANCIERA - GRUPO ADMINISTRACIÓN DE BIENES Y SERVICIOS
C4: PROCESO SAMC-003-2026
A5: CONSOLIDADO EVALUACIÓN TECNICA
A7: Numero | B7: PROPONENTE | C7: EXPERIENCIA | D7: ANEXO TECNICO | E7: CARTA DE PRESENTACIÓN | F7: SOSTENIBILIDAD AMBIENTAL | G7: CONCEPTO SANITARIO | H7: CERTIFICADO PLAGUICIDAS | I7: RESULTADO | J7: OBSERVACIONES
A8: 1 | B8: CONTROL REGIONAL DE HIGIENE MANTENIMIENTO SAS | C8: NO CUMPLE | D8: NO CUMPLE | E8: CUMPLE | F8: NO CUMPLE | G8: CUMPLE | H8: CUMPLE | I8: NO CUMPLE | J8: Ver Hoja de Evaluación Detallada
A9: 2 | B9: D&G INTEGRAL SERVICES SAS | C9: NO CUMPLE | D9: NO CUMPLE | E9: CUMPLE | F9: NO CUMPLE | G9: CUMPLE | H9: CUMPLE | I9: NO CUMPLE | J9: Ver Hoja de Evaluación Detallada
A10: 3 | B10: GLOBAL SANEAMIENTO AMBIENTAL SAS | C10: NO CUMPLE | D10: NO CUMPLE | E10: CUMPLE | F10: NO CUMPLE | G10: NO CUMPLE | H10: NO CUMPLE | I10: NO CUMPLE | J10: Ver Hoja de Evaluación Detallada
A11: 4 | B11: AMBICOL SERVICES SAS | C11: NO CUMPLE | D11: CUMPLE | E11: CUMPLE | F11: CUMPLE | G11: CUMPLE | H11: CUMPLE | I11: NO CUMPLE | J11: Ver Hoja de Evaluación Detallada
A12: 5 | B12: ECOFLORA | C12: NO CUMPLE | D12: NO CUMPLE | E12: CUMPLE | F12: CUMPLE | G12: CUMPLE | H12: CUMPLE | I12: NO CUMPLE | J12: Ver Hoja de Evaluación Detallada
A13: 6 | B13: FUMISERVICES SAS | C13: NO CUMPLE | D13: NO CUMPLE | E13: CUMPLE | F13: NO CUMPLE | G13: CUMPLE | H13: CUMPLE | I13: NO CUMPLE | J13: Ver Hoja de Evaluación Detallada
A14: 7 | B14: EOS CGD SAS | C14: CUMPLE | D14: CUMPLE | E14: CUMPLE | F14: CUMPLE | G14: CUMPLE | H14: CUMPLE | I14: CUMPLE | J14: Ver Hoja de Evaluación Detallada
A15: 8 | B15: FUMIGACIONES EL TRIUNFO CAR | C15: CUMPLE | D15: NO CUMPLE | E15: CUMPLE | F15: NO CUMPLE | G15: NO CUMPLE | H15: CUMPLE | I15: NO CUMPLE | J15: Ver Hoja de Evaluación Detallada
A16: 9 | B16: FUMISEX SAS | C16: NO CUMPLE | D16: CUMPLE | E16: CUMPLE | F16: CUMPLE | G16: CUMPLE | H16: CUMPLE | I16: NO CUMPLE | J16: Ver Hoja de Evaluación Detallada
B18: #VALUE!
B19: Elaborado por: Carolina Olaya Rincon
B20: Coordinadora Grupo Administracion Bienes y Servicios
B21: Fecha de Verificación 05/05/2026

Sheet CONTROL REGIONAL DE HIGIENE MAN
C4: EVALUACIÓN TÉCNICA
C5: SAMC-003-2026
C6: OBJETO: SEG0844 “PRESTACIÓN DE SERVICIOS DE DESINFECCIÓN, FUMIGACIÓN Y TERMO NEBULIZACIÓN DE ARCHIVOS EN LAS SEDES DE BOGOTÁ, DIRECCIONES TERRITORIALES E INSPECCIONES FLUVIALES DEL MINISTERIO DE TRANSPORTE”.
C9: Presupuesto oficial estimado (POE) | D9: 214624890
C10: AÑO ACTUAL | D10: 2026
C11: Presupuesto oficial estimado (SMMLV) | D11: =D9/(VLOOKUP($D$10,SMMLV!A8:C52,3,FALSE)) -> 122.5794
C12: 100% del POE (EXPERIENCIA ACREDITADA) | D12: =+S24+S25+S26 -> #N/A | E12: =IF(D12>=D11,"CUMPLE","NO CUMPLE") -> #N/A
C13: Nombre del Proponente | D13: CONTROL REGIONAL DE HIGIENE MANTENIMIENTO SAS
C14: No. Contratos Aportados | D14: =+COUNT(B24,B25,B26) -> 3
C15: CRITERIOS DE SOSTENIBILIDAD AMBIENTAL El proponente deberá anexar declaración juramentada en la que se compromete con lo siguiente: a. Contar con plan de Gestión integral para los residuos peligrosos generados en su actividad, incluido el mantenimiento, según lo establecido en el Decreto 1076 de 2015, o la normativa que lo sustituya. b. El manejo y la disposición final que le dará a los residuos peligrosos generados durante la prestación del servicio, dando cumplimiento a lo establecido en el Decreto 1076 Título 6 Capítulo 1 Sección 3 artículo 2.2.6.1.3.1 o la normativa que lo sustituya, así como la entrega del(los) certificado(s) de disposición final o de aprovechamiento de los Residuos peligrosos - RESPEL generados durante el servicio. c. Acogerse a las buenas prácticas ambientales establecidas en el Ministerio de Transporte. | D15: No se adjunta documento | E15: NO CUMPLE
C16: Concepto Sanitario Vigente expedido por la autoridad sanitaria ambiental. | D16: Se anexa | E16: CUMPLE
C17: Certificación en Uso, Aplicación y manejo Seguro de Plaguicidas a los trabajadores de la empresa proponente, expedida por el Sena, Entidad Educativa o Instructor Autorizado (art 173, c174, 175 decreto 1843/91). | D17: Se anexa | E17: CUMPLE
C18: DILIGENCIAMIENTO DE LA CARTA DE PRESENTACIÒN DE LA PROPUESTA | D18: Se anexa | E18: CUMPLE
C19: DILIGENCIAMIENTO ANEXO FICHA TECNICO | D19: No se adjunta documento | E19: NO CUMPLE
C20: RESULTADO EVALUACIÓN | D20: NO CUMPLE | E20: Revisar observaciones
T22: CÓDIGOS DE CLASIFICACIÓN UNSPSC | Z22: EXPERIENCIA
B23: No. | C23: Entidad Contratante | D23: Contratista o Integrante que aporta experiencia | E23: No contrato | F23: Certificación / Acta de Liquidación | G23: Objeto | H23: Indivicual / Consorcio / UT | I23: % de Participacion | J23: Documento de asociación | K23: # Consecutivo RUP | L23: SMMLV RUP | M23: Fecha de Inicio | N23: Fecha de Terminacion | O23: Año de Terminación | P23: Total SMMLV * % Participación (RUP) | Q23: Valor Total Ejecutado del Contrato ($) | R23: SMMLV AÑO DE TERMINACIÓN | S23: Valor Total Ejecutado del Contrato expresado en SMMLV | T23: 70111700 | U23: 70141600 | V23: 72102100 | W23: 72154000 | X23: 76101500 | Y23: 78141600 | Z23: Desinfección | AA23: Fumigación | AB23: Termonebulización | AC23: FORMATO EXPERIENCIA HABILITANTE DEL PROPONENTE | AD23: RESULTADO CUMPLE / NO CUMPLE | AE23: OBSERVACIONES
B24: 1 | C24: INSTITUTO DISTRITAL PARA LA PROTECCIÓN DE LA NIÑEZ Y LA JUVENTUD IDIPRON | D24: CONTROL REGIONAL DE HIGIENE MANTENIMIENTO SAS | E24: 2028-2023 | F24: Certificacion y acta de liquidacion | G24: PRESTAR EL SERVICIO DE FUMIGACION CONTROL DE PLAGAS Y LAVADO DE TANQUES DEALMACENAMIENTO DE AGUA PARA CONSUMO HUMANO DEL IDIPRON O DE AQUELLAS QUE ESTAN BAJO SU RESPONSABILIDAD. | H24: I | I24: 1 | J24: NA | K24: 78 | L24: 117.73 | M24: 45201 | N24: 45442 | O24: =YEAR(Tabla25683579[[#This Row],[Fecha de Terminacion]]) -> 2024 | P24: =+Tabla25683579[[#This Row],[SMMLV RUP]]*Tabla25683579[[#This Row],[% de Participacion]] -> 117.73 | Q24: =(102049981+51024990)-16806 -> 153058165 | R24: =VLOOKUP(Tabla25683579[[#This Row],[Año de Terminación]],Tabla36[[Año]:[Salario mínimo mensual]],3,0) -> 1300000 | S24: =+Tabla25683579[[#This Row],[Valor Total Ejecutado del Contrato ($)]]/Tabla25683579[[#This Row],[SMMLV AÑO DE TERMINACIÓN]]*Tabla25683579[[#This Row],[% de Participacion]] -> 117.73705 | T24: NA | U24: CUMPLE | V24: CUMPLE | W24: CUMPLE | X24: CUMPLE | Y24: CUMPLE | Z24: NO CUMPLE | AA24: CUMPLE | AB24: NO CUMPLE | AC24: CUMPLE | AD24: NO CUMPLE | AE24: El proponente no cumple con lo establecido en el pliego de condiciones, apartado 3.3.4 EXPERIENCIA DEL PROPONENTE, en donde se menciona: "Que el objeto y/o alcance y/o las actividades ejecutadas dentro de los contratos certificados en sumatoria estén relacionados con las siguientes actividades: •Desinfección •Fumigación •Termo nebulización de archivos Cada contrato aportado deberá acreditar como mínimo alguna de las actividades relacionadas anteriormente." Dentro de la documentación aportado no se observa que se haya realizado la actividad de termonebulización de archivos ni desinfección, adicionalmente se exige como documento principal la certificación como se evidencia a continuación "Así mismo, en el evento que las certificaciones no contengan la información que permita su evaluación, el proponente deberá adjuntar de manera complementaria copia del contrato o de los documentos soporte expedidos por los contratantes que sean del caso, que permita verificar la información faltante." Adicionalmente, el objeto de contrato contiene actividades diferentes a las solicitadas dentro del presente proceso de contratación, por lo cual se da apliación a lo establecido en la NOTA 1: "En caso de presentar certificaciones de experiencia en donde se ejecutaron actividades distintas a las solicitadas, se tendrá en cuenta únicamente el valor de las actividades requeridas para acreditar laexperiencia indicada en la(s) viñeta(s) I, II y III para lo cual el proponente deberá anexar documento expedidopor la entidad contratante donde se evidencie los valores de las actividades desarrolladas, con el fin de establecer el valor de las actividades a acreditar." Motivo por el cual, el proponente no cumple y debera subsanar durante el termino de traslado del informe de evaluación
B25: 2 | C25: BANCO AGRARIO DE COLOMBIA | D25: CONTROL REGIONAL DE HIGIENE MANTENIMIENTO SAS | G25: Servicio de fumigación, desyerbe, podas, limpieza de solares, lavado de fachadas para las oficinas adscritas a las Zonales Arauca y Territorios de la Regional Bogotá. | H25: I | I25: 1 | J25: NA | O25: =YEAR(Tabla25683579[[#This Row],[Fecha de Terminacion]]) -> 1900 | P25: =+Tabla25683579[[#This Row],[SMMLV RUP]]*Tabla25683579[[#This Row],[% de Participacion]] -> 0 | R25: =VLOOKUP(Tabla25683579[[#This Row],[Año de Terminación]],Tabla36[[Año]:[Salario mínimo mensual]],3,0) -> #N/A | S25: =+Tabla25683579[[#This Row],[Valor Total Ejecutado del Contrato ($)]]/Tabla25683579[[#This Row],[SMMLV AÑO DE TERMINACIÓN]]*Tabla25683579[[#This Row],[% de Participacion]] -> #N/A | Z25: NO CUMPLE | AA25: CUMPLE | AB25: NO CUMPLE | AC25: CUMPLE | AD25: NO CUMPLE | AE25: Dentro de la documentación aprotada se relacionan muchos contratos, por lo cual no es posible identificar en cuales pretende acreditar la experiencia el proponente, ya que tampoco se relaciona el numero del contrato en cuestión. El formato establecido por el Ministerio de Transporte cuenta con el campo de numero de contrato, sin embargo el proponente no lo relaciona. Motivo por el cual, el proponente no cumple y debera subsanar durante el termino de traslado del informe de evaluación
B26: 3 | C26: BANCO AGRARIO DE COLOMBIA | D26: CONTROL REGIONAL DE HIGIENE MANTENIMIENTO SAS | G26: Prestar el servicio de fumigación, control de roedores y plagas, poda, desyerbe, lavado de tanques y lavado de fachada para las oficinas adscritas a la Zonal Territorios Nacionales de la Regional Bogotá del Banco Agrario de Colombia S.A. | H26: I | I26: 1 | J26: NA | O26: =YEAR(Tabla25683579[[#This Row],[Fecha de Terminacion]]) -> 1900 | P26: =+Tabla25683579[[#This Row],[SMMLV RUP]]*Tabla25683579[[#This Row],[% de Participacion]] -> 0 | R26: =VLOOKUP(Tabla25683579[[#This Row],[Año de Terminación]],Tabla36[[Año]:[Salario mínimo mensual]],3,0) -> #N/A | S26: =+Tabla25683579[[#This Row],[Valor Total Ejecutado del Contrato ($)]]/Tabla25683579[[#This Row],[SMMLV AÑO DE TERMINACIÓN]]*Tabla25683579[[#This Row],[% de Participacion]] -> #N/A | Z26: NO CUMPLE | AA26: CUMPLE | AB26: NO CUMPLE | AC26: CUMPLE | AD26: NO CUMPLE | AE26: Dentro de la documentación aprotada se relacionan muchos contratos, por lo cual no es posible identificar en cuales pretende acreditar la experiencia el proponente, ya que tampoco se relaciona el numero del contrato en cuestión. El formato establecido por el Ministerio de Transporte cuenta con el campo de numero de contrato, sin embargo el proponente no lo relaciona. Motivo por el cual, el proponente no cumple y debera subsanar durante el termino de traslado del informe de evaluación

Sheet D&G INTEGRAL SERVICES SAS
C4: EVALUACIÓN TÉCNICA
C5: SAMC-003-2026
C6: OBJETO: SEG0844 “PRESTACIÓN DE SERVICIOS DE DESINFECCIÓN, FUMIGACIÓN Y TERMO NEBULIZACIÓN DE ARCHIVOS EN LAS SEDES DE BOGOTÁ, DIRECCIONES TERRITORIALES E INSPECCIONES FLUVIALES DEL MINISTERIO DE TRANSPORTE”.
C9: Presupuesto oficial estimado (POE) | D9: 214624890
C10: AÑO ACTUAL | D10: 2026
C11: Presupuesto oficial estimado (SMMLV) | D11: =D9/(VLOOKUP($D$10,SMMLV!A8:C52,3,FALSE)) -> 122.5794
C12: 100% del POE (EXPERIENCIA ACREDITADA) | D12: =+S24+S25+S26 -> 118.483 | E12: =IF(D12>=D11,"CUMPLE","NO CUMPLE") -> NO CUMPLE
C13: Nombre del Proponente | D13: D&G INTEGRAL SERVICES SAS
C14: No. Contratos Aportados | D14: =+COUNT(B24,B25,B26) -> 3
C15: CRITERIOS DE SOSTENIBILIDAD AMBIENTAL El proponente deberá anexar declaración juramentada en la que se compromete con lo siguiente: a. Contar con plan de Gestión integral para los residuos peligrosos generados en su actividad, incluido el mantenimiento, según lo establecido en el Decreto 1076 de 2015, o la normativa que lo sustituya. b. El manejo y la disposición final que le dará a los residuos peligrosos generados durante la prestación del servicio, dando cumplimiento a lo establecido en el Decreto 1076 Título 6 Capítulo 1 Sección 3 artículo 2.2.6.1.3.1 o la normativa que lo sustituya, así como la entrega del(los) certificado(s) de disposición final o de aprovechamiento de los Residuos peligrosos - RESPEL generados durante el servicio. c. Acogerse a las buenas prácticas ambientales establecidas en el Ministerio de Transporte. | D15: No se adjunta documento | E15: NO CUMPLE
C16: Concepto Sanitario Vigente expedido por la autoridad sanitaria ambiental. | D16: Se anexa | E16: CUMPLE
C17: Certificación en Uso, Aplicación y manejo Seguro de Plaguicidas a los trabajadores de la empresa proponente, expedida por el Sena, Entidad Educativa o Instructor Autorizado (art 173, c174, 175 decreto 1843/91). | D17: Se anexa | E17: CUMPLE
C18: DILIGENCIAMIENTO DE LA CARTA DE PRESENTACIÒN DE LA PROPUESTA | D18: Se anexa | E18: CUMPLE
C19: DILIGENCIAMIENTO ANEXO FICHA TECNICO | D19: No se adjunta documento | E19: NO CUMPLE
C20: RESULTADO EVALUACIÓN | D20: NO CUMPLE | E20: Revisar observaciones
T22: CÓDIGOS DE CLASIFICACIÓN UNSPSC | Z22: EXPERIENCIA
B23: No. | C23: Entidad Contratante | D23: Contratista o Integrante que aporta experiencia | E23: No contrato | F23: Certificación / Acta de Liquidación | G23: Objeto | H23: Indivicual / Consorcio / UT | I23: % de Participacion | J23: Documento de asociación | K23: # Consecutivo RUP | L23: SMMLV RUP | M23: Fecha de Inicio | N23: Fecha de Terminacion | O23: Año de Terminación | P23: Total SMMLV * % Participación (RUP) | Q23: Valor Total Ejecutado del Contrato ($) | R23: SMMLV AÑO DE TERMINACIÓN | S23: Valor Total Ejecutado del Contrato expresado en SMMLV | T23: 70111700 | U23: 70141600 | V23: 72102100 | W23: 72154000 | X23: 76101500 | Y23: 78141600 | Z23: Desinfección | AA23: Fumigación | AB23: Termonebulización | AC23: FORMATO EXPERIENCIA HABILITANTE DEL PROPONENTE | AD23: RESULTADO CUMPLE / NO CUMPLE | AE23: OBSERVACIONES
B24: 1 | C24: UNIDAD ADMINISTRATIVA AERONAUTICA CIVIL REGIONAL META | D24: D&G INTEGRAL SERVICES SAS | E24: 21000502 H3 DE 2021 | F24: Certificacion y acta de liquidacion | G24: RMTC0985 Realizar las actividades de desinfección necesarias para mitigar y controlar el riesgo sanitario en los aeropuertos de la Regional Meta | H24: 1 | I24: 1 | J24: NA | K24: 16 | L24: 65.46 | M24: 44270 | N24: 44530 | O24: =YEAR(Tabla2568357910[[#This Row],[Fecha de Terminacion]]) -> 2021 | P24: =+Tabla2568357910[[#This Row],[SMMLV RUP]]*Tabla2568357910[[#This Row],[% de Participacion]] -> 65.46 | Q24: 59476200 | R24: =VLOOKUP(Tabla2568357910[[#This Row],[Año de Terminación]],Tabla36[[Año]:[Salario mínimo mensual]],3,0) -> 908526 | S24: =+Tabla2568357910[[#This Row],[Valor Total Ejecutado del Contrato ($)]]/Tabla2568357910[[#This Row],[SMMLV AÑO DE TERMINACIÓN]]*Tabla2568357910[[#This Row],[% de Participacion]] -> 65.4645 | T24: CUMPLE | U24: CUMPLE | V24: CUMPLE | W24: CUMPLE | X24: CUMPLE | Y24: CUMPLE | Z24: CUMPLE | AA24: NO ACREDITA | AB24: NO CUMPLE | AC24: CUMPLE | AD24: NO CUMPLE | AE24: El proponente no cumple con lo establecido en el pliego de condiciones, apartado 3.3.4 EXPERIENCIA DEL PROPONENTE, en donde se menciona: "Que el objeto y/o alcance y/o las actividades ejecutadas dentro de los contratos certificados en sumatoria estén relacionados con las siguientes actividades: •Desinfección •Fumigación •Termo nebulización de archivos Cada contrato aportado deberá acreditar como mínimo alguna de las actividades relacionadas anteriormente." Dentro de la documentación aportado no se observa que se haya realizado la actividad de termonebulización de archivos. Motivo por el cual, el proponente no cumple y debera subsanar durante el termino de traslado del informe de evaluación
B25: 2 | C25: CAJA DE COMPENSACION FAMILIAR DEL HUILA | D25: D&G INTEGRAL SERVICES SAS | E25: 23000022-OM-00001 DE 2023 | F25: Certificacion | G25: PRESTACION DEL SERVICIO INTEGRAL DE FUMIGACION, CONTROL DE PLAGAS Y ROEDORES EN LAS DIFERENTES SEDES DE COMFAMILIAR HUILA | H25: 1 | I25: 1 | J25: NA | K25: 36 | L25: 84.73 | M25: 45048 | N25: 45413 | O25: =YEAR(Tabla2568357910[[#This Row],[Fecha de Terminacion]]) -> 2024 | P25: =+Tabla2568357910[[#This Row],[SMMLV RUP]]*Tabla2568357910[[#This Row],[% de Participacion]] -> 84.73 | R25: =VLOOKUP(Tabla2568357910[[#This Row],[Año de Terminación]],Tabla36[[Año]:[Salario mínimo mensual]],3,0) -> 1300000 | S25: =+Tabla2568357910[[#This Row],[Valor Total Ejecutado del Contrato ($)]]/Tabla2568357910[[#This Row],[SMMLV AÑO DE TERMINACIÓN]]*Tabla2568357910[[#This Row],[% de Participacion]] -> 0 | T25: CUMPLE | U25: CUMPLE | V25: CUMPLE | W25: CUMPLE | X25: CUMPLE | Y25: CUMPLE | Z25: NO ACREDITA | AA25: CUMPLE | AB25: NO CUMPLE | AC25: CUMPLE | AD25: NO CUMPLE | AE25: El proponente no cumple con lo establecido en el pliego de condiciones, apartado 3.3.4 EXPERIENCIA DEL PROPONENTE, en donde se menciona: "Que el objeto y/o alcance y/o las actividades ejecutadas dentro de los contratos certificados en sumatoria estén relacionados con las siguientes actividades: •Desinfección •Fumigación •Termo nebulización de archivos Cada contrato aportado deberá acreditar como mínimo alguna de las actividades relacionadas anteriormente." Dentro de la documentación aportado no se observa que se haya realizado la actividad de termonebulización de archivos. La certificación aportada por el proponente incluye el valor total del contrato, más no en valor ejectuado, tal como se solicita en el pliego de condiciones definitivo, en el apartado 3.3.4. EXPERIENCIA DEL PROPONENTE. Motivo por el cual, el proponente no cumple y debera subsanar durante el termino de traslado del informe de evaluación
B26: 3 | C26: INSTITUTO DE HIDROLOGIA, METEOROLOGIA Y ESTUDIOS AMBIENTALES - IDEAM | D26: D&G INTEGRAL SERVICES SAS | E26: 335 DE 2025 | F26: Certificacion | G26: (SG-248) PRESTAR EL SERVICIO DE DESINFECCIÓN, FUMIGACIÓN Y CONTROL DE PLAGAS | H26: 1 | I26: 1 | J26: NA | K26: 43 | L26: 53.01 | M26: 45782 | N26: 46006 | O26: =YEAR(Tabla2568357910[[#This Row],[Fecha de Terminacion]]) -> 2025 | P26: =+Tabla2568357910[[#This Row],[SMMLV RUP]]*Tabla2568357910[[#This Row],[% de Participacion]] -> 53.01 | Q26: 75471842 | R26: =VLOOKUP(Tabla2568357910[[#This Row],[Año de Terminación]],Tabla36[[Año]:[Salario mínimo mensual]],3,0) -> 1423500 | S26: =+Tabla2568357910[[#This Row],[Valor Total Ejecutado del Contrato ($)]]/Tabla2568357910[[#This Row],[SMMLV AÑO DE TERMINACIÓN]]*Tabla2568357910[[#This Row],[% de Participacion]] -> 53.018505 | T26: CUMPLE | U26: CUMPLE | V26: CUMPLE | W26: CUMPLE | X26: CUMPLE | Y26: CUMPLE | Z26: CUMPLE | AA26: CUMPLE | AB26: NO CUMPLE | AC26: CUMPLE | AD26: NO CUMPLE | AE26: El proponente no cumple con lo establecido en el pliego de condiciones, apartado 3.3.4 EXPERIENCIA DEL PROPONENTE, en donde se menciona: "Que el objeto y/o alcance y/o las actividades ejecutadas dentro de los contratos certificados en sumatoria estén relacionados con las siguientes actividades: •Desinfección •Fumigación •Termo nebulización de archivos Cada contrato aportado deberá acreditar como mínimo alguna de las actividades relacionadas anteriormente." Dentro de la documentación aportado no se observa que se haya realizado la actividad de termonebulización de archivos. La certificación aportada por el proponente incluye el valor total del contrato, más no en valor ejectuado, tal como se solicita en el pliego de condiciones definitivo, en el apartado 3.3.4. EXPERIENCIA DEL PROPONENTE. Motivo por el cual, el proponente no cumple y debera subsanar durante el termino de traslado del informe de evaluación

Sheet GLOBAL SANEAMIENTO AMBIENTAL SA
C4: EVALUACIÓN TÉCNICA
C5: SAMC-003-2026
C6: OBJETO: SEG0844 “PRESTACIÓN DE SERVICIOS DE DESINFECCIÓN, FUMIGACIÓN Y TERMO NEBULIZACIÓN DE ARCHIVOS EN LAS SEDES DE BOGOTÁ, DIRECCIONES TERRITORIALES E INSPECCIONES FLUVIALES DEL MINISTERIO DE TRANSPORTE”.
C9: Presupuesto oficial estimado (POE) | D9: 214624890
C10: AÑO ACTUAL | D10: 2026
C11: Presupuesto oficial estimado (SMMLV) | D11: =D9/(VLOOKUP($D$10,SMMLV!A8:C52,3,FALSE)) -> 122.5794
C12: 100% del POE (EXPERIENCIA ACREDITADA) | D12: =+S24 -> #VALUE! | E12: =IF(D12>=D11,"CUMPLE","NO CUMPLE") -> #VALUE!
C13: Nombre del Proponente | D13: GLOBARL SANEAMIENTO AMBIENTAL SAS
C14: No. Contratos Aportados | D14: =+COUNT(B24,B25,B26) -> 2
C15: CRITERIOS DE SOSTENIBILIDAD AMBIENTAL El proponente deberá anexar declaración juramentada en la que se compromete con lo siguiente: a. Contar con plan de Gestión integral para los residuos peligrosos generados en su actividad, incluido el mantenimiento, según lo establecido en el Decreto 1076 de 2015, o la normativa que lo sustituya. b. El manejo y la disposición final que le dará a los residuos peligrosos generados durante la prestación del servicio, dando cumplimiento a lo establecido en el Decreto 1076 Título 6 Capítulo 1 Sección 3 artículo 2.2.6.1.3.1 o la normativa que lo sustituya, así como la entrega del(los) certificado(s) de disposición final o de aprovechamiento de los Residuos peligrosos - RESPEL generados durante el servicio. c. Acogerse a las buenas prácticas ambientales establecidas en el Ministerio de Transporte. | D15: No se adjunta documento | E15: NO CUMPLE
C16: Concepto Sanitario Vigente expedido por la autoridad sanitaria ambiental. | D16: No se adjunta documento | E16: NO CUMPLE
C17: Certificación en Uso, Aplicación y manejo Seguro de Plaguicidas a los trabajadores de la empresa proponente, expedida por el Sena, Entidad Educativa o Instructor Autorizado (art 173, c174, 175 decreto 1843/91). | D17: No se adjunta documento | E17: NO CUMPLE
C18: DILIGENCIAMIENTO DE LA CARTA DE PRESENTACIÒN DE LA PROPUESTA | D18: Se anexa | E18: CUMPLE
C19: DILIGENCIAMIENTO ANEXO FICHA TECNICO | D19: No se adjunta documento | E19: NO CUMPLE
C20: RESULTADO EVALUACIÓN | D20: NO CUMPLE | E20: Revisar observaciones
T22: CÓDIGOS DE CLASIFICACIÓN UNSPSC | Z22: EXPERIENCIA
B23: No. | C23: Entidad Contratante | D23: Contratista o Integrante que aporta experiencia | E23: No contrato | F23: Certificación / Acta de Liquidación | G23: Objeto | H23: Indivicual / Consorcio / UT | I23: % de Participacion | J23: Documento de asociación | K23: # Consecutivo RUP | L23: SMMLV RUP | M23: Fecha de Inicio | N23: Fecha de Terminacion | O23: Año de Terminación | P23: Total SMMLV * % Participación (RUP) | Q23: Valor Total Ejecutado del Contrato ($) | R23: SMMLV AÑO DE TERMINACIÓN | S23: Valor Total Ejecutado del Contrato expresado en SMMLV | T23: 70111700 | U23: 70141600 | V23: 72102100 | W23: 72154000 | X23: 76101500 | Y23: 78141600 | Z23: Desinfección | AA23: Fumigación | AB23: Termonebulización | AC23: FORMATO EXPERIENCIA HABILITANTE DEL PROPONENTE | AD23: RESULTADO CUMPLE / NO CUMPLE | AE23: OBSERVACIONES
B24: 1 | C24: Unidad Administrativa Especial de Gestión de Restitución de Tierras Despojadas (UAEGRTD) | D24: GLOBAL SANEAMIENTO AMBIENTAL SAS | E24: 77 | F24: NO CUMPLE | G24: Servicios de desinfección, fumigación y control de plagas (según certificación aportada) | H24: I | I24: 1 | J24: NA | K24: 77 | M24: NO CUMPLE | N24: NO CUMPLE | O24: =YEAR(Tabla256835[[#This Row],[Fecha de Terminacion]]) -> #VALUE! | P24: =+Tabla256835[[#This Row],[SMMLV RUP]]*Tabla256835[[#This Row],[% de Participacion]] -> 0 | Q24: NO CUMPLE | R24: =VLOOKUP(Tabla256835[[#This Row],[Año de Terminación]],Tabla36[[Año]:[Salario mínimo mensual]],3,0) -> #VALUE! | S24: =+Tabla256835[[#This Row],[Valor Total Ejecutado del Contrato ($)]]/Tabla256835[[#This Row],[SMMLV AÑO DE TERMINACIÓN]]*Tabla256835[[#This Row],[% de Participacion]] -> #VALUE! | Z24: CUMPLE | AA24: CUMPLE | AB24: NO CUMPLE | AC24: CUMPLE | AD24: NO CUMPLE | AE24: El proponente adjunta formato de experiencia habilitante del proponente, sin embargo los objetos relacionacods en los contratos consignados no concuerdan con las certificaciones aportadas, por lo cual no son revisadas. De igual amnera,el proponente no cumple con lo establecido en el pliego de condiciones, apartado 3.3.4 EXPERIENCIA DEL PROPONENTE, en donde se menciona: "Que el objeto y/o alcance y/o las actividades ejecutadas dentro de los contratos certificados en sumatoria estén relacionados con las siguientes actividades: •Desinfección •Fumigación •Termo nebulización de archivos Cada contrato aportado deberá acreditar como mínimo alguna de las actividades relacionadas anteriormente." Dentro de la documentación aportado no se observa que se haya realizado la actividad de termonebulización de archivos. Motivo por el cual, el proponente no cumple y debera subsanar durante el termino de traslado del informe de evaluación
B25: 2 | C25: Unidad Administrativa Especial de Gestión de Restitución de Tierras Despojadas (UAEGRTD) | D25: GLOBAL SANEAMIENTO AMBIENTAL SAS | E25: 91 | F25: NO CUMPLE | G25: Servicios de desinfección, fumigación y control de plagas (según certificación aportada) | H25: I | I25: 1 | J25: NA | K25: 91 | M25: NO CUMPLE | N25: NO CUMPLE | O25: =YEAR(Tabla256835[[#This Row],[Fecha de Terminacion]]) -> #VALUE! | P25: =+Tabla256835[[#This Row],[SMMLV RUP]]*Tabla256835[[#This Row],[% de Participacion]] -> 0 | Q25: NO CUMPLE | R25: =VLOOKUP(Tabla256835[[#This Row],[Año de Terminación]],Tabla36[[Año]:[Salario mínimo mensual]],3,0) -> #VALUE! | S25: =+Tabla256835[[#This Row],[Valor Total Ejecutado del Contrato ($)]]/Tabla256835[[#This Row],[SMMLV AÑO DE TERMINACIÓN]]*Tabla256835[[#This Row],[% de Participacion]] -> #VALUE! | Z25: CUMPLE | AA25: CUMPLE | AB25: NO CUMPLE | AC25: CUMPLE | AD25: NO CUMPLE | AE25: El proponente adjunta formato de experiencia habilitante del proponente, sin embargo los objetos relacionacods en los contratos consignados no concuerdan con las certificaciones aportadas, por lo cual no son revisadas. De igual amnera,el proponente no cumple con lo establecido en el pliego de condiciones, apartado 3.3.4 EXPERIENCIA DEL PROPONENTE, en donde se menciona: "Que el objeto y/o alcance y/o las actividades ejecutadas dentro de los contratos certificados en sumatoria estén relacionados con las siguientes actividades: •Desinfección •Fumigación •Termo nebulización de archivos Cada contrato aportado deberá acreditar como mínimo alguna de las actividades relacionadas anteriormente." Dentro de la documentación aportado no se observa que se haya realizado la actividad de termonebulización de archivos. Motivo por el cual, el proponente no cumple y debera subsanar durante el termino de traslado del informe de evaluación
O26: =YEAR(Tabla256835[[#This Row],[Fecha de Terminacion]]) -> 1900 | P26: =+Tabla256835[[#This Row],[SMMLV RUP]]*Tabla256835[[#This Row],[% de Participacion]] -> 0 | R26: =VLOOKUP(Tabla256835[[#This Row],[Año de Terminación]],Tabla36[[Año]:[Salario mínimo mensual]],3,0) -> #N/A | S26: =+Tabla256835[[#This Row],[Valor Total Ejecutado del Contrato ($)]]/Tabla256835[[#This Row],[SMMLV AÑO DE TERMINACIÓN]]*Tabla256835[[#This Row],[% de Participacion]] -> #N/A

Sheet AMBICOL SERVICES SAS
C4: EVALUACIÓN TÉCNICA
C5: SAMC-003-2026
C6: OBJETO: SEG0844 “PRESTACIÓN DE SERVICIOS DE DESINFECCIÓN, FUMIGACIÓN Y TERMO NEBULIZACIÓN DE ARCHIVOS EN LAS SEDES DE BOGOTÁ, DIRECCIONES TERRITORIALES E INSPECCIONES FLUVIALES DEL MINISTERIO DE TRANSPORTE”.
C9: Presupuesto oficial estimado (POE) | D9: 214624890
C10: AÑO ACTUAL | D10: 2026
C11: Presupuesto oficial estimado (SMMLV) | D11: =D9/(VLOOKUP($D$10,SMMLV!A8:C52,3,FALSE)) -> 122.5794
C12: 100% del POE (EXPERIENCIA ACREDITADA) | D12: =+S24+S25 -> 787.07426 | E12: =IF(D12>=D11,"CUMPLE","NO CUMPLE") -> CUMPLE
C13: Nombre del Proponente | D13: AMBICOL SERVICES SAS
C14: No. Contratos Aportados | D14: =+COUNT(B24,B25,B26) -> 2
C15: CRITERIOS DE SOSTENIBILIDAD AMBIENTAL El proponente deberá anexar declaración juramentada en la que se compromete con lo siguiente: a. Contar con plan de Gestión integral para los residuos peligrosos generados en su actividad, incluido el mantenimiento, según lo establecido en el Decreto 1076 de 2015, o la normativa que lo sustituya. b. El manejo y la disposición final que le dará a los residuos peligrosos generados durante la prestación del servicio, dando cumplimiento a lo establecido en el Decreto 1076 Título 6 Capítulo 1 Sección 3 artículo 2.2.6.1.3.1 o la normativa que lo sustituya, así como la entrega del(los) certificado(s) de disposición final o de aprovechamiento de los Residuos peligrosos - RESPEL generados durante el servicio. c. Acogerse a las buenas prácticas ambientales establecidas en el Ministerio de Transporte. | D15: Se anexa | E15: CUMPLE
C16: Concepto Sanitario Vigente expedido por la autoridad sanitaria ambiental. | D16: Se anexa | E16: CUMPLE
C17: Certificación en Uso, Aplicación y manejo Seguro de Plaguicidas a los trabajadores de la empresa proponente, expedida por el Sena, Entidad Educativa o Instructor Autorizado (art 173, c174, 175 decreto 1843/91). | D17: Se anexa | E17: CUMPLE
C18: DILIGENCIAMIENTO DE LA CARTA DE PRESENTACIÒN DE LA PROPUESTA | D18: Se anexa | E18: CUMPLE
C19: DILIGENCIAMIENTO ANEXO FICHA TECNICO | D19: Se anexa | E19: CUMPLE
C20: RESULTADO EVALUACIÓN | D20: NO CUMPLE | E20: Revisar observaciones
T22: CÓDIGOS DE CLASIFICACIÓN UNSPSC | Z22: EXPERIENCIA
B23: No. | C23: Entidad Contratante | D23: Contratista o Integrante que aporta experiencia | E23: No contrato | F23: Certificación / Acta de Liquidación | G23: Objeto | H23: Indivicual / Consorcio / UT | I23: % de Participacion | J23: Documento de asociación | K23: # Consecutivo RUP | L23: SMMLV RUP | M23: Fecha de Inicio | N23: Fecha de Terminacion | O23: Año de Terminación | P23: Total SMMLV * % Participación (RUP) | Q23: Valor Total Ejecutado del Contrato ($) | R23: SMMLV AÑO DE TERMINACIÓN | S23: Valor Total Ejecutado del Contrato expresado en SMMLV | T23: 70111700 | U23: 70141600 | V23: 72102100 | W23: 72154000 | X23: 76101500 | Y23: 78141600 | Z23: Desinfección | AA23: Fumigación | AB23: Termonebulización | AC23: FORMATO EXPERIENCIA HABILITANTE DEL PROPONENTE | AD23: RESULTADO CUMPLE / NO CUMPLE | AE23: OBSERVACIONES
B24: 1 | C24: AGENCIA NACIONAL DE TIERRAS | D24: AMBICOL SERVICES SAS | E24: ANT-20234310 | F24: Acta de liquidacion | G24: Contratar el servicio de saneamiento ambiental preventivo y desinsectación ambiental para los archivos de la Agencia Nacional de Tierras – ANT | H24: I | I24: 1 | J24: NA | K24: 156 | L24: 51.46 | M24: 45079 | N24: 45262 | O24: =YEAR(Tabla2568356[[#This Row],[Fecha de Terminacion]]) -> 2023 | P24: =+Tabla2568356[[#This Row],[SMMLV RUP]]*Tabla2568356[[#This Row],[% de Participacion]] -> 51.46 | Q24: 59700000 | R24: =VLOOKUP(Tabla2568356[[#This Row],[Año de Terminación]],Tabla36[[Año]:[Salario mínimo mensual]],3,0) -> 1160000 | S24: =+Tabla2568356[[#This Row],[Valor Total Ejecutado del Contrato ($)]]/Tabla2568356[[#This Row],[SMMLV AÑO DE TERMINACIÓN]]*Tabla2568356[[#This Row],[% de Participacion]] -> 51.465517 | T24: CUM´PLE | U24: CUM´PLE | V24: CUM´PLE | W24: CUM´PLE | X24: CUM´PLE | Y24: CUM´PLE | Z24: CUM´PLE | AA24: NO ACREDITA | AB24: NO CUMPLE | AC24: CUMPLE | AD24: NO CUMPLE | AE24: El proponente no cumple con lo establecido en el pliego de condiciones, apartado 3.3.4 EXPERIENCIA DEL PROPONENTE, en donde se menciona: "Que el objeto y/o alcance y/o las actividades ejecutadas dentro de los contratos certificados en sumatoria estén relacionados con las siguientes actividades: •Desinfección •Fumigación •Termo nebulización de archivos Cada contrato aportado deberá acreditar como mínimo alguna de las actividades relacionadas anteriormente." Dentro de la documentación aportado no se observa que se haya realizado la actividad de termonebulización de archivos, adicionalmente se exige como documento principal la certificación como se evidencia a continuación "Así mismo, en el evento que las certificaciones no contengan la información que permita su evaluación, el proponente deberá adjuntar de manera complementaria copia del contrato o de los documentos soporte expedidos por los contratantes que sean del caso, que permita verificar la información faltante." Motivo por el cual, el proponente no cumple y debera subsanar durante el termino de traslado del informe de evaluación
B25: 2 | C25: INSTITUTO DISTRITAL DE RECREACIÓN Y DEPORTE | D25: AMBICOL SERVICES SAS | E25: 2925 de 2019 | F25: Certificacion y Acta de liquidacion | G25: CONTRATAR EL SERVICIO DE FUMIGACION PARA INSECTOS CONTROL DE ROEDORES Y DESINFECCION DE AREAS EN LOS DIFERENTES PARQUES ADMINISTRADOS POR EL IDRD UBICADOS EN BOGOTA DC Y EN LA SEDE ADMINISTRATIVA DEL IDRD | H25: I | I25: 1 | J25: NA | K25: 64 | L25: 735.6 | M25: 43633 | N25: 43998 | O25: =YEAR(Tabla2568356[[#This Row],[Fecha de Terminacion]]) -> 2020 | P25: =+Tabla2568356[[#This Row],[SMMLV RUP]]*Tabla2568356[[#This Row],[% de Participacion]] -> 735.6 | Q25: 645719565 | R25: =VLOOKUP(Tabla2568356[[#This Row],[Año de Terminación]],Tabla36[[Año]:[Salario mínimo mensual]],3,0) -> 877803 | S25: =+Tabla2568356[[#This Row],[Valor Total Ejecutado del Contrato ($)]]/Tabla2568356[[#This Row],[SMMLV AÑO DE TERMINACIÓN]]*Tabla2568356[[#This Row],[% de Participacion]] -> 735.60875 | T25: CUM´PLE | U25: CUM´PLE | V25: CUM´PLE | W25: CUM´PLE | X25: CUM´PLE | Y25: NA | Z25: CUM´PLE | AA25: CUM´PLE | AB25: NO CUMPLE | AC25: CUMPLE | AD25: NO CUMPLE | AE25: El proponente no cumple con lo establecido en el pliego de condiciones, apartado 3.3.4 EXPERIENCIA DEL PROPONENTE, en donde se menciona: "Que el objeto y/o alcance y/o las actividades ejecutadas dentro de los contratos certificados en sumatoria estén relacionados con las siguientes actividades: •Desinfección •Fumigación •Termo nebulización de archivos Cada contrato aportado deberá acreditar como mínimo alguna de las actividades relacionadas anteriormente." Dentro de la documentación aportado no se observa que se haya realizado la actividad de termonebulización de archivos. Motivo por el cual, el proponente no cumple y debera subsanar durante el termino de traslado del informe de evaluación
O26: =YEAR(Tabla2568356[[#This Row],[Fecha de Terminacion]]) -> 1900 | P26: =+Tabla2568356[[#This Row],[SMMLV RUP]]*Tabla2568356[[#This Row],[% de Participacion]] -> 0 | R26: =VLOOKUP(Tabla2568356[[#This Row],[Año de Terminación]],Tabla36[[Año]:[Salario mínimo mensual]],3,0) -> #N/A | S26: =+Tabla2568356[[#This Row],[Valor Total Ejecutado del Contrato ($)]]/Tabla2568356[[#This Row],[SMMLV AÑO DE TERMINACIÓN]]*Tabla2568356[[#This Row],[% de Participacion]] -> #N/A

Sheet ECOFLORA
C4: EVALUACIÓN TÉCNICA
C5: SAMC-003-2026
C6: OBJETO: SEG0844 “PRESTACIÓN DE SERVICIOS DE DESINFECCIÓN, FUMIGACIÓN Y TERMO NEBULIZACIÓN DE ARCHIVOS EN LAS SEDES DE BOGOTÁ, DIRECCIONES TERRITORIALES E INSPECCIONES FLUVIALES DEL MINISTERIO DE TRANSPORTE”.
C9: Presupuesto oficial estimado (POE) | D9: 214624890
C10: AÑO ACTUAL | D10: 2026
C11: Presupuesto oficial estimado (SMMLV) | D11: =D9/(VLOOKUP($D$10,SMMLV!A8:C52,3,FALSE)) -> 122.5794
C12: 100% del POE (EXPERIENCIA ACREDITADA) | D12: =+S24+S25 -> 0 | E12: =IF(D12>=D11,"CUMPLE","NO CUMPLE") -> NO CUMPLE
C13: Nombre del Proponente | D13: ECOFLORA SAS
C14: No. Contratos Aportados | D14: =+COUNT(B24,B25,B26) -> 3
C15: CRITERIOS DE SOSTENIBILIDAD AMBIENTAL El proponente deberá anexar declaración juramentada en la que se compromete con lo siguiente: a. Contar con plan de Gestión integral para los residuos peligrosos generados en su actividad, incluido el mantenimiento, según lo establecido en el Decreto 1076 de 2015, o la normativa que lo sustituya. b. El manejo y la disposición final que le dará a los residuos peligrosos generados durante la prestación del servicio, dando cumplimiento a lo establecido en el Decreto 1076 Título 6 Capítulo 1 Sección 3 artículo 2.2.6.1.3.1 o la normativa que lo sustituya, así como la entrega del(los) certificado(s) de disposición final o de aprovechamiento de los Residuos peligrosos - RESPEL generados durante el servicio. c. Acogerse a las buenas prácticas ambientales establecidas en el Ministerio de Transporte. | D15: Se anexa | E15: CUMPLE
C16: Concepto Sanitario Vigente expedido por la autoridad sanitaria ambiental. | D16: Se anexa | E16: CUMPLE
C17: Certificación en Uso, Aplicación y manejo Seguro de Plaguicidas a los trabajadores de la empresa proponente, expedida por el Sena, Entidad Educativa o Instructor Autorizado (art 173, c174, 175 decreto 1843/91). | D17: Se anexa | E17: CUMPLE
C18: DILIGENCIAMIENTO DE LA CARTA DE PRESENTACIÒN DE LA PROPUESTA | D18: Se anexa | E18: CUMPLE
C19: DILIGENCIAMIENTO ANEXO FICHA TECNICO | D19: No se adjunta documento | E19: NO CUMPLE
C20: RESULTADO EVALUACIÓN | D20: NO CUMPLE | E20: Revisar observaciones
T22: CÓDIGOS DE CLASIFICACIÓN UNSPSC | Z22: EXPERIENCIA
B23: No. | C23: Entidad Contratante | D23: Contratista o Integrante que aporta experiencia | E23: No contrato | F23: Certificación / Acta de Liquidación | G23: Objeto | H23: Indivicual / Consorcio / UT | I23: % de Participacion | J23: Documento de asociación | K23: # Consecutivo RUP | L23: SMMLV RUP | M23: Fecha de Inicio | N23: Fecha de Terminacion | O23: Año de Terminación | P23: Total SMMLV * % Participación (RUP) | Q23: Valor Total Ejecutado del Contrato ($) | R23: SMMLV AÑO DE TERMINACIÓN | S23: Valor Total Ejecutado del Contrato expresado en SMMLV | T23: 70111700 | U23: 70141600 | V23: 72102100 | W23: 72154000 | X23: 76101500 | Y23: 78141600 | Z23: Desinfección | AA23: Fumigación | AB23: Termonebulización | AC23: FORMATO EXPERIENCIA HABILITANTE DEL PROPONENTE | AD23: RESULTADO CUMPLE / NO CUMPLE | AE23: OBSERVACIONES
B24: 1 | C24: INSTITUTO GEOGRAFICO AGUSTIN CODAZZI | D24: ECOFLORA S.A.S | E24: 15140 de 2014 | F24: Certificacion | G24: Prestación de servicios para planificar y ejecutar actividades requeridas para el saneamiento ambiental de sede central, Direcciones Territoriales y Unidades operativas de Catastro, oficinas pertenecientes al Instituto Geográfico Agustin Codazzi | H24: I | I24: 1 | J24: NA | K24: 74 | L24: 148.59 | M24: 41934 | N24: 42063 | O24: =YEAR(Tabla25683579101112[[#This Row],[Fecha de Terminacion]]) -> 2015 | P24: =+Tabla25683579101112[[#This Row],[SMMLV RUP]]*Tabla25683579101112[[#This Row],[% de Participacion]] -> 148.59 | R24: =VLOOKUP(Tabla25683579101112[[#This Row],[Año de Terminación]],Tabla36[[Año]:[Salario mínimo mensual]],3,0) -> 644350 | S24: =+Tabla25683579101112[[#This Row],[Valor Total Ejecutado del Contrato ($)]]/Tabla25683579101112[[#This Row],[SMMLV AÑO DE TERMINACIÓN]]*Tabla25683579101112[[#This Row],[% de Participacion]] -> 0 | T24: CUMPLE | U24: CUMPLE | V24: CUMPLE | W24: CUMPLE | X24: CUMPLE | Y24: NA | Z24: NO CUMPLE | AA24: NO ACREDITA | AB24: NO CUMPLE | AC24: CUMPLE | AD24: NO CUMPLE | AE24: El objeto del contrato relacionado, y las actividades y/o obligaciones especificadas en la certificacion adjunta, no evidencian la actividad de desinfección y termonebulizacion, tal como se exige en el pliego de condiciones, apartado 3.3.4 EXPERIENCIA DEL PROPONENTE, en donde se menciona: "Que el objeto y/o alcance y/o las actividades ejecutadas dentro de los contratos certificados en sumatoria estén relacionados con las siguientes actividades: •Desinfección •Fumigación •Termo nebulización de archivos Cada contrato aportado deberá acreditar como mínimo alguna de las actividades relacionadas anteriormente." Dentro de la documentación aportado no se observa que se haya realizado la actividad de termonebulización de archivos, adicionalmente se exige como documento principal la certificación como se evidencia a continuación "Así mismo, en el evento que las certificaciones no contengan la información que permita su evaluación, el proponente deberá adjuntar de manera complementaria copia del contrato o de los documentos soporte expedidos por los contratantes que sean del caso, que permita verificar la información faltante." La certificación aportada por el proponente incluye el valor total del contrato, más no en valor ejectuado, tal como se solicita en el pliego de condiciones definitivo, en el apartado 3.3.4. EXPERIENCIA DEL PROPONENTE. Motivo por el cual, el proponente no cumple y debera subsanar durante el termino de traslado del informe de evaluación
B25: 2 | C25: INSTITUTO GEOGRAFICO AGUSTIN CODAZZI | D25: ECOFLORA S.A.S | E25: 12835-2013 | F25: Certificacion | G25: Servicios para planificar y ejecutar actividades requeridas para el saneamiento ambiental de la sede central, y 19 Direcciones territoriales | H25: I | I25: 1 | J25: NA | K25: 20 | L25: 129.86 | M25: 41514 | N25: 41628 | O25: =YEAR(Tabla25683579101112[[#This Row],[Fecha de Terminacion]]) -> 2013 | P25: =+Tabla25683579101112[[#This Row],[SMMLV RUP]]*Tabla25683579101112[[#This Row],[% de Participacion]] -> 129.86 | R25: =VLOOKUP(Tabla25683579101112[[#This Row],[Año de Terminación]],Tabla36[[Año]:[Salario mínimo mensual]],3,0) -> 589500 | S25: =+Tabla25683579101112[[#This Row],[Valor Total Ejecutado del Contrato ($)]]/Tabla25683579101112[[#This Row],[SMMLV AÑO DE TERMINACIÓN]]*Tabla25683579101112[[#This Row],[% de Participacion]] -> 0 | T25: CUMPLE | U25: NA | V25: CUMPLE | W25: CUMPLE | X25: CUMPLE | Y25: NA | Z25: NO CUMPLE | AA25: NO ACREDITA | AB25: NO CUMPLE | AC25: CUMPLE | AD25: NO CUMPLE | AE25: El objeto del contrato relacionado, y las actividades y/o obligaciones especificadas en la certificacion adjunta, no evidencian la actividad de desinfección y termonebulizacion, tal como se exige en el pliego de condiciones, apartado 3.3.4 EXPERIENCIA DEL PROPONENTE, en donde se menciona: "Que el objeto y/o alcance y/o las actividades ejecutadas dentro de los contratos certificados en sumatoria estén relacionados con las siguientes actividades: •Desinfección •Fumigación •Termo nebulización de archivos Cada contrato aportado deberá acreditar como mínimo alguna de las actividades relacionadas anteriormente." Dentro de la documentación aportado no se observa que se haya realizado la actividad de termonebulización de archivos, adicionalmente se exige como documento principal la certificación como se evidencia a continuación "Así mismo, en el evento que las certificaciones no contengan la información que permita su evaluación, el proponente deberá adjuntar de manera complementaria copia del contrato o de los documentos soporte expedidos por los contratantes que sean del caso, que permita verificar la información faltante." La certificación aportada por el proponente incluye el valor total del contrato, más no en valor ejectuado, tal como se solicita en el pliego de condiciones definitivo, en el apartado 3.3.4. EXPERIENCIA DEL PROPONENTE. Motivo por el cual, el proponente no cumple y debera subsanar durante el termino de traslado del informe de evaluación
B26: 3 | C26: INSTITUTO COLOMBIANO AGROPECUARIO - ICA | D26: ECOFLORA S.A.S | E26: GGC-226 DE 2015 | F26: Certificacion | G26: Servicios de fumigación y manejo integrado de plagas en diferentes instalaciones del ICA ubicadas en Bogotá y el departamento de Cundinamarca | H26: I | I26: 1 | J26: NA | K26: 93 | L26: 123.51 | M26: 42314 | N26: 42490 | O26: =YEAR(Tabla25683579101112[[#This Row],[Fecha de Terminacion]]) -> 2016 | P26: =+Tabla25683579101112[[#This Row],[SMMLV RUP]]*Tabla25683579101112[[#This Row],[% de Participacion]] -> 123.51 | R26: =VLOOKUP(Tabla25683579101112[[#This Row],[Año de Terminación]],Tabla36[[Año]:[Salario mínimo mensual]],3,0) -> 689455 | S26: =+Tabla25683579101112[[#This Row],[Valor Total Ejecutado del Contrato ($)]]/Tabla25683579101112[[#This Row],[SMMLV AÑO DE TERMINACIÓN]]*Tabla25683579101112[[#This Row],[% de Participacion]] -> 0 | T26: CUMPLE | U26: CUMPLE | V26: CUMPLE | W26: CUMPLE | X26: CUMPLE | Y26: NA | Z26: NO CUMPLE | AA26: CUMPLE | AB26: NO CUMPLE | AC26: CUMPLE | AD26: NO CUMPLE | AE26: El objeto del contrato relacionado, y las actividades y/o obligaciones especificadas en la certificacion adjunta, no evidencian la actividad de desinfección y termonebulizacion, tal como se exige en el pliego de condiciones, apartado 3.3.4 EXPERIENCIA DEL PROPONENTE, en donde se menciona: "Que el objeto y/o alcance y/o las actividades ejecutadas dentro de los contratos certificados en sumatoria estén relacionados con las siguientes actividades: •Desinfección •Fumigación •Termo nebulización de archivos Cada contrato aportado deberá acreditar como mínimo alguna de las actividades relacionadas anteriormente." Dentro de la documentación aportado no se observa que se haya realizado la actividad de termonebulización de archivos, adicionalmente se exige como documento principal la certificación como se evidencia a continuación "Así mismo, en el evento que las certificaciones no contengan la información que permita su evaluación, el proponente deberá adjuntar de manera complementaria copia del contrato o de los documentos soporte expedidos por los contratantes que sean del caso, que permita verificar la información faltante." La certificación aportada por el proponente incluye el valor total del contrato, más no en valor ejectuado, tal como se solicita en el pliego de condiciones definitivo, en el apartado 3.3.4. EXPERIENCIA DEL PROPONENTE. Motivo por el cual, el proponente no cumple y debera subsanar durante el termino de traslado del informe de evaluación

Sheet FUMISERVICES SAS
C4: EVALUACIÓN TÉCNICA
C5: SAMC-003-2026
C6: OBJETO: SEG0844 “PRESTACIÓN DE SERVICIOS DE DESINFECCIÓN, FUMIGACIÓN Y TERMO NEBULIZACIÓN DE ARCHIVOS EN LAS SEDES DE BOGOTÁ, DIRECCIONES TERRITORIALES E INSPECCIONES FLUVIALES DEL MINISTERIO DE TRANSPORTE”.
C9: Presupuesto oficial estimado (POE) | D9: 214624890
C10: AÑO ACTUAL | D10: 2026
C11: Presupuesto oficial estimado (SMMLV) | D11: =D9/(VLOOKUP($D$10,SMMLV!A8:C52,3,FALSE)) -> 122.5794
C12: 100% del POE (EXPERIENCIA ACREDITADA) | D12: =+S24 -> #N/A | E12: =IF(D12>=D11,"CUMPLE","NO CUMPLE") -> #N/A
C13: Nombre del Proponente | D13: FUMISERVICES SAS
C14: No. Contratos Aportados | D14: =+COUNT(B24,B25,B26) -> 0
C15: CRITERIOS DE SOSTENIBILIDAD AMBIENTAL El proponente deberá anexar declaración juramentada en la que se compromete con lo siguiente: a. Contar con plan de Gestión integral para los residuos peligrosos generados en su actividad, incluido el mantenimiento, según lo establecido en el Decreto 1076 de 2015, o la normativa que lo sustituya. b. El manejo y la disposición final que le dará a los residuos peligrosos generados durante la prestación del servicio, dando cumplimiento a lo establecido en el Decreto 1076 Título 6 Capítulo 1 Sección 3 artículo 2.2.6.1.3.1 o la normativa que lo sustituya, así como la entrega del(los) certificado(s) de disposición final o de aprovechamiento de los Residuos peligrosos - RESPEL generados durante el servicio. c. Acogerse a las buenas prácticas ambientales establecidas en el Ministerio de Transporte. | D15: No se anexa documento | E15: NO CUMPLE
C16: Concepto Sanitario Vigente expedido por la autoridad sanitaria ambiental. | D16: Se anexa | E16: CUMPLE
C17: Certificación en Uso, Aplicación y manejo Seguro de Plaguicidas a los trabajadores de la empresa proponente, expedida por el Sena, Entidad Educativa o Instructor Autorizado (art 173, c174, 175 decreto 1843/91). | D17: Se anexa | E17: CUMPLE
C18: DILIGENCIAMIENTO DE LA CARTA DE PRESENTACIÒN DE LA PROPUESTA | D18: Se anexa | E18: CUMPLE
C19: DILIGENCIAMIENTO ANEXO FICHA TECNICO | D19: No se anexa documento | E19: NO CUMPLE
C20: RESULTADO EVALUACIÓN | D20: NO CUMPLE | E20: El proponente no aporta el formato de experiencia habilitante del proponente, lo cual no permite revisar los contratos relacionados ni la información de estos en el RUP. Motivo por el cual no cumple, y debera subsanar en el termino de traslado de la evaluación
T22: CÓDIGOS DE CLASIFICACIÓN UNSPSC | Z22: EXPERIENCIA
B23: No. | C23: Entidad Contratante | D23: Contratista o Integrante que aporta experiencia | E23: No contrato | F23: Certificación / Acta de Liquidación | G23: Objeto | H23: Indivicual / Consorcio / UT | I23: % de Participacion | J23: Documento de asociación | K23: # Consecutivo RUP | L23: SMMLV RUP | M23: Fecha de Inicio | N23: Fecha de Terminacion | O23: Año de Terminación | P23: Total SMMLV * % Participación (RUP) | Q23: Valor Total Ejecutado del Contrato ($) | R23: SMMLV AÑO DE TERMINACIÓN | S23: Valor Total Ejecutado del Contrato expresado en SMMLV | T23: 70111700 | U23: 70141600 | V23: 72102100 | W23: 72154000 | X23: 76101500 | Y23: 78141600 | Z23: Desinfección | AA23: Fumigación | AB23: Termonebulización | AC23: FORMATO EXPERIENCIA HABILITANTE DEL PROPONENTE | AD23: RESULTADO CUMPLE / NO CUMPLE | AE23: OBSERVACIONES
O24: =YEAR(Tabla2568[[#This Row],[Fecha de Terminacion]]) -> 1900 | P24: =+Tabla2568[[#This Row],[SMMLV RUP]]*Tabla2568[[#This Row],[% de Participacion]] -> 0 | R24: =VLOOKUP(Tabla2568[[#This Row],[Año de Terminación]],Tabla36[[Año]:[Salario mínimo mensual]],3,0) -> #N/A | S24: =+Tabla2568[[#This Row],[Valor Total Ejecutado del Contrato ($)]]/Tabla2568[[#This Row],[SMMLV AÑO DE TERMINACIÓN]]*Tabla2568[[#This Row],[% de Participacion]] -> #N/A
O25: =YEAR(Tabla2568[[#This Row],[Fecha de Terminacion]]) -> 1900 | P25: =+Tabla2568[[#This Row],[SMMLV RUP]]*Tabla2568[[#This Row],[% de Participacion]] -> 0 | R25: =VLOOKUP(Tabla2568[[#This Row],[Año de Terminación]],Tabla36[[Año]:[Salario mínimo mensual]],3,0) -> #N/A | S25: =+Tabla2568[[#This Row],[Valor Total Ejecutado del Contrato ($)]]/Tabla2568[[#This Row],[SMMLV AÑO DE TERMINACIÓN]]*Tabla2568[[#This Row],[% de Participacion]] -> #N/A
O26: =YEAR(Tabla2568[[#This Row],[Fecha de Terminacion]]) -> 1900 | P26: =+Tabla2568[[#This Row],[SMMLV RUP]]*Tabla2568[[#This Row],[% de Participacion]] -> 0 | R26: =VLOOKUP(Tabla2568[[#This Row],[Año de Terminación]],Tabla36[[Año]:[Salario mínimo mensual]],3,0) -> #N/A | S26: =+Tabla2568[[#This Row],[Valor Total Ejecutado del Contrato ($)]]/Tabla2568[[#This Row],[SMMLV AÑO DE TERMINACIÓN]]*Tabla2568[[#This Row],[% de Participacion]] -> #N/A

Sheet EOS CGD SAS
C4: EVALUACIÓN TÉCNICA
C5: SAMC-003-2026
C6: OBJETO: SEG0844 “PRESTACIÓN DE SERVICIOS DE DESINFECCIÓN, FUMIGACIÓN Y TERMO NEBULIZACIÓN DE ARCHIVOS EN LAS SEDES DE BOGOTÁ, DIRECCIONES TERRITORIALES E INSPECCIONES FLUVIALES DEL MINISTERIO DE TRANSPORTE”.
C9: Presupuesto oficial estimado (POE) | D9: 214624890
C10: AÑO ACTUAL | D10: 2026
C11: Presupuesto oficial estimado (SMMLV) | D11: =D9/(VLOOKUP($D$10,SMMLV!A8:C52,3,FALSE)) -> 122.5794
C12: 100% del POE (EXPERIENCIA ACREDITADA) | D12: =+S24+S25 -> 213.62083 | E12: =IF(D12>=D11,"CUMPLE","NO CUMPLE") -> CUMPLE
C13: Nombre del Proponente | D13: EOS CGD SAS
C14: No. Contratos Aportados | D14: =+COUNT(B24,B25,B26) -> 2
C15: CRITERIOS DE SOSTENIBILIDAD AMBIENTAL El proponente deberá anexar declaración juramentada en la que se compromete con lo siguiente: a. Contar con plan de Gestión integral para los residuos peligrosos generados en su actividad, incluido el mantenimiento, según lo establecido en el Decreto 1076 de 2015, o la normativa que lo sustituya. b. El manejo y la disposición final que le dará a los residuos peligrosos generados durante la prestación del servicio, dando cumplimiento a lo establecido en el Decreto 1076 Título 6 Capítulo 1 Sección 3 artículo 2.2.6.1.3.1 o la normativa que lo sustituya, así como la entrega del(los) certificado(s) de disposición final o de aprovechamiento de los Residuos peligrosos - RESPEL generados durante el servicio. c. Acogerse a las buenas prácticas ambientales establecidas en el Ministerio de Transporte. | D15: Se anexa | E15: CUMPLE
C16: Concepto Sanitario Vigente expedido por la autoridad sanitaria ambiental. | D16: Se anexa | E16: CUMPLE
C17: Certificación en Uso, Aplicación y manejo Seguro de Plaguicidas a los trabajadores de la empresa proponente, expedida por el Sena, Entidad Educativa o Instructor Autorizado (art 173, c174, 175 decreto 1843/91). | D17: Se anexa | E17: CUMPLE
C18: DILIGENCIAMIENTO DE LA CARTA DE PRESENTACIÒN DE LA PROPUESTA | D18: Se anexa | E18: CUMPLE
C19: DILIGENCIAMIENTO ANEXO FICHA TECNICO | D19: Se anexa | E19: CUMPLE
C20: RESULTADO EVALUACIÓN
T22: CÓDIGOS DE CLASIFICACIÓN UNSPSC | Z22: EXPERIENCIA
B23: No. | C23: Entidad Contratante | D23: Contratista o Integrante que aporta experiencia | E23: No contrato | F23: Certificación / Acta de Liquidación | G23: Objeto | H23: Indivicual / Consorcio / UT | I23: % de Participacion | J23: Documento de asociación | K23: # Consecutivo RUP | L23: SMMLV RUP | M23: Fecha de Inicio | N23: Fecha de Terminacion | O23: Año de Terminación | P23: Total SMMLV * % Participación (RUP) | Q23: Valor Total Ejecutado del Contrato ($) | R23: SMMLV AÑO DE TERMINACIÓN | S23: Valor Total Ejecutado del Contrato expresado en SMMLV | T23: 70111700 | U23: 70141600 | V23: 72102100 | W23: 72154000 | X23: 76101500 | Y23: 78141600 | Z23: Desinfección | AA23: Fumigación | AB23: Termonebulización | AC23: FORMATO EXPERIENCIA HABILITANTE DEL PROPONENTE | AD23: RESULTADO CUMPLE / NO CUMPLE | AE23: OBSERVACIONES
B24: 1 | C24: MINISTERIO DE TRANSPORTE | D24: EOS SAS | E24: 1063-2023 | F24: Certificacion | G24: Prestación de servicios de desinfección, fumigación y termo nebulización de archivos en las sedes de Bogotá, direcciones territoriales e inspecciones fluviales del Ministerio de Transporte. | H24: I | I24: 1 | J24: NA | K24: 52 | L24: 128.75 | M24: 45226 | N24: 45280 | O24: =YEAR(Tabla2568357[[#This Row],[Fecha de Terminacion]]) -> 2023 | P24: =+Tabla2568357[[#This Row],[SMMLV RUP]]*Tabla2568357[[#This Row],[% de Participacion]] -> 128.75 | Q24: 149351220 | R24: =VLOOKUP(Tabla2568357[[#This Row],[Año de Terminación]],Tabla36[[Año]:[Salario mínimo mensual]],3,0) -> 1160000 | S24: =+Tabla2568357[[#This Row],[Valor Total Ejecutado del Contrato ($)]]/Tabla2568357[[#This Row],[SMMLV AÑO DE TERMINACIÓN]]*Tabla2568357[[#This Row],[% de Participacion]] -> 128.75105 | T24: NA | U24: CUMPLE | V24: CUMPLE | W24: CUMPLE | X24: CUMPLE | Y24: NA | Z24: CUMPLE | AA24: CUMPLE | AB24: CUMPLE | AC24: CUMPLE | AD24: CUMPLE
B25: 2 | C25: MINISTERIO DE TRANSPORTE | D25: EOS SAS | E25: 835-2024 | F25: Certificacion | G25: Prestación de servicios de desinfección, fumigación y termo nebulización de archivos en las sedes de Bogotá, direcciones territoriales e inspecciones fluviales del Ministerio de Transporte. | H25: I | I25: 1 | J25: NA | K25: 55 | L25: 84.86 | M25: 45489 | N25: 45636 | O25: =YEAR(Tabla2568357[[#This Row],[Fecha de Terminacion]]) -> 2024 | P25: =+Tabla2568357[[#This Row],[SMMLV RUP]]*Tabla2568357[[#This Row],[% de Participacion]] -> 84.86 | Q25: 110330710 | R25: =VLOOKUP(Tabla2568357[[#This Row],[Año de Terminación]],Tabla36[[Año]:[Salario mínimo mensual]],3,0) -> 1300000 | S25: =+Tabla2568357[[#This Row],[Valor Total Ejecutado del Contrato ($)]]/Tabla2568357[[#This Row],[SMMLV AÑO DE TERMINACIÓN]]*Tabla2568357[[#This Row],[% de Participacion]] -> 84.869777 | T25: CUMPLE | U25: NA | V25: NA | W25: CUMPLE | X25: NA | Y25: CUMPLE | Z25: CUMPLE | AA25: CUMPLE | AB25: CUMPLE | AC25: CUMPLE | AD25: CUMPLE
O26: =YEAR(Tabla2568357[[#This Row],[Fecha de Terminacion]]) -> 1900 | P26: =+Tabla2568357[[#This Row],[SMMLV RUP]]*Tabla2568357[[#This Row],[% de Participacion]] -> 0 | R26: =VLOOKUP(Tabla2568357[[#This Row],[Año de Terminación]],Tabla36[[Año]:[Salario mínimo mensual]],3,0) -> #N/A | S26: =+Tabla2568357[[#This Row],[Valor Total Ejecutado del Contrato ($)]]/Tabla2568357[[#This Row],[SMMLV AÑO DE TERMINACIÓN]]*Tabla2568357[[#This Row],[% de Participacion]] -> #N/A

Sheet FUMISEX SAS
C4: EVALUACIÓN TÉCNICA
C5: SAMC-003-2026
C6: OBJETO: SEG0844 “PRESTACIÓN DE SERVICIOS DE DESINFECCIÓN, FUMIGACIÓN Y TERMO NEBULIZACIÓN DE ARCHIVOS EN LAS SEDES DE BOGOTÁ, DIRECCIONES TERRITORIALES E INSPECCIONES FLUVIALES DEL MINISTERIO DE TRANSPORTE”.
C9: Presupuesto oficial estimado (POE) | D9: 214624890
C10: AÑO ACTUAL | D10: 2026
C11: Presupuesto oficial estimado (SMMLV) | D11: =D9/(VLOOKUP($D$10,SMMLV!A8:C52,3,FALSE)) -> 122.5794
C12: 100% del POE (EXPERIENCIA ACREDITADA) | D12: =S24+S25+S26 -> 47.483473 | E12: =IF(D12>=D11,"CUMPLE","NO CUMPLE") -> NO CUMPLE
C13: Nombre del Proponente | D13: FUMISEX - FUMIGACIÓN SANIDAD AMBIENTAL Y EQUIPOS SAS
C14: No. Contratos Aportados | D14: =+COUNT(B24,B25,B26) -> 3
C15: CRITERIOS DE SOSTENIBILIDAD AMBIENTAL El proponente deberá anexar declaración juramentada en la que se compromete con lo siguiente: a. Contar con plan de Gestión integral para los residuos peligrosos generados en su actividad, incluido el mantenimiento, según lo establecido en el Decreto 1076 de 2015, o la normativa que lo sustituya. b. El manejo y la disposición final que le dará a los residuos peligrosos generados durante la prestación del servicio, dando cumplimiento a lo establecido en el Decreto 1076 Título 6 Capítulo 1 Sección 3 artículo 2.2.6.1.3.1 o la normativa que lo sustituya, así como la entrega del(los) certificado(s) de disposición final o de aprovechamiento de los Residuos peligrosos - RESPEL generados durante el servicio. c. Acogerse a las buenas prácticas ambientales establecidas en el Ministerio de Transporte. | D15: Se anexa | E15: CUMPLE
C16: Concepto Sanitario Vigente expedido por la autoridad sanitaria ambiental. | D16: Se anexa | E16: CUMPLE
C17: Certificación en Uso, Aplicación y manejo Seguro de Plaguicidas a los trabajadores de la empresa proponente, expedida por el Sena, Entidad Educativa o Instructor Autorizado (art 173, c174, 175 decreto 1843/91). | D17: Se anexa | E17: CUMPLE
C18: DILIGENCIAMIENTO DE LA CARTA DE PRESENTACIÒN DE LA PROPUESTA | D18: Se anexa | E18: CUMPLE
C19: DILIGENCIAMIENTO ANEXO FICHA TECNICO | D19: Se anexa | E19: CUMPLE
C20: RESULTADO EVALUACIÓN | D20: NO CUMPLE | E20: Revisar observaciones
T22: CÓDIGOS DE CLASIFICACIÓN UNSPSC | Z22: EXPERIENCIA
B23: No. | C23: Entidad Contratante | D23: Contratista o Integrante que aporta experiencia | E23: No contrato | F23: Certificación / Acta de Liquidación | G23: Objeto | H23: Indivicual / Consorcio / UT | I23: % de Participacion | J23: Documento de asociación | K23: # Consecutivo RUP | L23: SMMLV RUP | M23: Fecha de Inicio | N23: Fecha de Terminacion | O23: Año de Terminación | P23: Total SMMLV * % Participación (RUP) | Q23: Valor Total Ejecutado del Contrato ($) | R23: SMMLV AÑO DE TERMINACIÓN | S23: Valor Total Ejecutado del Contrato expresado en SMMLV | T23: 70111700 | U23: 70141600 | V23: 72102100 | W23: 72154000 | X23: 76101500 | Y23: 78141600 | Z23: Desinfección | AA23: Fumigación | AB23: Termonebulización | AC23: FORMATO EXPERIENCIA HABILITANTE DEL PROPONENTE | AD23: RESULTADO CUMPLE / NO CUMPLE | AE23: OBSERVACIONES
B24: 1 | C24: SECRETARIA DE EDUCACIÓN DEL DISTRITO | D24: FUMISEX SAS | E24: CO1.PCCNTR.5401687 | F24: Certificacion | G24: Prestar el servicio de poda y corte de cesped; manejo integral de control de plagas, y el de lavado especializado de tanques de almacenamiento de agua potable para las sedes administrativas de la SECRETARIA DE EDUCACIÃfiN DEL DISTRITO | H24: I | I24: 1 | J24: NA | K24: 143 | L24: 83.55 | M24: 45225 | N24: 45621 | O24: =YEAR(Tabla25683[[#This Row],[Fecha de Terminacion]]) -> 2024 | P24: =+Tabla25683[[#This Row],[SMMLV RUP]]*Tabla25683[[#This Row],[% de Participacion]] -> 83.55 | R24: =VLOOKUP(Tabla25683[[#This Row],[Año de Terminación]],Tabla36[[Año]:[Salario mínimo mensual]],3,0) -> 1300000 | S24: =+Tabla25683[[#This Row],[Valor Total Ejecutado del Contrato ($)]]/Tabla25683[[#This Row],[SMMLV AÑO DE TERMINACIÓN]]*Tabla25683[[#This Row],[% de Participacion]] -> 0 | T24: CUMPLE | U24: NA | V24: CUMPLE | W24: NA | X24: NA | Y24: NA | Z24: NO ACREDITA | AA24: CUMPLE | AB24: NO ACREDITA | AC24: CUMPLE | AD24: NO CUMPLE | AE24: El objeto de contrato contiene actividades diferentes a las solicitadas dentro del presente proceso de contratación, por lo cual se da apliación a lo establecido en la NOTA 1: "En caso de presentar certificaciones de experiencia en donde se ejecutaron actividades distintas a las solicitadas, se tendrá en cuenta únicamente el valor de las actividades requeridas para acreditar laexperiencia indicada en la(s) viñeta(s) I, II y III para lo cual el proponente deberá anexar documento expedidopor la entidad contratante donde se evidencie los valores de las actividades desarrolladas, con el fin de establecer el valor de las actividades a acreditar." Adicionalmente, se evidencia el valor total del contrato, más no el valor ejecutado, como lo exige el pliego de condiciones en el apartado 3.3.4.1. CONDICIONES GENERALES PARA LA PRESENTACIÓN DE CERTIFICACIONES DE EXPERIENCIA. Motivo por el cual, el proponente no cumple y debera subsanar durante el termino de traslado del informe de evaluación
B25: 2 | C25: INSTITUTO COLOMBIANO AGROPECUARIO | D25: FUMISEX SAS | E25: GGC-376-2021 | F25: Certificacion | G25: Fumigacion ambiental y de archivos, desinsectacion, desratizacion, control, y exclusion de especies voladoras y manejo integrado de plaga's-MIP en las sedes y laboratorios del lCA en Bogotá y Cundinamarca. | H25: I | I25: 1 | J25: NA | K25: 92 | L25: 45 | M25: 44525 | N25: 44556 | O25: =YEAR(Tabla25683[[#This Row],[Fecha de Terminacion]]) -> 2021 | P25: =+Tabla25683[[#This Row],[SMMLV RUP]]*Tabla25683[[#This Row],[% de Participacion]] -> 45 | Q25: 40883670 | R25: =VLOOKUP(Tabla25683[[#This Row],[Año de Terminación]],Tabla36[[Año]:[Salario mínimo mensual]],3,0) -> 908526 | S25: =+Tabla25683[[#This Row],[Valor Total Ejecutado del Contrato ($)]]/Tabla25683[[#This Row],[SMMLV AÑO DE TERMINACIÓN]]*Tabla25683[[#This Row],[% de Participacion]] -> 45 | T25: NA | U25: NA | V25: CUMPLE | W25: NA | X25: NA | Y25: NA | Z25: CUMPLE | AA25: CUMPLE | AB25: NO ACREDITA | AC25: CUMPLE | AD25: CUMPLE
B26: 3 | C26: MINISTERIO DE DEFENSA NACIONAL | D26: FUMISEX SAS | E26: 135-2020 | F26: Acta de terminacion | G26: PRESTACION DEL SERVICIO PARA LA DESINSECTACION, DESINFECCIOiN FANGICA Y BACTERIANA Y DESRATIZACION CON DESTINO A LA INSTALACION DEL ARCHIVO GENERAL DEL MINISTERIO DE DEFENSA NACIONAL | H26: I | I26: 1 | J26: NA | K26: 66 | L26: 2.48 | M26: 44152 | N26: 44186 | O26: =YEAR(Tabla25683[[#This Row],[Fecha de Terminacion]]) -> 2020 | P26: =+Tabla25683[[#This Row],[SMMLV RUP]]*Tabla25683[[#This Row],[% de Participacion]] -> 2.48 | Q26: 2180000 | R26: =VLOOKUP(Tabla25683[[#This Row],[Año de Terminación]],Tabla36[[Año]:[Salario mínimo mensual]],3,0) -> 877803 | S26: =+Tabla25683[[#This Row],[Valor Total Ejecutado del Contrato ($)]]/Tabla25683[[#This Row],[SMMLV AÑO DE TERMINACIÓN]]*Tabla25683[[#This Row],[% de Participacion]] -> 2.4834729 | T26: NA | U26: NA | V26: CUMPLE | W26: NA | X26: CUMPLE | Y26: NA | Z26: CUMPLE | AA26: CUMPLE | AB26: CUMPLE | AC26: CUMPLE | AD26: CUMPLE

Sheet FUMIGACIONES EL TRIUNFO CAR
C4: EVALUACIÓN TÉCNICA
C5: SAMC-003-2026
C6: OBJETO: SEG0844 “PRESTACIÓN DE SERVICIOS DE DESINFECCIÓN, FUMIGACIÓN Y TERMO NEBULIZACIÓN DE ARCHIVOS EN LAS SEDES DE BOGOTÁ, DIRECCIONES TERRITORIALES E INSPECCIONES FLUVIALES DEL MINISTERIO DE TRANSPORTE”.
C9: Presupuesto oficial estimado (POE) | D9: 214624890
C10: AÑO ACTUAL | D10: 2026
C11: Presupuesto oficial estimado (SMMLV) | D11: =D9/(VLOOKUP($D$10,SMMLV!A8:C52,3,FALSE)) -> 122.5794
C12: 100% del POE (EXPERIENCIA ACREDITADA) | D12: =+S24+S25 -> 0 | E12: =IF(D12>=D11,"CUMPLE","NO CUMPLE") -> NO CUMPLE
C13: Nombre del Proponente | D13: FUMIGACIONES EL TRIUNFO CAR
C14: No. Contratos Aportados | D14: =+COUNT(B24,B25,B26) -> 3
C15: CRITERIOS DE SOSTENIBILIDAD AMBIENTAL El proponente deberá anexar declaración juramentada en la que se compromete con lo siguiente: a. Contar con plan de Gestión integral para los residuos peligrosos generados en su actividad, incluido el mantenimiento, según lo establecido en el Decreto 1076 de 2015, o la normativa que lo sustituya. b. El manejo y la disposición final que le dará a los residuos peligrosos generados durante la prestación del servicio, dando cumplimiento a lo establecido en el Decreto 1076 Título 6 Capítulo 1 Sección 3 artículo 2.2.6.1.3.1 o la normativa que lo sustituya, así como la entrega del(los) certificado(s) de disposición final o de aprovechamiento de los Residuos peligrosos - RESPEL generados durante el servicio. c. Acogerse a las buenas prácticas ambientales establecidas en el Ministerio de Transporte. | D15: No se adjunta documento | E15: NO CUMPLE
C16: Concepto Sanitario Vigente expedido por la autoridad sanitaria ambiental. | D16: No se adjunta documento | E16: NO CUMPLE
C17: Certificación en Uso, Aplicación y manejo Seguro de Plaguicidas a los trabajadores de la empresa proponente, expedida por el Sena, Entidad Educativa o Instructor Autorizado (art 173, c174, 175 decreto 1843/91). | D17: Se anexa | E17: CUMPLE
C18: DILIGENCIAMIENTO DE LA CARTA DE PRESENTACIÒN DE LA PROPUESTA | D18: Se anexa | E18: CUMPLE
C19: DILIGENCIAMIENTO ANEXO FICHA TECNICO | D19: No se adjunta documento | E19: NO CUMPLE
C20: RESULTADO EVALUACIÓN | D20: NO CUMPLE | E20: Revisar observaciones
T22: CÓDIGOS DE CLASIFICACIÓN UNSPSC | Z22: EXPERIENCIA
B23: No. | C23: Entidad Contratante | D23: Contratista o Integrante que aporta experiencia | E23: No contrato | F23: Certificación / Acta de Liquidación | G23: Objeto | H23: Indivicual / Consorcio / UT | I23: % de Participacion | J23: Documento de asociación | K23: # Consecutivo RUP | L23: SMMLV RUP | M23: Fecha de Inicio | N23: Fecha de Terminacion | O23: Año de Terminación | P23: Total SMMLV * % Participación (RUP) | Q23: Valor Total Ejecutado del Contrato ($) | R23: SMMLV AÑO DE TERMINACIÓN | S23: Valor Total Ejecutado del Contrato expresado en SMMLV | T23: 70111700 | U23: 70141600 | V23: 72102100 | W23: 72154000 | X23: 76101500 | Y23: 78141600 | Z23: Desinfección | AA23: Fumigación | AB23: Termonebulización | AC23: FORMATO EXPERIENCIA HABILITANTE DEL PROPONENTE | AD23: RESULTADO CUMPLE / NO CUMPLE | AE23: OBSERVACIONES
B24: 1 | C24: ASEO MODERNO | D24: FUMIGACIONES EL TRIUNFO CAR | E24: 45246 | F24: Certificacion | G24: SERVICIO DE FUMIGACIÓN. DESINFECCIÓN Y PLAGAS. BACTERIAS, VIRUS Y HONGOS. CONTROL INTEGRADO DE PLAGAS. DESINSECTACIÓN, DESRATIZACIÓN, CONTROL DE ABEJAS, PALOMAS. VECTORES VOLADORES Y RASTREROS. MECANISMOS PREVENTIVOS Y CORRECTIVOS. CEBADERAS, MALLAS DE PROTECCIÓN DE EDIFICIOS. LIMPIEZA Y FUMIGACIÓN DE ARCHIVOS Y DOCUMENTOS. DESINFECCÓN Y DESINSECTACIÓN. SISTEMA DE NEBULIZACIÓN. TÉCNICAS DE MANEJO DOCUMENTAL. MANTENIMIENTO LIMPIEZA, LAVADO Y DESINFECCIÓN DE TANQUES. PODA Y MANTENIMIENTO CESPED Y JARDIN. FUMIGACIÓN CONTROL DE PLAGAS. | H24: I | I24: 1 | J24: NA | K24: 33 | M24: 45246 | N24: 45716 | O24: =YEAR(Tabla256835791011[[#This Row],[Fecha de Terminacion]]) -> 2025 | P24: =+Tabla256835791011[[#This Row],[SMMLV RUP]]*Tabla256835791011[[#This Row],[% de Participacion]] -> 0 | R24: =VLOOKUP(Tabla256835791011[[#This Row],[Año de Terminación]],Tabla36[[Año]:[Salario mínimo mensual]],3,0) -> 1423500 | S24: =+Tabla256835791011[[#This Row],[Valor Total Ejecutado del Contrato ($)]]/Tabla256835791011[[#This Row],[SMMLV AÑO DE TERMINACIÓN]]*Tabla256835791011[[#This Row],[% de Participacion]] -> 0 | T24: CUMPLE | U24: CUMPLE | V24: CUMPLE | W24: CUMPLE | X24: CUMPLE | Y24: CUMPLE | Z24: CUMPLE | AA24: CUMPLE | AB24: CUMPLE | AC24: CUMPLE | AD24: NO CUMPLE | AE24: La certificación aportada por el proponente incluye el valor total del contrato, más no en valor ejectuado, tal como se solicita en el pliego de condiciones definitivo, en el apartado 3.3.4. EXPERIENCIA DEL PROPONENTE. Motivo por el cual no cumple, y debera subsanar adjuntando el acta de liquidación.
B25: 2 | C25: UNIVERSIDAD NACIONAL DE COLOMBIA | D25: FUMIGACIONES EL TRIUNFO CAR | E25: 133-2001 | F25: Certificacion | G25: PRESTAR EL SERVICIO INTEGRAL ESPECIALIZADO DE CONTROL QUÍMICO DE PLAGAS Y VECTORES, CONTROL FÍSICO DE ANIMALES DOMÉSTICOS, CONTROL DE INSECTOS (COMO ABEJAS) Y OTROS , CONTROL DE AVES, EN LAS ÁREAS DE TODOS LOS PREDIOS DE LA UNIVERSIDAD NACIONAL DE COLOMBIA SEDE BOGOTÁ, CAMPUS UNIVERSITARIO Y EDIFICIOS EXTERNOS, INCLUYENDO EL CENTRO AGROPECUARIO MARENGO EN EL MUNICIPIO DE MOSQUERA, MUSEO PALEONTOLÓGICO DE VILLA LEYVA Y LA ESTACIÓN DE BIOLOGÍA TROPICAL ROBERTO FRANCO EN VILLAVICENCIO. | H25: I | I25: 1 | J25: NA | K25: 32 | L25: 193.69 | M25: 45043 | N25: 45382 | O25: =YEAR(Tabla256835791011[[#This Row],[Fecha de Terminacion]]) -> 2024 | P25: =+Tabla256835791011[[#This Row],[SMMLV RUP]]*Tabla256835791011[[#This Row],[% de Participacion]] -> 193.69 | R25: =VLOOKUP(Tabla256835791011[[#This Row],[Año de Terminación]],Tabla36[[Año]:[Salario mínimo mensual]],3,0) -> 1300000 | S25: =+Tabla256835791011[[#This Row],[Valor Total Ejecutado del Contrato ($)]]/Tabla256835791011[[#This Row],[SMMLV AÑO DE TERMINACIÓN]]*Tabla256835791011[[#This Row],[% de Participacion]] -> 0 | T25: CUMPLE | U25: CUMPLE | V25: CUMPLE | W25: CUMPLE | X25: CUMPLE | Y25: CUMPLE | Z25: NO ACREDITA | AA25: CUMPLE | AB25: NO ACREDITA | AC25: CUMPLE | AD25: NO CUMPLE | AE25: La certificación aportada por el proponente incluye el valor total del contrato, más no en valor ejectuado, tal como se solicita en el pliego de condiciones definitivo, en el apartado 3.3.4. EXPERIENCIA DEL PROPONENTE. Motivo por el cual no cumple, y debera subsanar adjuntando el acta de liquidación.
B26: 3 | C26: INSTITUTO DISTRITAL PARA LA RECREACION Y EL DEPORTE | D26: FUMIGACIONES EL TRIUNFO CAR | F26: NO CUMPLE | G26: CONTRATAR EL SERVICIO DE FUMIGACIÓN PARA INSECTOS, CONTROL DE ROEDORES, DESINFECCIÓN Y LAVADO DE TANQUES DE ALMACENAMIENTO DE AGUA EN LOS DIFERENTES PARQUES ADMINISTRADOS POR EL IDRD, UBICADOS EN EL SISTEMA DISTRITAL DE PARQUES Y EN LAS SEDES ADMINISTRATIVA Y ARCHIVO DEL IDRD | H26: I | I26: 1 | J26: NA | K26: 34 | M26: NO CUMPLE | N26: NO CUMPLE | O26: =YEAR(Tabla256835791011[[#This Row],[Fecha de Terminacion]]) -> #VALUE! | P26: =+Tabla256835791011[[#This Row],[SMMLV RUP]]*Tabla256835791011[[#This Row],[% de Participacion]] -> 0 | Q26: NO CUMPLE | R26: =VLOOKUP(Tabla256835791011[[#This Row],[Año de Terminación]],Tabla36[[Año]:[Salario mínimo mensual]],3,0) -> #VALUE! | S26: =+Tabla256835791011[[#This Row],[Valor Total Ejecutado del Contrato ($)]]/Tabla256835791011[[#This Row],[SMMLV AÑO DE TERMINACIÓN]]*Tabla256835791011[[#This Row],[% de Participacion]] -> #VALUE! | T26: NO CUMPLE | U26: NO CUMPLE | V26: NO CUMPLE | W26: NO CUMPLE | X26: NO CUMPLE | Y26: NO CUMPLE | Z26: CUMPLE | AA26: CUMPLE | AB26: NO ACREDITA | AC26: CUMPLE | AD26: NO CUMPLE | AE26: El certificado anexo no corresponde contrato relacionado en el formato de experiencia habilitante del proponente. Por otra parte, no se encuentra en el RUP el consecutivo no. 34, por lo cual no se puede corroborar el cumplimiento de los codigos de clasificacion UNSPSC. Motivo por el cual no cumple,y debera subsanar en el termino de traslado de la evaluacion

Sheet Ponderables
B4: CRITERIOS DE EVALUACIÓN DE LAS PROPUESTAS
B5: LICITACIÓN PÚBLICA No. LP-008-2023
B6: OBJETO: Prestación del servicio integral de vigilancia, guarda, custodia y seguridad privada en la modalidad fija y móvil, con y sin arma de fuego con medios de apoyo tecnológicos, para los bienes muebles e inmuebles del ministerio de transporte a nivel nacional y de todos aquellos por los cuales llegase a ser legalmente responsable.
B8: Numeral Pliego | C8: Factor de Evaluaciòn | D8: Requisitos | E8: Acredita | F8: Cumple / No Cumple | G8: Puntaje | H8: Observaciones
B9: 4.2 | C9: GERENTE DE PROYECTO (14 puntos) | D9: Especialización o Maestría en Seguridad o seguridad integral o Administración de la Seguridad o Seguridad y Defensa Nacional o seguridad pública (acta de grado y/o diploma) | G9: 14
D10: Credencial o Resolución de Consultor vigente expedido por la Superintendencia de Vigilancia y Seguridad Privada.
C11: COORDINADOR DE MEDIOS TECNOLOGICOS (10 puntos) | D11: Título universitario cuyo NBC se encuentre clasificado en Ingeniería electrónica o, telecomunicaciones y afines o Ingeniería de sistemas, telemática y afines (Diploma o Acta de Grado) | G11: 10
D12: Credencial o Resolución de Consultor vigente expedido por la Superintendencia de Vigilancia y Seguridad Privada.
D13: Certificado de vigencia de la matricula profesional -Cuando Aplique
D14: Experiencia en manejo de medios tecnológicos en empresas de vigilancia y seguridad privada no menor a tres (3) años
D15: Vinculado con el Proponente o integrante durante los últimos 3 meses - Certificaciòn laboral y Planilla de Seguridad Social
D16: Hoja de Vida, acompañada de documento de compromiso que realiza el proponente frente al personal que propone, la aceptación por parte del personal propuesto y la aceptación de publicación de sus hojas de vida y soportes en el expediente virtual secop ii.
D17: Copia de la cedula de ciudadanía
C18: COBERTURA DIRECTA DEL RIESGO (7,5 puntos) | D18: El proponente además del ofrecimiento de la cobertura deberá hacer la manifestación expresa de reponer o reparar el bien perdido o dañado, por otro de las mismas características, en un término no superior a treinta (30) días calendario, contados a partir del aviso. Vencido dicho plazo el Ministerio está autorizado para descontar los valores de las pérdidas, de las sumas que se paguen mensualmente al contratista. | G18: 7.5
C19: SUCURSALES O AGENCIAS ADICIONALES (9 puntos) | D19: Sucursales o Agencias Adicionales en ciudades donde se prestara el servicio de vigilancia humana | G19: 9
B20: 4.3 | C20: APOYO A LA INDUSTRIA NACIONAL (10 PUNTOS) | D20: • Promoción en procesos cuyo objeto solo incluye servicios nacionales, y • Vincular el porcentaje mínimo establecido por el Ministerio de transporte que para el presente proceso equivaldrá al 40% del total de los empleados y contratistas por prestación de servicios colombianos asociados al cumplimiento del contrato. | G20: 10
B21: 4.4 | C21: TRABAJADORES EN CONDICION DE DISCAPACIDAD (1 PUNTO) | D21: • Certificaciòn del número total de trabajadores vinculados a la planta de personal del proponente o sus integrantes a la fecha de cierre del proceso de selección. • Certificado expedido por el Ministerio del Trabajo, el cual deberá́ estar vigente a la fecha de cierre del proceso de selección | G21: 1
B22: 4.5 | C22: EMPRENDIMIENTOS Y EMPRESA DE MUJERES (0,25 PUNTOS) E INCENTIVOS MIPYME (0,25 PUNTOS) | D22: INCENTIVO PARA EMPRENDIMIENTO Y EMPRESAS DE MUJERES | G22: 0.25
D23: INCENTIVO MIPYMES | G23: 0.25
B24: 4.6 | C24: PUNTAJE ADICIONAL Decreto 1279 (3 Puntos) | D24: (0,5%) se le otorgará al proponente o los proponentes que acrediten el mayor porcentaje de mujeres vinculadas dentro de su personal operativo | G24: 0.5
D25: (0,5%) se le otorgará al proponente o los proponentes que acrediten el mayor número de mujeres vinculadas dentro de su personal operativo | G25: 0.5
D26: El cero punto cinco por ciento (0,5%) se le otorgará al proponente o los proponentes que acrediten el mayor porcentaje de personas mayores de 45 años vinculadas dentro de su personal operativo | G26: 0.5
D27: (0,5%) se le otorgará al proponente o los proponentes que acrediten mayor número de personas mayores de 45 años vinculadas dentro de su personal operativo | G27: 0.5
D28: El cero punto cinco por ciento (0,5%) se le otorgará al proponente o los proponentes que acrediten el mayor porcentaje de personas con discapacidad vinculadas dentro de su personal operativo | G28: 0.5
D29: El cero punto cinco por ciento (0,5%) se le otorgará al proponente o los proponentes que acrediten mayor número de personas con discapacidad vinculadas dentro de su personal operativo | G29: 0.5
B30: TOTAL PUNTAJE SIN OFERTA ECONOMICA | G30: =SUM(G9:G29) -> 55
B31: PUNTAJE TOTAL DE LA OFERTA ECONOMICA
B32: TOTAL PUNTAJE PROPONENTE | G32: =SUM(G30:G31) -> 55
B34: DESCUENTO DE PUNTAJE
B36: TOTAL PUNTAJE FINAL DEL PROPONENTE | G36: =+G32-G34 -> 55

Sheet SMMLV
A1: Salario mínimo legal en Colombia
A2: 1.1.1. Serie histórica en pesos colombianos_periodicidad anual
A4: Información disponible desde el 1 de julio de 1984.
A8: Año | B8: Salario mínimo diario | C8: Salario mínimo mensual
A9: 1984 | B9: 376.6 | C9: 11298
A10: 1985 | B10: 451.92 | C10: 13558
A11: 1986 | B11: 560.38 | C11: 16811
A12: 1987 | B12: 683.66 | C12: 20510
A13: 1988 | B13: 854.58 | C13: 25637
A14: 1989 | B14: 1085.32 | C14: 32560
A15: 1990 | B15: 1367.5 | C15: 41025
A16: 1991 | B16: 1723.87 | C16: 51716
A17: 1992 | B17: 2173 | C17: 65190
A18: 1993 | B18: 2717 | C18: 81510
A19: 1994 | B19: 3290 | C19: 98700
A20: 1995 | B20: 3964.45 | C20: 118934
... A43: 2018 | B43: 26041.4 | C43: 781242
A44: 2019 | B44: =C44/30 -> 27603.867 | C44: 828116
A45: 2020 | B45: =C45/30 -> 29260.1 | C45: 877803
A46: 2021 | B46: =C46/30 -> 30284.2 | C46: 908526
A47: 2022 | B47: =+Tabla36[[#This Row],[Salario mínimo mensual]]/30 -> 33333.333 | C47: 1000000
A48: 2023 | B48: =+Tabla36[[#This Row],[Salario mínimo mensual]]/30 -> 38666.667 | C48: 1160000
A49: 2024 | B49: =+Tabla36[[#This Row],[Salario mínimo mensual]]/30 -> 43333.333 | C49: 1300000
A50: 2025 | B50: =+C50/30 -> 47450 | C50: 1423500
A51: 2025 | B51: =+C51/30 -> 47450 | C51: 1423500
A52: 2026 | B52: =+C52/30 -> 58363.5 | C52: 1750905
A54: Fuente: Ministerio del Trabajo (www.mintrabajo.gov.co) y decretos del Gobierno Nacional (www.presidencia.gov.co).
A56: Nota: desde el 1 de julio de 1984 se unificó el salario mínimo para todos los sectores de la economía.

Sheet Experiencia (2)
C6: EVALUACIÓN TÉCNICA
C7: LICITACIÓN PÚBLICA No. LP-003-2024
C8: OBJETO: SUMINISTRO E INSTALACIÓN DE ESTANTERÍA PESADA PARA ARCHIVOS DEL MINISTERIO DE TRANSPORTE A NIVEL NACIONAL.
C11: Presupuesto oficial estimado (POE) | D11: 1052217002
C12: AÑO ACTUAL | D12: 2024
C13: Presupuesto oficial estimado (SMMLV) | D13: =D11/(VLOOKUP($D$12,Tabla36[#All],3,FALSE)) -> 809.39769
C14: 100% del POE (EXPERIENCIA ACREDITADA) | D14: =+F20 -> #N/A | E14: =IF(D14>=D13,"CUMPLE","NO CUMPLE") -> #N/A
C15: Fecha del Cierre del Proceso | D15: 45373
C16: Nombre del Proponente | D16: ARCHIVOS Y CARPETAS DE COLOMBIA SAS | E16: % de Participación | F16: Experiencia Aportada
C17: Integrantes | F17: =VLOOKUP(D17,Tabla24[[#Headers],[#Data],[Contratista o Integrante que aporta experiencia]:[Valor Total Ejecutado del Contrato expresado en SMMLV]],15,0) -> #N/A
F18: =VLOOKUP(D18,Tabla24[[#Headers],[#Data],[Contratista o Integrante que aporta experiencia]:[Valor Total Ejecutado del Contrato expresado en SMMLV]],15,0) -> #N/A
F19: =VLOOKUP(D19,Tabla24[[#Headers],[#Data],[Contratista o Integrante que aporta experiencia]:[Valor Total Ejecutado del Contrato expresado en SMMLV]],15,0) -> #N/A
C20: No. Contratos Aportados | D20: =COUNT(Tabla24[No. ]) -> 3 | F20: =SUM(F17:F19) -> #N/A
C21: Mayor Experiencia del integrante con participación minima del 50%
C22: DILIGENCIAMIENTO DE LA CARTA DE PRESENTACIÒN DE LA PROPUESTA | D22: APORTA DOCUMENTO | E22: CUMPLE
C23: DILIGENCIAMIENTO REQUISITOS TECNICOS MINIMOS REQUERIDOS (ANEXO NO. 1) | D23: APORTA DOCUMENTO | E23: CUMPLE
C24: RESULTADO EVALUACIÓN | D24: CUMPLE
T26: CÓDIGOS DE CLASIFICACIÓN UNSPSC | W26: EXPERIENCIA
B27: No. | C27: Entidad Contratante | D27: Contratista o Integrante que aporta experiencia | E27: No contrato | F27: Certificación / Acta de Liquidación | G27: Objeto | H27: Indivicual / Consorcio / UT | I27: % de Participacion | J27: Documento de asociación | K27: # Consecutivo RUP | L27: SMMLV RUP | M27: Fecha de Inicio | N27: Fecha de Terminacion | O27: Año de Terminación | P27: Total SMMLV * % Participación (RUP) | Q27: Valor Total Ejecutado del Contrato ($) | R27: SMMLV AÑO DE TERMINACIÓN | S27: Valor Total Ejecutado del Contrato expresado en SMMLV | T27: 46171600 | U27: 92121500 | V27: 92121700 | W27: Seguridad privada en la modalidad fija y móvil, con y sin arma de fuego, con medios de apoyo tecnológicos | X27: 1 Contrato con Prestación de los servicios en mínimo 8 departamentos | Y27: APORTA FORMATO DE RELACIÓN DE EXPERIENCIA | Z27: OBSERVACIONES
B28: 1 | O28: =YEAR(Tabla24[[#This Row],[Fecha de Terminacion]]) -> 1900 | P28: =+Tabla24[[#This Row],[SMMLV RUP]]*Tabla24[[#This Row],[% de Participacion]] -> 0 | R28: =VLOOKUP(Tabla24[[#This Row],[Año de Terminación]],Tabla36[[Año]:[Salario mínimo mensual]],3,0) -> #N/A | S28: =+Tabla24[[#This Row],[Valor Total Ejecutado del Contrato ($)]]/Tabla24[[#This Row],[SMMLV AÑO DE TERMINACIÓN]]*Tabla24[[#This Row],[% de Participacion]] -> #N/A | T28: X | U28: X | V28: X
B29: 2 | O29: =YEAR(Tabla24[[#This Row],[Fecha de Terminacion]]) -> 1900 | P29: =+Tabla24[[#This Row],[SMMLV RUP]]*Tabla24[[#This Row],[% de Participacion]] -> 0 | R29: =VLOOKUP(Tabla24[[#This Row],[Año de Terminación]],Tabla36[[Año]:[Salario mínimo mensual]],3,0) -> #N/A | S29: =+Tabla24[[#This Row],[Valor Total Ejecutado del Contrato ($)]]/Tabla24[[#This Row],[SMMLV AÑO DE TERMINACIÓN]]*Tabla24[[#This Row],[% de Participacion]] -> #N/A
B30: 3 | O30: =YEAR(Tabla24[[#This Row],[Fecha de Terminacion]]) -> 1900 | P30: =+Tabla24[[#This Row],[SMMLV RUP]]*Tabla24[[#This Row],[% de Participacion]] -> 0 | R30: =VLOOKUP(Tabla24[[#This Row],[Año de Terminación]],Tabla36[[Año]:[Salario mínimo mensual]],3,0) -> #N/A | S30: =+Tabla24[[#This Row],[Valor Total Ejecutado del Contrato ($)]]/Tabla24[[#This Row],[SMMLV AÑO DE TERMINACIÓN]]*Tabla24[[#This Row],[% de Participacion]] -> #N/A
