Workbook
Name _____________________________________________________TEP44: [1]BASE!$D$116
Name _____________________________________________________TZ216: [1]BASE!$D$87
Name ____________________________________________________ADM4: [2]BASE!$D$120
Name ____________________________________________________AIU1: #REF!
Name ____________________________________________________TPE1132: [1]BASE!#REF!
Name ____________________________________________________TPE12: #REF!
Name ____________________________________________________TPE1331: [1]BASE!#REF!
Name ____________________________________________________TPE1702: [1]BASE!#REF!
Name ____________________________________________________TPE1703: [1]BASE!#REF!
Name ____________________________________________________TPE1704: [1]BASE!#REF!
Name ____________________________________________________TPE1706: [1]BASE!#REF!
Name ____________________________________________________TPE1708: [1]BASE!#REF!
Name ____________________________________________________TPE1710: [1]BASE!#REF!
Name ____________________________________________________TPE1735: [1]BASE!#REF!
Name ____________________________________________________TPE1763: [1]BASE!#REF!
Name ____________________________________________________TPE1790: [1]BASE!#REF!
Name ____________________________________________________TUZ22: '[3]BASE ORIGINAL'!#REF!
Name ____________________________________________________TUZ36: '[3]BASE ORIGINAL'!#REF!
Name ____________________________________________________TZ214: [1]BASE!$D$86
Name ____________________________________________________TZ323: '[3]BASE ORIGINAL'!#REF!
Name ____________________________________________________TZ324: '[3]BASE ORIGINAL'!#REF!
Name ____________________________________________________TZ32510: [1]BASE!$D$106
Name ___________________________________________________ADM4: [2]BASE!$D$120
Name ___________________________________________________TEP44: [1]BASE!$D$116
Name ___________________________________________________TZ216: [1]BASE!$D$87
Name __________________________________________________ADH12: [2]BASE!$D$218
Name __________________________________________________ADM12: [2]BASE!$D$219
Name __________________________________________________ADM4: [2]BASE!$D$120
Name __________________________________________________AIU1: #REF!
Name __________________________________________________AIU2: [4]BASE!$C$5
Name __________________________________________________BAZ10: [2]BASE!$D$270
Name __________________________________________________BLO20: [2]BASE!$D$56
Name __________________________________________________CAN28: [2]BASE!$D$315
Name __________________________________________________Cod1: #REF!
Name __________________________________________________CUA44: [2]BASE!$D$253
Name __________________________________________________LA124: [2]BASE!$D$64
Name __________________________________________________LAC18: [5]BASE!$D$252
Name __________________________________________________Po2: [6]REAJUSTESACTA1PROVI!#REF!
Name __________________________________________________R84JH: [5]BASE!$D$172
Name __________________________________________________REP43: [7]BASE!$D$136
Name __________________________________________________TEP44: [1]BASE!$D$116
Name __________________________________________________TPE1132: [1]BASE!#REF!
Name __________________________________________________TPE12: #REF!
Name __________________________________________________TPE1331: [1]BASE!#REF!
Name __________________________________________________TPE1702: [1]BASE!#REF!
Name __________________________________________________TPE1703: [1]BASE!#REF!
Name __________________________________________________TPE1704: [1]BASE!#REF!
Name __________________________________________________TPE1706: [1]BASE!#REF!
Name __________________________________________________TPE1708: [1]BASE!#REF!
Name __________________________________________________TPE1710: [1]BASE!#REF!
Name __________________________________________________TPE1735: [1]BASE!#REF!
Name __________________________________________________TPE1763: [1]BASE!#REF!
Name __________________________________________________TPE1790: [1]BASE!#REF!
Name __________________________________________________TPF12: [2]BASE!$D$217
Name __________________________________________________TUZ22: '[3]BASE ORIGINAL'!#REF!
Name __________________________________________________TUZ36: '[3]BASE ORIGINAL'!#REF!
Name __________________________________________________TZ2110: [2]BASE!$D$79
Name __________________________________________________TZ214: [1]BASE!$D$86
Name __________________________________________________TZ216: [1]BASE!$D$87
Name __________________________________________________TZ268: [5]BASE!$D$85

Sheet Instructivo
C1: SISTEMA DE GESTIÓN INTEGRAL - SGI
C2: INSTRUCTIVO - COMPONENTE FINANCIERO EP
C3: CÓDIGO: F-PGC-21 | G3: VERSIÓN: 04
A5: Color | B5: Hoja | D5: Color | E5: Celda
A6: Gris | B6: Informativa | D6: Azul | E6: Protegida
A7: Vinotinto | B7: Formatos
A8: Morado | B8: Variables
A10: Para un mejor diligenciamiento de los formatos y uso de las variables y hojas informativas que se encuentran en este libro, se recomienda, antes de empezar a diligenciar, leer el instructivo, que se encuentra consignado en la presente hoja, igualmente, cada hoja contiene un número significativo de comentarios, los cuales, pretenden ayudar al diligenciamiento, se recomienda leerlos y aplicarlos de manera atenta. En caso de requerir apoyo, favor comunicarse con el asesor(a) financiero(a) asignado para el proceso.
A12: HOJAS INFORMATIVAS
A13: Nombre | D13: Descripción
A14: Cuantías de contratación (por pluralidad de oferentes) | D14: En la hoja se encuentran los valores establecidos anualmente, para identificar dentro de la contratación por pluralidad de oferentes, de acuerdo al valor del presupuesto, si se clasifica dentro de una mínima cuantía, menor cuantía o licitación pública, en los casos que aplique.
A15: Documentos de apoyo | D15: En la hoja se encuentran listas enunciativas de documentos de apoyo, que pueden presentar interés, al igual, que guíar el accionar en el ámbito general de la contratación pública y específico de la asesoría financiera a la misma. Se deberá considerar que las listas no son exhaustivas, es decir, no contemplan todos los documentos de cada categoría, al igual, que depende de la actualización constante de la Subdirección Administrativa y Financiera.
A16: Impuestos y garantías | D16: En la hoja se encuentra una lista enunciativa de los impuestos y las garantías en los que puede incurrir el ejecutor, las cuales dependen de la especificidad del proceso. La lista es de carácter informativa en caso que se emitan consultas al respecto.
A17: Información anticipos y pagos anticipados | D17: En la hoja se encuentra una corta explicación sobre la consideración normativa de los anticipos y pagos anticipados, que tiene como objeto orientar respecto a este tema de frecuente consulta e inquietud; tema sobre el cual, se requiere tener claridad para la estipulación de la ejecución física y financiera de los procesos.
A18: Información procesos de obra pública y capacidad residual (K) | D18: En la hoja se encuentra una corta explicación sobre los procesos de obra, y el cálculo de la capacidad residual (K) en los casos que se requiera, que tiene como objeto suministrar información de interés general respecto a este tema de frecuente consulta e inquietud; tener en cuenta que este tema es de competencia tanto jurídica como técnica y financiera.
A19: Información IVA | D19: En la hoja se encuentra una corta explicación sobre las consideraciones respecto al IVA, que tiene como objeto orientar respecto a este tema de frecuente consulta e inquietud.
A20: Notas propuesta económica | D20: En la hoja se encuentra una lista enunciativa de notas, las cuales deberán ser elegidas de acuerdo a la especificidad del proceso contractual, con el fin de incluirlas en el formato de propuesta económica. Las notas tienen como objeto orientar a los oferentes en el diligenciamiento de dicho formato.
A21: Requisitos habilitantes capacidad financiera y organizacional | D21: En la hoja se encuentran los requisitos de capacidad financiera y organizacional vigentes
A23: FORMATOS (PARA DILIGENCIAR) | I23: DILIGENCIAR EN CASO DE:
A24: Nombre | D24: Descripción | I24: Contratos por contratación directa | J24: Contratos por pluralidad de oferentes | K24: Convenios
A25: DILIGENCIAR PARA EVALUACIÓN POR PARTE DEL COMITÉ DE CONTRATACIÓN (Asesor técnico)
A26: Se recomienda que el asesor técnico para la planeación financiera del proceso contractual, empiece con el diligenciamiento paralelo de la memoria de cálculo con su debido estudio de mercado, para seguir con la estipulación de los gastos de administración, si aplican. En un segundo momento, se recomienda diligenciar, el presupuesto de acuerdo a la modalidad del proceso, y el plan de ejecución física y de inversiones. El técnico podrá anexar al presente libro las hojas que considere necesarias con el fin de suportar la estimación de los valores. NOTA: Se recomienda iniciar escribiendo en el formato del Plan de ejecución los datos básicos de modalidad de contratación y objeto a contratar, ya que está información alimenta a las demás hojas.
A27: Plan de ejecución física y de inversiones | D27: Diligenciar la programación física y financiera del proceso, tanto en la étapa inicial, como en el caso de solicitud de Otrosí de adición de recursos o prórroga, o cuando el Otrosí de modificación implique cambios en el presupuesto. | I27: X | J27: X | K27: X
A28: Plan de ejecución física y de inversiones - Prestación de Servicios Personales | D28: Diligenciar exclusivamente para los contratos de Prestación de Servicios Personales que suscribe la Corporación con una persona natural. Este formato simplificado permite la programación física y financiera del proceso, tanto en la étapa inicial, como en el caso de solicitud de Otrosí de adición de recursos o prórroga, o cuando el Otrosí de modificación implique cambios en el presupuesto. | I28: X
A29: Presupuesto - Modalidad contrato | D29: Diligenciar en caso que el proceso se tipifique dentro de las modalidades de contratos. El presupuesto es un documento donde se plasman los recursos económicos requeridos para llevar a cabo de manera exitosa el proceso contractual. | I29: X | J29: X
A30: Presupuesto - Modalidad contrato - Prestación de Servicios Personales | D30: Diligenciar exclusivamente para los contratos de Prestación de Servicios Personales que suscribe la Corporación con una persona natural. En este formato simplificado se plasma el presupuesto, donde se relacionan los recursos económicos requeridos para llevar a cabo de manera exitosa el proceso contractual. | I30: X
A31: Presupuesto - Modalidad convenio | D31: Diligenciar en caso que el proceso se tipifique dentro de las modalidades de convenios. El presupuesto es un documento donde se plasman los recursos económicos requeridos para llevar a cabo de manera exitosa el proceso contractual. | K31: X
A32: Memoria de cálculo - Opción 1 | D32: Diligenciar de acuerdo a las características del proceso, alcance y/o actividad. La memoria de cálculo es un documento descriptivo donde se refleja de manera exhaustiva y detallada, todos y cada uno de los elementos que intervienen en el proceso, alcance y/o actividad que se está valorando. Esta memoria de cálculo es útil para la compra de productos terminados, bienes con características homogéneas, o bienes y servicios que se valoren a todo costo, entre otras opciones, por ejemplo: compra de equipos o insumos. Nota: Tener en cuenta que para valorar una variable o ítem se utiliza una sola memoria de cálculo y no las tres opciones, por ejemplo, si se quiere valorar la adquisición de 1 equipo de cómputo, dicha adquisición se deja consignada en solo una de las memorias de cálculo, no se tiene que utilizar las tres opciones para este mismo ítem. | I32: Se seleccionará el formato de memoria de cálculo que mejor se adapte a las características del proceso, alcance y/o actividad a valorar.
A33: Memoria de cálculo - Opción 2 | D33: Diligenciar de acuerdo a las características del proceso, alcance y/o actividad. La memoria de cálculo es un documento descriptivo donde se refleja de manera exhaustiva y detallada, todos y cada uno de los elementos que intervienen en el proceso, alcance y/o actividad que se está valorando. Esta memoria de cálculo es útil para los procesos de obra. Nota: Tener en cuenta que para valorar una variable o ítem se utiliza una sola memoria de cálculo y no las tres opciones, por ejemplo, si se quiere valorar la adquisición de 1 equipo de cómputo, dicha adquisición se deja consignada en solo una de las memorias de cálculo, no se tiene que utilizar las tres opciones para este mismo ítem.
A34: Memoria de cálculo - Opción 3 | D34: Diligenciar de acuerdo a las características del proceso, alcance y/o actividad. La memoria de cálculo es un documento descriptivo donde se refleja de manera exhaustiva y detallada, todos y cada uno de los elementos que intervienen en el proceso, alcance y/o actividad que se está valorando. Esta memoria de cálculo es útil para procesos que requieran detallar todos los elementos del costo, por ejemplo, realización de talleres, donde se debe considerar los materiales, los refrigerios, alquiler de equipos, entre otros. Nota: Tener en cuenta que para valorar una variable o ítem se utiliza una sola memoria de cálculo y no las tres opciones, por ejemplo, si se quiere valorar la adquisición de 1 equipo de cómputo, dicha adquisición se deja consignada en solo una de las memorias de cálculo, no se tiene que utilizar las tres opciones para este mismo ítem.
A35: Estudio de mercado | D35: Un estudio de mercado es el proceso mediante el cual, se recoge y análiza información que sirve para identificar las características, valores y condiciones del bien o servicio a adquirir, con el fin de obtenerlos acuerdo a las estipulaciones del mercado, bajo el principio de plena competencia. En la corporación el estudio de mercado se realiza mediante la identificación de valores por medio de cotizaciones debidamente radicadas, valores históricos de los bienes y servicios de interés, recolección de información de sitios de internet soportados con los debidos pantallazos, y demás información de diferentes fuentes con sus correspondientes medios de verificación. El estudio de mercado no se puede confundir con el estudio de sector, este último, requerido solo para algunos procesos contractuales. En el estudio de mercado, pueden hacer parte, debidamente soportados o en todo caso que permita realizar la trazabilidad, los valores establecidos en otros procesos contractuales para los mismos bienes y servicios, de la misma vigencia o de anteriores vigencias, en caso de utilizar valores de vigencias anteriores se deberá realizar la respectiva actualización con la inflación anual de la o las vigencias pasadas. | I35: X | J35: X | K35: X
A36: Determinación de gastos de administración | D36: Diligenciar para determinar el porcentaje de los gastos de administración o administración del proceso, de acuerdo a las características del mismo, considerando no tener duplicidad en ítems ya contemplados en el presupuesto general del proceso. | I36: X | J36: X | K36: X
A37: Identificación de bienes nacionales relevantes | D37: Diligenciar para identificar los bienes nacionales relevantes en los procesos que apliquen. | J37: X
A38: DILIGENCIAR COMO PARTE DE LOS DOCUMENTOS A SUBIR A LA PLATAFORMA SECOP (Asesor financiero)
A39: Propuesta económica - Opción 1 | D39: Diligenciar con el objeto de suministrarle a los oferentes la estructura y condiciones de la presentación de las respectivas propuestas económicas, se recomienda su uso para procesos que se hayan planeado en el formato memoria de cálculo - opción 1. | J39: X
A40: Propuesta económica - Opción 2 | D40: Diligenciar con el objeto de suministrarle a los oferentes la estructura y condiciones de la presentación de las respectivas propuestas económicas, se recomienda su uso para procesos que se hayan planeado en el formato memoria de cálculo - opción 2. | J40: X
A41: Propuesta económica - Opción 3 | D41: Diligenciar con el objeto de suministrarle a los oferentes la estructura y condiciones de la presentación de las respectivas propuestas económicas, se recomienda su uso para procesos que se hayan planeado en el formato memoria de cálculo - opción 3. | J41: X
A42: Estimación PAB comparación absoluta | D42: Diligenciar con el objeto realizar el acta del Precio Artificialmente Bajo (PAB). La cual, se elabora paralelamente con el formato de propuesta económica para el proceso. | J42: X
A43: DILIGENCIAR PARA EVALUACIÓN FINANCIERA DE OFERENTES (Asesor financiero)
A44: Verificación de requisitos habilitantes de los proponentes sobre capacidad financiera y organizacional | D44: Diligenciar con el fin de consignar la verificación de los requisitos habilitantes de los proponentes, sobre capacidad financiera y organizacional, en los casos que apliquen. | J44: X
...

Sheet Plan Ejecución
C1: SISTEMA DE GESTIÓN INTEGRAL - SGI | AE1: Instructivo
C2: COMPONENTE FINANCIERO EP - PLAN DE EJECUCIÓN FÍSICA Y DE INVERSIONES
C3: CÓDIGO: F-PGC-21 | H3: =Instructivo!G3 -> VERSIÓN: 04
A5: MODALIDAD DE CONTRATACIÓN: | C5: Licitación Pública | AE5: =C5 -> Licitación Pública
A6: OBJETO A CONTRATAR: | C6: “Adquirir el Programa de Seguros para la protección de los bienes e intereses, según los ramos y coberturas que requiera CORANTIOQUIA”. | AE6: =C6 -> “Adquirir el Programa de Seguros para la protección de los bienes e intereses, según los ramos y coberturas que requiera CORANTIOQUIA”.
A8: CONTRATISTA/CONVENIANTE:
A9: NOMBRE DEL TÉCNICO (A):
A10: DURACIÓN Y/O PLAZO DEL CONTRATO (MESES): | C10: 12 meses
A11: PERIODO DE PROGRAMACIÓN Y SEGUIMIENTO: | C11: Mensual
A13: PROGRAMACIÓN FÍSICA
B14: Descripción | C14: % de importancia | D14: % de importancia subactividades | E14: Unidad de medida | F14: Cantidad Programada | G14: Distribución física
G15: Período 1 | H15: Período 2 | I15: Período 3 | J15: Período 4 | K15: Período 5 | L15: Período 6 | M15: Período 7 | N15: Período 8 | O15: Período 9 | P15: Período 10 | Q15: Período 11 | R15: Período 12 | S15: Período 13 | T15: Período 14 | U15: Período 15 | V15: Período 16 | W15: Período 17 | X15: Período 18 | Y15: Período 19 | Z15: Período 20 | AA15: Período 21 | AB15: Período 22 | AC15: Período 23 | AD15: Período 24
A16: META/ PRODUCTO A OBTENER: | B16: Adquisición del Programa de Seguros | C16: 1 | D16: 0 | E16: Pólizas | AE16: =F16-SUM(G16:AD16) -> 0
A17: Alcance 1 | B17: Amparar tanto los bienes muebles e inmuebles como aquellos que se encuentran bajo custodia de la Corporación, mediante la constitución de las pólizas requeridas | C17: 0.305392 | F17: 1 | G17: 0 | H17: 0.305392 | I17: 0 | J17: 0 | K17: 0 | L17: 0 | M17: 0 | N17: 0 | O17: =O18+O24+O30+O36+O42+O48 -> 0 | P17: =P18+P24+P30+P36+P42+P48 -> 0 | Q17: =Q18+Q24+Q30+Q36+Q42+Q48 -> 0 | R17: =R18+R24+R30+R36+R42+R48 -> 0 | S17: =S18+S24+S30+S36+S42 -> 0 | T17: =T18+T24+T30+T36+T42 -> 0 | U17: =U18+U24+U30+U36+U42 -> 0 | V17: =V18+V24+V30+V36+V42 -> 0 | W17: =W18+W24+W30+W36+W42 -> 0 | X17: =X18+X24+X30+X36+X42 -> 0 | Y17: =Y18+Y24+Y30+Y36+Y42 -> 0 | Z17: =Z18+Z24+Z30+Z36+Z42 -> 0 | ... AD17: =AD18+AD24+AD30+AD36+AD42 -> 0 | AE17: =F17-SUM(G17:AD17) -> 0.694608
A18: Alcance 2 | B18: Amparar contra el riesgo de muerte, incapacidad total y permanente, enfermedades graves y demás amparos descritos en las condiciones técnicas obligatorias a los funcionarios de CORANTIOQUIA | C18: 0.406651 | F18: 1 | G18: 0 | H18: 0.406651 | I18: 0 | J18: 0 | K18: 0 | L18: 0 | M18: 0 | N18: 0 | O18: 0 | P18: 0 | Q18: 0 | R18: =SUM(R19:R23) -> 0 | S18: =SUM(S19:S23) -> 0 | T18: =SUM(T19:T23) -> 0 | U18: =SUM(U19:U23) -> 0 | V18: =SUM(V19:V23) -> 0 | W18: =SUM(W19:W23) -> 0 | X18: =SUM(X19:X23) -> 0 | Y18: =SUM(Y19:Y23) -> 0 | ... AD18: =SUM(AD19:AD23) -> 0 | AE18: =F18-SUM(G18:AD18) -> 0.593349
A19: Alcance 3 | B19: Amparar la Responsabilidad Civil de los Servidores Públicos que están enunciados en las especificaciones técnicas a través de la constitución y expedición de la póliza Responsabilidad Civil de los Funcionarios Públicos | C19: 0.219892 | F19: 1 | G19: 0 | H19: 0.219892 | I19: 0 | J19: 0 | K19: 0 | L19: 0 | M19: 0 | N19: 0 | O19: 0 | P19: 0 | Q19: 0 | R19: 0 | AE19: =F19-SUM(G19:AD19) -> 0.780108
A20: Alcance 4 | B20: Amparar las contingencias derivadas de los accidentes de tránsito que se produzcan en relación con los automotores de la Corporación, esto, mediante la expedición del Seguro Obligatorio de Accidentes de Tránsito – SOAT. | C20: 0.054596 | F20: 1 | G20: 0 | H20: 0 | I20: 0 | J20: 0.054596 | K20: 0.054596 | L20: 0 | M20: 0 | N20: 0 | O20: 0 | P20: 0 | Q20: 0 | R20: 0 | AE20: =F20-SUM(G20:AD20) -> 0.890808
A21: Alcance 5 | B21: Amparar el Cumplimiento, así como la Responsabilidad Civil Extracontractual de los contratos o convenios que en calidad de contratista suscriba la Corporación con otras entidades, en desarrollo de su objeto social. | C21: 0.013469 | F21: 1 | G21: 0 | H21: 0 | I21: 0 | J21: 0 | K21: 0 | L21: 0 | M21: 0 | N21: 0 | O21: 0 | P21: 0 | Q21: 0.013469 | R21: 0 | AE21: =F21-SUM(G21:AD21) -> 0.986531
A22: Subactividad 1.1.4 | D22: =C22*$C$18*$C$17 -> 0 | AE22: =F22-SUM(G22:AD22) -> 0
A23: Subactividad 1.1.5 | D23: =C23*$C$18*$C$17 -> 0 | AE23: =F23-SUM(G23:AD23) -> 0
A24: Actividad 1.2 | G24: =SUM(G25:G29) -> 0 | H24: =SUM(H25:H29) -> 0 | I24: =SUM(I25:I29) -> 0 | J24: =SUM(J25:J29) -> 0 | K24: =SUM(K25:K29) -> 0 | L24: =SUM(L25:L29) -> 0 | M24: =SUM(M25:M29) -> 0 | N24: =SUM(N25:N29) -> 0 | ... AD24: =SUM(AD25:AD29) -> 0 | AE24: =F24-SUM(G24:AD24) -> 0
A25: Subactividad 1.2.1 | D25: =C25*$C$24*$C$17 -> 0 | AE25: =F25-SUM(G25:AD25) -> 0
A26: Subactividad 1.2.2 | D26: =C26*$C$24*$C$17 -> 0 | AE26: =F26-SUM(G26:AD26) -> 0
A27: Subactividad 1.2.3 | D27: =C27*$C$24*$C$17 -> 0 | AE27: =F27-SUM(G27:AD27) -> 0
A28: Subactividad 1.2.4 | D28: =C28*$C$24*$C$17 -> 0 | AE28: =F28-SUM(G28:AD28) -> 0
A29: Subactividad 1.2.5 | D29: =C29*$C$24*$C$17 -> 0 | AE29: =F29-SUM(G29:AD29) -> 0
A30: Actividad 1.3 | G30: =SUM(G31:G35) -> 0 | H30: =SUM(H31:H35) -> 0 | I30: =SUM(I31:I35) -> 0 | J30: =SUM(J31:J35) -> 0 | K30: =SUM(K31:K35) -> 0 | L30: =SUM(L31:L35) -> 0 | M30: =SUM(M31:M35) -> 0 | N30: =SUM(N31:N35) -> 0 | ... AD30: =SUM(AD31:AD35) -> 0 | AE30: =F30-SUM(G30:AD30) -> 0
A31: Subactividad 1.3.1 | D31: =C31*$C$30*$C$17 -> 0 | AE31: =F31-SUM(G31:AD31) -> 0
A32: Subactividad 1.3.2 | D32: =C32*$C$30*$C$17 -> 0 | AE32: =F32-SUM(G32:AD32) -> 0
A33: Subactividad 1.3.3 | D33: =C33*$C$30*$C$17 -> 0 | AE33: =F33-SUM(G33:AD33) -> 0
A34: Subactividad 1.3.4 | D34: =C34*$C$30*$C$17 -> 0 | AE34: =F34-SUM(G34:AD34) -> 0
A35: Subactividad 1.3.5 | D35: =C35*$C$30*$C$17 -> 0 | AE35: =F35-SUM(G35:AD35) -> 0
A36: Actividad 1.4 | G36: =SUM(G37:G41) -> 0 | H36: =SUM(H37:H41) -> 0 | I36: =SUM(I37:I41) -> 0 | J36: =SUM(J37:J41) -> 0 | K36: =SUM(K37:K41) -> 0 | L36: =SUM(L37:L41) -> 0 | M36: =SUM(M37:M41) -> 0 | N36: =SUM(N37:N41) -> 0 | ... AD36: =SUM(AD37:AD41) -> 0 | AE36: =F36-SUM(G36:AD36) -> 0
A37: Subactividad 1.4.1 | D37: =C37*$C$36*$C$17 -> 0 | AE37: =F37-SUM(G37:AD37) -> 0
A38: Subactividad 1.4.2 | D38: =C38*$C$36*$C$17 -> 0 | AE38: =F38-SUM(G38:AD38) -> 0
A39: Subactividad 1.4.3 | D39: =C39*$C$36*$C$17 -> 0 | AE39: =F39-SUM(G39:AD39) -> 0
A40: Subactividad 1.4.4 | D40: =C40*$C$36*$C$17 -> 0 | AE40: =F40-SUM(G40:AD40) -> 0
A41: Subactividad 1.4.5 | D41: =C41*$C$36*$C$17 -> 0 | AE41: =F41-SUM(G41:AD41) -> 0
A42: Actividad 1.5 | G42: =SUM(G43:G47) -> 0 | H42: =SUM(H43:H47) -> 0 | I42: =SUM(I43:I47) -> 0 | J42: =SUM(J43:J47) -> 0 | K42: =SUM(K43:K47) -> 0 | L42: =SUM(L43:L47) -> 0 | M42: =SUM(M43:M47) -> 0 | N42: =SUM(N43:N47) -> 0 | ... AD42: =SUM(AD43:AD47) -> 0 | AE42: =F42-SUM(G42:AD42) -> 0
A43: Subactividad 1.5.1 | D43: =C43*$C$42*$C$17 -> 0 | AE43: =F43-SUM(G43:AD43) -> 0
...

Sheet Presupuesto Contrato
C1: SISTEMA DE GESTIÓN INTEGRAL - SGI
C2: PRESUPUESTO - MODALIDAD CONTRATO
C3: CÓDIGO: F-PGC-21 | H3: =Instructivo!G3 -> VERSIÓN: 04
A5: MODALIDAD DE CONTRATACIÓN: | C5: ='Plan Ejecución'!C5:AD5 -> Licitación Pública
A6: OBJETO A CONTRATAR: | C6: ='Plan Ejecución'!C6:AD6 -> “Adquirir el Programa de Seguros para la protección de los bienes e intereses, según los ramos y coberturas que requiera CORANTIOQUIA”.
A8: COSTOS DE PERSONAL | J8: Recursos por alcance, actividad o subactividad
A9: Ítem | B9: Cantidad personal | C9: (%) Dedicación | D9: Unidad de medida | E9: Cantidad | F9: Valor unitario base | G9: Factor prestacional | H9: Valor total | I9: (%) PP | J9: Alcance 1 | K9: Alcance 2 | L9: Alcance 3 | M9: Alcance 4 | N9: Alcance 5 | O9: Alcance 6
A10: Mano de Obra Calificada
F11: =IFERROR(VLOOKUP(A11,Honorarios!$A$9:$C$15,2,FALSE),"") | G11: =IFERROR(((VLOOKUP(A11,Honorarios!$A$9:$C$15,3,FALSE))),"") | H11: =IFERROR(B11*C11*E11*F11*G11,0) -> 0 | I11: =IFERROR(H11/$H$80,0) -> 0
F12: =IFERROR(VLOOKUP(A12,Honorarios!$A$9:$C$15,2,FALSE),"") | G12: =IFERROR(((VLOOKUP(A12,Honorarios!$A$9:$C$15,3,FALSE))),"") | H12: =IFERROR(B12*C12*E12*F12*G12,0) -> 0 | I12: =IFERROR(H12/$H$80,0) -> 0
F13: =IFERROR(VLOOKUP(A13,Honorarios!$A$9:$C$15,2,FALSE),"") | G13: =IFERROR(((VLOOKUP(A13,Honorarios!$A$9:$C$15,3,FALSE))),"") | H13: =IFERROR(B13*C13*E13*F13*G13,0) -> 0 | I13: =IFERROR(H13/$H$80,0) -> 0
F14: =IFERROR(VLOOKUP(A14,Honorarios!$A$9:$C$15,2,FALSE),"") | G14: =IFERROR(((VLOOKUP(A14,Honorarios!$A$9:$C$15,3,FALSE))),"") | H14: =IFERROR(B14*C14*E14*F14*G14,0) -> 0 | I14: =IFERROR(H14/$H$80,0) -> 0
F15: =IFERROR(VLOOKUP(A15,Honorarios!$A$9:$C$15,2,FALSE),"") | G15: =IFERROR(((VLOOKUP(A15,Honorarios!$A$9:$C$15,3,FALSE))),"") | H15: =IFERROR(B15*C15*E15*F15*G15,0) -> 0 | I15: =IFERROR(H15/$H$80,0) -> 0
F16: =IFERROR(VLOOKUP(A16,Honorarios!$A$9:$C$15,2,FALSE),"") | G16: =IFERROR(((VLOOKUP(A16,Honorarios!$A$9:$C$15,3,FALSE))),"") | H16: =IFERROR(B16*C16*E16*F16*G16,0) -> 0 | I16: =IFERROR(H16/$H$80,0) -> 0
F17: =IFERROR(VLOOKUP(A17,Honorarios!$A$9:$C$15,2,FALSE),"") | G17: =IFERROR(((VLOOKUP(A17,Honorarios!$A$9:$C$15,3,FALSE))),"") | H17: =IFERROR(B17*C17*E17*F17*G17,0) -> 0 | I17: =IFERROR(H17/$H$80,0) -> 0
F18: =IFERROR(VLOOKUP(A18,Honorarios!$A$9:$C$15,2,FALSE),"") | G18: =IFERROR(((VLOOKUP(A18,Honorarios!$A$9:$C$15,3,FALSE))),"") | H18: =IFERROR(B18*C18*E18*F18*G18,0) -> 0 | I18: =IFERROR(H18/$H$80,0) -> 0
F19: =IFERROR(VLOOKUP(A19,Honorarios!$A$9:$C$15,2,FALSE),"") | G19: =IFERROR(((VLOOKUP(A19,Honorarios!$A$9:$C$15,3,FALSE))),"") | H19: =IFERROR(B19*C19*E19*F19*G19,0) -> 0 | I19: =IFERROR(H19/$H$80,0) -> 0
F20: =IFERROR(VLOOKUP(A20,Honorarios!$A$9:$C$15,2,FALSE),"") | G20: =IFERROR(((VLOOKUP(A20,Honorarios!$A$9:$C$15,3,FALSE))),"") | H20: =IFERROR(B20*C20*E20*F20*G20,0) -> 0 | I20: =IFERROR(H20/$H$80,0) -> 0
F21: =IFERROR(VLOOKUP(A21,Honorarios!$A$9:$C$15,2,FALSE),"") | G21: =IFERROR(((VLOOKUP(A21,Honorarios!$A$9:$C$15,3,FALSE))),"") | H21: =IFERROR(B21*C21*E21*F21*G21,0) -> 0 | I21: =IFERROR(H21/$H$80,0) -> 0
F22: =IFERROR(VLOOKUP(A22,Honorarios!$A$9:$C$15,2,FALSE),"") | G22: =IFERROR(((VLOOKUP(A22,Honorarios!$A$9:$C$15,3,FALSE))),"") | H22: =IFERROR(B22*C22*E22*F22*G22,0) -> 0 | I22: =IFERROR(H22/$H$80,0) -> 0
... F51: =IFERROR(VLOOKUP(A51,Honorarios!$A$9:$C$15,2,FALSE),"") | G51: =IFERROR(((VLOOKUP(A51,Honorarios!$A$9:$C$15,3,FALSE))),"") | H51: =IFERROR(B51*C51*E51*F51*G51,0) -> 0 | I51: =IFERROR(H51/$H$80,0) -> 0
A52: Subtotal Mano de Obra calificada | H52: =SUM(H11:H51) -> 0 | I52: =SUM(I11:I51) -> 0
A53: Mano de Obra No Calificada
H54: =B54*C54*E54*F54*G54 -> 0 | I54: =IFERROR(H54/$H$80,0) -> 0
H55: =B55*C55*E55*F55*G55 -> 0 | I55: =IFERROR(H55/$H$80,0) -> 0
H56: =B56*C56*E56*F56*G56 -> 0 | I56: =IFERROR(H56/$H$80,0) -> 0
H57: =B57*C57*E57*F57*G57 -> 0 | I57: =IFERROR(H57/$H$80,0) -> 0
H58: =B58*C58*E58*F58*G58 -> 0 | I58: =IFERROR(H58/$H$80,0) -> 0
H59: =B59*C59*E59*F59*G59 -> 0 | I59: =IFERROR(H59/$H$80,0) -> 0
H60: =B60*C60*E60*F60*G60 -> 0 | I60: =IFERROR(H60/$H$80,0) -> 0
H61: =B61*C61*E61*F61*G61 -> 0 | I61: =IFERROR(H61/$H$80,0) -> 0
H62: =B62*C62*E62*F62*G62 -> 0 | I62: =IFERROR(H62/$H$80,0) -> 0
H63: =B63*C63*E63*F63*G63 -> 0 | I63: =IFERROR(H63/$H$80,0) -> 0
H64: =B64*C64*E64*F64*G64 -> 0 | I64: =IFERROR(H64/$H$80,0) -> 0
H65: =B65*C65*E65*F65*G65 -> 0 | I65: =IFERROR(H65/$H$80,0) -> 0
... H78: =B78*C78*E78*F78*G78 -> 0 | I78: =IFERROR(H78/$H$80,0) -> 0
A79: Subtotal Mano de Obra no Calificada | H79: =SUM(H54:H78) -> 0 | I79: =SUM(I54:I78) -> 0
A80: SUBTOTAL PERSONAL (Mano de Obra Calificada + Mano de Obra no Calificada) | H80: =H52+H79 -> 0 | I80: =I52+I79 -> 0
A82: COSTOS (Diferentes a los costos del personal)
A83: Ítem | D83: Unidad de medida | E83: Cantidad | F83: Valor unitario | H83: Valor total | I83: (%) PP | J83: IVA | K83: Valor con IVA
...

Sheet Ppto PSP
B1: SISTEMA DE GESTIÓN INTEGRAL - SGI | G1: Instructivo
B2: PRESUPUESTO - MODALIDAD CONTRATO - PRESTACIÓN DE SERVICIOS PERSONALES | G2: Plan de ejecución física y de inversiones - prestación de servicios personales
B3: CÓDIGO: F-PGC-21 | E3: =Instructivo!G3 -> VERSIÓN: 04
A5: MODALIDAD DE CONTRATACIÓN: | B5: =#REF! -> #REF!
A6: OBJETO A CONTRATAR: | B6: =#REF! -> #REF!
A8: Ítem | B8: Unidad de medida | C8: Cantidad | D8: Valor unitario base | E8: Factor prestacional | F8: Valor total
B9: Mes | D9: =IFERROR(VLOOKUP(A9,Honorarios!$A$9:$C$15,2,FALSE),"") | E9: =IFERROR(VLOOKUP(A9,Honorarios!$A$9:$C$15,3,FALSE),"") | F9: =IFERROR(C9*D9*E9,0) -> 0 | G9: Tabla de honorarios
A11: SUBTOTAL | F11: =F9+F10 -> 0
A12: IVA | F12: 0 | G12: Solo aplica en caso que la persona natural sea responsable de IVA
A13: TOTAL | F13: =F11+F12 -> 0

Sheet Presupuesto Convenio
E1: SISTEMA DE GESTIÓN INTEGRAL - SGI | U1: Instructivo
E2: PRESUPUESTO - MODALIDAD CONVENIO
E3: CÓDIGO: F-PGC-21 | M3: =Instructivo!G3 -> VERSIÓN: 04
A5: MODALIDAD DE CONTRATACIÓN: | C5: ='Plan Ejecución'!AE5 -> Licitación Pública
A6: OBJETO A CONTRATAR: | C6: ='Plan Ejecución'!AE6 -> “Adquirir el Programa de Seguros para la protección de los bienes e intereses, según los ramos y coberturas que requiera CORANTIOQUIA”.
A8: COSTOS DE PERSONAL | J8: FUENTES DE COFINANCIACIÓN | O8: Recursos en dinero de CORANTIOQUIA por alcance, actividad o subactividad
A9: Ítem | B9: Cantidad personal | C9: (%) Dedicación | D9: Unidad de medida | E9: Cantidad | F9: Valor unitario base | G9: Factor prestacional | H9: Valor total | I9: (%) PP | J9: CORANTIOQUIA | L9: Entidad 1:
J10: DINERO | K10: ESPECIE | L10: DINERO | M10: ESPECIE | O10: Alcance 1 | P10: Alcance 2 | Q10: Alcance 3 | R10: Alcance 4 | S10: Alcance 5 | T10: Alcance 6
A11: Mano de Obra Calificada
F12: =IFERROR(VLOOKUP(A12,Honorarios!$A$9:$C$15,2,FALSE),"") | G12: =IFERROR(((VLOOKUP(A12,Honorarios!$A$9:$C$15,3,FALSE))),"") | H12: =IFERROR(B12*C12*E12*F12*G12,0) -> 0 | I12: =IFERROR(H12/$H$100,0) -> 0 | N12: =IFERROR(H12-SUM(J12:M12),"") -> 0 | U12: =J12-SUM(O12:T12) -> 0
F13: =IFERROR(VLOOKUP(A13,Honorarios!$A$9:$C$15,2,FALSE),"") | G13: =IFERROR(((VLOOKUP(A13,Honorarios!$A$9:$C$15,3,FALSE))),"") | H13: =IFERROR(B13*C13*E13*F13*G13,0) -> 0 | I13: =IFERROR(H13/$H$100,0) -> 0 | N13: =IFERROR(H13-SUM(J13:M13),"") -> 0 | U13: =J13-SUM(O13:T13) -> 0
F14: =IFERROR(VLOOKUP(A14,Honorarios!$A$9:$C$15,2,FALSE),"") | G14: =IFERROR(((VLOOKUP(A14,Honorarios!$A$9:$C$15,3,FALSE))),"") | H14: =IFERROR(B14*C14*E14*F14*G14,0) -> 0 | I14: =IFERROR(H14/$H$100,0) -> 0 | N14: =IFERROR(H14-SUM(J14:M14),"") -> 0 | U14: =J14-SUM(O14:T14) -> 0
F15: =IFERROR(VLOOKUP(A15,Honorarios!$A$9:$C$15,2,FALSE),"") | G15: =IFERROR(((VLOOKUP(A15,Honorarios!$A$9:$C$15,3,FALSE))),"") | H15: =IFERROR(B15*C15*E15*F15*G15,0) -> 0 | I15: =IFERROR(H15/$H$100,0) -> 0 | N15: =IFERROR(H15-SUM(J15:M15),"") -> 0 | U15: =J15-SUM(O15:T15) -> 0
F16: =IFERROR(VLOOKUP(A16,Honorarios!$A$9:$C$15,2,FALSE),"") | G16: =IFERROR(((VLOOKUP(A16,Honorarios!$A$9:$C$15,3,FALSE))),"") | H16: =IFERROR(B16*C16*E16*F16*G16,0) -> 0 | I16: =IFERROR(H16/$H$100,0) -> 0 | N16: =IFERROR(H16-SUM(J16:M16),"") -> 0 | U16: =J16-SUM(O16:T16) -> 0
F17: =IFERROR(VLOOKUP(A17,Honorarios!$A$9:$C$15,2,FALSE),"") | G17: =IFERROR(((VLOOKUP(A17,Honorarios!$A$9:$C$15,3,FALSE))),"") | H17: =IFERROR(B17*C17*E17*F17*G17,0) -> 0 | I17: =IFERROR(H17/$H$100,0) -> 0 | N17: =IFERROR(H17-SUM(J17:M17),"") -> 0 | U17: =J17-SUM(O17:T17) -> 0
F18: =IFERROR(VLOOKUP(A18,Honorarios!$A$9:$C$15,2,FALSE),"") | G18: =IFERROR(((VLOOKUP(A18,Honorarios!$A$9:$C$15,3,FALSE))),"") | H18: =IFERROR(B18*C18*E18*F18*G18,0) -> 0 | I18: =IFERROR(H18/$H$100,0) -> 0 | N18: =IFERROR(H18-SUM(J18:M18),"") -> 0 | U18: =J18-SUM(O18:T18) -> 0
F19: =IFERROR(VLOOKUP(A19,Honorarios!$A$9:$C$15,2,FALSE),"") | G19: =IFERROR(((VLOOKUP(A19,Honorarios!$A$9:$C$15,3,FALSE))),"") | H19: =IFERROR(B19*C19*E19*F19*G19,0) -> 0 | I19: =IFERROR(H19/$H$100,0) -> 0 | N19: =IFERROR(H19-SUM(J19:M19),"") -> 0 | U19: =J19-SUM(O19:T19) -> 0
F20: =IFERROR(VLOOKUP(A20,Honorarios!$A$9:$C$15,2,FALSE),"") | G20: =IFERROR(((VLOOKUP(A20,Honorarios!$A$9:$C$15,3,FALSE))),"") | H20: =IFERROR(B20*C20*E20*F20*G20,0) -> 0 | I20: =IFERROR(H20/$H$100,0) -> 0 | N20: =IFERROR(H20-SUM(J20:M20),"") -> 0 | U20: =J20-SUM(O20:T20) -> 0
F21: =IFERROR(VLOOKUP(A21,Honorarios!$A$9:$C$15,2,FALSE),"") | G21: =IFERROR(((VLOOKUP(A21,Honorarios!$A$9:$C$15,3,FALSE))),"") | H21: =IFERROR(B21*C21*E21*F21*G21,0) -> 0 | I21: =IFERROR(H21/$H$100,0) -> 0 | N21: =IFERROR(H21-SUM(J21:M21),"") -> 0 | U21: =J21-SUM(O21:T21) -> 0
F22: =IFERROR(VLOOKUP(A22,Honorarios!$A$9:$C$15,2,FALSE),"") | G22: =IFERROR(((VLOOKUP(A22,Honorarios!$A$9:$C$15,3,FALSE))),"") | H22: =IFERROR(B22*C22*E22*F22*G22,0) -> 0 | I22: =IFERROR(H22/$H$100,0) -> 0 | N22: =IFERROR(H22-SUM(J22:M22),"") -> 0 | U22: =J22-SUM(O22:T22) -> 0
F23: =IFERROR(VLOOKUP(A23,Honorarios!$A$9:$C$15,2,FALSE),"") | G23: =IFERROR(((VLOOKUP(A23,Honorarios!$A$9:$C$15,3,FALSE))),"") | H23: =IFERROR(B23*C23*E23*F23*G23,0) -> 0 | I23: =IFERROR(H23/$H$100,0) -> 0 | N23: =IFERROR(H23-SUM(J23:M23),"") -> 0 | U23: =J23-SUM(O23:T23) -> 0
... F60: =IFERROR(VLOOKUP(A60,Honorarios!$A$9:$C$15,2,FALSE),"") | G60: =IFERROR(((VLOOKUP(A60,Honorarios!$A$9:$C$15,3,FALSE))),"") | H60: =IFERROR(B60*C60*E60*F60*G60,0) -> 0 | I60: =IFERROR(H60/$H$100,0) -> 0 | N60: =IFERROR(H60-SUM(J60:M60),"") -> 0 | U60: =J60-SUM(O60:T60) -> 0
A61: Subtotal Mano de Obra calificada | H61: =SUM(H12:H60) -> 0 | I61: =SUM(I12:I60) -> 0 | J61: =SUM(J12:J60) -> 0 | K61: =SUM(K12:K60) -> 0 | L61: =SUM(L12:L60) -> 0 | M61: =SUM(M12:M60) -> 0 | N61: =H61-SUM(J61:M61) -> 0
A62: Mano de Obra No Calificada
H63: =IFERROR(B63*C63*E63*F63*G63,0) -> 0 | I63: =IFERROR(H63/$H$100,0) -> 0 | N63: =H63-SUM(J63:M63) -> 0 | U63: =J63-SUM(O63:T63) -> 0
H64: =IFERROR(B64*C64*E64*F64*G64,0) -> 0 | I64: =IFERROR(H64/$H$100,0) -> 0 | N64: =H64-SUM(J64:M64) -> 0 | U64: =J64-SUM(O64:T64) -> 0
H65: =IFERROR(B65*C65*E65*F65*G65,0) -> 0 | I65: =IFERROR(H65/$H$100,0) -> 0 | N65: =H65-SUM(J65:M65) -> 0 | U65: =J65-SUM(O65:T65) -> 0
H66: =IFERROR(B66*C66*E66*F66*G66,0) -> 0 | I66: =IFERROR(H66/$H$100,0) -> 0 | N66: =H66-SUM(J66:M66) -> 0 | U66: =J66-SUM(O66:T66) -> 0
H67: =IFERROR(B67*C67*E67*F67*G67,0) -> 0 | I67: =IFERROR(H67/$H$100,0) -> 0 | N67: =H67-SUM(J67:M67) -> 0 | U67: =J67-SUM(O67:T67) -> 0
H68: =IFERROR(B68*C68*E68*F68*G68,0) -> 0 | I68: =IFERROR(H68/$H$100,0) -> 0 | N68: =H68-SUM(J68:M68) -> 0 | U68: =J68-SUM(O68:T68) -> 0
H69: =IFERROR(B69*C69*E69*F69*G69,0) -> 0 | I69: =IFERROR(H69/$H$100,0) -> 0 | N69: =H69-SUM(J69:M69) -> 0 | U69: =J69-SUM(O69:T69) -> 0
H70: =IFERROR(B70*C70*E70*F70*G70,0) -> 0 | I70: =IFERROR(H70/$H$100,0) -> 0 | N70: =H70-SUM(J70:M70) -> 0 | U70: =J70-SUM(O70:T70) -> 0
H71: =IFERROR(B71*C71*E71*F71*G71,0) -> 0 | I71: =IFERROR(H71/$H$100,0) -> 0 | N71: =H71-SUM(J71:M71) -> 0 | U71: =J71-SUM(O71:T71) -> 0
H72: =IFERROR(B72*C72*E72*F72*G72,0) -> 0 | I72: =IFERROR(H72/$H$100,0) -> 0 | N72: =H72-SUM(J72:M72) -> 0 | U72: =J72-SUM(O72:T72) -> 0
H73: =IFERROR(B73*C73*E73*F73*G73,0) -> 0 | I73: =IFERROR(H73/$H$100,0) -> 0 | N73: =H73-SUM(J73:M73) -> 0 | U73: =J73-SUM(O73:T73) -> 0
H74: =IFERROR(B74*C74*E74*F74*G74,0) -> 0 | I74: =IFERROR(H74/$H$100,0) -> 0 | N74: =H74-SUM(J74:M74) -> 0 | U74: =J74-SUM(O74:T74) -> 0
... H98: =IFERROR(B98*C98*E98*F98*G98,0) -> 0 | I98: =IFERROR(H98/$H$100,0) -> 0 | N98: =H98-SUM(J98:M98) -> 0 | U98: =J98-SUM(O98:T98) -> 0
A99: Subtotal Mano de Obra no Calificada | H99: =SUM(H63:H98) -> 0 | I99: =SUM(I63:I98) -> 0 | J99: =SUM(J63:J98) -> 0 | K99: =SUM(K63:K98) -> 0 | L99: =SUM(L63:L98) -> 0 | M99: =SUM(M63:M98) -> 0 | N99: =H99-SUM(J99:M99) -> 0
A100: SUBTOTAL PERSONAL (Mano de Obra Calificada + Mano de Obra no Calificada) | H100: =H61+H99 -> 0 | I100: =I61+I99 -> 0 | J100: =J61+J99 -> 0 | K100: =K61+K99 -> 0 | L100: =L61+L99 -> 0 | M100: =M61+M99 -> 0 | N100: =H100-SUM(J100:M100) -> 0
A102: COSTOS (Diferentes a los costos del personal) | J102: FUENTES DE COFINANCIACIÓN
...

Sheet Memoria de cálculo O1
B1: SISTEMA DE GESTIÓN INTEGRAL - SGI | F1: Instructivo
B2: MEMORIA DE CÁLCULO - OPCIÓN 1
B3: CÓDIGO: F-PGC-21 | D3: =Instructivo!G3 -> VERSIÓN: 04
A5: MODALIDAD DE CONTRATACIÓN: | B5: ='Plan Ejecución'!AE5 -> Licitación Pública
A6: OBJETO A CONTRATAR: | B6: ='Plan Ejecución'!AE6 -> “Adquirir el Programa de Seguros para la protección de los bienes e intereses, según los ramos y coberturas que requiera CORANTIOQUIA”.
A8: PROCESO/ ALCANCE / ACTIVIDAD: | B8: =+B6 -> “Adquirir el Programa de Seguros para la protección de los bienes e intereses, según los ramos y coberturas que requiera CORANTIOQUIA”.
A9: UNIDAD DE MEDIDA PARA EL PRECIO UNITARIO: | B9: Pólizas
A10: ESPECIFICACIÓN TÉCNICA PARA EL PRECIO UNITARIO:
A12: Ítem | B12: Unidad de medida | C12: Cantidad | D12: Valor unitario | E12: Valor total
A13: TR DAÑO MATERIAL | B13: Póliza | C13: 1 | D13: =+'Presupuesto Contrato'!H84 -> 92760629 | E13: =C13*D13 -> 92760629
A14: AUTOS | B14: Póliza | C14: 1 | D14: =+'Presupuesto Contrato'!H85 -> 149451400 | E14: =C14*D14 -> 149451400
A15: SOAT | B15: Póliza | C15: 1 | D15: =+'Presupuesto Contrato'!H86 -> 28620300 | E15: =C15*D15 -> 28620300
A16: VIDA GRUPO | B16: Póliza | C16: 1 | D16: =+'Presupuesto Contrato'!H87 -> 380000000 | E16: =C16*D16 -> 380000000
A17: MANEJO SECTOR OFICIAL | B17: Póliza | C17: 1 | D17: =+'Presupuesto Contrato'!H88 -> 72015000 | E17: =C17*D17 -> 72015000
A18: RESPOSABILIDAD CIVIL EXTRACONTRACTUAL | B18: Póliza | C18: 1 | D18: =+'Presupuesto Contrato'!H89 -> 33765000 | E18: =C18*D18 -> 33765000
A19: TRANSPORTE DE MERCANCIAS | B19: Póliza | C19: 1 | D19: =+'Presupuesto Contrato'!H90 -> 12515000 | E19: =C19*D19 -> 12515000
A20: TRANSPORTE DE VALORES | B20: Póliza | C20: 1 | D20: =+'Presupuesto Contrato'!H91 -> 165000 | E20: =+C20*D20 -> 165000
A21: RC SERVIDORES PUBLICOS | B21: Póliza | C21: 1 | D21: =+'Presupuesto Contrato'!H92 -> 350015000 | E21: =C21*D21 -> 350015000
A22: CUMPLIMIENTO | B22: Póliza | C22: 1 | D22: =+'Presupuesto Contrato'!H93 -> 35662136 | E22: =C22*D22 -> 35662136
E23: =C23*D23 -> 0
E24: =C24*D24 -> 0
E25: =C25*D25 -> 0
E26: =C26*D26 -> 0
E27: =C27*D27 -> 0
E28: =C28*D28 -> 0
E29: =C29*D29 -> 0
E30: =C30*D30 -> 0
E31: =C31*D31 -> 0
E32: =C32*D32 -> 0
E33: =C33*D33 -> 0
E34: =C34*D34 -> 0
... E185: =C185*D185 -> 0
A186: SUBTOTAL (antes de IVA) | E186: =SUM(E13:E185) -> 1.1549695e+09
A187: IVA | D187: 0.19 | E187: =(+D13+D14+D17+D18+D19+D20+D21)*0.19 -> 1.3503054e+08 | F187: Info IVA
A188: TOTAL (incluido IVA) | E188: =SUM(E186:E187) -> 1290000000

Sheet PE1 -TARIFA 1 
A1: FORMATO A PE1 - PROPUESTA ECONÓMICA
A2: OBJETO: PRESTAR EL SERVICIO DE SEGURIDAD Y VIGILANCIA REQUERIDO POR CORANTIOQUIA
A3: COMPONENTE PE1- TARIFA 1: SERVICIO DE VIGILANCIA HUMANA
A4: TARIFA QUE RIGE DEL 1 DE ENERO AL 14 DE JULIO DE 2023
A5: NOTAS:
A6: Nota 1: El FORMATO 6 - PROPUESTA ECONÓMICA, es la tabla conformada por la oferta económica del proponente para los 7 componentes del proceso y sus diferentes ítems, en la tabla se relacionan los valores soportados en los siguientes formatos, que corresponden a cada componente: FORMATO A PE1 - PROPUESTA ECONÓMICA - COMPONENTE PE1: SERVICIO DE VIGILANCIA HUMANA FORMATO B PE2 - PROPUESTA ECONÓMICA - COMPONENTE PE2: MONITOREO ALARMAS - MEDIOS TECNOLÓGICOS FORMATO C PE3 - PROPUESTA ECONÓMICA - COMPONENTE PE3: MANTENIMIENTO PREVENTIVO AL SISTEMA DE ALARMAS FORMATO D PE4 - PROPUESTA ECONÓMICA - COMPONENTE PE4: MANTENIMIENTO PREVENTIVO AL SISTEMA DE VIDEO (CCTV) FORMATO E PE5 - PROPUESTA ECONÓMICA - COMPONENTE PE5: MANTENIMIENTO PREVENTIVO AL SISTEMA DE CONTROL DE ACCESO FORMATO F PE6 - PROPUESTA ECONÓMICA - COMPONENTE PE6: MANTENIMIENTO CORRECTIVO Y SUS ACCESORIOS FORMATO G PE7 - PROPUESTA ECONÓMICA - COMPONENTE PE7: PRESTAR EL SERVICIO DE VIGILANCIA CON ORTOFOTO Cada formato se deberá diligenciar acorde a las notas y especificaciones propias que cada uno de ellos contemple. Por tanto, para determinar el menor valor de la propuesta se tomará la suma del VALOR TOTAL ANTES DE IVA de cada uno de los 7 componentes, considerando, que en el proceso se cuenta con dos bolsas, para los componentes PE6: MANTENIMIENTO CORRECTIVO Y SUS ACCESORIOS y PE7: PRESTAR EL SERVICIO DE VIGILANCIA CON ORTOFOTO, las cuales, que si bien se asignarán por el valor establecido en el presupuesto corporativo ($45.500,000 IVA incluido y $20.000.000 IVA incluido respectivamente), para la evaluación, con el fin de determinar el menor valor de la propuesta se tomará la sumatoria de los valores totales (valor unitario por cantidad) ofertados por el proponente antes de IVA (VALOR TOTAL ANTES DE IVA). El FORMATO 6 - PROPUESTA ECONÓMICA solo se evaluará si se presenta con los 7 formatos soporte (formato A al formato F), en caso, que no se presenten todos los formatos, la propuesta será rechazada.
A7: Nota 2: El proponente deberá establecer el VALOR UNITARIO X MES ANTES DE IVA (espacios subrayados en gris claro), para cada ítem solicitado. Será causal de rechazo no diligenciar o modificar, uno o varios de los ítems, valores o especificaciones solicitadas. Los valores deben estar acorde a las especificaciones técnicas de acuerdo a los Estudios previos del proceso, y se deben expresar en números enteros o sin decimales, es decir, se deben redondear los valores respectivamente.
A8: Nota 3: Los oferentes podrán ofertar valores unitarios menores o iguales a los establecidos en el presupuesto de los estudios previos (VALOR UNITARIO DE REFERENCIA PARA LA CORPORACIÓN X MES ANTES DE IVA ), no obstante, el valor unitario no podrá ser superior al establecido en el presupuesto oficial y documentos de Estudios previos, ya que será causal de rechazo de la propuesta.
A9: Nota 4: Los valores que se oferten deberán sostenerse y demostrar su cumplimiento durante la ejecución del contrato.
A10: Nota 5: El presente formato se deberá presentar en archivo tipo Excel.
A11: Nota 6: Para la evaluación económica de las propuestas, la entidad podrá realizar las correcciones aritméticas a las que haya lugar, entendiendo por esto, las correcciones de una operación matemática por error de cálculo numérico en que se incurre al elaborar la propuesta económica. Adicionalmente la Corporación, podrá solicitar a los proponentes las aclaraciones y explicaciones que se estimen pertinentes, así mismo, el valor total corregido no podrá exceder el VALOR TOTAL IVA INCLUIDO establecido por la corporación para el componente.
A12: Nota 7: Las tarifas mínimas para la contratación del servicio de vigilancia y seguridad privada en la vigencia 2023, están reguladas por medio de la Circular 20221300000675 de la SuperVigilancia. Los oferentes deberán establecer para cada ítem, el VALOR UNITARIO X MES ANTES DE IVA (espacios subrayados en gris claro), de acuerdo a lo estipulado en dicha circular, considerando que los valores se deben expresar en números enteros o sin decimales, redondeandolós respectivamente.
A13: Nota 8: Según la Circular 20221300000675 se debe cotizar el servicio correspondiente a la tarifa que rige del 1 de enero al 14 de julio de 2023 (Tarifa 1)
A14: N. | B14: SEDE | C14: MUNICIPIO | E14: SERVICIOS REQUERIDOS | F14: CON o SIN ARMA | G14: VALOR UNITARIO DE REFERENCIA PARA LA CORPORACIÓN X MES ANTES DE IVA (redondeado a entero) | H14: VALOR UNITARIO X MES ANTES DE IVA (redondeado a entero) | I14: SERVICIOS | J14: VALOR TOTAL X MES ANTES DE IVA
A15: 1 | B15: OFICINA TERRITORIAL CITARA | C15: ANDES | D15: 1 | E15: UN (1) SERVICIO DE 12 HORAS LUNES A VIERNES, excluyendo festivos DE 06:30 A 18:30, SIN ARMA | F15: SIN ARMA | G15: 3290929 | I15: 1 | J15: 0
A16: 2 | B16: VIVERO EL PEDRAL | C16: HISPANIA | D16: 1 | E16: UN (1) SERVICIO DE 24 HORAS CON ARMA NO LETAL , que cumpla jornada tanto diurna como nocturna, incluyendo los días hábiles, sábados, domingos y festivos | F16: ARMA NO LETAL | G16: 11228800 | I16: 1 | J16: 0
A17: 3 | B17: VIVERO LOMA HERMOSA | C17: SAN JERÓNIMO | D17: 1 | E17: UN (1) SERVICIO DE 24 HORAS SIN ARMA , que cumpla jornada tanto diurna como nocturna, incluyendo los días hábiles, sábados, domingos y festivos. | F17: SIN ARMA | G17: 11024640 | I17: 1 | J17: 0
A18: 4 | B18: OFICINA TERRITORIAL CARTAMA | C18: JERICO | D18: 1 | E18: UN (1) SERVICIO DE 12 HORAS LUNES A VIERNES SIN ARMA, excluyendo los festivos, distribuidos así: de 6:00 am hasta las 6:00 pm. | F18: SIN ARMA | G18: 3290929 | I18: 1 | J18: 0
A19: 5 | B19: OFICINA TERRITORIAL HEVEXICOS | C19: SANTA FE DE ANTIOQUIA | D19: 1 | E19: UN (1) SERVICIO DE 24 HORAS SIN ARMA, que cumpla jornada tanto diurna como nocturna, incluyendo los días hábiles, sábados, domingos y festivos. | F19: SIN ARMA | G19: 11024640 | I19: 1 | J19: 0
A20: 6 | B20: OFICINA TERRITORIAL TAHAMÍES | C20: SANTA ROSA DE OSOS | D20: 1 | E20: UN (1) SERVICIO DE 12 HORAS DE LUNES A VIERNES SIN ARMA , excluyendo festivos, entre las 6:00 am y 18:00. | F20: SIN ARMA | G20: 3290929 | I20: 1 | J20: 0
A21: 7 | B21: OFICINA TERRITORIAL ZENUFANA | C21: VEGACHI | D21: 1 | E21: UN (1) SERVICIO DE 24 HORAS CON ARMA NO LETAL, que cumpla jornada tanto diurna como nocturna, incluyendo los días hábiles, sábados, domingos y festivos. | F21: ARMA NO LETAL | G21: 11228800 | I21: 1 | J21: 0
A22: 8 | B22: OFICINA TERRITORIAL PANZENU | C22: CAUCASIA | D22: 1 | E22: UN (1) SERVICIO DE 24 HORAS CON ARMA NO LETAL, que cumpla jornada tanto diurna como nocturna, incluyendo los días hábiles, sábados, domingos y festivos. | F22: ARMA NO LETAL | G22: 11228800 | I22: 1 | J22: 0
A23: 9 | B23: VIVERO LA AGUADA | C23: CORREGIMIENTO DE SANTA ELENA (MEDELLÍN) | D23: 1 | E23: UN (1) SERVICIO DE 24 HORAS CON ARMA NO LETAL, que cumpla jornada tanto diurna como nocturna, incluyendo los días hábiles, sábados, domingos y festivos. | F23: ARMA NO LETAL | G23: 11228800 | I23: 1 | J23: 0
A24: 10 | B24: SEDE PRINCIPAL | C24: MEDELLÍN | D24: 1 | E24: UN (1) SERVICIOS DE 12 HORAS DE LUNES A VIERNES CON ARMA, excluyendo festivos, entre las 6:00 am y 18:00. | F24: LETAL | G24: 3351872 | I24: 1 | J24: 0
A25: 11 | D25: 1 | E25: UN (1) SERVICIOS DE 12 HORAS DE LUNES A VIERNES de 6:00 AM a 18:00 y SABADOS DE 6:00 AM a 14:00 PM CON ARMA, excluyendo los festivos. | F25: LETAL | G25: 3798788 | I25: 1 | J25: 0
A26: 12 | D26: 1 | E26: UN (1) SERVICIO DE 24 HORAS CON ARMA que cumpla jornada tanto diurna como nocturna, incluyendo los días hábiles, sábados, domingos y festivos. | F26: LETAL | G26: 11228800 | I26: 1 | J26: 0
A27: 13 | D27: 1 | E27: UN (1) SERVICIOS DE 12 HORAS DE LUNES A VIERNES de 6:30 AM a 18:30 (sector la Cra. 64) CON ARMA | F27: LETAL | G27: 3351872 | I27: 1 | J27: 0
A28: 14 | D28: 1 | E28: UN (1) SERVICIOS DE RECEPCIONISTA DE 10 HORAS DE LUNES A VIERNES, entre las 7:30 am y 17:30. | F28: N/A | G28: 2742440 | I28: 1 | J28: 0
A29: VALOR TOTAL X MES ANTES DE IVA | J29: =SUM(J15:J25) -> 0
A30: MESES | J30: 2
A31: VALOR TOTAL ANTES de IVA | J31: =J29*J30 -> 0
A32: IVA 19% (sobre el AU del 10%) | J32: =(J31*10%)*19% -> 0
A33: VALOR TOTAL IVA INCLUIDO | J33: =J31+J32 -> 0
A35: LAS TARIFAS DEBEN CORRESPONDER A LAS ESTABLECIDAS POR LA SUPERINTENDENCIA DE VIGILANCIA Y SEGURIDAD PRIVADA PARA LA VIGENCIA 2023 MEDIANTE CIRCULAR Nº 20221300000675
A36: * SEGÚN LA CIRCULAR SE DEBE COTIZAR EL SERVICIO CORRESPONDIENTE A LA TARIFA QUE RIGE DEL 1 DE ENERO AL 14 DE JULIO DE 2023 Y COTIZAR LA TARIFA QUE RIGE DEL 15 DE JULIO AL 31 DE DICIEMBRE DE 2023
A38: Se deberán presentar las cifras en función REDONDEAR con decimales cero (0), es decir el número se redondea al número entero más próximo; tanto de los valores unitarios antes de IVA, valor IVA, como del valor total incluido IVA; por lo anterior no se aceptarán valores con decimales en las cotizaciones
A39: FIRMA DEL OFERENTE: NOMBRE DEL OFERENTE:

Sheet PE1 -TARIFA 2
A1: FORMATO A PE1 - PROPUESTA ECONÓMICA
A2: OBJETO: PRESTAR EL SERVICIO DE SEGURIDAD Y VIGILANCIA REQUERIDO POR CORANTIOQUIA
A3: COMPONENTE PE1-TARIFA 2: SERVICIO DE VIGILANCIA HUMANA
A4: TARIFA QUE RIGE DEL 15 DE JULIO AL 31 DE DICIEMBRE DE 2023
A5: NOTAS:
A6: Nota 1: El FORMATO 6 - PROPUESTA ECONÓMICA, es la tabla conformada por la oferta económica del proponente para los 7 componentes del proceso y sus diferentes ítems, en la tabla se relacionan los valores soportados en los siguientes formatos, que corresponden a cada componente: FORMATO A PE1 - PROPUESTA ECONÓMICA - COMPONENTE PE1: SERVICIO DE VIGILANCIA HUMANA FORMATO B PE2 - PROPUESTA ECONÓMICA - COMPONENTE PE2: MONITOREO ALARMAS - MEDIOS TECNOLÓGICOS FORMATO C PE3 - PROPUESTA ECONÓMICA - COMPONENTE PE3: MANTENIMIENTO PREVENTIVO AL SISTEMA DE ALARMAS FORMATO D PE4 - PROPUESTA ECONÓMICA - COMPONENTE PE4: MANTENIMIENTO PREVENTIVO AL SISTEMA DE VIDEO (CCTV) FORMATO E PE5 - PROPUESTA ECONÓMICA - COMPONENTE PE5: MANTENIMIENTO PREVENTIVO AL SISTEMA DE CONTROL DE ACCESO FORMATO F PE6 - PROPUESTA ECONÓMICA - COMPONENTE PE6: MANTENIMIENTO CORRECTIVO Y SUS ACCESORIOS FORMATO G PE7 - PROPUESTA ECONÓMICA - COMPONENTE PE7: PRESTAR EL SERVICIO DE VIGILANCIA CON ORTOFOTO Cada formato se deberá diligenciar acorde a las notas y especificaciones propias que cada uno de ellos contemple. Por tanto, para determinar el menor valor de la propuesta se tomará la suma del VALOR TOTAL ANTES DE IVA de cada uno de los 7 componentes, considerando, que en el proceso se cuenta con dos bolsas, para los componentes PE6: MANTENIMIENTO CORRECTIVO Y SUS ACCESORIOS y PE7: PRESTAR EL SERVICIO DE VIGILANCIA CON ORTOFOTO, las cuales, que si bien se asignarán por el valor establecido en el presupuesto corporativo ($45.500,000 IVA incluido y $20.000.000 IVA incluido respectivamente), para la evaluación, con el fin de determinar el menor valor de la propuesta se tomará la sumatoria de los valores totales (valor unitario por cantidad) ofertados por el proponente antes de IVA (VALOR TOTAL ANTES DE IVA). El FORMATO 6 - PROPUESTA ECONÓMICA solo se evaluará si se presenta con los 7 formatos soporte (formato A al formato F), en caso, que no se presenten todos los formatos, la propuesta será rechazada.
A7: Nota 2: El proponente deberá establecer el VALOR UNITARIO X MES ANTES DE IVA (espacios subrayados en gris claro), para cada ítem solicitado. Será causal de rechazo no diligenciar o modificar, uno o varios de los ítems, valores o especificaciones solicitadas. Los valores deben estar acorde a las especificaciones técnicas de acuerdo a los Estudios previos del proceso, y se deben expresar en números enteros o sin decimales, es decir, se deben redondear los valores respectivamente.
A8: Nota 3: Los oferentes podrán ofertar valores unitarios menores o iguales a los establecidos en el presupuesto de los estudios previos (VALOR UNITARIO DE REFERENCIA PARA LA CORPORACIÓN X MES ANTES DE IVA ), no obstante, el valor unitario no podrá ser superior al establecido en el presupuesto oficial y documentos de Estudios previos, ya que será causal de rechazo de la propuesta.
A9: Nota 4: Los valores que se oferten deberán sostenerse y demostrar su cumplimiento durante la ejecución del contrato.
A10: Nota 5: El presente formato se deberá presentar en archivo tipo Excel.
A11: Nota 6: Para la evaluación económica de las propuestas, la entidad podrá realizar las correcciones aritméticas a las que haya lugar, entendiendo por esto, las correcciones de una operación matemática por error de cálculo numérico en que se incurre al elaborar la propuesta económica. Adicionalmente la Corporación, podrá solicitar a los proponentes las aclaraciones y explicaciones que se estimen pertinentes, así mismo, el valor total corregido no podrá exceder el VALOR TOTAL IVA INCLUIDO establecido por la corporación para el componente.
A12: Nota 7: Las tarifas mínimas para la contratación del servicio de vigilancia y seguridad privada en la vigencia 2023, están reguladas por medio de la Circular 20221300000675 de la SuperVigilancia. Los oferentes deberán establecer para cada ítem, el VALOR UNITARIO X MES ANTES DE IVA (espacios subrayados en gris claro), de acuerdo a lo estipulado en dicha circular, considerando que los valores se deben expresar en números enteros o sin decimales, redondeandolós respectivamente.
A13: Nota 8: Según la Circular 20221300000675 se debe cotizar el servicio correspondiente a la tarifa que rige del 15 de julio al 31 de diciembre de 2023 (Tarifa 2)
A14: N. | B14: SEDE | C14: MUNICIPIO | E14: SERVICIOS REQUERIDOS | F14: CON o SIN ARMA | G14: VALOR UNITARIO DE REFERENCIA PARA LA CORPORACIÓN X MES ANTES DE IVA (redondeado a entero) | H14: VALOR UNITARIO X MES ANTES DE IVA (redondeado a entero) | I14: SERVICIOS | J14: VALOR TOTAL X MES ANTES DE IVA
A15: 1 | B15: OFICINA TERRITORIAL CITARA | C15: ANDES | D15: 1 | E15: UN (1) SERVICIO DE 12 HORAS LUNES A VIERNES, excluyendo festivos DE 06:30 A 18:30, SIN ARMA | F15: SIN ARMA | G15: 3388161 | I15: 1 | J15: 0
A16: 2 | B16: VIVERO EL PEDRAL | C16: HISPANIA | D16: 1 | E16: UN (1) SERVICIO DE 24 HORAS CON ARMA NO LETAL , que cumpla jornada tanto diurna como nocturna, incluyendo los días hábiles, sábados, domingos y festivos | F16: ARMA NO LETAL | G16: 11560560 | I16: 1 | J16: 0
A17: 3 | B17: VIVERO LOMA HERMOSA | C17: SAN JERÓNIMO | D17: 1 | E17: UN (1) SERVICIO DE 24 HORAS SIN ARMA , que cumpla jornada tanto diurna como nocturna, incluyendo los días hábiles, sábados, domingos y festivos. | F17: SIN ARMA | G17: 11350368 | I17: 1 | J17: 0
A18: 4 | B18: OFICINA TERRITORIAL CARTAMA | C18: JERICO | D18: 1 | E18: UN (1) SERVICIO DE 12 HORAS LUNES A VIERNES SIN ARMA, excluyendo los festivos, distribuidos así: de 6:00 am hasta las 6:00 pm. | F18: SIN ARMA | G18: 3388161 | I18: 1 | J18: 0
A19: 5 | B19: OFICINA TERRITORIAL HEVEXICOS | C19: SANTA FE DE ANTIOQUIA | D19: 1 | E19: UN (1) SERVICIO DE 24 HORAS SIN ARMA, que cumpla jornada tanto diurna como nocturna, incluyendo los días hábiles, sábados, domingos y festivos. | F19: SIN ARMA | G19: 11350368 | I19: 1 | J19: 0
A20: 6 | B20: OFICINA TERRITORIAL TAHAMÍES | C20: SANTA ROSA DE OSOS | D20: 1 | E20: UN (1) SERVICIO DE 12 HORAS DE LUNES A VIERNES SIN ARMA , excluyendo festivos, entre las 6:00 am y 18:00. | F20: SIN ARMA | G20: 3388161 | I20: 1 | J20: 0
A21: 7 | B21: OFICINA TERRITORIAL ZENUFANA | C21: VEGACHI | D21: 1 | E21: UN (1) SERVICIO DE 24 HORAS CON ARMA NO LETAL, que cumpla jornada tanto diurna como nocturna, incluyendo los días hábiles, sábados, domingos y festivos. | F21: ARMA NO LETAL | G21: 11560560 | I21: 1 | J21: 0
A22: 8 | B22: OFICINA TERRITORIAL PANZENU | C22: CAUCASIA | D22: 1 | E22: UN (1) SERVICIO DE 24 HORAS CON ARMA NO LETAL, que cumpla jornada tanto diurna como nocturna, incluyendo los días hábiles, sábados, domingos y festivos. | F22: ARMA NO LETAL | G22: 11560560 | I22: 1 | J22: 0
A23: 9 | B23: VIVERO LA AGUADA | C23: CORREGIMIENTO DE SANTA ELENA (MEDELLÍN) | D23: 1 | E23: UN (1) SERVICIO DE 24 HORAS CON ARMA NO LETAL, que cumpla jornada tanto diurna como nocturna, incluyendo los días hábiles, sábados, domingos y festivos. | F23: ARMA NO LETAL | G23: 11560560 | I23: 1 | J23: 0
A24: 10 | B24: SEDE PRINCIPAL | C24: MEDELLÍN | D24: 1 | E24: UN (1) SERVICIOS DE 12 HORAS DE LUNES A VIERNES CON ARMA, excluyendo festivos, entre las 6:00 am y 18:00. | F24: LETAL | G24: 3450904 | I24: 1 | J24: 0
A25: 11 | D25: 1 | E25: UN (1) SERVICIOS DE 12 HORAS DE LUNES A VIERNES de 6:00 AM a 18:00 y SABADOS DE 6:00 AM a 14:00 PM CON ARMA, excluyendo los festivos. | F25: LETAL | G25: 3911025 | I25: 1 | J25: 0
A26: 12 | D26: 1 | E26: UN (1) SERVICIO DE 24 HORAS CON ARMA que cumpla jornada tanto diurna como nocturna, incluyendo los días hábiles, sábados, domingos y festivos. | F26: LETAL | G26: 11560560 | I26: 1 | J26: 0
A27: 13 | D27: 1 | E27: UN (1) SERVICIOS DE 12 HORAS DE LUNES A VIERNES de 6:30 AM a 18:30 (sector la Cra. 64) CON ARMA | F27: LETAL | G27: 3450904 | I27: 1 | J27: 0
A28: 14 | D28: 1 | E28: UN (1) SERVICIOS DE RECEPCIONISTA DE 10 HORAS DE LUNES A VIERNES, entre las 7:30 am y 17:30. | F28: N/A | G28: 2823467 | I28: 1 | J28: 0
A29: VALOR TOTAL X MES ANTES DE IVA | J29: =SUM(J15:J25) -> 0
A30: MESES | J30: 6
A31: VALOR TOTAL ANTES de IVA | J31: =J29*J30 -> 0
A32: IVA 19% (sobre el AU del 10%) | J32: =(J31*10%)*19% -> 0
A33: VALOR TOTAL IVA INCLUIDO | J33: =J31+J32 -> 0
A35: LAS TARIFAS DEBEN CORRESPONDER A LAS ESTABLECIDAS POR LA SUPERINTENDENCIA DE VIGILANCIA Y SEGURIDAD PRIVADA PARA LA VIGENCIA 2023 MEDIANTE CIRCULAR Nº 20221300000675
A36: * SEGÚN LA CIRCULAR SE DEBE COTIZAR EL SERVICIO CORRESPONDIENTE A LA TARIFA QUE RIGE DEL 1 DE ENERO AL 14 DE JULIO DE 2023 Y COTIZAR LA TARIFA QUE RIGE DEL 15 DE JULIO AL 31 DE DICIEMBRE DE 2023
A38: Se deberán presentar las cifras en función REDONDEAR con decimales cero (0), es decir el número se redondea al número entero más próximo; tanto de los valores unitarios antes de IVA, valor IVA, como del valor total incluido IVA; por lo anterior no se aceptarán valores con decimales en las cotizaciones
A39: FIRMA DEL OFERENTE: NOMBRE DEL OFERENTE:

Sheet Hoja1

Sheet PE2-FPE
A1: FORMATO B PE2 - PROPUESTA ECONÓMICA
A2: OBJETO: PRESTAR EL SERVICIO DE SEGURIDAD Y VIGILANCIA REQUERIDO POR CORANTIOQUIA
A3: COMPONENTE PE2: MONITOREO ALARMAS - MEDIOS TECNOLÓGICOS
A5: NOTAS:
A6: Nota 1: El FORMATO 6 - PROPUESTA ECONÓMICA, es la tabla conformada por la oferta económica del proponente para los 7 componentes del proceso y sus diferentes ítems, en la tabla se relacionan los valores soportados en los siguientes formatos, que corresponden a cada componente: FORMATO A PE1 - PROPUESTA ECONÓMICA - COMPONENTE PE1: SERVICIO DE VIGILANCIA HUMANA FORMATO B PE2 - PROPUESTA ECONÓMICA - COMPONENTE PE2: MONITOREO ALARMAS - MEDIOS TECNOLÓGICOS FORMATO C PE3 - PROPUESTA ECONÓMICA - COMPONENTE PE3: MANTENIMIENTO PREVENTIVO AL SISTEMA DE ALARMAS FORMATO D PE4 - PROPUESTA ECONÓMICA - COMPONENTE PE4: MANTENIMIENTO PREVENTIVO AL SISTEMA DE VIDEO (CCTV) FORMATO E PE5 - PROPUESTA ECONÓMICA - COMPONENTE PE5: MANTENIMIENTO PREVENTIVO AL SISTEMA DE CONTROL DE ACCESO FORMATO F PE6 - PROPUESTA ECONÓMICA - COMPONENTE PE6: MANTENIMIENTO CORRECTIVO Y SUS ACCESORIOS FORMATO G PE7 - PROPUESTA ECONÓMICA - COMPONENTE PE7: PRESTAR EL SERVICIO DE VIGILANCIA CON ORTOFOTO Cada formato se deberá diligenciar acorde a las notas y especificaciones propias que cada uno de ellos contemple. Por tanto, para determinar el menor valor de la propuesta se tomará la suma del VALOR TOTAL ANTES DE IVA de cada uno de los 7 componentes, considerando, que en el proceso se cuenta con dos bolsas, para los componentes PE6: MANTENIMIENTO CORRECTIVO Y SUS ACCESORIOS y PE7: PRESTAR EL SERVICIO DE VIGILANCIA CON ORTOFOTO, las cuales, que si bien se asignarán por el valor establecido en el presupuesto corporativo ($45.000,000 IVA incluido y $20.000.000 IVA incluido respectivamente), para la evaluación, con el fin de determinar el menor valor de la propuesta se tomará la sumatoria de los valores totales (valor unitario por cantidad) ofertados por el proponente antes de IVA (VALOR TOTAL ANTES DE IVA). El FORMATO 6 - PROPUESTA ECONÓMICA solo se evaluará si se presenta con los 7 formatos soporte (formato A al formato F), en caso, que no se presenten todos los formatos, la propuesta será rechazada.
