Workbook

Sheet Estudio de mercado
D1: GESTIÓN CONTRACTUAL
D2: ELABORACIÓN ESTUDIOS DE MERCADO - PROCESOS DE GESTIÓN CONTRACTUAL
A4: DESCRIPCIÓN GENERAL | G4: ORGANIZACIÓN CIENCIOMETRICA (Cotización año 2026) | J4: Radar Grupo Empresarial (Cotización año 2024) | N4: Biteca S.A.S. (Cotización año 2024) | R4: =Z4 -> PROMEDIO DE LAS 2 MÁS BAJAS (INDEXACIÓN DE PRECIOS - PRECIOS DE REFERENCIA, ETC) | T4: PROMEDIO (INDEXACIÓN DE PRECIOS - PRECIOS DE REFERENCIA, ETC) | V4: MEDIA GEOMÉTRICA (INDEXACIÓN DE PRECIOS - PRECIOS DE REFERENCIA, ETC) | X4: MEDIA ARMÓNICA (INDEXACIÓN DE PRECIOS - PRECIOS DE REFERENCIA, ETC) | Z4: PROMEDIO DE LAS 2 MÁS BAJAS (INDEXACIÓN DE PRECIOS - PRECIOS DE REFERENCIA, ETC) | AB4: MEDIA GEOMÉTRICA DE LAS 2 MÁS BAJAS (INDEXACIÓN DE PRECIOS - PRECIOS DE REFERENCIA, ETC) | AD4: MEDIA ARMÓNICA DE LAS 2 MÁS BAJAS (INDEXACIÓN DE PRECIOS - PRECIOS DE REFERENCIA, ETC)
A5: No. Item | B5: Código UNSPSC | C5: Ref. Artículo | D5: Descripción | E5: Cantidad | F5: Unidad de Medida | G5: Precio unitario antes de IVA | H5: Precio unitario IVA incluido | I5: Precio total IVA incluido | J5: Precio unitario antes de IVA | K5: Precio unitario antes de IVA (Indexado 2025 y 2026) | L5: Precio unitario IVA incluido | M5: Precio total IVA incluido | N5: Precio unitario antes de IVA | O5: Precio unitario antes de IVA (Indexado 2025 y 2026) | P5: Precio unitario IVA incluido | Q5: Precio total IVA incluido | R5: Precio unitario estimado IVA incluido | S5: Precio total unitario estimado IVA incluido | T5: Precio unitario estimado IVA incluido | U5: Precio total unitario estimado IVA incluido | V5: Precio unitario estimado IVA incluido | W5: Precio total unitario estimado IVA incluido | X5: Precio unitario estimado IVA incluido | Y5: Precio total unitario estimado IVA incluido | Z5: Precio unitario estimado IVA incluido | AA5: Precio total unitario estimado IVA incluido | AB5: Precio unitario estimado IVA incluido | AC5: Precio total unitario estimado IVA incluido | AD5: Precio unitario estimado IVA incluido | AE5: Precio total unitario estimado IVA incluido
A6: 1 | D6: Suscripción a soporte (técnico, preventivo y correctivo), configuración, mantenimiento y asesoría integral en la plataforma Open Journal Systems (OJS) para revistas | E6: 8 | F6: MES | G6: 1800000 | H6: =+ROUND(G6*(1+19%),0) -> 2142000 | I6: =+H6*E6 -> 17136000 | J6: 1800000 | K6: =ROUND(J6*(1+5.2%)*(1+5.1%),0) -> 1990174 | L6: =+ROUND(K6*(1+19%),0) -> 2368307 | M6: =+L6*E6 -> 18946456 | N6: 1650000 | O6: =ROUND(N6*(1+5.2%)*(1+5.1%),0) -> 1824326 | P6: =+ROUND(N6*(1+19%),0) -> 1963500 | Q6: =+P6*E6 -> 15708000 | R6: =Z6 -> 1963500 | S6: =+ROUND(R6*E6,0) -> 15708000 | T6: =+ROUND(AVERAGE(L6,H6,P6),0) -> 2157936 | U6: =+ROUND(T6*E6,0) -> 17263488 | V6: =+ROUND(GEOMEAN(H6,L6,P6),0) -> 2151606 | W6: =+ROUND(V6*E6,0) -> 17212848 | X6: =+ROUND(HARMEAN(L6,P6,H6),0) -> 2145323 | Y6: =+ROUND(X6*E6,0) -> 17162584 | Z6: {=+ROUND(AVERAGE(SMALL((H6,L6,P6),{1})),0)} -> 1963500 | AA6: =+Z6*E6 -> 15708000 | AB6: {=+ROUND(AVERAGE(SMALL((H6,L6,P6),{1})),0)} -> 1963500 | AC6: =+AB6*E6 -> 15708000 | AD6: {=+ROUND(HARMEAN(SMALL((H6,L6,P6),{1})),0)} -> 1963500 | AE6: =+AD6*E6 -> 15708000
A7: 2 | D7: Suscripción a soporte (técnico, preventivo y correctivo), configuración, mantenimiento y asesoría integral en la plataforma Open Monograph Press (OMP) para libros | E7: 8 | F7: MES | G7: 1800000 | H7: =+ROUND(G7*(1+19%),0) -> 2142000 | I7: =+H7*E7 -> 17136000 | J7: 1250000 | K7: =ROUND(J7*(1+5.2%)*(1+5.1%),0) -> 1382065 | L7: =+ROUND(K7*(1+19%),0) -> 1644657 | M7: =+L7*E7 -> 13157256 | N7: 1460000 | O7: =ROUND(N7*(1+5.2%)*(1+5.1%),0) -> 1614252 | P7: =+ROUND(N7*(1+19%),0) -> 1737400 | Q7: =+P7*E7 -> 13899200 | R7: =Z7 -> 1691029 | S7: =+ROUND(R7*E7,0) -> 13528232 | T7: =+ROUND(AVERAGE(L7,H7,P7),0) -> 1841352 | U7: =+ROUND(T7*E7,0) -> 14730816 | V7: =+ROUND(GEOMEAN(H7,L7,P7),0) -> 1829216 | W7: =+ROUND(V7*E7,0) -> 14633728 | X7: =+ROUND(HARMEAN(L7,P7,H7),0) -> 1817680 | Y7: =+ROUND(X7*E7,0) -> 14541440 | Z7: {=+ROUND(AVERAGE(SMALL((H7,L7,P7),{1;2})),0)} -> 1691029 | AA7: =+Z7*E7 -> 13528232 | AB7: {=+ROUND(AVERAGE(SMALL((H7,L7,P7),{1;2})),0)} -> 1691029 | AC7: =+AB7*E7 -> 13528232 | AD7: {=+ROUND(HARMEAN(SMALL((H7,L7,P7),{1;2})),0)} -> 1689757 | AE7: =+AD7*E7 -> 13518056
A8: 3 | D8: Suscripción a las plataformas Crossref, Portico y herramienta de detección de plagio para apoyar los procesos editoriales de asignación de identificadores digitales DOI, revisión de metadatos, verificación de originalidad y preservación digital. | E8: 8 | F8: MES | G8: 1200000 | H8: =+ROUND(G8*(1+19%),0) -> 1428000 | I8: =+H8*E8 -> 11424000 | J8: 1250000 | K8: =ROUND(J8*(1+5.2%)*(1+5.1%),0) -> 1382065 | L8: =+ROUND(K8*(1+19%),0) -> 1644657 | M8: =+L8*E8 -> 13157256 | N8: 1050000 | O8: =ROUND(N8*(1+5.2%)*(1+5.1%),0) -> 1160935 | P8: =+ROUND(N8*(1+19%),0) -> 1249500 | Q8: =+P8*E8 -> 9996000 | R8: =Z8 -> 1338750 | S8: =+ROUND(R8*E8,0) -> 10710000 | T8: =+ROUND(AVERAGE(L8,H8,P8),0) -> 1440719 | U8: =+ROUND(T8*E8,0) -> 11525752 | V8: =+ROUND(GEOMEAN(H8,L8,P8),0) -> 1431682 | W8: =+ROUND(V8*E8,0) -> 11453456 | X8: =+ROUND(HARMEAN(L8,P8,H8),0) -> 1422725 | Y8: =+ROUND(X8*E8,0) -> 11381800 | Z8: {=+ROUND(AVERAGE(SMALL((H8,L8,P8),{1;2})),0)} -> 1338750 | AA8: =+Z8*E8 -> 10710000 | AB8: {=+ROUND(AVERAGE(SMALL((H8,L8,P8),{1;2})),0)} -> 1338750 | AC8: =+AB8*E8 -> 10710000 | AD8: {=+ROUND(HARMEAN(SMALL((H8,L8,P8),{1;2})),0)} -> 1332800 | AE8: =+AD8*E8 -> 10662400
A9: 4 | D9: Jornadas de capacitación en OJS/OMP | E9: 16 | F9: JORNADA | G9: 500000 | H9: =+ROUND(G9*(1+19%),0) -> 595000 | I9: =+H9*E9 -> 9520000 | J9: 0 | K9: 0 | L9: =+ROUND(K9*(1+19%),0) -> 0 | M9: =+L9*E9 -> 0 | N9: 0 | O9: =ROUND(N9*(1+5.2%)*(1+5.1%),0) -> 0 | P9: =+ROUND(N9*(1+19%),0) -> 0 | Q9: =+P9*E9 -> 0 | R9: =Z9 -> 595000 | S9: =+ROUND(R9*E9,0) -> 9520000 | T9: =+ROUND(AVERAGE(H9),0) -> 595000 | U9: =+ROUND(T9*E9,0) -> 9520000 | V9: =+ROUND(GEOMEAN(H9),0) -> 595000 | W9: =+ROUND(V9*E9,0) -> 9520000 | X9: =+ROUND(HARMEAN(H9),0) -> 595000 | Y9: =+ROUND(X9*E9,0) -> 9520000 | Z9: {=+ROUND(AVERAGE(SMALL((H9),{1})),0)} -> 595000 | AA9: =+Z9*E9 -> 9520000 | AB9: {=+ROUND(AVERAGE(SMALL((H9),{1})),0)} -> 595000 | AC9: =+AB9*E9 -> 9520000 | AD9: {=+ROUND(HARMEAN(SMALL((H9),{1})),0)} -> 595000 | AE9: =+AD9*E9 -> 9520000
A10: VALOR TOTAL ESTUDIO DE MERCADO | I10: =SUM(I6:I9) -> 55216000 | M10: =SUM(M6:M9) -> 45260968 | Q10: =SUM(Q6:Q9) -> 39603200 | S10: =SUM(S6:S9) -> 49466232 | U10: =SUM(U6:U9) -> 53040056 | W10: =SUM(W6:W9) -> 52820032 | Y10: =SUM(Y6:Y9) -> 52605824 | AA10: =SUM(AA6:AA9) -> 49466232 | AC10: =SUM(AC6:AC9) -> 49466232 | AE10: =SUM(AE6:AE9) -> 49408456
A11: Para estimar el valor del presupuesto del presente proceso, se realizó un comparativo entre las tres (3) empresas que presentaron cotización, en donde, se contempló el promedio de los dos valores unitarios más bajos de las cotizaciones recibidas, ya que esta medida de tendencia central refleja el precio más acertado y objetivo del mercado.

Sheet Resumen
C1: GESTIÓN CONTRACTUAL
C2: ELABORACIÓN ESTUDIOS DE MERCADO - PROCESOS DE GESTIÓN CONTRACTUAL
A3: No. Item | B3: Código UNSPSC | C3: Ref. Artículo | D3: Descripción | E3: Cantidad | F3: Unidad de Medida | G3: Precio unitario estimado IVA incluido | H3: Precio total estimado IVA incluido
A4: 1 | D4: =+'Estudio de mercado'!D6 -> Suscripción a soporte (técnico, preventivo y correctivo), configuración, mantenimiento y asesoría integral en la plataforma Open Journal Systems (OJS) para revistas | E4: =+'Estudio de mercado'!E6 -> 8 | F4: MES | G4: =+'Estudio de mercado'!R6 -> 1963500 | H4: =+G4*E4 -> 15708000
A5: 2 | D5: =+'Estudio de mercado'!D7 -> Suscripción a soporte (técnico, preventivo y correctivo), configuración, mantenimiento y asesoría integral en la plataforma Open Monograph Press (OMP) para libros | E5: =+'Estudio de mercado'!E7 -> 8 | F5: MES | G5: =+'Estudio de mercado'!R7 -> 1691029 | H5: =+G5*E5 -> 13528232
A6: 3 | D6: =+'Estudio de mercado'!D8 -> Suscripción a las plataformas Crossref, Portico y herramienta de detección de plagio para apoyar los procesos editoriales de asignación de identificadores digitales DOI, revisión de metadatos, verificación de originalidad y preservación digital. | E6: =+'Estudio de mercado'!E8 -> 8 | F6: MES | G6: =+'Estudio de mercado'!R8 -> 1338750 | H6: =+G6*E6 -> 10710000
A7: 4 | D7: =+'Estudio de mercado'!D9 -> Jornadas de capacitación en OJS/OMP | E7: =+'Estudio de mercado'!E9 -> 16 | F7: MES | G7: =+'Estudio de mercado'!R9 -> 595000 | H7: =+G7*E7 -> 9520000
A8: VALOR TOTAL ESTUDIO DE MERCADO | H8: =SUM(H4:H7) -> 49466232

Sheet listado de unidades
A1: UNIDADES
A2: Nombre | B2: Descripción
A3: µA | B3: Microamperio
A4: µGL | B4: Microgramos/Litro
A5: µGQ | B5: Microgramos/ Metro cúbico
A6: µM | B6: Micrómetro
A7: 2IN | B7: Pulgada cuadrada
A8: A | B8: Amperio
A9: ACR | B9: Acre
A10: ANO | B10: Año
A11: ARR | B11: Arroba
A12: AT | B12: Hierro atado
A13: BDN | B13: Bidón
... A186: YD | B186: Yarda

Sheet Hoja1
A1: EMPRESA | D1: PROVEEDOR 1 Radar Grupo Empresarial | F1: PROVEEDOR 2 Metabiblioteca S.A.S. | H1: PROVEEDOR 3 Biteca S.A.S.
A2: VALOR COTIZADO | D2: 17850000 | F2: 14280000 | H2: 14899209

Sheet Unitarios
D1: GESTIÓN CONTRACTUAL | K1: 0.16 | M1: 0.16
D2: ELABORACIÓN ESTUDIOS DE MERCADO - PROCESOS DE GESTIÓN CONTRACTUAL | K2: 0.19 | M2: 0.19
A4: DESCRIPCIÓN GENERAL | G4: PROVEEDOR 1 Radar Grupo Empresarial | I4: PROVEEDOR 2 Metabiblioteca S.A.S. | K4: PROVEEDOR 3 Biteca S.A.S. | M4: PROVEEDOR 3 Biteca S.A.S. | O4: PROMEDIO (INDEXACIÓN DE PRECIOS - PRECIOS DE REFERENCIA, ETC) | Q4: MEDIA GEOMÉTRICA (INDEXACIÓN DE PRECIOS - PRECIOS DE REFERENCIA, ETC) | S4: MEDIA ARMÓNICA (INDEXACIÓN DE PRECIOS - PRECIOS DE REFERENCIA, ETC) | U4: PROMEDIO DE LAS 2 MÁS BAJAS (INDEXACIÓN DE PRECIOS - PRECIOS DE REFERENCIA, ETC) | W4: MEDIA GEOMÉTRICA DE LAS 2 MÁS BAJAS (INDEXACIÓN DE PRECIOS - PRECIOS DE REFERENCIA, ETC) | Y4: MEDIA ARMÓNICA DE LAS 2 MÁS BAJAS (INDEXACIÓN DE PRECIOS - PRECIOS DE REFERENCIA, ETC)
A5: No. Item | B5: Código UNSPSC | C5: Ref. Artículo | D5: Descripción | E5: Cantidad | F5: Unidad de Medida | G5: Precio unitario estimado IVA incluido | H5: Precio total estimado IVA incluido | I5: Precio unitario estimado IVA incluido | J5: Precio total estimado IVA incluido | K5: Precio unitario estimado IVA incluido | L5: Precio total estimado IVA incluido | M5: Precio unitario estimado IVA incluido | N5: Precio total estimado IVA incluido | O5: Precio unitario estimado IVA incluido | P5: Precio total unitario estimado IVA incluido | Q5: Precio unitario estimado IVA incluido | R5: Precio total unitario estimado IVA incluido | S5: Precio unitario estimado IVA incluido | T5: Precio total unitario estimado IVA incluido | U5: Precio unitario estimado IVA incluido | V5: Precio total unitario estimado IVA incluido | W5: Precio unitario estimado IVA incluido | X5: Precio total unitario estimado IVA incluido | Y5: Precio unitario estimado IVA incluido | Z5: Precio total unitario estimado IVA incluido
A6: 1 | D6: Suscripción a soporte técnico y funcional, servicio y acompañamiento plataforma Open Journal Systems (OJS) (revistas) | E6: 3 | F6: MES | G6: =+'[1]Formato cotizacion'!$F$16*1.19 -> 2142000 | H6: =+G6*E6 -> 6426000 | I6: =1000000*1.19 -> 1190000 | J6: =+I6*E6 -> 3570000 | K6: =1654188*1.19 -> 1968483.7 | L6: =+K6*C6 -> 0 | M6: =1654188*1.19 -> 1968483.7 | N6: =+M6*E6 -> 5905451.2 | O6: =+ROUND(AVERAGE(I6,G6,M6),0) -> 1766828 | P6: =+O6*E6 -> 5300484 | Q6: =+ROUND(GEOMEAN(G6,I6,M6),0) -> 1711983 | R6: =+Q6*E6 -> 5135949 | S6: =+ROUND(HARMEAN(I6,M6,G6),0) -> 1652715 | T6: =+S6*E6 -> 4958145 | U6: {=+ROUND(AVERAGE(SMALL((G6,I6,M6),{1;2})),0)} -> 1579242 | V6: =+U6*E6 -> 4737726 | W6: {=+ROUND(GEOMEAN(SMALL((G6,I6,M6),{1;2})),0)} -> 1530521 | X6: =+W6*E6 -> 4591563 | Y6: {=+ROUND(HARMEAN(SMALL((G6,I6,M6),{1;2})),0)} -> 1483304 | Z6: =+Y6*E6 -> 4449912
A7: 2 | D7: Soporte técnico, servicio, mantenimiento, acompañamiento y asesoría para el uso del sistema Open Monograph Press (OMP) (libros) | E7: 3 | F7: MES | G7: =+'[1]Formato cotizacion'!$F$17*1.19 -> 1487500 | H7: =+G7*E7 -> 4462500 | I7: =1000000*1.19 -> 1190000 | J7: =+I7*E7 -> 3570000 | K7: =1014205*1.19 -> 1206903.9 | L7: =+K7*C7 -> 0 | M7: =1014205*1.19 -> 1206903.9 | N7: =+M7*E7 -> 3620711.8 | O7: =+ROUND(AVERAGE(I7,G7,M7),0) -> 1294801 | P7: =+O7*E7 -> 3884403 | Q7: =+ROUND(GEOMEAN(G7,I7,M7),0) -> 1287930 | R7: =+Q7*E7 -> 3863790 | S7: =+ROUND(HARMEAN(I7,M7,G7),0) -> 1281410 | T7: =+S7*E7 -> 3844230 | U7: {=+ROUND(AVERAGE(SMALL((G7,I7,M7),{1;2})),0)} -> 1198452 | V7: =+U7*E7 -> 3595356 | W7: {=+ROUND(GEOMEAN(SMALL((G7,I7,M7),{1;2})),0)} -> 1198422 | X7: =+W7*E7 -> 3595266 | Y7: {=+ROUND(HARMEAN(SMALL((G7,I7,M7),{1;2})),0)} -> 1198392 | Z7: =+Y7*E7 -> 3595176
A8: 3 | D8: Suscripción al portafolio Digital Object Identifier (DOI) (Cargue de URL de texto completo a Similarity Check para evitar plagio en textos de revistas y libros de la entidad). | E8: 3 | F8: MES | G8: =+'[1]Formato cotizacion'!$F$18*1.19 -> 1487500 | H8: =+G8*E8 -> 4462500 | I8: =1000000*1.19 -> 1190000 | J8: =+I8*E8 -> 3570000 | K8: =1043362*1.19 -> 1241600.8 | L8: =+K8*C8 -> 0 | M8: =1043362*1.19 -> 1241600.8 | N8: =+M8*E8 -> 3724802.3 | O8: =+ROUND(AVERAGE(I8,G8,M8),0) -> 1306367 | P8: =+O8*E8 -> 3919101 | Q8: =+ROUND(GEOMEAN(G8,I8,M8),0) -> 1300156 | R8: =+Q8*E8 -> 3900468 | S8: =+ROUND(HARMEAN(I8,M8,G8),0) -> 1294210 | T8: =+S8*E8 -> 3882630 | U8: {=+ROUND(AVERAGE(SMALL((G8,I8,M8),{1;2})),0)} -> 1215800 | V8: =+U8*E8 -> 3647400 | W8: {=+ROUND(GEOMEAN(SMALL((G8,I8,M8),{1;2})),0)} -> 1215527 | X8: =+W8*E8 -> 3646581 | Y8: {=+ROUND(HARMEAN(SMALL((G8,I8,M8),{1;2})),0)} -> 1215253 | Z8: =+Y8*E8 -> 3645759
A9: VALOR TOTAL ESTUDIO DE MERCADO | H9: =SUM(H6:H8) -> 15351000 | J9: =SUM(J6:J8) -> 10710000 | L9: =SUM(L6:L8) -> 0 | N9: =SUM(N6:N8) -> 13250965 | P9: =SUM(P6:P8) -> 13103988 | R9: =SUM(R6:R8) -> 12900207 | T9: =SUM(T6:T8) -> 12685005 | V9: =SUM(V6:V8) -> 11980482 | X9: =SUM(X6:X8) -> 11833410 | Z9: =SUM(Z6:Z8) -> 11690847
A10: Para estimar el valor del presupuesto del presente proceso, se realizó un comparativo entre las tres (3) empresas que presentaron cotización, en donde, se contempló el promedio de los valores unitarios de las cotizaciones recibidas, ya que esta medida de tendencia central refleja el precio más acertado y objetivo del mercado. Elaboró: Daniel Cepeda, Profesional Especializado- Infraestructura
