Workbook
Name \a: #REF!
Name \b: #REF!
Name \b: #REF!
Name \c: #REF!
Name \c: #REF!
Name \e: #REF!
Name \i: #REF!
Name \m: #REF!
Name \r: #REF!
Name \s: #REF!
Name \t: #REF!
Name \x: #REF!
Name \z: #REF!
Name __________________________________________________________Po2: #REF!
Name __________________________________________________________TPE1132: #REF!
Name __________________________________________________________TPE1331: #REF!
Name __________________________________________________________TPE1702: #REF!
Name __________________________________________________________TPE1703: #REF!
Name __________________________________________________________TPE1704: #REF!
Name __________________________________________________________TPE1706: #REF!
Name __________________________________________________________TPE1708: #REF!
Name __________________________________________________________TPE1710: #REF!
Name __________________________________________________________TPE1735: #REF!
Name __________________________________________________________TPE1763: #REF!
Name __________________________________________________________TPE1790: #REF!
Name __________________________________________________________TUZ22: #REF!
Name __________________________________________________________TUZ36: #REF!
Name __________________________________________________________TZ323: #REF!
Name __________________________________________________________TZ324: #REF!
Name ________________________________________________________AIU1: #REF!
Name ________________________________________________________AIU2: #REF!
Name ________________________________________________________Cod1: #REF!
Name ________________________________________________________Po2: #REF!
Name ________________________________________________________TPE1132: #REF!
Name ________________________________________________________TPE1331: #REF!
Name ________________________________________________________TPE1702: #REF!
Name ________________________________________________________TPE1703: #REF!
Name ________________________________________________________TPE1704: #REF!
Name ________________________________________________________TPE1706: #REF!
Name ________________________________________________________TPE1708: #REF!
Name ________________________________________________________TPE1710: #REF!
Name ________________________________________________________TPE1735: #REF!
Name ________________________________________________________TPE1763: #REF!
Name ________________________________________________________TPE1790: #REF!
Name ________________________________________________________TUZ22: #REF!
Name ________________________________________________________TUZ36: #REF!
Name ________________________________________________________TZ323: #REF!
Name ________________________________________________________TZ324: #REF!
Name _______________________________________________________AIU1: #REF!
Name _______________________________________________________AIU1: #REF!
Name _______________________________________________________AIU1: #REF!
Name _______________________________________________________AIU1: #REF!
Name _______________________________________________________AIU1: #REF!
Name _______________________________________________________AIU2: #REF!
Name _______________________________________________________CAN28: #REF!
Name _______________________________________________________Cod1: #REF!
Name _______________________________________________________Cod1: #REF!
Name _______________________________________________________Cod1: #REF!
Name _______________________________________________________Cod1: #REF!
Name _______________________________________________________Cod1: #REF!

Sheet PRESUP
B2: CONSTRUCCIÓN DE LA SEGUNDA ETAPA DEL PLAN MAESTRO DE ACUEDUCTO Y ALCANTARILLADO DE LOS SECTORES LA VIEJITA, LOS SAUCES, EL ALTO 2, MALPASO 2 Y ADOQUINADO DEL MUNICIPIO DE SAN CARLOS, ANTIOQUIA
B3: CANTIDADES DE OBRA Y PRESUPUESTO
B4: ITEM | C4: DESCRIPCIÓN | D4: UN | E4: CANT | F4: VALOR UNITARIO | G4: VALOR TOTAL | I4: MATERIALES | J4: M.O CALIFICADA | K4: M.O NO CALIFICADA | L4: TRANSPORTE | M4: MAQUINARIA | N4: TOTAL | Q4: ITEM | R4: MATERIALES | T4: M.O CALIFICADA | V4: M.O NO CALIFICADA | X4: TRANSPORTE | Z4: MAQUINARIA | AB4: TOTAL
B5: ='APU''S'!B2 -> 1. ACTIVIDADES PRELIMINARES | G5: =ROUND(SUM(G6:G7),0) -> 135731645 | I5: =SUM(I6:I7) -> 56612839 | J5: =SUM(J6:J7) -> 44775357 | K5: =SUM(K6:K7) -> 13383694 | L5: =SUM(L6:L7) -> 0 | M5: =SUM(M6:M7) -> 20959596 | N5: =ROUND(SUM(I5:M5),0) -> 135731487
B6: ='APU''S'!I4 -> 1.1 | C6: ='APU''S'!B4 -> Localización, trazado y replanteo de tuberías. | D6: ='APU''S'!C14 -> día | E6: =ROUND(60,2) -> 60 | F6: =+'APU''S'!B14 -> 987150 | G6: =ROUND(E6*F6,0) -> 59229000 | I6: =E6*F6*S6 -> 1830924 | J6: =E6*F6*U6 -> 31200000 | K6: =E6*F6*W6 -> 5238480 | L6: =E6*F6*Y6 -> 0 | M6: =20959552.8674669+43 -> 20959596 | N6: =ROUND(SUM(I6:M6),0) -> 59229000 | Q6: =B6 -> 1.1 | R6: =+'APU''S'!G7+'APU''S'!I6 -> 30515.4 | S6: =R6/AB6 -> 0.030912627 | T6: =+'APU''S'!H8 -> 520000 | U6: =T6/AB6 -> 0.52676898 | V6: =+'APU''S'!H9 -> 87308 | W6: =V6/AB6 -> 0.088444512 | X6: 0 | Y6: =X6/AB6 -> 0 | Z6: =+'APU''S'!F10+'APU''S'!F11 -> 349325.88 | AA6: =Z6/AB6 -> 0.35387315 | AB6: =F6 -> 987150 | AD6: =R6+T6+V6+X6+Z6-AB6 -> -0.71887555 | AE6: 0
B7: ='APU''S'!I16 -> 1.2 | C7: ='APU''S'!B16 -> S.T.C. de materiales para la construcción de cerramiento en tela verde sarán H: 2m, distancia entre postes 2m, incluye: madera y todos los demás elementos necesarios para el buen desarrollo de dicha actividad | D7: ='APU''S'!C26 -> m | E7: =ROUND(2*ALDO!M503,2) -> 2487.81 | F7: ='APU''S'!B26 -> 30751 | G7: =ROUND(E7*F7,0) -> 76502645 | I7: =E7*F7*S7 -> 54781915 | J7: =E7*F7*U7 -> 13575357 | K7: =E7*F7*W7 -> 8145214.3 | L7: =E7*F7*Y7 -> 0 | M7: =E7*F7*AA7 -> 0 | N7: =ROUND(SUM(I7:M7),0) -> 76502487 | Q7: =B7 -> 1.2 | R7: ='APU''S'!I25+'APU''S'!G25-AE7 -> 22020.136 | S7: =R7/AB7 -> 0.7160787 | T7: ='APU''S'!H23 -> 5456.75 | U7: =T7/AB7 -> 0.17744951 | V7: ='APU''S'!H24 -> 3274.05 | W7: =V7/AB7 -> 0.10646971 | X7: 0 | Y7: =X7/AB7 -> 0 | Z7: 0 | AA7: =Z7/AB7 -> 0 | AB7: =F7 -> 30751 | AD7: =R7+T7+V7+X7+Z7-AB7 -> -0.0637445 | AE7: -0.6004596
B8: ='APU''S'!B28 -> 2. DEMOLICIONES | G8: =ROUND(SUM(G9:G11),0) -> 95324740 | I8: =SUM(I9:I11) -> 936503.19 | J8: =SUM(J9:J11) -> 0 | K8: =SUM(K9:K11) -> 18721454 | L8: =SUM(L9:L11) -> 14168704 | M8: =SUM(M9:M11) -> 61498270 | N8: =ROUND(SUM(I8:M8),0) -> 95324931
B9: ='APU''S'!I30 -> 2.1 | C9: ='APU''S'!B30 -> Corte, rotura y retiro de pavimento de concreto | D9: ='APU''S'!C38 -> m³ | E9: =ROUND(PAV!Q28+PAV!Q74,2) -> 683.65 | F9: ='APU''S'!B38 -> 114835 | G9: =ROUND(E9*F9,0) -> 78506948 | I9: =E9*F9*S9 -> 597291.33 | J9: =E9*F9*U9 -> 0 | K9: =E9*F9*W9 -> 11937623 | L9: =E9*F9*Y9 -> 10938400 | M9: =E9*F9*AA9 -> 55033825 | N9: =ROUND(SUM(I9:M9),0) -> 78507139 | Q9: =B9 -> 2.1 | R9: ='APU''S'!I37-AE9 -> 873.68 | S9: =R9/AB9 -> 0.0076081334 | T9: 0 | U9: =T9/AB9 -> 0 | V9: ='APU''S'!H37 -> 17461.6 | W9: =V9/AB9 -> 0.15205817 | X9: ='APU''S'!F34 -> 16000 | Y9: =X9/AB9 -> 0.13933034 | Z9: ='APU''S'!F32+'APU''S'!F33 -> 80500 | AA9: =Z9/AB9 -> 0.70100579 | AB9: =F9 -> 114835 | AD9: =R9+T9+V9+X9+Z9-AB9 -> 0.28 | AE9: -0.6
B10: ='APU''S'!I40 -> 2.2 | C10: ='APU''S'!B40 -> Demolición de andenes, incluye botada de escombros | D10: ='APU''S'!C48 -> m³ | E10: =ROUND(SUM('ACCESORIOS, ETC'!D29:D32)*0.4*1*0.2,2) -> 33.36 | F10: ='APU''S'!B48 -> 269231 | G10: =ROUND(E10*F10,0) -> 8981546 | I10: =E10*F10*S10 -> 182053.86 | J10: =E10*F10*U10 -> 0 | K10: =E10*F10*W10 -> 3640743.6 | L10: =E10*F10*Y10 -> 1214304 | M10: =E10*F10*AA10 -> 3944444.7 | N10: =ROUND(SUM(I10:M10),0) -> 8981546 | Q10: =B10 -> 2.2 | R10: ='APU''S'!I43-AE10 -> 5457.25 | S10: =R10/AB10 -> 0.020269768 | T10: 0 | U10: =T10/AB10 -> 0 | V10: ='APU''S'!H44+'APU''S'!H45 -> 109135 | W10: =V10/AB10 -> 0.40535822 | X10: ='APU''S'!I46 -> 36400 | Y10: =X10/AB10 -> 0.13519988 | Z10: ='APU''S'!F42 -> 118238.75 | AA10: =Z10/AB10 -> 0.43917212 | AB10: =F10 -> 269231 | AD10: =R10+T10+V10+X10+Z10-AB10 -> 0 | AE10: -0.5
B11: ='APU''S'!I50 -> 2.3 | C11: ='APU''S'!B50 -> Demolición de Camaras de inspección existente, incluye retiro de escombro | D11: ='APU''S'!C58 -> un | E11: =ROUND(E83+2,2) -> 18 | F11: ='APU''S'!B58 -> 435347 | G11: =ROUND(E11*F11,0) -> 7836246 | I11: =E11*F11*S11 -> 157158 | J11: =E11*F11*U11 -> 0 | K11: =E11*F11*W11 -> 3143088 | L11: =E11*F11*Y11 -> 2016000 | M11: =E11*F11*AA11 -> 2520000 | N11: =ROUND(SUM(I11:M11),0) -> 7836246 | Q11: =B11 -> 2.3 | R11: ='APU''S'!I54-AE11 -> 8731 | S11: =R11/AB11 -> 0.020055266 | T11: 0 | U11: =T11/AB11 -> 0 | V11: ='APU''S'!H57 -> 174616 | W11: =V11/AB11 -> 0.40109614 | X11: ='APU''S'!I53 -> 112000 | Y11: =X11/AB11 -> 0.25726604 | Z11: ='APU''S'!F52 -> 140000 | AA11: =Z11/AB11 -> 0.32158255 | AB11: =F11 -> 435347 | AD11: =R11+T11+V11+X11+Z11-AB11 -> 0 | AE11: -0.2
B12: ='APU''S'!B60 -> 3. EXCAVACIONES Y LLENOS | G12: =ROUND(SUM(G13:G21),0) -> 1045801858 | I12: =SUM(I13:I21) -> 1.6398458e+08 | J12: =SUM(J13:J21) -> 13924316 | K12: =SUM(K13:K21) -> 2.3540445e+08 | L12: =SUM(L13:L21) -> 4.0259082e+08 | M12: =SUM(M13:M21) -> 2.2989884e+08 | N12: =ROUND(SUM(I12:M12),0) -> 1045803005
B13: ='APU''S'!I62 -> 3.1 | C13: ='APU''S'!B62 -> Excavación manual en material heterogéneo de 0 - 2 m bajo cualquier grado de humedad | D13: ='APU''S'!C67 -> m³ | E13: =ROUND((E24*8*0.7*0.8)+ALDO!DP503+'ACOM ACTO'!AB47+'ACOM ACTO'!AE47,2) -> 2855.28 | F13: ='APU''S'!B67 -> 50421 | G13: =ROUND(E13*F13,0) -> 143966073 | I13: =E13*F13*S13 -> 6857240.4 | J13: =E13*F13*U13 -> 0 | K13: =E13*F13*W13 -> 1.3710883e+08 | L13: =E13*F13*Y13 -> 0 | M13: =E13*F13*AA13 -> 0 | N13: =ROUND(SUM(I13:M13),0) -> 143966073 | Q13: =B13 -> 3.1 | R13: ='APU''S'!I64-AE13 -> 2401.6 | S13: =R13/AB13 -> 0.047630947 | T13: 0 | U13: =T13/AB13 -> 0 | V13: ='APU''S'!H65 -> 48019.4 | W13: =V13/AB13 -> 0.95236905 | X13: 0 | Y13: =X13/AB13 -> 0 | Z13: 0 | AA13: =Z13/AB13 -> 0 | AB13: =F13 -> 50421 | AD13: =R13+T13+V13+X13+Z13-AB13 -> 0 | AE13: -0.63
B14: ='APU''S'!I69 -> 3.2 | C14: ='APU''S'!B69 -> Excavación mecánica en material heterogéneo de 0 - 2 m bajo cualquier grado de humedad | D14: ='APU''S'!C75 -> m³ | E14: =ROUND(ALDO!AC503+ALDO!AF503+ACTO!AB46+ACTO!AE46-ACTO!AB39-ACTO!AE39,2) -> 2823.61 | F14: ='APU''S'!B75 -> 38592 | G14: =ROUND(E14*F14,0) -> 108968757 | I14: =E14*F14*S14 -> 310032.38 | J14: =E14*F14*U14 -> 0 | K14: =E14*F14*W14 -> 6163093.5 | L14: =E14*F14*Y14 -> 0 | M14: =E14*F14*AA14 -> 1.0249563e+08 | N14: =ROUND(SUM(I14:M14),0) -> 108968757 | Q14: =B14 -> 3.2 | R14: ='APU''S'!I72-AE14 -> 109.8 | S14: =R14/AB14 -> 0.0028451493 | T14: 0 | U14: =T14/AB14 -> 0 | V14: ='APU''S'!H73 -> 2182.7 | W14: =V14/AB14 -> 0.056558354 | X14: 0 | Y14: =X14/AB14 -> 0 | Z14: ='APU''S'!F71 -> 36299.5 | AA14: =Z14/AB14 -> 0.9405965 | AB14: =F14 -> 38592 | AD14: =R14+T14+V14+X14+Z14-AB14 -> 0 | AE14: -0.665
B15: ='APU''S'!I77 -> 3.3 | C15: ='APU''S'!B77 -> Excavación mecánica en material heterogéneo de 2 - 4 m bajo cualquier grado de humedad | D15: ='APU''S'!C83 -> m³ | E15: =ROUND(ALDO!AD503+ALDO!AG503+ALDO!DQ503,2) -> 744.79 | F15: ='APU''S'!B83 -> 58992 | G15: =ROUND(E15*F15,0) -> 43936652 | I15: =E15*F15*S15 -> 81405.547 | J15: =E15*F15*U15 -> 0 | K15: =E15*F15*W15 -> 1625653.1 | L15: =E15*F15*Y15 -> 0 | M15: =E15*F15*AA15 -> 42229593 | N15: =ROUND(SUM(I15:M15),0) -> 43936652 | Q15: =B15 -> 3.3 | R15: ='APU''S'!I80-AE15 -> 109.3 | S15: =R15/AB15 -> 0.0018527936 | T15: 0 | U15: =T15/AB15 -> 0 | V15: ='APU''S'!H81 -> 2182.7 | W15: =V15/AB15 -> 0.036999932 | X15: 0 | Y15: =X15/AB15 -> 0 | Z15: ='APU''S'!F79 -> 56700 | AA15: =Z15/AB15 -> 0.96114727 | AB15: =F15 -> 58992 | AD15: =R15+T15+V15+X15+Z15-AB15 -> 0 | AE15: -0.165
B16: ='APU''S'!I85 -> 3.4 | C16: ='APU''S'!B85 -> Excavación mecánica en material heterogéneo > 4 m bajo cualquier grado de humedad | D16: ='APU''S'!C91 -> m³ | E16: =ROUND(ALDO!AE503+ALDO!AH503+ALDO!DR503,2) -> 0.35 | F16: ='APU''S'!B91 -> 59756 | G16: =ROUND(E16*F16,0) -> 20915 | I16: =E16*F16*S16 -> 51.006667 | J16: =E16*F16*U16 -> 0 | K16: =E16*F16*W16 -> 1018.5933 | L16: =E16*F16*Y16 -> 0 | M16: =E16*F16*AA16 -> 19845 | N16: =ROUND(SUM(I16:M16),0) -> 20915 | Q16: =B16 -> 3.4 | R16: ='APU''S'!I88-AE16 -> 145.73333 | S16: =R16/AB16 -> 0.0024388067 | T16: 0 | U16: =T16/AB16 -> 0 | V16: ='APU''S'!H89 -> 2910.2667 | W16: =V16/AB16 -> 0.048702501 | X16: 0 | Y16: =X16/AB16 -> 0 | Z16: ='APU''S'!F87 -> 56700 | AA16: =Z16/AB16 -> 0.94885869 | AB16: =F16 -> 59756 | AD16: =R16+T16+V16+X16+Z16-AB16 -> 0 | AE16: -0.22
B17: ='APU''S'!I93 -> 3.5 | C17: ='APU''S'!B93 -> Excavación en roca con cemento demoledor no explosivo. Incluye desembombe. A cualquier profundidad y bajo cualquier grado de humedad | D17: ='APU''S'!C100 -> m³ | E17: =ROUND(ALDO!AI503+ACTO!AH46-ACTO!AH39+'ACOM ACTO'!AH47,2) -> 40.81 | F17: ='APU''S'!B100 -> 314919 | G17: =ROUND(E17*F17,0) -> 12851844 | I17: =E17*F17*S17 -> 8533044.5 | J17: =E17*F17*U17 -> 0 | K17: =E17*F17*W17 -> 890759.87 | L17: =E17*F17*Y17 -> 0 | M17: =E17*F17*AA17 -> 3428040 | N17: =ROUND(SUM(I17:M17),0) -> 12851844 | Q17: =B17 -> 3.5 | R17: ='APU''S'!I98+'APU''S'!G99-AE17 -> 209092 | S17: =R17/AB17 -> 0.66395486 | T17: 0 | U17: =T17/AB17 -> 0 | V17: ='APU''S'!H97 -> 21827 | W17: =V17/AB17 -> 0.069309886 | X17: 0 | Y17: =X17/AB17 -> 0 | Z17: ='APU''S'!F96 -> 84000 | AA17: =Z17/AB17 -> 0.26673526 | AB17: =F17 -> 314919 | AD17: =R17+T17+V17+X17+Z17-AB17 -> 0 | AE17: -0.65
B18: ='APU''S'!I102 -> 3.6 | C18: ='APU''S'!B102 -> Llenos en material proveniente de la excavación, compactados mecánicamente hasta obtener una densidad del 95% de la máxima obtenida en el ensayo del Proctor Modificado | D18: ='APU''S'!C109 -> m³ | E18: =ROUND(ALDO!AZ503+ACTO!AY46-ACTO!AY39+'ACOM ACTO'!AY47+SUM(ALDO!DP503:DR503)*(ALDO!AV11/100),2) -> 1292.26 | F18: ='APU''S'!B109 -> 45518 | G18: =ROUND(E18*F18,0) -> 58821091 | I18: =E18*F18*S18 -> 1693636 | J18: =E18*F18*U18 -> 0 | K18: =E18*F18*W18 -> 33847391 | L18: =E18*F18*Y18 -> 0 | M18: =E18*F18*AA18 -> 23280604 | N18: =ROUND(SUM(I18:M18),0) -> 58821630 | Q18: =B18 -> 3.6 | R18: ='APU''S'!I105-AE18 -> 1310.6 | S18: =R18/AB18 -> 0.028793005 | T18: ='APU''S'!I107 -> 0 | U18: =T18/AB18 -> 0 | V18: ='APU''S'!H106 -> 26192.4 | W18: =V18/AB18 -> 0.5754295 | X18: 0 | Y18: =X18/AB18 -> 0 | Z18: ='APU''S'!F104 -> 18015.418 | AA18: =Z18/AB18 -> 0.39578667 | AB18: =F18 -> 45518 | AD18: =R18+T18+V18+X18+Z18-AB18 -> 0.41765403 | AE18: -0.98
B19: ='APU''S'!I111 -> 3.7 | C19: ='APU''S'!B111 -> Llenos con material de préstamo en limo, compactados mecánicamente hasta obtener una densidad del 95% de la máxima obtenida en el ensayo del próctor modificado | D19: ='APU''S'!C120 -> m³ | E19: =ROUND(ALDO!BA503+ACTO!AZ46-ACTO!AZ39+'ACOM ACTO'!AZ47+SUM(ALDO!DP503:DR503)*(1-(ALDO!AV11/100)),2) -> 2585.98 | F19: ='APU''S'!B120 -> 90243 | G19: =ROUND(E19*F19,0) -> 233366593 | I19: =E19*F19*S19 -> 69607874 | J19: =E19*F19*U19 -> 0 | K19: =E19*F19*W19 -> 47413116 | L19: =E19*F19*Y19 -> 94129672 | M19: =E19*F19*AA19 -> 22216869 | N19: =ROUND(SUM(I19:M19),0) -> 233367530 | Q19: =B19 -> 3.7 | R19: ='APU''S'!G119+'APU''S'!I114-AE19 -> 26917.406 | S19: =R19/AB19 -> 0.29827694 | T19: ='APU''S'!I118 -> 0 | U19: =T19/AB19 -> 0 | V19: ='APU''S'!H119 -> 18334.68 | W19: =V19/AB19 -> 0.20317011 | X19: ='APU''S'!I116 -> 36400 | Y19: =X19/AB19 -> 0.40335538 | Z19: ='APU''S'!F113 -> 8591.2763 | AA19: =Z19/AB19 -> 0.095201581 | AB19: =F19 -> 90243 | AD19: =R19+T19+V19+X19+Z19-AB19 -> 0.3622697 | AE19: -0.672
B20: ='APU''S'!I122 -> 3.8 | C20: ='APU''S'!B122 -> S.T.I. Lleno con triturado 3/4" (19mm) y 1" (25mm) | D20: ='APU''S'!C131 -> m³ | E20: =ROUND(ALDO!AT503,2) -> 637.94 | F20: ='APU''S'!B131 -> 266350 | G20: =ROUND(E20*F20,0) -> 169915319 | I20: =E20*F20*S20 -> 76901297 | J20: =E20*F20*U20 -> 13924316 | K20: =E20*F20*W20 -> 8354589.8 | L20: =E20*F20*Y20 -> 70734787 | M20: =E20*F20*AA20 -> 0 | N20: =ROUND(SUM(I20:M20),0) -> 169914990 | Q20: =B20 -> 3.8 | R20: ='APU''S'!G130+'APU''S'!I129-AE20 -> 120546.29 | S20: =R20/AB20 -> 0.45258601 | T20: ='APU''S'!H126 -> 21827 | U20: =T20/AB20 -> 0.081948564 | V20: ='APU''S'!H127+'APU''S'!H128 -> 13096.2 | W20: =V20/AB20 -> 0.049169138 | X20: ='APU''S'!I125 -> 110880 | Y20: =X20/AB20 -> 0.41629435 | Z20: 0 | AA20: =Z20/AB20 -> 0 | AB20: =F20 -> 266350 | AD20: =R20+T20+V20+X20+Z20-AB20 -> -0.515 | AE20: -0.125
B21: ='APU''S'!I133 -> 3.9 | C21: ='APU''S'!B133 -> Cargue, retiro y botada de material proveniente de la excavación a cualquier distancia | D21: ='APU''S'!C138 -> m³ | E21: =ROUND(ALDO!BC503+ACTO!BB46-ACTO!BB39+'ACOM ACTO'!BB47,2) -> 3450.31 | F21: ='APU''S'!B138 -> 79400 | G21: =ROUND(E21*F21,0) -> 273954614 | I21: =E21*F21*S21 -> 0 | J21: =E21*F21*U21 -> 0 | K21: =E21*F21*W21 -> 0 | L21: =E21*F21*Y21 -> 237726359 | M21: =E21*F21*AA21 -> 36228255 | N21: =ROUND(SUM(I21:M21),0) -> 273954614 | Q21: =B21 -> 3.9 | R21: 0 | S21: =R21/AB21 -> 0 | T21: 0 | U21: =T21/AB21 -> 0 | V21: 0 | W21: =V21/AB21 -> 0 | X21: ='APU''S'!I136 -> 68900 | Y21: =X21/AB21 -> 0.86775819 | Z21: ='APU''S'!F135 -> 10500 | AA21: =Z21/AB21 -> 0.13224181 | AB21: =F21 -> 79400 | AD21: =R21+T21+V21+X21+Z21-AB21 -> 0 | AE21: 0
B22: ='APU''S'!B140 -> 4. OBRAS EN CONCRETO, ACERO Y PAVIMENTO | G22: =ROUND(SUM(G23:G32),0) -> 1352012494 | I22: =SUM(I23:I32) -> 9.986258e+08 | J22: =SUM(J23:J32) -> 1.2938871e+08 | K22: =SUM(K23:K32) -> 1.0022249e+08 | L22: =SUM(L23:L32) -> 85288535 | M22: =SUM(M23:M32) -> 38486486 | N22: =ROUND(SUM(I22:M22),0) -> 1352012026
B23: ='APU''S'!I142 -> 4.1 | C23: ='APU''S'!B142 -> S.T.C. para construcción de caja de empalme para domiciliar de 60cm x 60cm x hasta 100cm de altura. Incluye tapa. Según diseño | D23: ='APU''S'!C155 -> und | E23: =ROUND(ALDO!DK503,2) -> 316 | F23: ='APU''S'!B155 -> 763918 | G23: =ROUND(E23*F23,0) -> 241398088 | I23: =E23*F23*S23 -> 1.8634545e+08 | J23: =E23*F23*U23 -> 34486660 | K23: =E23*F23*W23 -> 13794664 | L23: =E23*F23*Y23 -> 6771428.6 | M23: =E23*F23*AA23 -> 0 | N23: =ROUND(SUM(I23:M23),0) -> 241398198 | Q23: =B23 -> 4.1 | R23: ='APU''S'!G154+'APU''S'!I151-AE23 -> 589700.78 | S23: =R23/AB23 -> 0.77194251 | T23: ='APU''S'!H152 -> 109135 | U23: =T23/AB23 -> 0.14286219 | V23: ='APU''S'!H153 -> 43654 | W23: =V23/AB23 -> 0.057144877 | X23: ='APU''S'!I150 -> 21428.571 | Y23: =X23/AB23 -> 0.028050879 | Z23: 0 | AA23: =Z23/AB23 -> 0 | AB23: =F23 -> 763918 | AD23: =R23+T23+V23+X23+Z23-AB23 -> 0.3487625 | AE23: -0.38016509
B24: ='APU''S'!I157 -> 4.2 | C24: ='APU''S'!B157 -> S.T.C. Sumidero tipo B para agua lluvias 50 x 80 x 80cm (incluye reja) | D24: ='APU''S'!C169 -> und | E24: =ROUND(36,2) -> 36 | F24: ='APU''S'!B169 -> 1346205 | G24: =ROUND(E24*F24,0) -> 48463380 | I24: =E24*F24*S24 -> 34195848 | J24: =E24*F24*U24 -> 5238480 | K24: =E24*F24*W24 -> 6286176 | L24: =E24*F24*Y24 -> 1542857.1 | M24: =E24*F24*AA24 -> 1200000 | N24: =ROUND(SUM(I24:M24),0) -> 48463361 | Q24: =B24 -> 4.2 | R24: ='APU''S'!G168+'APU''S'!I159+'APU''S'!F166-AE24 -> 949884.66 | S24: =R24/AB24 -> 0.70560179 | T24: ='APU''S'!H160 -> 145513.33 | U24: =T24/AB24 -> 0.10809151 | V24: ='APU''S'!H161 -> 174616 | W24: =V24/AB24 -> 0.12970981 | X24: ='APU''S'!I163 -> 42857.143 | Y24: =X24/AB24 -> 0.031835525 | Z24: ='APU''S'!F165 -> 33333.333 | AA24: =Z24/AB24 -> 0.024760964 | AB24: =F24 -> 1346205 | AD24: =R24+T24+V24+X24+Z24-AB24 -> -0.53 | AE24: -0.061622857
B25: ='APU''S'!I171 -> 4.3 | C25: ='APU''S'!B171 -> Cajas para valvulas de corte según detalle, incluye tapa metalica, tapón Roscado, marco para tapa en concreto f´c=21 Mpa, tubo 6" PVC de protección, ladrillos en concreto de 0.10x0.20x0.40 | D25: ='APU''S'!C184 -> un | E25: =ROUND(SUM(E64:E67),2) -> 14 | F25: ='APU''S'!B184 -> 417589 | G25: =ROUND(E25*F25,0) -> 5846246 | I25: =E25*F25*S25 -> 3121621.8 | J25: =E25*F25*U25 -> 1527890 | K25: =E25*F25*W25 -> 916734 | L25: =E25*F25*Y25 -> 280000 | M25: =E25*F25*AA25 -> 0 | N25: =ROUND(SUM(I25:M25),0) -> 5846246 | Q25: =B25 -> 4.3 | R25: ='APU''S'!G183+'APU''S'!I182-AE25 -> 222972.98 | S25: =R25/AB25 -> 0.5339532 | T25: ='APU''S'!H180 -> 109135 | U25: =T25/AB25 -> 0.26134549 | V25: ='APU''S'!H181 -> 65481 | W25: =V25/AB25 -> 0.15680729 | X25: ='APU''S'!I175 -> 20000 | Y25: =X25/AB25 -> 0.047893982 | Z25: 0 | AA25: =Z25/AB25 -> 0 | AB25: =F25 -> 417589 | AD25: =R25+T25+V25+X25+Z25-AB25 -> -0.0168 | AE25: -0.42597333
B26: ='APU''S'!I186 -> 4.4 | C26: ='APU''S'!B186 -> S.T.C y/o reconstrucción de andén en concreto de 21 Mpa, espesor de 10cm. incluye nivelacion del terreno, malla electrosoldada D-84, 7 cm de Subbase, formaleta metalica o similar, y todo lo necesario para su correcto vaciado. | D26: ='APU''S'!C198 -> m² | E26: =ROUND(E10/0.2,2) -> 166.8 | F26: ='APU''S'!B198 -> 140905 | G26: =ROUND(E26*F26,0) -> 23502954 | I26: =E26*F26*S26 -> 15804396 | J26: =E26*F26*U26 -> 5201062.3 | K26: =E26*F26*W26 -> 2080424.9 | L26: =E26*F26*Y26 -> 0 | M26: =E26*F26*AA26 -> 417000 | N26: =ROUND(SUM(I26:M26),0) -> 23502883 | Q26: =B26 -> 4.4 | R26: ='APU''S'!G197+'APU''S'!I188+'APU''S'!F192-AE26 -> 94750.577 | S26: =R26/AB26 -> 0.67244297 | T26: ='APU''S'!H195 -> 31181.429 | U26: =T26/AB26 -> 0.22129398 | V26: ='APU''S'!H196 -> 12472.571 | W26: =V26/AB26 -> 0.088517593 | X26: 0 | Y26: =X26/AB26 -> 0 | Z26: ='APU''S'!F189 -> 2500 | AA26: =Z26/AB26 -> 0.017742451 | AB26: =F26 -> 140905 | AD26: =R26+T26+V26+X26+Z26-AB26 -> -0.4235 | AE26: -0.55177872
B27: ='APU''S'!I200 -> 4.5 | C27: ='APU''S'!B200 -> S.T.C. de concreto hidráulico de 28 Mpa para placas de concreto de espesor 18cm según los planos, incluye preparación, transporte interno, refuerzo corte y tratamiento de juntas y todos los demás elementos necesarios para el buen desarrollo de dicha actividad. | D27: ='APU''S'!C215 -> m³ | E27: =ROUND(PAV!K28+PAV!K74,2) -> 615.29 | F27: ='APU''S'!B215 -> 1173810 | G27: =ROUND(E27*F27,0) -> 722233555 | I27: =E27*F27*S27 -> 6.1516746e+08 | J27: =E27*F27*U27 -> 44766449 | K27: =E27*F27*W27 -> 53719739 | L27: =E27*F27*Y27 -> 0 | M27: =E27*F27*AA27 -> 8579515.9 | N27: =ROUND(SUM(I27:M27),0) -> 722233163 | Q27: =B27 -> 4.5 | R27: ='APU''S'!G214+'APU''S'!I202-AE27 -> 999800.84 | S27: =R27/AB27 -> 0.85175696 | T27: ='APU''S'!H203 -> 72756.667 | U27: =T27/AB27 -> 0.061983342 | V27: ='APU''S'!H204 -> 87308 | W27: =V27/AB27 -> 0.07438001 | X27: 0 | Y27: =X27/AB27 -> 0 | Z27: ='APU''S'!I207+'APU''S'!F205+'APU''S'!F208+'APU''S'!F211 -> 13943.857 | AA27: =Z27/AB27 -> 0.011879143 | AB27: =F27 -> 1173810 | AD27: =R27+T27+V27+X27+Z27-AB27 -> -0.6375 | AE27: -0.28388902
B28: ='APU''S'!I217 -> 4.6 | C28: ='APU''S'!B217 -> Conformacion de Subrasante | D28: ='APU''S'!C225 -> m² | E28: =ROUND(PAV!I28+PAV!I74,2) -> 3418.25 | F28: ='APU''S'!B225 -> 4292 | G28: =ROUND(E28*F28,0) -> 14671129 | I28: =E28*F28*S28 -> 373614.72 | J28: =E28*F28*U28 -> 4663133.9 | K28: =E28*F28*W28 -> 2797880.4 | L28: =E28*F28*Y28 -> 0 | M28: =E28*F28*AA28 -> 6836500 | N28: =ROUND(SUM(I28:M28),0) -> 14671129 | Q28: =B28 -> 4.6 | R28: ='APU''S'!I219-AE28 -> 109.3 | S28: =R28/AB28 -> 0.025465983 | T28: ='APU''S'!H220 -> 1364.1875 | U28: =T28/AB28 -> 0.31784425 | V28: ='APU''S'!H221 -> 818.5125 | W28: =V28/AB28 -> 0.19070655 | X28: 0 | Y28: =X28/AB28 -> 0 | Z28: ='APU''S'!F224 -> 2000 | AA28: =Z28/AB28 -> 0.46598322 | AB28: =F28 -> 4292 | AD28: =R28+T28+V28+X28+Z28-AB28 -> 0 | AE28: -0.165
B29: ='APU''S'!I227 -> 4.7 | C29: ='APU''S'!B227 -> S.T.I. de SUB-BASE GRANULAR e = 0,15m | D29: ='APU''S'!C238 -> m³ | E29: =ROUND(PAV!M28+PAV!M74,2) -> 512.74 | F29: ='APU''S'!B238 -> 312203 | G29: =ROUND(E29*F29,0) -> 160078966 | I29: =E29*F29*S29 -> 67646916 | J29: =E29*F29*U29 -> 2797894 | K29: =E29*F29*W29 -> 1678736.4 | L29: =E29*F29*Y29 -> 67189450 | M29: =E29*F29*AA29 -> 20765970 | N29: =ROUND(SUM(I29:M29),0) -> 160078966 | Q29: =B29 -> 4.7 | R29: ='APU''S'!G237+'APU''S'!I229-AE29 -> 131932.2 | S29: =R29/AB29 -> 0.42258466 | T29: ='APU''S'!H230 -> 5456.75 | U29: =T29/AB29 -> 0.017478211 | V29: ='APU''S'!H231 -> 3274.05 | W29: =V29/AB29 -> 0.010486927 | X29: ='APU''S'!I236 -> 131040 | Y29: =X29/AB29 -> 0.41972691 | Z29: ='APU''S'!F234+'APU''S'!F235 -> 40500 | AA29: =Z29/AB29 -> 0.12972329 | AB29: =F29 -> 312203 | AD29: =R29+T29+V29+X29+Z29-AB29 -> 0 | AE29: -0.66
B30: ='APU''S'!I240 -> 4.8 | C30: ='APU''S'!B240 -> S.T.C. de gancho de acero para cámara de inspección | D30: ='APU''S'!C247 -> und | E30: =ROUND(E83,2) -> 16 | F30: ='APU''S'!B247 -> 68600 | G30: =ROUND(E30*F30,0) -> 1097600 | I30: =E30*F30*S30 -> 509419.79 | J30: =E30*F30*U30 -> 367612.63 | K30: =E30*F30*W30 -> 220567.58 | L30: =E30*F30*Y30 -> 0 | M30: =E30*F30*AA30 -> 0 | N30: =ROUND(SUM(I30:M30),0) -> 1097600 | Q30: =B30 -> 4.8 | R30: ='APU''S'!G246+'APU''S'!I245-AE30 -> 31838.737 | S30: =R30/AB30 -> 0.46412153 | T30: ='APU''S'!H243 -> 22975.789 | U30: =T30/AB30 -> 0.33492404 | V30: ='APU''S'!H244 -> 13785.474 | W30: =V30/AB30 -> 0.20095443 | X30: 0 | Y30: =X30/AB30 -> 0 | Z30: 0 | AA30: =Z30/AB30 -> 0 | AB30: =F30 -> 68600 | AD30: =R30+T30+V30+X30+Z30-AB30 -> 0 | AE30: -0.67368421
B31: ='APU''S'!I249 -> 4.9 | C31: ='APU''S'!B249 -> S.T.I. de acometidas de acueducto 1/2''. Incluye todos los elementos para su correcto funcionamiento. | D31: ='APU''S'!C264 -> und | E31: =ROUND('ACCESORIOS, ETC'!D29+'ACCESORIOS, ETC'!D30+'ACCESORIOS, ETC'!D31+'ACCESORIOS, ETC'!D32,2) -> 417 | F31: ='APU''S'!B264 -> 316432 | G31: =ROUND(E31*F31,0) -> 131952144 | I31: =E31*F31*S31 -> 75068796 | J31: =E31*F31*U31 -> 30339530 | K31: =E31*F31*W31 -> 18203718 | L31: =E31*F31*Y31 -> 8340000 | M31: =E31*F31*AA31 -> 0 | N31: =ROUND(SUM(I31:M31),0) -> 131952044 | Q31: =B31 -> 4.9 | R31: ='APU''S'!G263+'APU''S'!I261-AE31 -> 180021.09 | S31: =R31/AB31 -> 0.56890925 | T31: ='APU''S'!H259 -> 72756.667 | U31: =T31/AB31 -> 0.22992828 | V31: ='APU''S'!H260 -> 43654 | W31: =V31/AB31 -> 0.13795697 | X31: ='APU''S'!I262 -> 20000 | Y31: =X31/AB31 -> 0.063204733 | Z31: 0 | AA31: =Z31/AB31 -> 0 | AB31: =F31 -> 316432 | AD31: =R31+T31+V31+X31+Z31-AB31 -> -0.24 | AE31: -0.51
B32: ='APU''S'!I266 -> 4.10 | C32: ='APU''S'!B266 -> Suspensión (demolición y llenado) de sumidero existente. Incluye todos los elementos necesarios para el desarrollo de la actividad. | D32: ='APU''S'!C276 -> und | E32: =ROUND(16,2) -> 16 | F32: ='APU''S'!B276 -> 173027 | G32: =ROUND(E32*F32,0) -> 2768432 | I32: =E32*F32*S32 -> 392288 | J32: =E32*F32*U32 -> 0 | K32: =E32*F32*W32 -> 523848 | L32: =E32*F32*Y32 -> 1164800 | M32: =E32*F32*AA32 -> 687500 | N32: =ROUND(SUM(I32:M32),0) -> 2768436 | Q32: =B32 -> 4.10 | R32: ='APU''S'!G275+'APU''S'!I270-AE32 -> 24518 | S32: =R32/AB32 -> 0.14170043 | T32: 0 | U32: =T32/AB32 -> 0 | V32: ='APU''S'!H274 -> 32740.5 | W32: =V32/AB32 -> 0.18922191 | X32: ='APU''S'!I272+'APU''S'!I273 -> 72800 | Y32: =X32/AB32 -> 0.42074358 | Z32: ='APU''S'!F275 -> 42968.75 | AA32: =Z32/AB32 -> 0.24833552 | AB32: =F32 -> 173027 | AD32: =R32+T32+V32+X32+Z32-AB32 -> 0.25 | AE32: -0.975
B33: ='APU''S'!B278 -> 5. ENTIBADOS Y OTROS | G33: =ROUND(SUM(G34:G37),0) -> 695107872 | I33: =SUM(I34:I37) -> 2.7727898e+08 | J33: =SUM(J34:J37) -> 2.5813955e+08 | K33: =SUM(K34:K37) -> 1.3622523e+08 | L33: =SUM(L34:L37) -> 273000 | M33: =SUM(M34:M37) -> 23188760 | N33: =ROUND(SUM(I33:M33),0) -> 695105527
B34: ='APU''S'!I280 -> 5.1 | C34: ='APU''S'!B280 -> S.T.I. Entibado temporal (formaleta madera 1/7 utilizaciones) | D34: ='APU''S'!C289 -> m² | E34: =ROUND(ALDO!AK503+ALDO!DS503,2) -> 6962.82 | F34: ='APU''S'!B289 -> 56025 | G34: =ROUND(E34*F34,0) -> 390091991 | I34: =E34*F34*S34 -> 1.4692569e+08 | J34: =E34*F34*U34 -> 1.5197747e+08 | K34: =E34*F34*W34 -> 91186483 | L34: =E34*F34*Y34 -> 0 | M34: =E34*F34*AA34 -> 0 | N34: 402625067 | Q34: =B34 -> 5.1 | R34: ='APU''S'!G288+'APU''S'!I282-AE34 -> 21101.463 | S34: =R34/AB34 -> 0.3766437 | T34: ='APU''S'!H286 -> 21827 | U34: =T34/AB34 -> 0.38959393 | V34: ='APU''S'!H287 -> 13096.2 | W34: =V34/AB34 -> 0.23375636 | X34: 0 | Y34: =X34/AB34 -> 0 | Z34: 0 | AA34: =Z34/AB34 -> 0 | AB34: =F34 -> 56025 | AD34: =R34+T34+V34+X34+Z34-AB34 -> -0.33666667 | AE34: -0.30895831
B35: ='APU''S'!I291 -> 5.2 | C35: ='APU''S'!B291 -> S.T.I. Entibado permanente | D35: ='APU''S'!C300 -> m² | E35: =ROUND(ALDO!AL503+ALDO!DT503,2) -> 2984.07 | F35: ='APU''S'!B300 -> 78340 | G35: =ROUND(E35*F35,0) -> 233772044 | I35: =E35*F35*S35 -> 1.2955877e+08 | J35: =E35*F35*U35 -> 65133296 | K35: =E35*F35*W35 -> 39079978 | L35: =E35*F35*Y35 -> 0 | M35: =E35*F35*AA35 -> 0 | N35: =ROUND(SUM(I35:M35),0) -> 233772044 | Q35: =B35 -> 5.2 | R35: ='APU''S'!G299+'APU''S'!I293-AE35 -> 43416.8 | S35: =R35/AB35 -> 0.55420985 | T35: ='APU''S'!H297 -> 21827 | U35: =T35/AB35 -> 0.27861884 | V35: ='APU''S'!H298 -> 13096.2 | W35: =V35/AB35 -> 0.1671713 | X35: 0 | Y35: =X35/AB35 -> 0 | Z35: 0 | AA35: =Z35/AB35 -> 0 | AB35: =F35 -> 78340 | AD35: =R35+T35+V35+X35+Z35-AB35 -> 0 | AE35: -0.64
B36: ='APU''S'!I302 -> 5.3 | C36: ='APU''S'!B302 -> Perforacion de Camara de inspeccion existente, abocada para nueva tuberia y resane de MH | D36: ='APU''S'!C310 -> und | E36: =ROUND('ACCESORIOS, ETC'!G26,2) -> 91 | F36: ='APU''S'!B310 -> 326347 | G36: =ROUND(E36*F36,0) -> 29697577 | I36: =E36*F36*S36 -> 794521 | J36: =E36*F36*U36 -> 9931285 | K36: =E36*F36*W36 -> 5958771 | L36: =E36*F36*Y36 -> 273000 | M36: =E36*F36*AA36 -> 12740000 | N36: =ROUND(SUM(I36:M36),0) -> 29697577 | Q36: =B36 -> 5.3 | R36: ='APU''S'!I305-AE36 -> 8731 | S36: =R36/AB36 -> 0.026753731 | T36: ='APU''S'!H307 -> 109135 | U36: =T36/AB36 -> 0.33441398 | V36: ='APU''S'!H308 -> 65481 | W36: =V36/AB36 -> 0.20064839 | X36: ='APU''S'!I306 -> 3000 | Y36: =X36/AB36 -> 0.0091926692 | Z36: ='APU''S'!F309 -> 140000 | AA36: =Z36/AB36 -> 0.42899123 | AB36: =F36 -> 326347 | AD36: =R36+T36+V36+X36+Z36-AB36 -> 0 | AE36: -0.2
B37: ='APU''S'!I312 -> 5.4 | C37: ='APU''S'!B312 -> Televisación y lavado de redes con equipos | D37: ='APU''S'!C317 -> ml | E37: =ROUND(ALDO!M503,2) -> 1243.9 | F37: ='APU''S'!B317 -> 33400 | G37: =ROUND(E37*F37,0) -> 41546260 | I37: =E37*F37*S37 -> 0 | J37: =E37*F37*U37 -> 31097500 | K37: =E37*F37*W37 -> 0 | L37: =E37*F37*Y37 -> 0 | M37: =E37*F37*AA37 -> 10448760 | N37: =ROUND(SUM(I37:M37),0) -> 41546260 | Q37: =B37 -> 5.4 | R37: 0 | S37: =R37/AB37 -> 0 | T37: ='APU''S'!F315 -> 25000 | U37: =T37/AB37 -> 0.74850299 | V37: 0 | W37: =V37/AB37 -> 0 | X37: 0 | Y37: =X37/AB37 -> 0 | Z37: ='APU''S'!F314 -> 8400 | AA37: =Z37/AB37 -> 0.25149701 | AB37: =F37 -> 33400 | AD37: =R37+T37+V37+X37+Z37-AB37 -> 0 | AE37: 0
B38: ='APU''S'!B319 -> 6. SUMINISTRO Y TRANSPORTE DE TUBERÍAS, ACCESORIOS, PREFABRICADOS Y EQUIPOS | G38: =ROUND(SUM(G39:G83),0) -> 818342499 | I38: =SUM(I39:I83) -> 7.8403745e+08 | J38: =SUM(J39:J83) -> 0 | K38: =SUM(K39:K83) -> 0 | L38: =SUM(L39:L83) -> 34305047 | M38: =SUM(M39:M83) -> 0 | N38: =ROUND(SUM(I38:M38),0) -> 818342498
B39: ='APU''S'!I321 -> 6.1 | C39: ='APU''S'!B321 -> S.T. Tubería PVC Alcantarillado Ø 250 mm (10") | D39: ='APU''S'!C326 -> m | E39: =ROUND(8*E24,2) -> 288 | F39: ='APU''S'!B326 -> 107893 | G39: =ROUND(E39*F39,0) -> 31073184 | I39: =E39*F39*S39 -> 29633184 | J39: =E39*F39*U39 -> 0 | K39: =E39*F39*W39 -> 0 | L39: =E39*F39*Y39 -> 1440000 | M39: =E39*F39*AA39 -> 0 | N39: =ROUND(SUM(I39:M39),0) -> 31073184 | Q39: =B39 -> 6.1 | R39: ='APU''S'!G325-AE39 -> 102893 | S39: =R39/AB39 -> 0.95365779 | T39: 0 | U39: =T39/AB39 -> 0 | V39: 0 | W39: =V39/AB39 -> 0 | X39: ='APU''S'!I325 -> 5000 | Y39: =X39/AB39 -> 0.046342209 | Z39: 0 | AA39: =Z39/AB39 -> 0 | AB39: =F39 -> 107893 | AD39: =R39+T39+V39+X39+Z39-AB39 -> 0 | AE39: -0.525
B40: ='APU''S'!I328 -> 6.2 | C40: ='APU''S'!B328 -> S.T. Tubería PVC Alcantarillado Ø 315 mm (12") | D40: ='APU''S'!C333 -> m | E40: =ROUND(SUMIF(ALDO!G134:G331,"284",ALDO!M134:M331),2) -> 986.84 | F40: ='APU''S'!B333 -> 154306 | G40: =ROUND(E40*F40,0) -> 152275333 | I40: =E40*F40*S40 -> 1.4610758e+08 | J40: =E40*F40*U40 -> 0 | K40: =E40*F40*W40 -> 0 | L40: =E40*F40*Y40 -> 6167750 | M40: =E40*F40*AA40 -> 0 | N40: =ROUND(SUM(I40:M40),0) -> 152275333 | Q40: =B40 -> 6.2 | R40: ='APU''S'!G332-AE40 -> 148056 | S40: =R40/AB40 -> 0.95949607 | T40: 0 | U40: =T40/AB40 -> 0 | V40: 0 | W40: =V40/AB40 -> 0 | X40: ='APU''S'!I332 -> 6250 | Y40: =X40/AB40 -> 0.040503934 | Z40: 0 | AA40: =Z40/AB40 -> 0 | AB40: =F40 -> 154306 | AD40: =R40+T40+V40+X40+Z40-AB40 -> 0 | AE40: -0.05
B41: ='APU''S'!I335 -> 6.3 | C41: ='APU''S'!B335 -> S.T. Tubería PVC Alcantarillado Ø 355 mm (14") | D41: ='APU''S'!C340 -> m | E41: =ROUND(SUMIF(ALDO!G134:G331,"327",ALDO!M134:M331),2) -> 15.39 | F41: ='APU''S'!B340 -> 229695 | G41: =ROUND(E41*F41,0) -> 3535006 | I41: =E41*F41*S41 -> 3414771.7 | J41: =E41*F41*U41 -> 0 | K41: =E41*F41*W41 -> 0 | L41: =E41*F41*Y41 -> 120234.38 | M41: =E41*F41*AA41 -> 0 | N41: =ROUND(SUM(I41:M41),0) -> 3535006 | Q41: =B41 -> 6.3 | R41: ='APU''S'!G339-AE41 -> 221882.5 | S41: =R41/AB41 -> 0.96598751 | T41: 0 | U41: =T41/AB41 -> 0 | V41: 0 | W41: =V41/AB41 -> 0 | X41: ='APU''S'!I339 -> 7812.5 | Y41: =X41/AB41 -> 0.034012495 | Z41: 0 | AA41: =Z41/AB41 -> 0 | AB41: =F41 -> 229695 | AD41: =R41+T41+V41+X41+Z41-AB41 -> 0 | AE41: -0.875
...

Sheet PLAN FINANCIERO
B2: =_xlfn.CONCAT("PROYECTO - ",PRESUP!B2) -> PROYECTO - CONSTRUCCIÓN DE LA SEGUNDA ETAPA DEL PLAN MAESTRO DE ACUEDUCTO Y ALCANTARILLADO DE LOS SECTORES LA VIEJITA, LOS SAUCES, EL ALTO 2, MALPASO 2 Y ADOQUINADO DEL MUNICIPIO DE SAN CARLOS, ANTIOQUIA
B3: PLAN FINANCIERO POR FUENTES (VALORES EN PESOS CORRIENTES)
B4: COMPONENTE | D4: ESPECIFICACION | E4: FUENTES | F4: DEPARTAMENTO - SGP | G4: MUNICIPIO -SGP | H4: CAR | I4: OTRAS FUENTES | J4: TOTAL
B5: OBRA FISICA | F5: =ROUND(G23*I19,0) -> 2814316050 | G5: =ROUND(G23-F5,0) -> 703579013 | J5: =SUM(F5:I5) -> 3517895063
B6: A = | C6: =PRESUP!F132 -> 0.28397923 | F6: =+ROUND(F5*C6,0) -> 799207292 | G6: =+ROUND(G5*C6,0) -> 199801823 | J6: =SUM(F6:I6) -> 999009115
B7: I = | C7: 0 | F7: =+ROUND(F5*0,0) -> 0 | G7: =+ROUND(G5*0,0) -> 0 | J7: =SUM(F7:I7) -> 0
B8: U = | C8: =PRESUP!F133 -> 0.05 | F8: =+ROUND(F5*C8,0) -> 140715803 | G8: =+ROUND(G5*C8,0) -> 35178951 | J8: =SUM(F8:I8) -> 175894754
B9: Subtotal Obra Física | F9: =SUM(F5:F8) -> 3754239145 | G9: =SUM(G5:G8) -> 938559787 | J9: =SUM(F9:I9) -> 4692798932
B10: SUMINISTROS | F10: =ROUND(G24*I19,0) -> 654673999 | G10: =ROUND(G24-F10,0) -> 163668500 | J10: =SUM(F10:I10) -> 818342499
B11: A = | C11: =PRESUP!F136 -> 0.28397923 | F11: =+ROUND(F10*C11,0) -> 185913815 | G11: =+ROUND(G10*C11,0) -> 46478454 | J11: =SUM(F11:I11) -> 232392269
B12: Subtotal Suministros | F12: =SUM(F10:F11) -> 840587814 | G12: =SUM(G10:G11) -> 210146954 | J12: =SUM(F12:G12) -> 1050734768
B13: SUBTOTAL | F13: =+F9+F12 -> 4594826959 | G13: =+G9+G12 -> 1148706741 | J13: =SUM(F13:G13) -> 5743533700
B14: Interventoría Obra física = | C14: =PRESUP!F138 -> 0.099217712 | F14: =F13*C14 -> 4.5588822e+08 | G14: =G13*C14 -> 1.1397205e+08 | J14: =SUM(F14:I14) -> 5.6986027e+08
B16: VALOR TOTAL PROYECTO | F16: =SUM(F13:F15) -> 5.0507152e+09 | G16: =SUM(G13:G15) -> 1.2626788e+09 | H16: =SUM(H5:H15) -> 0 | I16: =SUM(I5:I15) -> 0 | J16: =SUM(F16:I16) -> 6.313394e+09
B17: % PARTICIPACIÓN | F17: =+F16/$J$16 -> 0.8 | G17: =+G16/$J$16 -> 0.2 | H17: =+H16/$J$16 -> 0 | I17: =+I16/$J$16 -> 0 | J17: =SUM(F17:I17) -> 1
F19: gob TOTAL | G19: =PRESUP!G141*'PLAN FINANCIERO'!I19 -> 5.0507152e+09 | I19: 0.8
F20: mpio TOTAL | G20: =PRESUP!G141*'PLAN FINANCIERO'!I20 -> 1.2626788e+09 | I20: 0.2
F21: mpio - int obra | G21: =G20-G25 -> 6.9281852e+08
F22: gob - int sum | G22: =G19-G26 -> 5.0507152e+09
F23: CD obra | G23: =PRESUP!G131 -> 3517895063
F24: CD sum | G24: =PRESUP!G135 -> 818342499
F25: int obra | G25: =PRESUP!G138 -> 569860272
F26: int sum | G26: =PRESUP!G139 -> 0

Sheet PAV
B2: PAVIMENTO RED PRINCIPAL Y DOMICILIARIAS ALCANTARILLADO
B3: UBICACIÓN | D3: CALLE N° | E3: DESCRIPCIÓN CALLE | F3: REFERENCIA | G3: LONGITUD (M) | H3: ANCHO ZANJA | I3: ÁREA TOTAL (m²) | J3: ESPESOR PAVIMENTO (m) | K3: VOLUMEN PAVIMENTO (m³) | L3: ESPESOR SUB-BASE | M3: LLENO EN BASE GRANULAR TOTAL (m³) | N3: ESPESOR CAJEO | O3: EXC CAJEO DE VIA TOTAL (m³) | P3: ESPESOR DEMOLICION | Q3: VOLUMEN DEMOLICION
B6: DE MH | C6: A MH
B7: C327 | C7: C191 | D7: 6 | E7: CLL 20 ENTRE CRA 21 Y CRA 22 | F7: Faizan | G7: 101.87 | H7: 0.8 | I7: =G7*H7 -> 81.496 | J7: 0.18 | K7: =I7*J7 -> 14.66928 | L7: 0.15 | M7: =I7*L7 -> 12.2244 | N7: 0.15 | O7: =I7*N7 -> 12.2244 | P7: 0.2 | Q7: =I7*P7 -> 16.2992
B8: C373 | C8: C191 | D8: 7 | E8: CRA 22 ENTRE CLL 19 Y CLL 20 | F8: Cristo | G8: 95.98 | H8: 0.8 | I8: =G8*H8 -> 76.784 | J8: =$J$7 -> 0.18 | K8: =I8*J8 -> 13.82112 | L8: =$L$7 -> 0.15 | M8: =I8*L8 -> 11.5176 | N8: =$N$7 -> 0.15 | O8: =I8*N8 -> 11.5176 | P8: =$P$7 -> 0.2 | Q8: =I8*P8 -> 15.3568
B9: C191A | C9: C183 | D9: 5 | E9: CLL 21 ENTRE CRA 21 Y CRA 22 | F9: Sol de oriente | G9: 43.47 | H9: 0.8 | I9: =G9*H9 -> 34.776 | J9: =$J$7 -> 0.18 | K9: =I9*J9 -> 6.25968 | L9: =$L$7 -> 0.15 | M9: =I9*L9 -> 5.2164 | N9: =$N$7 -> 0.15 | O9: =I9*N9 -> 5.2164 | P9: =$P$7 -> 0.2 | Q9: =I9*P9 -> 6.9552
B10: C289 | C10: C305 | D10: 3 | E10: CRA 24 ENTRE CLL 20 Y CLL 21 | F10: Esq Hospital- Alto | G10: 62.58 | H10: 0.8 | I10: =G10*H10 -> 50.064 | J10: =$J$7 -> 0.18 | K10: =I10*J10 -> 9.01152 | L10: =$L$7 -> 0.15 | M10: =I10*L10 -> 7.5096 | N10: =$N$7 -> 0.15 | O10: =I10*N10 -> 7.5096 | P10: =$P$7 -> 0.2 | Q10: =I10*P10 -> 10.0128
B11: C305 | C11: C167 | D11: 3 | E11: CRA 24 ENTRE CLL 20 Y CLL 21 | F11: Esq Hospital- Alto | G11: 40.66 | H11: 0.8 | I11: =G11*H11 -> 32.528 | J11: =$J$7 -> 0.18 | K11: =I11*J11 -> 5.85504 | L11: =$L$7 -> 0.15 | M11: =I11*L11 -> 4.8792 | N11: =$N$7 -> 0.15 | O11: =I11*N11 -> 4.8792 | P11: =$P$7 -> 0.2 | Q11: =I11*P11 -> 6.5056
B12: C239 | C12: C241 | D12: 1 | E12: CLL 22 ENTRE CRA 24 Y CRA 24A | F12: Salida barrio la viejita | G12: 44.82 | H12: 0.8 | I12: =G12*H12 -> 35.856 | J12: =$J$7 -> 0.18 | K12: =I12*J12 -> 6.45408 | L12: =$L$7 -> 0.15 | M12: =I12*L12 -> 5.3784 | N12: =$N$7 -> 0.15 | O12: =I12*N12 -> 5.3784 | P12: =$P$7 -> 0.2 | Q12: =I12*P12 -> 7.1712
B13: C227 | C13: C243 | D13: 12 | E13: CLL 22 ENTRE CRA 19 Y CRA 20 | F13: Detrás de iglesia | G13: 88.19 | H13: 0.8 | I13: =G13*H13 -> 70.552 | J13: =$J$7 -> 0.18 | K13: =I13*J13 -> 12.69936 | L13: =$L$7 -> 0.15 | M13: =I13*L13 -> 10.5828 | N13: =$N$7 -> 0.15 | O13: =I13*N13 -> 10.5828 | P13: =$P$7 -> 0.2 | Q13: =I13*P13 -> 14.1104
B14: C243 | C14: C241 | D14: 12 | E14: CLL 22 ENTRE CRA 19 Y CRA 20 | F14: Detrás de iglesia | G14: 29.53 | H14: 0.8 | I14: =G14*H14 -> 23.624 | J14: =$J$7 -> 0.18 | K14: =I14*J14 -> 4.25232 | L14: =$L$7 -> 0.15 | M14: =I14*L14 -> 3.5436 | N14: =$N$7 -> 0.15 | O14: =I14*N14 -> 3.5436 | P14: =$P$7 -> 0.2 | Q14: =I14*P14 -> 4.7248
B15: C241 | C15: C167 | D15: 2 | E15: CRA 24 ENTRE CLL 21 Y CLL 22 | F15: Frente a Hospital | G15: 99.69 | H15: 1.1 | I15: =G15*H15 -> 109.659 | J15: =$J$7 -> 0.18 | K15: =I15*J15 -> 19.73862 | L15: =$L$7 -> 0.15 | M15: =I15*L15 -> 16.44885 | N15: =$N$7 -> 0.15 | O15: =I15*N15 -> 16.44885 | P15: =$P$7 -> 0.2 | Q15: =I15*P15 -> 21.9318
B16: C207 | C16: C217 | D16: 9 | E16: CLL 22 ENTRE CRA 22 Y CRA 23 | F16: Divino Niño | G16: 103.81 | H16: 0.8 | I16: =G16*H16 -> 83.048 | J16: =$J$7 -> 0.18 | K16: =I16*J16 -> 14.94864 | L16: =$L$7 -> 0.15 | M16: =I16*L16 -> 12.4572 | N16: =$N$7 -> 0.15 | O16: =I16*N16 -> 12.4572 | P16: =$P$7 -> 0.2 | Q16: =I16*P16 -> 16.6096
B17: C191A | C17: C195 | D17: 5 | E17: CLL 21 ENTRE CRA 21 Y CRA 22 | F17: Sol de oriente | G17: 15.39 | H17: 0.9 | I17: =G17*H17 -> 13.851 | J17: =$J$7 -> 0.18 | K17: =I17*J17 -> 2.49318 | L17: =$L$7 -> 0.15 | M17: =I17*L17 -> 2.07765 | N17: =$N$7 -> 0.15 | O17: =I17*N17 -> 2.07765 | P17: =$P$7 -> 0.2 | Q17: =I17*P17 -> 2.7702
B18: C195 | C18: C197 | D18: 5 | E18: CLL 21 ENTRE CRA 21 Y CRA 22 | F18: Sol de oriente | G18: 41.52 | H18: 1 | I18: =G18*H18 -> 41.52 | J18: =$J$7 -> 0.18 | K18: =I18*J18 -> 7.4736 | L18: =$L$7 -> 0.15 | M18: =I18*L18 -> 6.228 | N18: =$N$7 -> 0.15 | O18: =I18*N18 -> 6.228 | P18: =$P$7 -> 0.2 | Q18: =I18*P18 -> 8.304
B19: C311 | C19: C179 | D19: 4 | E19: CRA 23 ENTRE CLL 20 Y CLL 21 | F19: Casa Teodulfo | G19: 31.99 | H19: 0.8 | I19: =G19*H19 -> 25.592 | J19: =$J$7 -> 0.18 | K19: =I19*J19 -> 4.60656 | L19: =$L$7 -> 0.15 | M19: =I19*L19 -> 3.8388 | N19: =$N$7 -> 0.15 | O19: =I19*N19 -> 3.8388 | P19: =$P$7 -> 0.2 | Q19: =I19*P19 -> 5.1184
... B26: C227 | C26: C175 | D26: 13 | E26: CRA 23 ENTRE CLL 21 Y CLL 22 | F26: Lote parqueadero | G26: 100.41 | H26: 0.9 | I26: =G26*H26 -> 90.369 | J26: =$J$7 -> 0.18 | K26: =I26*J26 -> 16.26642 | L26: =$L$7 -> 0.15 | M26: =I26*L26 -> 13.55535 | N26: =$N$7 -> 0.15 | O26: =I26*N26 -> 13.55535 | P26: =$P$7 -> 0.2 | Q26: =I26*P26 -> 18.0738
E27: DOMICILIARIAS ALDO | F27: 394 | G27: =3.5*F27 -> 1379 | H27: 0.7 | I27: =G27*H27 -> 965.3 | J27: =$J$7 -> 0.18 | K27: =I27*J27 -> 173.754 | L27: =$L$7 -> 0.15 | M27: =I27*L27 -> 144.795 | N27: =$N$7 -> 0.15 | O27: =I27*N27 -> 144.795 | P27: =$P$7 -> 0.2 | Q27: =I27*P27 -> 193.06
G28: =SUM(G7:G27) -> 2619.12 | I28: =SUM(I7:I27) -> 2007.187 | K28: =SUM(K7:K27) -> 361.29366 | M28: =SUM(M7:M27) -> 301.07805 | O28: =SUM(O7:O27) -> 301.07805 | Q28: =SUM(Q7:Q27) -> 401.4374
B31: PAVIMENTO RED PRINCIPAL Y DOMICILIARIAS ACUEDUCTO
B32: UBICACIÓN | D32: CALLE N° | E32: DESCRIPCIÓN CALLE | F32: REFERENCIA | G32: LONGITUD (M) | H32: ANCHO ZANJA | I32: ÁREA TOTAL (m²) | J32: ESPESOR PAVIMENTO (m) | K32: VOLUMEN PAVIMENTO (m³) | L32: ESPESOR SUB-BASE | M32: LLENO EN BASE GRANULAR TOTAL (m³) | N32: ESPESOR CAJEO | O32: EXC CAJEO DE VIA TOTAL (m³) | P32: ESPESOR DEMOLICION | Q32: VOLUMEN DEMOLICION
B35: DE NODO | C35: A NODO
B36: 1124-B | C36: N92 | D36: 1 | E36: CLL 22 ENTRE CRA 24 Y CRA 24A | F36: Salida barrio la viejita | G36: 41.445217 | H36: 0.6 | I36: =G36*H36 -> 24.86713 | J36: 0.18 | K36: =I36*J36 -> 4.4760835 | L36: 0.15 | M36: =I36*L36 -> 3.7300695 | N36: 0.15 | O36: =I36*N36 -> 3.7300695 | P36: 0.2 | Q36: =I36*P36 -> 4.9734261
B37: N3 | C37: 1124-A | D37: 1 | E37: CLL 22 ENTRE CRA 24 Y CRA 24A | F37: Salida barrio la viejita | G37: 6.3107923 | H37: 0.6 | I37: =G37*H37 -> 3.7864754 | J37: =$J$36 -> 0.18 | K37: =I37*J37 -> 0.68156557 | L37: =$L$36 -> 0.15 | M37: =I37*L37 -> 0.56797131 | N37: =$N$36 -> 0.15 | O37: =I37*N37 -> 0.56797131 | P37: =$P$36 -> 0.2 | Q37: =I37*P37 -> 0.75729508
B38: 1133-B | C38: N3 | D38: 12 | E38: CLL 22 ENTRE CRA 19 Y CRA 20 | F38: Detrás de iglesia | G38: 112.69025 | H38: 0.6 | I38: =G38*H38 -> 67.614148 | J38: =$J$36 -> 0.18 | K38: =I38*J38 -> 12.170547 | L38: =$L$36 -> 0.15 | M38: =I38*L38 -> 10.142122 | N38: =$N$36 -> 0.15 | O38: =I38*N38 -> 10.142122 | P38: =$P$36 -> 0.2 | Q38: =I38*P38 -> 13.52283
B39: N2 | C39: 1133-A | D39: 12 | E39: CLL 22 ENTRE CRA 19 Y CRA 20 | F39: Detrás de iglesia | G39: 3.2262052 | H39: 0.6 | I39: =G39*H39 -> 1.9357231 | J39: =$J$36 -> 0.18 | K39: =I39*J39 -> 0.34843016 | L39: =$L$36 -> 0.15 | M39: =I39*L39 -> 0.29035847 | N39: =$N$36 -> 0.15 | O39: =I39*N39 -> 0.29035847 | P39: =$P$36 -> 0.2 | Q39: =I39*P39 -> 0.38714462
B40: N2 | C40: 1129-A | D40: 11 | E40: CLL 22 ENTRE CRA 20 Y CRA 21 | F40: Casa de la cultura | G40: 6.3131057 | H40: 0.6 | I40: =G40*H40 -> 3.7878634 | J40: =$J$36 -> 0.18 | K40: =I40*J40 -> 0.68181542 | L40: =$L$36 -> 0.15 | M40: =I40*L40 -> 0.56817952 | N40: =$N$36 -> 0.15 | O40: =I40*N40 -> 0.56817952 | P40: =$P$36 -> 0.2 | Q40: =I40*P40 -> 0.75757269
B41: 1129-B | C41: N4 | D41: 11 | E41: CLL 22 ENTRE CRA 20 Y CRA 21 | F41: Casa de la cultura | G41: 84.070621 | H41: 0.6 | I41: =G41*H41 -> 50.442373 | J41: =$J$36 -> 0.18 | K41: =I41*J41 -> 9.0796271 | L41: =$L$36 -> 0.15 | M41: =I41*L41 -> 7.5663559 | N41: =$N$36 -> 0.15 | O41: =I41*N41 -> 7.5663559 | P41: =$P$36 -> 0.2 | Q41: =I41*P41 -> 10.088475
B42: N4 | C42: 1132-A | D42: 10 | E42: CLL 22 ENTRE CRA 21 Y CRA 22 | F42: Casa de la cultura | G42: 44.723164 | H42: 0.6 | I42: =G42*H42 -> 26.833898 | J42: =$J$36 -> 0.18 | K42: =I42*J42 -> 4.8301017 | L42: =$L$36 -> 0.15 | M42: =I42*L42 -> 4.0250847 | N42: =$N$36 -> 0.15 | O42: =I42*N42 -> 4.0250847 | P42: =$P$36 -> 0.2 | Q42: =I42*P42 -> 5.3667797
B43: 1132-B | C43: N5 | D43: 10 | E43: CLL 22 ENTRE CRA 21 Y CRA 22 | F43: Casa de la cultura | G43: 2.3721088 | H43: 0.6 | I43: =G43*H43 -> 1.4232653 | J43: =$J$36 -> 0.18 | K43: =I43*J43 -> 0.25618775 | L43: =$L$36 -> 0.15 | M43: =I43*L43 -> 0.21348979 | N43: =$N$36 -> 0.15 | O43: =I43*N43 -> 0.21348979 | P43: =$P$36 -> 0.2 | Q43: =I43*P43 -> 0.28465305
B44: N5 | C44: N6 | D44: 10 | E44: CLL 22 ENTRE CRA 21 Y CRA 22 | F44: Casa de la cultura | G44: 50.50886 | H44: 0.6 | I44: =G44*H44 -> 30.305316 | J44: =$J$36 -> 0.18 | K44: =I44*J44 -> 5.4549569 | L44: =$L$36 -> 0.15 | M44: =I44*L44 -> 4.5457974 | N44: =$N$36 -> 0.15 | O44: =I44*N44 -> 4.5457974 | P44: =$P$36 -> 0.2 | Q44: =I44*P44 -> 6.0610632
B45: N6 | C45: 1131-A | D45: 9 | E45: CLL 22 ENTRE CRA 22 Y CRA 23 | F45: Divino Niño | G45: 105.60351 | H45: 0.6 | I45: =G45*H45 -> 63.362103 | J45: =$J$36 -> 0.18 | K45: =I45*J45 -> 11.405179 | L45: =$L$36 -> 0.15 | M45: =I45*L45 -> 9.5043155 | N45: =$N$36 -> 0.15 | O45: =I45*N45 -> 9.5043155 | P45: =$P$36 -> 0.2 | Q45: =I45*P45 -> 12.672421
B46: 1131-B | C46: N8 | D46: 9 | E46: CLL 22 ENTRE CRA 22 Y CRA 23 | F46: Divino Niño | G46: 1.4634207 | H46: 0.6 | I46: =G46*H46 -> 0.87805239 | J46: =$J$36 -> 0.18 | K46: =I46*J46 -> 0.15804943 | L46: =$L$36 -> 0.15 | M46: =I46*L46 -> 0.13170786 | N46: =$N$36 -> 0.15 | O46: =I46*N46 -> 0.13170786 | P46: =$P$36 -> 0.2 | Q46: =I46*P46 -> 0.17561048
B47: N8 | C47: J-1 | D47: 8 | E47: CLL 22 ENTRE CRA 23 Y CRA 24 | F47: Lote grande | G47: 0.51931108 | H47: 0.6 | I47: =G47*H47 -> 0.31158665 | J47: =$J$36 -> 0.18 | K47: =I47*J47 -> 0.056085597 | L47: =$L$36 -> 0.15 | M47: =I47*L47 -> 0.046737997 | N47: =$N$36 -> 0.15 | O47: =I47*N47 -> 0.046737997 | P47: =$P$36 -> 0.2 | Q47: =I47*P47 -> 0.06231733
B48: J-1 | C48: 1130-A | D48: 8 | E48: CLL 22 ENTRE CRA 23 Y CRA 24 | F48: Lote grande | G48: 82.715139 | H48: 0.6 | I48: =G48*H48 -> 49.629083 | J48: =$J$36 -> 0.18 | K48: =I48*J48 -> 8.933235 | L48: =$L$36 -> 0.15 | M48: =I48*L48 -> 7.4443625 | N48: =$N$36 -> 0.15 | O48: =I48*N48 -> 7.4443625 | P48: =$P$36 -> 0.2 | Q48: =I48*P48 -> 9.9258167
... B72: J-24 | C72: H3 | D72: 6 | E72: CLL 20 ENTRE CRA 21 Y CRA 22 | F72: Faizan | G72: 5.0009999 | H72: 0.6 | I72: =G72*H72 -> 3.0005999 | J72: =$J$36 -> 0.18 | K72: =I72*J72 -> 0.54010799 | L72: =$L$36 -> 0.15 | M72: =I72*L72 -> 0.45008999 | N72: =$N$36 -> 0.15 | O72: =I72*N72 -> 0.45008999 | P72: =$P$36 -> 0.2 | Q72: =I72*P72 -> 0.60011999
E73: DOMICILIARIAS ACTO | F73: 391 | G73: =(F73/2)*5+(F73/2)*0.5 -> 1075.25 | H73: 0.6 | I73: =G73*H73 -> 645.15 | J73: =$J$36 -> 0.18 | K73: =I73*J73 -> 116.127 | L73: =$L$36 -> 0.15 | M73: =I73*L73 -> 96.7725 | N73: =$N$36 -> 0.15 | O73: =I73*N73 -> 96.7725 | P73: =$P$36 -> 0.2 | Q73: =I73*P73 -> 129.03
G74: =SUM(G36:G73) -> 2351.7757 | I74: =SUM(I36:I73) -> 1411.0654 | K74: =SUM(K36:K73) -> 253.99178 | M74: =SUM(M36:M73) -> 211.65982 | O74: =SUM(O36:O73) -> 211.65982 | Q74: =SUM(Q36:Q73) -> 282.21309

Sheet ALDO
V1: PROYECTO: PLAN MAESTRO DE ALCANTARILLADO VEGACHI-ANTIOQUIA | BA1: =V1 -> PROYECTO: PLAN MAESTRO DE ALCANTARILLADO VEGACHI-ANTIOQUIA
V2: ALCANTARILLADO COMBINADO | BA2: =V2 -> ALCANTARILLADO COMBINADO
BA4: =V4 -> 0
U5: CANTIDAD OBRA RED | BA5: =U5 -> CANTIDAD OBRA RED
C7: 1 | D7: =C7+1 -> 2 | E7: =D7+1 -> 3 | F7: 4 | G7: 5 | H7: 6 | I7: =H7+1 -> 7 | J7: 8 | K7: =J7+1 -> 9 | L7: 10 | M7: 11 | N7: 12 | O7: 13 | P7: 14 | Q7: 15 | R7: 16 | S7: 17 | T7: 18 | U7: 19 | V7: 20 | W7: 21 | X7: 22 | Y7: 23 | Z7: 24 | AA7: 25 | AB7: 26 | AC7: 27 | AD7: 28 | AE7: 29 | AF7: 30 | AG7: 31 | AH7: 32 | AI7: 33 | AJ7: 34 | AK7: 35 | AL7: 36 | AM7: 37 | AN7: 38 | AO7: 39 | AP7: 40 | AQ7: 41 | AR7: 42 | AS7: 43 | AT7: 44 | AU7: 45 | AV7: 46 | AW7: 47 | AX7: 48 | AY7: 49 | AZ7: 50 | BA7: 51 | BB7: 52 | BC7: 53 | BD7: 54 | BE7: 55 | BF7: 56 | BG7: 57 | BH7: 58 | BI7: 59 | BJ7: 60 | BK7: 61 | BL7: 62 | BM7: 63 | BN7: 64 | BO7: 65 | BP7: 66 | BQ7: 67 | BR7: 68 | BS7: 69 | BT7: 70 | BU7: 71 | BV7: 72 | BW7: 73 | BX7: 74 | BY7: 75 | BZ7: 76 | CA7: 77 | CB7: 78 | CC7: 79 | CD7: 80 | CE7: 81 | CF7: 82 | CG7: 83 | CH7: 84 | CI7: 85 | CJ7: 86 | CK7: 87 | CL7: 88 | CM7: 89 | CN7: 90 | CO7: 91 | CP7: 92 | CR7: 93 | CS7: 94 | CT7: 95 | CU7: 96 | CV7: 97 | CW7: 98 | CX7: 99 | CY7: 100 | CZ7: 101 | DA7: 180 | DB7: 181 | DC7: 182 | DD7: 183 | DE7: 184 | DF7: 185 | DG7: 186 | DH7: 186-2 | DI7: 187 | DJ7: 188 | DK7: 189 | DL7: 190 | DM7: 191 | DN7: 192 | DO7: 193 | DP7: 194 | DQ7: 195 | DR7: 196 | DS7: 197 | DT7: 198 | DU7: 199 | DV7: 200 | DW7: 201 | DX7: 202 | DY7: 203 | DZ7: 204 | EA7: 205 | EB7: 206
A8: MOSTRAR TRAMO | B8: CÁLCULAR | C8: TRAMO | E8: LONGITUD | F8: PENDIENTE TUBERÍA. | G8: DIAMETRO INTERIOR | H8: COTA TERRENO | J8: COTA BATEA | L8: % | M8: LONG. | N8: ANCHO | O8: DIAM. | P8: DIAM. | Q8: MATERIAL DE LA VIA | R8: TIPO DE ROTURA | U8: LONGITUD ROTURA | X8: VOLUMEN ROTURA | AA8: H. | AB8: %MAT | AC8: VOL. EXCAVACION MAT. HUMEDO | AF8: VOL. EXCAVACION MAT. SECO | AI8: VOL | AJ8: ENTIBADO | AK8: ENTIBADO | AM8: TRINCH. | AN8: LONG. CIMENTACION | AQ8: CIMENTACION | AT8: VOL CIMENTACI TRITURADO | AU8: BASE Y SUBBASE GRANULAR PARA ESTRUCTURA DE VÍA | AV8: % MAT. | AW8: VOL. | AX8: ARENILLA | AY8: VOL. | AZ8: MAT. | BA8: MAT. | BB8: VOL. | BC8: BOTADA | BD8: CAM. DE INSPECCION | BH8: TAPAS | BI8: CONCRETO ANCLAJE X PEND | BJ8: P | BK8: Ancho de Zanja | BL8: B | BM8: C | BN8: D (Diametro exterior) | BO8: LONG. ROTURA Z.V. | BT8: VOL CONCRETO | BV8: EXCAV. BRUTA | BY8: EXCAV. | CF8: TIPO DE CIMENTACIÓN | CG8: EXCAV. NETA | CJ8: PROFUNDIDAD SOBREEXCAVAR | CK8: PROFUNDIDADES A EXCAVAR | CN8: EXCAVACIÓN PARA CÁMARAS NUEVAS | CQ8: ENTIBADO PERMANENTE PARA CAMARAS (m2) | CR8: RETIRO DE MAT EXCEDENTE | CS8: LLENO CON MAT SELECTO | CT8: VERIFICACIÓN | CU8: PROFUNDIDAD CÁMARA A DEMOLER | CV8: CANTIDAD DE TUBERÍA | DI8: DOMICILIARIAS | DU8: SILLAS PARA DOMICILIARES | EC8: MH PRE FABRICADO
C9: DE MH | D9: A MH | H9: SUPERIOR | I9: INFERIOR | J9: SUPERIOR | K9: INFERIOR | L9: ROCA | M9: TUBERIA | N9: ZANJA | O9: CAMARA | P9: CAMARA | R9: ASFALT | S9: ADOQUIN | T9: CONCR | U9: ASFALT | V9: ADOQUIN | W9: CONCR | X9: ASFALT | Y9: ADOQUIN | Z9: CONCR | AA9: PROM | AB9: HUMED | AC9: 0 - 2 M | AD9: 2.01 - 4 M | AE9: >4.01M | AF9: 0 - 2 M | AG9: 2.01 - 4 M | AH9: >4.01 M | AI9: ROCA | AK9: TEMP | AL9: PERM | AM9: AREA | AN9: TIPO A | AO9: TIPO B | AP9: TIPO E | AQ9: TIPO A | AR9: TIPO B | AS9: TIPO E | AT9: D/2 | AV9: SELECTO | AW9: LLENOS | AY9: AFIRMADO | AZ9: SELECTO | BA9: PREST. | BB9: TUBO | BD9: DE 1.20 | BE9: DE 1.50 | BF9: CAJ TIP 2 | BG9: CAJ TIP 1 | BS9: AREN | BU9: AREN | BY9: TOTAL | BZ9: ARENA | CC9: A | CD9: B | CE9: K | DH9: GEOTEXTIL NO TEJIDO 2500 | DI9: HAY DOMICILIAR | DJ9: LONGITUD TRAMO | DK9: CANT. DOMICILIARIAS TRAMO | DL9: VOLUMEN DE EXCAVACION PARA DOMICILIARIAS | DM9: ANGULO DE INCLINACIÓN POR TRAMO | DN9: CATETO OPUESTO TRIANGULO MAYOR A DOS METROS | DO9: CATETO OPUESTO TRIANGULO MENOR A CUATRO METROS | DP9: VOLUMEN DE EXCAVACION PARA DOMICILIARIAS | DS9: ENTIBADO | EC9: Cono + Cuello | ED9: cilindros 1m | EE9: cilindros 0,5m | EF9: cilindros 0,25m | EG9: Desperdicio | EH9: Empaques | EJ9: Cañuelas Nuevas y Reconstrucciones
E10: (m ) | F10: (%) | G10: (mm) | H10: (m) | I10: (m) | J10: ( m ) | K10: ( m ) | M10: m | N10: m | O10: INICIAL | P10: FINAL | R10: ( m ) | S10: ( m ) | T10: ( m ) | U10: ( m ) | V10: ( m ) | W10: ( m ) | X10: ( m3 ) | Y10: ( m3 ) | Z10: ( m3 ) | AA10: ( m ) | AC10: ( m3 ) | AD10: ( m3 ) | AE10: (m3) | AF10: ( m3 ) | AG10: ( m3 ) | AH10: (m3) | AI10: (m3) | AK10: ( m2 ) | AL10: ( m2 ) | AM10: (m2) | AN10: ( m ) | AO10: ( m ) | AP10: ( m ) | AQ10: ( m2 ) | AR10: ( m2 ) | AS10: ( m2 ) | AT10: ( m3 ) | AU10: ( m3 ) | AW10: (m3) | AX10: ( m3 ) | AY10: ( m3 ) | AZ10: ( m3 ) | BA10: ( m3 ) | BB10: ( m3 ) | BC10: ( m3 ) | BD10: ( m ) | BE10: ( m ) | BF10: ( m ) | BG10: ( m ) | BH10: ( m ) | BI10: ( m3 ) | BK10: m | BN10: m | BP10: <=2M | BQ10: 2-4M | BR10: >4M | BS10: B | BT10: ANxP | BU10: C | BV10: <=2M | BW10: 2-4M | BX10: >4M | BY10: SIN 10% | CG10: <=2M | CH10: 2-4M | CI10: >4M | CJ10: M | CK10: <=2M | CL10: 2-4M | CM10: >4M | CN10: <=2M | CO10: 2-4M | CP10: >4M | CR10: M3 | CS10: M3 | CU10: M | DP10: 0 - 2 M | DQ10: 2.01 - 4 M | DR10: >4.01M | DS10: TEMP | DT10: PERM | ED10: 1 | EE10: 0.5 | EF10: 0.25
L11: 1 | U11: 1 | V11: 1 | W11: 1 | X11: 0.1 | Y11: 0.12 | Z11: 0.3 | AB11: 10 | AN11: 0 | AO11: 0 | AP11: 1 | AU11: 0.4 | AV11: 30 | BV11: M3 | BW11: M3 | BX11: M3 | CV11: 182 -8 | CW11: 227-10 | CX11: 284-12 | CY11: 327-14 | CZ11: 362-16 | DA11: 407-18 | DB11: 452-20 | DC11: 595-24 | DD11: 671-27 | DE11: 747-30 | DF11: 823-33 | DG11: 899-36 | DH11: m2 | DM11: GRADOS | DP11: ( m3 ) | DQ11: ( m3 ) | DR11: (m3) | DS11: ( m2 ) | DT11: ( m2 ) | DU11: 182 | DV11: 227 | DW11: 284 | DX11: 327 | DY11: 362 | DZ11: 407 | EA11: 452 | EB11: 595.12
C12: PMAA SAN CARLOS
