Workbook
Name _Toc140149825_1: [1]JURIDICA!#REF!
Name _Toc140149825_1: [1]JURIDICA!#REF!
Name _Toc140149825_59: #REF!
Name _Toc140149825_59: #REF!
Name _Toc142149825_60: #REF!
Name _Toc142149825_60: #REF!
Name AMOR: [1]JURIDICA!#REF!
Name AMOR: [1]JURIDICA!#REF!
Name BuiltIn_Print_Area: [2]sustraccion!#REF!
Name BuiltIn_Print_Titles: #REF!
Name BuiltIn_Print_Titles___0: '[2]cte debil'!#REF!
Name duplica: #REF!
Name FFFFFFF: #REF!
Name FFFFFFF: #REF!
Name GG: [1]JURIDICA!#REF!
Name GG: [1]JURIDICA!#REF!
Name GGGGGG: #REF!
Name GGGGGG: #REF!
Name GVQ: #REF!
Name GVQ: #REF!
Name opcion2: '[2]CUADRO RESUMEN'!$L$21
Name opcion3: '[2]CUADRO RESUMEN'!$L$22
Name opcion4: '[2]CUADRO RESUMEN'!$L$23
Name opcion5: '[2]CUADRO RESUMEN'!$L$24
Name opcion6: '[2]CUADRO RESUMEN'!$L$25

Sheet 9. PROPUESTA ECON
A1: FORMATO No. 9
A2: FORMATO DE PROPUESTA ECONOMICA
A4: RAMO | B4: VALOR ASEGURADO | C4: PRIMA NETA | D4: I.V.A. | E4: PRIMA TOTAL
A5: TODO RIESGO DAÑO MATERIAL
A6: RESPONSABILIDAD CIVIL EXTRACONTRACTUAL P.L.O
A7: MANEJO GLOBAL A FAVOR ENTIDADES ESTATALES
A8: RESPONSABILIDAD CIVIL SERVIDORES PUBLICOS
A9: TODO RIESGO EQUIPO Y MAQUINARIA
A10: TRANSPORTE DE MERCANCIAS
A11: AUTOMOVILES
A12: RESPONSABILIDAD CIVIL PASAJEROS
A13: SOAT
A14: VIDA GRUPO SERVIDORES PUBLICOS
A17: __________________________________________
A18: FIRMA REPRESENTANTE LEGAL
... A24: Si el proponente no utiliza el presente formato, la propuesta deberá contener toda la información aquí requerida.

Sheet 10. APOYO IND NAL
A1: FORMATO No.10
A2: APOYO A LA INDUSTRIA NACIONAL
A4: BIEN O SERVICIO
A5: % | B5: % | C5: %
A6: COMPONENTE NACIONAL | B6: COMPONENTE EXTRANJERO | C6: COMPONENTE NACIONAL Y EXTRANJERO
A9: El porcentaje correspondiente al recurso humano de origen extranjero se expresa en:
A11: Nota: Lo anterior para efectos de que el supervisor del futuro contrato verifique cuáles son los servicios extranjeros que el contratista podrá emplear en desarrollo del mismo. Así mismo, declaro bajo la gravedad de juramento que la información antes consignada es totalmente cierta y puede ser verificada.
A16: __________________________
A17: Firma Representante Legal
A18: C.C.

Sheet 12. TRDM
A1: MUNICIPIO DE GIRARDOT
A2: FORMATO No. 12- OFERTA PRESENTADA PARA EL SEGURO DE TODO RIESGO DAÑOS MATERIALES
A4: NOMBRE DEL PROPONENTE:
A6: 1. OBJETO DEL SEGURO
A8: Amparar todos los bienes inmuebles y muebles de propiedad del MUNICIPIO DE GIRARDOT o aquellos que se encuentren bajo su control, tenencia, responsabilidad o custodia, ubicados en el territorio nacional contra los daños o pérdidas materiales a consecuencia de cualquier riesgo, tanto por eventos internos o externos, incluyendo las pérdidas consecuenciales por todo concepto. (siempre que esten debidamente relacionados en la poliza)
A10: 2. INFORMACION GENERAL
A12: TOMADOR: | B12: MUNICIPIO DE GIRARDOT
A13: ASEGURADO: | B13: MUNICIPIO DE GIRARDOT
A14: BENEFICIARIO: | B14: MUNICIPIO DE GIRARDOT
A15: CONDICIONES OBLIGATORIAS | B15: Con esta póliza, se unifica en un solo seguro, parte de las coberturas que se pueden contratar bajo las pólizas de Incendio y/o Rayo, Sustracción, Equipo Electrónico y Rotura de Maquinaria, para obtener una mayor protección de sus bienes e intereses al contratar una póliza de Todo Riesgo, bajo la cual se amparen todas las pérdidas o daños que puedan sufrir estos, con excepción de los expresamente excluidos. En consecuencia, las aseguradoras deberán ofertar un seguro que opere bajo la modalidad de todo riesgo de pérdida o daño material y no seguros de riesgos nombrados, por lo tanto el proponente deberá ofertar una tasa única para el cálculo de la prima la cual se aplicará sobre la totalidad del valor asegurado, so pena de no ser calificado el ramo. Si el proponente presenta oferta bajo la modalidad de riesgos nombrados, incurrirá en el rechazo del ramo y por ende al rechazo de la oferta en el grupo al que pertenezca este ramo.
B16: Base de valoración Inmuebles: Costo de reconstrucción
B17: Base de valoración Contenidos: Costo de reposición a nuevo
B18: Todas las cláusulas que otorgan coberturas de gastos adicionales, operan sin aplicación de deducibles.
B19: CLAUSULA DE APLICACIÓN DE CONDICIONES PARTICULARES: Queda expresamente acordado y convenido, que la compañía acepta las condiciones básicas, técnicas establecidas en este anexo, en los términos señalados en el mismo, por lo tanto, en caso de existir discrepancias entre los ofrecimientos contenidos en la propuesta técnica básica, frente a los textos de los ejemplares de las pólizas, certificados, anexos o cualquier otro documento; prevalecerá la información y condiciones básicas técnicas establecidas.
A21: BIENES E INTERESES ASEGURABLES
A23: Edificaciones terminadas, y edificios inherentes a ellos, incluidos anexos y mejoras locativas, instalaciones sanitarias de agua, sistema de drenaje y aguas negras, tuberías, conductos, desagües, instalaciones eléctricas y de aire acondicionado, ascensores, instalaciones permanentes de protección contra incendio y demás instalaciones que se hallen o no por debajo del nivel del suelo y/o subterráneas, vidrios internos y externos que conforman y hacen parte de las construcciones, rampas de acceso, tanques de almacenamiento, entre otros ubicados en el territorio nacional, de propiedad de la Entidad o bajo su responsabilidad, tenencia, y/o control.
A24: Mejoras locativas: Todas aquellas mejoras a los inmuebles realizadas por la Entidad, aún en el caso de no ser propietaria del bien, que haya realizado inversiones para adecuarlas a sus necesidades, tales como tapetes, tapizados, enchapes, mejoras eléctricas, cielos rasos, etc.
A25: Equipos y Máquinas en general, herramientas, accesorios, maquinarias, ascensores, transformadores, plantas eléctricas, calderas, generadores, tornos, motores, bombas y equipos del sistema hidráulico, motobombas, aire acondicionado, extractores de olores, motores de control de puertas, o sitios de acceso, y compresores entre otros, de propiedad de la Entidad, o bajo se responsabilidad, tenencia y control.
A26: Equipos de oficina y equipos eléctricos y electrónicos, tales como, equipos de computo (computadoras considerados integralmente con todos sus accesorios periféricos como son: CPU, pantalla, filtros, monitor, mouse, reguladores de voltaje, scanner, ploters, servidores, impresoras), fax, microcomputadores, equipo central de computo, software, equipos de telecomunicaciones, equipos celulares, beepers y equipos de comunicación portátil, electrodomésticos, equipos científicos de laboratorio para investigación, equipos móviles y portátiles, y demás instrumentos, equipos soporte, repuestos, máquinas de escribir, entre otros de propiedad de la Entidad, o bajo su responsabilidad, tenencia y/o control.
A27: Contenidos tales como Muebles y enseres, escritorios, sillas, cortinas, divisiones modulares, documentos de cartera, libros, bibliotecas, equipos de oficina no eléctricos ni electrónicos, entre otros, sistemas de oficina abierta, papelería, aparatos; que se encuentren localizados dentro de los predios asegurados o fuera de los mismos dentro del territorio de la República de Colombia.
A28: Dinero y títulos valores dentro y fuera de caja fuerte y cajas menores.
A29: Elementos de almacén e inventarios: Elementos de consumo, devolutivos nuevos, recuperables, inservibles, papelería, útiles de oficina, equipos en general, repuestos y demás bienes de almacén, contenidos en las diferentes dependencias de la Entidad
A30: BIENES Y VALORES ASEGURADOS
A32: VER ANEXO No. 1 - RELACION TRDM
A34: AMPAROS OBLIGATORIOS
A36: NOMBRE (DILIGENCIAR CUANDO EL TEXTO OFRECIDO NO SEA IDENTICO AL DESCRITO EN EL PLIEGO DE CONDICIONES, EN CASO QUE OMITAN, EXCLUYAN O MODIFIQUEN EL TEXTO EN LAS CONDICIONES MINIMAS SOLICITADAS, SE RECHAZARA LA PROPUESTA )
... A41: CLAUSULAS OBLIGATORIAS
A43: NOMBRE | B43: DESCRIPCION DE LA CLAUSULA (CUANDO EL TEXTO OFRECIDO NO SEA IDENTICO AL DESCRITO EN EL FORMATO TECNICO O EN CASO QUE OMITAN, EXCLUYAN O MODIFIQUEN EL TEXTO EN LAS CONDICIONES MINIMAS SOLICITADAS, SE RECHAZARA LA PROPUESTA )
A44: AMPARO AUTOMÁTICO PARA BIENES MUEBLES O INMUEBLES, ADQUIRIDOS, RECIBIDOS, Y/O REMODELACION, SEAN NUEVOS O USADOS. | B44: Queda entendido, convenido y aceptado que en el evento de que el asegurado adquiera, reciba, construya, instale, remodele o adecúe, a cualquier título, bienes muebles o inmuebles, sean nuevos o usados, sobre los cuales éste tuviere interés asegurable; las coberturas y amparos adicionales de esta póliza se extenderán automáticamente a dichos bienes, hasta por el 10% del valor asegurado global de la poliza y por un periodo de 60 días. Si vencido este plazo no se ha informado a la Compañía, cesará el amparo. Nota: No se ampararán las construcciones, montajes o remodelaciones sobre los cuales sea responsable el respectivo contratista.
A45: AMPARO AUTOMÁTICO PARA CAMBIO DE UBICACIÓN DEL RIESGO | B45: Queda entendido, convenido y aceptado que en el evento de que uno o varios de los intereses asegurables (bienes muebles), objeto de éste seguro, cambien su ubicación del riesgo; las coberturas y amparos adicionales de esta póliza se extenderán automáticamente a la nueva ubicación. Excluye movilización
A46: AMPARO AUTOMÁTICO PARA EDIFICIOS Y CONTENIDOS QUE POR ERROR U OMISIÓN NO SE HAYAN INFORMADO AL INICIO DEL SEGURO. | B46: Queda entendido, convenido y aceptado que en el evento de que el asegurado, por error u omisión, no haya informado bienes muebles o inmuebles al inicio de la cobertura, sobre los cuales éste tuviere interés asegurable; las coberturas y amparos adicionales de esta póliza se extenderán automáticamente a dichos bienes hasta por un límite del 10% del valor asegurado global indicado en la poliza y por 30 días. La prima adicional se liquidará con base en las tasas contratadas. Si vencido este plazo no se ha informado a la Compañía, cesará el amparo.
A47: AMPARO AUTOMÁTICO PARA EQUIPOS REEMPLAZADOS TEMPORALMENTE | B47: Queda entendido, convenido y aceptado que en el evento de que el asegurado adquiera equipos para efectuar reemplazos temporales, las coberturas y amparos adicionales de esta póliza se extenderán automáticamente a dichos bienes, hasta por 10% del valor asegurado indicado para bienes muebles y/o equipos y por 30 días. Si vencido este plazo no se ha informado a la Compañía, cesará el amparo.
A48: AMPLIACIÓN DEL PLAZO PARA AVISO DE SINIESTRO | B48: Por medio de la presente cláusula y no obstante lo estipulado en las condiciones generales de la póliza, el asegurado podrá dar aviso de la ocurrencia del siniestro en un término de 30 días, siguientes a la fecha en que haya conocido o debido conocer la ocurrencia del mismo.
A49: ANTICIPO DE INDEMNIZACION 50% | B49: Queda entendido y convenido que en caso de presentarse un siniestro amparado bajo la presente póliza y demostrada su ocurrencia y cuantía, la compañía analizará la posibilidad de anticipar el 50% del valor estimado de la pérdida mientras el asegurado cumple con la obligación legal para tal fin. El asegurado deberá hacer el requerimiento mediante comunicación escrita dirigida a la compañía.
A50: AMIGABLE COMPONEDOR | B50: Cualquier discrepancia que se presente en la interpretación del presente contrato, será resuelta por el mecanismo alternativo de solución de conflictos de amigable componedor. El amigable componedor será único, por acuerdo entre las partes, a falta del mismo se delega su designación al Centro de Arbitraje de la Cámara de Comercio de Bogotá. La decisión del amigable componedor estará fundamentada en derecho y el procedimiento será el establecido por el Centro de Arbitraje de la Cámara de Comercio de Bogotá. La decisión del amigable componedor producirá los efectos propios de la transacción tiene menú contextual
A51: CLÁUSULA DE 72 HORAS PARA TERREMOTO / MAREMOTO Y DEMAS EVENTOS DE LA NATURALEZA | B51: Las pérdidas o daños amparados por la presente póliza darán origen a una reclamación separada por cada uno de estos fenómenos, sin exceder el total del valor asegurado. Pero si varios de ellos ocurren dentro de cualquier periodo de setenta y dos (72) horas consecutivas durante la vigencia del amparo, se tendrán como un solo siniestro y las pérdidas y daños que se causen deberán estar comprendidos en una sola reclamación, sin exceder el total del valor asegurado.
A52: COBERTURA DE EQUIPOS MÓVILES Y PORTÁTILES | B52: No obstante lo indicado en las condiciones generales de la póliza, en virtud de esta cláusula, la compañía ampara los equipos móviles y portátiles asegurados mientras sean movilizados para su uso en otros predios del asegurado o de terceros y mientras permanezcan en los mismos hasta por un límite del 25% del Valor Asegurado Las coberturas otorgadas serán las mismas del seguro.
A53: COBERTURA OBLIGATORIA PARA SOFTWARE | B53: Bajo este amparo se cubren los gastos en que debe incurrir el asegurado para la reinstalación y/o recuperación del software, incluidas pruebas y ajustes, los cuales se generan como consecuencia de daños o perdidas producidos por un evento amparado bajo la presente póliza. sublímite del 5% del valor asegurado en el item de Equipos Electrico y/o Electronico.
A54: CONCURRENCIA DE AMPAROS, CLÁUSULAS Y/O CONDICIONES | B54: Queda entendido, convenido y aceptado, que si dos o más amparos, cláusulas o condiciones otorgan cobertura a un mismo evento, se indemnizará con aquella que ofrezca mayor protección para los intereses del asegurado.
... A89: NO SUBROGACIÓN | B89: Queda entendido, convenido y aceptado que en caso de un siniestro, que afecta la presente póliza, la Compañía de Seguros no tendrá derecho a la subrogación contra ninguna de las personas cuyos actos u omisiones den origen a la responsabilidad del asegurado, de acuerdo con las leyes, ni contra el causante del siniestro que sea, respecto del asegurado, funcionario, empleado, trabajador, contratista o similar. La cláusula quedará sin efecto, si la responsabilidad proviene de dolo o culpa grave.
...

Sheet 13. TRME
A1: =+'12. TRDM'!A1 -> MUNICIPIO DE GIRARDOT
A2: FORMATO No. 13 - OFERTA PRESENTADA PARA EL SEGURO DE TODO RIESGO EQUIPO Y MAQUINARIA (TODO RIESGO CONTRATISTAS)
A4: NOMBRE DEL PROPONENTE:
A6: 1. OBJETO DEL SEGURO
A8: Amparar contra todo riesgo la maquinaria y equipo que se moviliza por sus propios medios, de propiedad o por los que sea legalmente responsable el MUNICIPIO , ubicada en cualquier parte del Territorio Nacional y por los daños que éstas causen a terceras personas a sus bienes.
A10: 2. INFORMACION GENERAL
A12: TOMADOR: | B12: =A1 -> MUNICIPIO DE GIRARDOT
A13: ASEGURADO: | B13: =A1 -> MUNICIPIO DE GIRARDOT
A14: BENEFICIARIO: | B14: =A1 -> MUNICIPIO DE GIRARDOT
A16: CONDICIONES OBLIGATORIAS | B16: Base de valoración: Costo de reposición a nuevo
B17: Todas las cláusulas que otorgan coberturas de gastos adicionales, operan sin aplicación de deducibles.
B18: CLAUSULA DE APLICACIÓN DE CONDICIONES PARTICULARES: Queda expresamente acordado y convenido, que la compañía acepta las condiciones básicas, técnicas establecidas en este anexo, en los términos señalados en el mismo, por lo tanto, en caso de existir discrepancias entre los ofrecimientos contenidos en la propuesta técnica básica, frente a los textos de los ejemplares de las pólizas, certificados, anexos o cualquier otro documento; prevalecerá la información y condiciones básicas técnicas establecidas.
A20: 3. DEFINICIÓN DE BIENES
A22: Para los efectos de este seguro se entiende por MAQUINARIA Y EQUIPO, toda la maquinaria que se moviliza por sus propios medios de propiedad del municipio de GIRARDOT, o por los que sea legalmente responsable, ubicada en cualquier parte del territorio Nacional.
A24: 4. BIENES Y VALORES ASEGURADOS
A26: VER ANEXO No. 2 - RELACION TRME
A28: 5. AMPAROS OBLIGATORIOS
A30: NOMBRE (DILIGENCIAR CUANDO EL TEXTO OFRECIDO NO SEA IDENTICO AL DESCRITO EN EL PLIEGO DE CONDICIONES, EN CASO QUE OMITAN, EXCLUYAN O MODIFIQUEN EL TEXTO EN LAS CONDICIONES MINIMAS SOLICITADAS, SE RECHAZARA LA PROPUESTA )
A31: - Incendio y/o rayo
A32: - Hurto y hurto calificado
A33: - Colisión por objetos en movimiento o estacionarios
A34: - Inundación, ciclón, huracán, tempestad, vientos
A35: - Terremoto, temblor, avalancha, y/o erupción volcánica
A36: - Actos mal intencionados de terceros (terrorismo)
... A42: 6. CLAUSULAS OBLIGATORIAS
A44: NOMBRE | B44: DESCRIPCION DE LA CLAUSULA (DILIGENCIAR CUANDO EL TEXTO OFRECIDO NO SEA IDENTICO AL DESCRITO EN EL PLIEGO DE CONDICIONES, EN CASO QUE OMITAN, EXCLUYAN O MODIFIQUEN EL TEXTO EN LAS CONDICIONES MINIMAS SOLICITADAS, SE RECHAZARA LA PROPUESTA )
A45: AMPARO AUTOMÁTICO PARA MAQUINARIA ADQUIRIDA O RECIBIDA, SEA NUEVA O USADA. | B45: Queda entendido, convenido y aceptado que en el evento de que el asegurado adquiera o reciba a cualquier título, maquinaria de cualquier clase, sean nueva o usada, sobre la cual éste tuviere interés asegurable; las coberturas y amparos adicionales de esta póliza se extenderán automáticamente a dichos bienes hasta por el 10% del valor asegurado total y por 30 días . El asegurado está obligado a dar aviso a la Compañía dentro de los 30 días siguientes a la fecha de conocimiento de los nuevos bienes. La prima adicional se liquidará con base en las tasas contratadas. Si vencido este plazo no se ha informado a la Compañía, cesará el amparo.
A46: AMPARO AUTOMÁTICO PARA MAQUINARIA QUE POR ERROR U OMISIÓN NO SE HAYAN INFORMADO AL INICIO DEL SEGURO. | B46: Queda entendido, convenido y aceptado que en el evento de que el asegurado, por error u omisión, no haya informado maquinaria al inicio de la cobertura, sobre la cual éste tuviere interés asegurable; las coberturas y amparos adicionales de esta póliza se extenderán automáticamente a dichos bienes hasta por el 10% del valor asegurado total y por 30 días . El asegurado está obligado a dar aviso a la Compañía dentro de los 30 días siguientes a la fecha de iniciación de la vigencia de la póliza. La prima adicional se liquidará con base en las tasas contratadas. Si vencido este plazo no se ha informado a la Compañía, cesará el amparo.
A47: AMPLIACIÓN DEL PLAZO PARA AVISO DE SINIESTRO | B47: Por medio de la presente cláusula y no obstante lo estipulado en las condiciones generales de la póliza, el asegurado podrá dar aviso de la ocurrencia del siniestro en un término de 30 días, siguientes a la fecha en que haya conocido o debido conocer la ocurrencia del mismo.
A48: ANTICIPO DE INDEMNIZACION 50% | B48: Queda entendido y convenido que en caso de presentarse un siniestro amparado bajo la presente póliza y demostrada su ocurrencia y cuantía, la compañía analizará la posibilidad de anticipar el 50% del valor estimado de la pérdida mientras el asegurado cumple con la obligación legal para tal fin. El asegurado deberá hacer el requerimiento mediante comunicación escrita dirigida a la compañía.
A49: AMIGABLE COMPONEDOR | B49: Cualquier discrepancia que se presente en la interpretación del presente contrato, será resuelta por el mecanismo alternativo de solución de conflictos de amigable componedor. El amigable componedor será único, por acuerdo entre las partes, a falta del mismo se delega su designación al Centro de Arbitraje de la Cámara de Comercio de Bogotá. La decisión del amigable componedor estará fundamentada en derecho y el procedimiento será el establecido por el Centro de Arbitraje de la Cámara de Comercio de Bogotá. La decisión del amigable componedor producirá los efectos propios de la transacción tiene menú contextual
A50: CLÁUSULA DE 72 HORAS PARA TERREMOTO | B50: Las pérdidas o daños amparados por la presente póliza darán origen a una reclamación separada por cada uno de estos fenómenos, sin exceder el total del valor asegurado. Pero si varios de ellos ocurren dentro de cualquier periodo de setenta y dos (72) horas consecutivas durante la vigencia del amparo, se tendrán como un solo siniestro y las pérdidas y daños que se causen deberán estar comprendidos en una sola reclamación, sin exceder el total del valor asegurado.
A51: PRIMERA OPCION COMPRA DE SALVAMENTO | B51: Si en caso de pérdida o daño, el asegurado quisiera conservar el bien asegurado, tendrá la primera opción de compra, caso en el cual, la aseguradora efectuará un peritazgo del mismo e informará el valor del avalúo. La aseguradora se obliga a comunicar por escrito al asegurado en toda oportunidad a que haya lugar a la aplicación de esta cláusula, concediéndole a éste un plazo de noventa (90) días para que le informe si hará uso de tal opción o no. Si no se llega a un acuerdo entre el asegurado y la compañía por la compra del salvamento, la compañía quedará en libertad de disponer de él a su entera voluntad.
A52: EXPERTICIO TÉCNICO | B52: Queda entendido, convenido y aceptado que en el evento de existir discrepancia entre la Compañía y el Asegurado en cuanto a si el siniestro constituye una pérdida total o parcial o con relación a otros aspectos de orden técnico, la cuestión será sometida a la decisión de ingenieros peritos o técnicos expertos en la actividad que desarrolla el Asegurado, según los intereses afectados por el siniestro, siguiendo el procedimiento que para tal regulación prevén los artículos 2026 y siguientes del Código de Comercio
A53: GASTOS ADICIONALES | B53: No obstante lo que se diga en contrario en las condiciones generales y particulares de la póliza, la Compañía se obliga a indemnizar los gastos adicionales (que no tengan carácter de permanentes), debidamente comprobados en que necesaria y razonablemente incurra el asegurado, como consecuencia directa del siniestro sin exceder del 20% del valor asegurado en el item Maquinaria, haciendo parte del valor asegurado y no en adición a este.
A54: GASTOS ADICIONALES DE EXTINCIÓN DE INCENDIO | B54: No obstante lo que se diga en contrario en las condiciones generales y particulares de la póliza, la Compañía se obliga a indemnizar los costos de los productos o sustancias utilizadas, así como los elementos o equipos destruidos total o parcialmente, como consecuencia de las actividades dirigidas a la extinción del incendio o para evitar su propagación,sin exceder del 20% del valor asegurado en el item Maquinaria, haciendo parte del valor asegurado y no en adición a este.
A55: GASTOS ADICIONALES DE EXTINCIÓN DEL SINIESTRO | B55: No obstante lo que se diga en contrario en las condiciones generales y particulares de la póliza, la Compañía se obliga a indemnizar los gastos en que necesaria y razonablemente incurra el asegurado con el fin extinguir cualquier siniestro amparado por la póliza o para evitar su propagación,sin exceder del 20% del valor asegurado en el item Maquinaria, haciendo parte del valor asegurado y no en adición a este. No se considera como gasto efectuado la colaboración personal prestada por el asegurado, ni la de sus empleados y obreros.
... A78: NO SUBROGACIÓN | B78: Queda entendido, convenido y aceptado que en caso de un siniestro, que afecta la presente póliza, la Compañía de Seguros no tendrá derecho a la subrogación contra ninguna de las personas cuyos actos u omisiones den origen a la responsabilidad del asegurado, de acuerdo con las leyes, ni contra el causante del siniestro que sea, respecto del asegurado, funcionario, empleado, trabajador, contratista o similar. La cláusula quedará sin efecto, si la responsabilidad proviene de dolo o culpa grave.
A79: EXCLUSIONES GENERICAS
A80: Enfermedades contagiosas | B80: Excluyen todos los daños y perjuicios, responsabilidades, reclamaciones costes o gastos de cualquier naturaleza que, de forma directa o indirecta, hayan sido causados o coadyuvados por una enfermedad contagiosa o resulten o se deriven de una enfermedad contagiosa o en relación con ella, o del temor o amenaza (real o percibido) de una enfermedad contagiosa, con independencia de cualquier otra causa o hecho que de manera concurrente o secuencial haya contribuido a los mismos
...

Sheet 14. AUTOMÓVILES
A1: =+'12. TRDM'!A1:B1 -> MUNICIPIO DE GIRARDOT
A2: FORMATO No. 14 - OFERTA PRESENTADA PARA EL SEGURO AUTOMOVILES
A4: NOMBRE DEL PROPONENTE:
A6: 1. OBJETO DEL SEGURO
A8: Amparar los daños y/o pérdidas que sufran los vehículos de propiedad del MUNICIPIO DE GIRARDOT, o por los que sea legalmente responsable, o aquellos daños a bienes o lesiones o muerte a terceros que se causen.
A10: 2. INFORMACION GENERAL
A12: TOMADOR: | B12: =A1 -> MUNICIPIO DE GIRARDOT
A13: ASEGURADO: | B13: =A1 -> MUNICIPIO DE GIRARDOT
A14: BENEFICIARIO: | B14: =A1 -> MUNICIPIO DE GIRARDOT
A16: CONDICIONES OBLIGATORIAS | B16: Todas las cláusulas que otorgan coberturas de gastos adicionales, operan sin aplicación de deducibles.
B17: Por el hecho de presentar oferta, el oferente aprueba los siguientes procedimientos en los casos en que se presenten pérdidas totales: • Para Pérdidas Totales por Daños: se determinará conjuntamente con la aseguradora el valor del salvamento y este quedará a opción de la Entidad, y su valor será deducido del total a indemnizar. El asegurado suministrará la factura original de compra, el certificado individual o manifiesto de importación o el documento que acredite la adquisición del vehículo, y/o demás documentos que requiera la compañia de seguros. • Para Pérdidas Totales por Hurto: con la sola presentación del denuncio y una carta de la Entidad en la cual deje a disposición de la Aseguradora el salvamento en caso de recuperación, se procederá a cancelar el valor asegurado total. El asegurado suministrará la factura original de compra, el certificado individual o manifiesto de importación o el documento que acredite la adquisición del vehículo, y/o demás documentos que requiera la compañia de seguros.
B18: El oferente deberá indicar las tasas a aplicar para determinar el valor de la prima. Si el oferente no aplica tasas únicas, deberá presentar cotización individual por cada uno de los vehículos asegurados o de lo contrario obtendrá cero puntos en la evaluación del factor costo de los seguros.
B19: Para este ramo no se acepta la aplicación de deducibles. La propuesta que ofrezca algún deducible se rechazará, generando igualmente el rechazo del grupo al cual pertenece.
B20: CLAUSULA DE APLICACIÓN DE CONDICIONES PARTICULARES: Queda expresamente acordado y convenido, que la compañía acepta las condiciones básicas, técnicas establecidas en este anexo, en los términos señalados en el mismo, por lo tanto, en caso de existir discrepancias entre los ofrecimientos contenidos en la propuesta técnica básica, frente a los textos de los ejemplares de las pólizas, certificados, anexos o cualquier otro documento; prevalecerá la información y condiciones básicas técnicas establecidas.
A22: 3. RELACION VEHICULOS Y VALORES ASEGURADOS
A24: VER ANEXO No.4 - RELACION AUT
A26: 4. AMPAROS OBLIGATORIOS
A28: NOMBRE (DILIGENCIAR CUANDO EL TEXTO OFRECIDO NO SEA IDENTICO AL DESCRITO EN EL PLIEGO DE CONDICIONES, EN CASO QUE OMITAN, EXCLUYAN O MODIFIQUEN EL TEXTO EN LAS CONDICIONES MINIMAS SOLICITADAS, SE RECHAZARA LA PROPUESTA )
A29: Responsabilidad Civil Extracontractual (incluyendo daño moral y lucro cesante) vehículos Livianos • Daños a bienes de Terceros $500.000.000 • Muerte o Lesiones a una persona $ 500.000.000 • Muerte o Lesiones a dos o más personas $ 1.000.000.000 Responsabilidad Civil Extracontractual (incluyendo daño moral y lucro cesante) vehículos Pesados • Daños a bienes de Terceros $ 200.000.000 • Muerte o Lesiones a una persona $ 200.000.000 • Muerte o Lesiones a dos o más personas $ 400.000.000 Responsabilidad Civil Extracontractual (incluyendo daño moral y lucro cesante) motocicletas • Daños a bienes de Terceros $50.000.000 • Muerte o Lesiones a una persona $50.000.000 • Muerte o Lesiones a dos o más personas $100.000.000
A31: Pérdida Total por Daños (incluidos actos terroristas)
A32: Pérdida Parcial por Daños (incluidos actos terroristas)
A33: Pérdida Parcial o Total por Hurto o Hurto Calificado
A34: Terremoto, Temblor y/o Erupción Volcánica
A35: No aplicación de deducibles para todos los amparos
A36: Amparo patrimonial
A37: Asistencia Jurídica en Proceso Penal
... A44: 5. CLAUSULAS OBLIGATORIAS
A46: NOMBRE | B46: DESCRIPCION DE LA CLAUSULA (DILIGENCIAR CUANDO EL TEXTO OFRECIDO NO SEA IDENTICO AL DESCRITO EN EL PLIEGO DE CONDICIONES, EN CASO QUE OMITAN, EXCLUYAN O MODIFIQUEN EL TEXTO EN LAS CONDICIONES MINIMAS SOLICITADAS, SE RECHAZARA LA PROPUESTA )
A47: ACTUALIZACION DE VALOR ASEGURADO | B47: Queda entendido, convenido y aceptado que en los eventos de pérdida total, la indemnización se realizará sobre el valor comercial del vehículo según la guía de Fasecolda vigente a la fecha del reclamo.
A48: AMPARO AUTOMÁTICO DE NUEVOS ACCESORIOS Y EQUIPOS | B48: Queda entendido, convenido y aceptado que en el evento de que el asegurado adquiera o reciba a cualquier título accesorios y equipos de cualquier clase, sobre los cuales éste tuviere interés asegurable; las coberturas y amparos adicionales de ésta póliza se extenderán automáticamente a dichos bienes por el 20% del valor asegurado del vehiculo establecido en la guia fasecolda. El asegurado está obligado a dar aviso a la Compañía dentro de los 30 días siguientes a la fecha de conocimiento de los nuevos bienes. La prima adicional se liquidará con base en las tasas contratadas. Si vencido este plazo no se ha informado a la Compañía, cesará el amparo.
A49: AMPARO AUTOMÁTICO DE NUEVOS VEHICULOS SEAN CERO KILÓMETROS O USADOS | B49: Queda entendido, convenido y aceptado que en el evento de que el asegurado adquiera o reciba a cualquier título, vehículos automotores de cualquier clase, sean nuevos (cero kilómetros) o usados, sobre los cuales éste tuviere interés asegurable; las coberturas y amparos adicionales de esta póliza se extenderán automáticamente a dichos bienes por el 10% del valor asegurado total de la póliza. El asegurado está obligado a dar aviso a la Compañía dentro de los 30 días siguientes a la fecha de conocimiento de los nuevos bienes. La prima adicional se liquidará con base en las tasas contratadas. Si vencido este plazo no se ha informado a la Compañía, cesará el amparo.
A50: AMPARO AUTOMÁTICO PARA ACCESORIOS Y EQUIPOS QUE POR ERROR U OMISIÓN NO SE HAYAN INFORMADO AL INICIO DEL SEGURO. | B50: Queda entendido, convenido y aceptado que en el evento de que el asegurado, por error u omisión, no haya informado accesorios o equipos al inicio de la cobertura, sobre los cuales éste tuviere interés asegurable; las coberturas y amparos adicionales de esta póliza se extenderán automáticamente a dichos bienes por 20% del valor asegurado del vehiculo establecido en la guia fasecolda. El asegurado está obligado a dar aviso a la Compañía dentro de los 30 días siguientes a la fecha de iniciación de la vigencia de la póliza. La prima adicional se liquidará con base en las tasas contratadas. Si vencido este plazo no se ha informado a la Compañía, cesará el amparo.
A51: AMPARO AUTOMÁTICO PARA VEHICULOS QUE POR ERROR U OMISIÓN NO SE HAYAN INFORMADO AL INICIO DEL SEGURO. | B51: Queda entendido, convenido y aceptado que en el evento de que el asegurado, por error u omisión, no haya informado vehículos automotores de cualquier clase al inicio de la cobertura, sobre los cuales éste tuviere interés asegurable; las coberturas y amparos adicionales de esta póliza se extenderán automáticamente a dichos bienes por el 10% del valor asegurado total de la póliza . El asegurado está obligado a dar aviso a la Compañía dentro de los 30 días siguientes a la fecha de iniciación de la vigencia de la póliza. La prima adicional se liquidará con base en las tasas contratadas. Si vencido este plazo no se ha informado a la Compañía, cesará el amparo.
A52: AMPLIACIÓN DEL PLAZO PARA AVISO DE SINIESTRO | B52: Por medio de la presente cláusula y no obstante lo estipulado en las condiciones generales de la póliza, el asegurado podrá dar aviso de la ocurrencia del siniestro en un término de 30 días, siguientes a la fecha en que haya conocido o debido conocer la ocurrencia del mismo.
A53: ANTICIPO DE INDEMNIZACION 50% | B53: Queda entendido y convenido que en caso de presentarse un siniestro amparado bajo la presente póliza y demostrada su ocurrencia y cuantía, la compañía analizará la posibilidad de anticipar el 50% del valor estimado de la pérdida mientras el asegurado cumple con la obligación legal para tal fin. El asegurado deberá hacer el requerimiento mediante comunicación escrita dirigida a la compañía.
A54: AMIGABLE COMPONEDOR | B54: Cualquier discrepancia que se presente en la interpretación del presente contrato, será resuelta por el mecanismo alternativo de solución de conflictos de amigable componedor. El amigable componedor será único, por acuerdo entre las partes, a falta del mismo se delega su designación al Centro de Arbitraje de la Cámara de Comercio de Bogotá. La decisión del amigable componedor estará fundamentada en derecho y el procedimiento será el establecido por el Centro de Arbitraje de la Cámara de Comercio de Bogotá. La decisión del amigable componedor producirá los efectos propios de la transacción tiene menú contextual
A55: AUTORIZACION DE REPARACION DEL VEHÍCULO | B55: Mediante la presente cláusula, se deja expresamente señalado que el término de respuesta de la Compañía, para confirmar la autorización de la reparación de los vehículos en los siniestros que afecten la cobertura de pérdida parcial, es de quince (15) días hábiles, contados a partir del momento en que la Entidad asegurada presenta la reclamación y formaliza la misma, de acuerdo con las condiciones señaladas en la oferta de que para tal efecto se encuentran establecidas.
A56: CLÁUSULA DE 72 HORAS PARA TERREMOTO / MAREMOTO Y DEMAS EVENTOS DE LA NATURALEZA | B56: Las pérdidas o daños amparados por la presente póliza darán origen a una reclamación separada por cada uno de estos fenómenos, sin exceder el total del valor asegurado. Pero si varios de ellos ocurren dentro de cualquier periodo de setenta y dos (72) horas consecutivas durante la vigencia del amparo, se tendrán como un solo siniestro y las pérdidas y daños que se causen deberán estar comprendidos en una sola reclamación, sin exceder el total del valor asegurado.
A57: COBERTURA DE ACCESORIOS | B57: Queda entendido, convenido y aceptado, que todos los accesorios de los vehículos asegurados se encuentran debidamente amparados aunque no se hayan detallado expresamente hasta por un límite de 10% del valor asegurado por vehículo, maximo $ 10.000.000. En el evento de que el valor de los accesorios sea mayor si se requerirá relación detallada de los mismos.
... A67: REVOCACIÓN DE LA PÓLIZA Y/O NO RENOVACION Y/O NO PRORROGA | B67: El presente contrato de seguro podrá ser revocado por el asegurado en cualquier momento de su ejecución. La compañía por su parte podrá revocarlo dando aviso por escrito con 30 días de anticipación, salvo para las coberturas de AMIT y HMACC que no podrá ser inferior a 10 días y en menor tiempo en el evento contemplado en el artículo 22 de la Ley 35 de 1993. En caso de revocación por parte de la aseguradora, esta devolverá al asegurado la parte de la prima no devengada, o sea, la que corresponde al lapso comprendido entre la fecha que comienza a surtir efecto la revocación y la del vencimiento del seguro. En caso de que sea revocado por el asegurado, el importe de la prima devengada y el de la devolución, se calculará tomando en cuenta la tarifa de seguros a corto plazo. De igual manera, la compañía se obliga a avisar su decisión de no renovar o prorrogar éste contrato de seguros con 30 días de anticipación, mediante comunicación escrita dirigida al asegurado.
...

Sheet 15. MANEJO
A1: ='12. TRDM'!A1:B1 -> MUNICIPIO DE GIRARDOT
A2: FOMATO No. 15 - OFERTA PRESENTADA PARA EL SEGURO DE MANEJO GLOBAL PARA ENTIDADES OFICIALES
A4: NOMBRE DEL PROPONENTE:
A6: 1. OBJETO DEL SEGURO
A8: Amparar al MUNICIPIO DE GIRARDOT contra los riesgos que impliquen menoscabo de sus fondos y/o bienes, causados por acciones u omisiones de los empleados en ejercicio de sus cargos o sus reemplazos, que incurran en actos que se tipifiquen como delitos contra la administración pública, o fallos con responsabilidad fiscal, de acuerdo con la resolución 014249 del 15 de mayo de 1992, aprobada por la Contraloría General de la República y demás normas concordantes; o alcances por incumplimiento de las disposiciones legales y reglamentarias, incluyendo el costo de la rendición de cuentas en caso de abandono del cargo o fallecimiento del empleado.
A10: 2. INFORMACION GENERAL
A12: TOMADOR: | B12: =A1 -> MUNICIPIO DE GIRARDOT
A13: ASEGURADO: | B13: =A1 -> MUNICIPIO DE GIRARDOT
A14: BENEFICIARIO: | B14: =A1 -> MUNICIPIO DE GIRARDOT
A16: CONDICIONES OBLIGATORIAS | B16: Todas las cláusulas que otorgan coberturas de gastos adicionales, operan sin aplicación de deducibles.
B17: La presente póliza se complementa las perdidas causadas por los funcionarios de la entidad asegurada o por las personas que bajo su responsabilidad lo reemplacen, previa aceptacion de la compañia, por incurrir en conductas que sean tipificadas como delitos contra la administracion publica, que causen menoscabo de los fondos o bienes de la entidad asegurada, siempre y cuando el hecho sea cometido dentro de la vigencia de la presente poliza.
B18: CLAUSULA DE APLICACIÓN DE CONDICIONES PARTICULARES: Queda expresamente acordado y convenido, que la compañía acepta las condiciones básicas, técnicas establecidas en este anexo, en los términos señalados en el mismo, por lo tanto, en caso de existir discrepancias entre los ofrecimientos contenidos en la propuesta técnica básica, frente a los textos de los ejemplares de las pólizas, certificados, anexos o cualquier otro documento; prevalecerá la información y condiciones básicas técnicas establecidas.
A20: 3. VALORES ASEGURADOS
A22: OFERTA BÁSICA | B22: 300000000
A24: 4. CARGOS ASEGURADOS
A26: La planta asignada actualmente es de 30 cargos y 120 contratistas que realizan funciones propias de la misión institucional de la Entidad.
A27: Relacion de cargos asegurados ver A nexo 6
A28: 5. AMPAROS OBLIGATORIOS
A30: NOMBRE (DILIGENCIAR CUANDO EL TEXTO OFRECIDO NO SEA IDENTICO AL DESCRITO EN EL PLIEGO DE CONDICIONES, EN CASO QUE OMITAN, EXCLUYAN O MODIFIQUEN EL TEXTO EN LAS CONDICIONES MINIMAS SOLICITADAS, SE RECHAZARA LA PROPUESTA )
A31: Los riesgos que impliquen menoscabo de los fondos y bienes del Estado, causados por sus empleados, por actos u omisiones que se tipifiquen como delitos contra la administración pública o fallos con responsabilidad fiscal.
A32: El costo de la rendición y reconstrucción de cuentas llevadas a cabo por funcionarios de la Contraloría General de la República en los casos de abandono del cargo o fallecimiento del responsable de la rendición de cuentas, siempre y cuando el asegurador manifieste la imposibilidad de rendir dicha cuentas
A33: 6. CLAUSULAS OBLIGATORIAS
A35: NOMBRE | B35: DESCRIPCION DE LA CLAUSULA (DILIGENCIAR CUANDO EL TEXTO OFRECIDO NO SEA IDENTICO AL DESCRITO EN EL PLIEGO DE CONDICIONES, EN CASO QUE OMITAN, EXCLUYAN O MODIFIQUEN EL TEXTO EN LAS CONDICIONES MINIMAS SOLICITADAS, SE RECHAZARA LA PROPUESTA )
A36: AMPARO AUTOMATICO DE CARGOS QUE POR ERROR U OMISIÓN NO SE HAYAN INFORMADO AL INICIO DEL SEGURO | B36: Queda entendido, convenido y aceptado que no obstante lo que en contrario se diga en las condiciones generales de la póliza, el presente anexo se extiende a cubrir automáticamente todo cargo que por error u omisión no se haya informado al inicio del seguro por el asegurado. El asegurado deberá comunicar tal situación a la aseguradora dentro de los 30 días siguientes al inicio de vigencia del seguro y la compañía efectuará el cobro de la prima proporcional a prorrata.
A37: AMPARO AUTOMATICO DE NUEVOS CARGOS | B37: Queda entendido, convenido y aceptado que no obstante lo que en contrario se diga en las condiciones generales de la póliza, el presente anexo se extiende a cubrir automáticamente todo nuevo cargo creado por el asegurado. El asegurado deberá comunicar tal situación a la aseguradora dentro de los 30 días siguientes a la modificación y la compañía efectuará el cobro de la prima proporcional a prorrata.
A38: AMPLIACIÓN DEL PLAZO PARA AVISO DE SINIESTRO | B38: Por medio de la presente cláusula y no obstante lo estipulado en las condiciones generales de la póliza, el asegurado podrá dar aviso de la ocurrencia del siniestro en un término de 30 días, siguientes a la fecha en que haya conocido o debido conocer la ocurrencia del mismo.
A39: ANTICIPO DE INDEMNIZACION 50% | B39: Queda entendido y convenido que en caso de presentarse un siniestro amparado bajo la presente póliza y demostrada su ocurrencia y cuantía, la compañía analizará la posibilidad de anticipar el 50% del valor estimado de la pérdida mientras el asegurado cumple con la obligación legal para tal fin. El asegurado deberá hacer el requerimiento mediante comunicación escrita dirigida a la compañía.
A40: AMIGABLE COMPONEDOR | B40: Cualquier discrepancia que se presente en la interpretación del presente contrato, será resuelta por el mecanismo alternativo de solución de conflictos de amigable componedor. El amigable componedor será único, por acuerdo entre las partes, a falta del mismo se delega su designación al Centro de Arbitraje de la Cámara de Comercio de Bogotá. La decisión del amigable componedor estará fundamentada en derecho y el procedimiento será el establecido por el Centro de Arbitraje de la Cámara de Comercio de Bogotá. La decisión del amigable componedor producirá los efectos propios de la transacción tiene menú contextual
A41: CLÁUSULA DE PROTECCION DE DEPOSITOS BANCARIOS | B41: Cubre las pérdidas de dinero que el asegurado tenga depositado en sus cuentas corrientes o de ahorro en entidades bancarias o financieras (incluidos sus respectivos intereses), que se deba a falsificación o adulteración de un cheque, letra de cambio, pagaré, carta de crédito o cualquier otra clase de título valor que el banco o entidad financiera presuma que ha sido firmado, endosado o avalado por el asegurado o por una persona que obre en su nombre o representación y que el banco o entidad financiera compruebe que no es responsable por dicho pago, incluyendo: a) Cualquier cheque o giro hecho o girado en nombre de la Entidad pagadero a una persona ficticia y endosado o pagado a nombre de dicha persona. b) Cualquier cheque o giro hecho o girado en transacción de la Entidad o por su representante a favor de un tercero y entregado al representante de éste que resultare endosado o cobrado por persona distinta de aquel a quien se giró. c) Cualquier cheque o giro con destino al pago de salarios que habiendo sido girado u ordenado por la Entidad, resultare endosado y cobrado por un tercero obrando supuestamente a nombre del girador, o de aquel a quien se debía hacer el pago. Esta cobertura aplica cuando se demuestra la participación de uno o más empleados del asegurado y que la entidad bancaria demuestre que no tiene ninguna responsabilidad.Sublimite 20% del valor asegurado global de la poliza, siempre y cuando se demuestre que no existe responsabilidad por parte de la entidad financiera.
A42: CONCURRENCIA DE AMPAROS, CLÁUSULAS Y/O CONDICIONES | B42: Queda entendido, convenido y aceptado, que si dos o más amparos, cláusulas o condiciones otorgan cobertura a un mismo evento, se indemnizará con aquella que ofrezca mayor protección para los intereses del asegurado. De igual manera prevalecerán los amparos, cláusulas o condiciones que otorguen cobertura, sobre aquellos que las excluyan. En todo caso y ante cualquier discrepancia sobre cuál es el amparo, cláusula o condición aplicable a un caso determinado, se aplicará aquella que determine el asegurado de acuerdo a su conveniencia.
A43: DEFINICION DE TRABAJADOR O EMPLEADO | B43: La expresión de trabajador o empleado comprende a representantes legales, funcionarios o empleados del asegurado, vinculado a este mediante contrato de trabajo, orden de trabajo o mediante nombramiento por decreto o resolución. Igualmente quedan amparados los trabajadores ocasionales, temporales o transitorios, y a quienes sin serlo realicen prácticas o investigaciones en sus dependencias, como estudiantes , con la previa y expresa autorización del asegurado. Así mismo todas aquellas personas naturales, asesores, consultores, auxiliares bachilleres y contratistas independientes que presten sus servicios al asegurado, bajo cualquier título o contrato, y demás que requiera la entidad para su normal funcionamiento.
A44: DESIGNACIÓN DE AJUSTADORES
A45: DESIGNACION DE BIENES | B45: Los oferentes deben aceptar el título , nombre, denominación o nomenclatura con que el asegurado identifica o describe los bienes asegurados en sus registro o libros de comercio o contabilidad.
A46: EXPERTICIO TÉCNICO | B46: Queda entendido, convenido y aceptado que en el evento de existir discrepancia entre la Compañía y el Asegurado en cuanto a si el siniestro constituye un agotamiento del limite asegurado, la cuestión será sometida a concepto emitido por el ajustador, según los intereses afectados por el siniestro, siguiendo el procedimiento que para tal regulación prevén los artículos 2026 y siguientes del Código de Comercio
A47: GASTOS ADICIONALES | B47: No obstante lo que se diga en contrario en las condiciones generales y particulares de la póliza, la Compañía se obliga a indemnizar los gastos adicionales (que no tengan carácter de permanentes), debidamente comprobados en que necesaria y razonablemente incurra el asegurado, como consecuencia directa del siniestro, hasta el 100% de los gastos demostrados, sin exceder el 10% del limite asegurado.
A48: GASTOS PARA DEMOSTRAR EL SINIESTRO Y SU CUANTÍA | B48: No obstante lo que se diga en contrario en las condiciones generales y particulares de la póliza, la Compañía se obliga a indemnizar los gastos en que necesaria y razonablemente incurra el asegurado con el fin de demostrar la ocurrencia del siniestro y la cuantía de la pérdida que sean afectados por uno de los eventos amparados bajo la presente póliza, hasta el 100% de los gastos demostrados, sin exceder el 10% del limite asegurado.
A49: HONORARIOS PROFESIONALES DE ABOGADOS, CONSULTORES, AUDITORES. | B49: No obstante lo que se diga en contrario en las condiciones generales y particulares de la póliza, la Compañía se obliga a indemnizar los honorarios en que necesaria y razonablemente incurra el asegurado, por concepto de abogados, consultores, auditores, revisores, contadores, para obtener y certificar: a.- los detalles extraídos de los libros de contabilidad y del negocio mismo del asegurado, y b.- cualesquiera otras informaciones, documentos y testimonios que sean pedidos por la compañía al asegurado según lo establecido en las condiciones generales y particulares de la póliza. La compañía reconocerá hasta el 100% de los gastos demostrados por el asegurado, sin exceder el 10% del limite asegurado.
A50: LIQUIDACION A PRORRATA PARA PRORROGA DE LA VIGENCIA | B50: Queda entendido y convenido que en caso de que el asegurado lo requiera, la aseguradora realizará la liquidación de la prima de la prórroga a prorrata y con las mismas tasas de la póliza inicial, siempre y cuando el índice de siniestralidad no supere el 50% teniendo en cuenta pagos y reservas. En caso de superar este porcentaje, habrá lugar a la revisión de terminos y ajuste de las tasas inicialmente pactadas.
A51: PAGO DE LA INDEMNIZACIÓN | B51: Queda expresamente acordado que la aseguradora acepta efectuar el pago de la indemnización, en dinero directamente a la entidad o a los contratistas y/o proveedores de servicios o suministro de éstos u otros similares con los cuales la Entidad, decida remplazar, reparar y/o reponer el bien o bienes afectados; y para este último caso la compañía efectuará el pago hasta el monto de su responsabilidad, a petición escrita de la Entidad Asegurada. Queda convenido que la entidad asegurada se reserva el derecho de determinar si el giro de la indemnización se realiza en dinero o giro a los contratistas y la aseguradora acepta esta condición.
A52: PERDIDAS OCASIONADAS POR EMPLEADOS DE FIRMA ESPECIALIZADA INCLUYENDO CONTRATISTAS INDEPENDIENTES Y PERSONAS CON CONTRATO DE PRESTACION DE SERVICIOS | B52: No obstante lo que se diga en contrario en las condiciones generales de la póliza, por la presente cláusula se cubren las pérdidas que sufra el asegurado como consecuencia de cualquiera de los delitos que sean cometidos por empleados de firma especializada, incluyendo contratistas independientes y personas con contrato de prestación de servicios, mientras se encuentren ejerciendo sus funciones al servicio del asegurado. Sublimitado al 30% del valor asegurado en el basico
...

Sheet 16. RCE
A1: ='12. TRDM'!A1:B1 -> MUNICIPIO DE GIRARDOT
A2: FORMATO No. 16 - OFERTA PRESENTADA PARA EL SEGURO DE RESPONSABILIDAD CIVIL EXTRACONTRACTUAL
A4: NOMBRE DEL PROPONENTE: ______________________________________________________________________________________________________________________________________
A6: 1. OBJETO DEL SEGURO
A7: Amparar los perjuicios patrimoniales y extrapatrimoniales que sufra el MUNICIPIO DE GIRARDOT , como consecuencia de la Responsabilidad Civil Extracontractual originada dentro o fuera de sus instalaciones, en el desarrollo de sus actividades o en lo relacionado con ella, lo mismo que los actos de sus empleados y funcionarios dentro y fuera del territorio nacional. Nota: Se entenderán como terceros todas y cada una de las personas que circulen, ingresen, accedan o se encuentren en los predios de asegurado, independientemente que el asegurado le esté prestando un servicio objeto de su razón social
A9: 2. INFORMACION GENERAL
A10: TOMADOR: | B10: =A1 -> MUNICIPIO DE GIRARDOT
A11: ASEGURADO: | B11: =A1 -> MUNICIPIO DE GIRARDOT
A12: BENEFICIARIO: | B12: ENTIDAD Y/O TERCEROS AFECTADOS
A14: CONDICIONES OBLIGATORIAS | B14: TIPO DE COBERTURA: Responsabilidad civil extracontractual para amparar los daños materiales y/o lesiones y/o muerte causadas por la Entidad a terceros durante el giro normal de sus actividades por cualquier causa, salvo los eventos expresamente excluidos.
B15: Todas las cláusulas que otorgan coberturas de gastos adicionales, operan sin aplicación de deducibles.
B16: La Presente póliza opera igualmente en exceso de los amparos de responsabilidad civil contratados en los seguros de automóviles y todo riesgo maquinaria y equipo
B17: CLAUSULA DE APLICACIÓN DE CONDICIONES PARTICULARES: Queda expresamente acordado y convenido, que la compañía acepta las condiciones básicas, técnicas establecidas en este anexo, en los términos señalados en el mismo, por lo tanto, en caso de existir discrepancias entre los ofrecimientos contenidos en la propuesta técnica básica, frente a los textos de los ejemplares de las pólizas, certificados, anexos o cualquier otro documento; prevalecerá la información y condiciones básicas técnicas establecidas.
A18: 3. VALORES ASEGURADOS
A20: OFERTA BÁSICA | B20: 1000000000
A22: 4. AMPAROS OBLIGATORIOS
A24: NOMBRE | C24: SUBLIMITE
A25: (DILIGENCIAR CUANDO EL TEXTO OFRECIDO NO SEA IDENTICO AL DESCRITO EN EL PLIEGO DE CONDICIONES, EN CASO QUE OMITAN, EXCLUYAN O MODIFIQUEN EL TEXTO EN LAS CONDICIONES MINIMAS SOLICITADAS, SE RECHAZARA LA PROPUESTA )
A26: RIESGOS AMPARADOS:
A27: - Predios labores y operaciones, incluyendo incendio y explosión.
A28: - Uso de ascensores, montacargas, grúas y puentes grúas.
A29: - Uso de armas de fuego por parte de vigilantes y funcionarios.
A30: Avisos, vallas y letreros dentro y fuera de los predios.que sean propiedad del asegurado.
A31: - Restaurantes y campos deportivos
A32: Actividades deportivas, sociales y culturales dentro o fuera de los predios
A33: Daños y lesiones que se causen a bienes y a terceros durante la realización de algún evento, capacitación, conferencias, etc., durante la vigencia de la póliza
A34: - Participación del asegurado en ferias y exposiciones nacionales
A35: - Viajes de funcionarios del asegurado dentro del territorio nacional.
A36: Viajes de funcionarios del asegurado fuera del territorio Nacional, cuando el viaje no exceda cinco semanas
... A40: COBERTURAS QUE SE PUEDEN SUBLIMITAR
A41: Contaminación accidental súbita e imprevista ( Excluye contaminación paulatina) | C41: SI - Sublímite 20% del valor asegurado evento / vigencia
A42: Contratistas y Subcontratistas independientes. Esta cobertura operará en exceso de las pólizas del contratista o subcontratista. | C42: SI - Sublímite 20% del valor asegurado evento / vigencia
A43: Daño Moral | C43: SI - Sublímite 20% del valor asegurado evento / vigencia
A44: Daños y hurto de vehículos de terceros y funcionarios en predios del asegurado | C44: SI - Sublímite 20% del valor asegurado evento / vigencia
A45: Gastos médicos incluyendo personal del asegurado. | C45: SI - Sublímite $5.000.000 por persona, $10.000.000 Agregado Anual
A46: Honorarios de abogados y gastos de defensa | C46: SI - Sublímite 10% del valor asegurado evento / vigencia
A47: Hurto de accesorios de vehículos en predios del asegurado | C47: SI - Sublímite 10% del valor asegurado evento / vigencia
A48: Costos y Gastos judiciales: La compañía de seguros responderá, salvo en los siguientes casos:Si la responsabilidad proviene de dolo o culpa grave, o está expresamente excluida de la presente póliza, Si el asegurado afronta el proceso contra orden expresa de la compañía de Seguros, Si la indemnización a cargo del asegurado excede el límite asegurado, la compañía solo responderá por los gastos del proceso en proporción a la cuota que le corresponda en la indemnización. | C48: SI - Sublímite 5% del valor asegurado evento / vigencia
A49: Parqueaderos del municipio, incluyendo daños y/o hurto a vehículos y/o a sus accesorios | C49: SI - Sublímite Mínimo 10% del valor asegurado evento / vigencia
A50: Posesión, uso y mantenimiento de depósitos, tanques y tuberías, ubicados o instalados dentro de los predios del asegurado | C50: SI - Sublímite 20% del valor asegurado evento / vigencia
...

Sheet 17 RCSP
A1: =+'12. TRDM'!A1:B1 -> MUNICIPIO DE GIRARDOT
A2: Formato No. 17 - OFERTA PRESENTADA PARA EL SEGURO DE RESPONSABILIDAD CIVL PARA SERVIDORES PUBLICOS
A4: NOMBRE DEL PROPONENTE: _________________________________________________________________________________________________________________________________
A6: 1. OBJETO DEL SEGURO
A8: Perjuicios causados a terceros y al MUNICPIO DE GIRARDOT provenientes de la responsabilidad civil de los servidores públicos, originados en cualquier reclamación iniciada por primera vez enmarcada dentro de la ley, durante la vigencia de la póliza, por todo acto u omisión, por actos incorrectos, culposos, reales o presuntos, cometidos por cualquier persona que desempeñe o haya desempeñado los cargos asegurados, en el desempeño de sus respectivas funciones como Servidores Públicos. De igual manera se cubren las investigaciones preliminares, los perjuicios imputables a funcionarios de la Entidad que desempeñen los cargos relacionados y descritos en el listado que suministre la Entidad, así como por Juicios de Responsabilidad Fiscal y acciones de repetición iniciadas por el tomador en contra de los servidores públicos asegurados. (MODALIDAD DE RECLAMACIÓN)
A10: 2. INFORMACION GENERAL
A12: TOMADOR: | B12: =A1 -> MUNICIPIO DE GIRARDOT
A13: ASEGURADO: | B13: ENTIDAD Y/O SERVIDORES PÚBLICOS ASEGURADOS
A14: BENEFICIARIO: | B14: ENTIDAD Y/O SERVIDORES PÚBLICOS ASEGURADOS Y/O TERCEROS AFECTADOS
A16: NOTA: | B16: Los oferentes deben tener en cuenta para la elaboración de la propuesta, que las condiciones, coberturas básicas para las cuales no se indique sublímite, operaran al 100% del valor asegurado.
A18: 3. VALORES ASEGURADOS
A19: LIMITE ASEGURADO, por evento / en el agregado anual, combinado con gastos de defensa
A20: 4. AMPAROS OBLIGATORIOS
A22: NOMBRE (DILIGENCIAR CUANDO EL TEXTO OFRECIDO NO SEA IDENTICO AL DESCRITO EN EL PLIEGO DE CONDICIONES, EN CASO QUE OMITAN, EXCLUYAN O MODIFIQUEN EL TEXTO EN LAS CONDICIONES MINIMAS SOLICITADAS, SE RECHAZARA LA PROPUESTA)
A23: Ampara los perjuicios o detrimentos patrimoniales causados a la Entidad y/o al Estado, como consecuencia de actos incorrectos, no dolosos o gravemente culposos, adoptados y/o ejecutados o inejecutados por los Servidores Públicos, durante la vigencia de la poliza o el periodo de retroactividad acordado, cuyos cargos sean relacionados por la Entidad, y en el desempeño de las funciones propias de cada cargo amparado. De igual manera se cubren los perjuicios imputables a funcionarios de la Entidad que desempeñen los cargos relacionados y descritos en el listado que suministre la Entidad, así como por Juicios de Responsabilidad Fiscal y acciones de repetición iniciadas por el tomador en contra de los servidores públicos asegurados (MODALIDAD DE RECLAMACIÓN - CLAIMS MADE: El sistema bajo el cual opera la presente póliza es por notificación de investigaciones y/o procesos por primera vez durante la vigencia de la póliza derivados de hechos ocurridos en el periodo de retroactividad contratado)
A24: Gastos y costas judiciales por honorarios profesionales en que incurran los funcionarios para ejercer su defensa, en cualquier investigación preliminar iniciada a instancias de su gestión y/o en cualquier proceso civil, disciplinario, administrativo, de responsabilidad fiscal o penal en su contra, y/o en cualquier investigación adelantadas por cualquier organismo oficial, incluyendo Contraloría, Fiscalía, Procuraduría, Defensoría, Veeduría y Órganos u Oficinas de Control Interno, incluyendo acciones de repetición o de llamamiento en garantía con fines de repetición. La cobertura para investigaciones preliminares, incluye las reclamaciones que se generen con ocasión de citaciones a audiencias de conciliación extrictamente relacionadas con el proceso en el cual se le esta vinculando ante la autoridad judicial o entes debidamente facultados para celebrarlas.
A25: Absorción, Fusión o Traslado de Funciones
A26: Aclaración de amparo de todos los funcionarios. Es decir, cobertura de retroactividad a la primera poliza expedida con continuidad (hechos sucedidos que sean reclamados por primera vez, dentro de la vigencia de la póliza)
A27: Gastos y costos por concepto de constitución de cauciones Sublimitado al 10% por evento/vigencia y en el agregado anual. se amparan los gastos y costos en que incurran los Funcionarios Asegurados para la constitución de cauciones exigidas por las autoridades o necesarias para ejercitar derechos dentro de procedimientos civiles, penales, administrativos o disciplinarios iniciados como consecuencia de Actos Incorrectos de los que se desprendiese una responsabilidad fiscal.
A28: Perjuicios causados a la Entidad por servicios profesionales administrativos prestados por los funcionarios descritos en la carátula de la póliza y relacionados en el formulario proposal form, en el ejercicio exclusivo del cargo desempeñado.
A29: Perjuicios de los cuales los funcionarios asegurados sean responsables por haber cometido actos incorrectos en el ejercicio de las funciones inherentes al cargo.
A30: Perjuicios de los cuales los funcionarios asegurados sean responsables por omisiones o errores no intencionales.
... A33: Sublimite para gastos de defensa por etapas según los cargos asegurados:
A34: Etapas del proceso | B34: Procesos Contraloria/ procuraduria | C34: Procesos Personeria | D34: Procesos Fiscalia
A35: Primera Instancia | B35: 7,5 % del Agregado Anual | C35: 7,5 % del Agregado Anual | D35: 7,5 % del Agregado Anual
A36: Segunda Instancia | B36: 15% del Agregado Anual | C36: 15% del Agregado Anual | D36: 15% del Agregado Anual
A37: Agregado Anual para todos los procesos y todos los asegurados | B37: 10% del Valor asegurado | C37: 10% del Valor asegurado | D37: 10% del Valor asegurado
