Workbook

Sheet ipiales
A1: FORMATO
A2: FORMATO 7 PROPUESTA ECONOMICA
A3: AEROPUERTO IPIALES
A4: ÍTEM | B4: DESCRIPCIÓN | C4: UNIDAD | D4: CANTIDAD | E4: MESES | F4: VALOR UNITARIO | G4: VALOR PARCIAL
A5: 1 | B5: LIMPIEZA DEL TERRENO
A6: 1.1 | B6: Deshierbe, eliminación de gramíneas existentes, retiro de escombros, basuras y restos extraños que halla en el terreno las zonas verdes y jardines (Se realizarán cuatro (4) mantenimiento por mes) | C6: M2 | D6: 4200 | E6: 6 | G6: =D6*E6*F6 -> 0
A7: 2 | B7: MANTENIMIENTO JARDIN
A8: 2.1 | B8: Fertilización de las plantas ornamentales del aeropuerto (Se realizarán 2 fertilizaciones por mes) | C8: UNIDAD | D8: 2 | E8: 6 | G8: =D8*E8*F8 -> 0
A9: 2.2 | B9: fumigación de las plantas ornamentales del aeropuerto (Se realizarán 2 fumigaciones por mes) | C9: UNIDAD | D9: 2 | E9: 6 | G9: =D9*E9*F9 -> 0
A10: 2.3 | B10: Control biológico de hormigas arrieras del área de jardines y zonas verdes ornamentales (1 por mes) | C10: M2 | D10: 600 | E10: 6 | G10: =D10*E10*F10 -> 0
A11: 3 | B11: SUMINISTRO
A12: 3.1 | B12: suministro y siembra de plántulas de durantas, (mínimo 40 cms de altura a partir del tallo radicular), de características afines para el clima de la región | C12: UNIDAD | D12: 600 | G12: =D12*F12 -> 0
A13: 3.2 | B13: suministro y siembra de plántulas de banderitas española u otras plántulas (mínimo 40 cms de altura a partir del tallo radicular), de características afines para el clima de la región | C13: UNIDAD | D13: =+D12 -> 600 | G13: =D13*F13 -> 0
A14: 3.3 | B14: suministro y siembra de plántulas de ixoras moradas u otras plántulas (mínimo 40 cms de altura partir del tallo radicular) de características afines para el clima de la región | C14: UNIDAD | D14: =+D13 -> 600 | G14: =D14*F14 -> 0
A15: 3.4 | B15: suministro y siembra de plántulas de crotos moradas u otras plántulas (mínimo 40 cms de altura partir del tallo radicular) de características afines para el clima de la región | C15: UNIDAD | D15: =+D14 -> 600 | G15: =D15*F15 -> 0
A16: 3.5 | B16: suministro y siembra de plántulas de banderitas española u otras plántulas (mínimo 40 cms de altura a partir del tallo radicular) de características afines para el clima de la región | C16: UNIDAD | D16: =+D15 -> 600 | G16: =D16*F16 -> 0
A17: 3.6 | B17: suministro y siembra de plántulas de rosa china o flor del beso u otras plántulas (mínimo 40 cms de altura a partir del tallo radicular) de características afines para el clima de la región | C17: UNIDAD | D17: =+D16 -> 600 | G17: =D17*F17 -> 0
A18: 3.7 | B18: suministro y siembra de plántulas de coralillo variado en colores u otras plántulas (mínimo 40 cms de altura), de características afines para el clima de la región | C18: UNIDAD | D18: =+D17 -> 600 | G18: =D18*F18 -> 0
A19: 3.8 | B19: Materas redondas cónicas en material plástico (polietileno) con una altura de 0,80mts base superior de 0,49 mts y base inferior de 0,28 mts con base de plato, colores variados a escoger surtidas en plantas coloridas de características afines para interiores | C19: UNIDAD | D19: 20 | G19: =D19*F19 -> 0
A20: 3.9 | B20: Materas retangular en concreto con una altura de 0,80mts, largo de 1.5 mts y de ancho 0,40 mts, surtidas de plantas ornamentales de colores variados a escoger con características afines para interiores | C20: UNIDAD | D20: 45 | G20: =D20*F20 -> 0
A21: 3.10 | B21: suministro de tierra abonada | C21: M3 | D21: 10 | G21: =D21*F21 -> 0
A22: 4 | B22: TRANSPORTE Y RETIRO
A23: 4.1 | B23: Recolección, cargue, transporte, retiro y disposición final de material sobrante de la limpieza | C23: GBL | D23: 1 | E23: 6 | G23: =D23*F23*E23 -> 0
A24: COSTOS TOTALES | G24: =SUM(G6:G23) -> 0
A25: IVA 19% | G25: =(G24)*19/100 -> 0
A26: TOTAL PROYECTO | G26: =INT(G24+G25) -> 0

Sheet popayan
A1: FORMATO
A2: FORMATO 7 PROPUESTA ECONOMICA
A3: AEROPUERTO POPAYAN
A4: ÍTEM | B4: DESCRIPCIÓN | C4: UNIDAD | D4: CANTIDAD | E4: MESES | F4: VALOR UNITARIO | G4: VALOR PARCIAL
A5: 1 | B5: LIMPIEZA DEL TERRENO
A6: 1.1 | B6: Deshierbe, eliminación de gramíneas existentes, retiro de escombros, basuras y restos extraños que halla en el terreno las zonas verdes y jardines (Se realizarán cuatro (4) mantenimiento por mes) | C6: M2 | D6: 5000 | E6: 6 | G6: =D6*E6*F6 -> 0
A7: 2 | B7: MANTENIMIENTO JARDIN
A8: 2.1 | B8: Fertilización de las plantas ornamentales del aeropuerto zona interna y externa, (Se realizarán 4 fertilizaciones por mes) Durante 6 meses de ejecucion | C8: UNIDAD | D8: 4 | E8: 6 | G8: =D8*E8*F8 -> 0
A9: 2.2 | B9: Fumigación de las plantas ornamentales del aeropuerto (Se realizarán 4 fertilizaciones por mes) Durante 6 meses de ejecucion | C9: UNIDAD | D9: 4 | E9: 6 | G9: =D9*E9*F9 -> 0
A10: 2.3 | B10: Control biológico de hormigas arrieras del área de jardines y zonas verdes ornamentales (1 por mes) | C10: M2 | D10: 3000 | E10: 6 | G10: =D10*E10*F10 -> 0
A11: 2.4 | B11: poda de mantenimiento a los setos de bambú presentes en el aeropuerto | C11: UNIDAD | D11: 3 | G11: =D11*F11 -> 0
A12: 2.5 | B12: poda de mantenimiento a los árboles de presentes en el parqueadero del aeropuerto | C12: UNIDAD | D12: 15 | G12: =D12*F12 -> 0
A13: 3 | B13: SUMINISTRO
A14: 3.1 | B14: suministro y siembra de plántulas de durantas, (mínimo 40 cms de altura a partir del tallo radicular), de características afines para el clima de la región | C14: UNIDAD | D14: 400 | G14: =D14*F14 -> 0
A15: 3.2 | B15: suministro y siembra de plántulas de banderitas española u otras plántulas (mínimo 40 cms de altura a partir del tallo radicular), de características afines para el clima de la región | C15: UNIDAD | D15: 400 | G15: =D15*F15 -> 0
A16: 3.3 | B16: suministro y siembra de plántulas de ixoras moradas u otras plántulas (mínimo 40 cms de altura partir del tallo radicular) de características afines para el clima de la región | C16: UNIDAD | D16: 400 | G16: =D16*F16 -> 0
A17: 3.4 | B17: suministro y siembra de plántulas de crotos moradas u otras plántulas (mínimo 40 cms de altura partir del tallo radicular) de características afines para el clima de la región | C17: UNIDAD | D17: 300 | G17: =D17*F17 -> 0
A18: 3.5 | B18: suministro y siembra de palmeras (mínimo 1,40 mts de altura a partir del tallo radicular) de características afines para el clima de la región | C18: UNIDAD | D18: 50 | G18: =D18*F18 -> 0
A19: 3.6 | B19: suministro y siembra de plántulas de rosa china o flor del beso u otras plántulas (mínimo 40 cms de altura a partir del tallo radicular) de características afines para el clima de la región | C19: UNIDAD | D19: 350 | G19: =D19*F19 -> 0
A20: 3.7 | B20: suministro y siembra de plántulas de coralillo variado en colores u otras plántulas (mínimo 40 cms de altura), de características afines para el clima de la región | C20: UNIDAD | D20: 350 | G20: =D20*F20 -> 0
A21: 3.8 | B21: Materas redondas cónicas en material plástico (polietileno) con una altura de 0,80mts base superior de 0,49 mts y base inferior de 0,28 mts con base de plato, colores variados a escoger surtidas en plantas coloridas de características afines para interiores | C21: UNIDAD | D21: 15 | G21: =D21*F21 -> 0
A22: 3.9 | B22: Materas retangular en concreto con una altura de 0,80mts, largo de 1.5 mts y de ancho 0,40 mts, surtidas de plantas ornamentales de colores variados a escoger con características afines para interiores | C22: UNIDAD | D22: 30 | G22: =D22*F22 -> 0
A23: 3.10 | B23: suministro de tierra abonada | C23: M3 | D23: 10 | G23: =D23*F23 -> 0
A24: 4 | B24: TRANSPORTE Y RETIRO
A25: 4.1 | B25: Recolección, cargue, transporte, retiro y disposición final de material sobrante de la limpieza | C25: GBL | D25: 1 | E25: 6 | G25: =D25*F25*E25 -> 0
A26: COSTOS TOTALES | G26: =SUM(G6:G25) -> 0
A27: IVA 19% | G27: =(G26)*19/100 -> 0
A28: TOTAL PROYECTO | G28: =INT(G26+G27) -> 0

Sheet buenaventura
A1: FORMATO
A2: FORMATO 7 PROPUESTA ECONOMICA
A3: AEROPUERTO DE BUENAVENTURA
A4: ÍTEM | B4: DESCRIPCIÓN | C4: UNIDAD | D4: CANTIDAD | E4: MESES | F4: VALOR UNITARIO | G4: VALOR PARCIAL
A5: 1 | B5: LIMPIEZA DEL TERRENO
A6: 1.1 | B6: Deshierbe, eliminación de gramíneas existentes, retiro de escombros, basuras y restos extraños que halla en el terreno las zonas verdes y jardines (Se realizaran cuatro (4) mantenimiento por mes) | C6: M2 | D6: 1500 | E6: 6 | G6: =D6*E6*F6 -> 0
A7: 2 | B7: MANTENIMIENTO JARDIN
A8: 2.1 | B8: las Fertilización de las plantas ornamentales del aeropuerto se hara cada 8 días calendarios (Se realizarán 4 fertilizaciones por mes durante la ejecución de la prestación del servicio) | C8: UNIDAD | D8: 4 | E8: 6 | G8: =D8*E8*F8 -> 0
A9: 2.2 | B9: fumigación de las plantas ornamentales del aeropuerto se hara cada 8 días calendarios (Se realizarán 4 fertilizaciones por mes durante la ejecución de la prestación del servicio) | C9: UNIDAD | D9: 4 | E9: 6 | G9: =D9*E9*F9 -> 0
A10: 2.3 | B10: Control biológico de hormigas arrieras del área de jardines y zonas verdes ornamentales (1 por mes) | C10: M2 | D10: 3000 | E10: 6 | G10: =D10*F10*E10 -> 0
A11: 2.4 | B11: se haran 2 aplicaciónes de pintura color terracota a tres manos a materas medianas ubicadas en el terminal del aeropuerto en los meses 1, 3, 5 de la ejecución de la prestación del servicio | C11: UNIDAD | D11: 8 | E11: 3 | G11: =D11*E11*F11 -> 0
A12: 2.5 | B12: suministro y siembra de árboles ornamentales de la región o exóticos con características de adaptación al suelo y clima de la región | C12: UNIDAD | D12: 15 | G12: =D12*F12 -> 0
A13: 3 | B13: SUMINISTRO
A14: 3.1 | B14: suministro y siembra de plántulas de durantas, (mínimo 40 cms de altura a partir del tallo radicular), de características afines para el clima de la región | C14: UNIDAD | D14: 400 | G14: =D14*F14 -> 0
A15: 3.2 | B15: suministro y siembra de plántulas de banderitas española u otras plántulas (mínimo 40 cms de altura a partir del tallo radicular), de características afines para el clima de la región | C15: UNIDAD | D15: =+D14 -> 400 | G15: =D15*F15 -> 0
A16: 3.3 | B16: suministro y siembra de plántulas de ixoras moradas u otras plántulas (mínimo 40 cms de altura partir del tallo radicular) de características afines para el clima de la región | C16: UNIDAD | D16: =+D15 -> 400 | G16: =D16*F16 -> 0
A17: 3.4 | B17: suministro y siembra de plántulas de crotos moradas u otras plántulas (mínimo 40 cms de altura partir del tallo radicular) de características afines para el clima de la región | C17: UNIDAD | D17: =+D16 -> 400 | G17: =D17*F17 -> 0
A18: 3.5 | B18: suministro y siembra de plántulas de galatea morada u otras plántulas (mínimo 40 cms de altura a partir del tallo radicular) de características afines para el clima de la región | C18: UNIDAD | D18: =+D17 -> 400 | G18: =D18*F18 -> 0
A19: 3.6 | B19: suministro y siembra de plántulas de hollis u otras plántulas (mínimo 40 cms de altura a partir del tallo radicular) de características afines para el clima de la región | C19: UNIDAD | D19: 200 | G19: =D19*F19 -> 0
A20: 3.7 | B20: suministro y siembra palmera convencional, (mínimo 120 cms de altura), de características afines para el clima de la región | C20: UNIDAD | D20: 20 | G20: =D20*F20 -> 0
A21: 3.8 | B21: suministro y siembra de arboles ornametales de la felicidad (mínimo 1,50 cms de altura), de características afines para el clima de la región | C21: UNIDAD | D21: 10 | G21: =D21*F21 -> 0
A22: 3.9 | B22: Materas retangular en concreto con una altura de 0,80mts, largo de 1.5 mts y de ancho 0,40 mts, surtidas de plantas ornamentales de colores variados a escoger con características afines para interiores | C22: UNIDAD | D22: 10 | G22: =D22*F22 -> 0
A23: 3.10 | B23: suministro de tierra abonada | C23: M3 | D23: 10 | G23: =D23*F23 -> 0
A24: 4 | B24: TRANSPORTE Y RETIRO
A25: 4.1 | B25: Recolección, cargue, transporte, retiro y disposición final de material sobrante de la limpieza | C25: GBL | D25: 1 | E25: 6 | G25: =D25*F25 -> 0
A26: COSTOS TOTALES | G26: =SUM(G6:G25) -> 0
A27: IVA 19% | G27: =G26*19% -> 0
A28: TOTAL PROYECTO | G28: =INT(G26+G27) -> 0

Sheet guapi
A1: FORMATO
A2: FORMATO 7 PROPUESTA ECONOMICA
A3: AEROPUERTO DE GUAPI
A4: ÍTEM | B4: DESCRIPCIÓN | C4: UNIDAD | D4: CANTIDAD | E4: MESES | F4: VALOR UNITARIO | G4: VALOR PARCIAL
A5: 1 | B5: LIMPIEZA DEL TERRENO
A6: 1.1 | B6: Deshierbe, eliminación de gramíneas existentes, retiro de escombros, basuras y restos extraños que halla en el terreno las zonas verdes y jardines (Se relizaran cuatro (4) mantenimiento por mes) | C6: M2 | D6: 3200 | E6: 6 | G6: =D6*E6*F6 -> 0
A7: 2 | B7: MANTENIMIENTO JARDIN
A8: 2.1 | B8: Fertilización de las plantas ornamentales del aeropuerto se hara cada 8 días calendarios (Se realizarán 4 fertilizaciones por mes durante la ejecución de la prestación del servicio) | C8: UNIDAD | D8: 4 | E8: 6 | G8: =D8*E8*F8 -> 0
A9: 2.2 | B9: fumigación de las plantas ornamentales del aeropuerto se hara cada 8 días calendarios (Se realizarán 4 fertilizaciones por mes durante la ejecución de la prestación del servicio) | C9: UNIDAD | D9: 4 | E9: 6 | G9: =D9*E9*F9 -> 0
A10: 2.3 | B10: Control biológico de hormigas arrieras del área de jardines y zonas verdes ornamentales (1 por mes) | C10: M2 | D10: 3000 | E10: 6 | G10: =D10*F10*E10 -> 0
A11: 2.4 | B11: aplicación pintura epoxica color blanco a tres manos a góndola ubicada en el parqueadero del aeropuerto en los meses 1, 3, 5 y 6 de la ejecución de la prestación del servicio | C11: M2 | D11: 50 | E11: 4 | G11: =D11*E11*F11 -> 0
A12: 2.5 | B12: suministro y siembra de árboles ornamentales de la región o exóticos con características de adaptación al suelo y clima de la región | C12: UNIDAD | D12: 20 | G12: =D12*F12 -> 0
A13: 3 | B13: SUMINISTRO
A14: 3.1 | B14: suministro y siembra de plántulas de durantas, (mínimo 40 cms de altura a partir del tallo radicular), de características afines para el clima de la región | C14: UNIDAD | D14: 600 | G14: =D14*F14 -> 0
A15: 3.2 | B15: suministro y siembra de plántulas de banderitas española u otras plántulas (mínimo 40 cms de altura a partir del tallo radicular), de características afines para el clima de la region | C15: UNIDAD | D15: =+D14 -> 600 | G15: =D15*F15 -> 0
A16: 3.3 | B16: suministro y siembra de plántulas de ixoras moradas u otras plántulas (mínimo 40 cms de altura partir del tallo radicular) de características afines para el clima de la región | C16: UNIDAD | D16: =+D15 -> 600 | G16: =D16*F16 -> 0
A17: 3.4 | B17: suministro y siembra de plántulas de crotos moradas u otras plántulas (mínimo 40 cms de altura partir del tallo radicular) de características afines para el clima de la región | C17: UNIDAD | D17: =+D16 -> 600 | G17: =D17*F17 -> 0
A18: 3.5 | B18: suministro y siembra de plántulas de banderitas española u otras plántulas (mínimo 40 cms de altura a partir del tallo radicular) de características afines para el clima de la región | C18: UNIDAD | D18: =+D17 -> 600 | G18: =D18*F18 -> 0
A19: 3.6 | B19: suministro y siembra de plántulas de rosa china o flor del beso u otras plántulas (mínimo 40 cms de altura a partir del tallo radicular) de características afines para el clima de la región | C19: UNIDAD | D19: =+D18 -> 600 | G19: =D19*F19 -> 0
A20: 3.7 | B20: suministro y siembra palmera convencional, (mínimo 120 cms de altura), de características afines para el clima de la región | C20: UNIDAD | D20: 30 | G20: =D20*F20 -> 0
A21: 3.8 | B21: suministro y siembra de plántulas de coralillo variado en colores u otras plántulas (mínimo 40 cms de altura), de características afines para el clima de la región | C21: UNIDAD | D21: 400 | G21: =D21*F21 -> 0
A22: 3.9 | B22: Materas redondas cónicas en material plástico (polietileno) con una altura de 0,80 mts base superior de 0,49 mts y base inferior de 0,28 mts con base de plato, colores variados a escoger. Surtidas en plantas coloridas de características afines para interiores | C22: UNIDAD | D22: 15 | G22: =D22*F22 -> 0
A23: 3.10 | B23: Materas retangular en concreto con una altura de 0,80mts, largo de 1.5 mts y de ancho 0,40 mts, surtidas de plantas ornamentales de colores variados a escoger con características afines para interiores | C23: UNIDAD | D23: 30 | G23: =D23*F23 -> 0
A24: 3.11 | B24: suministro y siembra de pasto con características de adaptación al suelo y clima de la región | C24: M2 | D24: 300 | G24: =D24*F24 -> 0
A25: 3.12 | B25: suministro de tierra abonada | C25: M3 | D25: 15 | G25: =D25*F25 -> 0
A26: 4 | B26: TRANSPORTE Y RETIRO
A27: 4.1 | B27: Recolección, cargue, transporte, retiro y disposición final de material sobrante de la limpieza | C27: GBL | D27: 1 | E27: 6 | G27: =D27*F27 -> 0
A28: COSTOS TOTALES | G28: =SUM(G6:G27) -> 0
A29: IVA 19% | G29: =G28*19% -> 0
A30: TOTAL PROYECTO | G30: =INT(G28+G29) -> 0

Sheet tumaco
A1: FORMATO
A2: FORMATO 7 PROPUESTA ECONOMICA
A3: AEROPUERTO DE TUMACO
A4: ÍTEM | B4: DESCRIPCIÓN | C4: UNIDAD | D4: CANT | E4: MESES | F4: VALOR UNITARIO | G4: VALOR PARCIAL
A5: 1 | B5: LIMPIEZA DEL TERRENO
A6: 1.1 | B6: Deshierbe, eliminación de gramíneas existentes, retiro de escombros, basuras y restos extraños que halla en el terreno las zonas verdes y jardines (Se relizaran cuatro (4) mantenimiento por mes) | C6: M2 | D6: 3000 | E6: 6 | G6: =D6*E6*F6 -> 0
A7: 2 | B7: MANTENIMIENTO JARDIN
A8: 2.1 | B8: Fertilización de las plantas ornamentales del aeropuerto se hara cada 8 días calendarios (Se realizarán 4 fertilizaciones por mes durante la ejecución de la prestación del servicio) | C8: UNIDAD | D8: 4 | E8: =+E6 -> 6 | G8: =D8*E8*F8 -> 0
A9: 2.2 | B9: fumigación de las plantas ornamentales del aeropuerto se hara cada 8 días calendarios (Se realizarán 4 fertilizaciones por mes durante la ejecución de la prestación del servicio) | C9: UNIDAD | D9: 4 | E9: =+E8 -> 6 | G9: =D9*E9*F9 -> 0
A10: 2.3 | B10: aplicación pintura epoxica color blanco a tres manos a góndola y materas ubicada en el parqueadero del aeropuerto en los meses 1, 3, 5 y 6 de la ejecución de la prestación del servicio | C10: M2 | D10: 60 | E10: 4 | G10: =D10*F10*E10 -> 0
A11: 2.4 | B11: Control biológico de hormigas arrieras del área de jardines y zonas verdes ornamentales (meses 1, 3, 5 y 6) | C11: M2 | D11: 3000 | E11: 4 | G11: =D11*F11*E11 -> 0
A12: 3 | B12: SUMINISTRO
A13: 3.1 | B13: suministro y siembra de plántulas de durantas, (mínimo 40 cms de altura a partir del tallo radicular), de características afines para el clima de la región | C13: UNIDAD | D13: 500 | G13: =D13*F13 -> 0
A14: 3.2 | B14: suministro y siembra de plántulas de banderitas española u otras plántulas (mínimo 40 cms de altura a partir del tallo radicular), de características afines para el clima de la región | C14: UNIDAD | D14: =+D13 -> 500 | G14: =D14*F14 -> 0
A15: 3.3 | B15: suministro y siembra de plántulas de ixoras moradas u otras plántulas (mínimo 40 cms de altura partir del tallo radicular) de características afines para el clima de la región | C15: UNIDAD | D15: =+D14 -> 500 | G15: =D15*F15 -> 0
A16: 3.4 | B16: suministro y siembra de plántulas de crotos moradas u otras plántulas (mínimo 40 cms de altura partir del tallo radicular) de características afines para el clima de la región | C16: UNIDAD | D16: =+D15 -> 500 | G16: =D16*F16 -> 0
A17: 3.5 | B17: suministro y siembra de plántulas de banderitas española u otras plántulas (mínimo 40 cms de altura a partir del tallo radicular) de características afines para el clima de la región | C17: UNIDAD | D17: =+D16 -> 500 | G17: =D17*F17 -> 0
A18: 3.6 | B18: suministro y siembra de plántulas de rosa china o flor del beso u otras plántulas (mínimo 40 cms de altura a partir del tallo radicular) de características afines para el clima de la región | C18: UNIDAD | D18: =+D17 -> 500 | G18: =D18*F18 -> 0
A19: 3.7 | B19: suministro y siembra de plántulas de coralillo variado en colores u otras plántulas (mínimo 40 cms de altura), de características afines para el clima de la región | C19: UNIDAD | D19: =+D18 -> 500 | G19: =D19*F19 -> 0
B20: Materas redondas cónicas en material plástico (polietileno) con una altura de 0,80mts base superior de 0,49 mts y base inferior de 0,28 mts con base de plato, colores variados a escoger surtidas en plantas coloridas de características afines para interiores | C20: UNIDAD | D20: 20 | G20: =D20*F20 -> 0
B21: Materas retangular en concreto con una altura de 0,80mts, largo de 1.5 mts y de ancho 0,40 mts, surtidas de plantas ornamentales de colores variados a escoger con características afines para interiores | C21: UNIDAD | D21: 35 | G21: =D21*F21 -> 0
A22: 3.8 | B22: suministro de tierra abonada | C22: M3 | D22: 10 | G22: =D22*F22 -> 0
A23: 4 | B23: TRANSPORTE Y RETIRO
A24: 4.1 | B24: Recolección, cargue, transporte, retiro y disposición final de material sobrante de la limpieza | C24: GBL | D24: 1 | E24: 6 | G24: =D24*F24 -> 0
A25: COSTOS TOTALES | G25: =SUM(G6:G24) -> 0
A26: IVA 19% | G26: =G25*19% -> 0
A27: TOTAL PROYECTO | G27: =INT(G25+G26) -> 0

Sheet armenia
A1: FORMATO
A2: FORMATO 7 PROPUESTA ECONOMICA
A3: AEROPUERTO ARMENIA
A4: ÍTEM | B4: DESCRIPCIÓN | C4: UNIDAD | D4: CANT | E4: MESES | F4: VALOR UNITARIO | G4: VALOR PARCIAL
A5: 1 | B5: LIMPIEZA DEL TERRENO
A6: 1.1 | B6: Deshierbe, eliminación de gramíneas existentes, retiro de escombros, basuras y restos extraños que halla en el terreno las zonas verdes y jardines (Se realizarán cuatro (4) mantenimiento por mes) | C6: M2 | D6: 6000 | E6: 6 | G6: =D6*E6*F6 -> 0
A7: 2 | B7: MANTENIMIENTO JARDIN
A8: 2.1 | B8: Fertilización de las plantas ornamentales del aeropuerto se hara cada 8 días calendarios (Se realizarán 4 fertilizaciones por mes durante la ejecución de la prestación del servicio) | C8: UNIDAD | D8: 4 | E8: =E6 -> 6 | G8: =D8*E8*F8 -> 0
A9: 2.2 | B9: fumigación Fertilización de las plantas ornamentales del aeropuerto se hara cada 8 días calendarios (Se realizarán 4 fertilizaciones por mes durante la ejecución de la prestación del servicio) | C9: UNIDAD | D9: 4 | E9: =E6 -> 6 | G9: =D9*E9*F9 -> 0
A10: 2.3 | B10: Control biológico de hormigas arrieras del área de jardines y zonas verdes ornamentales (1 por mes) | C10: M2 | D10: 3000 | E10: =E6 -> 6 | G10: =D10*E10*F10 -> 0
A11: 2.4 | B11: poda de mantenimiento a los árboles de presentes en el parqueadero del aeropuerto | C11: UNIDAD | D11: 15 | G11: =D11*F11 -> 0
A12: 3 | B12: SUMINISTRO
A13: 3.1 | B13: suministro y siembra de plántulas de durantas, (mínimo 40 cms de altura a partir del tallo radicular), de características afines para el clima de la región | C13: UNIDAD | D13: 300 | G13: =D13*F13 -> 0
A14: 3.2 | B14: suministro y siembra de plántulas de banderitas española u otras plántulas (mínimo 40 cms de altura a partir del tallo radicular), de características afines para el clima de la región | C14: UNIDAD | D14: =+D13 -> 300 | G14: =D14*F14 -> 0
A15: 3.3 | B15: suministro y siembra de plántulas de ixoras moradas u otras plántulas (mínimo 40 cms de altura partir del tallo radicular) de características afines para el clima de la región | C15: UNIDAD | D15: =+D14 -> 300 | G15: =D15*F15 -> 0
A16: 3.4 | B16: suministro y siembra de plántulas de crotos moradas u otras plántulas (mínimo 40 cms de altura partir del tallo radicular) de características afines para el clima de la región | C16: UNIDAD | D16: =+D15 -> 300 | G16: =D16*F16 -> 0
A17: 3.5 | B17: suministro y siembra de palmeras (mínimo 1,40 mts de altura a partir del tallo radicular) de características afines para el clima de la región | C17: UNIDAD | D17: 25 | G17: =D17*F17 -> 0
A18: 3.6 | B18: suministro y siembra de plántulas de rosa china o flor del beso u otras plántulas (mínimo 40 cms de altura a partir del tallo radicular) de características afines para el clima de la región | C18: UNIDAD | D18: 400 | G18: =D18*F18 -> 0
A19: 3.7 | B19: suministro y siembra de plántulas de coralillo variado en colores u otras plántulas (mínimo 40 cms de altura), de características afines para el clima de la región | C19: UNIDAD | D19: 400 | G19: =D19*F19 -> 0
A20: 3.8 | B20: Materas redondas cónicas en material plástico (polietileno) con una altura de 0,80mts base superior de 0,49 mts y base inferior de 0,28 mts con base de plato, colores variados a escoger surtidas en plantas coloridas de características afines para interiores | C20: UNIDAD | D20: 15 | G20: =D20*F20 -> 0
A21: 3.9 | B21: Materas retangular en concreto con una altura de 0,80mts, largo de 1.5 mts y de ancho 0,40 mts, surtidas de plantas ornamentales de colores variados a escoger con características afines para interiores | C21: UNIDAD | D21: 30 | G21: =D21*F21 -> 0
A22: 3.10 | B22: suministro de tierra abonada | C22: M3 | D22: 10 | G22: =D22*F22 -> 0
A23: 4 | B23: TRANSPORTE Y RETIRO
A24: 4.1 | B24: Recolección, cargue, transporte, retiro y disposición final de material sobrante de la limpieza | C24: GBL | D24: 1 | E24: 6 | G24: =D24*F24 -> 0
A25: COSTOS TOTALES | G25: =SUM(G6:G24) -> 0
A26: IVA 19% | G26: =(G25)*19/100 -> 0
A27: TOTAL PROYECTO | G27: =INT(G25+G26) -> 0

Sheet pasto
A1: FORMATO
A2: FORMATO 7 PROPUESTA ECONOMICA
A3: AEROPUERTO DE PASTO
A4: ÍTEM | B4: DESCRIPCIÓN | C4: UNIDAD | D4: CANT | E4: MESES | F4: VALOR UNITARIO | G4: VALOR PARCIAL
A5: 1 | B5: LIMPIEZA DEL TERRENO
A6: 1.1 | B6: Deshierbe, eliminación de gramíneas existentes, retiro de escombros, basuras y restos extraños que halla en el terreno las zonas verdes y jardines (Se realizarán cuatro (4) mantenimiento por mes) | C6: M2 | D6: 4500 | E6: 6 | G6: =D6*E6*F6 -> 0
A7: 2 | B7: MANTENIMIENTO JARDIN
A8: 2.1 | B8: Fertilización de las plantas ornamentales del aeropuerto se hara cada 8 días calendarios (Se realizarán 4 fertilizaciones por mes durante la ejecución de la prestación del servicio) | C8: UNIDAD | D8: 4 | E8: =E6 -> 6 | G8: =D8*E8*F8 -> 0
A9: 2.2 | B9: fumigación de las plantas ornamentales del aeropuerto se hara cada 8 días calendarios (Se realizarán 4 fertilizaciones por mes durante la ejecución de la prestación del servicio) | C9: UNIDAD | D9: 4 | E9: =E6 -> 6 | G9: =D9*E9*F9 -> 0
A10: 3 | B10: SUMINISTRO
A11: 3.1 | B11: suministro y siembra de plántulas de durantas, (mínimo 40 cms de altura a partir del tallo radicular), de características afines para el clima de la región | C11: UNIDAD | D11: 600 | G11: =D11*F11 -> 0
A12: 3.2 | B12: suministro y siembra de plántulas de banderitas española u otras plántulas (mínimo 40 cms de altura a partir del tallo radicular), de características afines para el clima de la región | C12: UNIDAD | D12: 600 | G12: =D12*F12 -> 0
A13: 3.3 | B13: suministro y siembra de plántulas de ixoras moradas u otras plántulas (mínimo 40 cms de altura partir del tallo radicular) de características afines para el clima de la región | C13: UNIDAD | D13: 600 | G13: =D13*F13 -> 0
A14: 3.4 | B14: suministro y siembra de plántulas de crotos moradas u otras plántulas (mínimo 40 cms de altura partir del tallo radicular) de características afines para el clima de la región | C14: UNIDAD | D14: 600 | G14: =D14*F14 -> 0
A15: 3.5 | B15: suministro y siembra de plántulas de banderitas española u otras plántulas (mínimo 40 cms de altura a partir del tallo radicular) de características afines para el clima de la región | C15: UNIDAD | D15: 600 | G15: =D15*F15 -> 0
A16: 3.6 | B16: suministro y siembra de plántulas de rosa china o flor del beso u otras plántulas (mínimo 40 cms de altura a partir del tallo radicular) de características afines para el clima de la región | C16: UNIDAD | D16: 600 | G16: =D16*F16 -> 0
A17: 3.7 | B17: suministro y siembra de plántulas de coralillo variado en colores u otras plántulas (mínimo 40 cms de altura), de características afines para el clima de la región | C17: UNIDAD | D17: 600 | G17: =D17*F17 -> 0
A18: 3.8 | B18: Materas redondas cónicas en material plástico (polietileno) con una altura de 0,80mts base superior de 0,49 mts y base inferior de 0,28 mts con base de plato, colores variados a escoger surtidas en plantas coloridas de características afines para interiores | C18: UNIDAD | D18: 20 | G18: =D18*F18 -> 0
A19: 3.9 | B19: Materas retangular en concreto con una altura de 0,80mts, largo de 1.5 mts y de ancho 0,40 mts, surtidas de plantas ornamentales de colores variados a escoger con características afines para interiores | C19: UNIDAD | D19: 15 | G19: =D19*F19 -> 0
A20: 3.10 | B20: suministro de tierra abonada | C20: M3 | D20: 15 | G20: =D20*F20 -> 0
A21: 4 | B21: TRANSPORTE Y RETIRO
A22: 4.1 | B22: Recolección, cargue, transporte, retiro y disposición final de material sobrante de la limpieza | C22: GBL | D22: 1 | E22: 6 | G22: =D22*F22 -> 0
A23: COSTOS TOTALES | G23: =SUM(G6:G22) -> 0
A24: IVA 19% | G24: =(G23)*19/100 -> 0
A25: TOTAL PROYECTO | G25: =INT(G23+G24) -> 0

Sheet total
A2: ipiales | B2: =ipiales!G26 -> 0
A3: popayan | B3: =popayan!G28 -> 0
A4: buenaventura | B4: =buenaventura!G28 -> 0
A5: guapi | B5: =guapi!G30 -> 0
A6: tumaco | B6: =tumaco!G27 -> 0
A7: armenia | B7: =armenia!G27 -> 0
A8: pasto | B8: =pasto!G25 -> 0
B9: =SUM(B2:B8) -> 0
