Workbook
Name ______xlnm._FilterDatabase: "#REF!"
Name _____PJ50: #REF!
Name _____pj51: #REF!
Name ____PJ50: #REF!
Name ____pj51: #REF!
Name ____xlnm._FilterDatabase: "#REF!"
Name ___INDEX_SHEET___ASAP_Utilities: #REF!
Name ___PJ50: #REF!
Name ___pj51: #REF!
Name ___xlnm._FilterDatabase: "#REF!"
Name __PJ50: #REF!
Name __pj51: #REF!
Name __xlnm._FilterDatabase_1: #REF!
Name _APU221: #REF!
Name _APU465: #REF!
Name _ftn1: SDC!#REF!
Name _ftn2: SDC!#REF!
Name _ftn3: SDC!#REF!
Name _ftnref1: SDC!#REF!
Name _ftnref2: SDC!#REF!
Name _ftnref3: SDC!#REF!
Name _PJ50: #REF!
Name _pj51: #REF!
Name ¿Quiénes_están_inscritos_dentro_del_sistema__incluye_desinscr___: #REF!
Name A: #REF!
Name A_impresión_IM: #REF!
Name a1_Y1: #REF!
Name a1_Y1: #REF!
Name a1_Y2: #REF!
Name a1_Y2: #REF!
Name a10_Y10: #REF!
Name a10_Y10: #REF!
Name a10_Y11: #REF!
Name a10_Y11: #REF!
Name a2_Y2: #REF!
Name a2_Y2: #REF!
Name a2_Y3: #REF!
Name a2_Y3: #REF!
Name a3_Y3: #REF!
Name a3_Y3: #REF!
Name a3_Y4: #REF!
Name a3_Y4: #REF!
Name a4_Y4: #REF!
Name a4_Y4: #REF!
Name a4_Y5: #REF!
Name a4_Y5: #REF!
Name a5_Y5: #REF!
Name a5_Y5: #REF!
Name a5_Y6: #REF!
Name a5_Y6: #REF!
Name a6_Y6: #REF!
Name a6_Y6: #REF!
Name a6_Y7: #REF!
Name a6_Y7: #REF!
Name a7_Y7: #REF!
Name a7_Y7: #REF!
Name a7_Y8: #REF!
Name a7_Y8: #REF!
Name a8_Y8: #REF!
Name a8_Y8: #REF!

Sheet INFO_EMPRESA
B2: PROCESO ADQUISICIÓN DE BIENES Y SERVICIOS | AO2: CLASIFICACIÓN DE LA INFORMACIÓN PÚBLICA
B6: Ficha de identificación de proveedores | AI6: Fecha dd/mm/aa
B7: 1. Información General
B8: 1.1. Identificación
B9: Personas naturales | J9: Nombre Comercial de la persona natural | AG9: ¿La persona natural es mujer? | AL9: Cédula
B11: Personas jurídicas | J11: Razón Social de la persona jurídica | AG11: Asociación | AJ11: Cooperativa | AL11: NIT con dígito de verificación
B13: Dirección | AE13: Teléfono fijo | AL13: Ciudad
B15: Pagina Web | T15: Sector de la economía al que pertenece | AL15: Subsector al que pertenece
B17: 1.2. Personas de Contacto
B18: Cargo | G18: Nombres y apellidos | Q18: E-mail | AH18: Ext. | AL18: Celular
B22: 1.3. Códigos CIIU | AL22: 1.4.Sector (Correspondencia según Resol.2225/19 del MinCIT) (Nota 1)
B23: Código de Actividad | J23: Descripción Actividad Económica CIIU
B24: Principal (Nota 1) | J24: =IF(G24="","",IFERROR(VLOOKUP(G24,OCULTAR!$A$21:$C$515,2,FALSE),"Código CIIU no encontrado, revisar y ajustar.")) | AL24: =IF(G24="","",IFERROR(VLOOKUP(G24,OCULTAR!$A$21:$C$515,3,FALSE),"Código CIIU no encontrado, revisar y ajustar."))
B25: Secundario | J25: =IF(G25="","",IFERROR(VLOOKUP(G25,OCULTAR!$A$21:$C$515,2,FALSE),"Código CIIU no encontrado, revisar y ajustar.")) | AL25: =IF(G25="","",IFERROR(VLOOKUP(G25,OCULTAR!$A$21:$C$515,3,FALSE),"Código CIIU no encontrado, revisar y ajustar"))
B26: Secundario | J26: =IF(G26="","",IFERROR(VLOOKUP(G26,OCULTAR!$A$21:$C$515,2,FALSE),"Código CIIU no encontrado, revisar y ajustar.")) | AL26: =IF(G26="","",IFERROR(VLOOKUP(G26,OCULTAR!$A$21:$C$515,3,FALSE),"Código CIIU no encontrado, revisar y ajustar"))
B27: 2. Información Financiera (Nota 2)
B28: Nombre del Indicador | L28: Cuenta | AL28: Diciembre 31 de 2023
AL29: Valores en pesos | AP29: Indicador
B30: Tamaño empresarial (Nota 1) | L30: Ingresos de actividades ordinarias | AP30: =IF($AL$24=$J$24,$AL$24,IF($AL$24="","Diligencie el código CIIU principal.",IF(AL30="","<-- Diligenciar valor ingresos actividades ordinarias",INDEX(Tamaño,MATCH(VLOOKUP($AL$30,_xlfn.IFS($AL$24="Manufacturero",Manufacturero,$AL$24="Servicio",Servicio,$AL$24="Comercio",Comercio),1,TRUE),_xlfn.IFS($AL$24="Manufacturero",M,$AL$24="Servicio",S,$AL$24="Comercio",O)),1))))
B31: Capacidad Financiera | D31: Índice de Liquidez (Veces) | L31: Activo Corriente | AP31: =+IFERROR(AL31/AL32,0) -> 0
L32: Pasivo Corriente
D33: Índice de Endeudamiento (Porcentaje) | L33: Pasivo Total | AP33: =+IFERROR(AL33/AL34,0) -> 0
L34: Activo Total
D35: Razón de Cobertura de Intereses (Veces) (Nota 3) | L35: Utilidad Operacional | AP35: =+IFERROR(AL35/AL36,0) -> 0
L36: Costos financieros (Nota 3)
D37: Capital de Trabajo (Pesos) | L37: Activo Corriente | AL37: =IF($AL$31="","",$AL$31) | AP37: =IFERROR(AL37-AL38,0) -> 0
L38: Pasivo corriente | AL38: =IF($AL$32="","",$AL$32)
B39: Capacidad Organizacional | D39: Rentabilidad del Patrimonio (Porcentaje) | L39: Utilidad Operacional | AL39: =IF($AL$35="","",$AL$35) | AP39: =+IFERROR(AL39/AL40,0) -> 0
L40: Patrimonio
D41: Rentabilidad del Activo (Porcentaje) | L41: Utilidad Operacional | AL41: =IF($AL$35="","",$AL$35) | AP41: =+IFERROR(AL41/AL42,0) -> 0
L42: Activo Total | AL42: =IF($AL$34="","",$AL$34)
B43: 3. Encuesta sobre población con características especiales para la inclusión en el sistema de compras públicas (Dec.1860/21)
B44: 3.1. Condiciones para ser considerados como emprendimientos o empresas de mujeres en el sistema de compras públicas (Art. 2.2.1.2.4.2.14. del Dec.1860/21):
B45: Para contestar las preguntas tenga en cuenta que se estima que el cierre del proceso de selección se de en aproximadamente 3 meses y que se deberá acreditar la condición de emprendimientos o empresas de mujeres mediante los documentos señalados en el Dec.1860/21 en el marco del proceso de selección.
B47: 1 | E47: ¿Más del cincuenta por ciento (50%) de las acciones, partes de interés o cuotas de participación de la persona jurídica pertenecen a mujeres y los derechos de propiedad han pertenecido a estas durante al menos el último año anterior a la fecha de cierre del Proceso de Selección? | AR47: =IF(ISBLANK($J$10)=ISBLANK($J$12),"",IF(ISBLANK($J$10),AU49,AU53)) | AU47: =IF(ISBLANK($J$12),"No","Si") -> No | BF47: Grupo | BH47: NO_APLICA | BI47: APLICA | BJ47: APLICA.
AU48: =IF(AND($AG$12="No",$AJ$12="No"),"No","Si") -> Si | BF48: NO_APLICA | BI48: Si | BJ48: Si
B49: 2 | E49: ¿Por lo menos el cincuenta por ciento (50%) de los empleos del nivel directivo de la persona jurídica son ejercidos por mujeres y estas han estado vinculadas laboralmente a la empresa durante al menos el último año anterior a la fecha de cierre del Proceso de Selección en el mismo cargo u otro del mismo nivel? | AU49: =IF(OR(AU47="No",AU48="No"),"En la pregunta 1.1. indicó PERSONA JURÍDICA. Debe contestar los punto 1 y 2 de esta sección, los cuales se encuentran resaltados de color amarillo.","En la pregunta 1.1. indicó PERSONA JURÍDICA. Debe contestar los punto 1, 2 y 4 de esta sección, los cuales se encuentran resaltados de color amarillo.") -> En la pregunta 1.1. indicó PERSONA JURÍDICA. Debe contestar los punto 1 y 2 de esta sección, los cuales se encuentran resaltados de color amarillo. | BF49: APLICA | BI49: No | BJ49: No
BF50: APLICA. | BJ50: No es Asociación ni Cooperativa
AU51: =IF(ISBLANK($J$10),"No","Si") -> No
AU52: =IF(AG10="No","No aplica la encuesta","Si") -> Si
...

Sheet SDC
B2: PROCESO ADQUISICIÓN DE BIENES Y SERVICIOS SOLICITUD DE COTIZACIÓN
B7: SOLICITUD DE COTIZACIÓN
B8: Denominación del Bien o Servicio | C8: Establecer el precio de referencia para la Supervisión Control y Adquisición de Datos SCADA para la línea de producción de AAVN de la planta de Cartago propiedad del ICBF, debido a que el actual SCADA de la línea de producción de AAVN planta Cartago no permite adicionar dispositivos en campo (sensores, actuadores) para brindar mayor seguridad en el proceso para garantizar la eficacia del proceso de precocido. Además de eso, no es compatible con sistemas operativos de 64 bits. Esta adquisición se realizará en el marco de lo establecido en el Anexo 13 del Contrato 01014512022 suscrito entre el ICBF e Ingredion Colombia S.A.
B9: FORMATO 1. SOLICITUD DE COTIZACIÓN SERVICIOS
B10: Empresa: | E10: Ciudad:
B11: E-Mail: | E11: Cargo:
B12: Instrucciones para el diligenciamiento del formato de cotización
B13: • Por favor diligenciar solo las celdas en AMARILLO. • Revisar todos los requerimientos que se exponen en el documento "Ficha de Condiciones Técnicas Esenciales para la Prestación del Servicio y/o Entrega del Bien" (FCT) y Anexos; y formular su cotización en concordancia con este, garantizando que los bienes y/o servicios ofrecidos cumplan en su totalidad con las especificaciones técnicas descritas en la FCT. • El precio de la cotización deber ser expresado en PESOS COLOMBIANOS. • Los precios deberán aproximarse por exceso o por defecto al entero más cercano así: (i) si es igual o superior a 50 centavos, se aproxima al entero siguiente; (ii) si es inferior a 50 centavos se baja al entero anterior. • No modificar, agregar o quitar ningún ítem o sub-ítem. • Los precios cotizados deben ser proyectados para la vigencia 2026 de acuerdo con las instrucciones.
B14: NOTA: Revisar las especificaciones técnicas de la ficha para realziar su cotización
C16: Unidad | D16: Tarifa IVA % | E16: Precio Unitario Antes de IVA | F16: Precio Unitario Antes de IVA
B17: Adquisición de Datos SCADA para la línea de producción de AAVN de la planta de Cartago propiedad del ICBF | C17: Unidad | F17: =+ROUND(((D17*E17)*E17),0) -> 0
B18: TOTAL IVA INCLUIDO | F18: =SUM(F17:F17) -> 0
B20: La presente cotización:
B21: • Incluye todos los costos y gastos directos e indirectos en que debe incurrir el contratista durante la ejecución del contrato de acuerdo con las especificaciones de la Ficha de Condiciones Técnicas, las obligaciones tributarias de acuerdo con las normas aplicables para el tipo de servicio y contrato correspondiente, y los costos de las pólizas. • Incluye todos los impuestos, tasas y contribuciones establecidos por las diferentes autoridades nacionales, departamentales o municipales y dentro de estos mismos niveles territoriales, los impuestos, tasas y contribuciones establecidos por las diferentes autoridades ambientales, que afecten el contrato y las actividades que de él se deriven. • Tiene una vigencia de 180 días a partir de la fecha de diligenciamiento.
B22: LOS DATOS PROPORCIONADOS SERÁN TRATADOS DE ACUERDO A LA POLÍTICA DE TRATAMIENTO DE DATOS PERSONALES DEL ICBF Y A LA LEY 1581 DE 2012

Sheet OCULTAR
A1: OCULTAR ESTA HOJA ANTES DE ENVIAR AL MERCADO
A2: Cálculos para determinar el tamaño empresarial
A4: UVT 2021 ---> | B4: 36308 | C4: UVT debe corresponder al último año que se solicita información finanicera.
A6: Resolución conjunta número 2225 de 2019 MinCIT - Artículo 1°
A7: Decreto 957 de 2019 | B7: Manufacturero | D7: Servicio | F7: Comercio
A8: Microempresa | B8: 0 | C8: 23563 | D8: 0 | E8: 32988 | F8: 0 | G8: 44769
A9: Pequeña empresa | B9: 23563 | C9: 204995 | D9: 32988 | E9: 131951 | F9: 44769 | G9: 431196
A10: Mediana empresa | B10: 204995 | C10: 1736565 | D10: 131951 | E10: 483034 | F10: 431196 | G10: 2160692
A11: Gran empresa | B11: 1736565 | D11: 483034 | F11: 2160692
A13: Decreto 957 de 2019 | B13: Manufacturero | D13: Servicio | F13: Comercio
A14: Microempresa | B14: =+B8*$B$4 -> 0 | C14: =+C8*$B$4 -> 855525404 | D14: =+D8*$B$4 -> 0 | E14: =+E8*$B$4 -> 1197728304 | F14: =+F8*$B$4 -> 0 | G14: =+G8*$B$4 -> 1625472852
A15: Pequeña empresa | B15: =+C14+1 -> 855525405 | C15: =+C9*$B$4 -> 7442958460 | D15: =+E14+1 -> 1197728305 | E15: =+E9*$B$4 -> 4790876908 | F15: =+G14+1 -> 1625472853 | G15: =+G9*$B$4 -> 15655864368
A16: Mediana empresa | B16: =+C15+1 -> 7442958461 | C16: =+C10*$B$4 -> 63051202020 | D16: =+E15+1 -> 4790876909 | E16: =+E10*$B$4 -> 17537998472 | F16: =+G15+1 -> 15655864369 | G16: =+G10*$B$4 -> 78450405136
A17: Gran empresa | B17: =+C16+1 -> 63051202021 | C17: =+C11*$B$4 -> 0 | D17: =+E16+1 -> 17537998473 | E17: =+E11*$B$4 -> 0 | F17: =+G16+1 -> 78450405137 | G17: =+G11*$B$4 -> 0
A19: Resolución conjunta número 2225 de 2019 - Artículo 3°. Correspondencia de los sectores. Para efectos de determinar cuál es el rango de tamaño aplicable por actividad económica, considérese la siguiente correspondencia, de acuerdo con lo dispuesto en el parágrafo 4° del artículo 2.2.1.13.2.2 del Decreto número 1074 de 2015, así:
A20: CIIU SIN LETRA | B20: Descripción Clasificación Industrial Internacional Uniforme Versión 4 A.C | C20: Sector
A21: 0111 | B21: Cultivo de cereales (excepto arroz), legumbres y semillas oleaginosas | C21: Manufacturero
A22: 0112 | B22: Cultivo de arroz | C22: Manufacturero
A23: 0113 | B23: Cultivo de hortalizas, raíces y tubérculos | C23: Manufacturero
A24: 0114 | B24: Cultivo de tabaco | C24: Manufacturero
A25: 0115 | B25: Cultivo de plantas textiles | C25: Manufacturero
A26: 0119 | B26: Otros cultivos transitorios n.c.p. | C26: Manufacturero
A27: 0121 | B27: Cultivo de frutas tropicales y subtropicales | C27: Manufacturero
A28: 0122 | B28: Cultivo de plátano y banano | C28: Manufacturero
A29: 0123 | B29: Cultivo de café | C29: Manufacturero
A30: 0124 | B30: Cultivo de caña de azúcar | C30: Manufacturero
A31: 0125 | B31: Cultivo de flor de corte | C31: Manufacturero
... A515: 9900 | B515: Actividades de organizaciones y entidades extraterritoriales | C515: Servicio
