Workbook

Sheet FORMATO  COTIZAC L1
A1: LOTE 1. ROPA PARA DAMA Y CABALLERO EMPLEADOS PUBLICOS | E1: Agencia Grupo Brand S.A.S | H1: AURIQ S.A.S | K1: DOTACION INTEGRAL | N1: PROMEDIO
A2: UNSPSC | B2: TIPO DE BIEN | C2: CANTIDAD | D2: UNIDAD DE MEDIDA | E2: PRECIO UNITARIO | F2: IVA | G2: PRECIO TOTAL | H2: PRECIO UNITARIO | I2: IVA | J2: PRECIO TOTAL | K2: PRECIO UNITARIO | L2: IVA | M2: PRECIO TOTAL | N2: PRECIO UNITARIO | O2: IVA | P2: PRECIO TOTAL
A3: 53101602 | B3: Camisa Clásica Caballero instructor 11510042 Tela 1: 85 % poliéster y 15 % algodón. | C3: 898 | D3: Unidad | E3: 121923 | F3: =+E3*19% -> 23165.37 | G3: =+(E3+F3)*C3 -> 1.3028936e+08 | H3: 140000 | I3: =H3*0.19 -> 26600 | J3: =+(H3+I3)*C3 -> 149606800 | K3: 170420 | L3: =K3*0.19 -> 32379.8 | M3: =(K3+L3)*C3 -> 1.8211422e+08 | N3: =MIN(E3,H3,K3) -> 121923 | O3: =N3*0.19 -> 23165.37 | P3: =(N3+O3)*C3 -> 1.3028936e+08
A4: 53101902 | B4: Vestido Caballero instructor 11510225 Tela 1: 96% poliéster y 4% lycra. | C4: 81 | D4: Conjunto | E4: 706800 | F4: =+E4*19% -> 134292 | G4: =+(E4+F4)*C4 -> 68128452 | H4: 812000 | I4: =H4*0.19 -> 154280 | J4: =+(H4+I4)*C4 -> 78268680 | K4: 815966 | L4: =K4*0.19 -> 155033.54 | M4: =(K4+L4)*C4 -> 78650963 | N4: =MIN(E4,H4,K4) -> 706800 | O4: =N4*0.19 -> 134292 | P4: =(N4+O4)*C4 -> 68128452
A5: 53101502 | B5: Pantalón Clásico Hombre instructor 11510230 Tela 1: 96% poliéster y 4% Lycra. | C5: 161 | D5: Conjunto | E5: 153729 | F5: =+E5*19% -> 29208.51 | G5: =+(E5+F5)*C5 -> 29452939 | H5: 176000 | I5: =H5*0.19 -> 33440 | J5: =+(H5+I5)*C5 -> 33719840 | K5: 218487 | L5: =K5*0.19 -> 41512.53 | M5: =(K5+L5)*C5 -> 41859924 | N5: =MIN(E5,H5,K5) -> 153729 | O5: =N5*0.19 -> 29208.51 | P5: =(N5+O5)*C5 -> 29452939
A6: 53101904 | B6: Vestido Dama Falda o Pantalón instructor 11510220 Tela 1: 96% poliéster y 4% lycra | C6: 42 | D6: Unidad | E6: 689130 | F6: =+E6*19% -> 130934.7 | G6: =+(E6+F6)*C6 -> 34442717 | H6: 792000 | I6: =H6*0.19 -> 150480 | J6: =+(H6+I6)*C6 -> 39584160 | K6: 436807 | L6: =K6*0.19 -> 82993.33 | M6: =(K6+L6)*C6 -> 21831614 | N6: =MIN(E6,H6,K6) -> 436807 | O6: =N6*0.19 -> 82993.33 | P6: =(N6+O6)*C6 -> 21831614
A7: 53101504 | B7: Falda o Pantalones Dama instructor 11510228 Tela 1: 96% poliéster y 4% lycra | C7: 147 | D7: Unidad | E7: 159030 | F7: =+E7*19% -> 30215.7 | G7: =+(E7+F7)*C7 -> 27819118 | H7: 182000 | I7: =H7*0.19 -> 34580 | J7: =+(H7+I7)*C7 -> 31837260 | K7: 218487 | L7: =K7*0.19 -> 41512.53 | M7: =(K7+L7)*C7 -> 38219931 | N7: =MIN(E7,H7,K7) -> 159030 | O7: =N7*0.19 -> 30215.7 | P7: =(N7+O7)*C7 -> 27819118
A8: 53101504 | B8: Falda o pantalon dama | C8: 10 | D8: Unidad | E8: 159030 | F8: =+E8*19% -> 30215.7 | G8: =+(E8+F8)*C8 -> 1892457 | H8: 182000 | I8: =H8*0.19 -> 34580 | J8: =+(H8+I8)*C8 -> 2165800 | K8: 218487 | L8: =K8*0.19 -> 41512.53 | M8: =(K8+L8)*C8 -> 2599995.3 | N8: =MIN(E8,H8,K8) -> 159030 | O8: =N8*0.19 -> 30215.7 | P8: =(N8+O8)*C8 -> 1892457
A9: 53101604 | B9: Blusa clásica dama instructor 11510045 Tela 1: 85% filamentos de poliéster y 15% algodón | C9: 413 | D9: Unidad | E9: 136059 | F9: =+E9*19% -> 25851.21 | G9: =+(E9+F9)*C9 -> 66868917 | H9: 156000 | I9: =H9*0.19 -> 29640 | J9: =+(H9+I9)*C9 -> 76669320 | K9: 181428.57 | L9: =K9*0.19 -> 34471.428 | M9: =(K9+L9)*C9 -> 89166699 | N9: =MIN(E9,H9,K9) -> 136059 | O9: =N9*0.19 -> 25851.21 | P9: =(N9+O9)*C9 -> 66868917
A10: 53101602 | B10: Camisa Clásica Caballero Administrativo 11510042 Tela 1: 85% filamentos de poliéster y 15% algodón | C10: 60 | D10: Unidad | E10: 121923 | F10: =+E10*19% -> 23165.37 | G10: =+(E10+F10)*C10 -> 8705302.2 | H10: 140000 | I10: =H10*0.19 -> 26600 | J10: =+(H10+I10)*C10 -> 9996000 | K10: 170420 | L10: =K10*0.19 -> 32379.8 | M10: =(K10+L10)*C10 -> 12167988 | N10: =MIN(E10,H10,K10) -> 121923 | O10: =N10*0.19 -> 23165.37 | P10: =(N10+O10)*C10 -> 8705302.2
A11: 53101902 | B11: Vestido Caballero Administrativo 11510225: Tela 1: 96% poliéster y 4% lycra | C11: 60 | D11: Unidad | E11: 689130 | F11: =+E11*19% -> 130934.7 | G11: =+(E11+F11)*C11 -> 49203882 | H11: 792000 | I11: =H11*0.19 -> 150480 | J11: =+(H11+I11)*C11 -> 56548800 | K11: 815966 | L11: =K11*0.19 -> 155033.54 | M11: =(K11+L11)*C11 -> 58259972 | N11: =MIN(E11,H11,K11) -> 689130 | O11: =N11*0.19 -> 130934.7 | P11: =(N11+O11)*C11 -> 49203882
A12: 53101604 | B12: Blusa clásica dama Administrativo 11510025 Tela 1: por 85% filamentos de poliéster y 15% algodón | C12: 153 | D12: Conjunto | E12: 141360 | F12: =+E12*19% -> 26858.4 | G12: =+(E12+F12)*C12 -> 25737415 | H12: 162000 | I12: =H12*0.19 -> 30780 | J12: =+(H12+I12)*C12 -> 29495340 | K12: 181428.57 | L12: =K12*0.19 -> 34471.428 | M12: =(K12+L12)*C12 -> 33032700 | N12: =MIN(E12,H12,K12) -> 141360 | O12: =N12*0.19 -> 26858.4 | P12: =(N12+O12)*C12 -> 25737415
A13: 53101904 | B13: Vestido Dama Falda o Pantalón Administrativo 11510220 Tela 1: 96% poliéster y 4% lycra | C13: 153 | D13: Unidad | E13: 671460 | F13: =+E13*19% -> 127577.4 | G13: =+(E13+F13)*C13 -> 1.2225272e+08 | H13: 772000 | I13: =H13*0.19 -> 146680 | J13: =+(H13+I13)*C13 -> 140558040 | K13: 436807 | L13: =K13*0.19 -> 82993.33 | M13: =(K13+L13)*C13 -> 79529450 | N13: =MIN(E13,H13,K13) -> 436807 | O13: =N13*0.19 -> 82993.33 | P13: =(N13+O13)*C13 -> 79529450
A14: 53101902 | B14: Conjunto jean caballero 11510046 Tela 1: Indigo 100% algodón | C14: 143 | D14: Conjunto | E14: 662625 | F14: =+E14*19% -> 125898.75 | G14: =+(E14+F14)*C14 -> 1.127589e+08 | H14: 762000 | I14: =H14*0.19 -> 144780 | J14: =+(H14+I14)*C14 -> 129669540 | K14: 712605 | L14: =K14*0.19 -> 135394.95 | M14: =(K14+L14)*C14 -> 1.2126399e+08 | N14: =MIN(E14,H14,K14) -> 662625 | O14: =N14*0.19 -> 125898.75 | P14: =(N14+O14)*C14 -> 1.127589e+08
... A21: 53101600 | B21: Camiseta Tipo polo 24750425 Tela 1: 100% filamento dde poliéster | C21: 96 | D21: Unidad | E21: 106020 | F21: =+E21*19% -> 20143.8 | G21: =+(E21+F21)*C21 -> 12111725 | H21: 121000 | I21: =H21*0.19 -> 22990 | J21: =+(H21+I21)*C21 -> 13823040 | K21: 158319 | L21: =K21*0.19 -> 30080.61 | M21: =(K21+L21)*C21 -> 18086363 | N21: =MIN(E21,H21,K21) -> 106020 | O21: =N21*0.19 -> 20143.8 | P21: =(N21+O21)*C21 -> 12111725
G22: =SUM(G3:G21) -> 1.1926369e+09 | J22: =SUM(J3:J21) -> 1284390800 | M22: =SUM(M3:M21) -> 1.1430058e+09 | P22: =SUM(P3:P21) -> 1.0005516e+09

Sheet FORMATO  COTIZAC L2
A1: LOTE 2. ROPA DEPORTIVA PARA DAMA Y CABALLERO EMPLEADOS PUBLICOS | E1: Agencia Grupo Brand S.A.S | H1: AURIQ S.A.S | K1: DOTACION INTEGRAL | N1: PROMEDIO
A2: UNSPSC | B2: TIPO DE BIEN | C2: CANTIDAD | D2: UNIDAD DE MEDIDA | E2: PRECIO UNITARIO | F2: IVA | G2: PRECIO TOTAL | H2: PRECIO UNITARIO | I2: IVA | J2: PRECIO TOTAL | K2: PRECIO UNITARIO | L2: IVA | M2: PRECIO TOTAL | N2: PRECIO UNITARIO | O2: IVA | P2: PRECIO TOTAL
A3: 53102500 | B3: Cachucha Unisex11510040 Tela : Drill 100% algodón o poliéster | C3: 406 | D3: Unidad | E3: 37637.1 | F3: =+E3*19% -> 7151.049 | G3: =+(E3+F3)*C3 -> 18183988 | H3: 43200 | I3: =H3*0.19 -> 8208 | J3: =+(H3+I3)*C3 -> 20871648 | K3: 117647.06 | L3: =K3*0.19 -> 22352.941 | M3: =(K3+L3)*C3 -> 56840000 | N3: =MIN(E3,H3,K3) -> 37637.1 | O3: =N3*0.19 -> 7151.049 | P3: =(N3+O3)*C3 -> 18183988
A4: 53102901 | B4: Sudadera para dama 11550250 Tela: 100% poliéster o Mezcla de poliéster con Algodón | C4: 9 | D4: Conjunto | E4: 305691 | F4: =+E4*19% -> 58081.29 | G4: =+(E4+F4)*C4 -> 3273950.6 | H4: 351000 | I4: =H4*0.19 -> 66690 | J4: =+(H4+I4)*C4 -> 3759210 | K4: 529352.94 | L4: =K4*0.19 -> 100577.06 | M4: =+(K4+L4)*F4 -> 3.6587147e+10 | N4: =MIN(E4,H4,K4) -> 305691 | O4: =N4*0.19 -> 58081.29 | P4: =(N4+O4)*C4 -> 3273950.6
A5: 53102902 | B5: Sudadera para caballero 11550250 Tela: 100% poliéster o Mezcla de poliéster | C5: 33 | D5: Conjunto | E5: 335730 | F5: =+E5*19% -> 63788.7 | G5: =+(E5+F5)*C5 -> 13184117 | H5: 386000 | I5: =H5*0.19 -> 73340 | J5: =+(H5+I5)*C5 -> 15158220 | K5: 529352.94 | L5: =K5*0.19 -> 100577.06 | M5: =+(K5+L5)*F5 -> 40182415791 | N5: =MIN(E5,H5,K5) -> 335730 | O5: =N5*0.19 -> 63788.7 | P5: =(N5+O5)*C5 -> 13184117
A6: 53103001 | B6: Camiseta para dama 11550260: Tela 100% algodón o Franela | C6: 5 | D6: Unidad | E6: 106020 | F6: =+E6*19% -> 20143.8 | G6: =+(E6+F6)*C6 -> 630819 | H6: 121000 | I6: =H6*0.19 -> 22990 | J6: =+(H6+I6)*C6 -> 719950 | K6: 211764.71 | L6: =K6*0.19 -> 40235.294 | M6: =+(K6+L6)*F6 -> 5076237600 | N6: =MIN(E6,H6,K6) -> 106020 | O6: =N6*0.19 -> 20143.8 | P6: =(N6+O6)*C6 -> 630819
A7: 53103001 | B7: Camiseta para caballero 11550260 Tela: 100% algodón o franela | C7: 39 | D7: Unidad | E7: 114855 | F7: =+E7*19% -> 21822.45 | G7: =+(E7+F7)*C7 -> 5330420.6 | H7: 132000 | I7: =H7*0.19 -> 25080 | J7: =+(H7+I7)*C7 -> 6126120 | K7: 211764.71 | L7: =K7*0.19 -> 40235.294 | M7: =+(K7+L7)*F7 -> 5499257400 | N7: =MIN(E7,H7,K7) -> 114855 | O7: =N7*0.19 -> 21822.45 | P7: =(N7+O7)*C7 -> 5330420.6
A8: 53103001 | B8: Camiseta 12461123 Tela 1: Franela o Camiseta 12461124 Tela 2: 100% algodón | C8: 0 | D8: Unidad | E8: 98185 | F8: =+E8*19% -> 18655.15 | G8: =E8+F8 -> 116840.15 | H8: 112000 | I8: =H8*0.19 -> 21280 | J8: =+(H8+I8) -> 133280 | K8: 211764.71 | L8: =K8*0.19 -> 40235.294 | M8: =+(K8+L8)*F8 -> 4701097800 | N8: =MIN(E8,H8,K8) -> 98185 | O8: =N8*0.19 -> 18655.15 | P8: =(N8+O8) -> 116840.15
A9: 53101502 | B9: Pantaloneta para dama 11510170 Tela: 100% poliéster o Mezcla de poliéster y algodón | C9: 7 | D9: Unidad | E9: 118389 | F9: =+E9*19% -> 22493.91 | G9: =+(E9+F9)*C9 -> 986180.37 | H9: 136000 | I9: =H9*0.19 -> 25840 | J9: =+(H9+I9)*C9 -> 1132880 | K9: 294117.65 | L9: =K9*0.19 -> 55882.353 | M9: =+(K9+L9)*F9 -> 7872868500 | N9: =MIN(E9,H9,K9) -> 118389 | O9: =N9*0.19 -> 22493.91 | P9: =(N9+O9)*C9 -> 986180.37
A10: 53101504 | B10: Pantaloneta para caballero 11510169 Tela: 100% poliéster o Mezcla de poliéster y algodón | C10: 19 | D10: Unidad | E10: 123690 | F10: =+E10*19% -> 23501.1 | G10: =+(E10+F10)*C10 -> 2796630.9 | H10: 142000 | I10: =H10*0.19 -> 26980 | J10: =+(H10+I10)*C10 -> 3210620 | K10: 294117.65 | L10: =K10*0.19 -> 55882.353 | M10: =+(K10+L10)*F10 -> 8.225385e+09 | N10: =MIN(E10,H10,K10) -> 123690 | O10: =N10*0.19 -> 23501.1 | P10: =(N10+O10)*C10 -> 2796630.9
A11: 53102402 | B11: Medias 11550413 | C11: 48 | D11: Par | E11: 32689.5 | F11: =+E11*19% -> 6211.005 | G11: =+(E11+F11)*C11 -> 1867224.2 | H11: 37000 | I11: =H11*0.19 -> 7030 | J11: =+(H11+I11)*C11 -> 2113440 | K11: 52857.143 | L11: =K11*0.19 -> 10042.857 | M11: =+(K11+L11)*F11 -> 3.9067221e+08 | N11: =MIN(E11,H11,K11) -> 32689.5 | O11: =N11*0.19 -> 6211.005 | P11: =(N11+O11)*C11 -> 1867224.2
A12: 46181546 | B12: Impermeable 11580425 | C12: 236 | D12: Unidad | E12: 157439.7 | F12: =+E12*19% -> 29913.543 | G12: =+(E12+F12)*C12 -> 44215365 | H12: 181000 | I12: =H12*0.19 -> 34390 | J12: =+(H12+I12)*C12 -> 50832040 | K12: 96638.655 | L12: =K12*0.19 -> 18361.345 | M12: =+(K12+L12)*F12 -> 3440057445 | N12: =MIN(E12,H12,K12) -> 96638.655 | O12: =N12*0.19 -> 18361.345 | P12: =(N12+O12)*C12 -> 27140000
A13: 53102500 | B13: Sombrero Dril 15679321 | C13: 6 | D13: Unidad | E13: 49476 | F13: =+E13*19% -> 9400.44 | G13: =+(E13+F13)*C13 -> 353258.64 | H13: 56000 | I13: =H13*0.19 -> 10640 | J13: =+(H13+I13)*C13 -> 399840 | K13: 77731.092 | L13: =K13*0.19 -> 14768.908 | M13: =+(K13+L13)*F13 -> 869540700 | N13: =MIN(E13,H13,K13) -> 49476 | O13: =N13*0.19 -> 9400.44 | P13: =(N13+O13)*C13 -> 353258.64
A14: 53101600 | B14: Buzo 11550261 Tela :Franela o Algodón | C14: 21 | D14: Unidad | E14: 220875 | F14: =+E14*19% -> 41966.25 | G14: =+(E14+F14)*C14 -> 5519666.2 | H14: 254000 | I14: =H14*0.19 -> 48260 | J14: =+(H14+I14)*C14 -> 6347460 | K14: 394033.61 | L14: =K14*0.19 -> 74866.387 | M14: =+(K14+L14)*F14 -> 19677974625 | N14: =MIN(E14,H14,K14) -> 220875 | O14: =N14*0.19 -> 41966.25 | P14: =(N14+O14)*C14 -> 5519666.2
A15: 46181545 | B15: Chaqueta impermeable 25618125 Tela: Franela o Poliéster 100% | C15: 24 | D15: Unidad | E15: 203205 | F15: =+E15*19% -> 38608.95 | G15: =+(E15+F15)*C15 -> 5803534.8 | H15: 233000 | I15: =H15*0.19 -> 44270 | J15: =+(H15+I15)*C15 -> 6654480 | K15: 310924.37 | L15: =K15*0.19 -> 59075.63 | M15: =+(K15+L15)*F15 -> 1.4285311e+10 | N15: =MIN(E15,H15,K15) -> 203205 | O15: =N15*0.19 -> 38608.95 | P15: =(N15+O15)*C15 -> 5803534.8
A16: 53102402 | B16: Calcetines canilla 11550460 | C16: 12 | D16: Par | E16: 32689.5 | F16: =+E16*19% -> 6211.005 | G16: =+(E16+F16)*C16 -> 466806.06 | H16: 37000 | I16: =H16*0.19 -> 7030 | J16: =+(H16+I16)*C16 -> 528360 | K16: 52857.143 | L16: =K16*0.19 -> 10042.857 | M16: =+(K16+L16)*F16 -> 3.9067221e+08 | N16: =MIN(E16,H16,K16) -> 32689.5 | O16: =N16*0.19 -> 6211.005 | P16: =(N16+O16)*C16 -> 466806.06
G17: =SUM(G3:G16) -> 1.027288e+08 | J17: =SUM(J3:J16) -> 117987548 | M17: =SUM(M3:M16) -> 1.4725548e+11 | P17: =SUM(P3:P16) -> 85653437

Sheet FORMATO COTIZAC L3
A1: LOTE 3. CALZADO PARA DAMA Y CABALLERO EMPLEADOS PUBLICOS | E1: Agencia Grupo Brand S.A.S | H1: AURIQ S.A.S | K1: DOTACION INTEGRAL | N1: PROMEDIO
A2: UNSPSC | B2: TIPO DE BIEN | C2: CANTIDAD | D2: UNIDAD DE MEDIDA | E2: PRECIO UNITARIO | F2: IVA | G2: PRECIO TOTAL | H2: PRECIO UNITARIO | I2: IVA | J2: PRECIO TOTAL | K2: PRECIO UNITARIO | L2: IVA | M2: PRECIO TOTAL | N2: PRECIO UNITARIO | O2: IVA | P2: PRECIO TOTAL
A3: 53111601 | B3: Calzado calle Caballero Instructor 11580405 | C3: 176 | D3: Par | E3: 406410 | F3: =+E3*19% -> 77217.9 | G3: =+(E3+F3)*C3 -> 85118510 | H3: 467000 | I3: =H3*0.19 -> 88730 | J3: =+(H3+I3)*C3 -> 97808480 | K3: 411765 | L3: =K3*0.19 -> 78235.35 | M3: =+(K3+L3)*C3 -> 86240062 | N3: =MIN(E3,H3,K3) -> 406410 | O3: =N3*0.19 -> 77217.9 | P3: =(N3+O3)*C3 -> 85118510
A4: 53111602 | B4: Calzado Calle Dama Instructor 11580400 | C4: 133 | D4: Par | E4: 441750 | F4: =+E4*19% -> 83932.5 | G4: =+(E4+F4)*C4 -> 69915772 | H4: 508000 | I4: =H4*0.19 -> 96520 | J4: =+(H4+I4)*C4 -> 80401160 | K4: 386555 | L4: =K4*0.19 -> 73445.45 | M4: =+(K4+L4)*C4 -> 61180060 | N4: =MIN(E4,H4,K4) -> 386555 | O4: =N4*0.19 -> 73445.45 | P4: =(N4+O4)*C4 -> 61180060
A5: 53111601 | B5: Calzado calle Caballero Administrativo | C5: 40 | D5: Par | E5: 406410 | F5: =+E5*19% -> 77217.9 | G5: =+(E5+F5)*C5 -> 19345116 | H5: 467000 | I5: =H5*0.19 -> 88730 | J5: =+(H5+I5)*C5 -> 22229200 | K5: 411765 | L5: =K5*0.19 -> 78235.35 | M5: =+(K5+L5)*C5 -> 19600014 | N5: =MIN(E5,H5,K5) -> 406410 | O5: =N5*0.19 -> 77217.9 | P5: =(N5+O5)*C5 -> 19345116
A6: 53111602 | B6: Calzado Calle Dama Administrativo | C6: 102 | D6: Par | E6: 441750 | F6: =+E6*19% -> 83932.5 | G6: =+(E6+F6)*C6 -> 53619615 | H6: 508000 | I6: =H6*0.19 -> 96520 | J6: =+(H6+I6)*C6 -> 61661040 | K6: 386555 | L6: =K6*0.19 -> 73445.45 | M6: =+(K6+L6)*C6 -> 46920046 | N6: =MIN(E6,H6,K6) -> 386555 | O6: =N6*0.19 -> 73445.45 | P6: =(N6+O6)*C6 -> 46920046
G7: =SUM(G3:G6) -> 2.2799901e+08 | J7: =SUM(J3:J6) -> 262099880 | M7: =SUM(M3:M6) -> 2.1394018e+08 | P7: =SUM(P3:P6) -> 2.1256373e+08

Sheet FORMATO COTIZAC L4
A1: LOTE 4. CALZADO DEPORTIVO DAMA Y CABALLERO EMPLEADOS PUBLICOS | E1: Agencia Grupo Brand S.A.S | H1: AURIQ S.A.S | K1: DOTACION INTEGRAL | N1: PROMEDIO
A2: UNSPSC | B2: TIPO DE BIEN | C2: CANTIDAD | D2: UNIDAD DE MEDIDA | E2: PRECIO UNITARIO | F2: IVA | G2: PRECIO TOTAL | H2: PRECIO UNITARIO | I2: IVA | J2: PRECIO TOTAL | K2: PRECIO UNITARIO | L2: IVA | M2: PRECIO TOTAL | N2: PRECIO UNITARIO | O2: IVA | P2: PRECIO TOTAL
A3: 53111902 | B3: Tenis Dama Material sintético y/o textil Y/o cuero con características de ligereza y flexibilidad, y/o con micromallas. | C3: 8 | D3: Par | E3: 424080 | F3: =+E3*19% -> 80575.2 | G3: =+(E3+F3)*C3 -> 4037241.6 | H3: 487000 | I3: =H3*0.19 -> 92530 | J3: =+(H3+I3)*C3 -> 4636240 | K3: 411765 | L3: =K3*0.19 -> 78235.35 | M3: =+(K3+L3)*C3 -> 3920002.8 | N3: =MIN(E3,H3,K3) -> 411765 | O3: =N3*0.19 -> 78235.35 | P3: =(N3+O3)*C3 -> 3920002.8
A4: 53111901 | B4: Tenis Caballero Material sintético y/o textil Y/o cuero con características de ligereza y flexibilidad, y/o con micromallas. | C4: 26 | D4: Par | E4: 424080 | F4: =+E4*19% -> 80575.2 | G4: =+(E4+F4)*C4 -> 13121035 | H4: 487000 | I4: =H4*0.19 -> 92530 | J4: =+(H4+I4)*C4 -> 15067780 | K4: 411765 | L4: =K4*0.19 -> 78235.35 | M4: =+(K4+L4)*C4 -> 12740009 | N4: =MIN(E4,H4,K4) -> 411765 | O4: =N4*0.19 -> 78235.35 | P4: =(N4+O4)*C4 -> 12740009
A5: 53111901 | B5: Tenis de Hombre en cuero, o material sintético tipo microfibra con base poliuretano 100% o material sintético tipo microfibra con base poliuretano combinado 80% con textil micro mallas 20% o Material sintético tipo microfibra con base poliuretano 80% con cuero 20% | C5: 2 | D5: Par | E5: 424080 | F5: =+E5*19% -> 80575.2 | G5: =+(E5+F5)*C5 -> 1009310.4 | H5: 487000 | I5: =H5*0.19 -> 92530 | J5: =+(H5+I5)*C5 -> 1159060 | K5: 386555 | L5: =K5*0.19 -> 73445.45 | M5: =+(K5+L5)*C5 -> 920000.9 | N5: =MIN(E5,H5,K5) -> 386555 | O5: =N5*0.19 -> 73445.45 | P5: =(N5+O5)*C5 -> 920000.9
G6: =SUM(G3:G5) -> 18167587 | J6: =SUM(J3:J5) -> 20863080 | M6: =SUM(M3:M5) -> 17580013 | P6: =SUM(P3:P5) -> 17580013

Sheet FORMATO COTIZAC L5
A1: LOTE 5. BOTAS PARA DAMA Y CABALLERO EMPLEADOS PUBLICOS | E1: Agencia Grupo Brand S.A.S | H1: AURIQ S.A.S | K1: DOTACION INTEGRAL | N1: PROMEDIO
A2: UNSPSC | B2: TIPO DE BIEN | C2: CANTIDAD | D2: UNIDAD DE MEDIDA | E2: PRECIO UNITARIO | F2: IVA | G2: PRECIO TOTAL | H2: PRECIO UNITARIO | I2: IVA | J2: PRECIO TOTAL | K2: PRECIO UNITARIO | L2: IVA | M2: PRECIO TOTAL | N2: PRECIO UNITARIO | O2: IVA | P2: PRECIO TOTAL
A3: 53111501 | B3: Bota caucho 11520030 | C3: 148 | D3: Par | E3: 229710 | F3: =+E3*19% -> 43644.9 | G3: =+(E3+F3)*C3 -> 40456525 | H3: 264000 | I3: =H3*0.19 -> 50160 | J3: =+(H3+I3)*C3 -> 46495680 | K3: 117647 | L3: =K3*0.19 -> 22352.93 | M3: =(K3+L3)*C3 -> 20719990 | N3: =MIN(E3,H3,K3) -> 117647 | O3: =N3*0.19 -> 22352.93 | P3: =(N3+O3)*C3 -> 20719990
A4: 53111501 | B4: Bota Cuero 11580025 | C4: 527 | D4: Par | E4: 547770 | F4: =+E4*19% -> 104076.3 | G4: =+(E4+F4)*C4 -> 3.43523e+08 | H4: 629000 | I4: =H4*0.19 -> 119510 | J4: =+(H4+I4)*C4 -> 394464770 | K4: 436975 | L4: =K4*0.19 -> 83025.25 | M4: =(K4+L4)*C4 -> 2.7404013e+08 | N4: =MIN(E4,H4,K4) -> 436975 | O4: =N4*0.19 -> 83025.25 | P4: =(N4+O4)*C4 -> 2.7404013e+08
G5: =SUM(G3:G4) -> 3.8397953e+08 | J5: =SUM(J3:J4) -> 440960450 | M5: =SUM(M3:M4) -> 2.9476012e+08 | P5: =SUM(P3:P4) -> 2.9476012e+08

Sheet RESUMEN
A1: Lote | B1: Valor
A2: 1 | B2: ='FORMATO COTIZAC L1'!P22 -> 1.0005516e+09
A3: 2 | B3: ='FORMATO COTIZAC L2'!P17 -> 85653437
A4: 3 | B4: ='FORMATO COTIZAC L3'!P7 -> 2.1256373e+08
A5: 4 | B5: ='FORMATO COTIZAC L4'!P6 -> 17580013
A6: 5 | B6: ='FORMATO COTIZAC L5'!P5 -> 2.9476012e+08
B7: =SUM(B2:B6) -> 1.6111089e+09
