Workbook

Sheet RESUMEN
A1: Etapa | B1: Profesional | C1: COT 1 | D1: COT 2 | E1: COT 3 | F1: Honorarios (COP$/mes) | G1: Tiempo (mes) | R1: Valor total (COP$) | S1: Valor total (COP$)
C2: CIVINGTEC | D2: MAV INGENIERIA INTEGRAL | E2: FABIO RAMÍREZ SUÁREZ | G2: 1 | H2: 2 | I2: 3 | J2: 4 | K2: 5 | L2: 6 | M2: 7 | N2: 8 | O2: 9 | P2: 10 | Q2: Total
A3: 1. Aprestamiento | B3: Director | C3: 9600000 | D3: 11200000 | E3: 10400000 | F3: 10400000 | G3: 1 | Q3: =SUM(G3:P3) -> 1 | R3: =+Q3*F3 -> 10400000 | S3: =+ROUND(R3,0) -> 10400000
B4: Profesional especializado (C. Hidrológico) | C4: 6500000 | D4: 7300000 | E4: 7000000 | F4: 6933333 | G4: 0.5 | Q4: =SUM(G4:P4) -> 0.5 | R4: =+Q4*F4 -> 3466666.5 | S4: =+ROUND(R4,0) -> 3466667
B5: Profesional especializado (C. Ecosistémico) | C5: 6500000 | D5: 7300000 | E5: 7000000 | F5: 6933333 | G5: 0.5 | Q5: =SUM(G5:P5) -> 0.5 | R5: =+Q5*F5 -> 3466666.5 | S5: =+ROUND(R5,0) -> 3466667
B6: Profesional especializado (C. Geomorfológico) | C6: 6500000 | D6: 7300000 | E6: 7000000 | F6: 6933333 | G6: 0.5 | Q6: =SUM(G6:P6) -> 0.5 | R6: =+Q6*F6 -> 3466666.5 | S6: =+ROUND(R6,0) -> 3466667
B7: Profesional jurídico | C7: 5150000 | D7: 6000000 | E7: 5800000 | F7: 5650000 | G7: 0 | Q7: =SUM(G7:P7) -> 0 | R7: =+Q7*G7 -> 0 | S7: =+ROUND(R7,0) -> 0
B8: Profesional (Social) | C8: 4400000 | D8: 5000000 | E8: 4700000 | F8: 4700000 | G8: 0 | Q8: =SUM(G8:P8) -> 0 | R8: =+Q8*F8 -> 0 | S8: =+ROUND(R8,0) -> 0
B9: Profesional (SIG) | C9: 4400000 | D9: 5000000 | E9: 4700000 | F9: 4700000 | G9: 0.5 | Q9: =SUM(G9:P9) -> 0.5 | R9: =+Q9*F9 -> 2350000 | S9: =+ROUND(R9,0) -> 2350000
B10: Apoyo técnico | C10: 3501810 | D10: 3520000 | E10: 3600000 | F10: 3540603 | G10: 0 | Q10: =SUM(G10:P10) -> 0 | R10: =+Q10*F10 -> 0 | S10: =+ROUND(R10,0) -> 0
A11: Subtotal Etapa 1. Aprestamiento | R11: =SUM(R3:R10) -> 23150000 | S11: =SUM(S3:S10) -> 23150001
A12: 2. Delimitación del cauce permanente | B12: Director | C12: 9600000 | D12: 11200000 | E12: 10400000 | F12: 10400000 | H12: 1 | Q12: =SUM(G12:P12) -> 1 | R12: =+Q12*F12 -> 10400000 | S12: =+ROUND(R12,0) -> 10400000
B13: Profesional especializado (C. Hidrológico) | C13: 6500000 | D13: 7300000 | E13: 7000000 | F13: 6933333 | H13: 0.5 | Q13: =SUM(G13:P13) -> 0.5 | R13: =+Q13*F13 -> 3466666.5 | S13: =+ROUND(R13,0) -> 3466667
B14: Profesional especializado (C. Ecosistémico) | C14: 6500000 | D14: 7300000 | E14: 7000000 | F14: 6933333 | H14: 0 | Q14: =SUM(G14:P14) -> 0 | R14: =+Q14*F14 -> 0 | S14: =+ROUND(R14,0) -> 0
B15: Profesional especializado (C. Geomorfológico) | C15: 6500000 | D15: 7300000 | E15: 7000000 | F15: 6933333 | H15: 0.5 | Q15: =SUM(G15:P15) -> 0.5 | R15: =+Q15*F15 -> 3466666.5 | S15: =+ROUND(R15,0) -> 3466667
B16: Profesional jurídico | C16: 5150000 | D16: 6000000 | E16: 5800000 | F16: 5650000 | H16: 0 | Q16: =SUM(G16:P16) -> 0 | R16: =+Q16*F16 -> 0 | S16: =+ROUND(R16,0) -> 0
B17: Profesional (Social) | C17: 4400000 | D17: 5000000 | E17: 4700000 | F17: 4700000 | H17: 0 | Q17: =SUM(G17:P17) -> 0 | R17: =+Q17*F17 -> 0 | S17: =+ROUND(R17,0) -> 0
B18: Profesional (SIG) | C18: 4400000 | D18: 5000000 | E18: 4700000 | F18: 4700000 | H18: 0.5 | Q18: =SUM(G18:P18) -> 0.5 | R18: =+Q18*F18 -> 2350000 | S18: =+ROUND(R18,0) -> 2350000
B19: Apoyo técnico | C19: 3501810 | D19: 3520000 | E19: 3600000 | F19: 3540603 | H19: 0.5 | Q19: =SUM(G19:P19) -> 0.5 | R19: =+Q19*F19 -> 1770301.5 | S19: =+ROUND(R19,0) -> 1770302
A20: Subtotal Etapa 2. Delimitación del Cauce Permanente | R20: =SUM(R12:R19) -> 21453634 | S20: =SUM(S12:S19) -> 21453636
A21: 3. Definición del límite físico | B21: Director | C21: 9600000 | D21: 11200000 | E21: 10400000 | F21: 10400000 | I21: 1 | J21: 1 | K21: 1 | L21: 1 | M21: 0.5 | Q21: 4.5 | R21: =+Q21*F21 -> 46800000 | S21: =+ROUND(R21,0) -> 46800000
B22: Profesional especializado (C. Hidrológico) | C22: 6500000 | D22: 7300000 | E22: 7000000 | F22: 6933333 | I22: 1 | J22: 1 | K22: 1 | L22: 1 | M22: 0.5 | Q22: 4.5 | R22: =+Q22*F22 -> 31199998 | S22: =+ROUND(R22,0) -> 31199999
B23: Profesional especializado (C. Ecosistémico) | C23: 6500000 | D23: 7300000 | E23: 7000000 | F23: 6933333 | I23: 1 | J23: 1 | K23: 1 | L23: 1 | M23: 0.5 | Q23: 4.5 | R23: =+Q23*F23 -> 31199998 | S23: =+ROUND(R23,0) -> 31199999
B24: Profesional especializado (C. Geomorfológico) | C24: 6500000 | D24: 7300000 | E24: 7000000 | F24: 6933333 | I24: 1 | J24: 1 | K24: 1 | L24: 1 | M24: 0.5 | Q24: 4.5 | R24: =+Q24*F24 -> 31199998 | S24: =+ROUND(R24,0) -> 31199999
B25: Profesional jurídico | C25: 5150000 | D25: 6000000 | E25: 5800000 | F25: 5650000 | Q25: 0 | R25: =+Q25*F25 -> 0 | S25: =+ROUND(R25,0) -> 0
B26: Profesional (Social) | C26: 4400000 | D26: 5000000 | E26: 4700000 | F26: 4700000 | L26: 1 | M26: 0.5 | Q26: 1.5 | R26: =+Q26*F26 -> 7050000 | S26: =+ROUND(R26,0) -> 7050000
B27: Profesional (SIG) | C27: 4400000 | D27: 5000000 | E27: 4700000 | F27: 4700000 | I27: 1 | J27: 1 | K27: 1 | L27: 1 | M27: 0.5 | Q27: 4.5 | R27: =+Q27*F27 -> 21150000 | S27: =+ROUND(R27,0) -> 21150000
B28: Apoyo técnico | C28: 3501810 | D28: 3520000 | E28: 3600000 | F28: 3540603 | I28: 1 | J28: 1 | K28: 1 | L28: 1 | M28: 0.5 | Q28: 4.5 | R28: =+Q28*F28 -> 15932714 | S28: =+ROUND(R28,0) -> 15932714
A29: Subtotal Etapa 3. Definición del límite físico | R29: =SUM(R21:R28) -> 184532709 | S29: =SUM(S21:S28) -> 184532711
A30: 4. Definición de las medidas de manejo | B30: Director | C30: 9600000 | D30: 11200000 | E30: 10400000 | F30: 10400000 | M30: 0.5 | N30: 1 | O30: 1 | P30: 1 | Q30: 3.5 | R30: =+Q30*F30 -> 36400000 | S30: =+ROUND(R30,0) -> 36400000
B31: Profesional especializado (C. Hidrológico) | C31: 6500000 | D31: 7300000 | E31: 7000000 | F31: 6933333 | M31: 0.5 | N31: 0.5 | O31: 0.5 | P31: 0.5 | Q31: 2 | R31: =+Q31*F31 -> 13866666 | S31: =+ROUND(R31,0) -> 13866666
B32: Profesional especializado (C. Ecosistémico) | C32: 6500000 | D32: 7300000 | E32: 7000000 | F32: 6933333 | M32: 0.5 | N32: 0.5 | O32: 0.5 | P32: 0.5 | Q32: 2 | R32: =+Q32*F32 -> 13866666 | S32: =+ROUND(R32,0) -> 13866666
B33: Profesional especializado (C. Geomorfológico) | C33: 6500000 | D33: 7300000 | E33: 7000000 | F33: 6933333 | M33: 0.5 | N33: 0.5 | O33: 0.5 | P33: 0.5 | Q33: 2 | R33: =+Q33*F33 -> 13866666 | S33: =+ROUND(R33,0) -> 13866666
B34: Profesional jurídico | C34: 5150000 | D34: 6000000 | E34: 5800000 | F34: 5650000 | M34: 1 | N34: 1 | O34: 1 | P34: 1 | Q34: 4 | R34: =+Q34*F34 -> 22600000 | S34: =+ROUND(R34,0) -> 22600000
B35: Profesional (Social) | C35: 4400000 | D35: 5000000 | E35: 4700000 | F35: 4700000 | M35: 0.5 | N35: 1 | O35: 1 | P35: 1 | Q35: 3.5 | R35: =+Q35*F35 -> 16450000 | S35: =+ROUND(R35,0) -> 16450000
B36: Profesional (SIG) | C36: 4400000 | D36: 5000000 | E36: 4700000 | F36: 4700000 | M36: 0.5 | N36: 0.5 | O36: 0.5 | P36: 0.5 | Q36: 2 | R36: =+Q36*F36 -> 9400000 | S36: =+ROUND(R36,0) -> 9400000
B37: Apoyo técnico | C37: 3501810 | D37: 3520000 | E37: 3600000 | F37: 3540603 | Q37: 0 | R37: =+Q37*F37 -> 0 | S37: =+ROUND(R37,0) -> 0
A38: Subtotal Etapa 4. Definición de las medidas de manejo | R38: =SUM(R30:R37) -> 126449998 | S38: =SUM(S30:S37) -> 126449998
A39: Total equipo profesional | R39: =+R11+R20+R29+R38 -> 355586341 | S39: =+S11+S20+S29+S38 -> 355586346
A41: Etapa | B41: Descripción | C41: CIVINGTEC | D41: MAV INGENIERIA INTEGRAL | E41: FABIO RAMÍREZ SUÁREZ | F41: Valor | G41: Cantidad | H41: Valor Total
...

Sheet Cronograma
B2: CRONOGRAMA GENERAL PARA LA IDENTIFICACIÓN DEL ACOTAMIENTO DE LA RONDA HÍDRICA DE LA QUEBRADA HATO DE LA VIRGEN, LOCALIZADA EN EL DEPARTAMENTO DEL TOLIMA MUNICIPIO DE IBAGUÉ
B3: ACTIVIDAD | C3: No. | D3: Sub actividad | E3: Tiempo (mes)
E4: 1 | I4: 2 | M4: 3 | Q4: 4 | U4: 5 | Y4: 6 | AC4: 7 | AG4: 8 | AK4: 9 | AO4: 10
B5: 1. Aprestamiento | C5: 1.1 | D5: Recopilación de información secundaria
C6: 1.2 | D6: Ortofotomosaico
C7: 1.3 | D7: Modelo de Elevación Digital MED
C8: 1.4 | D8: Secciones de control y aforos
B9: 2. Delimitación del cauce permanente | C9: 2.1 | D9: Delimitar el cauce permanente
B10: 3. Definición del límite físico | C10: 3.1 | D10: Componente hidrológico
C11: 3.2 | D11: Componente ecosistémico
C12: 3.3 | D12: Componente geomorfológico
C13: 3.4 | D13: Delimitación de la ronda hídrica
B14: 4. Definición de las medidas de manejo | C14: 4.1 | D14: Identificación de los elementos constituyentes
C15: 4.2 | D15: Identificación de actores
C16: 4.3 | D16: Caracterización predial
C17: 4.4 | D17: Identificación de servicios ecosistémicos
C18: 4.5 | D18: Definición de estrategias para el manejo ambiental
C19: 4.6 | D19: Proyección acto administrativo de adopción

Sheet Perfiles
A1: Profesional | B1: Perfil | C1: Experiencia | D1: Justificación | E1: Dedicación (mes) | F1: Honorario (COP$/mes)
A2: Director | B2: Profesional en Geología, Ingeniería Civil, Ingeniería Ambiental o Ingeniería Sanitaria con título de maestría o doctorado en aspectos ambientales o recursos hídricos. | C2: 6 años de experiencia en proyectos relacionados con instrumentos ambientales o recursos hídricos. | D2: Coordinador del proyecto para el cumplimiento de las actividades. | E2: 1 | F2: 9000000
A3: Profesional especializado | B3: Profesional en Geología, Ingeniería Civil, Ingeniería Ambiental o Ingeniería Sanitaria especializado en aspectos de hidrología e hidráulica fluvial o recursos hídricos | C3: 3 años de experiencia profesional y 1 año de experiencia relacionada con proyectos en instrumentos ambientales o gestión integral del recurso hídrico. | D3: Desarrollar el componente hidrológico. | E3: 1 | F3: 7000000
A4: Profesional especializado | B4: Ingeniero Forestal, Biólogo o Ingeniero Ambiental Profesional especializado en aspectos en ciencias de la tierra o recursos hídricos o áreas afines. | C4: 3 años de experiencia profesional y 1 año de experiencia relacionada con proyectos en instrumentos ambientales o gestión integral del recurso hídrico. | D4: Desarrollar el componente ecosistémico. | E4: 1 | F4: 7000000
A5: Profesional especializado | B5: Profesional en Geología o Ingeniería Geológica geólogo especializado en aspectos de geomorfología o ciencias de la tierra o recursos hídricos o áreas afines. | C5: 3 años de experiencia profesional y 1 año de experiencia relacionada con proyectos en instrumentos ambientales o gestión integral del recurso hídrico. | D5: Desarrollar el componente geomorfológico. | E5: 1 | F5: 7000000
A6: Profesional | B6: Profesional Abogado | C6: 3 años de experiencia general relacionados con proyectos ambientales | D6: Apoyar el componente jurídico y predial | E6: 1 | F6: 5500000
A7: Profesional | B7: Profesional en Antropología o Sociología o Trabajo Social o Psicología o Politología | C7: 3 años de experiencia profesional y 1 año de experiencia relacionada con proyectos en instrumentos ambientales o gestión integral del recurso hídrico. | D7: Apoyar el componente social y económico. | E7: 1 | F7: 4500000
A8: Profesional | B8: Profesional en Sistemas de Información Geográfica | C8: 2 años de experiencia profesional y 6 meses de experiencia relacionada con proyectos en procesamiento de imágenes satelitales y procesamientos cartográficos. | D8: Desarrollar la cartografía base, procesamiento de imágenes, consolidación de las Geodatabases, elaboración de Metadatos e informe consolidado. | E8: 1 | F8: 4500000
A9: Apoyo técnico | B9: Técnico en temas ambientales o recursos hídrico o ciencias de la tierra o afines. | C9: 1 año de experiencia general relacionado con proyectos ambientales. | D9: Apoyo técnico y logístico del proyecto en la fase de campo. | E9: 1 | F9: 3400000

Sheet Presupuesto equipo profesional
A1: Etapa | B1: Profesional | C1: COT 1 | D1: COT 2 | E1: COT 3 | F1: Honorarios (COP$/mes) | G1: Tiempo (mes) | R1: Valor total (COP$) | S1: Valor total (COP$)
C2: CIVINGTEC | D2: MAV INGENIERIA INTEGRAL | E2: FABIO RAMÍREZ SUÁREZ | G2: 1 | H2: 2 | I2: 3 | J2: 4 | K2: 5 | L2: 6 | M2: 7 | N2: 8 | O2: 9 | P2: 10 | Q2: Total
A3: 1. Aprestamiento | B3: Director | C3: 9600000 | D3: 11200000 | E3: 10400000 | F3: 10400000 | G3: 1 | Q3: =SUM(G3:P3) -> 1 | R3: =+Q3*F3 -> 10400000 | S3: =+ROUND(R3,0) -> 10400000
B4: Profesional especializado (C. Hidrológico) | C4: 6500000 | D4: 7300000 | E4: 7000000 | F4: 6933333 | G4: 0.5 | Q4: =SUM(G4:P4) -> 0.5 | R4: =+Q4*F4 -> 3466666.5 | S4: =+ROUND(R4,0) -> 3466667
B5: Profesional especializado (C. Ecosistémico) | C5: 6500000 | D5: 7300000 | E5: 7000000 | F5: 6933333 | G5: 0.5 | Q5: =SUM(G5:P5) -> 0.5 | R5: =+Q5*F5 -> 3466666.5 | S5: =+ROUND(R5,0) -> 3466667
B6: Profesional especializado (C. Geomorfológico) | C6: 6500000 | D6: 7300000 | E6: 7000000 | F6: 6933333 | G6: 0.5 | Q6: =SUM(G6:P6) -> 0.5 | R6: =+Q6*F6 -> 3466666.5 | S6: =+ROUND(R6,0) -> 3466667
B7: Profesional jurídico | C7: 5150000 | D7: 6000000 | E7: 5800000 | F7: 5650000 | G7: 0 | Q7: =SUM(G7:P7) -> 0 | R7: =+Q7*G7 -> 0 | S7: =+ROUND(R7,0) -> 0
B8: Profesional (Social) | C8: 4400000 | D8: 5000000 | E8: 4700000 | F8: 4700000 | G8: 0 | Q8: =SUM(G8:P8) -> 0 | R8: =+Q8*F8 -> 0 | S8: =+ROUND(R8,0) -> 0
B9: Profesional (SIG) | C9: 4400000 | D9: 5000000 | E9: 4700000 | F9: 4700000 | G9: 0.5 | Q9: =SUM(G9:P9) -> 0.5 | R9: =+Q9*F9 -> 2350000 | S9: =+ROUND(R9,0) -> 2350000
B10: Apoyo técnico | C10: 3501810 | D10: 3520000 | E10: 3600000 | F10: 3540603 | G10: 0 | Q10: =SUM(G10:P10) -> 0 | R10: =+Q10*F10 -> 0 | S10: =+ROUND(R10,0) -> 0
A11: Subtotal Etapa 1. Aprestamiento | R11: =SUM(R3:R10) -> 23150000 | S11: =SUM(S3:S10) -> 23150001
A12: 2. Delimitación del cauce permanente | B12: Director | C12: 9600000 | D12: 11200000 | E12: 10400000 | F12: 10400000 | H12: 1 | Q12: =SUM(G12:P12) -> 1 | R12: =+Q12*F12 -> 10400000 | S12: =+ROUND(R12,0) -> 10400000
B13: Profesional especializado (C. Hidrológico) | C13: 6500000 | D13: 7300000 | E13: 7000000 | F13: 6933333 | H13: 0.5 | Q13: =SUM(G13:P13) -> 0.5 | R13: =+Q13*F13 -> 3466666.5 | S13: =+ROUND(R13,0) -> 3466667
B14: Profesional especializado (C. Ecosistémico) | C14: 6500000 | D14: 7300000 | E14: 7000000 | F14: 6933333 | H14: 0 | Q14: =SUM(G14:P14) -> 0 | R14: =+Q14*F14 -> 0 | S14: =+ROUND(R14,0) -> 0
B15: Profesional especializado (C. Geomorfológico) | C15: 6500000 | D15: 7300000 | E15: 7000000 | F15: 6933333 | H15: 0.5 | Q15: =SUM(G15:P15) -> 0.5 | R15: =+Q15*F15 -> 3466666.5 | S15: =+ROUND(R15,0) -> 3466667
B16: Profesional jurídico | C16: 5150000 | D16: 6000000 | E16: 5800000 | F16: 5650000 | H16: 0 | Q16: =SUM(G16:P16) -> 0 | R16: =+Q16*F16 -> 0 | S16: =+ROUND(R16,0) -> 0
B17: Profesional (Social) | C17: 4400000 | D17: 5000000 | E17: 4700000 | F17: 4700000 | H17: 0 | Q17: =SUM(G17:P17) -> 0 | R17: =+Q17*F17 -> 0 | S17: =+ROUND(R17,0) -> 0
B18: Profesional (SIG) | C18: 4400000 | D18: 5000000 | E18: 4700000 | F18: 4700000 | H18: 0.5 | Q18: =SUM(G18:P18) -> 0.5 | R18: =+Q18*F18 -> 2350000 | S18: =+ROUND(R18,0) -> 2350000
B19: Apoyo técnico | C19: 3501810 | D19: 3520000 | E19: 3600000 | F19: 3540603 | H19: 0.5 | Q19: =SUM(G19:P19) -> 0.5 | R19: =+Q19*F19 -> 1770301.5 | S19: =+ROUND(R19,0) -> 1770302
A20: Subtotal Etapa 2. Delimitación del Cauce Permanente | R20: =SUM(R12:R19) -> 21453634 | S20: =SUM(S12:S19) -> 21453636
A21: 3. Definición del límite físico | B21: Director | C21: 9600000 | D21: 11200000 | E21: 10400000 | F21: 10400000 | I21: 1 | J21: 1 | K21: 1 | L21: 1 | M21: 0.5 | Q21: 4.5 | R21: =+Q21*F21 -> 46800000 | S21: =+ROUND(R21,0) -> 46800000
B22: Profesional especializado (C. Hidrológico) | C22: 6500000 | D22: 7300000 | E22: 7000000 | F22: 6933333 | I22: 1 | J22: 1 | K22: 1 | L22: 1 | M22: 0.5 | Q22: 4.5 | R22: =+Q22*F22 -> 31199998 | S22: =+ROUND(R22,0) -> 31199999
B23: Profesional especializado (C. Ecosistémico) | C23: 6500000 | D23: 7300000 | E23: 7000000 | F23: 6933333 | I23: 1 | J23: 1 | K23: 1 | L23: 1 | M23: 0.5 | Q23: 4.5 | R23: =+Q23*F23 -> 31199998 | S23: =+ROUND(R23,0) -> 31199999
B24: Profesional especializado (C. Geomorfológico) | C24: 6500000 | D24: 7300000 | E24: 7000000 | F24: 6933333 | I24: 1 | J24: 1 | K24: 1 | L24: 1 | M24: 0.5 | Q24: 4.5 | R24: =+Q24*F24 -> 31199998 | S24: =+ROUND(R24,0) -> 31199999
B25: Profesional jurídico | C25: 5150000 | D25: 6000000 | E25: 5800000 | F25: 5650000 | Q25: 0 | R25: =+Q25*F25 -> 0 | S25: =+ROUND(R25,0) -> 0
B26: Profesional (Social) | C26: 4400000 | D26: 5000000 | E26: 4700000 | F26: 4700000 | L26: 1 | M26: 0.5 | Q26: 1.5 | R26: =+Q26*F26 -> 7050000 | S26: =+ROUND(R26,0) -> 7050000
B27: Profesional (SIG) | C27: 4400000 | D27: 5000000 | E27: 4700000 | F27: 4700000 | I27: 1 | J27: 1 | K27: 1 | L27: 1 | M27: 0.5 | Q27: 4.5 | R27: =+Q27*F27 -> 21150000 | S27: =+ROUND(R27,0) -> 21150000
B28: Apoyo técnico | C28: 3501810 | D28: 3520000 | E28: 3600000 | F28: 3540603 | I28: 1 | J28: 1 | K28: 1 | L28: 1 | M28: 0.5 | Q28: 4.5 | R28: =+Q28*F28 -> 15932714 | S28: =+ROUND(R28,0) -> 15932714
A29: Subtotal Etapa 3. Definición del límite físico | R29: =SUM(R21:R28) -> 184532709 | S29: =SUM(S21:S28) -> 184532711
A30: 4. Definición de las medidas de manejo | B30: Director | C30: 9600000 | D30: 11200000 | E30: 10400000 | F30: 10400000 | M30: 0.5 | N30: 1 | O30: 1 | P30: 1 | Q30: 3.5 | R30: =+Q30*F30 -> 36400000 | S30: =+ROUND(R30,0) -> 36400000
B31: Profesional especializado (C. Hidrológico) | C31: 6500000 | D31: 7300000 | E31: 7000000 | F31: 6933333 | M31: 0.5 | N31: 0.5 | O31: 0.5 | P31: 0.5 | Q31: 2 | R31: =+Q31*F31 -> 13866666 | S31: =+ROUND(R31,0) -> 13866666
B32: Profesional especializado (C. Ecosistémico) | C32: 6500000 | D32: 7300000 | E32: 7000000 | F32: 6933333 | M32: 0.5 | N32: 0.5 | O32: 0.5 | P32: 0.5 | Q32: 2 | R32: =+Q32*F32 -> 13866666 | S32: =+ROUND(R32,0) -> 13866666
B33: Profesional especializado (C. Geomorfológico) | C33: 6500000 | D33: 7300000 | E33: 7000000 | F33: 6933333 | M33: 0.5 | N33: 0.5 | O33: 0.5 | P33: 0.5 | Q33: 2 | R33: =+Q33*F33 -> 13866666 | S33: =+ROUND(R33,0) -> 13866666
B34: Profesional jurídico | C34: 5150000 | D34: 6000000 | E34: 5800000 | F34: 5650000 | M34: 1 | N34: 1 | O34: 1 | P34: 1 | Q34: 4 | R34: =+Q34*F34 -> 22600000 | S34: =+ROUND(R34,0) -> 22600000
B35: Profesional (Social) | C35: 4400000 | D35: 5000000 | E35: 4700000 | F35: 4700000 | M35: 0.5 | N35: 1 | O35: 1 | P35: 1 | Q35: 3.5 | R35: =+Q35*F35 -> 16450000 | S35: =+ROUND(R35,0) -> 16450000
B36: Profesional (SIG) | C36: 4400000 | D36: 5000000 | E36: 4700000 | F36: 4700000 | M36: 0.5 | N36: 0.5 | O36: 0.5 | P36: 0.5 | Q36: 2 | R36: =+Q36*F36 -> 9400000 | S36: =+ROUND(R36,0) -> 9400000
B37: Apoyo técnico | C37: 3501810 | D37: 3520000 | E37: 3600000 | F37: 3540603 | Q37: 0 | R37: =+Q37*F37 -> 0 | S37: =+ROUND(R37,0) -> 0
A38: Subtotal Etapa 4. Definición de las medidas de manejo | R38: =SUM(R30:R37) -> 126449998 | S38: =SUM(S30:S37) -> 126449998
A39: Total equipo profesional | R39: =+R11+R20+R29+R38 -> 355586341 | S39: =+S11+S20+S29+S38 -> 355586346

Sheet Otros gastos directos
A1: Etapa | B1: Concepto | C1: Descripción | D1: Unidad | E1: CIVINGTEC | F1: MAV INGENIERIA INTEGRAL | G1: FABIO RAMÍREZ SUÁREZ | H1: Valor | I1: Cantidad | J1: Valor Total
A2: 1. Aprestamiento | B2: Socialización | J2: =+H2*I2 -> 0
B3: Servicios técnicos | C3: Ortofotomosaico | D3: Unidad | E3: 14000000 | F3: 15000000 | G3: 13500000 | H3: 14166667 | I3: 1 | J3: =+H3*I3 -> 14166667
C4: Levantamiento topográfico y/o LiDAR | D4: Unidad | E4: 158000000 | F4: 168000000 | G4: 164000000 | H4: 163333333 | I4: 1 | J4: =+H4*I4 -> 163333333
C5: Aforos | D5: Unidad | E5: 1140000 | F5: 1200000 | G5: 1176000 | H5: 1172000 | I5: 12 | J5: =+H5*I5 -> 14064000
B6: Materiales y equipos | J6: =+H6*I6 -> 0
B7: Transporte | J7: =+H7*I7 -> 0
A8: Subtotal Etapa 1. Aprestamiento | J8: =SUM(J2:J7) -> 191564000
A9: 2. Delimitación del cauce permanente | B9: Socialización | J9: =+H9*I9 -> 0
B10: Servicios técnicos | J10: =+H10*I10 -> 0
B11: Materiales y equipos | J11: =+H11*I11 -> 0
B12: Transporte | J12: =+H12*I12 -> 0
A13: Subtotal Etapa 2. Delimitación del Cauce Permanente | J13: =SUM(J9:J12) -> 0
A14: 3. Definición del límite físico | B14: Socialización | J14: =+H14*I14 -> 0
B15: Servicios técnicos | C15: Parcelas | D15: Unidad | E15: 8075000 | F15: 8500000 | G15: 7820000 | H15: 8131667 | I15: 6 | J15: =+H15*I15 -> 48790002
B16: Materiales y equipos | J16: =+H16*I16 -> 0
B17: Transporte | D17: Unidad | E17: 475000 | F17: 500000 | G17: 425000 | H17: 466667 | I17: 20 | J17: =+H17*I17 -> 9333340
A18: Subtotal Etapa 3. Definición del límite físico | J18: =SUM(J14:J17) -> 58123342
A19: 4. Definición de las medidas de manejo | B19: Socialización | C19: Logística para socialización con actores | D19: Unidad | E19: 2125000 | F19: 2500000 | G19: 2375000 | H19: 2333333 | I19: 3 | J19: =+H19*I19 -> 6999999
B20: Servicios técnicos | J20: =+H20*I20 -> 0
B21: Materiales y equipos | C21: Impresión de documentación y mapas (Afiches, cartillas, Etc) | D21: Global | E21: 1020000 | F21: 1200000 | G21: 1140000 | H21: 1120000 | I21: 1 | J21: =+H21*I21 -> 1120000
B22: Transporte | J22: =+H22*I22 -> 0
A23: Subtotal Etapa 4. Definición de las medidas de manejo | J23: =SUM(J19:J22) -> 8119999
A24: Total gastos directos | J24: =+J8+J13+J18+J23 -> 257807341

Sheet Costo total proyecto
A1: Etapa | B1: Categoría | C1: Valor | D1: %
A2: 1. Aprestamiento | B2: Equipo profesional | C2: =+'Presupuesto equipo profesional'!S11 -> 23150001 | D2: =+C2/$C$14 -> 0.037740853
B3: Otros gastos directos | C3: =+'Otros gastos directos'!J8 -> 191564000 | D3: =+C3/$C$14 -> 0.31230188
A4: Subtotal Etapa 1. Aprestamiento | C4: =SUM(C2:C3) -> 214714001 | D4: =+C4/$C$14 -> 0.35004273
A5: 2. Delimitación del cauce permanente | B5: Equipo profesional | C5: =+'Presupuesto equipo profesional'!S20 -> 21453636 | D5: =+C5/$C$14 -> 0.034975313
B6: Otros gastos directos | C6: =+'Otros gastos directos'!J13 -> 0 | D6: =+C6/$C$14 -> 0
A7: Subtotal Etapa 2. Delimitación del Cauce Permanente | C7: =SUM(C5:C6) -> 21453636 | D7: =+C7/$C$14 -> 0.034975313
A8: 3. Definición del límite físico | B8: Equipo profesional | C8: =+'Presupuesto equipo profesional'!S29 -> 184532711 | D8: =+C8/$C$14 -> 0.30083895
B9: Otros gastos directos | C9: =+'Otros gastos directos'!J18 -> 58123342 | D9: =+C9/$C$14 -> 0.094756994
A10: Subtotal Etapa 3. Definición del límite físico | C10: =SUM(C8:C9) -> 242656053 | D10: =+C10/$C$14 -> 0.39559594
A11: 4. Definición de las medidas de manejo | B11: Equipo profesional | C11: =+'Presupuesto equipo profesional'!S38 -> 126449998 | D11: =+C11/$C$14 -> 0.20614819
B12: Otros gastos directos | C12: =+'Otros gastos directos'!J23 -> 8119999 | D12: =+C12/$C$14 -> 0.013237826
A13: Subtotal Etapa 4. Definición de las medidas de manejo | C13: =SUM(C11:C12) -> 134569997 | D13: =+C13/$C$14 -> 0.21938602
A14: Total costos estudio acotamiento | C14: =+C4+C7+C10+C13 -> 613393687 | D14: =+D4+D7+D10+D13 -> 1
D15: -
A16: IVA - ADMINISTRACION | C16: =+(C14+C15)*0.19 -> 1.165448e+08 | D16: -
A17: Total costos estudio acotamiento | C17: =+C14+C15+C16 -> 7.2993849e+08

Sheet Hoja 4
A1: Etapa | B1: Descripción | C1: CIVINGTEC | D1: MAV INGENIERIA INTEGRAL | E1: FABIO RAMÍREZ SUÁREZ | F1: Valor | G1: Cantidad | H1: Valor Total
A2: 1. Aprestamiento | H2: =+F2*G2 -> 0
B3: Ortofotomosaico | C3: 14000000 | D3: 15000000 | E3: 13500000 | F3: 14166667 | G3: 1 | H3: =+F3*G3 -> 14166667
B4: Levantamiento topográfico y/o LiDAR | C4: 158000000 | D4: 168000000 | E4: 164000000 | F4: 163333333 | G4: 1 | H4: =+F4*G4 -> 163333333
B5: Aforos | C5: 1140000 | D5: 1200000 | E5: 1176000 | F5: 1172000 | G5: 12 | H5: =+F5*G5 -> 14064000
H6: =+F6*G6 -> 0
H7: =+F7*G7 -> 0
A8: Subtotal Etapa 1. Aprestamiento | H8: =SUM(H2:H7) -> 191564000
A9: 2. Delimitación del cauce permanente | H9: =+F9*G9 -> 0
H10: =+F10*G10 -> 0
H11: =+F11*G11 -> 0
H12: =+F12*G12 -> 0
A13: Subtotal Etapa 2. Delimitación del Cauce Permanente | H13: =SUM(H9:H12) -> 0
A14: 3. Definición del límite físico | H14: =+F14*G14 -> 0
B15: Parcelas | C15: 8075000 | D15: 8500000 | E15: 7820000 | F15: 8131667 | G15: 6 | H15: =+F15*G15 -> 48790002
H16: =+F16*G16 -> 0
C17: 475000 | D17: 500000 | E17: 425000 | F17: 466667 | G17: 20 | H17: =+F17*G17 -> 9333340
A18: Subtotal Etapa 3. Definición del límite físico | H18: =SUM(H14:H17) -> 58123342
A19: 4. Definición de las medidas de manejo | B19: Logística para socialización con actores | C19: 2125000 | D19: 2500000 | E19: 2375000 | F19: 2333333 | G19: 3 | H19: =+F19*G19 -> 6999999
H20: =+F20*G20 -> 0
B21: Impresión de documentación y mapas (Afiches, cartillas, Etc) | C21: 1020000 | D21: 1200000 | E21: 1140000 | F21: 1120000 | G21: 1 | H21: =+F21*G21 -> 1120000
H22: =+F22*G22 -> 0
A23: Subtotal Etapa 4. Definición de las medidas de manejo | H23: =SUM(H19:H22) -> 8119999
A24: Total gastos directos | H24: =+H8+H13+H18+H23 -> 257807341

Sheet COSTOS POR PRODUCTOS
A1: Etapa | B1: No. | C1: Actividad | D1: PERSONAL | E1: GASTOS DIRECTOS | F1: TRANSPORTE | G1: ADMINTRACION | H1: VALOR
A3: 1. Aprestamiento | B3: 1.1 | C3: Recopilación de información secundaria | D3: ='Presupuesto equipo profesional'!R11 -> 23150000 | E3: 0 | H3: =E3+D3+F3+G3 -> 23150000
B4: 1.2 | C4: Ortofotomosaico | D4: 0 | E4: ='Otros gastos directos'!J3 -> 14166667 | H4: =E4+D4+F4+G4 -> 14166667
B5: 1.3 | C5: Modelo de Elevación Digital MED | D5: 0 | E5: ='Otros gastos directos'!J4 -> 163333333 | H5: =E5+D5+F5+G5 -> 163333333
B6: 1.4 | C6: Secciones de control y aforos | D6: 0 | E6: ='Otros gastos directos'!J5 -> 14064000 | H6: =E6+D6+F6+G6 -> 14064000
A7: 2. Delimitación del cauce permanente | B7: 2.1 | C7: Delimitar el cauce permanente | D7: ='Presupuesto equipo profesional'!R20 -> 21453634 | E7: ='Otros gastos directos'!J13 -> 0 | H7: =E7+D7+F7+G7 -> 21453634
A8: 3. Definición del límite físico | B8: 3.1 | C8: Componente hidrológico | D8: ='Presupuesto equipo profesional'!$R$29/4 -> 46133177 | F8: ='Otros gastos directos'!$J$17/4 -> 2333335 | H8: =E8+D8+F8+G8 -> 48466512
B9: 3.2 | C9: Componente ecosistémico | D9: ='Presupuesto equipo profesional'!$R$29/4 -> 46133177 | E9: ='Otros gastos directos'!J15 -> 48790002 | F9: ='Otros gastos directos'!$J$17/4 -> 2333335 | H9: =E9+D9+F9+G9 -> 97256514
B10: 3.3 | C10: Componente geomorfológico | D10: ='Presupuesto equipo profesional'!$R$29/4 -> 46133177 | F10: ='Otros gastos directos'!$J$17/4 -> 2333335 | H10: =E10+D10+F10+G10 -> 48466512
B11: 3.4 | C11: Delimitación de la ronda hídrica | D11: ='Presupuesto equipo profesional'!$R$29/4 -> 46133177 | F11: ='Otros gastos directos'!$J$17/4 -> 2333335 | H11: =E11+D11+F11+G11 -> 48466512
A12: 4. Definición de las medidas de manejo | B12: 4.1 | C12: Identificación de los elementos constituyentes | D12: ='Presupuesto equipo profesional'!$R$38/6 -> 21075000 | H12: =E12+D12+F12+G12 -> 21075000
B13: 4.2 | C13: Identificación de actores | D13: ='Presupuesto equipo profesional'!$R$38/6 -> 21075000 | E13: ='Otros gastos directos'!J19+'Otros gastos directos'!J21 -> 8119999 | H13: =E13+D13+F13+G13 -> 29194999
B14: 4.3 | C14: Caracterización predial | D14: ='Presupuesto equipo profesional'!$R$38/6 -> 21075000 | H14: =E14+D14+F14+G14 -> 21075000
B15: 4.4 | C15: Identificación de servicios ecosistémicos | D15: ='Presupuesto equipo profesional'!$R$38/6 -> 21075000 | H15: =E15+D15+F15+G15 -> 21075000
B16: 4.5 | C16: Definición de estrategias para el manejo ambiental | D16: ='Presupuesto equipo profesional'!$R$38/6 -> 21075000 | H16: =E16+D16+F16+G16 -> 21075000
B17: 4.6 | C17: Proyección acto administrativo de adopción | D17: ='Presupuesto equipo profesional'!$R$38/6 -> 21075000 | H17: =E17+D17+F17+G17 -> 21075000
G18: subtotal | H18: =SUM(H3:H17) -> 613393682
G19: IVA | H19: =H18*0.19 -> 1.165448e+08
G20: TOTAL | H20: =H19+H18 -> 7.2993848e+08
