Workbook
Name UNIDAD_EMPAQUE: [1]Listas!$AC$1:$AC$21

Sheet FINANCIERA
B1: EVALUACION FINANCIERA
B2: CENTRO NACIONAL COLOMBO ALEMÁN
B3: SUBASTA INVERSA No. SASI-ATL-CNCA-0018-2026
B4: VERIFICACIÓN DE LOS REQUISITOS MÍNIMOS HABILITANTES
B5: OBJETO: 8_9207_460 CONTRATAR EL SUMINISTRO DE ELEMENTOS DE PROTECCIÓN PERSONAL (EPP) PARA APRENDICES DE LOS PROGRAMAS REGULAR, FIC Y DE LOS PROGRAMAS CON APOYO DE SOSTENIMIENTOS DEL CENTRO NACIONAL COLOMBO ALEMAN 2026.
B6: DATOS FINANCIEROS RUP | C6: PROPONENTE
C7: DESARROLLO EMPRESARIAL PROFESIONAL S.A.S. SIGLA DEPSAS Sigla: DEPSAS
B8: NIT: | C8: 901.180.307 - 5
B9: Cámara de Comercio | C9: Barranquilla
B10: Folios RUP
B11: Fecha RUP | C11: 46136
B12: Fecha inscripción y/o actualización RUP | C12: 46121
B13: Fecha corte info financ RUP | C13: 46022
B14: Codigo de verificacion | C14: QT6CC3E8FF
B15: Activo corriente | C15: 1934229487
B16: Activo total | C16: 2850135797
B17: Pasivo corriente | C17: 102807205
B18: Pasivo total | C18: 144910455
B19: Patrimonio | C19: 2705225342
B20: Utilidad / Pérdida operacional | C20: 1355444219
B21: Gastos de Intereses | C21: 1801206
B22: INDICADORES DEL PROPONENTE
B23: FINANCIEROS
B24: Índice de liquidez | C24: =ROUNDDOWN(C15/C17,2) -> 18.81
B25: Índice de endeudamiento | C25: =ROUNDDOWN(C18/C16,2) -> 0.05
B26: Razón de cobertura de intereses | C26: =IF(C21=0,"INDETERMINADO",ROUNDDOWN(C20/C21,2)) -> 752.52
B27: CAPACIDAD ORGANIZACIONAL
B28: Rentabilidad sobre patrimonio | C28: =ROUNDDOWN(C20/C19,2) -> 0.5
B29: Rentabilidad sobre activos | C29: =ROUNDDOWN(C20/C16,2) -> 0.47
B31: EVALUACIÓN FINANCIERA DEFINITIVA
B32: PROPONENTES | C32: CONDICIONES FINANCIERAS
C33: =C7 -> DESARROLLO EMPRESARIAL PROFESIONAL S.A.S. SIGLA DEPSAS Sigla: DEPSAS
B34: INDICADORES EXIGIDOS | C34: INDICADOR
B35: Liquidez (igual o mayor a 3) | C35: =C24 -> 18.81
B36: Endeudamiento (igual o menor 0,51) | C36: =C25 -> 0.05
B37: Razón de cobertura de intereses (mayor o igual a 11) | C37: =C26 -> 752.52
B38: Rentabilidad sobre patrimonio (igual o mayor 0,44) | C38: =C28 -> 0.5
B39: Rentabilidad sobre activos (igual o mayor 0,27) | C39: =C29 -> 0.47
B40: RESULTADO FINAL | C40: HABILITA
B42: Barranquilla, 20 de mayo de 2026
...

Sheet TECNICO-ECONOMICA
A1: EVALUACION ECONOMICA Y TECNICA
A2: CENTRO NACIONAL COLOMBO ALEMAN
A3: =#REF! -> #REF!
A4: =#REF! -> #REF!
A5: =#REF! -> #REF!
F6: =#REF! -> #REF! | L6: =#REF! -> #REF!
A10: Barranquilla, 4 de septiembre de 2020
C13: HEINER CABARCAS BONILLA Concepto Técnico | F13: MABIS ISABEL GONZALEZ BARRIOS Concepto Economico

Sheet EXPERIENCIA ACREDITADA
A1: EVALUACION EXPERIENCIA
A2: =FINANCIERA!B2 -> CENTRO NACIONAL COLOMBO ALEMÁN
A3: =FINANCIERA!B3 -> SUBASTA INVERSA No. SASI-ATL-CNCA-0018-2026
A4: =FINANCIERA!B4 -> VERIFICACIÓN DE LOS REQUISITOS MÍNIMOS HABILITANTES
A5: =FINANCIERA!B5 -> OBJETO: 8_9207_460 CONTRATAR EL SUMINISTRO DE ELEMENTOS DE PROTECCIÓN PERSONAL (EPP) PARA APRENDICES DE LOS PROGRAMAS REGULAR, FIC Y DE LOS PROGRAMAS CON APOYO DE SOSTENIMIENTOS DEL CENTRO NACIONAL COLOMBO ALEMAN 2026.
A6: PROPONENTES | B6: FOLIO R.U.P | C6: CODIGOS | D6: RESULTADO
D7: HABILITA/NO HABILITA
A8: =FINANCIERA!C7 -> DESARROLLO EMPRESARIAL PROFESIONAL S.A.S. SIGLA DEPSAS Sigla: DEPSAS | B8: 42,46 ,63,65,67 | C8: ELEMENTO DE PROTECCION 46181600,46181700, 46181500,46182000,46181900,46181800,53111500,31421500, 41111700, 23153000 | D8: HABILITA
A9: =FINANCIERA!B42 -> Barranquilla, 20 de mayo de 2026
A14: =FINANCIERA!B46 -> Mabis Isabel Gonzalez Barrios
A15: Evaluador Economico /Financiero

Sheet CONDICIONES AMBIENTALES
A1: EVALUACION REQUISITOS AMBIENTALES Y SST
A2: =[2]FINANCIERA!B2 -> CENTRO NACIONAL COLOMBO ALEMÁN
A3: =FINANCIERA!B3 -> SUBASTA INVERSA No. SASI-ATL-CNCA-0018-2026
A4: =FINANCIERA!B5 -> OBJETO: 8_9207_460 CONTRATAR EL SUMINISTRO DE ELEMENTOS DE PROTECCIÓN PERSONAL (EPP) PARA APRENDICES DE LOS PROGRAMAS REGULAR, FIC Y DE LOS PROGRAMAS CON APOYO DE SOSTENIMIENTOS DEL CENTRO NACIONAL COLOMBO ALEMAN 2026.
A5: =[2]FINANCIERA!B4 -> VERIFICACIÓN DE LOS REQUISITOS MÍNIMOS HABILITANTES
A6: Condiciones Mínimas Requeridas En La Etapa Pre-Contractual: | C6: =FINANCIERA!C7 -> DESARROLLO EMPRESARIAL PROFESIONAL S.A.S. SIGLA DEPSAS Sigla: DEPSAS
A7: ITEM | B7: DESCRIPCION DE LAS CONDICIONES DE PRESENTACION DE LA PROPUESTA | C7: CUMPLE/ NO CUMPLE | D7: HALLAZGO
A8: 1 | B8: Opción 1: Certificado de implementación del SG-SST firmada por el Representante Legal y Responsable del SG-SST 4. Fotocopia de cédula, Certificado Vigente Curso de SG-SST de 50 Horas o su actualización y/o Curso de 20 Horas y licencia de seguridad y salud en el trabajo del profesional del Responsable del SG-SST. Certificación de autoevaluación de estándares mínimos emitido por ARL. | C8: CUMPLE | D8: NO APLICA
A9: 2 | B9: Opción 2: 1. Certificado de implementación del SG-SST firmada por el Representante Legal y Responsable del SG-SST 2. Fotocopia de cédula, Certificado Vigente Curso de SG-SST de 50 Horas o su actualización y/o Curso de 20 Horas y licencia de seguridad y salud en el trabajo del profesional del Responsable del SG-SST. 3. Certificación de autoevaluación emitida por Ministerio de Trabajo del año inmediatamente anterior - Dec. 1072/2015(2.2.4.6.1) y Res 0312-2019. ****Nota: Para las opciones 1 y 2 incluir el respectivo plan de mejora de acuerdo con la autoevaluación de estándares mínimos aplicables; si el puntaje obtenido es menor al 100% labores | C9: CUMPLE | D9: NO APLICA
A10: CUMPLIMIENTO DE LOS REQUISITOS | C10: CUMPLE | D10: NO CUMPLE
A12: =FINANCIERA!B42 -> Barranquilla, 20 de mayo de 2026
B16: LAURA CAROLINA CUETO OSORIO
B17: Evaluador ambiental

Sheet CONDICIONES TÉCNICAS
A1: EVALUACION REQUISITOS TÉCNICOS
A3: =FINANCIERA!B3 -> SUBASTA INVERSA No. SASI-ATL-CNCA-0018-2026
A5: =FINANCIERA!B5 -> OBJETO: 8_9207_460 CONTRATAR EL SUMINISTRO DE ELEMENTOS DE PROTECCIÓN PERSONAL (EPP) PARA APRENDICES DE LOS PROGRAMAS REGULAR, FIC Y DE LOS PROGRAMAS CON APOYO DE SOSTENIMIENTOS DEL CENTRO NACIONAL COLOMBO ALEMAN 2026.
A6: Condiciones Mínimas Requeridas En La Etapa Pre-Contractual: | C6: =FINANCIERA!C7 -> DESARROLLO EMPRESARIAL PROFESIONAL S.A.S. SIGLA DEPSAS Sigla: DEPSAS
A7: ITEM | B7: DESCRIPCION DE LAS CONDICIONES DE PRESENTACION DE LA PROPUESTA | C7: CUMPLE/ NO CUMPLE | D7: HALLAZGO
A8: 1 | B8: FICHAS TÉCNICAS Para el desarrollo del proyecto, el oferente deberá presentar junto con su oferta las fichas técnicas con las especificaciones de cada uno de los ELEMENTOS ofertados para precisar y soportar las características técnicas de los mismos (en español). | C8: CUMPLE | D8: N/A
A9: 2 | B9: El proponente deberá cumplir con las especificaciones técnicas definidas en el Anexo de especificaciones técnicas del proceso. Para ello, deberá presentar una carta de compromiso en la que manifieste expresamente que, en caso de resultar adjudicatario, los bienes a entregar serán nuevos, de óptima calidad y conformes con las especificaciones técnicas exigidas. Asimismo, en dicho documento deberá comprometerse a reemplazar, a su cargo y sin excepción, cualquier bien que presente defectos, deficiencias de calidad o que no cumpla con las especificaciones requeridas, en un plazo no superior a cinco (5) días hábiles contados a partir del requerimiento por parte de la entidad. Esta reposición no implicará modificación alguna en los plazos establecidos para la entrega total de los bienes | C9: CUMPLE | D9: N/A
A10: 3 | B10: CERTIFICADO DE GARANTÍA DE LOS BIENES. De conformidad con lo establecido en la Ley 1480 de 2011 y demás normas concordantes y complementarias, el oferente junto con su propuesta en documento independiente, deberá certificar y garantizar que, en el evento de resultar adjudicatario, ofrecerá una garantía de los bienes entregados, contra cualquier anomalía, defecto, caducidad y posibles daños ocasionados, conforme las especificaciones y características técnicas exigidas por la Entidad, por un lapso mínimo de (6) meses, contado a partir de la expedición del acta de recibo a satisfacción de estos, por parte del Supervisor del contrato | C10: CUMPLE | D10: N/A
A11: 4 | B11: VEHICULO O TRANSPORTE: Con el fin de garantizar la adecuada ejecución del contrato, en especial el transporte, entrega de los bienes en las diferentes sedes del SERVICIO NACIONAL DE APRENDIZAJE – SENA o en el punto que indique el supervisor del contrato, el proponente deberá acreditar que cuenta con los medios logísticos y de transporte necesarios para el cumplimiento del objeto contractual. Para tal efecto, el proponente deberá demostrar la disponibilidad de al menos un (1) vehículo automotor, propio o bajo cualquier modalidad contractual (contrato o convenio), que permita el transporte adecuado de los bienes objeto del contrato, garantizando condiciones de capacidad de carga mínima de 800 kilos Para acreditar lo anterior, el proponente deberá presentar los siguientes documentos: A. Tarjeta de propiedad del vehículo. Si el vehículo no es propio, deberá allegarse junto con la tarjeta de propiedad del vehículo, el contrato o convenio del vehículo suscrito por el propietario y el proponente o alguno de los miembros de la unión temporal o consorcio si es del caso, cuya vigencia debe ser por lo menos igual al plazo del contrato. B. Copia del SOAT vigente. C. Copia del certificado | C11: CUMPLE | D11: N/A
A12: 5 | B12: EQUIPO MINIMO REQUERIDO: Con el fin de garantizar la adecuada ejecución del contrato, en especial las actividades de entrega, el proponente deberá acreditar que cuenta con el siguiente personal mínimo: Un (1) TÉCNICO PROFESIONAL EN OPERACIONES DE COMERCIO EXTERIOR con 7 años de experiencia contados a partir del día de obtención del título. Deberá Aportar: • Hoja de vida • Diploma títulos académicos • Certificados de Experiencia Laboral. | C12: CUMPLE | D12: N/A
A13: 6 | B13: UN (1) INGENIERO INDUSTRIAL con Mínimo cinco (5) años de experiencia a partir de expedición de la tarjeta profesional Deberá Aportar: • Hoja de vida • Diploma títulos académicos • Licencia en seguridad y salud en el trabajo. • Certificados de Experiencia Laboral. • Tarjeta profesional y certificado copnia vigente | C13: CUMPLE | D13: N/A
A14: 7 | B14: Formato de ofrecimiento Técnico. Los proponentes deberán presentar el formato ofrecimiento técnico completamente diligenciado, el cual deberá tener toda la información solicitada y el mismo no podrá ser modificado. Además, deberá coincidir con las fichas técnicas aportadas. El formato de ofrecimiento técnico diligenciado en el formato anexo establecido por la entidad, al igual que las fichas técnicas. | C14: CUMPLE | D14: N/A
A15: CUMPLIMIENTO DE LOS REQUISITOS | C15: CUMPLE
A17: =FINANCIERA!B42 -> Barranquilla, 20 de mayo de 2026
B21: Jose Antonio Sierra Salazar
B22: Evaluador Técnico

Sheet Ofrecimiento Tecnico
B9: FORMATO - OFRECIMIENTO TÉCNICO
B10: SUMUNISTRO DE ELEMENTO DE PROTECCION
B11: ITEM | C11: CÓDIGO UNSPSC | D11: DESCRIPCION | E11: DENOMINACION TECNICA DEL BIEN O SERVICIO | F11: UNIDAD | G11: CANTIDAD | H11: =FINANCIERA!C7 -> DESARROLLO EMPRESARIAL PROFESIONAL S.A.S. SIGLA DEPSAS Sigla: DEPSAS
H12: MARCA | I12: REFERENCIA | J12: CUMPLE / NO CUMPLE
B13: 1 | C13: 46181548 | D13: PETO EN CARNAZA | E13: Delantal fabricado en carnaza curtida de mínimo 1,4 mm de espesor de una sola pieza, tiras de ajuste reforzadas en el mismo material y de 2,5 cm de ancho, graduable en cuello, costuras reforzadas en hilo de algodón de alta tenacidad, resistente a la rotura, roce y humedad. El material debe tener la suficiente flexibilidad que permita la libertad de movimiento y no tenga dificultad al flexionar la cintura. Trabajos pesados y fuertes, soldadura y manejo de objetos calientes; y todo tipo de aplicaciones generales que requieran protección contra el calor, llamas o chispas, plantas ensambladoras, acerías, metalmecánica y fundiciones, carga y descarga, industria pesada, manipulación de piezas, y barras de acero, construcción, obras, mantenimiento, almacenamiento, medio ambiente, agricultura, obras en la carretera. Las prendas de carnaza deben confeccionarse por medio del proceso de curtiembre, de tal manera que todos sus elementos estén ensamblados en forma permanente y no presenten despegue o filtraciones en ninguna parte. Las piezas que constituyen una misma prenda deben ser en la medida de lo posible fabricadas con tela de características iguales y si es posible del mismo lote a menos que el trabajo específico requiera combinación de materiales. Alta resistencia al desgaste y a la abrasión, bajo peso y excelente resistencia a la flexión y al envejecimiento. | F13: UND | G13: 1 | H13: RAC | I13: N/A | J13: CUMPLE
B14: 2 | C14: 46182005 | D14: MASCARA RESPIRADOR MEDIA CARA DOBLE CARTUCHO | E14: En elastómero para ajuste y sellamiento en la cara, con arnés de sujeción a la cabeza regulable de fácil manipulación que permita minimizar el desgaste. se utiliza en conjunto con los cartuchos, que son compatibles (misma marca), con adaptador central de exhalación que ayuda a una respiración más cómoda, fresca y seca, direcciona la exhalación hacia abajo en el mismo sentido de la respiración mejorando y reduciendo la acumulación de polvo en el área de la válvula. Disponible en tres tamaños, pequeña (S), mediana (M) y grande (L) o de acuerdo con las tallas que oferte la marca. Sistema de acople de fácil y rápida colocación con los cartuchos y filtros compatibles. Pieza facial de media cara doble cartucho, ofrece la posibilidad de usar filtros y cartuchos remplazables para protección contra ciertos gases, vapores y material particulado como polvo, neblina y humos. Usos y Aplicaciones: Industria minera, cementera, farmacéutica, agroquímica, de madera, metalmecánica, petroquímica, química, alimenticia, laboratorios, industria textil entre otros. En combinación de prefiltros y cartuchos de carbón activado según el riesgo. NORMATIVIDAD: NIOSH | F14: UND | G14: 1 | H14: 3M | I14: N/A | J14: CUMPLE
B15: 3 | C15: 46182002 | D15: MASCARA FACIAL DE CARA COMPLETA | E15: En elastómero para ajuste y sellamiento en la cara, con arnés de sujeción a la cabeza regulable de fácil manipulación que permita minimizar el desgaste. se utiliza en conjunto con los cartuchos, que son compatibles (misma marca), con adaptador central de exhalación que ayuda a una respiración más cómoda, fresca y seca, direcciona la exhalación hacia abajo en el mismo sentido de la respiración mejorando y reduciendo la acumulación de polvo en el área de la válvula. Disponible en tres tamaños, pequeña (S), mediana (M) y grande (L) o de acuerdo con las tallas que oferte la marca. Sistema de acople de fácil y rápida colocación con los cartuchos y filtros compatibles. Visor en policarbonato rectificado para no distorsionar la visión. con amplio campo de visibilidad. Pieza facial cara completa con visor, de doble cartucho, ofrece la posibilidad de ser utilizada con filtros y cartuchos reemplazables para protección contra gases, vapores y material particulado como polvo, neblina y humos. Usos y Aplicaciones: Industria minera, cementera, farmacéutica, agroquímica, de madera, metalmecánica, petroquímica, química, alimenticia, laboratorios, industria textil entre otros. En combinación de prefiltros y cartuchos según el riesgo. NORMATIVIDAD: NIOSH | F15: UND | G15: 1 | H15: 3M | I15: N/A | J15: CUMPLE
B16: 4 | C16: 23151821 | D16: CARTUCHO PARA VAPORES ORGANICOS | E16: Cartuchos intercambiables con carbón activado, que ofrecen protección al sistema respiratorio de gases orgánicos, se puede utilizar en respiradores media cara y cara completa y deben corresponder a la misma serie (misma marca), diseño de bajo perfil que permite mayor visibilidad, fácil y rápido ensamble. Protege algunos vapores orgánicos como varios alcoholes (excepto metanol), viarias acetonas, varios solventes (excepto cloruro de metileno, tetrafluoretileno, propionaldehído entre otros). Industria: minera, cementera, farmacéutica, agroquímica, de madera, metalmecánica, petroquímica y química, alimenticia, transporte, aplicación de agroquímicos, agricultura, laboratorios, entre otros. En combinación de prefiltros según el riesgo. NORMATIVIDAD: Aprobado por NIOSH | F16: PAR | G16: 1 | H16: 3M | I16: N/A | J16: CUMPLE
B17: 5 | C17: 31421501 | D17: FILTRO PARA MATERIAL PARTICLADO DE ALTA EFICIENCIA P100 | E17: El filtro brinda protección respiratoria contra material particulado, presente en el ambiente (polvos, humos, nieblas y aerosoles) en o con presencia de aceites, se puede utilizar en respiradores media cara y cara completa y deben corresponder a la misma serie (misma marca), fácil y rápido ensamble, se puede utilizar combinado con los cartuchos químicos con adaptador. capa filtrante y sistema de retención de partículas que permite una eficiencia del 99,97%. Aprobado por NIOSH. Protege contra material particulado en presencia de aceites y elimina olores molestos de vapores orgánicos. Industria: minera, cementera, farmacéutica, agroquímica, de madera, metalmecánica, petroquímica y química, alimenticia, transporte, aplicación de agroquímicos, agricultura, laboratorios, entre otros. En combinación de prefiltros según el riesgo. Se requiere que contengan retenedores adicionales, para acoplar los pre filtros en los cartuchos químicos, compatibles en mascara | F17: PAR | G17: 1 | H17: 3M | I17: N/A | J17: CUMPLE
B18: 6 | C18: 23151821 | D18: CARTUCHO PARA VAPOR ORGANICO/GAS ACIDO | E18: Cartuchos intercambiables con carbón activado, que ofrecen protección al sistema respiratorio de multi-gases, se puede utilizar en respiradores media cara y cara completa y deben corresponder a la misma serie (misma marca), diseño de bajo perfil que permite mayor visibilidad, fácil y rápido ensamble. Aprobado por NIOSH. Protege contra cloro, cloruro de hidrógeno y dióxido de azufre o sulfuro de hidrógeno (solo para fugas) o fluoruro de hidrógeno. Industria: minera, cementera, farmacéutica, agroquímica, de madera, metalmecánica, petroquímica y química, alimenticia, transporte, aplicación de agroquímicos, agricultura, laboratorio, entre otros. En combinación de prefiltros según el riesgo. | F18: PAR | G18: 1 | H18: 3M | I18: N/A | J18: CUMPLE
B19: 7 | C19: 23151821 | D19: CARTUCHO PARA MULTI-GASES | E19: Cartuchos intercambiables con carbón activado, que ofrecen protección al sistema respiratorio de multi-gases, se puede utilizar en respiradores media cara y cara completa y deben corresponder a la misma serie (misma marca), diseño de bajo perfil que permite mayor visibilidad, fácil y rápido ensamble. Aprobado por NIOSH. Protege al sistema respiratorio para ser usado en presencia de diez tipos de contaminantes: ciertos vapores orgánicos, cloro, cloruro de hidrógeno, anhidridito sulfuroso, formaldehído o fluoruro de hidrógeno, dióxido de cloro, sulfuro de hidrógeno (solo escape), amoniaco, metilamina, dióxido de azufre. Industria: minera, cementera, farmacéutica, agroquímica, de madera, metalmecánica, petroquímica y química, alimenticia, transporte,aplicación de agroquímicos, agricultura, laboratorio, entre otros. En combinación de prefiltros según el riesgo | F19: PAR | G19: 1 | H19: 3M | I19: N/A | J19: CUMPLE
B20: 8 | C20: 23151821 | D20: CARTUCHO PARA FORMALDEHIDO Y VAPORES ORGANICOS | E20: Cartuchos intercambiables con carbón activado, que ofrecen protección al sistema respiratorio de formaldehídos y vapores orgánicos, se puede utilizar en respiradores media cara y cara completa y deben corresponder a la misma serie (misma marca), diseño de bajo perfil que permite mayor visibilidad, fácil y rápido ensamble. Aprobado por NIOSH. Protege al sistema respiratorio para ser usado en presencia de formaldehído y vapores orgánicos. Industria: minera, cementera, farmacéutica, agroquímica, de madera, metalmecánica, petroquímica y química, alimenticia, transporte, aplicación de agroquímicos, agricultura, laboratorio, entre otros. En combinación de prefiltros según el riesgo. | F20: UND | G20: 1 | H20: 3M | I20: N/A | J20: CUMPLE
B21: 9 | C21: 23151821 | D21: CARTUCHO PARA AMONIACO Y METILAMINA | E21: Cartuchos intercambiables con carbón activado, que ofrecen protección al sistema respiratorio de amoníaco y metilamina, se puede utilizar en respiradores media cara y cara completa y deben corresponder a la misma serie (misma marca), diseño de bajo perfil que permite mayor visibilidad, fácil y rápido ensamble. Aprobado por NIOSH. Protege al sistema respiratorio de amoníaco y metilamina. Industria: minera, cementera, farmacéutica, agroquímica, de madera, metalmecánica, petroquímica y química, alimenticia, transporte, aplicación de agroquímicos, agricultura, laboratorio, entre otros. En combinación de prefiltros según el riesgo | F21: UND | G21: 1 | H21: 3M | I21: N/A | J21: CUMPLE
B22: 10 | C22: 46182001 | D22: CARETA DE ESMERILAR | E22: Cabezal fabricado en polietileno de alta densidad. Protege zona frontal de la cabeza. Visor policarbonato, levantable para mayor comodidad. Sistema de ratchet, para un ajuste seguro. Soporte ideal para uso de visores de policarbonato. Alta resistencia. Mayor resistencia térmica química. En la parte interior de los visores, con ribete plástico. Elemento fabricado para proteger el rostro y la cara de salpicaduras, proyección de partículas volátiles y cuerpos extraños producidos en procesos de pulimiento y esmerilar. Trabajos con sierras, pulidoras, fresadoras, tornos, amoladores, cote de baldosas y ladrillos y para trabajos generales en industrias metalúrgicas y automoción. Las materias primas utilizadas deben garantizar la resistencia a los factores ambientales tales como: sol, lluvia, frío, polvo, vibraciones, sudor y lodo, entre otros. NORMATIVIDAD: NTC 3610 ANSI Z87.1+ UNEEN166 | F22: UND | G22: 1 | H22: SPRO | I22: N/A | J22: CUMPLE
B23: 11 | C23: 53111501 | D23: BOTA DE SEGURIDAD MEDIA CANA, DIELECTRICA CON PUNTERA DE SEGURIDAD | E23: Bota dieléctrica 18 kV, corriente de fuga < 1 mA, sin disrupción. Horma para hombre y mujer. Bota de amarrar, En cuero graso calibre 1.8 - 2.0 mm SUELA: Bidensidad elaborada en poliuretano (PU/PU), inyectada directamente al corte, color negro/negro, resistente a aceites e hidrocarburos, antideslizante, flexible, liviana, aislante térmica, resistente al desgarro. Dureza parte externa piso (compacto) 60-65 shore A y parte interna (expanso) 45-55 shore A. FORRO, Textil, de rápida dispersión de la transpiración, suave y confortable, resistente a la abrasión, antimicótico y antibacteriano. Elaborado en tejido de punto 100% poliéster texturizado con suplemento en espuma calibre 4 mm, abullonado con lámina de espuma de polietileno calibre 10 mm y tela no tejida 100% poliéster. PUNTERA de seguridad en composite resistente al impacto (200 Joules) y a la compresión (15 kN). CONTRAFUERTE, reforzado en el talón. PASACORDONES, plásticos de alta resistencia PLANTILLA anatómica removible, antifatiga que inhibe la proliferación de hongos y bacterias. Interna: Lámina de Strobel calibre 2 mm. Externa: Etil Vinil Acetato (EVA) forrado en tela poliéster en tejido circular calibre 4 mm Apta para trabajos en exteriores e interiores expuesto a riesgo eléctrico, aceites, solventes e hidrocarburos. NORMATIVIDAD: NTC 4811:2000 RESISTENCIA A LA ABRASION DE LA SUELA DIN 53516 RESISTENCIA A LA ABRASION DE LA SUELA NTC 632 RESISTENCIA A LA FLEXIÓN DE LA SUELA NTC 2038 RESISTENCIA DE LA UNIÓN SUELA/CAPELLADA DIN EN 12568 RESISTENCIA DE LA PUNTERA AL IMPACTO Y LA COMPRESIÓN ASTM F 2412-18a METODOS DE PRUEBA PARA LA PROTECCIÓN DE LOS PIES ASTM F 2413-18 ESPECIFICACIÓN ESTÁNDAR PARA CALZADO DE SEGURIDAD | F23: PAR | G23: 1 | H23: STEELPRO SAFETY | I23: N/A | J23: CUMPLE
B24: 12 | C24: 46181808 | D24: MONOGAFAS CONTRA SALPICADURAS LIQUIDOS Y SUSTANCIAS QUIMICAS | E24: Diseñados para proteger contra impacto de partículas de alta velocidad, la radiación UV 99.9%. Proteger contra salpicaduras químicas, con lente corregido. Tratamiento anti-rayadura. Lente marcado con Z.87.1+ Permite uso de lentes formulados. Con tratamiento antiempañante AF. Marco ventilación indirecta. Resistencia a salpicaduras e impactos de alta velocidad. Libre de metal. Banda elástica ajustable Aptos para trabajos en exteriores e interiores. Trabajo en Farmacéutica, Alimenticia, Química, Laboratorios. NORMATIVIDAD: ANSI Z87.1+ | F24: UND | G24: 1 | H24: STEELPRO-SAFETY | I24: N/A | J24: CUMPLE
... B61: 49 | C61: 46181504 | D61: MANGUITO DE PROTECCION DE BRAZO | E61: Manguito en Kevlar con ojal (protección anticorte del antebrazo) | F61: UND | G61: 1 | H61: ADEEPI | I61: N/A | J61: CUMPLE
C62: =FINANCIERA!B42 -> Barranquilla, 20 de mayo de 2026
C64: Jose Antonio Sierra Salazar
C65: Evaluador Técnico
