Workbook
Name resx: #REF!

Sheet ESTUDIO DE MERCADO 2023
F1: FORMATO OFERTA ECONÓMICA
F3: OFERTA MANTENIMIENTO VEHICULOS
B4: ITEM | C4: SERVICIO MANTENIMIENTO PREVENTIVO INCLUIDO MANO DE OBRA, INSUMOS, HERRAMIENTAS MAYORES Y MENORES | D4: UNIDAD DE MEDIDA | F4: CAMPERO CHEVROLET VITARA MODELO 2006 | I4: CAMPERO CHEVROLET VITARA MODELO 2012 | L4: BUS CHEVROLET B60 MODELO 1987 | O4: BUS CHEVROLET B70 MODELO 2005 | R4: CAMIÓN DINA MODELO 1997 | U4: CAMIÓN INTERNATIONAL 4700DT MODELO 1998 | X4: CAMIÓN CHEVROLET NPR MODELO 1998 | AA4: CAMIÓN CHEVROLET NPR MODELO 1999 | AD4: CAMIÓN CHEVROLET NPR MODELO 2008 | AG4: CAMIÓN CHEVROLET NHR MODELO 2008 | AJ4: CAMIÓN CHEVROLET NNR MODELO 2010 | AM4: VOLQUETA INTERNATIONAL 4700 MODELO 1995 | AP4: CAMIONETA DOBLE CABINA NISSAN MODELO 2013 | AS4: MAZDA BT-50 MODELO 2011 | AV4: BUS CHEVROLET MODELO 2013 | AY4: BUS CHEVROLET MODELO 2014 | BB4: VAN HIUNDAY STAREX PANEL MODELO 2006
F5: CENTRO CAR 19 LTDA. | G5: DORADAUTOS S.A.S. | H5: VALOR DE REFERENCIA | I5: CENTRO CAR 19 LTDA. | J5: DORADAUTOS S.A.S. | K5: VALOR DE REFERENCIA | L5: CENTRO CAR 19 LTDA. | M5: DORADAUTOS S.A.S. | N5: VALOR DE REFERENCIA | O5: CENTRO CAR 19 LTDA. | P5: DORADAUTOS S.A.S. | Q5: VALOR DE REFERENCIA | R5: CENTRO CAR 19 LTDA. | S5: DORADAUTOS S.A.S. | T5: VALOR DE REFERENCIA | U5: CENTRO CAR 19 LTDA. | V5: DORADAUTOS S.A.S. | W5: VALOR DE REFERENCIA | X5: CENTRO CAR 19 LTDA. | Y5: DORADAUTOS S.A.S. | Z5: VALOR DE REFERENCIA | AA5: CENTRO CAR 19 LTDA. | AB5: DORADAUTOS S.A.S. | AC5: VALOR DE REFERENCIA | AD5: CENTRO CAR 19 LTDA. | AE5: DORADAUTOS S.A.S. | AF5: VALOR DE REFERENCIA | AG5: CENTRO CAR 19 LTDA. | AH5: DORADAUTOS S.A.S. | AI5: VALOR DE REFERENCIA | AJ5: CENTRO CAR 19 LTDA. | AK5: DORADAUTOS S.A.S. | AL5: VALOR DE REFERENCIA | AM5: CENTRO CAR 19 LTDA. | AN5: DORADAUTOS S.A.S. | AO5: VALOR DE REFERENCIA | AP5: CENTRO CAR 19 LTDA. | AQ5: DORADAUTOS S.A.S. | AR5: VALOR DE REFERENCIA | AS5: CENTRO CAR 19 LTDA. | AT5: DORADAUTOS S.A.S. | AU5: VALOR DE REFERENCIA | AV5: CENTRO CAR 19 LTDA. | AW5: DORADAUTOS S.A.S. | AX5: VALOR DE REFERENCIA | AY5: CENTRO CAR 19 LTDA. | AZ5: DORADAUTOS S.A.S. | BA5: VALOR DE REFERENCIA | BB5: CENTRO CAR 19 LTDA. | BC5: DORADAUTOS S.A.S. | BD5: VALOR DE REFERENCIA
A6: MANTENIMIENTO PREVENTIVO (SOLO VALOR MANO DE OBRA INCLUIDO IVA) | B6: 1 | C6: CAMBIO DE ACEITE, INCLUYE FILTRO DE ACEITE, FILTRO DE COMBUSTIBLE Y AIRE (INCLUYE MANO DE OBRA E INSUMOS) | D6: SERVICIO | F6: 412986.42 | G6: 390748.69 | H6: =ROUND(((F6+G6)/2),0) -> 401868 | I6: 412986.42 | J6: 390748.69 | K6: =ROUND(((I6+J6)/2),0) -> 401868 | L6: 1517262.3 | M6: 1435563.6 | N6: =ROUND(((L6+M6)/2),0) -> 1476413 | O6: 1499200.6 | P6: 1418474.5 | Q6: =ROUND(((O6+P6)/2),0) -> 1458838 | R6: 1243902.6 | S6: 1176923.2 | T6: =ROUND(((R6+S6)/2),0) -> 1210413 | U6: 2096725.6 | V6: 1983825 | W6: =ROUND(((U6+V6)/2),0) -> 2040275 | X6: 1622393.6 | Y6: 1535033.9 | Z6: =ROUND(((X6+Y6)/2),0) -> 1578714 | AA6: 1612111.8 | AB6: 1535033.9 | AC6: =ROUND(((AA6+AB6)/2),0) -> 1573573 | AD6: 1584253.1 | AE6: 1535033.9 | AF6: =ROUND(((AD6+AE6)/2),0) -> 1559644 | AG6: 1562548.3 | AH6: 1535033.9 | AI6: =ROUND(((AG6+AH6)/2),0) -> 1548791 | AJ6: 1464036.6 | AK6: 1535033.9 | AL6: =ROUND(((AJ6+AK6)/2),0) -> 1499535 | AM6: 2106452.3 | AN6: 1773033.9 | AO6: =ROUND(((AM6+AN6)/2),0) -> 1939743 | AP6: 616557 | AQ6: 474274.62 | AR6: =ROUND(((AP6+AQ6)/2),0) -> 545416 | AS6: 592411.74 | AT6: 455701.34 | AU6: =ROUND(((AS6+AT6)/2),0) -> 524057 | AV6: 1778661.1 | AW6: 1773033.9 | AX6: =ROUND(((AV6+AW6)/2),0) -> 1775848 | AY6: 1771100.4 | AZ6: 1773033.9 | BA6: =ROUND(((AY6+AZ6)/2),0) -> 1772067 | BB6: 592411.74 | BC6: 455701.34 | BD6: =ROUND(((BB6+BC6)/2),0) -> 524057
B7: 2 | C7: ALINEACIÓN | D7: SERVICIO | F7: 65185.784 | G7: 61675.781 | H7: =ROUND(((F7+G7)/2),0) -> 63431 | I7: 65185.784 | J7: 61675.781 | K7: =ROUND(((I7+J7)/2),0) -> 63431 | L7: 110833.73 | M7: 104865.76 | N7: =ROUND(((L7+M7)/2),0) -> 107850 | O7: 110833.73 | P7: 104865.76 | Q7: =ROUND(((O7+P7)/2),0) -> 107850 | R7: 110983.56 | S7: 105007.52 | T7: =ROUND(((R7+S7)/2),0) -> 107996 | U7: 152419.26 | V7: 144212.07 | W7: =ROUND(((U7+V7)/2),0) -> 148316 | X7: 146255.24 | Y7: 138379.95 | Z7: =ROUND(((X7+Y7)/2),0) -> 142318 | AA7: 146255.24 | AB7: 138379.95 | AC7: =ROUND(((AA7+AB7)/2),0) -> 142318 | AD7: 146255.24 | AE7: 138379.95 | AF7: =ROUND(((AD7+AE7)/2),0) -> 142318 | AG7: 146255.24 | AH7: 138379.95 | AI7: =ROUND(((AG7+AH7)/2),0) -> 142318 | AJ7: 146255.24 | AK7: 138379.95 | AL7: =ROUND(((AJ7+AK7)/2),0) -> 142318 | AM7: 152419.26 | AN7: 138379.95 | AO7: =ROUND(((AM7+AN7)/2),0) -> 145400 | AP7: 87422.517 | AQ7: 67248.09 | AR7: =ROUND(((AP7+AQ7)/2),0) -> 77335 | AS7: 105223.77 | AT7: 80941.36 | AU7: =ROUND(((AS7+AT7)/2),0) -> 93083 | AV7: 146255.24 | AW7: 138379.95 | AX7: =ROUND(((AV7+AW7)/2),0) -> 142318 | AY7: 146255.24 | AZ7: 138379.95 | BA7: =ROUND(((AY7+AZ7)/2),0) -> 142318 | BB7: 109432 | BC7: 84178.458 | BD7: =ROUND(((BB7+BC7)/2),0) -> 96805
B8: 3 | C8: BALANCEO Y ROTACIÓN X 4 | D8: SERVICIO | F8: 70004.38 | G8: 66234.913 | H8: =ROUND(((F8+G8)/2),0) -> 68120 | I8: 70004.38 | J8: 66234.913 | K8: =ROUND(((I8+J8)/2),0) -> 68120 | L8: 195338.14 | M8: 184819.94 | N8: =ROUND(((L8+M8)/2),0) -> 190079 | O8: 201653 | P8: 190794.76 | Q8: =ROUND(((O8+P8)/2),0) -> 196224 | R8: 185954.35 | S8: 175941.42 | T8: =ROUND(((R8+S8)/2),0) -> 180948 | U8: 266481.81 | V8: 252132.79 | W8: =ROUND(((U8+V8)/2),0) -> 259307 | X8: 257358.46 | Y8: 243500.69 | Z8: =ROUND(((X8+Y8)/2),0) -> 250430 | AA8: 260133.77 | AB8: 243500.69 | AC8: =ROUND(((AA8+AB8)/2),0) -> 251817 | AD8: 262902.05 | AE8: 243500.69 | AF8: =ROUND(((AD8+AE8)/2),0) -> 253201 | AG8: 263598.9 | AH8: 243500.69 | AI8: =ROUND(((AG8+AH8)/2),0) -> 253550 | AJ8: 255967.78 | AK8: 243500.69 | AL8: =ROUND(((AJ8+AK8)/2),0) -> 249734 | AM8: 272118.92 | AN8: 243500.69 | AO8: =ROUND(((AM8+AN8)/2),0) -> 257810 | AP8: 94012.892 | AQ8: 72317.609 | AR8: =ROUND(((AP8+AQ8)/2),0) -> 83165 | AS8: 113000.69 | AT8: 86923.61 | AU8: =ROUND(((AS8+AT8)/2),0) -> 99962 | AV8: 257358.46 | AW8: 243500.69 | AX8: =ROUND(((AV8+AW8)/2),0) -> 250430 | AY8: 262902.05 | AZ8: 243500.69 | BA8: =ROUND(((AY8+AZ8)/2),0) -> 253201 | BB8: 117520.64 | BC8: 90400.492 | BD8: =ROUND(((BB8+BC8)/2),0) -> 103961
B9: 4 | C9: DESPINCHE | D9: SERVICIO | F9: 30940 | G9: 29274 | H9: =ROUND(((F9+G9)/2),0) -> 30107 | I9: 30940 | J9: 29274 | K9: =ROUND(((I9+J9)/2),0) -> 30107 | L9: 46410 | M9: 43911 | N9: =ROUND(((L9+M9)/2),0) -> 45161 | O9: 46410 | P9: 43911 | Q9: =ROUND(((O9+P9)/2),0) -> 45161 | R9: 46410 | S9: 43911 | T9: =ROUND(((R9+S9)/2),0) -> 45161 | U9: 46410 | V9: 43911 | W9: =ROUND(((U9+V9)/2),0) -> 45161 | X9: 46410 | Y9: 43911 | Z9: =ROUND(((X9+Y9)/2),0) -> 45161 | AA9: 46410 | AB9: 43911 | AC9: =ROUND(((AA9+AB9)/2),0) -> 45161 | AD9: 46410 | AE9: 43911 | AF9: =ROUND(((AD9+AE9)/2),0) -> 45161 | AG9: 46410 | AH9: 43911 | AI9: =ROUND(((AG9+AH9)/2),0) -> 45161 | AJ9: 46410 | AK9: 43911 | AL9: =ROUND(((AJ9+AK9)/2),0) -> 45161 | AM9: 46410 | AN9: 43911 | AO9: =ROUND(((AM9+AN9)/2),0) -> 45161 | AP9: 30940 | AQ9: 23800 | AR9: =ROUND(((AP9+AQ9)/2),0) -> 27370 | AS9: 30940 | AT9: 23800 | AU9: =ROUND(((AS9+AT9)/2),0) -> 27370 | AV9: 46410 | AW9: 43911 | AX9: =ROUND(((AV9+AW9)/2),0) -> 45161 | AY9: 46410 | AZ9: 43911 | BA9: =ROUND(((AY9+AZ9)/2),0) -> 45161 | BB9: 38675 | BC9: 29750 | BD9: =ROUND(((BB9+BC9)/2),0) -> 34213
B10: 5 | C10: ENGRASE GENERAL | D10: SERVICIO | F10: 109689.42 | G10: 103783.06 | H10: =ROUND(((F10+G10)/2),0) -> 106736 | I10: 109689.42 | J10: 103783.06 | K10: =ROUND(((I10+J10)/2),0) -> 106736 | L10: 254681.68 | M10: 240968.05 | N10: =ROUND(((L10+M10)/2),0) -> 247825 | O10: 253977.8 | P10: 240302.07 | Q10: =ROUND(((O10+P10)/2),0) -> 247140 | R10: 255762.65 | S10: 241990.81 | T10: =ROUND(((R10+S10)/2),0) -> 248877 | U10: 256296.6 | V10: 242496.01 | W10: =ROUND(((U10+V10)/2),0) -> 249396 | X10: 238899.57 | Y10: 226035.75 | Z10: =ROUND(((X10+Y10)/2),0) -> 232468 | AA10: 243074.62 | AB10: 226035.75 | AC10: =ROUND(((AA10+AB10)/2),0) -> 234555 | AD10: 243074.62 | AE10: 226035.75 | AF10: =ROUND(((AD10+AE10)/2),0) -> 234555 | AG10: 243425.56 | AH10: 226035.75 | AI10: =ROUND(((AG10+AH10)/2),0) -> 234731 | AJ10: 234716.49 | AK10: 226035.75 | AL10: =ROUND(((AJ10+AK10)/2),0) -> 230376 | AM10: 249129.03 | AN10: 226035.75 | AO10: =ROUND(((AM10+AN10)/2),0) -> 237582 | AP10: 64368.272 | AQ10: 49514.056 | AR10: =ROUND(((AP10+AQ10)/2),0) -> 56941 | AS10: 79599.338 | AT10: 61230.26 | AU10: =ROUND(((AS10+AT10)/2),0) -> 70415 | AV10: 243074.62 | AW10: 226035.75 | AX10: =ROUND(((AV10+AW10)/2),0) -> 234555 | AY10: 243074.62 | AZ10: 226035.75 | BA10: =ROUND(((AY10+AZ10)/2),0) -> 234555 | BB10: 82782.909 | BC10: 63679.161 | BD10: =ROUND(((BB10+BC10)/2),0) -> 73231
B11: 6 | C11: GRADUACIÓN DE FRENOS | D11: SERVICIO | F11: 77350 | G11: 73185 | H11: =ROUND(((F11+G11)/2),0) -> 75268 | I11: 77350 | J11: 73185 | K11: =ROUND(((I11+J11)/2),0) -> 75268 | L11: 123760 | M11: 117096 | N11: =ROUND(((L11+M11)/2),0) -> 120428 | O11: 123760 | P11: 117096 | Q11: =ROUND(((O11+P11)/2),0) -> 120428 | R11: 123760 | S11: 117096 | T11: =ROUND(((R11+S11)/2),0) -> 120428 | U11: 123760 | V11: 117096 | W11: =ROUND(((U11+V11)/2),0) -> 120428 | X11: 123760 | Y11: 117096 | Z11: =ROUND(((X11+Y11)/2),0) -> 120428 | AA11: 123760 | AB11: 117096 | AC11: =ROUND(((AA11+AB11)/2),0) -> 120428 | AD11: 123760 | AE11: 117096 | AF11: =ROUND(((AD11+AE11)/2),0) -> 120428 | AG11: 123760 | AH11: 117096 | AI11: =ROUND(((AG11+AH11)/2),0) -> 120428 | AJ11: 123760 | AK11: 117096 | AL11: =ROUND(((AJ11+AK11)/2),0) -> 120428 | AM11: 123760 | AN11: 117096 | AO11: =ROUND(((AM11+AN11)/2),0) -> 120428 | AP11: 123760 | AQ11: 95200 | AR11: =ROUND(((AP11+AQ11)/2),0) -> 109480 | AS11: 123760 | AT11: 95200 | AU11: =ROUND(((AS11+AT11)/2),0) -> 109480 | AV11: 123760 | AW11: 117096 | AX11: =ROUND(((AV11+AW11)/2),0) -> 120428 | AY11: 123760 | AZ11: 117096 | BA11: =ROUND(((AY11+AZ11)/2),0) -> 120428 | BB11: 77350 | BC11: 59500 | BD11: =ROUND(((BB11+BC11)/2),0) -> 68425
B12: 7 | C12: LAVADO (ENJUAGUE) | D12: SERVICIO | F12: 31592.37 | G12: 29891.242 | H12: =ROUND(((F12+G12)/2),0) -> 30742 | I12: 31592.37 | J12: 29891.242 | K12: =ROUND(((I12+J12)/2),0) -> 30742 | L12: 72097.935 | M12: 68215.739 | N12: =ROUND(((L12+M12)/2),0) -> 70157 | O12: 72507.194 | P12: 68602.96 | Q12: =ROUND(((O12+P12)/2),0) -> 70555 | R12: 73774.187 | S12: 69801.731 | T12: =ROUND(((R12+S12)/2),0) -> 71788 | U12: 97533.322 | V12: 92281.528 | W12: =ROUND(((U12+V12)/2),0) -> 94907 | X12: 94888.726 | Y12: 89779.333 | Z12: =ROUND(((X12+Y12)/2),0) -> 92334 | AA12: 96497.606 | AB12: 89779.333 | AC12: =ROUND(((AA12+AB12)/2),0) -> 93138 | AD12: 95425.689 | AE12: 89779.333 | AF12: =ROUND(((AD12+AE12)/2),0) -> 92603 | AG12: 95018.442 | AH12: 89779.333 | AI12: =ROUND(((AG12+AH12)/2),0) -> 92399 | AJ12: 94351.762 | AK12: 89779.333 | AL12: =ROUND(((AJ12+AK12)/2),0) -> 92066 | AM12: 98076.319 | AN12: 89779.333 | AO12: =ROUND(((AM12+AN12)/2),0) -> 93928 | AP12: 41486.982 | AQ12: 31913.063 | AR12: =ROUND(((AP12+AQ12)/2),0) -> 36700 | AS12: 50995.463 | AT12: 39227.279 | AU12: =ROUND(((AS12+AT12)/2),0) -> 45111 | AV12: 93275.824 | AW12: 89779.333 | AX12: =ROUND(((AV12+AW12)/2),0) -> 91528 | AY12: 95425.689 | AZ12: 89779.333 | BA12: =ROUND(((AY12+AZ12)/2),0) -> 92603 | BB12: 53035.724 | BC12: 40796.711 | BD12: =ROUND(((BB12+BC12)/2),0) -> 46916
B13: 8 | C13: LAVADO GENERAL INCLUIDO MOTOR | D13: SERVICIO | F13: 52203.128 | G13: 49392.191 | H13: =ROUND(((F13+G13)/2),0) -> 50798 | I13: 52203.128 | J13: 49392.191 | K13: =ROUND(((I13+J13)/2),0) -> 50798 | L13: 115055.03 | M13: 108859.76 | N13: =ROUND(((L13+M13)/2),0) -> 111957 | O13: 113842.34 | P13: 107712.37 | Q13: =ROUND(((O13+P13)/2),0) -> 110777 | R13: 113955.96 | S13: 107819.87 | T13: =ROUND(((R13+S13)/2),0) -> 110888 | U13: 158705.96 | V13: 150160.25 | W13: =ROUND(((U13+V13)/2),0) -> 154433 | X13: 148444.32 | Y13: 140451.16 | Z13: =ROUND(((X13+Y13)/2),0) -> 144448 | AA13: 150042.14 | AB13: 140451.16 | AC13: =ROUND(((AA13+AB13)/2),0) -> 145247 | AD13: 152434.34 | AE13: 140451.16 | AF13: =ROUND(((AD13+AE13)/2),0) -> 146443 | AG13: 152635.45 | AH13: 140451.16 | AI13: =ROUND(((AG13+AH13)/2),0) -> 146543 | AJ13: 151637.95 | AK13: 140451.16 | AL13: =ROUND(((AJ13+AK13)/2),0) -> 146045 | AM13: 158705.96 | AN13: 140451.16 | AO13: =ROUND(((AM13+AN13)/2),0) -> 149579 | AP13: 70875.186 | AQ13: 54519.374 | AR13: =ROUND(((AP13+AQ13)/2),0) -> 62697 | AS13: 84265.09 | AT13: 64819.3 | AU13: =ROUND(((AS13+AT13)/2),0) -> 74542 | AV13: 152434.34 | AW13: 140451.16 | AX13: =ROUND(((AV13+AW13)/2),0) -> 146443 | AY13: 150840.54 | AZ13: 140451.16 | BA13: =ROUND(((AY13+AZ13)/2),0) -> 145646 | BB13: 87635.694 | BC13: 67412.072 | BD13: =ROUND(((BB13+BC13)/2),0) -> 77524
B14: 9 | C14: REPARACIÓN DE LLANTA | D14: SERVICIO | F14: 46410 | G14: 43911 | H14: =ROUND(((F14+G14)/2),0) -> 45161 | I14: 46410 | J14: 43911 | K14: =ROUND(((I14+J14)/2),0) -> 45161 | L14: 61880 | M14: 58548 | N14: =ROUND(((L14+M14)/2),0) -> 60214 | O14: 61880 | P14: 58548 | Q14: =ROUND(((O14+P14)/2),0) -> 60214 | R14: 61880 | S14: 58548 | T14: =ROUND(((R14+S14)/2),0) -> 60214 | U14: 61880 | V14: 58548 | W14: =ROUND(((U14+V14)/2),0) -> 60214 | X14: 61880 | Y14: 58548 | Z14: =ROUND(((X14+Y14)/2),0) -> 60214 | AA14: 61880 | AB14: 58548 | AC14: =ROUND(((AA14+AB14)/2),0) -> 60214 | AD14: 61880 | AE14: 58548 | AF14: =ROUND(((AD14+AE14)/2),0) -> 60214 | AG14: 61880 | AH14: 58548 | AI14: =ROUND(((AG14+AH14)/2),0) -> 60214 | AJ14: 61880 | AK14: 58548 | AL14: =ROUND(((AJ14+AK14)/2),0) -> 60214 | AM14: 61880 | AN14: 58548 | AO14: =ROUND(((AM14+AN14)/2),0) -> 60214 | AP14: 46410 | AQ14: 35700 | AR14: =ROUND(((AP14+AQ14)/2),0) -> 41055 | AS14: 46410 | AT14: 35700 | AU14: =ROUND(((AS14+AT14)/2),0) -> 41055 | AV14: 61880 | AW14: 58548 | AX14: =ROUND(((AV14+AW14)/2),0) -> 60214 | AY14: 61880 | AZ14: 58548 | BA14: =ROUND(((AY14+AZ14)/2),0) -> 60214 | BB14: 54145 | BC14: 41650 | BD14: =ROUND(((BB14+BC14)/2),0) -> 47898
B15: 10 | C15: REVISIÓN DIRECCIÓN | D15: SERVICIO | F15: 110204.26 | G15: 104270.18 | H15: =ROUND(((F15+G15)/2),0) -> 107237 | I15: 110204.26 | J15: 104270.18 | K15: =ROUND(((I15+J15)/2),0) -> 107237 | L15: 164399.38 | M15: 155547.11 | N15: =ROUND(((L15+M15)/2),0) -> 159973 | O15: 158261.5 | P15: 149739.73 | Q15: =ROUND(((O15+P15)/2),0) -> 154001 | R15: 159192.64 | S15: 150620.73 | T15: =ROUND(((R15+S15)/2),0) -> 154907 | U15: 216610.55 | V15: 204946.91 | W15: =ROUND(((U15+V15)/2),0) -> 210779 | X15: 212703.99 | Y15: 201250.7 | Z15: =ROUND(((X15+Y15)/2),0) -> 206977 | AA15: 216153.03 | AB15: 201250.7 | AC15: =ROUND(((AA15+AB15)/2),0) -> 208702 | AD15: 211551.63 | AE15: 201250.7 | AF15: =ROUND(((AD15+AE15)/2),0) -> 206401 | AG15: 211842.24 | AH15: 201250.7 | AI15: =ROUND(((AG15+AH15)/2),0) -> 206546 | AJ15: 216153.03 | AK15: 201250.7 | AL15: =ROUND(((AJ15+AK15)/2),0) -> 208702 | AM15: 223606.16 | AN15: 201250.7 | AO15: =ROUND(((AM15+AN15)/2),0) -> 212428 | AP15: 144214.98 | AQ15: 110934.6 | AR15: =ROUND(((AP15+AQ15)/2),0) -> 127575 | AS15: 177890.84 | AT15: 136839.11 | AU15: =ROUND(((AS15+AT15)/2),0) -> 157365 | AV15: 211551.63 | AW15: 201250.7 | AX15: =ROUND(((AV15+AW15)/2),0) -> 206401 | AY15: 213855.35 | AZ15: 201250.7 | BA15: =ROUND(((AY15+AZ15)/2),0) -> 207553 | BB15: 185007.12 | BC15: 142313.17 | BD15: =ROUND(((BB15+BC15)/2),0) -> 163660
B16: 11 | C16: REVISIÓN FRENOS DELANTEROS / TRASEROS ( BANDAS) | D16: SERVICIO | F16: 231497.72 | G16: 219032.46 | H16: =ROUND(((F16+G16)/2),0) -> 225265 | I16: 231497.72 | J16: 219032.46 | K16: =ROUND(((I16+J16)/2),0) -> 225265 | L16: 285881.89 | M16: 270488.25 | N16: =ROUND(((L16+M16)/2),0) -> 278185 | O16: 284253.9 | P16: 268947.92 | Q16: =ROUND(((O16+P16)/2),0) -> 276601 | R16: 285988.48 | S16: 270589.1 | T16: =ROUND(((R16+S16)/2),0) -> 278289 | U16: 289408.35 | V16: 273824.82 | W16: =ROUND(((U16+V16)/2),0) -> 281617 | X16: 261160.44 | Y16: 247097.96 | Z16: =ROUND(((X16+Y16)/2),0) -> 254129 | AA16: 259891.44 | AB16: 247097.96 | AC16: =ROUND(((AA16+AB16)/2),0) -> 253495 | AD16: 254794.3 | AE16: 247097.96 | AF16: =ROUND(((AD16+AE16)/2),0) -> 250946 | AG16: 256402.18 | AH16: 247097.96 | AI16: =ROUND(((AG16+AH16)/2),0) -> 251750 | AJ16: 262428.44 | AK16: 247097.96 | AL16: =ROUND(((AJ16+AK16)/2),0) -> 254763 | AM16: 279660.55 | AN16: 247097.96 | AO16: =ROUND(((AM16+AN16)/2),0) -> 263379 | AP16: 176802.84 | AQ16: 136002.18 | AR16: =ROUND(((AP16+AQ16)/2),0) -> 156403 | AS16: 218178.21 | AT16: 167829.39 | AU16: =ROUND(((AS16+AT16)/2),0) -> 193004 | AV16: 254794.3 | AW16: 247097.96 | AX16: =ROUND(((AV16+AW16)/2),0) -> 250946 | AY16: 263694.43 | AZ16: 247097.96 | BA16: =ROUND(((AY16+AZ16)/2),0) -> 255396 | BB16: 226905.37 | BC16: 174542.6 | BD16: =ROUND(((BB16+BC16)/2),0) -> 200724
B17: 12 | C17: REVISIÓN GENERAL DE LUCES | D17: SERVICIO | F17: 69615 | G17: 65866.5 | H17: =ROUND(((F17+G17)/2),0) -> 67741 | I17: 69615 | J17: 65866.5 | K17: =ROUND(((I17+J17)/2),0) -> 67741 | L17: 69615 | M17: 65866.5 | N17: =ROUND(((L17+M17)/2),0) -> 67741 | O17: 69615 | P17: 65866.5 | Q17: =ROUND(((O17+P17)/2),0) -> 67741 | R17: 69615 | S17: 65866.5 | T17: =ROUND(((R17+S17)/2),0) -> 67741 | U17: 69615 | V17: 65866.5 | W17: =ROUND(((U17+V17)/2),0) -> 67741 | X17: 69615 | Y17: 65866.5 | Z17: =ROUND(((X17+Y17)/2),0) -> 67741 | AA17: 69615 | AB17: 65866.5 | AC17: =ROUND(((AA17+AB17)/2),0) -> 67741 | AD17: 69615 | AE17: 65866.5 | AF17: =ROUND(((AD17+AE17)/2),0) -> 67741 | AG17: 69615 | AH17: 65866.5 | AI17: =ROUND(((AG17+AH17)/2),0) -> 67741 | AJ17: 69615 | AK17: 65866.5 | AL17: =ROUND(((AJ17+AK17)/2),0) -> 67741 | AM17: 69615 | AN17: 65866.5 | AO17: =ROUND(((AM17+AN17)/2),0) -> 67741 | AP17: 69615 | AQ17: 53550 | AR17: =ROUND(((AP17+AQ17)/2),0) -> 61583 | AS17: 69615 | AT17: 53550 | AU17: =ROUND(((AS17+AT17)/2),0) -> 61583 | AV17: 69615 | AW17: 65866.5 | AX17: =ROUND(((AV17+AW17)/2),0) -> 67741 | AY17: 69615 | AZ17: 65866.5 | BA17: =ROUND(((AY17+AZ17)/2),0) -> 67741 | BB17: 69615 | BC17: 53550 | BD17: =ROUND(((BB17+BC17)/2),0) -> 61583
B18: 13 | C18: REVISIÓN Y MANTENIMIENTO SEL SISTEMA DE AIRE ACONDICIONADO | D18: SERVICIO | F18: 435247.29 | G18: 411810.9 | H18: =ROUND(((F18+G18)/2),0) -> 423529 | I18: 435247.29 | J18: 411810.9 | K18: =ROUND(((I18+J18)/2),0) -> 423529 | L18: 370126.87 | M18: 350196.96 | N18: =ROUND(((L18+M18)/2),0) -> 360162 | O18: 372036.41 | P18: 352003.68 | Q18: =ROUND(((O18+P18)/2),0) -> 362020 | R18: 370739.25 | S18: 350776.36 | T18: =ROUND(((R18+S18)/2),0) -> 360758 | U18: 509970.72 | V18: 482510.75 | W18: =ROUND(((U18+V18)/2),0) -> 496241 | X18: 498976.03 | Y18: 472108.09 | Z18: =ROUND(((X18+Y18)/2),0) -> 485542 | AA18: 493961.35 | AB18: 472108.09 | AC18: =ROUND(((AA18+AB18)/2),0) -> 483035 | AD18: 483894.79 | AE18: 472108.09 | AF18: =ROUND(((AD18+AE18)/2),0) -> 478001 | AG18: 487703.82 | AH18: 472108.09 | AI18: =ROUND(((AG18+AH18)/2),0) -> 479906 | AJ18: 488933.6 | AK18: 472108.09 | AL18: =ROUND(((AJ18+AK18)/2),0) -> 480521 | AM18: 520225.31 | AN18: 472108.09 | AO18: =ROUND(((AM18+AN18)/2),0) -> 496167 | AP18: 437682.73 | AQ18: 336679.02 | AR18: =ROUND(((AP18+AQ18)/2),0) -> 387181 | AS18: 528439.65 | AT18: 406492.04 | AU18: =ROUND(((AS18+AT18)/2),0) -> 467466 | AV18: 483894.79 | AW18: 472108.09 | AX18: =ROUND(((AV18+AW18)/2),0) -> 478001 | AY18: 496470.2 | AZ18: 472108.09 | BA18: =ROUND(((AY18+AZ18)/2),0) -> 484289 | BB18: 549577.32 | BC18: 422751.78 | BD18: =ROUND(((BB18+BC18)/2),0) -> 486165
... B21: 16 | C21: SINCRONIZACIÓN MOTOR | D21: SERVICIO | F21: 385966.29 | G21: 365183.49 | H21: =ROUND(((F21+G21)/2),0) -> 375575 | I21: 385966.29 | J21: 365183.49 | K21: =ROUND(((I21+J21)/2),0) -> 375575 | L21: 585555.9 | M21: 554025.97 | N21: =ROUND(((L21+M21)/2),0) -> 569791 | O21: 478174.22 | P21: 452426.38 | Q21: =ROUND(((O21+P21)/2),0) -> 465300 | R21: 468880.93 | S21: 443633.49 | T21: =ROUND(((R21+S21)/2),0) -> 456257 | U21: 638984.79 | V21: 604577.92 | W21: =ROUND(((U21+V21)/2),0) -> 621781 | X21: 634066.65 | Y21: 599924.6 | Z21: =ROUND(((X21+Y21)/2),0) -> 616996 | AA21: 637310.55 | AB21: 599924.6 | AC21: =ROUND(((AA21+AB21)/2),0) -> 618618 | AD21: 627569.79 | AE21: 599924.6 | AF21: =ROUND(((AD21+AE21)/2),0) -> 613747 | AG21: 629210.85 | AH21: 599924.6 | AI21: =ROUND(((AG21+AH21)/2),0) -> 614568 | AJ21: 617796.85 | AK21: 599924.6 | AL21: =ROUND(((AJ21+AK21)/2),0) -> 608861 | AM21: 652277.16 | AN21: 599924.6 | AO21: =ROUND(((AM21+AN21)/2),0) -> 626101 | AP21: 370869.97 | AQ21: 285284.59 | AR21: =ROUND(((AP21+AQ21)/2),0) -> 328077 | AS21: 440007.56 | AT21: 338467.36 | AU21: =ROUND(((AS21+AT21)/2),0) -> 389237 | AV21: 420579.33 | AW21: 599924.6 | AX21: =ROUND(((AV21+AW21)/2),0) -> 510252 | AY21: 418549.13 | AZ21: 599924.6 | BA21: =ROUND(((AY21+AZ21)/2),0) -> 509237 | BB21: 457608.71 | BC21: 352006.7 | BD21: =ROUND(((BB21+BC21)/2),0) -> 404808
C22: SUB TOTAL MANTENIMIENTO PREVENTIVO | F22: =+SUM(F6:F21) -> 2933332.1 | G22: =+SUM(G6:G21) -> 2775383.4 | H22: =+SUM(H6:H21) -> 2854360 | I22: =+SUM(I6:I21) -> 2933332.1 | J22: =+SUM(J6:J21) -> 2775383.4 | K22: =+SUM(K6:K21) -> 2854360 | L22: =+SUM(L6:L21) -> 4777337.9 | M22: =+SUM(M6:M21) -> 4520096.6 | ... BD22: =+SUM(BD6:BD21) -> 3101590 | BE22: =+BD22+H22+K22+N22+Q22+T22+W22+Z22+AC22+AF22+AI22+AL22+AO22+AR22+AU22+AX22+BA22 -> 74840481
F25: FORMATO OFERTA ECONOMICA
F27: OFERTA MANTENIMIENTO CORRECTIVO PARQUE AUTOMOTOR
B28: ITEM | C28: SERVICIO MANTENIMIENTO CORRECTIVO INCLUIDO MANO DE OBRA, HERRAMIENTAS MAYORES Y MENORES | D28: UNIDAD DE MEDIDA | F28: CAMPERO CHEVROLET VITARA MODELO 2006 | I28: CAMPERO CHEVROLET VITARA MODELO 2012 | L28: BUS CHEVROLET B60 MODELO 1987 | O28: BUS CHEVROLET B70 MODELO 2005 | R28: CAMIÓN DINA MODELO 1997 | U28: CAMIÓN INTERNATIONAL 4700DT MODELO 1998 | X28: CAMIÓN CHEVROLET NPR MODELO 1998 | AA28: CAMIÓN CHEVROLET NPR MODELO 1999 | AD28: CAMIÓN CHEVROLET NPR MODELO 2008 | AG28: CAMIÓN CHEVROLET NHR MODELO 2008 | AJ28: CAMIÓN CHEVROLET NNR MODELO 2010 | AM28: VOLQUETA INTERNATIONAL 4700 MODELO 1995 | AP28: CAMIONETA DOBLE CABINA NISSAN MODELO 2013 | AS28: MAZDA BT-50 MODELO 2011 | AV28: BUS CHEVROLET MODELO 2013 | AY28: BUS CHEVROLET MODELO 2014 | BB28: VAN HIUNDAY STAREX PANEL MODELO 2006
F29: CENTRO CAR 19 LTDA. | G29: DORADAUTOS S.A.S. | H29: VALOR DE REFERENCIA | I29: CENTRO CAR 19 LTDA. | J29: DORADAUTOS S.A.S. | K29: VALOR DE REFERENCIA | L29: CENTRO CAR 19 LTDA. | M29: DORADAUTOS S.A.S. | N29: VALOR DE REFERENCIA | O29: CENTRO CAR 19 LTDA. | P29: DORADAUTOS S.A.S. | Q29: VALOR DE REFERENCIA | R29: CENTRO CAR 19 LTDA. | S29: DORADAUTOS S.A.S. | T29: VALOR DE REFERENCIA | U29: CENTRO CAR 19 LTDA. | V29: DORADAUTOS S.A.S. | W29: VALOR DE REFERENCIA | X29: CENTRO CAR 19 LTDA. | Y29: DORADAUTOS S.A.S. | Z29: VALOR DE REFERENCIA | AA29: CENTRO CAR 19 LTDA. | AB29: DORADAUTOS S.A.S. | AC29: VALOR DE REFERENCIA | AD29: CENTRO CAR 19 LTDA. | AE29: DORADAUTOS S.A.S. | AF29: VALOR DE REFERENCIA | AG29: CENTRO CAR 19 LTDA. | AH29: DORADAUTOS S.A.S. | AI29: VALOR DE REFERENCIA | AJ29: CENTRO CAR 19 LTDA. | AK29: DORADAUTOS S.A.S. | AL29: VALOR DE REFERENCIA | AM29: CENTRO CAR 19 LTDA. | AN29: DORADAUTOS S.A.S. | AO29: VALOR DE REFERENCIA | AP29: CENTRO CAR 19 LTDA. | AQ29: DORADAUTOS S.A.S. | AR29: VALOR DE REFERENCIA | AS29: CENTRO CAR 19 LTDA. | AT29: DORADAUTOS S.A.S. | AU29: VALOR DE REFERENCIA | AV29: CENTRO CAR 19 LTDA. | AW29: DORADAUTOS S.A.S. | AX29: VALOR DE REFERENCIA | AY29: CENTRO CAR 19 LTDA. | AZ29: DORADAUTOS S.A.S. | BA29: VALOR DE REFERENCIA | BB29: CENTRO CAR 19 LTDA. | BC29: DORADAUTOS S.A.S. | BD29: VALOR DE REFERENCIA
A30: MANTENIMIENTO CORRECTIVO ( SOLO VALOR DE MANO DE OBRA INCLUIDO IVA | B30: ELÉCTRICO | F30: =+SUM(F31:F64) -> 5250988.3 | G30: =SUM(G31:G64) -> 5912208.9 | H30: =SUM(H31:H64) -> 5581600 | I30: =+SUM(I31:I64) -> 5250988.3 | J30: =SUM(J31:J64) -> 5912208.9 | K30: =SUM(K31:K64) -> 5581600 | L30: =+SUM(L31:L64) -> 7806668.6 | M30: =SUM(M31:M64) -> 8789708.3 | N30: =SUM(N31:N64) -> 8298188 | O30: =+SUM(O31:O64) -> 7837370 | P30: =SUM(P31:P64) -> 8824275.7 | Q30: =SUM(Q31:Q64) -> 8330827 | R30: =+SUM(R31:R64) -> 7841925.4 | S30: =SUM(S31:S64) -> 8829404.8 | T30: =SUM(T31:T64) -> 8335664 | U30: =+SUM(U31:U64) -> 11157724 | V30: =SUM(V31:V64) -> 10556923 | W30: =SUM(W31:W64) -> 10857325 | X30: =+SUM(X31:X64) -> 8387199.7 | Y30: =SUM(Y31:Y64) -> 9443341.7 | Z30: =SUM(Z31:Z64) -> 8915270 | AA30: =+SUM(AA31:AA64) -> 8373458.3 | AB30: =SUM(AB31:AB64) -> 9443341.7 | AC30: =SUM(AC31:AC64) -> 8908400 | AD30: =+SUM(AD31:AD64) -> 8370365.6 | AE30: =SUM(AE31:AE64) -> 9443341.7 | AF30: =SUM(AF31:AF64) -> 8906853 | AG30: =+SUM(AG31:AG64) -> 8367742.7 | AH30: =SUM(AH31:AH64) -> 9443341.7 | AI30: =SUM(AI31:AI64) -> 8905543 | AJ30: =+SUM(AJ31:AJ64) -> 8401955.9 | AK30: =SUM(AK31:AK64) -> 9443341.7 | AL30: =SUM(AL31:AL64) -> 8922651 | AM30: =+SUM(AM31:AM64) -> 11086161 | AN30: =SUM(AN31:AN64) -> 9443341.7 | AO30: =SUM(AO31:AO64) -> 10264752 | AP30: =+SUM(AP31:AP64) -> 6379596.3 | AQ30: =SUM(AQ31:AQ64) -> 5839784.3 | AR30: =SUM(AR31:AR64) -> 6109690 | AS30: =+SUM(AS31:AS64) -> 7301375.5 | AT30: =SUM(AT31:AT64) -> 6683566.8 | AU30: =SUM(AU31:AU64) -> 6992469 | AV30: =+SUM(AV31:AV64) -> 9455797.6 | AW30: =SUM(AW31:AW64) -> 9443341.7 | AX30: =SUM(AX31:AX64) -> 9449571 | AY30: =+SUM(AY31:AY64) -> 9462428.4 | AZ30: =SUM(AZ31:AZ64) -> 9443341.7 | BA30: =SUM(BA31:BA64) -> 9452884 | BB30: =+SUM(BB31:BB64) -> 7557447.1 | BC30: =SUM(BC31:BC64) -> 6917970.8 | BD30: =SUM(BD31:BD64) -> 7237709 | BE30: =H30+K30+N30+Q30+T30+W30+Z30+AC30+AF30+AI30+AL30+AO30+AR30+AU30+AX30+BA30+BD30 -> 141050996
B31: 17 | C31: CAMBIO ALTERNADOR SISTEMA DE CARGA | D31: SERVICIO | F31: 182000 | G31: 204918 | H31: =ROUND(((F31+G31)/2),0) -> 193459 | I31: 182000 | J31: 204918 | K31: =ROUND(((I31+J31)/2),0) -> 193459 | L31: 260000 | M31: 292740 | N31: =ROUND(((L31+M31)/2),0) -> 276370 | O31: 260000 | P31: 292740 | Q31: =ROUND(((O31+P31)/2),0) -> 276370 | R31: 260000 | S31: 292740 | T31: =ROUND(((R31+S31)/2),0) -> 276370 | U31: 309400 | V31: 292740 | W31: =ROUND(((U31+V31)/2),0) -> 301070 | X31: 260000 | Y31: 292740 | Z31: =ROUND(((X31+Y31)/2),0) -> 276370 | AA31: 260000 | AB31: 292740 | AC31: =ROUND(((AA31+AB31)/2),0) -> 276370 | AD31: 260000 | AE31: 292740 | AF31: =ROUND(((AD31+AE31)/2),0) -> 276370 | AG31: 260000 | AH31: 292740 | AI31: =ROUND(((AG31+AH31)/2),0) -> 276370 | AJ31: 260000 | AK31: 292740 | AL31: =ROUND(((AJ31+AK31)/2),0) -> 276370 | AM31: 309400 | AN31: 292740 | AO31: =ROUND(((AM31+AN31)/2),0) -> 301070 | AP31: 260000 | AQ31: 238000 | AR31: =ROUND(((AP31+AQ31)/2),0) -> 249000 | AS31: 260000 | AT31: 238000 | AU31: =ROUND(((AS31+AT31)/2),0) -> 249000 | AV31: 260000 | AW31: 292740 | AX31: =ROUND(((AV31+AW31)/2),0) -> 276370 | AY31: 260000 | AZ31: 292740 | BA31: =ROUND(((AY31+AZ31)/2),0) -> 276370 | BB31: 182000 | BC31: 166600 | BD31: =ROUND(((BB31+BC31)/2),0) -> 174300 | BE31: =H31+K31+N31+Q31+T31+W31+Z31+AC31+AF31+AI31+AL31+AO31+AR31+AU31+AX31+BA31+BD31 -> 4425058
B32: 18 | C32: CAMBIO AUTOMATICO DEL ARRANQUE | D32: SERVICIO | F32: 113949.1 | G32: 128297.92 | H32: =ROUND(((F32+G32)/2),0) -> 121124 | I32: 113949.1 | J32: 128297.92 | K32: =ROUND(((I32+J32)/2),0) -> 121124 | L32: 200975.64 | M32: 226283.12 | N32: =ROUND(((L32+M32)/2),0) -> 213629 | O32: 197517.9 | P32: 222389.97 | Q32: =ROUND(((O32+P32)/2),0) -> 209954 | R32: 201121.83 | S32: 226447.71 | T32: =ROUND(((R32+S32)/2),0) -> 213785 | U32: 309144.28 | V32: 292498.05 | W32: =ROUND(((U32+V32)/2),0) -> 300821 | X32: 211703.77 | Y32: 238362.15 | Z32: =ROUND(((X32+Y32)/2),0) -> 225033 | AA32: 220493.46 | AB32: 238362.15 | AC32: =ROUND(((AA32+AB32)/2),0) -> 229428 | AD32: 222995.5 | AE32: 238362.15 | AF32: =ROUND(((AD32+AE32)/2),0) -> 230679 | AG32: 221096.79 | AH32: 238362.15 | AI32: =ROUND(((AG32+AH32)/2),0) -> 229729 | AJ32: 210443.02 | AK32: 238362.15 | AL32: =ROUND(((AJ32+AK32)/2),0) -> 224403 | AM32: 310888.91 | AN32: 238362.15 | AO32: =ROUND(((AM32+AN32)/2),0) -> 274626 | AP32: 150093.97 | AQ32: 137393.71 | AR32: =ROUND(((AP32+AQ32)/2),0) -> 143744 | AS32: 183935.38 | AT32: 168371.61 | AU32: =ROUND(((AS32+AT32)/2),0) -> 176153 | AV32: 264621.89 | AW32: 238362.15 | AX32: =ROUND(((AV32+AW32)/2),0) -> 251492 | AY32: 255517.86 | AZ32: 238362.15 | BA32: =ROUND(((AY32+AZ32)/2),0) -> 246940 | BB32: 191292.79 | BC32: 175106.48 | BD32: =ROUND(((BB32+BC32)/2),0) -> 183200 | BE32: =H32+K32+N32+Q32+T32+W32+Z32+AC32+AF32+AI32+AL32+AO32+AR32+AU32+AX32+BA32+BD32 -> 3595864
B33: 19 | C33: CAMBIO BÉNDIX DEL ARRANQUE | D33: SERVICIO | F33: 107532.17 | G33: 121072.95 | H33: =ROUND(((F33+G33)/2),0) -> 114303 | I33: 107532.17 | J33: 121072.95 | K33: =ROUND(((I33+J33)/2),0) -> 114303 | L33: 189769.26 | M33: 213665.58 | N33: =ROUND(((L33+M33)/2),0) -> 201717 | O33: 187498.74 | P33: 211109.16 | Q33: =ROUND(((O33+P33)/2),0) -> 199304 | R33: 189911.22 | S33: 213825.42 | T33: =ROUND(((R33+S33)/2),0) -> 201868 | U33: 299958.58 | V33: 283806.97 | W33: =ROUND(((U33+V33)/2),0) -> 291883 | X33: 206537.43 | Y33: 232545.26 | Z33: =ROUND(((X33+Y33)/2),0) -> 219541 | AA33: 212690.73 | AB33: 232545.26 | AC33: =ROUND(((AA33+AB33)/2),0) -> 222618 | AD33: 210231.77 | AE33: 232545.26 | AF33: =ROUND(((AD33+AE33)/2),0) -> 221389 | AG33: 209609.86 | AH33: 232545.26 | AI33: =ROUND(((AG33+AH33)/2),0) -> 221078 | AJ33: 216369.86 | AK33: 232545.26 | AL33: =ROUND(((AJ33+AK33)/2),0) -> 224458 | AM33: 293107.77 | AN33: 232545.26 | AO33: =ROUND(((AM33+AN33)/2),0) -> 262827 | AP33: 142560.8 | AQ33: 130497.96 | AR33: =ROUND(((AP33+AQ33)/2),0) -> 136529 | AS33: 173578.21 | AT33: 158890.82 | AU33: =ROUND(((AS33+AT33)/2),0) -> 166235 | AV33: 249888.47 | AW33: 232545.26 | AX33: =ROUND(((AV33+AW33)/2),0) -> 241217 | AY33: 239421.46 | AZ33: 232545.26 | BA33: =ROUND(((AY33+AZ33)/2),0) -> 235983 | BB33: 180521.58 | BC33: 165246.67 | BD33: =ROUND(((BB33+BC33)/2),0) -> 172884 | BE33: =H33+K33+N33+Q33+T33+W33+Z33+AC33+AF33+AI33+AL33+AO33+AR33+AU33+AX33+BA33+BD33 -> 3448137
B34: 20 | C34: CAMBIO BOBINA | D34: SERVICIO | F34: 113257.88 | G34: 127519.67 | H34: =ROUND(((F34+G34)/2),0) -> 120389 | I34: 113257.88 | J34: 127519.67 | K34: =ROUND(((I34+J34)/2),0) -> 120389 | L34: 201050.85 | M34: 226367.79 | N34: =ROUND(((L34+M34)/2),0) -> 213709 | O34: 196359.41 | P34: 221085.59 | Q34: =ROUND(((O34+P34)/2),0) -> 208723 | R34: 199930.38 | S34: 225106.23 | T34: =ROUND(((R34+S34)/2),0) -> 212518 | U34: 318447.63 | V34: 301300.45 | W34: =ROUND(((U34+V34)/2),0) -> 309874 | X34: 215732.73 | Y34: 242898.45 | Z34: =ROUND(((X34+Y34)/2),0) -> 229316 | AA34: 229686.21 | AB34: 242898.45 | AC34: =ROUND(((AA34+AB34)/2),0) -> 236292 | AD34: 222093.04 | AE34: 242898.45 | AF34: =ROUND(((AD34+AE34)/2),0) -> 232496 | AG34: 223052.96 | AH34: 242898.45 | AI34: =ROUND(((AG34+AH34)/2),0) -> 232976 | AJ34: 228422.93 | AK34: 242898.45 | AL34: =ROUND(((AJ34+AK34)/2),0) -> 235661 | AM34: 316683.89 | AN34: 242898.45 | AO34: =ROUND(((AM34+AN34)/2),0) -> 279791 | AP34: 148917.73 | AQ34: 136317 | AR34: =ROUND(((AP34+AQ34)/2),0) -> 142617 | AS34: 182820.82 | AT34: 167351.37 | AU34: =ROUND(((AS34+AT34)/2),0) -> 175086 | AV34: 264280.51 | AW34: 242898.45 | AX34: =ROUND(((AV34+AW34)/2),0) -> 253589 | AY34: 275017.92 | AZ34: 242898.45 | BA34: =ROUND(((AY34+AZ34)/2),0) -> 258958 | BB34: 190133.45 | BC34: 174045.23 | BD34: =ROUND(((BB34+BC34)/2),0) -> 182089 | BE34: =H34+K34+N34+Q34+T34+W34+Z34+AC34+AF34+AI34+AL34+AO34+AR34+AU34+AX34+BA34+BD34 -> 3644473
B35: 21 | C35: CAMBIO BUJES ARRANQUE | D35: SERVICIO | F35: 103978.1 | G35: 117071.34 | H35: =ROUND(((F35+G35)/2),0) -> 110525 | I35: 103978.1 | J35: 117071.34 | K35: =ROUND(((I35+J35)/2),0) -> 110525 | L35: 179207.6 | M35: 201773.97 | N35: =ROUND(((L35+M35)/2),0) -> 190491 | O35: 182591.83 | P35: 205584.35 | Q35: =ROUND(((O35+P35)/2),0) -> 194088 | R35: 183799.33 | S35: 206943.91 | T35: =ROUND(((R35+S35)/2),0) -> 195372 | U35: 285696.87 | V35: 270313.19 | W35: =ROUND(((U35+V35)/2),0) -> 278005 | X35: 210980.45 | Y35: 237547.75 | Z35: =ROUND(((X35+Y35)/2),0) -> 224264 | AA35: 208554.45 | AB35: 237547.75 | AC35: =ROUND(((AA35+AB35)/2),0) -> 223051 | AD35: 197594.8 | AE35: 237547.75 | AF35: =ROUND(((AD35+AE35)/2),0) -> 217571 | AG35: 200056.29 | AH35: 237547.75 | AI35: =ROUND(((AG35+AH35)/2),0) -> 218802 | AJ35: 204909.97 | AK35: 237547.75 | AL35: =ROUND(((AJ35+AK35)/2),0) -> 221229 | AM35: 292473.27 | AN35: 237547.75 | AO35: =ROUND(((AM35+AN35)/2),0) -> 265011 | AP35: 138731.26 | AQ35: 126992.46 | AR35: =ROUND(((AP35+AQ35)/2),0) -> 132862 | AS35: 167840.66 | AT35: 153638.76 | AU35: =ROUND(((AS35+AT35)/2),0) -> 160740 | AV35: 235726.27 | AW35: 237547.75 | AX35: =ROUND(((AV35+AW35)/2),0) -> 236637 | AY35: 249042.62 | AZ35: 237547.75 | BA35: =ROUND(((AY35+AZ35)/2),0) -> 243295 | BB35: 174554.18 | BC35: 159784.22 | BD35: =ROUND(((BB35+BC35)/2),0) -> 167169 | BE35: =H35+K35+N35+Q35+T35+W35+Z35+AC35+AF35+AI35+AL35+AO35+AR35+AU35+AX35+BA35+BD35 -> 3389637
B36: 22 | C36: CAMBIO BUJES DEL ALTERNADOR Y/O ESCOBILLAS | D36: SERVICIO | F36: 118814.61 | G36: 133776.11 | H36: =ROUND(((F36+G36)/2),0) -> 126295 | I36: 118814.61 | J36: 133776.11 | K36: =ROUND(((I36+J36)/2),0) -> 126295 | L36: 204663.23 | M36: 230435.05 | N36: =ROUND(((L36+M36)/2),0) -> 217549 | O36: 199916.86 | P36: 225091.01 | Q36: =ROUND(((O36+P36)/2),0) -> 212504 | R36: 209528.74 | S36: 235913.24 | T36: =ROUND(((R36+S36)/2),0) -> 222721 | U36: 319132.41 | V36: 301948.36 | W36: =ROUND(((U36+V36)/2),0) -> 310540 | X36: 235344.33 | Y36: 264979.61 | Z36: =ROUND(((X36+Y36)/2),0) -> 250162 | AA36: 231497.04 | AB36: 264979.61 | AC36: =ROUND(((AA36+AB36)/2),0) -> 248238 | AD36: 227638.77 | AE36: 264979.61 | AF36: =ROUND(((AD36+AE36)/2),0) -> 246309 | AG36: 229907.6 | AH36: 264979.61 | AI36: =ROUND(((AG36+AH36)/2),0) -> 247444 | AJ36: 236622.82 | AK36: 264979.61 | AL36: =ROUND(((AJ36+AK36)/2),0) -> 250801 | AM36: 329867.66 | AN36: 264979.61 | AO36: =ROUND(((AM36+AN36)/2),0) -> 297424 | AP36: 151756.93 | AQ36: 138915.96 | AR36: =ROUND(((AP36+AQ36)/2),0) -> 145336 | AS36: 191789.65 | AT36: 175561.3 | AU36: =ROUND(((AS36+AT36)/2),0) -> 183675 | AV36: 269413.89 | AW36: 264979.61 | AX36: =ROUND(((AV36+AW36)/2),0) -> 267197 | AY36: 274079.97 | AZ36: 264979.61 | BA36: =ROUND(((AY36+AZ36)/2),0) -> 269530 | BB36: 199461.4 | BC36: 182583.9 | BD36: =ROUND(((BB36+BC36)/2),0) -> 191023 | BE36: =H36+K36+N36+Q36+T36+W36+Z36+AC36+AF36+AI36+AL36+AO36+AR36+AU36+AX36+BA36+BD36 -> 3813043
B37: 23 | C37: CAMBIO BUJIAS | D37: SERVICIO | F37: 82008.095 | G37: 92334.807 | H37: =ROUND(((F37+G37)/2),0) -> 87171 | I37: 82008.095 | J37: 92334.807 | K37: =ROUND(((I37+J37)/2),0) -> 87171 | L37: 136919.58 | M37: 154160.91 | N37: =ROUND(((L37+M37)/2),0) -> 145540 | O37: 147001.27 | P37: 165512.12 | Q37: =ROUND(((O37+P37)/2),0) -> 156257 | R37: 144518.66 | S37: 162716.89 | T37: =ROUND(((R37+S37)/2),0) -> 153618 | U37: 211721.57 | V37: 200321.18 | W37: =ROUND(((U37+V37)/2),0) -> 206021 | X37: 157467.44 | Y37: 177296.22 | Z37: =ROUND(((X37+Y37)/2),0) -> 167382 | AA37: 155648.15 | AB37: 177296.22 | AC37: =ROUND(((AA37+AB37)/2),0) -> 166472 | AD37: 151088.54 | AE37: 177296.22 | AF37: =ROUND(((AD37+AE37)/2),0) -> 164192 | AG37: 153386.93 | AH37: 177296.22 | AI37: =ROUND(((AG37+AH37)/2),0) -> 165342 | AJ37: 162000.86 | AK37: 177296.22 | AL37: =ROUND(((AJ37+AK37)/2),0) -> 169649 | AM37: 223136.57 | AN37: 177296.22 | AO37: =ROUND(((AM37+AN37)/2),0) -> 200216 | AP37: 111824.76 | AQ37: 102362.67 | AR37: =ROUND(((AP37+AQ37)/2),0) -> 107094 | AS37: 132376.86 | AT37: 121175.74 | AU37: =ROUND(((AS37+AT37)/2),0) -> 126776 | AV37: 179952.04 | AW37: 177296.22 | AX37: =ROUND(((AV37+AW37)/2),0) -> 178624 | AY37: 192097.23 | AZ37: 177296.22 | BA37: =ROUND(((AY37+AZ37)/2),0) -> 184697 | BB37: 137671.62 | BC37: 126022.49 | BD37: =ROUND(((BB37+BC37)/2),0) -> 131847 | BE37: =H37+K37+N37+Q37+T37+W37+Z37+AC37+AF37+AI37+AL37+AO37+AR37+AU37+AX37+BA37+BD37 -> 2598069
B38: 24 | C38: CAMBIO BUJIAS PRECALENTAMIENTO | D38: SERVICIO | F38: 260000 | G38: 292740 | H38: =ROUND(((F38+G38)/2),0) -> 276370 | I38: 260000 | J38: 292740 | K38: =ROUND(((I38+J38)/2),0) -> 276370 | L38: 260000 | M38: 292740 | N38: =ROUND(((L38+M38)/2),0) -> 276370 | O38: 260000 | P38: 292740 | Q38: =ROUND(((O38+P38)/2),0) -> 276370 | R38: 260000 | S38: 292740 | T38: =ROUND(((R38+S38)/2),0) -> 276370 | U38: 309400 | V38: 292740 | W38: =ROUND(((U38+V38)/2),0) -> 301070 | X38: 260000 | Y38: 292740 | Z38: =ROUND(((X38+Y38)/2),0) -> 276370 | AA38: 260000 | AB38: 292740 | AC38: =ROUND(((AA38+AB38)/2),0) -> 276370 | AD38: 260000 | AE38: 292740 | AF38: =ROUND(((AD38+AE38)/2),0) -> 276370 | AG38: 260000 | AH38: 292740 | AI38: =ROUND(((AG38+AH38)/2),0) -> 276370 | AJ38: 260000 | AK38: 292740 | AL38: =ROUND(((AJ38+AK38)/2),0) -> 276370 | AM38: 309400 | AN38: 292740 | AO38: =ROUND(((AM38+AN38)/2),0) -> 301070 | AP38: 260000 | AQ38: 238000 | AR38: =ROUND(((AP38+AQ38)/2),0) -> 249000 | AS38: 260000 | AT38: 238000 | AU38: =ROUND(((AS38+AT38)/2),0) -> 249000 | AV38: 260000 | AW38: 292740 | AX38: =ROUND(((AV38+AW38)/2),0) -> 276370 | AY38: 260000 | AZ38: 292740 | BA38: =ROUND(((AY38+AZ38)/2),0) -> 276370 | BB38: 260000 | BC38: 238000 | BD38: =ROUND(((BB38+BC38)/2),0) -> 249000 | BE38: =H38+K38+N38+Q38+T38+W38+Z38+AC38+AF38+AI38+AL38+AO38+AR38+AU38+AX38+BA38+BD38 -> 4665580
B39: 25 | C39: CAMBIO CABLES DE BATERIA | D39: SERVICIO | F39: 84500 | G39: 95140.5 | H39: =ROUND(((F39+G39)/2),0) -> 89820 | I39: 84500 | J39: 95140.5 | K39: =ROUND(((I39+J39)/2),0) -> 89820 | L39: 84500 | M39: 95140.5 | N39: =ROUND(((L39+M39)/2),0) -> 89820 | O39: 84500 | P39: 95140.5 | Q39: =ROUND(((O39+P39)/2),0) -> 89820 | R39: 84500 | S39: 95140.5 | T39: =ROUND(((R39+S39)/2),0) -> 89820 | U39: 100555 | V39: 95140.5 | W39: =ROUND(((U39+V39)/2),0) -> 97848 | X39: 84500 | Y39: 95140.5 | Z39: =ROUND(((X39+Y39)/2),0) -> 89820 | AA39: 84500 | AB39: 95140.5 | AC39: =ROUND(((AA39+AB39)/2),0) -> 89820 | AD39: 84500 | AE39: 95140.5 | AF39: =ROUND(((AD39+AE39)/2),0) -> 89820 | AG39: 84500 | AH39: 95140.5 | AI39: =ROUND(((AG39+AH39)/2),0) -> 89820 | AJ39: 84500 | AK39: 95140.5 | AL39: =ROUND(((AJ39+AK39)/2),0) -> 89820 | AM39: 100555 | AN39: 95140.5 | AO39: =ROUND(((AM39+AN39)/2),0) -> 97848 | AP39: 84500 | AQ39: 77350 | AR39: =ROUND(((AP39+AQ39)/2),0) -> 80925 | AS39: 84500 | AT39: 77350 | AU39: =ROUND(((AS39+AT39)/2),0) -> 80925 | AV39: 84500 | AW39: 95140.5 | AX39: =ROUND(((AV39+AW39)/2),0) -> 89820 | AY39: 84500 | AZ39: 95140.5 | BA39: =ROUND(((AY39+AZ39)/2),0) -> 89820 | BB39: 84500 | BC39: 77350 | BD39: =ROUND(((BB39+BC39)/2),0) -> 80925 | BE39: =H39+K39+N39+Q39+T39+W39+Z39+AC39+AF39+AI39+AL39+AO39+AR39+AU39+AX39+BA39+BD39 -> 1516311
B40: 26 | C40: CAMBIO CARCAZA ARRANQUE | D40: SERVICIO | F40: 104971.82 | G40: 118190.19 | H40: =ROUND(((F40+G40)/2),0) -> 111581 | I40: 104971.82 | J40: 118190.19 | K40: =ROUND(((I40+J40)/2),0) -> 111581 | L40: 186273.49 | M40: 209729.62 | N40: =ROUND(((L40+M40)/2),0) -> 198002 | O40: 184155.92 | P40: 207345.4 | Q40: =ROUND(((O40+P40)/2),0) -> 195751 | R40: 185297.52 | S40: 208630.75 | T40: =ROUND(((R40+S40)/2),0) -> 196964 | U40: 274074.72 | V40: 259316.85 | W40: =ROUND(((U40+V40)/2),0) -> 266696 | X40: 204677.59 | Y40: 230451.22 | Z40: =ROUND(((X40+Y40)/2),0) -> 217564 | AA40: 193161.09 | AB40: 230451.22 | AC40: =ROUND(((AA40+AB40)/2),0) -> 211806 | AD40: 205824.26 | AE40: 230451.22 | AF40: =ROUND(((AD40+AE40)/2),0) -> 218138 | AG40: 204374.24 | AH40: 230451.22 | AI40: =ROUND(((AG40+AH40)/2),0) -> 217413 | AJ40: 200082.48 | AK40: 230451.22 | AL40: =ROUND(((AJ40+AK40)/2),0) -> 215267 | AM40: 283704.87 | AN40: 230451.22 | AO40: =ROUND(((AM40+AN40)/2),0) -> 257078 | AP40: 139913.41 | AQ40: 128074.58 | AR40: =ROUND(((AP40+AQ40)/2),0) -> 133994 | AS40: 169444.47 | AT40: 155106.86 | AU40: =ROUND(((AS40+AT40)/2),0) -> 162276 | AV40: 245020.42 | AW40: 230451.22 | AX40: =ROUND(((AV40+AW40)/2),0) -> 237736 | AY40: 245020.42 | AZ40: 230451.22 | BA40: =ROUND(((AY40+AZ40)/2),0) -> 237736 | BB40: 176222.22 | BC40: 161311.1 | BD40: =ROUND(((BB40+BC40)/2),0) -> 168767 | BE40: =H40+K40+N40+Q40+T40+W40+Z40+AC40+AF40+AI40+AL40+AO40+AR40+AU40+AX40+BA40+BD40 -> 3358350
B41: 27 | C41: CAMBIO CONTROLES BLOQUEO CENTRAL | D41: SERVICIO | F41: 195000 | G41: 219555 | H41: =ROUND(((F41+G41)/2),0) -> 207278 | I41: 195000 | J41: 219555 | K41: =ROUND(((I41+J41)/2),0) -> 207278 | L41: 195000 | M41: 219555 | N41: =ROUND(((L41+M41)/2),0) -> 207278 | O41: 195000 | P41: 219555 | Q41: =ROUND(((O41+P41)/2),0) -> 207278 | R41: 195000 | S41: 219555 | T41: =ROUND(((R41+S41)/2),0) -> 207278 | U41: 232050 | V41: 219555 | W41: =ROUND(((U41+V41)/2),0) -> 225803 | X41: 195000 | Y41: 219555 | Z41: =ROUND(((X41+Y41)/2),0) -> 207278 | AA41: 195000 | AB41: 219555 | AC41: =ROUND(((AA41+AB41)/2),0) -> 207278 | AD41: 195000 | AE41: 219555 | AF41: =ROUND(((AD41+AE41)/2),0) -> 207278 | AG41: 195000 | AH41: 219555 | AI41: =ROUND(((AG41+AH41)/2),0) -> 207278 | AJ41: 195000 | AK41: 219555 | AL41: =ROUND(((AJ41+AK41)/2),0) -> 207278 | AM41: 232050 | AN41: 219555 | AO41: =ROUND(((AM41+AN41)/2),0) -> 225803 | AP41: 195000 | AQ41: 178500 | AR41: =ROUND(((AP41+AQ41)/2),0) -> 186750 | AS41: 195000 | AT41: 178500 | AU41: =ROUND(((AS41+AT41)/2),0) -> 186750 | AV41: 195000 | AW41: 219555 | AX41: =ROUND(((AV41+AW41)/2),0) -> 207278 | AY41: 195000 | AZ41: 219555 | BA41: =ROUND(((AY41+AZ41)/2),0) -> 207278 | BB41: 195000 | BC41: 178500 | BD41: =ROUND(((BB41+BC41)/2),0) -> 186750 | BE41: =H41+K41+N41+Q41+T41+W41+Z41+AC41+AF41+AI41+AL41+AO41+AR41+AU41+AX41+BA41+BD41 -> 3499192
B42: 28 | C42: CAMBIO DE ALTERNADOR | D42: SERVICIO | F42: 168220.91 | G42: 189403.8 | H42: =ROUND(((F42+G42)/2),0) -> 178812 | I42: 168220.91 | J42: 189403.8 | K42: =ROUND(((I42+J42)/2),0) -> 178812 | L42: 296895.82 | M42: 334281.86 | N42: =ROUND(((L42+M42)/2),0) -> 315589 | O42: 291966.93 | P42: 328732.31 | Q42: =ROUND(((O42+P42)/2),0) -> 310350 | R42: 297127.35 | S42: 334542.54 | T42: =ROUND(((R42+S42)/2),0) -> 315835 | U42: 436014.52 | V42: 412536.82 | W42: =ROUND(((U42+V42)/2),0) -> 424276 | X42: 334078.35 | Y42: 376146.53 | Z42: =ROUND(((X42+Y42)/2),0) -> 355112 | AA42: 319774.2 | AB42: 376146.53 | AC42: =ROUND(((AA42+AB42)/2),0) -> 347960 | AD42: 330512.46 | AE42: 376146.53 | AF42: =ROUND(((AD42+AE42)/2),0) -> 353329 | AG42: 328253.77 | AH42: 376146.53 | AI42: =ROUND(((AG42+AH42)/2),0) -> 352200 | AJ42: 332296.25 | AK42: 376146.53 | AL42: =ROUND(((AJ42+AK42)/2),0) -> 354221 | AM42: 453553.33 | AN42: 376146.53 | AO42: =ROUND(((AM42+AN42)/2),0) -> 414850 | AP42: 221315.64 | AQ42: 202588.93 | AR42: =ROUND(((AP42+AQ42)/2),0) -> 211952 | AS42: 271540.75 | AT42: 248564.23 | AU42: =ROUND(((AS42+AT42)/2),0) -> 260052 | AV42: 390994.17 | AW42: 376146.53 | AX42: =ROUND(((AV42+AW42)/2),0) -> 383570 | AY42: 384513.87 | AZ42: 376146.53 | BA42: =ROUND(((AY42+AZ42)/2),0) -> 380330 | BB42: 282402.38 | BC42: 258506.79 | BD42: =ROUND(((BB42+BC42)/2),0) -> 270455 | BE42: =H42+K42+N42+Q42+T42+W42+Z42+AC42+AF42+AI42+AL42+AO42+AR42+AU42+AX42+BA42+BD42 -> 5407705
... B64: 50 | C64: REVISION FUNCIONAMIENTO TABLERO INSTRUMENTOS | D64: SERVICIO | F64: 255097.05 | G64: 287219.66 | H64: =ROUND(((F64+G64)/2),0) -> 271158 | I64: 255097.05 | J64: 287219.66 | K64: =ROUND(((I64+J64)/2),0) -> 271158 | L64: 472583.99 | M64: 532093.23 | N64: =ROUND(((L64+M64)/2),0) -> 502339 | O64: 469819.16 | P64: 528980.23 | Q64: =ROUND(((O64+P64)/2),0) -> 499400 | R64: 469870.7 | S64: 529038.26 | T64: =ROUND(((R64+S64)/2),0) -> 499454 | U64: 561879.22 | V64: 531624.18 | W64: =ROUND(((U64+V64)/2),0) -> 546752 | X64: 465022.09 | Y64: 523579.1 | Z64: =ROUND(((X64+Y64)/2),0) -> 494301 | AA64: 463344.77 | AB64: 523579.1 | AC64: =ROUND(((AA64+AB64)/2),0) -> 493462 | AD64: 464604.66 | AE64: 523579.1 | AF64: =ROUND(((AD64+AE64)/2),0) -> 494092 | AG64: 464813.38 | AH64: 523579.1 | AI64: =ROUND(((AG64+AH64)/2),0) -> 494196 | AJ64: 464185.54 | AK64: 523579.1 | AL64: =ROUND(((AJ64+AK64)/2),0) -> 493882 | AM64: 561005.39 | AN64: 523579.1 | AO64: =ROUND(((AM64+AN64)/2),0) -> 542292 | AP64: 259328.81 | AQ64: 237385.6 | AR64: =ROUND(((AP64+AQ64)/2),0) -> 248357 | AS64: 395516.61 | AT64: 362049.82 | AU64: =ROUND(((AS64+AT64)/2),0) -> 378783 | AV64: 471013.98 | AW64: 523579.1 | AX64: =ROUND(((AV64+AW64)/2),0) -> 497297 | AY64: 471517.61 | AZ64: 523579.1 | BA64: =ROUND(((AY64+AZ64)/2),0) -> 497548 | BB64: 543835.24 | BC64: 497818.41 | BD64: =ROUND(((BB64+BC64)/2),0) -> 520827 | BE64: =H64+K64+N64+Q64+T64+W64+Z64+AC64+AF64+AI64+AL64+AO64+AR64+AU64+AX64+BA64+BD64 -> 7745298
B65: SUSPENSIÓN | F65: =+SUM(F66:F84) -> 2784962.2 | G65: =SUM(G66:G84) -> 3135653.2 | H65: =SUM(H66:H84) -> 2960307 | I65: =+SUM(I66:I84) -> 2784962.2 | J65: =SUM(J66:J84) -> 3135653.2 | K65: =SUM(K66:K84) -> 2960307 | L65: =+SUM(L66:L84) -> 3601897.2 | M65: =SUM(M66:M84) -> 4055459.2 | N65: =SUM(N66:N84) -> 3828676 | O65: =+SUM(O66:O84) -> 3833096.8 | P65: =SUM(P66:P84) -> 4315772.1 | Q65: =SUM(Q66:Q84) -> 4074434 | R65: =+SUM(R66:R84) -> 3814640.3 | S65: =SUM(S66:S84) -> 4294991.6 | T65: =SUM(T66:T84) -> 4054817 | U65: =+SUM(U66:U84) -> 5392591.9 | V65: =SUM(V66:V84) -> 5102221.6 | W65: =SUM(W66:W84) -> 5247407 | X65: =+SUM(X66:X84) -> 4069052.1 | Y65: =SUM(Y66:Y84) -> 4581439.6 | Z65: =SUM(Z66:Z84) -> 4325245 | AA65: =+SUM(AA66:AA84) -> 4076697.6 | AB65: =SUM(AB66:AB84) -> 4581439.6 | AC65: =SUM(AC66:AC84) -> 4329069 | AD65: =+SUM(AD66:AD84) -> 4074184.6 | AE65: =SUM(AE66:AE84) -> 4581439.6 | AF65: =SUM(AF66:AF84) -> 4327811 | AG65: =+SUM(AG66:AG84) -> 4071092.7 | AH65: =SUM(AH66:AH84) -> 4581439.6 | AI65: =SUM(AI66:AI84) -> 4326265 | AJ65: =+SUM(AJ66:AJ84) -> 4087386 | AK65: =SUM(AK66:AK84) -> 4581439.6 | AL65: =SUM(AL66:AL84) -> 4334414 | AM65: =+SUM(AM66:AM84) -> 5359325.3 | AN65: =SUM(AN66:AN84) -> 4581439.6 | AO65: =SUM(AO66:AO84) -> 4970381 | AP65: =+SUM(AP66:AP84) -> 3402287.9 | AQ65: =SUM(AQ66:AQ84) -> 3114402 | AR65: =SUM(AR66:AR84) -> 3258345 | AS65: =+SUM(AS66:AS84) -> 3597207.4 | AT65: =SUM(AT66:AT84) -> 3292828.4 | AU65: =SUM(AU66:AU84) -> 3445017 | AV65: =+SUM(AV66:AV84) -> 4559365.9 | AW65: =SUM(AW66:AW84) -> 4581439.6 | AX65: =SUM(AX66:AX84) -> 4570402 | AY65: =+SUM(AY66:AY84) -> 4544998.3 | AZ65: =SUM(AZ66:AZ84) -> 4581439.6 | BA65: =SUM(BA66:BA84) -> 4563218 | BB65: =+SUM(BB66:BB84) -> 3682595.5 | BC65: =SUM(BC66:BC84) -> 3370991.3 | BD65: =SUM(BD66:BD84) -> 3526792 | BE65: =H65+K65+N65+Q65+T65+W65+Z65+AC65+AF65+AI65+AL65+AO65+AR65+AU65+AX65+BA65+BD65 -> 69102907
B66: 51 | C66: AJUSTE DE MORDAZA DELANTERAS | D66: SERVICIO | F66: 136500 | G66: 153688.5 | H66: =ROUND(((F66+G66)/2),0) -> 145094 | I66: 136500 | J66: 153688.5 | K66: =ROUND(((I66+J66)/2),0) -> 145094 | L66: 136500 | M66: 153688.5 | N66: =ROUND(((L66+M66)/2),0) -> 145094 | O66: 136500 | P66: 153688.5 | Q66: =ROUND(((O66+P66)/2),0) -> 145094 | R66: 136500 | S66: 153688.5 | T66: =ROUND(((R66+S66)/2),0) -> 145094 | U66: 162435 | V66: 153688.5 | W66: =ROUND(((U66+V66)/2),0) -> 158062 | X66: 136500 | Y66: 153688.5 | Z66: =ROUND(((X66+Y66)/2),0) -> 145094 | AA66: 136500 | AB66: 153688.5 | AC66: =ROUND(((AA66+AB66)/2),0) -> 145094 | AD66: 136500 | AE66: 153688.5 | AF66: =ROUND(((AD66+AE66)/2),0) -> 145094 | AG66: 136500 | AH66: 153688.5 | AI66: =ROUND(((AG66+AH66)/2),0) -> 145094 | AJ66: 136500 | AK66: 153688.5 | AL66: =ROUND(((AJ66+AK66)/2),0) -> 145094 | AM66: 162435 | AN66: 153688.5 | AO66: =ROUND(((AM66+AN66)/2),0) -> 158062 | AP66: 136500 | AQ66: 124950 | AR66: =ROUND(((AP66+AQ66)/2),0) -> 130725 | AS66: 136500 | AT66: 124950 | AU66: =ROUND(((AS66+AT66)/2),0) -> 130725 | AV66: 136500 | AW66: 153688.5 | AX66: =ROUND(((AV66+AW66)/2),0) -> 145094 | AY66: 136500 | AZ66: 153688.5 | BA66: =ROUND(((AY66+AZ66)/2),0) -> 145094 | BB66: 136500 | BC66: 124950 | BD66: =ROUND(((BB66+BC66)/2),0) -> 130725 | BE66: =H66+K66+N66+Q66+T66+W66+Z66+AC66+AF66+AI66+AL66+AO66+AR66+AU66+AX66+BA66+BD66 -> 2449427
B67: 52 | C67: AJUSTE Y ENGRASE RODAMIENTOS (INCLUYE INSUMO) | D67: SERVICIO | F67: 138643.38 | G67: 156101.78 | H67: =ROUND(((F67+G67)/2),0) -> 147373 | I67: 138643.38 | J67: 156101.78 | K67: =ROUND(((I67+J67)/2),0) -> 147373 | L67: 222350.77 | M67: 250349.86 | N67: =ROUND(((L67+M67)/2),0) -> 236350 | O67: 245407.43 | P67: 276309.89 | Q67: =ROUND(((O67+P67)/2),0) -> 260859 | R67: 245697.27 | S67: 276636.23 | T67: =ROUND(((R67+S67)/2),0) -> 261167 | U67: 361975.88 | V67: 342484.87 | W67: =ROUND(((U67+V67)/2),0) -> 352230 | X67: 259531.61 | Y67: 292212.63 | Z67: =ROUND(((X67+Y67)/2),0) -> 275872 | AA67: 275279.88 | AB67: 292212.63 | AC67: =ROUND(((AA67+AB67)/2),0) -> 283746 | AD67: 259531.61 | AE67: 292212.63 | AF67: =ROUND(((AD67+AE67)/2),0) -> 275872 | AG67: 262789.09 | AH67: 292212.63 | AI67: =ROUND(((AG67+AH67)/2),0) -> 277501 | AJ67: 258089.2 | AK67: 292212.63 | AL67: =ROUND(((AJ67+AK67)/2),0) -> 275151 | AM67: 373992.2 | AN67: 292212.63 | AO67: =ROUND(((AM67+AN67)/2),0) -> 333102 | AP67: 194134.52 | AQ67: 177707.76 | AR67: =ROUND(((AP67+AQ67)/2),0) -> 185921 | AS67: 223796.56 | AT67: 204859.93 | AU67: =ROUND(((AS67+AT67)/2),0) -> 214328 | AV67: 302942.64 | AW67: 292212.63 | AX67: =ROUND(((AV67+AW67)/2),0) -> 297578 | AY67: 309869.95 | AZ67: 292212.63 | BA67: =ROUND(((AY67+AZ67)/2),0) -> 301041 | BB67: 232748.49 | BC67: 213054.39 | BD67: =ROUND(((BB67+BC67)/2),0) -> 222901 | BE67: =H67+K67+N67+Q67+T67+W67+Z67+AC67+AF67+AI67+AL67+AO67+AR67+AU67+AX67+BA67+BD67 -> 4348365
...

Sheet ESTUDIO DE MERCADO 2024
F1: FORMATO OFERTA ECONÓMICA
F3: OFERTA MANTENIMIENTO VEHICULOS
B4: ITEM | C4: SERVICIO MANTENIMIENTO PREVENTIVO INCLUIDO MANO DE OBRA, INSUMOS, HERRAMIENTAS MAYORES Y MENORES | D4: UNIDAD DE MEDIDA | F4: CAMPERO CHEVROLET VITARA MODELO 2006 | I4: CAMPERO CHEVROLET VITARA MODELO 2012 | L4: BUS CHEVROLET B70 MODELO 2005 | O4: CAMIÓN CHEVROLET NPR MODELO 2008 | R4: CAMIÓN CHEVROLET NHR MODELO 2008 | U4: CAMIÓN CHEVROLET NNR MODELO 2010 | X4: VOLQUETA INTERNATIONAL 4700 MODELO 1995 | AA4: CAMIONETA DOBLE CABINA NISSAN MODELO 2013 | AD4: BUS CHEVROLET MODELO 2013 | AG4: BUS CHEVROLET MODELO 2014 | AJ4: VAN HIUNDAY STAREX PANEL MODELO 2006
F5: CENTRO CAR 19 LTDA. | G5: DORADAUTOS S.A.S. | H5: VALOR DE REFERENCIA | I5: CENTRO CAR 19 LTDA. | J5: DORADAUTOS S.A.S. | K5: VALOR DE REFERENCIA | L5: CENTRO CAR 19 LTDA. | M5: DORADAUTOS S.A.S. | N5: VALOR DE REFERENCIA | O5: CENTRO CAR 19 LTDA. | P5: DORADAUTOS S.A.S. | Q5: VALOR DE REFERENCIA | R5: CENTRO CAR 19 LTDA. | S5: DORADAUTOS S.A.S. | T5: VALOR DE REFERENCIA | U5: CENTRO CAR 19 LTDA. | V5: DORADAUTOS S.A.S. | W5: VALOR DE REFERENCIA | X5: CENTRO CAR 19 LTDA. | Y5: DORADAUTOS S.A.S. | Z5: VALOR DE REFERENCIA | AA5: CENTRO CAR 19 LTDA. | AB5: DORADAUTOS S.A.S. | AC5: VALOR DE REFERENCIA | AD5: CENTRO CAR 19 LTDA. | AE5: DORADAUTOS S.A.S. | AF5: VALOR DE REFERENCIA | AG5: CENTRO CAR 19 LTDA. | AH5: DORADAUTOS S.A.S. | AI5: VALOR DE REFERENCIA | AJ5: CENTRO CAR 19 LTDA. | AK5: DORADAUTOS S.A.S. | AL5: VALOR DE REFERENCIA
A6: MANTENIMIENTO PREVENTIVO (SOLO VALOR MANO DE OBRA INCLUIDO IVA) | B6: 1 | C6: CAMBIO DE ACEITE, INCLUYE FILTRO DE ACEITE, FILTRO DE COMBUSTIBLE Y AIRE (INCLUYE MANO DE OBRA E INSUMOS) | D6: SERVICIO | F6: 434461.72 | G6: 411067.63 | H6: =ROUND(((F6+G6)/2),0) -> 422765 | I6: 434461.72 | J6: 411067.63 | K6: =ROUND(((I6+J6)/2),0) -> 422765 | L6: 1577159.1 | M6: 1492235.1 | N6: =ROUND(((L6+M6)/2),0) -> 1534697 | O6: 1666634.2 | P6: 1614855.7 | Q6: =ROUND(((O6+P6)/2),0) -> 1640745 | R6: 1643800.8 | S6: 1614855.7 | T6: =ROUND(((R6+S6)/2),0) -> 1629328 | U6: 1540166.5 | V6: 1614855.7 | W6: 1577511 | X6: 2215987.8 | Y6: 1865231.7 | Z6: =ROUND(((X6+Y6)/2),0) -> 2040610 | AA6: 648617.97 | AB6: 498936.9 | AC6: =ROUND(((AA6+AB6)/2),0) -> 573777 | AD6: 1871151.5 | AE6: 1865231.7 | AF6: =ROUND(((AD6+AE6)/2),0) -> 1868192 | AG6: 1863197.6 | AH6: 1865231.7 | AI6: =ROUND(((AG6+AH6)/2),0) -> 1864215 | AJ6: 623217.15 | AK6: 479397.81 | AL6: =ROUND(((AJ6+AK6)/2),0) -> 551307
B7: 2 | C7: ALINEACIÓN | D7: SERVICIO | F7: 68575.445 | G7: 64882.921 | H7: =ROUND(((F7+G7)/2),0) -> 66729 | I7: 68575.445 | J7: 64882.921 | K7: =ROUND(((I7+J7)/2),0) -> 66729 | L7: 116597.09 | M7: 110318.78 | N7: =ROUND(((L7+M7)/2),0) -> 113458 | O7: 153860.51 | P7: 145575.71 | Q7: =ROUND(((O7+P7)/2),0) -> 149718 | R7: 153860.51 | S7: 145575.71 | T7: =ROUND(((R7+S7)/2),0) -> 149718 | U7: 153860.51 | V7: 145575.71 | W7: 149718 | X7: 160345.06 | Y7: 145575.71 | Z7: =ROUND(((X7+Y7)/2),0) -> 152960 | AA7: 91968.488 | AB7: 70744.991 | AC7: =ROUND(((AA7+AB7)/2),0) -> 81357 | AD7: 153860.51 | AE7: 145575.71 | AF7: =ROUND(((AD7+AE7)/2),0) -> 149718 | AG7: 153860.51 | AH7: 145575.71 | AI7: =ROUND(((AG7+AH7)/2),0) -> 149718 | AJ7: 115122.46 | AK7: 88555.738 | AL7: =ROUND(((AJ7+AK7)/2),0) -> 101839
B8: 3 | C8: BALANCEO Y ROTACIÓN X 4 | D8: SERVICIO | F8: 73644.608 | G8: 69679.129 | H8: =ROUND(((F8+G8)/2),0) -> 71662 | I8: 73644.608 | J8: 69679.129 | K8: =ROUND(((I8+J8)/2),0) -> 71662 | L8: 212138.95 | M8: 200716.09 | N8: =ROUND(((L8+M8)/2),0) -> 206428 | O8: 276572.96 | P8: 256162.73 | Q8: =ROUND(((O8+P8)/2),0) -> 266368 | R8: 277306.04 | S8: 256162.73 | T8: =ROUND(((R8+S8)/2),0) -> 266734 | U8: 269278.1 | V8: 256162.73 | W8: 262720 | X8: 286269.11 | Y8: 256162.73 | Z8: =ROUND(((X8+Y8)/2),0) -> 271216 | AA8: 98901.562 | AB8: 76078.125 | AC8: =ROUND(((AA8+AB8)/2),0) -> 87490 | AD8: 270741.1 | AE8: 256162.73 | AF8: =ROUND(((AD8+AE8)/2),0) -> 263452 | AG8: 276572.96 | AH8: 256162.73 | AI8: =ROUND(((AG8+AH8)/2),0) -> 266368 | AJ8: 123631.71 | AK8: 95101.318 | AL8: =ROUND(((AJ8+AK8)/2),0) -> 109367
B9: 4 | C9: DESPINCHE | D9: SERVICIO | F9: 32548.88 | G9: 30796.248 | H9: =ROUND(((F9+G9)/2),0) -> 31673 | I9: 32548.88 | J9: 30796.248 | K9: =ROUND(((I9+J9)/2),0) -> 31673 | L9: 48823.32 | M9: 46194.372 | N9: =ROUND(((L9+M9)/2),0) -> 47509 | O9: 48823.32 | P9: 46194.372 | Q9: =ROUND(((O9+P9)/2),0) -> 47509 | R9: 48823.32 | S9: 46194.372 | T9: =ROUND(((R9+S9)/2),0) -> 47509 | U9: 48823.32 | V9: 46194.372 | W9: 47509 | X9: 48823.32 | Y9: 46194.372 | Z9: =ROUND(((X9+Y9)/2),0) -> 47509 | AA9: 32548.88 | AB9: 25037.6 | AC9: =ROUND(((AA9+AB9)/2),0) -> 28793 | AD9: 48823.32 | AE9: 46194.372 | AF9: =ROUND(((AD9+AE9)/2),0) -> 47509 | AG9: 48823.32 | AH9: 46194.372 | AI9: =ROUND(((AG9+AH9)/2),0) -> 47509 | AJ9: 40686.1 | AK9: 31297 | AL9: =ROUND(((AJ9+AK9)/2),0) -> 35992
B10: 5 | C10: ENGRASE GENERAL | D10: SERVICIO | F10: 115393.27 | G10: 109179.78 | H10: =ROUND(((F10+G10)/2),0) -> 112287 | I10: 115393.27 | J10: 109179.78 | K10: =ROUND(((I10+J10)/2),0) -> 112287 | L10: 267184.64 | M10: 252797.78 | N10: =ROUND(((L10+M10)/2),0) -> 259991 | O10: 255714.5 | P10: 237789.61 | Q10: =ROUND(((O10+P10)/2),0) -> 246752 | R10: 256083.68 | S10: 237789.61 | T10: =ROUND(((R10+S10)/2),0) -> 246937 | U10: 246921.74 | V10: 237789.61 | W10: 242356 | X10: 262083.74 | Y10: 237789.61 | Z10: =ROUND(((X10+Y10)/2),0) -> 249937 | AA10: 67715.422 | AB10: 52088.786 | AC10: =ROUND(((AA10+AB10)/2),0) -> 59902 | AD10: 255714.5 | AE10: 237789.61 | AF10: =ROUND(((AD10+AE10)/2),0) -> 246752 | AG10: 255714.5 | AH10: 237789.61 | AI10: =ROUND(((AG10+AH10)/2),0) -> 246752 | AJ10: 87087.621 | AK10: 66990.477 | AL10: =ROUND(((AJ10+AK10)/2),0) -> 77039
B11: 6 | C11: GRADUACIÓN DE FRENOS | D11: SERVICIO | F11: 81372.2 | G11: 76990.62 | H11: =ROUND(((F11+G11)/2),0) -> 79181 | I11: 81372.2 | J11: 76990.62 | K11: =ROUND(((I11+J11)/2),0) -> 79181 | L11: 130195.52 | M11: 123184.99 | N11: =ROUND(((L11+M11)/2),0) -> 126690 | O11: 130195.52 | P11: 123184.99 | Q11: =ROUND(((O11+P11)/2),0) -> 126690 | R11: 130195.52 | S11: 123184.99 | T11: =ROUND(((R11+S11)/2),0) -> 126690 | U11: 130195.52 | V11: 123184.99 | W11: 126690 | X11: 130195.52 | Y11: 123184.99 | Z11: =ROUND(((X11+Y11)/2),0) -> 126690 | AA11: 130195.52 | AB11: 100150.4 | AC11: =ROUND(((AA11+AB11)/2),0) -> 115173 | AD11: 130195.52 | AE11: 123184.99 | AF11: =ROUND(((AD11+AE11)/2),0) -> 126690 | AG11: 130195.52 | AH11: 123184.99 | AI11: =ROUND(((AG11+AH11)/2),0) -> 126690 | AJ11: 81372.2 | AK11: 62594 | AL11: =ROUND(((AJ11+AK11)/2),0) -> 71983
B12: 7 | C12: LAVADO (ENJUAGUE) | D12: SERVICIO | F12: 33235.173 | G12: 31445.587 | H12: =ROUND(((F12+G12)/2),0) -> 32340 | I12: 33235.173 | J12: 31445.587 | K12: =ROUND(((I12+J12)/2),0) -> 32340 | L12: 76277.568 | M12: 72170.314 | N12: =ROUND(((L12+M12)/2),0) -> 74224 | O12: 100387.83 | P12: 94447.858 | Q12: =ROUND(((O12+P12)/2),0) -> 97418 | R12: 99959.401 | S12: 94447.858 | T12: =ROUND(((R12+S12)/2),0) -> 97204 | U12: 99258.054 | V12: 94447.858 | W12: 96853 | X12: 103176.29 | Y12: 94447.858 | Z12: =ROUND(((X12+Y12)/2),0) -> 98812 | AA12: 43644.305 | AB12: 33572.542 | AC12: =ROUND(((AA12+AB12)/2),0) -> 38608 | AD12: 98126.166 | AE12: 94447.858 | AF12: =ROUND(((AD12+AE12)/2),0) -> 96287 | AG12: 100387.83 | AH12: 94447.858 | AI12: =ROUND(((AG12+AH12)/2),0) -> 97418 | AJ12: 55793.581 | AK12: 42918.139 | AL12: =ROUND(((AJ12+AK12)/2),0) -> 49356
B13: 8 | C13: LAVADO GENERAL INCLUIDO MOTOR | D13: SERVICIO | F13: 54917.691 | G13: 51960.584 | H13: =ROUND(((F13+G13)/2),0) -> 53439 | I13: 54917.691 | J13: 51960.584 | K13: =ROUND(((I13+J13)/2),0) -> 53439 | L13: 119762.14 | M13: 113313.41 | N13: =ROUND(((L13+M13)/2),0) -> 116538 | O13: 160360.93 | P13: 147754.62 | Q13: =ROUND(((O13+P13)/2),0) -> 154058 | R13: 160572.49 | S13: 147754.62 | T13: =ROUND(((R13+S13)/2),0) -> 154164 | U13: 159523.12 | V13: 147754.62 | W13: 153639 | X13: 166958.67 | Y13: 147754.62 | Z13: =ROUND(((X13+Y13)/2),0) -> 157357 | AA13: 74560.696 | AB13: 57354.381 | AC13: =ROUND(((AA13+AB13)/2),0) -> 65958 | AD13: 160360.93 | AE13: 147754.62 | AF13: =ROUND(((AD13+AE13)/2),0) -> 154058 | AG13: 158684.25 | AH13: 147754.62 | AI13: =ROUND(((AG13+AH13)/2),0) -> 153219 | AJ13: 92192.75 | AK13: 70917.5 | AL13: =ROUND(((AJ13+AK13)/2),0) -> 81555
B14: 9 | C14: REPARACIÓN DE LLANTA | D14: SERVICIO | F14: 48823.32 | G14: 46194.372 | H14: =ROUND(((F14+G14)/2),0) -> 47509 | I14: 48823.32 | J14: 46194.372 | K14: =ROUND(((I14+J14)/2),0) -> 47509 | L14: 65097.76 | M14: 61592.496 | N14: =ROUND(((L14+M14)/2),0) -> 63345 | O14: 65097.76 | P14: 61592.496 | Q14: =ROUND(((O14+P14)/2),0) -> 63345 | R14: 65097.76 | S14: 61592.496 | T14: =ROUND(((R14+S14)/2),0) -> 63345 | U14: 65097.76 | V14: 61592.496 | W14: 63345 | X14: 65097.76 | Y14: 61592.496 | Z14: =ROUND(((X14+Y14)/2),0) -> 63345 | AA14: 48823.32 | AB14: 37556.4 | AC14: =ROUND(((AA14+AB14)/2),0) -> 43190 | AD14: 65097.76 | AE14: 61592.496 | AF14: =ROUND(((AD14+AE14)/2),0) -> 63345 | AG14: 65097.76 | AH14: 61592.496 | AI14: =ROUND(((AG14+AH14)/2),0) -> 63345 | AJ14: 56960.54 | AK14: 43815.8 | AL14: =ROUND(((AJ14+AK14)/2),0) -> 50388
B15: 10 | C15: REVISIÓN DIRECCIÓN | D15: SERVICIO | F15: 115934.88 | G15: 109692.23 | H15: =ROUND(((F15+G15)/2),0) -> 112814 | I15: 115934.88 | J15: 109692.23 | K15: =ROUND(((I15+J15)/2),0) -> 112814 | L15: 166491.1 | M15: 157526.2 | N15: =ROUND(((L15+M15)/2),0) -> 162009 | O15: 222552.32 | P15: 211715.74 | Q15: =ROUND(((O15+P15)/2),0) -> 217134 | R15: 222858.03 | S15: 211715.74 | T15: =ROUND(((R15+S15)/2),0) -> 217287 | U15: 227392.99 | V15: 211715.74 | W15: 219554 | X15: 235233.69 | Y15: 211715.74 | Z15: =ROUND(((X15+Y15)/2),0) -> 223475 | AA15: 151714.15 | AB15: 116703.2 | AC15: =ROUND(((AA15+AB15)/2),0) -> 134209 | AD15: 222552.32 | AE15: 211715.74 | AF15: =ROUND(((AD15+AE15)/2),0) -> 217134 | AG15: 224975.82 | AH15: 211715.74 | AI15: =ROUND(((AG15+AH15)/2),0) -> 218346 | AJ15: 194627.49 | AK15: 149713.46 | AL15: =ROUND(((AJ15+AK15)/2),0) -> 172170
