Workbook
Name resx: #REF!

Sheet ESTUDIO DE MERCADO 2023
F1: FORMATO OFERTA ECONÓMICA
F3: OFERTA MANTENIMIENTO VEHICULOS
B4: ITEM | C4: SERVICIO MANTENIMIENTO PREVENTIVO INCLUIDO MANO DE OBRA, INSUMOS, HERRAMIENTAS MAYORES Y MENORES | D4: UNIDAD DE MEDIDA | F4: CAMPERO CHEVROLET VITARA MODELO 2006 | I4: CAMPERO CHEVROLET VITARA MODELO 2012 | L4: BUS CHEVROLET B60 MODELO 1987 | O4: BUS CHEVROLET B70 MODELO 2005 | R4: CAMIÓN DINA MODELO 1997 | U4: CAMIÓN INTERNATIONAL 4700DT MODELO 1998 | X4: CAMIÓN CHEVROLET NPR MODELO 1998 | AA4: CAMIÓN CHEVROLET NPR MODELO 1999 | AD4: CAMIÓN CHEVROLET NPR MODELO 2008 | AG4: CAMIÓN CHEVROLET NHR MODELO 2008 | AJ4: CAMIÓN CHEVROLET NNR MODELO 2010 | AM4: VOLQUETA INTERNATIONAL 4700 MODELO 1995 | AP4: CAMIONETA DOBLE CABINA NISSAN MODELO 2013 | AS4: MAZDA BT-50 MODELO 2011 | AV4: BUS CHEVROLET MODELO 2013 | AY4: BUS CHEVROLET MODELO 2014 | BB4: VAN HIUNDAY STAREX PANEL MODELO 2006
F5: CENTRO CAR 19 LTDA. | G5: DORADAUTOS S.A.S. | H5: VALOR DE REFERENCIA | I5: CENTRO CAR 19 LTDA. | J5: DORADAUTOS S.A.S. | K5: VALOR DE REFERENCIA | L5: CENTRO CAR 19 LTDA. | M5: DORADAUTOS S.A.S. | N5: VALOR DE REFERENCIA | O5: CENTRO CAR 19 LTDA. | P5: DORADAUTOS S.A.S. | Q5: VALOR DE REFERENCIA | R5: CENTRO CAR 19 LTDA. | S5: DORADAUTOS S.A.S. | T5: VALOR DE REFERENCIA | U5: CENTRO CAR 19 LTDA. | V5: DORADAUTOS S.A.S. | W5: VALOR DE REFERENCIA | X5: CENTRO CAR 19 LTDA. | Y5: DORADAUTOS S.A.S. | Z5: VALOR DE REFERENCIA | AA5: CENTRO CAR 19 LTDA. | AB5: DORADAUTOS S.A.S. | AC5: VALOR DE REFERENCIA | AD5: CENTRO CAR 19 LTDA. | AE5: DORADAUTOS S.A.S. | AF5: VALOR DE REFERENCIA | AG5: CENTRO CAR 19 LTDA. | AH5: DORADAUTOS S.A.S. | AI5: VALOR DE REFERENCIA | AJ5: CENTRO CAR 19 LTDA. | AK5: DORADAUTOS S.A.S. | AL5: VALOR DE REFERENCIA | AM5: CENTRO CAR 19 LTDA. | AN5: DORADAUTOS S.A.S. | AO5: VALOR DE REFERENCIA | AP5: CENTRO CAR 19 LTDA. | AQ5: DORADAUTOS S.A.S. | AR5: VALOR DE REFERENCIA | AS5: CENTRO CAR 19 LTDA. | AT5: DORADAUTOS S.A.S. | AU5: VALOR DE REFERENCIA | AV5: CENTRO CAR 19 LTDA. | AW5: DORADAUTOS S.A.S. | AX5: VALOR DE REFERENCIA | AY5: CENTRO CAR 19 LTDA. | AZ5: DORADAUTOS S.A.S. | BA5: VALOR DE REFERENCIA | BB5: CENTRO CAR 19 LTDA. | BC5: DORADAUTOS S.A.S. | BD5: VALOR DE REFERENCIA
A6: MANTENIMIENTO PREVENTIVO (SOLO VALOR MANO DE OBRA INCLUIDO IVA) | B6: 1 | C6: CAMBIO DE ACEITE, INCLUYE FILTRO DE ACEITE, FILTRO DE COMBUSTIBLE Y AIRE (INCLUYE MANO DE OBRA E INSUMOS) | D6: SERVICIO | F6: 412986.42 | G6: 390748.69 | H6: =ROUND(((F6+G6)/2),0) -> 401868 | I6: 412986.42 | J6: 390748.69 | K6: =ROUND(((I6+J6)/2),0) -> 401868 | L6: 1517262.3 | M6: 1435563.6 | N6: =ROUND(((L6+M6)/2),0) -> 1476413 | O6: 1499200.6 | P6: 1418474.5 | Q6: =ROUND(((O6+P6)/2),0) -> 1458838 | R6: 1243902.6 | S6: 1176923.2 | T6: =ROUND(((R6+S6)/2),0) -> 1210413 | U6: 2096725.6 | V6: 1983825 | W6: =ROUND(((U6+V6)/2),0) -> 2040275 | X6: 1622393.6 | Y6: 1535033.9 | Z6: =ROUND(((X6+Y6)/2),0) -> 1578714 | AA6: 1612111.8 | AB6: 1535033.9 | AC6: =ROUND(((AA6+AB6)/2),0) -> 1573573 | AD6: 1584253.1 | AE6: 1535033.9 | AF6: =ROUND(((AD6+AE6)/2),0) -> 1559644 | AG6: 1562548.3 | AH6: 1535033.9 | AI6: =ROUND(((AG6+AH6)/2),0) -> 1548791 | AJ6: 1464036.6 | AK6: 1535033.9 | AL6: =ROUND(((AJ6+AK6)/2),0) -> 1499535 | AM6: 2106452.3 | AN6: 1773033.9 | AO6: =ROUND(((AM6+AN6)/2),0) -> 1939743 | AP6: 616557 | AQ6: 474274.62 | AR6: =ROUND(((AP6+AQ6)/2),0) -> 545416 | AS6: 592411.74 | AT6: 455701.34 | AU6: =ROUND(((AS6+AT6)/2),0) -> 524057 | AV6: 1778661.1 | AW6: 1773033.9 | AX6: =ROUND(((AV6+AW6)/2),0) -> 1775848 | AY6: 1771100.4 | AZ6: 1773033.9 | BA6: =ROUND(((AY6+AZ6)/2),0) -> 1772067 | BB6: 592411.74 | BC6: 455701.34 | BD6: =ROUND(((BB6+BC6)/2),0) -> 524057
B7: 2 | C7: ALINEACIÓN | D7: SERVICIO | F7: 65185.784 | G7: 61675.781 | H7: =ROUND(((F7+G7)/2),0) -> 63431 | I7: 65185.784 | J7: 61675.781 | K7: =ROUND(((I7+J7)/2),0) -> 63431 | L7: 110833.73 | M7: 104865.76 | N7: =ROUND(((L7+M7)/2),0) -> 107850 | O7: 110833.73 | P7: 104865.76 | Q7: =ROUND(((O7+P7)/2),0) -> 107850 | R7: 110983.56 | S7: 105007.52 | T7: =ROUND(((R7+S7)/2),0) -> 107996 | U7: 152419.26 | V7: 144212.07 | W7: =ROUND(((U7+V7)/2),0) -> 148316 | X7: 146255.24 | Y7: 138379.95 | Z7: =ROUND(((X7+Y7)/2),0) -> 142318 | AA7: 146255.24 | AB7: 138379.95 | AC7: =ROUND(((AA7+AB7)/2),0) -> 142318 | AD7: 146255.24 | AE7: 138379.95 | AF7: =ROUND(((AD7+AE7)/2),0) -> 142318 | AG7: 146255.24 | AH7: 138379.95 | AI7: =ROUND(((AG7+AH7)/2),0) -> 142318 | AJ7: 146255.24 | AK7: 138379.95 | AL7: =ROUND(((AJ7+AK7)/2),0) -> 142318 | AM7: 152419.26 | AN7: 138379.95 | AO7: =ROUND(((AM7+AN7)/2),0) -> 145400 | AP7: 87422.517 | AQ7: 67248.09 | AR7: =ROUND(((AP7+AQ7)/2),0) -> 77335 | AS7: 105223.77 | AT7: 80941.36 | AU7: =ROUND(((AS7+AT7)/2),0) -> 93083 | AV7: 146255.24 | AW7: 138379.95 | AX7: =ROUND(((AV7+AW7)/2),0) -> 142318 | AY7: 146255.24 | AZ7: 138379.95 | BA7: =ROUND(((AY7+AZ7)/2),0) -> 142318 | BB7: 109432 | BC7: 84178.458 | BD7: =ROUND(((BB7+BC7)/2),0) -> 96805
B8: 3 | C8: BALANCEO Y ROTACIÓN X 4 | D8: SERVICIO | F8: 70004.38 | G8: 66234.913 | H8: =ROUND(((F8+G8)/2),0) -> 68120 | I8: 70004.38 | J8: 66234.913 | K8: =ROUND(((I8+J8)/2),0) -> 68120 | L8: 195338.14 | M8: 184819.94 | N8: =ROUND(((L8+M8)/2),0) -> 190079 | O8: 201653 | P8: 190794.76 | Q8: =ROUND(((O8+P8)/2),0) -> 196224 | R8: 185954.35 | S8: 175941.42 | T8: =ROUND(((R8+S8)/2),0) -> 180948 | U8: 266481.81 | V8: 252132.79 | W8: =ROUND(((U8+V8)/2),0) -> 259307 | X8: 257358.46 | Y8: 243500.69 | Z8: =ROUND(((X8+Y8)/2),0) -> 250430 | AA8: 260133.77 | AB8: 243500.69 | AC8: =ROUND(((AA8+AB8)/2),0) -> 251817 | AD8: 262902.05 | AE8: 243500.69 | AF8: =ROUND(((AD8+AE8)/2),0) -> 253201 | AG8: 263598.9 | AH8: 243500.69 | AI8: =ROUND(((AG8+AH8)/2),0) -> 253550 | AJ8: 255967.78 | AK8: 243500.69 | AL8: =ROUND(((AJ8+AK8)/2),0) -> 249734 | AM8: 272118.92 | AN8: 243500.69 | AO8: =ROUND(((AM8+AN8)/2),0) -> 257810 | AP8: 94012.892 | AQ8: 72317.609 | AR8: =ROUND(((AP8+AQ8)/2),0) -> 83165 | AS8: 113000.69 | AT8: 86923.61 | AU8: =ROUND(((AS8+AT8)/2),0) -> 99962 | AV8: 257358.46 | AW8: 243500.69 | AX8: =ROUND(((AV8+AW8)/2),0) -> 250430 | AY8: 262902.05 | AZ8: 243500.69 | BA8: =ROUND(((AY8+AZ8)/2),0) -> 253201 | BB8: 117520.64 | BC8: 90400.492 | BD8: =ROUND(((BB8+BC8)/2),0) -> 103961
B9: 4 | C9: DESPINCHE | D9: SERVICIO | F9: 30940 | G9: 29274 | H9: =ROUND(((F9+G9)/2),0) -> 30107 | I9: 30940 | J9: 29274 | K9: =ROUND(((I9+J9)/2),0) -> 30107 | L9: 46410 | M9: 43911 | N9: =ROUND(((L9+M9)/2),0) -> 45161 | O9: 46410 | P9: 43911 | Q9: =ROUND(((O9+P9)/2),0) -> 45161 | R9: 46410 | S9: 43911 | T9: =ROUND(((R9+S9)/2),0) -> 45161 | U9: 46410 | V9: 43911 | W9: =ROUND(((U9+V9)/2),0) -> 45161 | X9: 46410 | Y9: 43911 | Z9: =ROUND(((X9+Y9)/2),0) -> 45161 | AA9: 46410 | AB9: 43911 | AC9: =ROUND(((AA9+AB9)/2),0) -> 45161 | AD9: 46410 | AE9: 43911 | AF9: =ROUND(((AD9+AE9)/2),0) -> 45161 | AG9: 46410 | AH9: 43911 | AI9: =ROUND(((AG9+AH9)/2),0) -> 45161 | AJ9: 46410 | AK9: 43911 | AL9: =ROUND(((AJ9+AK9)/2),0) -> 45161 | AM9: 46410 | AN9: 43911 | AO9: =ROUND(((AM9+AN9)/2),0) -> 45161 | AP9: 30940 | AQ9: 23800 | AR9: =ROUND(((AP9+AQ9)/2),0) -> 27370 | AS9: 30940 | AT9: 23800 | AU9: =ROUND(((AS9+AT9)/2),0) -> 27370 | AV9: 46410 | AW9: 43911 | AX9: =ROUND(((AV9+AW9)/2),0) -> 45161 | AY9: 46410 | AZ9: 43911 | BA9: =ROUND(((AY9+AZ9)/2),0) -> 45161 | BB9: 38675 | BC9: 29750 | BD9: =ROUND(((BB9+BC9)/2),0) -> 34213
B10: 5 | C10: ENGRASE GENERAL | D10: SERVICIO | F10: 109689.42 | G10: 103783.06 | H10: =ROUND(((F10+G10)/2),0) -> 106736 | I10: 109689.42 | J10: 103783.06 | K10: =ROUND(((I10+J10)/2),0) -> 106736 | L10: 254681.68 | M10: 240968.05 | N10: =ROUND(((L10+M10)/2),0) -> 247825 | O10: 253977.8 | P10: 240302.07 | Q10: =ROUND(((O10+P10)/2),0) -> 247140 | R10: 255762.65 | S10: 241990.81 | T10: =ROUND(((R10+S10)/2),0) -> 248877 | U10: 256296.6 | V10: 242496.01 | W10: =ROUND(((U10+V10)/2),0) -> 249396 | X10: 238899.57 | Y10: 226035.75 | Z10: =ROUND(((X10+Y10)/2),0) -> 232468 | AA10: 243074.62 | AB10: 226035.75 | AC10: =ROUND(((AA10+AB10)/2),0) -> 234555 | AD10: 243074.62 | AE10: 226035.75 | AF10: =ROUND(((AD10+AE10)/2),0) -> 234555 | AG10: 243425.56 | AH10: 226035.75 | AI10: =ROUND(((AG10+AH10)/2),0) -> 234731 | AJ10: 234716.49 | AK10: 226035.75 | AL10: =ROUND(((AJ10+AK10)/2),0) -> 230376 | AM10: 249129.03 | AN10: 226035.75 | AO10: =ROUND(((AM10+AN10)/2),0) -> 237582 | AP10: 64368.272 | AQ10: 49514.056 | AR10: =ROUND(((AP10+AQ10)/2),0) -> 56941 | AS10: 79599.338 | AT10: 61230.26 | AU10: =ROUND(((AS10+AT10)/2),0) -> 70415 | AV10: 243074.62 | AW10: 226035.75 | AX10: =ROUND(((AV10+AW10)/2),0) -> 234555 | AY10: 243074.62 | AZ10: 226035.75 | BA10: =ROUND(((AY10+AZ10)/2),0) -> 234555 | BB10: 82782.909 | BC10: 63679.161 | BD10: =ROUND(((BB10+BC10)/2),0) -> 73231
B11: 6 | C11: GRADUACIÓN DE FRENOS | D11: SERVICIO | F11: 77350 | G11: 73185 | H11: =ROUND(((F11+G11)/2),0) -> 75268 | I11: 77350 | J11: 73185 | K11: =ROUND(((I11+J11)/2),0) -> 75268 | L11: 123760 | M11: 117096 | N11: =ROUND(((L11+M11)/2),0) -> 120428 | O11: 123760 | P11: 117096 | Q11: =ROUND(((O11+P11)/2),0) -> 120428 | R11: 123760 | S11: 117096 | T11: =ROUND(((R11+S11)/2),0) -> 120428 | U11: 123760 | V11: 117096 | W11: =ROUND(((U11+V11)/2),0) -> 120428 | X11: 123760 | Y11: 117096 | Z11: =ROUND(((X11+Y11)/2),0) -> 120428 | AA11: 123760 | AB11: 117096 | AC11: =ROUND(((AA11+AB11)/2),0) -> 120428 | AD11: 123760 | AE11: 117096 | AF11: =ROUND(((AD11+AE11)/2),0) -> 120428 | AG11: 123760 | AH11: 117096 | AI11: =ROUND(((AG11+AH11)/2),0) -> 120428 | AJ11: 123760 | AK11: 117096 | AL11: =ROUND(((AJ11+AK11)/2),0) -> 120428 | AM11: 123760 | AN11: 117096 | AO11: =ROUND(((AM11+AN11)/2),0) -> 120428 | AP11: 123760 | AQ11: 95200 | AR11: =ROUND(((AP11+AQ11)/2),0) -> 109480 | AS11: 123760 | AT11: 95200 | AU11: =ROUND(((AS11+AT11)/2),0) -> 109480 | AV11: 123760 | AW11: 117096 | AX11: =ROUND(((AV11+AW11)/2),0) -> 120428 | AY11: 123760 | AZ11: 117096 | BA11: =ROUND(((AY11+AZ11)/2),0) -> 120428 | BB11: 77350 | BC11: 59500 | BD11: =ROUND(((BB11+BC11)/2),0) -> 68425
B12: 7 | C12: LAVADO (ENJUAGUE) | D12: SERVICIO | F12: 31592.37 | G12: 29891.242 | H12: =ROUND(((F12+G12)/2),0) -> 30742 | I12: 31592.37 | J12: 29891.242 | K12: =ROUND(((I12+J12)/2),0) -> 30742 | L12: 72097.935 | M12: 68215.739 | N12: =ROUND(((L12+M12)/2),0) -> 70157 | O12: 72507.194 | P12: 68602.96 | Q12: =ROUND(((O12+P12)/2),0) -> 70555 | R12: 73774.187 | S12: 69801.731 | T12: =ROUND(((R12+S12)/2),0) -> 71788 | U12: 97533.322 | V12: 92281.528 | W12: =ROUND(((U12+V12)/2),0) -> 94907 | X12: 94888.726 | Y12: 89779.333 | Z12: =ROUND(((X12+Y12)/2),0) -> 92334 | AA12: 96497.606 | AB12: 89779.333 | AC12: =ROUND(((AA12+AB12)/2),0) -> 93138 | AD12: 95425.689 | AE12: 89779.333 | AF12: =ROUND(((AD12+AE12)/2),0) -> 92603 | AG12: 95018.442 | AH12: 89779.333 | AI12: =ROUND(((AG12+AH12)/2),0) -> 92399 | AJ12: 94351.762 | AK12: 89779.333 | AL12: =ROUND(((AJ12+AK12)/2),0) -> 92066 | AM12: 98076.319 | AN12: 89779.333 | AO12: =ROUND(((AM12+AN12)/2),0) -> 93928 | AP12: 41486.982 | AQ12: 31913.063 | AR12: =ROUND(((AP12+AQ12)/2),0) -> 36700 | AS12: 50995.463 | AT12: 39227.279 | AU12: =ROUND(((AS12+AT12)/2),0) -> 45111 | AV12: 93275.824 | AW12: 89779.333 | AX12: =ROUND(((AV12+AW12)/2),0) -> 91528 | AY12: 95425.689 | AZ12: 89779.333 | BA12: =ROUND(((AY12+AZ12)/2),0) -> 92603 | BB12: 53035.724 | BC12: 40796.711 | BD12: =ROUND(((BB12+BC12)/2),0) -> 46916
B13: 8 | C13: LAVADO GENERAL INCLUIDO MOTOR | D13: SERVICIO | F13: 52203.128 | G13: 49392.191 | H13: =ROUND(((F13+G13)/2),0) -> 50798 | I13: 52203.128 | J13: 49392.191 | K13: =ROUND(((I13+J13)/2),0) -> 50798 | L13: 115055.03 | M13: 108859.76 | N13: =ROUND(((L13+M13)/2),0) -> 111957 | O13: 113842.34 | P13: 107712.37 | Q13: =ROUND(((O13+P13)/2),0) -> 110777 | R13: 113955.96 | S13: 107819.87 | T13: =ROUND(((R13+S13)/2),0) -> 110888 | U13: 158705.96 | V13: 150160.25 | W13: =ROUND(((U13+V13)/2),0) -> 154433 | X13: 148444.32 | Y13: 140451.16 | Z13: =ROUND(((X13+Y13)/2),0) -> 144448 | AA13: 150042.14 | AB13: 140451.16 | AC13: =ROUND(((AA13+AB13)/2),0) -> 145247 | AD13: 152434.34 | AE13: 140451.16 | AF13: =ROUND(((AD13+AE13)/2),0) -> 146443 | AG13: 152635.45 | AH13: 140451.16 | AI13: =ROUND(((AG13+AH13)/2),0) -> 146543 | AJ13: 151637.95 | AK13: 140451.16 | AL13: =ROUND(((AJ13+AK13)/2),0) -> 146045 | AM13: 158705.96 | AN13: 140451.16 | AO13: =ROUND(((AM13+AN13)/2),0) -> 149579 | AP13: 70875.186 | AQ13: 54519.374 | AR13: =ROUND(((AP13+AQ13)/2),0) -> 62697 | AS13: 84265.09 | AT13: 64819.3 | AU13: =ROUND(((AS13+AT13)/2),0) -> 74542 | AV13: 152434.34 | AW13: 140451.16 | AX13: =ROUND(((AV13+AW13)/2),0) -> 146443 | AY13: 150840.54 | AZ13: 140451.16 | BA13: =ROUND(((AY13+AZ13)/2),0) -> 145646 | BB13: 87635.694 | BC13: 67412.072 | BD13: =ROUND(((BB13+BC13)/2),0) -> 77524
B14: 9 | C14: REPARACIÓN DE LLANTA | D14: SERVICIO | F14: 46410 | G14: 43911 | H14: =ROUND(((F14+G14)/2),0) -> 45161 | I14: 46410 | J14: 43911 | K14: =ROUND(((I14+J14)/2),0) -> 45161 | L14: 61880 | M14: 58548 | N14: =ROUND(((L14+M14)/2),0) -> 60214 | O14: 61880 | P14: 58548 | Q14: =ROUND(((O14+P14)/2),0) -> 60214 | R14: 61880 | S14: 58548 | T14: =ROUND(((R14+S14)/2),0) -> 60214 | U14: 61880 | V14: 58548 | W14: =ROUND(((U14+V14)/2),0) -> 60214 | X14: 61880 | Y14: 58548 | Z14: =ROUND(((X14+Y14)/2),0) -> 60214 | AA14: 61880 | AB14: 58548 | AC14: =ROUND(((AA14+AB14)/2),0) -> 60214 | AD14: 61880 | AE14: 58548 | AF14: =ROUND(((AD14+AE14)/2),0) -> 60214 | AG14: 61880 | AH14: 58548 | AI14: =ROUND(((AG14+AH14)/2),0) -> 60214 | AJ14: 61880 | AK14: 58548 | AL14: =ROUND(((AJ14+AK14)/2),0) -> 60214 | AM14: 61880 | AN14: 58548 | AO14: =ROUND(((AM14+AN14)/2),0) -> 60214 | AP14: 46410 | AQ14: 35700 | AR14: =ROUND(((AP14+AQ14)/2),0) -> 41055 | AS14: 46410 | AT14: 35700 | AU14: =ROUND(((AS14+AT14)/2),0) -> 41055 | AV14: 61880 | AW14: 58548 | AX14: =ROUND(((AV14+AW14)/2),0) -> 60214 | AY14: 61880 | AZ14: 58548 | BA14: =ROUND(((AY14+AZ14)/2),0) -> 60214 | BB14: 54145 | BC14: 41650 | BD14: =ROUND(((BB14+BC14)/2),0) -> 47898
B15: 10 | C15: REVISIÓN DIRECCIÓN | D15: SERVICIO | F15: 110204.26 | G15: 104270.18 | H15: =ROUND(((F15+G15)/2),0) -> 107237 | I15: 110204.26 | J15: 104270.18 | K15: =ROUND(((I15+J15)/2),0) -> 107237 | L15: 164399.38 | M15: 155547.11 | N15: =ROUND(((L15+M15)/2),0) -> 159973 | O15: 158261.5 | P15: 149739.73 | Q15: =ROUND(((O15+P15)/2),0) -> 154001 | R15: 159192.64 | S15: 150620.73 | T15: =ROUND(((R15+S15)/2),0) -> 154907 | U15: 216610.55 | V15: 204946.91 | W15: =ROUND(((U15+V15)/2),0) -> 210779 | X15: 212703.99 | Y15: 201250.7 | Z15: =ROUND(((X15+Y15)/2),0) -> 206977 | AA15: 216153.03 | AB15: 201250.7 | AC15: =ROUND(((AA15+AB15)/2),0) -> 208702 | AD15: 211551.63 | AE15: 201250.7 | AF15: =ROUND(((AD15+AE15)/2),0) -> 206401 | AG15: 211842.24 | AH15: 201250.7 | AI15: =ROUND(((AG15+AH15)/2),0) -> 206546 | AJ15: 216153.03 | AK15: 201250.7 | AL15: =ROUND(((AJ15+AK15)/2),0) -> 208702 | AM15: 223606.16 | AN15: 201250.7 | AO15: =ROUND(((AM15+AN15)/2),0) -> 212428 | AP15: 144214.98 | AQ15: 110934.6 | AR15: =ROUND(((AP15+AQ15)/2),0) -> 127575 | AS15: 177890.84 | AT15: 136839.11 | AU15: =ROUND(((AS15+AT15)/2),0) -> 157365 | AV15: 211551.63 | AW15: 201250.7 | AX15: =ROUND(((AV15+AW15)/2),0) -> 206401 | AY15: 213855.35 | AZ15: 201250.7 | BA15: =ROUND(((AY15+AZ15)/2),0) -> 207553 | BB15: 185007.12 | BC15: 142313.17 | BD15: =ROUND(((BB15+BC15)/2),0) -> 163660
B16: 11 | C16: REVISIÓN FRENOS DELANTEROS / TRASEROS ( BANDAS) | D16: SERVICIO | F16: 231497.72 | G16: 219032.46 | H16: =ROUND(((F16+G16)/2),0) -> 225265 | I16: 231497.72 | J16: 219032.46 | K16: =ROUND(((I16+J16)/2),0) -> 225265 | L16: 285881.89 | M16: 270488.25 | N16: =ROUND(((L16+M16)/2),0) -> 278185 | O16: 284253.9 | P16: 268947.92 | Q16: =ROUND(((O16+P16)/2),0) -> 276601 | R16: 285988.48 | S16: 270589.1 | T16: =ROUND(((R16+S16)/2),0) -> 278289 | U16: 289408.35 | V16: 273824.82 | W16: =ROUND(((U16+V16)/2),0) -> 281617 | X16: 261160.44 | Y16: 247097.96 | Z16: =ROUND(((X16+Y16)/2),0) -> 254129 | AA16: 259891.44 | AB16: 247097.96 | AC16: =ROUND(((AA16+AB16)/2),0) -> 253495 | AD16: 254794.3 | AE16: 247097.96 | AF16: =ROUND(((AD16+AE16)/2),0) -> 250946 | AG16: 256402.18 | AH16: 247097.96 | AI16: =ROUND(((AG16+AH16)/2),0) -> 251750 | AJ16: 262428.44 | AK16: 247097.96 | AL16: =ROUND(((AJ16+AK16)/2),0) -> 254763 | AM16: 279660.55 | AN16: 247097.96 | AO16: =ROUND(((AM16+AN16)/2),0) -> 263379 | AP16: 176802.84 | AQ16: 136002.18 | AR16: =ROUND(((AP16+AQ16)/2),0) -> 156403 | AS16: 218178.21 | AT16: 167829.39 | AU16: =ROUND(((AS16+AT16)/2),0) -> 193004 | AV16: 254794.3 | AW16: 247097.96 | AX16: =ROUND(((AV16+AW16)/2),0) -> 250946 | AY16: 263694.43 | AZ16: 247097.96 | BA16: =ROUND(((AY16+AZ16)/2),0) -> 255396 | BB16: 226905.37 | BC16: 174542.6 | BD16: =ROUND(((BB16+BC16)/2),0) -> 200724
B17: 12 | C17: REVISIÓN GENERAL DE LUCES | D17: SERVICIO | F17: 69615 | G17: 65866.5 | H17: =ROUND(((F17+G17)/2),0) -> 67741 | I17: 69615 | J17: 65866.5 | K17: =ROUND(((I17+J17)/2),0) -> 67741 | L17: 69615 | M17: 65866.5 | N17: =ROUND(((L17+M17)/2),0) -> 67741 | O17: 69615 | P17: 65866.5 | Q17: =ROUND(((O17+P17)/2),0) -> 67741 | R17: 69615 | S17: 65866.5 | T17: =ROUND(((R17+S17)/2),0) -> 67741 | U17: 69615 | V17: 65866.5 | W17: =ROUND(((U17+V17)/2),0) -> 67741 | X17: 69615 | Y17: 65866.5 | Z17: =ROUND(((X17+Y17)/2),0) -> 67741 | AA17: 69615 | AB17: 65866.5 | AC17: =ROUND(((AA17+AB17)/2),0) -> 67741 | AD17: 69615 | AE17: 65866.5 | AF17: =ROUND(((AD17+AE17)/2),0) -> 67741 | AG17: 69615 | AH17: 65866.5 | AI17: =ROUND(((AG17+AH17)/2),0) -> 67741 | AJ17: 69615 | AK17: 65866.5 | AL17: =ROUND(((AJ17+AK17)/2),0) -> 67741 | AM17: 69615 | AN17: 65866.5 | AO17: =ROUND(((AM17+AN17)/2),0) -> 67741 | AP17: 69615 | AQ17: 53550 | AR17: =ROUND(((AP17+AQ17)/2),0) -> 61583 | AS17: 69615 | AT17: 53550 | AU17: =ROUND(((AS17+AT17)/2),0) -> 61583 | AV17: 69615 | AW17: 65866.5 | AX17: =ROUND(((AV17+AW17)/2),0) -> 67741 | AY17: 69615 | AZ17: 65866.5 | BA17: =ROUND(((AY17+AZ17)/2),0) -> 67741 | BB17: 69615 | BC17: 53550 | BD17: =ROUND(((BB17+BC17)/2),0) -> 61583
B18: 13 | C18: REVISIÓN Y MANTENIMIENTO SEL SISTEMA DE AIRE ACONDICIONADO | D18: SERVICIO | F18: 435247.29 | G18: 411810.9 | H18: =ROUND(((F18+G18)/2),0) -> 423529 | I18: 435247.29 | J18: 411810.9 | K18: =ROUND(((I18+J18)/2),0) -> 423529 | L18: 370126.87 | M18: 350196.96 | N18: =ROUND(((L18+M18)/2),0) -> 360162 | O18: 372036.41 | P18: 352003.68 | Q18: =ROUND(((O18+P18)/2),0) -> 362020 | R18: 370739.25 | S18: 350776.36 | T18: =ROUND(((R18+S18)/2),0) -> 360758 | U18: 509970.72 | V18: 482510.75 | W18: =ROUND(((U18+V18)/2),0) -> 496241 | X18: 498976.03 | Y18: 472108.09 | Z18: =ROUND(((X18+Y18)/2),0) -> 485542 | AA18: 493961.35 | AB18: 472108.09 | AC18: =ROUND(((AA18+AB18)/2),0) -> 483035 | AD18: 483894.79 | AE18: 472108.09 | AF18: =ROUND(((AD18+AE18)/2),0) -> 478001 | AG18: 487703.82 | AH18: 472108.09 | AI18: =ROUND(((AG18+AH18)/2),0) -> 479906 | AJ18: 488933.6 | AK18: 472108.09 | AL18: =ROUND(((AJ18+AK18)/2),0) -> 480521 | AM18: 520225.31 | AN18: 472108.09 | AO18: =ROUND(((AM18+AN18)/2),0) -> 496167 | AP18: 437682.73 | AQ18: 336679.02 | AR18: =ROUND(((AP18+AQ18)/2),0) -> 387181 | AS18: 528439.65 | AT18: 406492.04 | AU18: =ROUND(((AS18+AT18)/2),0) -> 467466 | AV18: 483894.79 | AW18: 472108.09 | AX18: =ROUND(((AV18+AW18)/2),0) -> 478001 | AY18: 496470.2 | AZ18: 472108.09 | BA18: =ROUND(((AY18+AZ18)/2),0) -> 484289 | BB18: 549577.32 | BC18: 422751.78 | BD18: =ROUND(((BB18+BC18)/2),0) -> 486165
... B21: 16 | C21: SINCRONIZACIÓN MOTOR | D21: SERVICIO | F21: 385966.29 | G21: 365183.49 | H21: =ROUND(((F21+G21)/2),0) -> 375575 | I21: 385966.29 | J21: 365183.49 | K21: =ROUND(((I21+J21)/2),0) -> 375575 | L21: 585555.9 | M21: 554025.97 | N21: =ROUND(((L21+M21)/2),0) -> 569791 | O21: 478174.22 | P21: 452426.38 | Q21: =ROUND(((O21+P21)/2),0) -> 465300 | R21: 468880.93 | S21: 443633.49 | T21: =ROUND(((R21+S21)/2),0) -> 456257 | U21: 638984.79 | V21: 604577.92 | W21: =ROUND(((U21+V21)/2),0) -> 621781 | X21: 634066.65 | Y21: 599924.6 | Z21: =ROUND(((X21+Y21)/2),0) -> 616996 | AA21: 637310.55 | AB21: 599924.6 | AC21: =ROUND(((AA21+AB21)/2),0) -> 618618 | AD21: 627569.79 | AE21: 599924.6 | AF21: =ROUND(((AD21+AE21)/2),0) -> 613747 | AG21: 629210.85 | AH21: 599924.6 | AI21: =ROUND(((AG21+AH21)/2),0) -> 614568 | AJ21: 617796.85 | AK21: 599924.6 | AL21: =ROUND(((AJ21+AK21)/2),0) -> 608861 | AM21: 652277.16 | AN21: 599924.6 | AO21: =ROUND(((AM21+AN21)/2),0) -> 626101 | AP21: 370869.97 | AQ21: 285284.59 | AR21: =ROUND(((AP21+AQ21)/2),0) -> 328077 | AS21: 440007.56 | AT21: 338467.36 | AU21: =ROUND(((AS21+AT21)/2),0) -> 389237 | AV21: 420579.33 | AW21: 599924.6 | AX21: =ROUND(((AV21+AW21)/2),0) -> 510252 | AY21: 418549.13 | AZ21: 599924.6 | BA21: =ROUND(((AY21+AZ21)/2),0) -> 509237 | BB21: 457608.71 | BC21: 352006.7 | BD21: =ROUND(((BB21+BC21)/2),0) -> 404808
C22: SUB TOTAL MANTENIMIENTO PREVENTIVO | F22: =+SUM(F6:F21) -> 2933332.1 | G22: =+SUM(G6:G21) -> 2775383.4 | H22: =+SUM(H6:H21) -> 2854360 | I22: =+SUM(I6:I21) -> 2933332.1 | J22: =+SUM(J6:J21) -> 2775383.4 | K22: =+SUM(K6:K21) -> 2854360 | L22: =+SUM(L6:L21) -> 4777337.9 | M22: =+SUM(M6:M21) -> 4520096.6 | ... BD22: =+SUM(BD6:BD21) -> 3101590 | BE22: =+BD22+H22+K22+N22+Q22+T22+W22+Z22+AC22+AF22+AI22+AL22+AO22+AR22+AU22+AX22+BA22 -> 74840481
F25: FORMATO OFERTA ECONOMICA
F27: OFERTA MANTENIMIENTO CORRECTIVO PARQUE AUTOMOTOR
B28: ITEM | C28: SERVICIO MANTENIMIENTO CORRECTIVO INCLUIDO MANO DE OBRA, HERRAMIENTAS MAYORES Y MENORES | D28: UNIDAD DE MEDIDA | F28: CAMPERO CHEVROLET VITARA MODELO 2006 | I28: CAMPERO CHEVROLET VITARA MODELO 2012 | L28: BUS CHEVROLET B60 MODELO 1987 | O28: BUS CHEVROLET B70 MODELO 2005 | R28: CAMIÓN DINA MODELO 1997 | U28: CAMIÓN INTERNATIONAL 4700DT MODELO 1998 | X28: CAMIÓN CHEVROLET NPR MODELO 1998 | AA28: CAMIÓN CHEVROLET NPR MODELO 1999 | AD28: CAMIÓN CHEVROLET NPR MODELO 2008 | AG28: CAMIÓN CHEVROLET NHR MODELO 2008 | AJ28: CAMIÓN CHEVROLET NNR MODELO 2010 | AM28: VOLQUETA INTERNATIONAL 4700 MODELO 1995 | AP28: CAMIONETA DOBLE CABINA NISSAN MODELO 2013 | AS28: MAZDA BT-50 MODELO 2011 | AV28: BUS CHEVROLET MODELO 2013 | AY28: BUS CHEVROLET MODELO 2014 | BB28: VAN HIUNDAY STAREX PANEL MODELO 2006
F29: CENTRO CAR 19 LTDA. | G29: DORADAUTOS S.A.S. | H29: VALOR DE REFERENCIA | I29: CENTRO CAR 19 LTDA. | J29: DORADAUTOS S.A.S. | K29: VALOR DE REFERENCIA | L29: CENTRO CAR 19 LTDA. | M29: DORADAUTOS S.A.S. | N29: VALOR DE REFERENCIA | O29: CENTRO CAR 19 LTDA. | P29: DORADAUTOS S.A.S. | Q29: VALOR DE REFERENCIA | R29: CENTRO CAR 19 LTDA. | S29: DORADAUTOS S.A.S. | T29: VALOR DE REFERENCIA | U29: CENTRO CAR 19 LTDA. | V29: DORADAUTOS S.A.S. | W29: VALOR DE REFERENCIA | X29: CENTRO CAR 19 LTDA. | Y29: DORADAUTOS S.A.S. | Z29: VALOR DE REFERENCIA | AA29: CENTRO CAR 19 LTDA. | AB29: DORADAUTOS S.A.S. | AC29: VALOR DE REFERENCIA | AD29: CENTRO CAR 19 LTDA. | AE29: DORADAUTOS S.A.S. | AF29: VALOR DE REFERENCIA | AG29: CENTRO CAR 19 LTDA. | AH29: DORADAUTOS S.A.S. | AI29: VALOR DE REFERENCIA | AJ29: CENTRO CAR 19 LTDA. | AK29: DORADAUTOS S.A.S. | AL29: VALOR DE REFERENCIA | AM29: CENTRO CAR 19 LTDA. | AN29: DORADAUTOS S.A.S. | AO29: VALOR DE REFERENCIA | AP29: CENTRO CAR 19 LTDA. | AQ29: DORADAUTOS S.A.S. | AR29: VALOR DE REFERENCIA | AS29: CENTRO CAR 19 LTDA. | AT29: DORADAUTOS S.A.S. | AU29: VALOR DE REFERENCIA | AV29: CENTRO CAR 19 LTDA. | AW29: DORADAUTOS S.A.S. | AX29: VALOR DE REFERENCIA | AY29: CENTRO CAR 19 LTDA. | AZ29: DORADAUTOS S.A.S. | BA29: VALOR DE REFERENCIA | BB29: CENTRO CAR 19 LTDA. | BC29: DORADAUTOS S.A.S. | BD29: VALOR DE REFERENCIA
A30: MANTENIMIENTO CORRECTIVO ( SOLO VALOR DE MANO DE OBRA INCLUIDO IVA | B30: ELÉCTRICO | F30: =+SUM(F31:F64) -> 5250988.3 | G30: =SUM(G31:G64) -> 5912208.9 | H30: =SUM(H31:H64) -> 5581600 | I30: =+SUM(I31:I64) -> 5250988.3 | J30: =SUM(J31:J64) -> 5912208.9 | K30: =SUM(K31:K64) -> 5581600 | L30: =+SUM(L31:L64) -> 7806668.6 | M30: =SUM(M31:M64) -> 8789708.3 | N30: =SUM(N31:N64) -> 8298188 | O30: =+SUM(O31:O64) -> 7837370 | P30: =SUM(P31:P64) -> 8824275.7 | Q30: =SUM(Q31:Q64) -> 8330827 | R30: =+SUM(R31:R64) -> 7841925.4 | S30: =SUM(S31:S64) -> 8829404.8 | T30: =SUM(T31:T64) -> 8335664 | U30: =+SUM(U31:U64) -> 11157724 | V30: =SUM(V31:V64) -> 10556923 | W30: =SUM(W31:W64) -> 10857325 | X30: =+SUM(X31:X64) -> 8387199.7 | Y30: =SUM(Y31:Y64) -> 9443341.7 | Z30: =SUM(Z31:Z64) -> 8915270 | AA30: =+SUM(AA31:AA64) -> 8373458.3 | AB30: =SUM(AB31:AB64) -> 9443341.7 | AC30: =SUM(AC31:AC64) -> 8908400 | AD30: =+SUM(AD31:AD64) -> 8370365.6 | AE30: =SUM(AE31:AE64) -> 9443341.7 | AF30: =SUM(AF31:AF64) -> 8906853 | AG30: =+SUM(AG31:AG64) -> 8367742.7 | AH30: =SUM(AH31:AH64) -> 9443341.7 | AI30: =SUM(AI31:AI64) -> 8905543 | AJ30: =+SUM(AJ31:AJ64) -> 8401955.9 | AK30: =SUM(AK31:AK64) -> 9443341.7 | AL30: =SUM(AL31:AL64) -> 8922651 | AM30: =+SUM(AM31:AM64) -> 11086161 | AN30: =SUM(AN31:AN64) -> 9443341.7 | AO30: =SUM(AO31:AO64) -> 10264752 | AP30: =+SUM(AP31:AP64) -> 6379596.3 | AQ30: =SUM(AQ31:AQ64) -> 5839784.3 | AR30: =SUM(AR31:AR64) -> 6109690 | AS30: =+SUM(AS31:AS64) -> 7301375.5 | AT30: =SUM(AT31:AT64) -> 6683566.8 | AU30: =SUM(AU31:AU64) -> 6992469 | AV30: =+SUM(AV31:AV64) -> 9455797.6 | AW30: =SUM(AW31:AW64) -> 9443341.7 | AX30: =SUM(AX31:AX64) -> 9449571 | AY30: =+SUM(AY31:AY64) -> 9462428.4 | AZ30: =SUM(AZ31:AZ64) -> 9443341.7 | BA30: =SUM(BA31:BA64) -> 9452884 | BB30: =+SUM(BB31:BB64) -> 7557447.1 | BC30: =SUM(BC31:BC64) -> 6917970.8 | BD30: =SUM(BD31:BD64) -> 7237709 | BE30: =H30+K30+N30+Q30+T30+W30+Z30+AC30+AF30+AI30+AL30+AO30+AR30+AU30+AX30+BA30+BD30 -> 141050996
B31: 17 | C31: CAMBIO ALTERNADOR SISTEMA DE CARGA | D31: SERVICIO | F31: 182000 | G31: 204918 | H31: =ROUND(((F31+G31)/2),0) -> 193459 | I31: 182000 | J31: 204918 | K31: =ROUND(((I31+J31)/2),0) -> 193459 | L31: 260000 | M31: 292740 | N31: =ROUND(((L31+M31)/2),0) -> 276370 | O31: 260000 | P31: 292740 | Q31: =ROUND(((O31+P31)/2),0) -> 276370 | R31: 260000 | S31: 292740 | T31: =ROUND(((R31+S31)/2),0) -> 276370 | U31: 309400 | V31: 292740 | W31: =ROUND(((U31+V31)/2),0) -> 301070 | X31: 260000 | Y31: 292740 | Z31: =ROUND(((X31+Y31)/2),0) -> 276370 | AA31: 260000 | AB31: 292740 | AC31: =ROUND(((AA31+AB31)/2),0) -> 276370 | AD31: 260000 | AE31: 292740 | AF31: =ROUND(((AD31+AE31)/2),0) -> 276370 | AG31: 260000 | AH31: 292740 | AI31: =ROUND(((AG31+AH31)/2),0) -> 276370 | AJ31: 260000 | AK31: 292740 | AL31: =ROUND(((AJ31+AK31)/2),0) -> 276370 | AM31: 309400 | AN31: 292740 | AO31: =ROUND(((AM31+AN31)/2),0) -> 301070 | AP31: 260000 | AQ31: 238000 | AR31: =ROUND(((AP31+AQ31)/2),0) -> 249000 | AS31: 260000 | AT31: 238000 | AU31: =ROUND(((AS31+AT31)/2),0) -> 249000 | AV31: 260000 | AW31: 292740 | AX31: =ROUND(((AV31+AW31)/2),0) -> 276370 | AY31: 260000 | AZ31: 292740 | BA31: =ROUND(((AY31+AZ31)/2),0) -> 276370 | BB31: 182000 | BC31: 166600 | BD31: =ROUND(((BB31+BC31)/2),0) -> 174300 | BE31: =H31+K31+N31+Q31+T31+W31+Z31+AC31+AF31+AI31+AL31+AO31+AR31+AU31+AX31+BA31+BD31 -> 4425058
B32: 18 | C32: CAMBIO AUTOMATICO DEL ARRANQUE | D32: SERVICIO | F32: 113949.1 | G32: 128297.92 | H32: =ROUND(((F32+G32)/2),0) -> 121124 | I32: 113949.1 | J32: 128297.92 | K32: =ROUND(((I32+J32)/2),0) -> 121124 | L32: 200975.64 | M32: 226283.12 | N32: =ROUND(((L32+M32)/2),0) -> 213629 | O32: 197517.9 | P32: 222389.97 | Q32: =ROUND(((O32+P32)/2),0) -> 209954 | R32: 201121.83 | S32: 226447.71 | T32: =ROUND(((R32+S32)/2),0) -> 213785 | U32: 309144.28 | V32: 292498.05 | W32: =ROUND(((U32+V32)/2),0) -> 300821 | X32: 211703.77 | Y32: 238362.15 | Z32: =ROUND(((X32+Y32)/2),0) -> 225033 | AA32: 220493.46 | AB32: 238362.15 | AC32: =ROUND(((AA32+AB32)/2),0) -> 229428 | AD32: 222995.5 | AE32: 238362.15 | AF32: =ROUND(((AD32+AE32)/2),0) -> 230679 | AG32: 221096.79 | AH32: 238362.15 | AI32: =ROUND(((AG32+AH32)/2),0) -> 229729 | AJ32: 210443.02 | AK32: 238362.15 | AL32: =ROUND(((AJ32+AK32)/2),0) -> 224403 | AM32: 310888.91 | AN32: 238362.15 | AO32: =ROUND(((AM32+AN32)/2),0) -> 274626 | AP32: 150093.97 | AQ32: 137393.71 | AR32: =ROUND(((AP32+AQ32)/2),0) -> 143744 | AS32: 183935.38 | AT32: 168371.61 | AU32: =ROUND(((AS32+AT32)/2),0) -> 176153 | AV32: 264621.89 | AW32: 238362.15 | AX32: =ROUND(((AV32+AW32)/2),0) -> 251492 | AY32: 255517.86 | AZ32: 238362.15 | BA32: =ROUND(((AY32+AZ32)/2),0) -> 246940 | BB32: 191292.79 | BC32: 175106.48 | BD32: =ROUND(((BB32+BC32)/2),0) -> 183200 | BE32: =H32+K32+N32+Q32+T32+W32+Z32+AC32+AF32+AI32+AL32+AO32+AR32+AU32+AX32+BA32+BD32 -> 3595864
B33: 19 | C33: CAMBIO BÉNDIX DEL ARRANQUE | D33: SERVICIO | F33: 107532.17 | G33: 121072.95 | H33: =ROUND(((F33+G33)/2),0) -> 114303 | I33: 107532.17 | J33: 121072.95 | K33: =ROUND(((I33+J33)/2),0) -> 114303 | L33: 189769.26 | M33: 213665.58 | N33: =ROUND(((L33+M33)/2),0) -> 201717 | O33: 187498.74 | P33: 211109.16 | Q33: =ROUND(((O33+P33)/2),0) -> 199304 | R33: 189911.22 | S33: 213825.42 | T33: =ROUND(((R33+S33)/2),0) -> 201868 | U33: 299958.58 | V33: 283806.97 | W33: =ROUND(((U33+V33)/2),0) -> 291883 | X33: 206537.43 | Y33: 232545.26 | Z33: =ROUND(((X33+Y33)/2),0) -> 219541 | AA33: 212690.73 | AB33: 232545.26 | AC33: =ROUND(((AA33+AB33)/2),0) -> 222618 | AD33: 210231.77 | AE33: 232545.26 | AF33: =ROUND(((AD33+AE33)/2),0) -> 221389 | AG33: 209609.86 | AH33: 232545.26 | AI33: =ROUND(((AG33+AH33)/2),0) -> 221078 | AJ33: 216369.86 | AK33: 232545.26 | AL33: =ROUND(((AJ33+AK33)/2),0) -> 224458 | AM33: 293107.77 | AN33: 232545.26 | AO33: =ROUND(((AM33+AN33)/2),0) -> 262827 | AP33: 142560.8 | AQ33: 130497.96 | AR33: =ROUND(((AP33+AQ33)/2),0) -> 136529 | AS33: 173578.21 | AT33: 158890.82 | AU33: =ROUND(((AS33+AT33)/2),0) -> 166235 | AV33: 249888.47 | AW33: 232545.26 | AX33: =ROUND(((AV33+AW33)/2),0) -> 241217 | AY33: 239421.46 | AZ33: 232545.26 | BA33: =ROUND(((AY33+AZ33)/2),0) -> 235983 | BB33: 180521.58 | BC33: 165246.67 | BD33: =ROUND(((BB33+BC33)/2),0) -> 172884 | BE33: =H33+K33+N33+Q33+T33+W33+Z33+AC33+AF33+AI33+AL33+AO33+AR33+AU33+AX33+BA33+BD33 -> 3448137
B34: 20 | C34: CAMBIO BOBINA | D34: SERVICIO | F34: 113257.88 | G34: 127519.67 | H34: =ROUND(((F34+G34)/2),0) -> 120389 | I34: 113257.88 | J34: 127519.67 | K34: =ROUND(((I34+J34)/2),0) -> 120389 | L34: 201050.85 | M34: 226367.79 | N34: =ROUND(((L34+M34)/2),0) -> 213709 | O34: 196359.41 | P34: 221085.59 | Q34: =ROUND(((O34+P34)/2),0) -> 208723 | R34: 199930.38 | S34: 225106.23 | T34: =ROUND(((R34+S34)/2),0) -> 212518 | U34: 318447.63 | V34: 301300.45 | W34: =ROUND(((U34+V34)/2),0) -> 309874 | X34: 215732.73 | Y34: 242898.45 | Z34: =ROUND(((X34+Y34)/2),0) -> 229316 | AA34: 229686.21 | AB34: 242898.45 | AC34: =ROUND(((AA34+AB34)/2),0) -> 236292 | AD34: 222093.04 | AE34: 242898.45 | AF34: =ROUND(((AD34+AE34)/2),0) -> 232496 | AG34: 223052.96 | AH34: 242898.45 | AI34: =ROUND(((AG34+AH34)/2),0) -> 232976 | AJ34: 228422.93 | AK34: 242898.45 | AL34: =ROUND(((AJ34+AK34)/2),0) -> 235661 | AM34: 316683.89 | AN34: 242898.45 | AO34: =ROUND(((AM34+AN34)/2),0) -> 279791 | AP34: 148917.73 | AQ34: 136317 | AR34: =ROUND(((AP34+AQ34)/2),0) -> 142617 | AS34: 182820.82 | AT34: 167351.37 | AU34: =ROUND(((AS34+AT34)/2),0) -> 175086 | AV34: 264280.51 | AW34: 242898.45 | AX34: =ROUND(((AV34+AW34)/2),0) -> 253589 | AY34: 275017.92 | AZ34: 242898.45 | BA34: =ROUND(((AY34+AZ34)/2),0) -> 258958 | BB34: 190133.45 | BC34: 174045.23 | BD34: =ROUND(((BB34+BC34)/2),0) -> 182089 | BE34: =H34+K34+N34+Q34+T34+W34+Z34+AC34+AF34+AI34+AL34+AO34+AR34+AU34+AX34+BA34+BD34 -> 3644473
B35: 21 | C35: CAMBIO BUJES ARRANQUE | D35: SERVICIO | F35: 103978.1 | G35: 117071.34 | H35: =ROUND(((F35+G35)/2),0) -> 110525 | I35: 103978.1 | J35: 117071.34 | K35: =ROUND(((I35+J35)/2),0) -> 110525 | L35: 179207.6 | M35: 201773.97 | N35: =ROUND(((L35+M35)/2),0) -> 190491 | O35: 182591.83 | P35: 205584.35 | Q35: =ROUND(((O35+P35)/2),0) -> 194088 | R35: 183799.33 | S35: 206943.91 | T35: =ROUND(((R35+S35)/2),0) -> 195372 | U35: 285696.87 | V35: 270313.19 | W35: =ROUND(((U35+V35)/2),0) -> 278005 | X35: 210980.45 | Y35: 237547.75 | Z35: =ROUND(((X35+Y35)/2),0) -> 224264 | AA35: 208554.45 | AB35: 237547.75 | AC35: =ROUND(((AA35+AB35)/2),0) -> 223051 | AD35: 197594.8 | AE35: 237547.75 | AF35: =ROUND(((AD35+AE35)/2),0) -> 217571 | AG35: 200056.29 | AH35: 237547.75 | AI35: =ROUND(((AG35+AH35)/2),0) -> 218802 | AJ35: 204909.97 | AK35: 237547.75 | AL35: =ROUND(((AJ35+AK35)/2),0) -> 221229 | AM35: 292473.27 | AN35: 237547.75 | AO35: =ROUND(((AM35+AN35)/2),0) -> 265011 | AP35: 138731.26 | AQ35: 126992.46 | AR35: =ROUND(((AP35+AQ35)/2),0) -> 132862 | AS35: 167840.66 | AT35: 153638.76 | AU35: =ROUND(((AS35+AT35)/2),0) -> 160740 | AV35: 235726.27 | AW35: 237547.75 | AX35: =ROUND(((AV35+AW35)/2),0) -> 236637 | AY35: 249042.62 | AZ35: 237547.75 | BA35: =ROUND(((AY35+AZ35)/2),0) -> 243295 | BB35: 174554.18 | BC35: 159784.22 | BD35: =ROUND(((BB35+BC35)/2),0) -> 167169 | BE35: =H35+K35+N35+Q35+T35+W35+Z35+AC35+AF35+AI35+AL35+AO35+AR35+AU35+AX35+BA35+BD35 -> 3389637
B36: 22 | C36: CAMBIO BUJES DEL ALTERNADOR Y/O ESCOBILLAS | D36: SERVICIO | F36: 118814.61 | G36: 133776.11 | H36: =ROUND(((F36+G36)/2),0) -> 126295 | I36: 118814.61 | J36: 133776.11 | K36: =ROUND(((I36+J36)/2),0) -> 126295 | L36: 204663.23 | M36: 230435.05 | N36: =ROUND(((L36+M36)/2),0) -> 217549 | O36: 199916.86 | P36: 225091.01 | Q36: =ROUND(((O36+P36)/2),0) -> 212504 | R36: 209528.74 | S36: 235913.24 | T36: =ROUND(((R36+S36)/2),0) -> 222721 | U36: 319132.41 | V36: 301948.36 | W36: =ROUND(((U36+V36)/2),0) -> 310540 | X36: 235344.33 | Y36: 264979.61 | Z36: =ROUND(((X36+Y36)/2),0) -> 250162 | AA36: 231497.04 | AB36: 264979.61 | AC36: =ROUND(((AA36+AB36)/2),0) -> 248238 | AD36: 227638.77 | AE36: 264979.61 | AF36: =ROUND(((AD36+AE36)/2),0) -> 246309 | AG36: 229907.6 | AH36: 264979.61 | AI36: =ROUND(((AG36+AH36)/2),0) -> 247444 | AJ36: 236622.82 | AK36: 264979.61 | AL36: =ROUND(((AJ36+AK36)/2),0) -> 250801 | AM36: 329867.66 | AN36: 264979.61 | AO36: =ROUND(((AM36+AN36)/2),0) -> 297424 | AP36: 151756.93 | AQ36: 138915.96 | AR36: =ROUND(((AP36+AQ36)/2),0) -> 145336 | AS36: 191789.65 | AT36: 175561.3 | AU36: =ROUND(((AS36+AT36)/2),0) -> 183675 | AV36: 269413.89 | AW36: 264979.61 | AX36: =ROUND(((AV36+AW36)/2),0) -> 267197 | AY36: 274079.97 | AZ36: 264979.61 | BA36: =ROUND(((AY36+AZ36)/2),0) -> 269530 | BB36: 199461.4 | BC36: 182583.9 | BD36: =ROUND(((BB36+BC36)/2),0) -> 191023 | BE36: =H36+K36+N36+Q36+T36+W36+Z36+AC36+AF36+AI36+AL36+AO36+AR36+AU36+AX36+BA36+BD36 -> 3813043
B37: 23 | C37: CAMBIO BUJIAS | D37: SERVICIO | F37: 82008.095 | G37: 92334.807 | H37: =ROUND(((F37+G37)/2),0) -> 87171 | I37: 82008.095 | J37: 92334.807 | K37: =ROUND(((I37+J37)/2),0) -> 87171 | L37: 136919.58 | M37: 154160.91 | N37: =ROUND(((L37+M37)/2),0) -> 145540 | O37: 147001.27 | P37: 165512.12 | Q37: =ROUND(((O37+P37)/2),0) -> 156257 | R37: 144518.66 | S37: 162716.89 | T37: =ROUND(((R37+S37)/2),0) -> 153618 | U37: 211721.57 | V37: 200321.18 | W37: =ROUND(((U37+V37)/2),0) -> 206021 | X37: 157467.44 | Y37: 177296.22 | Z37: =ROUND(((X37+Y37)/2),0) -> 167382 | AA37: 155648.15 | AB37: 177296.22 | AC37: =ROUND(((AA37+AB37)/2),0) -> 166472 | AD37: 151088.54 | AE37: 177296.22 | AF37: =ROUND(((AD37+AE37)/2),0) -> 164192 | AG37: 153386.93 | AH37: 177296.22 | AI37: =ROUND(((AG37+AH37)/2),0) -> 165342 | AJ37: 162000.86 | AK37: 177296.22 | AL37: =ROUND(((AJ37+AK37)/2),0) -> 169649 | AM37: 223136.57 | AN37: 177296.22 | AO37: =ROUND(((AM37+AN37)/2),0) -> 200216 | AP37: 111824.76 | AQ37: 102362.67 | AR37: =ROUND(((AP37+AQ37)/2),0) -> 107094 | AS37: 132376.86 | AT37: 121175.74 | AU37: =ROUND(((AS37+AT37)/2),0) -> 126776 | AV37: 179952.04 | AW37: 177296.22 | AX37: =ROUND(((AV37+AW37)/2),0) -> 178624 | AY37: 192097.23 | AZ37: 177296.22 | BA37: =ROUND(((AY37+AZ37)/2),0) -> 184697 | BB37: 137671.62 | BC37: 126022.49 | BD37: =ROUND(((BB37+BC37)/2),0) -> 131847 | BE37: =H37+K37+N37+Q37+T37+W37+Z37+AC37+AF37+AI37+AL37+AO37+AR37+AU37+AX37+BA37+BD37 -> 2598069
B38: 24 | C38: CAMBIO BUJIAS PRECALENTAMIENTO | D38: SERVICIO | F38: 260000 | G38: 292740 | H38: =ROUND(((F38+G38)/2),0) -> 276370 | I38: 260000 | J38: 292740 | K38: =ROUND(((I38+J38)/2),0) -> 276370 | L38: 260000 | M38: 292740 | N38: =ROUND(((L38+M38)/2),0) -> 276370 | O38: 260000 | P38: 292740 | Q38: =ROUND(((O38+P38)/2),0) -> 276370 | R38: 260000 | S38: 292740 | T38: =ROUND(((R38+S38)/2),0) -> 276370 | U38: 309400 | V38: 292740 | W38: =ROUND(((U38+V38)/2),0) -> 301070 | X38: 260000 | Y38: 292740 | Z38: =ROUND(((X38+Y38)/2),0) -> 276370 | AA38: 260000 | AB38: 292740 | AC38: =ROUND(((AA38+AB38)/2),0) -> 276370 | AD38: 260000 | AE38: 292740 | AF38: =ROUND(((AD38+AE38)/2),0) -> 276370 | AG38: 260000 | AH38: 292740 | AI38: =ROUND(((AG38+AH38)/2),0) -> 276370 | AJ38: 260000 | AK38: 292740 | AL38: =ROUND(((AJ38+AK38)/2),0) -> 276370 | AM38: 309400 | AN38: 292740 | AO38: =ROUND(((AM38+AN38)/2),0) -> 301070 | AP38: 260000 | AQ38: 238000 | AR38: =ROUND(((AP38+AQ38)/2),0) -> 249000 | AS38: 260000 | AT38: 238000 | AU38: =ROUND(((AS38+AT38)/2),0) -> 249000 | AV38: 260000 | AW38: 292740 | AX38: =ROUND(((AV38+AW38)/2),0) -> 276370 | AY38: 260000 | AZ38: 292740 | BA38: =ROUND(((AY38+AZ38)/2),0) -> 276370 | BB38: 260000 | BC38: 238000 | BD38: =ROUND(((BB38+BC38)/2),0) -> 249000 | BE38: =H38+K38+N38+Q38+T38+W38+Z38+AC38+AF38+AI38+AL38+AO38+AR38+AU38+AX38+BA38+BD38 -> 4665580
B39: 25 | C39: CAMBIO CABLES DE BATERIA | D39: SERVICIO | F39: 84500 | G39: 95140.5 | H39: =ROUND(((F39+G39)/2),0) -> 89820 | I39: 84500 | J39: 95140.5 | K39: =ROUND(((I39+J39)/2),0) -> 89820 | L39: 84500 | M39: 95140.5 | N39: =ROUND(((L39+M39)/2),0) -> 89820 | O39: 84500 | P39: 95140.5 | Q39: =ROUND(((O39+P39)/2),0) -> 89820 | R39: 84500 | S39: 95140.5 | T39: =ROUND(((R39+S39)/2),0) -> 89820 | U39: 100555 | V39: 95140.5 | W39: =ROUND(((U39+V39)/2),0) -> 97848 | X39: 84500 | Y39: 95140.5 | Z39: =ROUND(((X39+Y39)/2),0) -> 89820 | AA39: 84500 | AB39: 95140.5 | AC39: =ROUND(((AA39+AB39)/2),0) -> 89820 | AD39: 84500 | AE39: 95140.5 | AF39: =ROUND(((AD39+AE39)/2),0) -> 89820 | AG39: 84500 | AH39: 95140.5 | AI39: =ROUND(((AG39+AH39)/2),0) -> 89820 | AJ39: 84500 | AK39: 95140.5 | AL39: =ROUND(((AJ39+AK39)/2),0) -> 89820 | AM39: 100555 | AN39: 95140.5 | AO39: =ROUND(((AM39+AN39)/2),0) -> 97848 | AP39: 84500 | AQ39: 77350 | AR39: =ROUND(((AP39+AQ39)/2),0) -> 80925 | AS39: 84500 | AT39: 77350 | AU39: =ROUND(((AS39+AT39)/2),0) -> 80925 | AV39: 84500 | AW39: 95140.5 | AX39: =ROUND(((AV39+AW39)/2),0) -> 89820 | AY39: 84500 | AZ39: 95140.5 | BA39: =ROUND(((AY39+AZ39)/2),0) -> 89820 | BB39: 84500 | BC39: 77350 | BD39: =ROUND(((BB39+BC39)/2),0) -> 80925 | BE39: =H39+K39+N39+Q39+T39+W39+Z39+AC39+AF39+AI39+AL39+AO39+AR39+AU39+AX39+BA39+BD39 -> 1516311
B40: 26 | C40: CAMBIO CARCAZA ARRANQUE | D40: SERVICIO | F40: 104971.82 | G40: 118190.19 | H40: =ROUND(((F40+G40)/2),0) -> 111581 | I40: 104971.82 | J40: 118190.19 | K40: =ROUND(((I40+J40)/2),0) -> 111581 | L40: 186273.49 | M40: 209729.62 | N40: =ROUND(((L40+M40)/2),0) -> 198002 | O40: 184155.92 | P40: 207345.4 | Q40: =ROUND(((O40+P40)/2),0) -> 195751 | R40: 185297.52 | S40: 208630.75 | T40: =ROUND(((R40+S40)/2),0) -> 196964 | U40: 274074.72 | V40: 259316.85 | W40: =ROUND(((U40+V40)/2),0) -> 266696 | X40: 204677.59 | Y40: 230451.22 | Z40: =ROUND(((X40+Y40)/2),0) -> 217564 | AA40: 193161.09 | AB40: 230451.22 | AC40: =ROUND(((AA40+AB40)/2),0) -> 211806 | AD40: 205824.26 | AE40: 230451.22 | AF40: =ROUND(((AD40+AE40)/2),0) -> 218138 | AG40: 204374.24 | AH40: 230451.22 | AI40: =ROUND(((AG40+AH40)/2),0) -> 217413 | AJ40: 200082.48 | AK40: 230451.22 | AL40: =ROUND(((AJ40+AK40)/2),0) -> 215267 | AM40: 283704.87 | AN40: 230451.22 | AO40: =ROUND(((AM40+AN40)/2),0) -> 257078 | AP40: 139913.41 | AQ40: 128074.58 | AR40: =ROUND(((AP40+AQ40)/2),0) -> 133994 | AS40: 169444.47 | AT40: 155106.86 | AU40: =ROUND(((AS40+AT40)/2),0) -> 162276 | AV40: 245020.42 | AW40: 230451.22 | AX40: =ROUND(((AV40+AW40)/2),0) -> 237736 | AY40: 245020.42 | AZ40: 230451.22 | BA40: =ROUND(((AY40+AZ40)/2),0) -> 237736 | BB40: 176222.22 | BC40: 161311.1 | BD40: =ROUND(((BB40+BC40)/2),0) -> 168767 | BE40: =H40+K40+N40+Q40+T40+W40+Z40+AC40+AF40+AI40+AL40+AO40+AR40+AU40+AX40+BA40+BD40 -> 3358350
B41: 27 | C41: CAMBIO CONTROLES BLOQUEO CENTRAL | D41: SERVICIO | F41: 195000 | G41: 219555 | H41: =ROUND(((F41+G41)/2),0) -> 207278 | I41: 195000 | J41: 219555 | K41: =ROUND(((I41+J41)/2),0) -> 207278 | L41: 195000 | M41: 219555 | N41: =ROUND(((L41+M41)/2),0) -> 207278 | O41: 195000 | P41: 219555 | Q41: =ROUND(((O41+P41)/2),0) -> 207278 | R41: 195000 | S41: 219555 | T41: =ROUND(((R41+S41)/2),0) -> 207278 | U41: 232050 | V41: 219555 | W41: =ROUND(((U41+V41)/2),0) -> 225803 | X41: 195000 | Y41: 219555 | Z41: =ROUND(((X41+Y41)/2),0) -> 207278 | AA41: 195000 | AB41: 219555 | AC41: =ROUND(((AA41+AB41)/2),0) -> 207278 | AD41: 195000 | AE41: 219555 | AF41: =ROUND(((AD41+AE41)/2),0) -> 207278 | AG41: 195000 | AH41: 219555 | AI41: =ROUND(((AG41+AH41)/2),0) -> 207278 | AJ41: 195000 | AK41: 219555 | AL41: =ROUND(((AJ41+AK41)/2),0) -> 207278 | AM41: 232050 | AN41: 219555 | AO41: =ROUND(((AM41+AN41)/2),0) -> 225803 | AP41: 195000 | AQ41: 178500 | AR41: =ROUND(((AP41+AQ41)/2),0) -> 186750 | AS41: 195000 | AT41: 178500 | AU41: =ROUND(((AS41+AT41)/2),0) -> 186750 | AV41: 195000 | AW41: 219555 | AX41: =ROUND(((AV41+AW41)/2),0) -> 207278 | AY41: 195000 | AZ41: 219555 | BA41: =ROUND(((AY41+AZ41)/2),0) -> 207278 | BB41: 195000 | BC41: 178500 | BD41: =ROUND(((BB41+BC41)/2),0) -> 186750 | BE41: =H41+K41+N41+Q41+T41+W41+Z41+AC41+AF41+AI41+AL41+AO41+AR41+AU41+AX41+BA41+BD41 -> 3499192
B42: 28 | C42: CAMBIO DE ALTERNADOR | D42: SERVICIO | F42: 168220.91 | G42: 189403.8 | H42: =ROUND(((F42+G42)/2),0) -> 178812 | I42: 168220.91 | J42: 189403.8 | K42: =ROUND(((I42+J42)/2),0) -> 178812 | L42: 296895.82 | M42: 334281.86 | N42: =ROUND(((L42+M42)/2),0) -> 315589 | O42: 291966.93 | P42: 328732.31 | Q42: =ROUND(((O42+P42)/2),0) -> 310350 | R42: 297127.35 | S42: 334542.54 | T42: =ROUND(((R42+S42)/2),0) -> 315835 | U42: 436014.52 | V42: 412536.82 | W42: =ROUND(((U42+V42)/2),0) -> 424276 | X42: 334078.35 | Y42: 376146.53 | Z42: =ROUND(((X42+Y42)/2),0) -> 355112 | AA42: 319774.2 | AB42: 376146.53 | AC42: =ROUND(((AA42+AB42)/2),0) -> 347960 | AD42: 330512.46 | AE42: 376146.53 | AF42: =ROUND(((AD42+AE42)/2),0) -> 353329 | AG42: 328253.77 | AH42: 376146.53 | AI42: =ROUND(((AG42+AH42)/2),0) -> 352200 | AJ42: 332296.25 | AK42: 376146.53 | AL42: =ROUND(((AJ42+AK42)/2),0) -> 354221 | AM42: 453553.33 | AN42: 376146.53 | AO42: =ROUND(((AM42+AN42)/2),0) -> 414850 | AP42: 221315.64 | AQ42: 202588.93 | AR42: =ROUND(((AP42+AQ42)/2),0) -> 211952 | AS42: 271540.75 | AT42: 248564.23 | AU42: =ROUND(((AS42+AT42)/2),0) -> 260052 | AV42: 390994.17 | AW42: 376146.53 | AX42: =ROUND(((AV42+AW42)/2),0) -> 383570 | AY42: 384513.87 | AZ42: 376146.53 | BA42: =ROUND(((AY42+AZ42)/2),0) -> 380330 | BB42: 282402.38 | BC42: 258506.79 | BD42: =ROUND(((BB42+BC42)/2),0) -> 270455 | BE42: =H42+K42+N42+Q42+T42+W42+Z42+AC42+AF42+AI42+AL42+AO42+AR42+AU42+AX42+BA42+BD42 -> 5407705
... B64: 50 | C64: REVISION FUNCIONAMIENTO TABLERO INSTRUMENTOS | D64: SERVICIO | F64: 255097.05 | G64: 287219.66 | H64: =ROUND(((F64+G64)/2),0) -> 271158 | I64: 255097.05 | J64: 287219.66 | K64: =ROUND(((I64+J64)/2),0) -> 271158 | L64: 472583.99 | M64: 532093.23 | N64: =ROUND(((L64+M64)/2),0) -> 502339 | O64: 469819.16 | P64: 528980.23 | Q64: =ROUND(((O64+P64)/2),0) -> 499400 | R64: 469870.7 | S64: 529038.26 | T64: =ROUND(((R64+S64)/2),0) -> 499454 | U64: 561879.22 | V64: 531624.18 | W64: =ROUND(((U64+V64)/2),0) -> 546752 | X64: 465022.09 | Y64: 523579.1 | Z64: =ROUND(((X64+Y64)/2),0) -> 494301 | AA64: 463344.77 | AB64: 523579.1 | AC64: =ROUND(((AA64+AB64)/2),0) -> 493462 | AD64: 464604.66 | AE64: 523579.1 | AF64: =ROUND(((AD64+AE64)/2),0) -> 494092 | AG64: 464813.38 | AH64: 523579.1 | AI64: =ROUND(((AG64+AH64)/2),0) -> 494196 | AJ64: 464185.54 | AK64: 523579.1 | AL64: =ROUND(((AJ64+AK64)/2),0) -> 493882 | AM64: 561005.39 | AN64: 523579.1 | AO64: =ROUND(((AM64+AN64)/2),0) -> 542292 | AP64: 259328.81 | AQ64: 237385.6 | AR64: =ROUND(((AP64+AQ64)/2),0) -> 248357 | AS64: 395516.61 | AT64: 362049.82 | AU64: =ROUND(((AS64+AT64)/2),0) -> 378783 | AV64: 471013.98 | AW64: 523579.1 | AX64: =ROUND(((AV64+AW64)/2),0) -> 497297 | AY64: 471517.61 | AZ64: 523579.1 | BA64: =ROUND(((AY64+AZ64)/2),0) -> 497548 | BB64: 543835.24 | BC64: 497818.41 | BD64: =ROUND(((BB64+BC64)/2),0) -> 520827 | BE64: =H64+K64+N64+Q64+T64+W64+Z64+AC64+AF64+AI64+AL64+AO64+AR64+AU64+AX64+BA64+BD64 -> 7745298
B65: SUSPENSIÓN | F65: =+SUM(F66:F84) -> 2784962.2 | G65: =SUM(G66:G84) -> 3135653.2 | H65: =SUM(H66:H84) -> 2960307 | I65: =+SUM(I66:I84) -> 2784962.2 | J65: =SUM(J66:J84) -> 3135653.2 | K65: =SUM(K66:K84) -> 2960307 | L65: =+SUM(L66:L84) -> 3601897.2 | M65: =SUM(M66:M84) -> 4055459.2 | N65: =SUM(N66:N84) -> 3828676 | O65: =+SUM(O66:O84) -> 3833096.8 | P65: =SUM(P66:P84) -> 4315772.1 | Q65: =SUM(Q66:Q84) -> 4074434 | R65: =+SUM(R66:R84) -> 3814640.3 | S65: =SUM(S66:S84) -> 4294991.6 | T65: =SUM(T66:T84) -> 4054817 | U65: =+SUM(U66:U84) -> 5392591.9 | V65: =SUM(V66:V84) -> 5102221.6 | W65: =SUM(W66:W84) -> 5247407 | X65: =+SUM(X66:X84) -> 4069052.1 | Y65: =SUM(Y66:Y84) -> 4581439.6 | Z65: =SUM(Z66:Z84) -> 4325245 | AA65: =+SUM(AA66:AA84) -> 4076697.6 | AB65: =SUM(AB66:AB84) -> 4581439.6 | AC65: =SUM(AC66:AC84) -> 4329069 | AD65: =+SUM(AD66:AD84) -> 4074184.6 | AE65: =SUM(AE66:AE84) -> 4581439.6 | AF65: =SUM(AF66:AF84) -> 4327811 | AG65: =+SUM(AG66:AG84) -> 4071092.7 | AH65: =SUM(AH66:AH84) -> 4581439.6 | AI65: =SUM(AI66:AI84) -> 4326265 | AJ65: =+SUM(AJ66:AJ84) -> 4087386 | AK65: =SUM(AK66:AK84) -> 4581439.6 | AL65: =SUM(AL66:AL84) -> 4334414 | AM65: =+SUM(AM66:AM84) -> 5359325.3 | AN65: =SUM(AN66:AN84) -> 4581439.6 | AO65: =SUM(AO66:AO84) -> 4970381 | AP65: =+SUM(AP66:AP84) -> 3402287.9 | AQ65: =SUM(AQ66:AQ84) -> 3114402 | AR65: =SUM(AR66:AR84) -> 3258345 | AS65: =+SUM(AS66:AS84) -> 3597207.4 | AT65: =SUM(AT66:AT84) -> 3292828.4 | AU65: =SUM(AU66:AU84) -> 3445017 | AV65: =+SUM(AV66:AV84) -> 4559365.9 | AW65: =SUM(AW66:AW84) -> 4581439.6 | AX65: =SUM(AX66:AX84) -> 4570402 | AY65: =+SUM(AY66:AY84) -> 4544998.3 | AZ65: =SUM(AZ66:AZ84) -> 4581439.6 | BA65: =SUM(BA66:BA84) -> 4563218 | BB65: =+SUM(BB66:BB84) -> 3682595.5 | BC65: =SUM(BC66:BC84) -> 3370991.3 | BD65: =SUM(BD66:BD84) -> 3526792 | BE65: =H65+K65+N65+Q65+T65+W65+Z65+AC65+AF65+AI65+AL65+AO65+AR65+AU65+AX65+BA65+BD65 -> 69102907
B66: 51 | C66: AJUSTE DE MORDAZA DELANTERAS | D66: SERVICIO | F66: 136500 | G66: 153688.5 | H66: =ROUND(((F66+G66)/2),0) -> 145094 | I66: 136500 | J66: 153688.5 | K66: =ROUND(((I66+J66)/2),0) -> 145094 | L66: 136500 | M66: 153688.5 | N66: =ROUND(((L66+M66)/2),0) -> 145094 | O66: 136500 | P66: 153688.5 | Q66: =ROUND(((O66+P66)/2),0) -> 145094 | R66: 136500 | S66: 153688.5 | T66: =ROUND(((R66+S66)/2),0) -> 145094 | U66: 162435 | V66: 153688.5 | W66: =ROUND(((U66+V66)/2),0) -> 158062 | X66: 136500 | Y66: 153688.5 | Z66: =ROUND(((X66+Y66)/2),0) -> 145094 | AA66: 136500 | AB66: 153688.5 | AC66: =ROUND(((AA66+AB66)/2),0) -> 145094 | AD66: 136500 | AE66: 153688.5 | AF66: =ROUND(((AD66+AE66)/2),0) -> 145094 | AG66: 136500 | AH66: 153688.5 | AI66: =ROUND(((AG66+AH66)/2),0) -> 145094 | AJ66: 136500 | AK66: 153688.5 | AL66: =ROUND(((AJ66+AK66)/2),0) -> 145094 | AM66: 162435 | AN66: 153688.5 | AO66: =ROUND(((AM66+AN66)/2),0) -> 158062 | AP66: 136500 | AQ66: 124950 | AR66: =ROUND(((AP66+AQ66)/2),0) -> 130725 | AS66: 136500 | AT66: 124950 | AU66: =ROUND(((AS66+AT66)/2),0) -> 130725 | AV66: 136500 | AW66: 153688.5 | AX66: =ROUND(((AV66+AW66)/2),0) -> 145094 | AY66: 136500 | AZ66: 153688.5 | BA66: =ROUND(((AY66+AZ66)/2),0) -> 145094 | BB66: 136500 | BC66: 124950 | BD66: =ROUND(((BB66+BC66)/2),0) -> 130725 | BE66: =H66+K66+N66+Q66+T66+W66+Z66+AC66+AF66+AI66+AL66+AO66+AR66+AU66+AX66+BA66+BD66 -> 2449427
B67: 52 | C67: AJUSTE Y ENGRASE RODAMIENTOS (INCLUYE INSUMO) | D67: SERVICIO | F67: 138643.38 | G67: 156101.78 | H67: =ROUND(((F67+G67)/2),0) -> 147373 | I67: 138643.38 | J67: 156101.78 | K67: =ROUND(((I67+J67)/2),0) -> 147373 | L67: 222350.77 | M67: 250349.86 | N67: =ROUND(((L67+M67)/2),0) -> 236350 | O67: 245407.43 | P67: 276309.89 | Q67: =ROUND(((O67+P67)/2),0) -> 260859 | R67: 245697.27 | S67: 276636.23 | T67: =ROUND(((R67+S67)/2),0) -> 261167 | U67: 361975.88 | V67: 342484.87 | W67: =ROUND(((U67+V67)/2),0) -> 352230 | X67: 259531.61 | Y67: 292212.63 | Z67: =ROUND(((X67+Y67)/2),0) -> 275872 | AA67: 275279.88 | AB67: 292212.63 | AC67: =ROUND(((AA67+AB67)/2),0) -> 283746 | AD67: 259531.61 | AE67: 292212.63 | AF67: =ROUND(((AD67+AE67)/2),0) -> 275872 | AG67: 262789.09 | AH67: 292212.63 | AI67: =ROUND(((AG67+AH67)/2),0) -> 277501 | AJ67: 258089.2 | AK67: 292212.63 | AL67: =ROUND(((AJ67+AK67)/2),0) -> 275151 | AM67: 373992.2 | AN67: 292212.63 | AO67: =ROUND(((AM67+AN67)/2),0) -> 333102 | AP67: 194134.52 | AQ67: 177707.76 | AR67: =ROUND(((AP67+AQ67)/2),0) -> 185921 | AS67: 223796.56 | AT67: 204859.93 | AU67: =ROUND(((AS67+AT67)/2),0) -> 214328 | AV67: 302942.64 | AW67: 292212.63 | AX67: =ROUND(((AV67+AW67)/2),0) -> 297578 | AY67: 309869.95 | AZ67: 292212.63 | BA67: =ROUND(((AY67+AZ67)/2),0) -> 301041 | BB67: 232748.49 | BC67: 213054.39 | BD67: =ROUND(((BB67+BC67)/2),0) -> 222901 | BE67: =H67+K67+N67+Q67+T67+W67+Z67+AC67+AF67+AI67+AL67+AO67+AR67+AU67+AX67+BA67+BD67 -> 4348365
B68: 53 | C68: AJUSTE Y TORQUEO SUSPENSION GENERAL | D68: SERVICIO | F68: 111348.18 | G68: 125369.49 | H68: =ROUND(((F68+G68)/2),0) -> 118359 | I68: 111348.18 | J68: 125369.49 | K68: =ROUND(((I68+J68)/2),0) -> 118359 | L68: 176236.58 | M68: 198428.83 | N68: =ROUND(((L68+M68)/2),0) -> 187333 | O68: 197836.47 | P68: 222748.65 | Q68: =ROUND(((O68+P68)/2),0) -> 210293 | R68: 197965.76 | S68: 222894.21 | T68: =ROUND(((R68+S68)/2),0) -> 210430 | U68: 296727.75 | V68: 280750.1 | W68: =ROUND(((U68+V68)/2),0) -> 288739 | X68: 212765.93 | Y68: 239558.07 | Z68: =ROUND(((X68+Y68)/2),0) -> 226162 | AA68: 219918.01 | AB68: 239558.07 | AC68: =ROUND(((AA68+AB68)/2),0) -> 229738 | AD68: 212765.93 | AE68: 239558.07 | AF68: =ROUND(((AD68+AE68)/2),0) -> 226162 | AG68: 213670.08 | AH68: 239558.07 | AI68: =ROUND(((AG68+AH68)/2),0) -> 226614 | AJ68: 222293.3 | AK68: 239558.07 | AL68: =ROUND(((AJ68+AK68)/2),0) -> 230926 | AM68: 308361.96 | AN68: 239558.07 | AO68: =ROUND(((AM68+AN68)/2),0) -> 273960 | AP68: 160659.85 | AQ68: 147065.55 | AR68: =ROUND(((AP68+AQ68)/2),0) -> 153863 | AS68: 179737.42 | AT68: 164528.86 | AU68: =ROUND(((AS68+AT68)/2),0) -> 172133 | AV68: 263296.93 | AW68: 239558.07 | AX68: =ROUND(((AV68+AW68)/2),0) -> 251428 | AY68: 245982.88 | AZ68: 239558.07 | BA68: =ROUND(((AY68+AZ68)/2),0) -> 242770 | BB68: 186927.52 | BC68: 171110.58 | BD68: =ROUND(((BB68+BC68)/2),0) -> 179019 | BE68: =H68+K68+N68+Q68+T68+W68+Z68+AC68+AF68+AI68+AL68+AO68+AR68+AU68+AX68+BA68+BD68 -> 3546288
B69: 54 | C69: CAMBIO AMORTIGUADORES DELANTEROS | D69: SERVICIO | F69: 120017.04 | G69: 135129.95 | H69: =ROUND(((F69+G69)/2),0) -> 127573 | I69: 120017.04 | J69: 135129.95 | K69: =ROUND(((I69+J69)/2),0) -> 127573 | L69: 192035.54 | M69: 216217.25 | N69: =ROUND(((L69+M69)/2),0) -> 204126 | O69: 207650.3 | P69: 233798.26 | Q69: =ROUND(((O69+P69)/2),0) -> 220724 | R69: 207929.15 | S69: 234112.23 | T69: =ROUND(((R69+S69)/2),0) -> 221021 | U69: 315572.76 | V69: 298580.38 | W69: =ROUND(((U69+V69)/2),0) -> 307077 | X69: 226367.89 | Y69: 254872.84 | Z69: =ROUND(((X69+Y69)/2),0) -> 240620 | AA69: 234704.67 | AB69: 254872.84 | AC69: =ROUND(((AA69+AB69)/2),0) -> 244789 | AD69: 226367.89 | AE69: 254872.84 | AF69: =ROUND(((AD69+AE69)/2),0) -> 240620 | AG69: 227873.68 | AH69: 254872.84 | AI69: =ROUND(((AG69+AH69)/2),0) -> 241373 | AJ69: 238253.67 | AK69: 254872.84 | AL69: =ROUND(((AJ69+AK69)/2),0) -> 246563 | AM69: 328851.05 | AN69: 254872.84 | AO69: =ROUND(((AM69+AN69)/2),0) -> 291862 | AP69: 168197.25 | AQ69: 153965.17 | AR69: =ROUND(((AP69+AQ69)/2),0) -> 161081 | AS69: 193730.62 | AT69: 177338.02 | AU69: =ROUND(((AS69+AT69)/2),0) -> 185534 | AV69: 278261.04 | AW69: 254872.84 | AX69: =ROUND(((AV69+AW69)/2),0) -> 266567 | AY69: 281090.94 | AZ69: 254872.84 | BA69: =ROUND(((AY69+AZ69)/2),0) -> 267982 | BB69: 201480.11 | BC69: 184431.79 | BD69: =ROUND(((BB69+BC69)/2),0) -> 192956 | BE69: =H69+K69+N69+Q69+T69+W69+Z69+AC69+AF69+AI69+AL69+AO69+AR69+AU69+AX69+BA69+BD69 -> 3788041
B70: 55 | C70: CAMBIO AMORTIGUADORES TRASEROS | D70: SERVICIO | F70: 118192.68 | G70: 133075.87 | H70: =ROUND(((F70+G70)/2),0) -> 125634 | I70: 118192.68 | J70: 133075.87 | K70: =ROUND(((I70+J70)/2),0) -> 125634 | L70: 189088.18 | M70: 212898.75 | N70: =ROUND(((L70+M70)/2),0) -> 200993 | O70: 211958.11 | P70: 238648.53 | Q70: =ROUND(((O70+P70)/2),0) -> 225303 | R70: 212239.49 | S70: 238965.35 | T70: =ROUND(((R70+S70)/2),0) -> 225602 | U70: 335438.41 | V70: 317376.34 | W70: =ROUND(((U70+V70)/2),0) -> 326407 | X70: 240611.22 | Y70: 270909.72 | Z70: =ROUND(((X70+Y70)/2),0) -> 255760 | AA70: 239433.29 | AB70: 270909.72 | AC70: =ROUND(((AA70+AB70)/2),0) -> 255172 | AD70: 240611.22 | AE70: 270909.72 | AF70: =ROUND(((AD70+AE70)/2),0) -> 255760 | AG70: 237316.56 | AH70: 270909.72 | AI70: =ROUND(((AG70+AH70)/2),0) -> 254113 | AJ70: 234704.67 | AK70: 270909.72 | AL70: =ROUND(((AJ70+AK70)/2),0) -> 252807 | AM70: 327198.93 | AN70: 270909.72 | AO70: =ROUND(((AM70+AN70)/2),0) -> 299054 | AP70: 179140 | AQ70: 163982 | AR70: =ROUND(((AP70+AQ70)/2),0) -> 171561 | AS70: 190784.95 | AT70: 174641.6 | AU70: =ROUND(((AS70+AT70)/2),0) -> 182713 | AV70: 274004.77 | AW70: 270909.72 | AX70: =ROUND(((AV70+AW70)/2),0) -> 272457 | AY70: 278261.04 | AZ70: 270909.72 | BA70: =ROUND(((AY70+AZ70)/2),0) -> 274585 | BB70: 198416.99 | BC70: 181627.86 | BD70: =ROUND(((BB70+BC70)/2),0) -> 190022 | BE70: =H70+K70+N70+Q70+T70+W70+Z70+AC70+AF70+AI70+AL70+AO70+AR70+AU70+AX70+BA70+BD70 -> 3893577
B71: 56 | C71: CAMBIO BUJES MUELLE | D71: SERVICIO | F71: 224647.48 | G71: 252935.78 | H71: =ROUND(((F71+G71)/2),0) -> 238792 | I71: 224647.48 | J71: 252935.78 | K71: =ROUND(((I71+J71)/2),0) -> 238792 | L71: 357586.26 | M71: 402614.62 | N71: =ROUND(((L71+M71)/2),0) -> 380100 | O71: 402031.57 | P71: 452656.62 | Q71: =ROUND(((O71+P71)/2),0) -> 427344 | R71: 402132.96 | S71: 452770.79 | T71: =ROUND(((R71+S71)/2),0) -> 427452 | U71: 606082.19 | V71: 573447 | W71: =ROUND(((U71+V71)/2),0) -> 589765 | X71: 434152.55 | Y71: 488822.37 | Z71: =ROUND(((X71+Y71)/2),0) -> 461487 | AA71: 436781.35 | AB71: 488822.37 | AC71: =ROUND(((AA71+AB71)/2),0) -> 462802 | AD71: 434152.55 | AE71: 488822.37 | AF71: =ROUND(((AD71+AE71)/2),0) -> 461487 | AG71: 430159.92 | AH71: 488822.37 | AI71: =ROUND(((AG71+AH71)/2),0) -> 459491 | AJ71: 436781.35 | AK71: 488822.37 | AL71: =ROUND(((AJ71+AK71)/2),0) -> 462802 | AM71: 554469.32 | AN71: 488822.37 | AO71: =ROUND(((AM71+AN71)/2),0) -> 521646 | AP71: 333419.26 | AQ71: 305206.86 | AR71: =ROUND(((AP71+AQ71)/2),0) -> 319313 | AS71: 362624.99 | AT71: 331941.34 | AU71: =ROUND(((AS71+AT71)/2),0) -> 347283 | AV71: 525259.6 | AW71: 488822.37 | AX71: =ROUND(((AV71+AW71)/2),0) -> 507041 | AY71: 512423.21 | AZ71: 488822.37 | BA71: =ROUND(((AY71+AZ71)/2),0) -> 500623 | BB71: 377130.26 | BC71: 345219.24 | BD71: =ROUND(((BB71+BC71)/2),0) -> 361175 | BE71: =H71+K71+N71+Q71+T71+W71+Z71+AC71+AF71+AI71+AL71+AO71+AR71+AU71+AX71+BA71+BD71 -> 7167395
B72: 57 | C72: CAMBIO BUJES Y CAUCHOS ESTABILIZADORA DELANTERA | D72: SERVICIO | F72: 77742.535 | G72: 87532.114 | H72: =ROUND(((F72+G72)/2),0) -> 82637 | I72: 77742.535 | J72: 87532.114 | K72: =ROUND(((I72+J72)/2),0) -> 82637 | L72: 122715.97 | M72: 138168.74 | N72: =ROUND(((L72+M72)/2),0) -> 130442 | O72: 133235.38 | P72: 150012.78 | Q72: =ROUND(((O72+P72)/2),0) -> 141624 | R72: 133347.76 | S72: 150139.32 | T72: =ROUND(((R72+S72)/2),0) -> 141744 | U72: 207499.26 | V72: 196326.23 | W72: =ROUND(((U72+V72)/2),0) -> 201913 | X72: 149025.89 | Y72: 167791.69 | Z72: =ROUND(((X72+Y72)/2),0) -> 158409 | AA72: 151443.43 | AB72: 167791.69 | AC72: =ROUND(((AA72+AB72)/2),0) -> 159618 | AD72: 149025.89 | AE72: 167791.69 | AF72: =ROUND(((AD72+AE72)/2),0) -> 158409 | AG72: 147594.46 | AH72: 167791.69 | AI72: =ROUND(((AG72+AH72)/2),0) -> 157693 | AJ72: 153051.47 | AK72: 167791.69 | AL72: =ROUND(((AJ72+AK72)/2),0) -> 160422 | AM72: 211989.05 | AN72: 167791.69 | AO72: =ROUND(((AM72+AN72)/2),0) -> 189890 | AP72: 112466.96 | AQ72: 102950.53 | AR72: =ROUND(((AP72+AQ72)/2),0) -> 107709 | AS72: 125490.95 | AT72: 114872.49 | AU72: =ROUND(((AS72+AT72)/2),0) -> 120182 | AV72: 180356.8 | AW72: 167791.69 | AX72: =ROUND(((AV72+AW72)/2),0) -> 174074 | AY72: 179387.59 | AZ72: 167791.69 | BA72: =ROUND(((AY72+AZ72)/2),0) -> 173590 | BB72: 130510.25 | BC72: 119467.07 | BD72: =ROUND(((BB72+BC72)/2),0) -> 124989 | BE72: =H72+K72+N72+Q72+T72+W72+Z72+AC72+AF72+AI72+AL72+AO72+AR72+AU72+AX72+BA72+BD72 -> 2465982
B73: 58 | C73: CAMBIO BUJES RESORTES | D73: SERVICIO | F73: 104000 | G73: 117096 | H73: =ROUND(((F73+G73)/2),0) -> 110548 | I73: 104000 | J73: 117096 | K73: =ROUND(((I73+J73)/2),0) -> 110548 | L73: 104000 | M73: 117096 | N73: =ROUND(((L73+M73)/2),0) -> 110548 | O73: 104000 | P73: 117096 | Q73: =ROUND(((O73+P73)/2),0) -> 110548 | R73: 104000 | S73: 117096 | T73: =ROUND(((R73+S73)/2),0) -> 110548 | U73: 123760 | V73: 117096 | W73: =ROUND(((U73+V73)/2),0) -> 120428 | X73: 104000 | Y73: 117096 | Z73: =ROUND(((X73+Y73)/2),0) -> 110548 | AA73: 104000 | AB73: 117096 | AC73: =ROUND(((AA73+AB73)/2),0) -> 110548 | AD73: 104000 | AE73: 117096 | AF73: =ROUND(((AD73+AE73)/2),0) -> 110548 | AG73: 104000 | AH73: 117096 | AI73: =ROUND(((AG73+AH73)/2),0) -> 110548 | AJ73: 104000 | AK73: 117096 | AL73: =ROUND(((AJ73+AK73)/2),0) -> 110548 | AM73: 123760 | AN73: 117096 | AO73: =ROUND(((AM73+AN73)/2),0) -> 120428 | AP73: 104000 | AQ73: 95200 | AR73: =ROUND(((AP73+AQ73)/2),0) -> 99600 | AS73: 104000 | AT73: 95200 | AU73: =ROUND(((AS73+AT73)/2),0) -> 99600 | AV73: 104000 | AW73: 117096 | AX73: =ROUND(((AV73+AW73)/2),0) -> 110548 | AY73: 104000 | AZ73: 117096 | BA73: =ROUND(((AY73+AZ73)/2),0) -> 110548 | BB73: 104000 | BC73: 95200 | BD73: =ROUND(((BB73+BC73)/2),0) -> 99600 | BE73: =H73+K73+N73+Q73+T73+W73+Z73+AC73+AF73+AI73+AL73+AO73+AR73+AU73+AX73+BA73+BD73 -> 1866232
B74: 59 | C74: CAMBIO GRAPAS Y CENTRALES | D74: SERVICIO | F74: 99884.915 | G74: 112462.73 | H74: =ROUND(((F74+G74)/2),0) -> 106174 | I74: 99884.915 | J74: 112462.73 | K74: =ROUND(((I74+J74)/2),0) -> 106174 | L74: 163327.52 | M74: 183894.22 | N74: =ROUND(((L74+M74)/2),0) -> 173611 | O74: 179268.44 | P74: 201842.47 | Q74: =ROUND(((O74+P74)/2),0) -> 190555 | R74: 179423.08 | S74: 202016.58 | T74: =ROUND(((R74+S74)/2),0) -> 190720 | U74: 278492.1 | V74: 263496.37 | W74: =ROUND(((U74+V74)/2),0) -> 270994 | X74: 199826.45 | Y74: 224989.21 | Z74: =ROUND(((X74+Y74)/2),0) -> 212408 | AA74: 195492.44 | AB74: 224989.21 | AC74: =ROUND(((AA74+AB74)/2),0) -> 210241 | AD74: 199826.45 | AE74: 224989.21 | AF74: =ROUND(((AD74+AE74)/2),0) -> 212408 | AG74: 200099.38 | AH74: 224989.21 | AI74: =ROUND(((AG74+AH74)/2),0) -> 212544 | AJ74: 195492.44 | AK74: 224989.21 | AL74: =ROUND(((AJ74+AK74)/2),0) -> 210241 | AM74: 281506.74 | AN74: 224989.21 | AO74: =ROUND(((AM74+AN74)/2),0) -> 253248 | AP74: 151047.98 | AQ74: 138266.99 | AR74: =ROUND(((AP74+AQ74)/2),0) -> 144657 | AS74: 161233.61 | AT74: 147590.76 | AU74: =ROUND(((AS74+AT74)/2),0) -> 154412 | AV74: 230919.07 | AW74: 224989.21 | AX74: =ROUND(((AV74+AW74)/2),0) -> 227954 | AY74: 237462.74 | AZ74: 224989.21 | BA74: =ROUND(((AY74+AZ74)/2),0) -> 231226 | BB74: 167682.65 | BC74: 153494.11 | BD74: =ROUND(((BB74+BC74)/2),0) -> 160588 | BE74: =H74+K74+N74+Q74+T74+W74+Z74+AC74+AF74+AI74+AL74+AO74+AR74+AU74+AX74+BA74+BD74 -> 3268155
B75: 61 | C75: CAMBIO RODAMIENTOS DELANTEROS | D75: SERVICIO | F75: 157600.95 | G75: 177446.55 | H75: =ROUND(((F75+G75)/2),0) -> 167524 | I75: 157600.95 | J75: 177446.55 | K75: =ROUND(((I75+J75)/2),0) -> 167524 | L75: 255364.07 | M75: 287520.3 | N75: =ROUND(((L75+M75)/2),0) -> 271442 | O75: 277279.99 | P75: 312195.94 | Q75: =ROUND(((O75+P75)/2),0) -> 294738 | R75: 277459.13 | S75: 312397.64 | T75: =ROUND(((R75+S75)/2),0) -> 294928 | U75: 439754.16 | V75: 416075.09 | W75: =ROUND(((U75+V75)/2),0) -> 427915 | X75: 311963.02 | Y75: 351246.36 | Z75: =ROUND(((X75+Y75)/2),0) -> 331605 | AA75: 303649.91 | AB75: 351246.36 | AC75: =ROUND(((AA75+AB75)/2),0) -> 327448 | AD75: 313619.22 | AE75: 351246.36 | AF75: =ROUND(((AD75+AE75)/2),0) -> 332433 | AG75: 313200.94 | AH75: 351246.36 | AI75: =ROUND(((AG75+AH75)/2),0) -> 332224 | AJ75: 313619.22 | AK75: 351246.36 | AL75: =ROUND(((AJ75+AK75)/2),0) -> 332433 | AM75: 428182.3 | AN75: 351246.36 | AO75: =ROUND(((AM75+AN75)/2),0) -> 389714 | AP75: 235302.92 | AQ75: 215392.68 | AR75: =ROUND(((AP75+AQ75)/2),0) -> 225348 | AS75: 254398.24 | AT75: 232872.23 | AU75: =ROUND(((AS75+AT75)/2),0) -> 243635 | AV75: 371004.01 | AW75: 351246.36 | AX75: =ROUND(((AV75+AW75)/2),0) -> 361125 | AY75: 362981.58 | AZ75: 351246.36 | BA75: =ROUND(((AY75+AZ75)/2),0) -> 357114 | BB75: 264573.72 | BC75: 242186.72 | BD75: =ROUND(((BB75+BC75)/2),0) -> 253380 | BE75: =H75+K75+N75+Q75+T75+W75+Z75+AC75+AF75+AI75+AL75+AO75+AR75+AU75+AX75+BA75+BD75 -> 5110530
B76: 62 | C76: CAMBIO MORDAZAS DELANTERAS | D76: SERVICIO | F76: 104000 | G76: 117096 | H76: =ROUND(((F76+G76)/2),0) -> 110548 | I76: 104000 | J76: 117096 | K76: =ROUND(((I76+J76)/2),0) -> 110548 | L76: 104000 | M76: 117096 | N76: =ROUND(((L76+M76)/2),0) -> 110548 | O76: 104000 | P76: 117096 | Q76: =ROUND(((O76+P76)/2),0) -> 110548 | R76: 104000 | S76: 117096 | T76: =ROUND(((R76+S76)/2),0) -> 110548 | U76: 123760 | V76: 117096 | W76: =ROUND(((U76+V76)/2),0) -> 120428 | X76: 104000 | Y76: 117096 | Z76: =ROUND(((X76+Y76)/2),0) -> 110548 | AA76: 104000 | AB76: 117096 | AC76: =ROUND(((AA76+AB76)/2),0) -> 110548 | AD76: 104000 | AE76: 117096 | AF76: =ROUND(((AD76+AE76)/2),0) -> 110548 | AG76: 104000 | AH76: 117096 | AI76: =ROUND(((AG76+AH76)/2),0) -> 110548 | AJ76: 104000 | AK76: 117096 | AL76: =ROUND(((AJ76+AK76)/2),0) -> 110548 | AM76: 123760 | AN76: 117096 | AO76: =ROUND(((AM76+AN76)/2),0) -> 120428 | AP76: 104000 | AQ76: 95200 | AR76: =ROUND(((AP76+AQ76)/2),0) -> 99600 | AS76: 104000 | AT76: 95200 | AU76: =ROUND(((AS76+AT76)/2),0) -> 99600 | AV76: 104000 | AW76: 117096 | AX76: =ROUND(((AV76+AW76)/2),0) -> 110548 | AY76: 104000 | AZ76: 117096 | BA76: =ROUND(((AY76+AZ76)/2),0) -> 110548 | BB76: 104000 | BC76: 95200 | BD76: =ROUND(((BB76+BC76)/2),0) -> 99600 | BE76: =H76+K76+N76+Q76+T76+W76+Z76+AC76+AF76+AI76+AL76+AO76+AR76+AU76+AX76+BA76+BD76 -> 1866232
B77: 63 | C77: CAMBIO PASADOR MUELLE TRASERO | D77: SERVICIO | F77: 104000 | G77: 117096 | H77: =ROUND(((F77+G77)/2),0) -> 110548 | I77: 104000 | J77: 117096 | K77: =ROUND(((I77+J77)/2),0) -> 110548 | L77: 104000 | M77: 117096 | N77: =ROUND(((L77+M77)/2),0) -> 110548 | O77: 104000 | P77: 117096 | Q77: =ROUND(((O77+P77)/2),0) -> 110548 | R77: 104000 | S77: 117096 | T77: =ROUND(((R77+S77)/2),0) -> 110548 | U77: 123760 | V77: 117096 | W77: =ROUND(((U77+V77)/2),0) -> 120428 | X77: 104000 | Y77: 117096 | Z77: =ROUND(((X77+Y77)/2),0) -> 110548 | AA77: 104000 | AB77: 117096 | AC77: =ROUND(((AA77+AB77)/2),0) -> 110548 | AD77: 104000 | AE77: 117096 | AF77: =ROUND(((AD77+AE77)/2),0) -> 110548 | AG77: 104000 | AH77: 117096 | AI77: =ROUND(((AG77+AH77)/2),0) -> 110548 | AJ77: 104000 | AK77: 117096 | AL77: =ROUND(((AJ77+AK77)/2),0) -> 110548 | AM77: 123760 | AN77: 117096 | AO77: =ROUND(((AM77+AN77)/2),0) -> 120428 | AP77: 104000 | AQ77: 95200 | AR77: =ROUND(((AP77+AQ77)/2),0) -> 99600 | AS77: 104000 | AT77: 95200 | AU77: =ROUND(((AS77+AT77)/2),0) -> 99600 | AV77: 104000 | AW77: 117096 | AX77: =ROUND(((AV77+AW77)/2),0) -> 110548 | AY77: 104000 | AZ77: 117096 | BA77: =ROUND(((AY77+AZ77)/2),0) -> 110548 | BB77: 104000 | BC77: 95200 | BD77: =ROUND(((BB77+BC77)/2),0) -> 99600 | BE77: =H77+K77+N77+Q77+T77+W77+Z77+AC77+AF77+AI77+AL77+AO77+AR77+AU77+AX77+BA77+BD77 -> 1866232
... B84: 70 | C84: CAMBIO TORNILLO CENTRAL | D84: SERVICIO | F84: 130000 | G84: 146370 | H84: =ROUND(((F84+G84)/2),0) -> 138185 | I84: 130000 | J84: 146370 | K84: =ROUND(((I84+J84)/2),0) -> 138185 | L84: 130000 | M84: 146370 | N84: =ROUND(((L84+M84)/2),0) -> 138185 | O84: 130000 | P84: 146370 | Q84: =ROUND(((O84+P84)/2),0) -> 138185 | R84: 130000 | S84: 146370 | T84: =ROUND(((R84+S84)/2),0) -> 138185 | U84: 154700 | V84: 146370 | W84: =ROUND(((U84+V84)/2),0) -> 150535 | X84: 130000 | Y84: 146370 | Z84: =ROUND(((X84+Y84)/2),0) -> 138185 | AA84: 130000 | AB84: 146370 | AC84: =ROUND(((AA84+AB84)/2),0) -> 138185 | AD84: 130000 | AE84: 146370 | AF84: =ROUND(((AD84+AE84)/2),0) -> 138185 | AG84: 130000 | AH84: 146370 | AI84: =ROUND(((AG84+AH84)/2),0) -> 138185 | AJ84: 130000 | AK84: 146370 | AL84: =ROUND(((AJ84+AK84)/2),0) -> 138185 | AM84: 154700 | AN84: 146370 | AO84: =ROUND(((AM84+AN84)/2),0) -> 150535 | AP84: 130000 | AQ84: 119000 | AR84: =ROUND(((AP84+AQ84)/2),0) -> 124500 | AS84: 130000 | AT84: 119000 | AU84: =ROUND(((AS84+AT84)/2),0) -> 124500 | AV84: 130000 | AW84: 146370 | AX84: =ROUND(((AV84+AW84)/2),0) -> 138185 | AY84: 130000 | AZ84: 146370 | BA84: =ROUND(((AY84+AZ84)/2),0) -> 138185 | BB84: 130000 | BC84: 119000 | BD84: =ROUND(((BB84+BC84)/2),0) -> 124500 | BE84: =H84+K84+N84+Q84+T84+W84+Z84+AC84+AF84+AI84+AL84+AO84+AR84+AU84+AX84+BA84+BD84 -> 2332790
B85: FILTROS | F85: =+SUM(F86:F88) -> 104000 | G85: =+SUM(G86:G88) -> 117096 | H85: =+SUM(H86:H88) -> 110549 | I85: =+SUM(I86:I88) -> 104000 | J85: =+SUM(J86:J88) -> 117096 | K85: =+SUM(K86:K88) -> 110549 | L85: =+SUM(L86:L88) -> 104000 | M85: =+SUM(M86:M88) -> 117096 | ... BD85: =+SUM(BD86:BD88) -> 99600 | BE85: =H85+K85+N85+Q85+T85+W85+Z85+AC85+AF85+AI85+AL85+AO85+AR85+AU85+AX85+BA85+BD85 -> 1866244
B86: 71 | C86: CAMBIO FILTRO DE ACEITE | D86: SERVICIO | F86: 26000 | G86: 29274 | H86: =ROUND(((F86+G86)/2),0) -> 27637 | I86: 26000 | J86: 29274 | K86: =ROUND(((I86+J86)/2),0) -> 27637 | L86: 26000 | M86: 29274 | N86: =ROUND(((L86+M86)/2),0) -> 27637 | O86: 26000 | P86: 29274 | Q86: =ROUND(((O86+P86)/2),0) -> 27637 | R86: 26000 | S86: 29274 | T86: =ROUND(((R86+S86)/2),0) -> 27637 | U86: 30940 | V86: 29274 | W86: =ROUND(((U86+V86)/2),0) -> 30107 | X86: 26000 | Y86: 29274 | Z86: =ROUND(((X86+Y86)/2),0) -> 27637 | AA86: 26000 | AB86: 29274 | AC86: =ROUND(((AA86+AB86)/2),0) -> 27637 | AD86: 26000 | AE86: 29274 | AF86: =ROUND(((AD86+AE86)/2),0) -> 27637 | AG86: 26000 | AH86: 29274 | AI86: =ROUND(((AG86+AH86)/2),0) -> 27637 | AJ86: 26000 | AK86: 29274 | AL86: =ROUND(((AJ86+AK86)/2),0) -> 27637 | AM86: 30940 | AN86: 29274 | AO86: =ROUND(((AM86+AN86)/2),0) -> 30107 | AP86: 26000 | AQ86: 23800 | AR86: =ROUND(((AP86+AQ86)/2),0) -> 24900 | AS86: 26000 | AT86: 23800 | AU86: =+(AS86+AT86)/2 -> 24900 | AV86: 26000 | AW86: 29274 | AX86: =+(AV86+AW86)/2 -> 27637 | AY86: 26000 | AZ86: 29274 | BA86: =+(AY86+AZ86)/2 -> 27637 | BB86: 26000 | BC86: 23800 | BD86: =+(BB86+BC86)/2 -> 24900 | BE86: =H86+K86+N86+Q86+T86+W86+Z86+AC86+AF86+AI86+AL86+AO86+AR86+AU86+AX86+BA86+BD86 -> 466558
B87: 72 | C87: CAMBIO FILTRO DE AIRE | D87: SERVICIO | F87: 39000 | G87: 43911 | H87: =ROUND(((F87+G87)/2),0) -> 41456 | I87: 39000 | J87: 43911 | K87: =ROUND(((I87+J87)/2),0) -> 41456 | L87: 39000 | M87: 43911 | N87: =ROUND(((L87+M87)/2),0) -> 41456 | O87: 39000 | P87: 43911 | Q87: =ROUND(((O87+P87)/2),0) -> 41456 | R87: 39000 | S87: 43911 | T87: =ROUND(((R87+S87)/2),0) -> 41456 | U87: 46410 | V87: 43911 | W87: =ROUND(((U87+V87)/2),0) -> 45161 | X87: 39000 | Y87: 43911 | Z87: =ROUND(((X87+Y87)/2),0) -> 41456 | AA87: 39000 | AB87: 43911 | AC87: =ROUND(((AA87+AB87)/2),0) -> 41456 | AD87: 39000 | AE87: 43911 | AF87: =ROUND(((AD87+AE87)/2),0) -> 41456 | AG87: 39000 | AH87: 43911 | AI87: =ROUND(((AG87+AH87)/2),0) -> 41456 | AJ87: 39000 | AK87: 43911 | AL87: =ROUND(((AJ87+AK87)/2),0) -> 41456 | AM87: 46410 | AN87: 43911 | AO87: =ROUND(((AM87+AN87)/2),0) -> 45161 | AP87: 39000 | AQ87: 35700 | AR87: =ROUND(((AP87+AQ87)/2),0) -> 37350 | AS87: 39000 | AT87: 35700 | AU87: =+(AS87+AT87)/2 -> 37350 | AV87: 39000 | AW87: 43911 | AX87: =+(AV87+AW87)/2 -> 41455.5 | AY87: 39000 | AZ87: 43911 | BA87: =+(AY87+AZ87)/2 -> 41455.5 | BB87: 39000 | BC87: 35700 | BD87: =+(BB87+BC87)/2 -> 37350 | BE87: =H87+K87+N87+Q87+T87+W87+Z87+AC87+AF87+AI87+AL87+AO87+AR87+AU87+AX87+BA87+BD87 -> 699843
B88: 73 | C88: CAMBIO FILTRO DE COMBUSTIBLE | D88: SERVICIO | F88: 39000 | G88: 43911 | H88: =ROUND(((F88+G88)/2),0) -> 41456 | I88: 39000 | J88: 43911 | K88: =ROUND(((I88+J88)/2),0) -> 41456 | L88: 39000 | M88: 43911 | N88: =ROUND(((L88+M88)/2),0) -> 41456 | O88: 39000 | P88: 43911 | Q88: =ROUND(((O88+P88)/2),0) -> 41456 | R88: 39000 | S88: 43911 | T88: =ROUND(((R88+S88)/2),0) -> 41456 | U88: 46410 | V88: 43911 | W88: =ROUND(((U88+V88)/2),0) -> 45161 | X88: 39000 | Y88: 43911 | Z88: =ROUND(((X88+Y88)/2),0) -> 41456 | AA88: 39000 | AB88: 43911 | AC88: =ROUND(((AA88+AB88)/2),0) -> 41456 | AD88: 39000 | AE88: 43911 | AF88: =ROUND(((AD88+AE88)/2),0) -> 41456 | AG88: 39000 | AH88: 43911 | AI88: =ROUND(((AG88+AH88)/2),0) -> 41456 | AJ88: 39000 | AK88: 43911 | AL88: =ROUND(((AJ88+AK88)/2),0) -> 41456 | AM88: 46410 | AN88: 43911 | AO88: =ROUND(((AM88+AN88)/2),0) -> 45161 | AP88: 39000 | AQ88: 35700 | AR88: =ROUND(((AP88+AQ88)/2),0) -> 37350 | AS88: 39000 | AT88: 35700 | AU88: =+(AS88+AT88)/2 -> 37350 | AV88: 39000 | AW88: 43911 | AX88: =+(AV88+AW88)/2 -> 41455.5 | AY88: 39000 | AZ88: 43911 | BA88: =+(AY88+AZ88)/2 -> 41455.5 | BB88: 39000 | BC88: 35700 | BD88: =+(BB88+BC88)/2 -> 37350 | BE88: =H88+K88+N88+Q88+T88+W88+Z88+AC88+AF88+AI88+AL88+AO88+AR88+AU88+AX88+BA88+BD88 -> 699843
B89: DIRECCIÓN | F89: =+SUM(F90:F101) -> 1791587.3 | G89: =+SUM(G90:G101) -> 2017189.5 | H89: =+SUM(H90:H101) -> 1904390 | I89: =+SUM(I90:I101) -> 1791587.3 | J89: =+SUM(J90:J101) -> 2017189.5 | K89: =+SUM(K90:K101) -> 1904390 | L89: =+SUM(L90:L101) -> 2134285.5 | M89: =+SUM(M90:M101) -> 2403041.3 | ... BD89: =+SUM(BD90:BD101) -> 2060695 | BE89: =H89+K89+N89+Q89+T89+W89+Z89+AC89+AF89+AI89+AL89+AO89+AR89+AU89+AX89+BA89+BD89 -> 39929721
B90: 74 | C90: AJUSTE CAJA DE DIRECCION | D90: SERVICIO | F90: 81081.975 | G90: 91292.067 | H90: =ROUND(((F90+G90)/2),0) -> 86187 | I90: 81081.975 | J90: 91292.067 | K90: =ROUND(((I90+J90)/2),0) -> 86187 | L90: 124627.36 | M90: 140320.82 | N90: =ROUND(((L90+M90)/2),0) -> 132474 | O90: 146294.01 | P90: 164715.8 | Q90: =ROUND(((O90+P90)/2),0) -> 155505 | R90: 142341.1 | S90: 160265.12 | T90: =ROUND(((R90+S90)/2),0) -> 151303 | U90: 225518.72 | V90: 213375.4 | W90: =ROUND(((U90+V90)/2),0) -> 219447 | X90: 161014.75 | Y90: 181290.22 | Z90: =ROUND(((X90+Y90)/2),0) -> 171152 | AA90: 161014.75 | AB90: 181290.22 | AC90: =ROUND(((AA90+AB90)/2),0) -> 171152 | AD90: 158365.67 | AE90: 181290.22 | AF90: =ROUND(((AD90+AE90)/2),0) -> 169828 | AG90: 161895.24 | AH90: 181290.22 | AI90: =ROUND(((AG90+AH90)/2),0) -> 171593 | AJ90: 163655.38 | AK90: 181290.22 | AL90: =ROUND(((AJ90+AK90)/2),0) -> 172473 | AM90: 225518.72 | AN90: 181290.22 | AO90: =ROUND(((AM90+AN90)/2),0) -> 203404 | AP90: 115150.68 | AQ90: 105407.17 | AR90: =ROUND(((AP90+AQ90)/2),0) -> 110279 | AS90: 130881.21 | AT90: 119806.64 | AU90: =ROUND(((AS90+AT90)/2),0) -> 125344 | AV90: 187285.8 | AW90: 181290.22 | AX90: =ROUND(((AV90+AW90)/2),0) -> 184288 | AY90: 191553.89 | AZ90: 181290.22 | BA90: =ROUND(((AY90+AZ90)/2),0) -> 186422 | BB90: 136116.83 | BC90: 124599.25 | BD90: =ROUND(((BB90+BC90)/2),0) -> 130358 | BE90: =H90+K90+N90+Q90+T90+W90+Z90+AC90+AF90+AI90+AL90+AO90+AR90+AU90+AX90+BA90+BD90 -> 2627396
B91: 75 | C91: CAMBIO BRAZOS AXIALES | D91: SERVICIO | F91: 195000 | G91: 219555 | H91: =ROUND(((F91+G91)/2),0) -> 207278 | I91: 195000 | J91: 219555 | K91: =ROUND(((I91+J91)/2),0) -> 207278 | L91: 195000 | M91: 219555 | N91: =ROUND(((L91+M91)/2),0) -> 207278 | O91: 195000 | P91: 219555 | Q91: =ROUND(((O91+P91)/2),0) -> 207278 | R91: 195000 | S91: 219555 | T91: =ROUND(((R91+S91)/2),0) -> 207278 | U91: 232050 | V91: 219555 | W91: =ROUND(((U91+V91)/2),0) -> 225803 | X91: 195000 | Y91: 219555 | Z91: =ROUND(((X91+Y91)/2),0) -> 207278 | AA91: 195000 | AB91: 219555 | AC91: =ROUND(((AA91+AB91)/2),0) -> 207278 | AD91: 195000 | AE91: 219555 | AF91: =ROUND(((AD91+AE91)/2),0) -> 207278 | AG91: 195000 | AH91: 219555 | AI91: =ROUND(((AG91+AH91)/2),0) -> 207278 | AJ91: 195000 | AK91: 219555 | AL91: =ROUND(((AJ91+AK91)/2),0) -> 207278 | AM91: 232050 | AN91: 219555 | AO91: =ROUND(((AM91+AN91)/2),0) -> 225803 | AP91: 195000 | AQ91: 178500 | AR91: =ROUND(((AP91+AQ91)/2),0) -> 186750 | AS91: 195000 | AT91: 178500 | AU91: =ROUND(((AS91+AT91)/2),0) -> 186750 | AV91: 195000 | AW91: 219555 | AX91: =ROUND(((AV91+AW91)/2),0) -> 207278 | AY91: 195000 | AZ91: 219555 | BA91: =ROUND(((AY91+AZ91)/2),0) -> 207278 | BB91: 195000 | BC91: 178500 | BD91: =ROUND(((BB91+BC91)/2),0) -> 186750 | BE91: =H91+K91+N91+Q91+T91+W91+Z91+AC91+AF91+AI91+AL91+AO91+AR91+AU91+AX91+BA91+BD91 -> 3499192
B92: 76 | C92: CAMBIO BRAZOS DE DIRECCIÓN | D92: SERVICIO | F92: 156000 | G92: 175644 | H92: =ROUND(((F92+G92)/2),0) -> 165822 | I92: 156000 | J92: 175644 | K92: =ROUND(((I92+J92)/2),0) -> 165822 | L92: 156000 | M92: 175644 | N92: =ROUND(((L92+M92)/2),0) -> 165822 | O92: 156000 | P92: 175644 | Q92: =ROUND(((O92+P92)/2),0) -> 165822 | R92: 156000 | S92: 175644 | T92: =ROUND(((R92+S92)/2),0) -> 165822 | U92: 185640 | V92: 175644 | W92: =ROUND(((U92+V92)/2),0) -> 180642 | X92: 156000 | Y92: 175644 | Z92: =ROUND(((X92+Y92)/2),0) -> 165822 | AA92: 156000 | AB92: 175644 | AC92: =ROUND(((AA92+AB92)/2),0) -> 165822 | AD92: 156000 | AE92: 175644 | AF92: =ROUND(((AD92+AE92)/2),0) -> 165822 | AG92: 156000 | AH92: 175644 | AI92: =ROUND(((AG92+AH92)/2),0) -> 165822 | AJ92: 156000 | AK92: 175644 | AL92: =ROUND(((AJ92+AK92)/2),0) -> 165822 | AM92: 185640 | AN92: 175644 | AO92: =ROUND(((AM92+AN92)/2),0) -> 180642 | AP92: 156000 | AQ92: 142800 | AR92: =ROUND(((AP92+AQ92)/2),0) -> 149400 | AS92: 156000 | AT92: 142800 | AU92: =ROUND(((AS92+AT92)/2),0) -> 149400 | AV92: 156000 | AW92: 175644 | AX92: =ROUND(((AV92+AW92)/2),0) -> 165822 | AY92: 156000 | AZ92: 175644 | BA92: =ROUND(((AY92+AZ92)/2),0) -> 165822 | BB92: 156000 | BC92: 142800 | BD92: =ROUND(((BB92+BC92)/2),0) -> 149400 | BE92: =H92+K92+N92+Q92+T92+W92+Z92+AC92+AF92+AI92+AL92+AO92+AR92+AU92+AX92+BA92+BD92 -> 2799348
B93: 77 | C93: CAMBIO BUJES | D93: SERVICIO | F93: 130000 | G93: 146370 | H93: =ROUND(((F93+G93)/2),0) -> 138185 | I93: 130000 | J93: 146370 | K93: =ROUND(((I93+J93)/2),0) -> 138185 | L93: 130000 | M93: 146370 | N93: =ROUND(((L93+M93)/2),0) -> 138185 | O93: 130000 | P93: 146370 | Q93: =ROUND(((O93+P93)/2),0) -> 138185 | R93: 130000 | S93: 146370 | T93: =ROUND(((R93+S93)/2),0) -> 138185 | U93: 154700 | V93: 146370 | W93: =ROUND(((U93+V93)/2),0) -> 150535 | X93: 130000 | Y93: 146370 | Z93: =ROUND(((X93+Y93)/2),0) -> 138185 | AA93: 130000 | AB93: 146370 | AC93: =ROUND(((AA93+AB93)/2),0) -> 138185 | AD93: 130000 | AE93: 146370 | AF93: =ROUND(((AD93+AE93)/2),0) -> 138185 | AG93: 130000 | AH93: 146370 | AI93: =ROUND(((AG93+AH93)/2),0) -> 138185 | AJ93: 130000 | AK93: 146370 | AL93: =ROUND(((AJ93+AK93)/2),0) -> 138185 | AM93: 154700 | AN93: 146370 | AO93: =ROUND(((AM93+AN93)/2),0) -> 150535 | AP93: 130000 | AQ93: 119000 | AR93: =ROUND(((AP93+AQ93)/2),0) -> 124500 | AS93: 130000 | AT93: 119000 | AU93: =ROUND(((AS93+AT93)/2),0) -> 124500 | AV93: 130000 | AW93: 146370 | AX93: =ROUND(((AV93+AW93)/2),0) -> 138185 | AY93: 130000 | AZ93: 146370 | BA93: =ROUND(((AY93+AZ93)/2),0) -> 138185 | BB93: 130000 | BC93: 119000 | BD93: =ROUND(((BB93+BC93)/2),0) -> 124500 | BE93: =H93+K93+N93+Q93+T93+W93+Z93+AC93+AF93+AI93+AL93+AO93+AR93+AU93+AX93+BA93+BD93 -> 2332790
B94: 78 | C94: CAMBIO JUEGO RETENES CAJA DE DIRECCIÓN | D94: SERVICIO | F94: 119913.95 | G94: 135013.88 | H94: =ROUND(((F94+G94)/2),0) -> 127464 | I94: 119913.95 | J94: 135013.88 | K94: =ROUND(((I94+J94)/2),0) -> 127464 | L94: 194650.82 | M94: 219161.85 | N94: =ROUND(((L94+M94)/2),0) -> 206906 | O94: 210889.18 | P94: 237445 | Q94: =ROUND(((O94+P94)/2),0) -> 224167 | R94: 205119.52 | S94: 230948.81 | T94: =ROUND(((R94+S94)/2),0) -> 218034 | U94: 326424.66 | V94: 308847.95 | W94: =ROUND(((U94+V94)/2),0) -> 317636 | X94: 230300.52 | Y94: 259300.68 | Z94: =ROUND(((X94+Y94)/2),0) -> 244801 | AA94: 230300.52 | AB94: 259300.68 | AC94: =ROUND(((AA94+AB94)/2),0) -> 244801 | AD94: 235414.47 | AE94: 259300.68 | AF94: =ROUND(((AD94+AE94)/2),0) -> 247358 | AG94: 231580.7 | AH94: 259300.68 | AI94: =ROUND(((AG94+AH94)/2),0) -> 245441 | AJ94: 230300.52 | AK94: 259300.68 | AL94: =ROUND(((AJ94+AK94)/2),0) -> 244801 | AM94: 264746.23 | AN94: 259300.68 | AO94: =ROUND(((AM94+AN94)/2),0) -> 262023 | AP94: 179342.8 | AQ94: 164167.64 | AR94: =ROUND(((AP94+AQ94)/2),0) -> 171755 | AS94: 193564.15 | AT94: 177185.64 | AU94: =ROUND(((AS94+AT94)/2),0) -> 185375 | AV94: 280632.1 | AW94: 259300.68 | AX94: =ROUND(((AV94+AW94)/2),0) -> 269966 | AY94: 282175.08 | AZ94: 259300.68 | BA94: =ROUND(((AY94+AZ94)/2),0) -> 270738 | BB94: 201306.89 | BC94: 184273.23 | BD94: =ROUND(((BB94+BC94)/2),0) -> 192790 | BE94: =H94+K94+N94+Q94+T94+W94+Z94+AC94+AF94+AI94+AL94+AO94+AR94+AU94+AX94+BA94+BD94 -> 3801520
B95: 79 | C95: CAMBIO JUEGO RODAMIENTOS CAJA DE DIRECCIÓN | D95: SERVICIO | F95: 160438.46 | G95: 180641.36 | H95: =ROUND(((F95+G95)/2),0) -> 170540 | I95: 160438.46 | J95: 180641.36 | K95: =ROUND(((I95+J95)/2),0) -> 170540 | L95: 268493.68 | M95: 302303.23 | N95: =ROUND(((L95+M95)/2),0) -> 285398 | O95: 289227.45 | P95: 325647.85 | Q95: =ROUND(((O95+P95)/2),0) -> 307438 | R95: 294261.11 | S95: 331315.37 | T95: =ROUND(((R95+S95)/2),0) -> 312788 | U95: 446915.69 | V95: 422851 | W95: =ROUND(((U95+V95)/2),0) -> 434883 | X95: 316768.53 | Y95: 356657 | Z95: =ROUND(((X95+Y95)/2),0) -> 336713 | AA95: 327424.83 | AB95: 356657 | AC95: =ROUND(((AA95+AB95)/2),0) -> 342041 | AD95: 325652.02 | AE95: 356657 | AF95: =ROUND(((AD95+AE95)/2),0) -> 341155 | AG95: 323879.21 | AH95: 356657 | AI95: =ROUND(((AG95+AH95)/2),0) -> 340268 | AJ95: 316768.53 | AK95: 356657 | AL95: =ROUND(((AJ95+AK95)/2),0) -> 336713 | AM95: 454345.7 | AN95: 356657 | AO95: =ROUND(((AM95+AN95)/2),0) -> 405501 | AP95: 246705.36 | AQ95: 225830.29 | AR95: =ROUND(((AP95+AQ95)/2),0) -> 236268 | AS95: 258978.98 | AT95: 237065.37 | AU95: =ROUND(((AS95+AT95)/2),0) -> 248022 | AV95: 386878.18 | AW95: 356657 | AX95: =ROUND(((AV95+AW95)/2),0) -> 371768 | AY95: 380429.14 | AZ95: 356657 | BA95: =ROUND(((AY95+AZ95)/2),0) -> 368543 | BB95: 269337.84 | BC95: 246547.71 | BD95: =ROUND(((BB95+BC95)/2),0) -> 257943 | BE95: =H95+K95+N95+Q95+T95+W95+Z95+AC95+AF95+AI95+AL95+AO95+AR95+AU95+AX95+BA95+BD95 -> 5266522
B96: 80 | C96: CAMBIO ROTULAS | D96: SERVICIO | F96: 156000 | G96: 175644 | H96: =ROUND(((F96+G96)/2),0) -> 165822 | I96: 156000 | J96: 175644 | K96: =ROUND(((I96+J96)/2),0) -> 165822 | L96: 156000 | M96: 175644 | N96: =ROUND(((L96+M96)/2),0) -> 165822 | O96: 156000 | P96: 175644 | Q96: =ROUND(((O96+P96)/2),0) -> 165822 | R96: 156000 | S96: 175644 | T96: =ROUND(((R96+S96)/2),0) -> 165822 | U96: 185640 | V96: 175644 | W96: =ROUND(((U96+V96)/2),0) -> 180642 | X96: 156000 | Y96: 175644 | Z96: =ROUND(((X96+Y96)/2),0) -> 165822 | AA96: 156000 | AB96: 175644 | AC96: =ROUND(((AA96+AB96)/2),0) -> 165822 | AD96: 156000 | AE96: 175644 | AF96: =ROUND(((AD96+AE96)/2),0) -> 165822 | AG96: 156000 | AH96: 175644 | AI96: =ROUND(((AG96+AH96)/2),0) -> 165822 | AJ96: 156000 | AK96: 175644 | AL96: =ROUND(((AJ96+AK96)/2),0) -> 165822 | AM96: 185640 | AN96: 175644 | AO96: =ROUND(((AM96+AN96)/2),0) -> 180642 | AP96: 156000 | AQ96: 142800 | AR96: =ROUND(((AP96+AQ96)/2),0) -> 149400 | AS96: 156000 | AT96: 142800 | AU96: =ROUND(((AS96+AT96)/2),0) -> 149400 | AV96: 156000 | AW96: 175644 | AX96: =ROUND(((AV96+AW96)/2),0) -> 165822 | AY96: 156000 | AZ96: 175644 | BA96: =ROUND(((AY96+AZ96)/2),0) -> 165822 | BB96: 156000 | BC96: 142800 | BD96: =ROUND(((BB96+BC96)/2),0) -> 149400 | BE96: =H96+K96+N96+Q96+T96+W96+Z96+AC96+AF96+AI96+AL96+AO96+AR96+AU96+AX96+BA96+BD96 -> 2799348
B97: 81 | C97: CAMBIO SPLINDER | D97: SERVICIO | F97: 195000 | G97: 219555 | H97: =ROUND(((F97+G97)/2),0) -> 207278 | I97: 195000 | J97: 219555 | K97: =ROUND(((I97+J97)/2),0) -> 207278 | L97: 195000 | M97: 219555 | N97: =ROUND(((L97+M97)/2),0) -> 207278 | O97: 195000 | P97: 219555 | Q97: =ROUND(((O97+P97)/2),0) -> 207278 | R97: 195000 | S97: 219555 | T97: =ROUND(((R97+S97)/2),0) -> 207278 | U97: 232050 | V97: 219555 | W97: =ROUND(((U97+V97)/2),0) -> 225803 | X97: 195000 | Y97: 219555 | Z97: =ROUND(((X97+Y97)/2),0) -> 207278 | AA97: 195000 | AB97: 219555 | AC97: =ROUND(((AA97+AB97)/2),0) -> 207278 | AD97: 195000 | AE97: 219555 | AF97: =ROUND(((AD97+AE97)/2),0) -> 207278 | AG97: 195000 | AH97: 219555 | AI97: =ROUND(((AG97+AH97)/2),0) -> 207278 | AJ97: 195000 | AK97: 219555 | AL97: =ROUND(((AJ97+AK97)/2),0) -> 207278 | AM97: 232050 | AN97: 219555 | AO97: =ROUND(((AM97+AN97)/2),0) -> 225803 | AP97: 195000 | AQ97: 178500 | AR97: =ROUND(((AP97+AQ97)/2),0) -> 186750 | AS97: 195000 | AT97: 178500 | AU97: =ROUND(((AS97+AT97)/2),0) -> 186750 | AV97: 195000 | AW97: 219555 | AX97: =ROUND(((AV97+AW97)/2),0) -> 207278 | AY97: 195000 | AZ97: 219555 | BA97: =ROUND(((AY97+AZ97)/2),0) -> 207278 | BB97: 195000 | BC97: 178500 | BD97: =ROUND(((BB97+BC97)/2),0) -> 186750 | BE97: =H97+K97+N97+Q97+T97+W97+Z97+AC97+AF97+AI97+AL97+AO97+AR97+AU97+AX97+BA97+BD97 -> 3499192
B98: 82 | C98: CAMBIO TERMINALES DIRECCION | D98: SERVICIO | F98: 97805.37 | G98: 110121.32 | H98: =ROUND(((F98+G98)/2),0) -> 103963 | I98: 97805.37 | J98: 110121.32 | K98: =ROUND(((I98+J98)/2),0) -> 103963 | L98: 164665.15 | M98: 185400.29 | N98: =ROUND(((L98+M98)/2),0) -> 175033 | O98: 184626.59 | P98: 207875.33 | Q98: =ROUND(((O98+P98)/2),0) -> 196251 | R98: 180502.14 | S98: 203231.52 | T98: =ROUND(((R98+S98)/2),0) -> 191867 | U98: 286568.68 | V98: 271138.06 | W98: =ROUND(((U98+V98)/2),0) -> 278853 | X98: 192911.81 | Y98: 217203.86 | Z98: =ROUND(((X98+Y98)/2),0) -> 205058 | AA98: 205568.22 | AB98: 217203.86 | AC98: =ROUND(((AA98+AB98)/2),0) -> 211386 | AD98: 199829.83 | AE98: 217203.86 | AF98: =ROUND(((AD98+AE98)/2),0) -> 208517 | AG98: 204421.55 | AH98: 217203.86 | AI98: =ROUND(((AG98+AH98)/2),0) -> 210813 | AJ98: 203275.74 | AK98: 217203.86 | AL98: =ROUND(((AJ98+AK98)/2),0) -> 210240 | AM98: 278564.5 | AN98: 217203.86 | AO98: =ROUND(((AM98+AN98)/2),0) -> 247884 | AP98: 151902.27 | AQ98: 139049 | AR98: =ROUND(((AP98+AQ98)/2),0) -> 145476 | AS98: 157877.27 | AT98: 144518.42 | AU98: =ROUND(((AS98+AT98)/2),0) -> 151198 | AV98: 237426.41 | AW98: 217203.86 | AX98: =ROUND(((AV98+AW98)/2),0) -> 227315 | AY98: 234637.07 | AZ98: 217203.86 | BA98: =ROUND(((AY98+AZ98)/2),0) -> 225920 | BB98: 164192.8 | BC98: 150299.56 | BD98: =ROUND(((BB98+BC98)/2),0) -> 157246 | BE98: =H98+K98+N98+Q98+T98+W98+Z98+AC98+AF98+AI98+AL98+AO98+AR98+AU98+AX98+BA98+BD98 -> 3250983
B99: 83 | C99: CAMBIO TIJERAS | D99: SERVICIO | F99: 286000 | G99: 322014 | H99: =ROUND(((F99+G99)/2),0) -> 304007 | I99: 286000 | J99: 322014 | K99: =ROUND(((I99+J99)/2),0) -> 304007 | L99: 286000 | M99: 322014 | N99: =ROUND(((L99+M99)/2),0) -> 304007 | O99: 286000 | P99: 322014 | Q99: =ROUND(((O99+P99)/2),0) -> 304007 | R99: 286000 | S99: 322014 | T99: =ROUND(((R99+S99)/2),0) -> 304007 | U99: 340340 | V99: 322014 | W99: =ROUND(((U99+V99)/2),0) -> 331177 | X99: 286000 | Y99: 322014 | Z99: =ROUND(((X99+Y99)/2),0) -> 304007 | AA99: 286000 | AB99: 322014 | AC99: =ROUND(((AA99+AB99)/2),0) -> 304007 | AD99: 286000 | AE99: 322014 | AF99: =ROUND(((AD99+AE99)/2),0) -> 304007 | AG99: 286000 | AH99: 322014 | AI99: =ROUND(((AG99+AH99)/2),0) -> 304007 | AJ99: 286000 | AK99: 322014 | AL99: =ROUND(((AJ99+AK99)/2),0) -> 304007 | AM99: 340340 | AN99: 322014 | AO99: =ROUND(((AM99+AN99)/2),0) -> 331177 | AP99: 286000 | AQ99: 261800 | AR99: =ROUND(((AP99+AQ99)/2),0) -> 273900 | AS99: 286000 | AT99: 261800 | AU99: =ROUND(((AS99+AT99)/2),0) -> 273900 | AV99: 286000 | AW99: 322014 | AX99: =ROUND(((AV99+AW99)/2),0) -> 304007 | AY99: 286000 | AZ99: 322014 | BA99: =ROUND(((AY99+AZ99)/2),0) -> 304007 | BB99: 286000 | BC99: 261800 | BD99: =ROUND(((BB99+BC99)/2),0) -> 273900 | BE99: =H99+K99+N99+Q99+T99+W99+Z99+AC99+AF99+AI99+AL99+AO99+AR99+AU99+AX99+BA99+BD99 -> 5132138
B100: 84 | C100: PURGA SISTEMA DIRECCIONAL | D100: SERVICIO | F100: 143000 | G100: 161007 | H100: =ROUND(((F100+G100)/2),0) -> 152004 | I100: 143000 | J100: 161007 | K100: =ROUND(((I100+J100)/2),0) -> 152004 | L100: 143000 | M100: 161007 | N100: =ROUND(((L100+M100)/2),0) -> 152004 | O100: 143000 | P100: 161007 | Q100: =ROUND(((O100+P100)/2),0) -> 152004 | R100: 143000 | S100: 161007 | T100: =ROUND(((R100+S100)/2),0) -> 152004 | U100: 170170 | V100: 161007 | W100: =ROUND(((U100+V100)/2),0) -> 165589 | X100: 143000 | Y100: 161007 | Z100: =ROUND(((X100+Y100)/2),0) -> 152004 | AA100: 143000 | AB100: 161007 | AC100: =ROUND(((AA100+AB100)/2),0) -> 152004 | AD100: 143000 | AE100: 161007 | AF100: =ROUND(((AD100+AE100)/2),0) -> 152004 | AG100: 143000 | AH100: 161007 | AI100: =ROUND(((AG100+AH100)/2),0) -> 152004 | AJ100: 143000 | AK100: 161007 | AL100: =ROUND(((AJ100+AK100)/2),0) -> 152004 | AM100: 170170 | AN100: 161007 | AO100: =ROUND(((AM100+AN100)/2),0) -> 165589 | AP100: 143000 | AQ100: 130900 | AR100: =ROUND(((AP100+AQ100)/2),0) -> 136950 | AS100: 143000 | AT100: 130900 | AU100: =ROUND(((AS100+AT100)/2),0) -> 136950 | AV100: 143000 | AW100: 161007 | AX100: =ROUND(((AV100+AW100)/2),0) -> 152004 | AY100: 143000 | AZ100: 161007 | BA100: =ROUND(((AY100+AZ100)/2),0) -> 152004 | BB100: 143000 | BC100: 130900 | BD100: =ROUND(((BB100+BC100)/2),0) -> 136950 | BE100: =H100+K100+N100+Q100+T100+W100+Z100+AC100+AF100+AI100+AL100+AO100+AR100+AU100+AX100+BA100+BD100 -> 2566076
B101: 85 | C101: REVISION SISTEMA HIRAULICO | D101: SERVICIO | F101: 71347.575 | G101: 80331.881 | H101: =ROUND(((F101+G101)/2),0) -> 75840 | I101: 71347.575 | J101: 80331.881 | K101: =ROUND(((I101+J101)/2),0) -> 75840 | L101: 120848.52 | M101: 136066.14 | N101: =ROUND(((L101+M101)/2),0) -> 128457 | O101: 131661.98 | P101: 148241.27 | Q101: =ROUND(((O101+P101)/2),0) -> 139952 | R101: 128073.27 | S101: 144200.65 | T101: =ROUND(((R101+S101)/2),0) -> 136137 | U101: 203701.3 | V101: 192732.77 | W101: =ROUND(((U101+V101)/2),0) -> 198217 | X101: 141552.71 | Y101: 159377.46 | Z101: =ROUND(((X101+Y101)/2),0) -> 150465 | AA101: 143938.15 | AB101: 159377.46 | AC101: =ROUND(((AA101+AB101)/2),0) -> 151658 | AD101: 142349.55 | AE101: 159377.46 | AF101: =ROUND(((AD101+AE101)/2),0) -> 150864 | AG101: 146316.82 | AH101: 159377.46 | AI101: =ROUND(((AG101+AH101)/2),0) -> 152847 | AJ101: 143938.15 | AK101: 159377.46 | AL101: =ROUND(((AJ101+AK101)/2),0) -> 151658 | AM101: 197060.65 | AN101: 159377.46 | AO101: =ROUND(((AM101+AN101)/2),0) -> 178219 | AP101: 111723.37 | AQ101: 102269.85 | AR101: =ROUND(((AP101+AQ101)/2),0) -> 106997 | AS101: 115169.27 | AT101: 105424.18 | AU101: =ROUND(((AS101+AT101)/2),0) -> 110297 | AV101: 174161.26 | AW101: 159377.46 | AX101: =ROUND(((AV101+AW101)/2),0) -> 166769 | AY101: 173203.88 | AZ101: 159377.46 | BA101: =ROUND(((AY101+AZ101)/2),0) -> 166291 | BB101: 119775.37 | BC101: 109640.53 | BD101: =ROUND(((BB101+BC101)/2),0) -> 114708 | BE101: =H101+K101+N101+Q101+T101+W101+Z101+AC101+AF101+AI101+AL101+AO101+AR101+AU101+AX101+BA101+BD101 -> 2355216
B102: FRENOS | F102: =+SUM(F103:F117) -> 1731656.9 | G102: =+SUM(G103:G117) -> 1949712.4 | H102: =+SUM(H103:H117) -> 1840684 | I102: =+SUM(I103:I117) -> 1731656.9 | J102: =+SUM(J103:J117) -> 1949712.4 | K102: =+SUM(K103:K117) -> 1840684 | L102: =+SUM(L103:L117) -> 2500148.6 | M102: =+SUM(M103:M117) -> 2814975 | ... BD102: =+SUM(BD103:BD117) -> 2494320 | BE102: =H102+K102+N102+Q102+T102+W102+Z102+AC102+AF102+AI102+AL102+AO102+AR102+AU102+AX102+BA102+BD102 -> 49036200
B103: 86 | C103: ARREGLO SWICHT FRENO AHOGO | D103: SERVICIO | F103: 186342.78 | G103: 209807.64 | H103: =ROUND(((F103+G103)/2),0) -> 198075 | I103: 186342.78 | J103: 209807.64 | K103: =ROUND(((I103+J103)/2),0) -> 198075 | L103: 296570.49 | M103: 333915.56 | N103: =ROUND(((L103+M103)/2),0) -> 315243 | O103: 321630.66 | P103: 362131.38 | Q103: =ROUND(((O103+P103)/2),0) -> 341881 | R103: 325331.76 | S103: 366298.54 | T103: =ROUND(((R103+S103)/2),0) -> 345815 | U103: 523388.78 | V103: 495206.3 | W103: =ROUND(((U103+V103)/2),0) -> 509298 | X103: 377002.66 | Y103: 424476 | Z103: =ROUND(((X103+Y103)/2),0) -> 400739 | AA103: 369865.8 | AB103: 424476 | AC103: =ROUND(((AA103+AB103)/2),0) -> 397171 | AD103: 362686.67 | AE103: 424476 | AF103: =ROUND(((AD103+AE103)/2),0) -> 393581 | AG103: 377002.66 | AH103: 424476 | AI103: =ROUND(((AG103+AH103)/2),0) -> 400739 | AJ103: 375222.25 | AK103: 424476 | AL103: =ROUND(((AJ103+AK103)/2),0) -> 399849 | AM103: 515915.53 | AN103: 424476 | AO103: =ROUND(((AM103+AN103)/2),0) -> 470196 | AP103: 268140.47 | AQ103: 245451.66 | AR103: =ROUND(((AP103+AQ103)/2),0) -> 256796 | AS103: 300792.96 | AT103: 275341.25 | AU103: =ROUND(((AS103+AT103)/2),0) -> 288067 | AV103: 428731.03 | AW103: 424476 | AX103: =ROUND(((AV103+AW103)/2),0) -> 426604 | AY103: 424436.74 | AZ103: 424476 | BA103: =ROUND(((AY103+AZ103)/2),0) -> 424456 | BB103: 312824.92 | BC103: 286355.11 | BD103: =ROUND(((BB103+BC103)/2),0) -> 299590 | BE103: =H103+K103+N103+Q103+T103+W103+Z103+AC103+AF103+AI103+AL103+AO103+AR103+AU103+AX103+BA103+BD103 -> 6066175
B104: 87 | C104: CAMBIO BANDAS | D104: SERVICIO | F104: 129601.03 | G104: 145920.79 | H104: =ROUND(((F104+G104)/2),0) -> 137761 | I104: 129601.03 | J104: 145920.79 | K104: =ROUND(((I104+J104)/2),0) -> 137761 | L104: 209272.7 | M104: 235624.96 | N104: =ROUND(((L104+M104)/2),0) -> 222449 | O104: 217020.51 | P104: 244348.39 | Q104: =ROUND(((O104+P104)/2),0) -> 230684 | R104: 228242.11 | S104: 256983.05 | T104: =ROUND(((R104+S104)/2),0) -> 242613 | U104: 355719.35 | V104: 336565.23 | W104: =ROUND(((U104+V104)/2),0) -> 346142 | X104: 255175.64 | Y104: 287308.14 | Z104: =ROUND(((X104+Y104)/2),0) -> 271242 | AA104: 253845.61 | AB104: 287308.14 | AC104: =ROUND(((AA104+AB104)/2),0) -> 270577 | AD104: 241802.67 | AE104: 287308.14 | AF104: =ROUND(((AD104+AE104)/2),0) -> 264555 | AG104: 255175.64 | AH104: 287308.14 | AI104: =ROUND(((AG104+AH104)/2),0) -> 271242 | AJ104: 251180.48 | AK104: 287308.14 | AL104: =ROUND(((AJ104+AK104)/2),0) -> 269244 | AM104: 353863.1 | AN104: 287308.14 | AO104: =ROUND(((AM104+AN104)/2),0) -> 320586 | AP104: 192804.49 | AQ104: 176490.27 | AR104: =ROUND(((AP104+AQ104)/2),0) -> 184647 | AS104: 209200.88 | AT104: 191499.26 | AU104: =ROUND(((AS104+AT104)/2),0) -> 200350 | AV104: 292395.35 | AW104: 287308.14 | AX104: =ROUND(((AV104+AW104)/2),0) -> 289852 | AY104: 302032.58 | AZ104: 287308.14 | BA104: =ROUND(((AY104+AZ104)/2),0) -> 294670 | BB104: 217568.91 | BC104: 199159.23 | BD104: =ROUND(((BB104+BC104)/2),0) -> 208364 | BE104: =H104+K104+N104+Q104+T104+W104+Z104+AC104+AF104+AI104+AL104+AO104+AR104+AU104+AX104+BA104+BD104 -> 4162739
B105: 88 | C105: CAMBIO BOMBA AUXILIAR DE FRENO | D105: SERVICIO | F105: 104000 | G105: 117096 | H105: =ROUND(((F105+G105)/2),0) -> 110548 | I105: 104000 | J105: 117096 | K105: =ROUND(((I105+J105)/2),0) -> 110548 | L105: 104000 | M105: 117096 | N105: =ROUND(((L105+M105)/2),0) -> 110548 | O105: 104000 | P105: 117096 | Q105: =ROUND(((O105+P105)/2),0) -> 110548 | R105: 104000 | S105: 117096 | T105: =ROUND(((R105+S105)/2),0) -> 110548 | U105: 123760 | V105: 117096 | W105: =ROUND(((U105+V105)/2),0) -> 120428 | X105: 104000 | Y105: 117096 | Z105: =ROUND(((X105+Y105)/2),0) -> 110548 | AA105: 104000 | AB105: 117096 | AC105: =ROUND(((AA105+AB105)/2),0) -> 110548 | AD105: 104000 | AE105: 117096 | AF105: =ROUND(((AD105+AE105)/2),0) -> 110548 | AG105: 104000 | AH105: 117096 | AI105: =ROUND(((AG105+AH105)/2),0) -> 110548 | AJ105: 104000 | AK105: 117096 | AL105: =ROUND(((AJ105+AK105)/2),0) -> 110548 | AM105: 123760 | AN105: 117096 | AO105: =ROUND(((AM105+AN105)/2),0) -> 120428 | AP105: 104000 | AQ105: 95200 | AR105: =ROUND(((AP105+AQ105)/2),0) -> 99600 | AS105: 104000 | AT105: 95200 | AU105: =ROUND(((AS105+AT105)/2),0) -> 99600 | AV105: 104000 | AW105: 117096 | AX105: =ROUND(((AV105+AW105)/2),0) -> 110548 | AY105: 104000 | AZ105: 117096 | BA105: =ROUND(((AY105+AZ105)/2),0) -> 110548 | BB105: 104000 | BC105: 95200 | BD105: =ROUND(((BB105+BC105)/2),0) -> 99600 | BE105: =H105+K105+N105+Q105+T105+W105+Z105+AC105+AF105+AI105+AL105+AO105+AR105+AU105+AX105+BA105+BD105 -> 1866232
B106: 89 | C106: CAMBIO BOMBA PRINCIPAL FRENOS | D106: SERVICIO | F106: 164095.62 | G106: 184759.05 | H106: =ROUND(((F106+G106)/2),0) -> 174427 | I106: 164095.62 | J106: 184759.05 | K106: =ROUND(((I106+J106)/2),0) -> 174427 | L106: 256798.88 | M106: 289135.79 | N106: =ROUND(((L106+M106)/2),0) -> 272967 | O106: 275062.71 | P106: 309699.45 | Q106: =ROUND(((O106+P106)/2),0) -> 292381 | R106: 280064.27 | S106: 315330.82 | T106: =ROUND(((R106+S106)/2),0) -> 297698 | U106: 436595.73 | V106: 413086.73 | W106: =ROUND(((U106+V106)/2),0) -> 424841 | X106: 312939.84 | Y106: 352346.18 | Z106: =ROUND(((X106+Y106)/2),0) -> 332643 | AA106: 319747.16 | AB106: 352346.18 | AC106: =ROUND(((AA106+AB106)/2),0) -> 336047 | AD106: 321444.76 | AE106: 352346.18 | AF106: =ROUND(((AD106+AE106)/2),0) -> 336895 | AG106: 312939.84 | AH106: 352346.18 | AI106: =ROUND(((AG106+AH106)/2),0) -> 332643 | AJ106: 318047.02 | AK106: 352346.18 | AL106: =ROUND(((AJ106+AK106)/2),0) -> 335197 | AM106: 446093.15 | AN106: 352346.18 | AO106: =ROUND(((AM106+AN106)/2),0) -> 399220 | AP106: 236316.92 | AQ106: 216320.88 | AR106: =ROUND(((AP106+AQ106)/2),0) -> 226319 | AS106: 264882.15 | AT106: 242469.04 | AU106: =ROUND(((AS106+AT106)/2),0) -> 253676 | AV106: 356446.35 | AW106: 352346.18 | AX106: =ROUND(((AV106+AW106)/2),0) -> 354396 | AY106: 366768.03 | AZ106: 352346.18 | BA106: =ROUND(((AY106+AZ106)/2),0) -> 359557 | BB106: 275476.76 | BC106: 252167.19 | BD106: =ROUND(((BB106+BC106)/2),0) -> 263822 | BE106: =H106+K106+N106+Q106+T106+W106+Z106+AC106+AF106+AI106+AL106+AO106+AR106+AU106+AX106+BA106+BD106 -> 5167156
B107: 90 | C107: CAMBIO CHUPAS | D107: SERVICIO | F107: 104000 | G107: 117096 | H107: =ROUND(((F107+G107)/2),0) -> 110548 | I107: 104000 | J107: 117096 | K107: =ROUND(((I107+J107)/2),0) -> 110548 | L107: 104000 | M107: 117096 | N107: =ROUND(((L107+M107)/2),0) -> 110548 | O107: 104000 | P107: 117096 | Q107: =ROUND(((O107+P107)/2),0) -> 110548 | R107: 104000 | S107: 117096 | T107: =ROUND(((R107+S107)/2),0) -> 110548 | U107: 123760 | V107: 117096 | W107: =ROUND(((U107+V107)/2),0) -> 120428 | X107: 104000 | Y107: 117096 | Z107: =ROUND(((X107+Y107)/2),0) -> 110548 | AA107: 104000 | AB107: 117096 | AC107: =ROUND(((AA107+AB107)/2),0) -> 110548 | AD107: 104000 | AE107: 117096 | AF107: =ROUND(((AD107+AE107)/2),0) -> 110548 | AG107: 104000 | AH107: 117096 | AI107: =ROUND(((AG107+AH107)/2),0) -> 110548 | AJ107: 104000 | AK107: 117096 | AL107: =ROUND(((AJ107+AK107)/2),0) -> 110548 | AM107: 123760 | AN107: 117096 | AO107: =ROUND(((AM107+AN107)/2),0) -> 120428 | AP107: 104000 | AQ107: 95200 | AR107: =ROUND(((AP107+AQ107)/2),0) -> 99600 | AS107: 104000 | AT107: 95200 | AU107: =ROUND(((AS107+AT107)/2),0) -> 99600 | AV107: 104000 | AW107: 117096 | AX107: =ROUND(((AV107+AW107)/2),0) -> 110548 | AY107: 104000 | AZ107: 117096 | BA107: =ROUND(((AY107+AZ107)/2),0) -> 110548 | BB107: 104000 | BC107: 95200 | BD107: =ROUND(((BB107+BC107)/2),0) -> 99600 | BE107: =H107+K107+N107+Q107+T107+W107+Z107+AC107+AF107+AI107+AL107+AO107+AR107+AU107+AX107+BA107+BD107 -> 1866232
B108: 91 | C108: CAMBIO CILINDRO FRENO | D108: SERVICIO | F108: 124951.84 | G108: 140686.16 | H108: =ROUND(((F108+G108)/2),0) -> 132819 | I108: 124951.84 | J108: 140686.16 | K108: =ROUND(((I108+J108)/2),0) -> 132819 | L108: 201821.49 | M108: 227235.47 | N108: =ROUND(((L108+M108)/2),0) -> 214528 | O108: 210196.29 | P108: 236664.85 | Q108: =ROUND(((O108+P108)/2),0) -> 223431 | R108: 215210.52 | S108: 242310.49 | T108: =ROUND(((R108+S108)/2),0) -> 228761 | U108: 336341.39 | V108: 318230.7 | W108: =ROUND(((U108+V108)/2),0) -> 327286 | X108: 249019.81 | Y108: 280377.15 | Z108: =ROUND(((X108+Y108)/2),0) -> 264698 | AA108: 247709.22 | AB108: 280377.15 | AC108: =ROUND(((AA108+AB108)/2),0) -> 264043 | AD108: 247709.22 | AE108: 280377.15 | AF108: =ROUND(((AD108+AE108)/2),0) -> 264043 | AG108: 249019.81 | AH108: 280377.15 | AI108: =ROUND(((AG108+AH108)/2),0) -> 264698 | AJ108: 243769.83 | AK108: 280377.15 | AL108: =ROUND(((AJ108+AK108)/2),0) -> 262073 | AM108: 345510 | AN108: 280377.15 | AO108: =ROUND(((AM108+AN108)/2),0) -> 312944 | AP108: 185600.02 | AQ108: 169895.41 | AR108: =ROUND(((AP108+AQ108)/2),0) -> 177748 | AS108: 201695.59 | AT108: 184629.04 | AU108: =ROUND(((AS108+AT108)/2),0) -> 193162 | AV108: 283162.88 | AW108: 280377.15 | AX108: =ROUND(((AV108+AW108)/2),0) -> 281770 | AY108: 292692.79 | AZ108: 280377.15 | BA108: =ROUND(((AY108+AZ108)/2),0) -> 286535 | BB108: 209763.64 | BC108: 192014.41 | BD108: =ROUND(((BB108+BC108)/2),0) -> 200889 | BE108: =H108+K108+N108+Q108+T108+W108+Z108+AC108+AF108+AI108+AL108+AO108+AR108+AU108+AX108+BA108+BD108 -> 4032247
B109: 92 | C109: CAMBIO DISCO | D109: SERVICIO | F109: 114647.07 | G109: 129083.78 | H109: =ROUND(((F109+G109)/2),0) -> 121865 | I109: 114647.07 | J109: 129083.78 | K109: =ROUND(((I109+J109)/2),0) -> 121865 | L109: 190448.64 | M109: 214430.51 | N109: =ROUND(((L109+M109)/2),0) -> 202440 | O109: 209752.66 | P109: 236165.36 | Q109: =ROUND(((O109+P109)/2),0) -> 222959 | R109: 202066.54 | S109: 227511.38 | T109: =ROUND(((R109+S109)/2),0) -> 214789 | U109: 307187.48 | V109: 290646.62 | W109: =ROUND(((U109+V109)/2),0) -> 298917 | X109: 233133.81 | Y109: 262490.74 | Z109: =ROUND(((X109+Y109)/2),0) -> 247812 | AA109: 227053.19 | AB109: 262490.74 | AC109: =ROUND(((AA109+AB109)/2),0) -> 244772 | AD109: 227053.19 | AE109: 262490.74 | AF109: =ROUND(((AD109+AE109)/2),0) -> 244772 | AG109: 230705.28 | AH109: 262490.74 | AI109: =ROUND(((AG109+AH109)/2),0) -> 246598 | AJ109: 223389.27 | AK109: 262490.74 | AL109: =ROUND(((AJ109+AK109)/2),0) -> 242940 | AM109: 317440.07 | AN109: 262490.74 | AO109: =ROUND(((AM109+AN109)/2),0) -> 289965 | AP109: 173994.79 | AQ109: 159272.16 | AR109: =ROUND(((AP109+AQ109)/2),0) -> 166633 | AS109: 185062.61 | AT109: 169403.46 | AU109: =ROUND(((AS109+AT109)/2),0) -> 177233 | AV109: 258472.83 | AW109: 262490.74 | AX109: =ROUND(((AV109+AW109)/2),0) -> 260482 | AY109: 268826.61 | AZ109: 262490.74 | BA109: =ROUND(((AY109+AZ109)/2),0) -> 265659 | BB109: 192464.8 | BC109: 176179.32 | BD109: =ROUND(((BB109+BC109)/2),0) -> 184322 | BE109: =H109+K109+N109+Q109+T109+W109+Z109+AC109+AF109+AI109+AL109+AO109+AR109+AU109+AX109+BA109+BD109 -> 3754023
B110: 93 | C110: CAMBIO GUAYA | D110: SERVICIO | F110: 69727.71 | G110: 78508.038 | H110: =ROUND(((F110+G110)/2),0) -> 74118 | I110: 69727.71 | J110: 78508.038 | K110: =ROUND(((I110+J110)/2),0) -> 74118 | L110: 101382.26 | M110: 114148.62 | N110: =ROUND(((L110+M110)/2),0) -> 107765 | O110: 111065.11 | P110: 125050.77 | Q110: =ROUND(((O110+P110)/2),0) -> 118058 | R110: 109970.83 | S110: 123818.7 | T110: =ROUND(((R110+S110)/2),0) -> 116895 | U110: 167687.53 | V110: 158658.2 | W110: =ROUND(((U110+V110)/2),0) -> 163173 | X110: 122414.31 | Y110: 137829.09 | Z110: =ROUND(((X110+Y110)/2),0) -> 130122 | AA110: 122414.31 | AB110: 137829.09 | AC110: =ROUND(((AA110+AB110)/2),0) -> 130122 | AD110: 125566.15 | AE110: 137829.09 | AF110: =ROUND(((AD110+AE110)/2),0) -> 131698 | AG110: 122414.31 | AH110: 137829.09 | AI110: =ROUND(((AG110+AH110)/2),0) -> 130122 | AJ110: 121148.5 | AK110: 137829.09 | AL110: =ROUND(((AJ110+AK110)/2),0) -> 129489 | AM110: 173849.54 | AN110: 137829.09 | AO110: =ROUND(((AM110+AN110)/2),0) -> 155839 | AP110: 93719.795 | AQ110: 85789.659 | AR110: =ROUND(((AP110+AQ110)/2),0) -> 89755 | AS110: 112554 | AT110: 103030.2 | AU110: =ROUND(((AS110+AT110)/2),0) -> 107792 | AV110: 147664.6 | AW110: 137829.09 | AX110: =ROUND(((AV110+AW110)/2),0) -> 142747 | AY110: 141583.13 | AZ110: 137829.09 | BA110: =ROUND(((AY110+AZ110)/2),0) -> 139706 | BB110: 117056.16 | BC110: 107151.41 | BD110: =ROUND(((BB110+BC110)/2),0) -> 112104 | BE110: =H110+K110+N110+Q110+T110+W110+Z110+AC110+AF110+AI110+AL110+AO110+AR110+AU110+AX110+BA110+BD110 -> 2053623
B111: 94 | C111: CAMBIO KIT PASADORES MORDAZAS | D111: SERVICIO | F111: 123500 | G111: 139051.5 | H111: =ROUND(((F111+G111)/2),0) -> 131276 | I111: 123500 | J111: 139051.5 | K111: =ROUND(((I111+J111)/2),0) -> 131276 | L111: 123500 | M111: 139051.5 | N111: =ROUND(((L111+M111)/2),0) -> 131276 | O111: 123500 | P111: 139051.5 | Q111: =ROUND(((O111+P111)/2),0) -> 131276 | R111: 123500 | S111: 139051.5 | T111: =ROUND(((R111+S111)/2),0) -> 131276 | U111: 146965 | V111: 139051.5 | W111: =ROUND(((U111+V111)/2),0) -> 143008 | X111: 123500 | Y111: 139051.5 | Z111: =ROUND(((X111+Y111)/2),0) -> 131276 | AA111: 123500 | AB111: 139051.5 | AC111: =ROUND(((AA111+AB111)/2),0) -> 131276 | AD111: 123500 | AE111: 139051.5 | AF111: =ROUND(((AD111+AE111)/2),0) -> 131276 | AG111: 123500 | AH111: 139051.5 | AI111: =ROUND(((AG111+AH111)/2),0) -> 131276 | AJ111: 123500 | AK111: 139051.5 | AL111: =ROUND(((AJ111+AK111)/2),0) -> 131276 | AM111: 146965 | AN111: 139051.5 | AO111: =ROUND(((AM111+AN111)/2),0) -> 143008 | AP111: 123500 | AQ111: 113050 | AR111: =ROUND(((AP111+AQ111)/2),0) -> 118275 | AS111: 123500 | AT111: 113050 | AU111: =ROUND(((AS111+AT111)/2),0) -> 118275 | AV111: 123500 | AW111: 139051.5 | AX111: =ROUND(((AV111+AW111)/2),0) -> 131276 | AY111: 123500 | AZ111: 139051.5 | BA111: =ROUND(((AY111+AZ111)/2),0) -> 131276 | BB111: 123500 | BC111: 113050 | BD111: =ROUND(((BB111+BC111)/2),0) -> 118275 | BE111: =H111+K111+N111+Q111+T111+W111+Z111+AC111+AF111+AI111+AL111+AO111+AR111+AU111+AX111+BA111+BD111 -> 2216153
B112: 95 | C112: CAMBIO MANGUERA DE FRENO | D112: SERVICIO | F112: 48100 | G112: 54156.9 | H112: =ROUND(((F112+G112)/2),0) -> 51128 | I112: 48100 | J112: 54156.9 | K112: =ROUND(((I112+J112)/2),0) -> 51128 | L112: 78000 | M112: 87822 | N112: =ROUND(((L112+M112)/2),0) -> 82911 | O112: 78000 | P112: 87822 | Q112: =ROUND(((O112+P112)/2),0) -> 82911 | R112: 78000 | S112: 87822 | T112: =ROUND(((R112+S112)/2),0) -> 82911 | U112: 92820 | V112: 87822 | W112: =ROUND(((U112+V112)/2),0) -> 90321 | X112: 78000 | Y112: 87822 | Z112: =ROUND(((X112+Y112)/2),0) -> 82911 | AA112: 78000 | AB112: 87822 | AC112: =ROUND(((AA112+AB112)/2),0) -> 82911 | AD112: 78000 | AE112: 87822 | AF112: =ROUND(((AD112+AE112)/2),0) -> 82911 | AG112: 78000 | AH112: 87822 | AI112: =ROUND(((AG112+AH112)/2),0) -> 82911 | AJ112: 78000 | AK112: 87822 | AL112: =ROUND(((AJ112+AK112)/2),0) -> 82911 | AM112: 92820 | AN112: 87822 | AO112: =ROUND(((AM112+AN112)/2),0) -> 90321 | AP112: 58500 | AQ112: 53550 | AR112: =ROUND(((AP112+AQ112)/2),0) -> 56025 | AS112: 58500 | AT112: 53550 | AU112: =ROUND(((AS112+AT112)/2),0) -> 56025 | AV112: 78000 | AW112: 87822 | AX112: =ROUND(((AV112+AW112)/2),0) -> 82911 | AY112: 78000 | AZ112: 87822 | BA112: =ROUND(((AY112+AZ112)/2),0) -> 82911 | BB112: 65000 | BC112: 59500 | BD112: =ROUND(((BB112+BC112)/2),0) -> 62250 | BE112: =H112+K112+N112+Q112+T112+W112+Z112+AC112+AF112+AI112+AL112+AO112+AR112+AU112+AX112+BA112+BD112 -> 1286308
B113: 96 | C113: CAMBIO PASTILLAS | D113: SERVICIO | F113: 71174.35 | G113: 80136.843 | H113: =ROUND(((F113+G113)/2),0) -> 75656 | I113: 71174.35 | J113: 80136.843 | K113: =ROUND(((I113+J113)/2),0) -> 75656 | L113: 101727.01 | M113: 114536.79 | N113: =ROUND(((L113+M113)/2),0) -> 108132 | O113: 111441.98 | P113: 125475.1 | Q113: =ROUND(((O113+P113)/2),0) -> 118459 | R113: 112744.97 | S113: 126942.16 | T113: =ROUND(((R113+S113)/2),0) -> 119844 | U113: 168779.56 | V113: 159691.43 | W113: =ROUND(((U113+V113)/2),0) -> 164235 | X113: 127816.39 | Y113: 143911.42 | Z113: =ROUND(((X113+Y113)/2),0) -> 135864 | AA113: 127816.39 | AB113: 143911.42 | AC113: =ROUND(((AA113+AB113)/2),0) -> 135864 | AD113: 127180.11 | AE113: 143911.42 | AF113: =ROUND(((AD113+AE113)/2),0) -> 135546 | AG113: 123983.47 | AH113: 143911.42 | AI113: =ROUND(((AG113+AH113)/2),0) -> 133947 | AJ113: 125904.15 | AK113: 143911.42 | AL113: =ROUND(((AJ113+AK113)/2),0) -> 134908 | AM113: 179509.78 | AN113: 143911.42 | AO113: =ROUND(((AM113+AN113)/2),0) -> 161711 | AP113: 94632.395 | AQ113: 86625.039 | AR113: =ROUND(((AP113+AQ113)/2),0) -> 90629 | AS113: 114888.74 | AT113: 105167.38 | AU113: =ROUND(((AS113+AT113)/2),0) -> 110028 | AV113: 149287.84 | AW113: 143911.42 | AX113: =ROUND(((AV113+AW113)/2),0) -> 146600 | AY113: 145445.62 | AZ113: 143911.42 | BA113: =ROUND(((AY113+AZ113)/2),0) -> 144679 | BB113: 119483.85 | BC113: 109373.67 | BD113: =ROUND(((BB113+BC113)/2),0) -> 114429 | BE113: =H113+K113+N113+Q113+T113+W113+Z113+AC113+AF113+AI113+AL113+AO113+AR113+AU113+AX113+BA113+BD113 -> 2106187
B114: 97 | C114: CAMBIO PERA DE FRENO | D114: SERVICIO | F114: 79000.74 | G114: 88948.756 | H114: =ROUND(((F114+G114)/2),0) -> 83975 | I114: 79000.74 | J114: 88948.756 | K114: =ROUND(((I114+J114)/2),0) -> 83975 | L114: 127180.95 | M114: 143195.97 | N114: =ROUND(((L114+M114)/2),0) -> 135188 | O114: 139326.98 | P114: 156871.46 | Q114: =ROUND(((O114+P114)/2),0) -> 148099 | R114: 142604.73 | S114: 160561.96 | T114: =ROUND(((R114+S114)/2),0) -> 151583 | U114: 221022.91 | V114: 209121.67 | W114: =ROUND(((U114+V114)/2),0) -> 215072 | X114: 155087.08 | Y114: 174616.12 | Z114: =ROUND(((X114+Y114)/2),0) -> 164852 | AA114: 155087.08 | AB114: 174616.12 | AC114: =ROUND(((AA114+AB114)/2),0) -> 164852 | AD114: 154214.19 | AE114: 174616.12 | AF114: =ROUND(((AD114+AE114)/2),0) -> 164415 | AG114: 148958.29 | AH114: 174616.12 | AI114: =ROUND(((AG114+AH114)/2),0) -> 161787 | AJ114: 155959.96 | AK114: 174616.12 | AL114: =ROUND(((AJ114+AK114)/2),0) -> 165288 | AM114: 214944.36 | AN114: 174616.12 | AO114: =ROUND(((AM114+AN114)/2),0) -> 194780 | AP114: 120640.65 | AQ114: 110432.6 | AR114: =ROUND(((AP114+AQ114)/2),0) -> 115537 | AS114: 127523.18 | AT114: 116732.75 | AU114: =ROUND(((AS114+AT114)/2),0) -> 122128 | AV114: 183259.38 | AW114: 174616.12 | AX114: =ROUND(((AV114+AW114)/2),0) -> 178938 | AY114: 184317.32 | AZ114: 174616.12 | BA114: =ROUND(((AY114+AZ114)/2),0) -> 179467 | BB114: 132623.6 | BC114: 121401.6 | BD114: =ROUND(((BB114+BC114)/2),0) -> 127013 | BE114: =H114+K114+N114+Q114+T114+W114+Z114+AC114+AF114+AI114+AL114+AO114+AR114+AU114+AX114+BA114+BD114 -> 2556949
... B117: 101 | C117: RECTIFICAR ROSCA BOCIN TRASEROS | D117: SERVICIO | F117: 152448.98 | G117: 171645.83 | H117: =ROUND(((F117+G117)/2),0) -> 162047 | I117: 152448.98 | J117: 171645.83 | K117: =ROUND(((I117+J117)/2),0) -> 162047 | L117: 239875.22 | M117: 270081.05 | N117: =ROUND(((L117+M117)/2),0) -> 254978 | O117: 262783.17 | P117: 295873.64 | Q117: =ROUND(((O117+P117)/2),0) -> 279328 | R117: 267564.18 | S117: 301256.68 | T117: =ROUND(((R117+S117)/2),0) -> 284410 | U117: 405425.69 | V117: 383595.08 | W117: =ROUND(((U117+V117)/2),0) -> 394510 | X117: 297216.08 | Y117: 334642.44 | Z117: =ROUND(((X117+Y117)/2),0) -> 315929 | AA117: 272408.57 | AB117: 334642.44 | AC117: =ROUND(((AA117+AB117)/2),0) -> 303526 | AD117: 295571.71 | AE117: 334642.44 | AF117: =ROUND(((AD117+AE117)/2),0) -> 315107 | AG117: 279057.87 | AH117: 334642.44 | AI117: =ROUND(((AG117+AH117)/2),0) -> 306850 | AJ117: 290633.53 | AK117: 334642.44 | AL117: =ROUND(((AJ117+AK117)/2),0) -> 312638 | AM117: 407725.39 | AN117: 334642.44 | AO117: =ROUND(((AM117+AN117)/2),0) -> 371184 | AP117: 219673.8 | AQ117: 201086.02 | AR117: =ROUND(((AP117+AQ117)/2),0) -> 210380 | AS117: 246081.74 | AT117: 225259.44 | AU117: =ROUND(((AS117+AT117)/2),0) -> 235671 | AV117: 352196.85 | AW117: 334642.44 | AX117: =ROUND(((AV117+AW117)/2),0) -> 343420 | AY117: 352196.85 | AZ117: 334642.44 | BA117: =ROUND(((AY117+AZ117)/2),0) -> 343420 | BB117: 255924.3 | BC117: 234269.17 | BD117: =ROUND(((BB117+BC117)/2),0) -> 245097 | BE117: =H117+K117+N117+Q117+T117+W117+Z117+AC117+AF117+AI117+AL117+AO117+AR117+AU117+AX117+BA117+BD117 -> 4840542
B118: EMBRAGUE | F118: =+SUM(F119:F134) -> 2862834.5 | G118: =+SUM(G119:G134) -> 3223331.4 | H118: =+SUM(H119:H134) -> 3043084 | I118: =+SUM(I119:I134) -> 2862834.5 | J118: =+SUM(J119:J134) -> 3223331.4 | K118: =+SUM(K119:K134) -> 3043084 | L118: =+SUM(L119:L134) -> 3586173.9 | M118: =+SUM(M119:M134) -> 4037755.9 | ... BD118: =+SUM(BD119:BD134) -> 3531995 | BE118: =H118+K118+N118+Q118+T118+W118+Z118+AC118+AF118+AI118+AL118+AO118+AR118+AU118+AX118+BA118+BD118 -> 67000115
B119: 102 | C119: CAMBIO BALINERA | D119: SERVICIO | F119: 195000 | G119: 219555 | H119: =ROUND(((F119+G119)/2),0) -> 207278 | I119: 195000 | J119: 219555 | K119: =ROUND(((I119+J119)/2),0) -> 207278 | L119: 195000 | M119: 219555 | N119: =ROUND(((L119+M119)/2),0) -> 207278 | O119: 195000 | P119: 219555 | Q119: =ROUND(((O119+P119)/2),0) -> 207278 | R119: 195000 | S119: 219555 | T119: =ROUND(((R119+S119)/2),0) -> 207278 | U119: 232050 | V119: 219555 | W119: =ROUND(((U119+V119)/2),0) -> 225803 | X119: 195000 | Y119: 219555 | Z119: =ROUND(((X119+Y119)/2),0) -> 207278 | AA119: 195000 | AB119: 219555 | AC119: =ROUND(((AA119+AB119)/2),0) -> 207278 | AD119: 195000 | AE119: 219555 | AF119: =ROUND(((AD119+AE119)/2),0) -> 207278 | AG119: 195000 | AH119: 219555 | AI119: =ROUND(((AG119+AH119)/2),0) -> 207278 | AJ119: 195000 | AK119: 219555 | AL119: =ROUND(((AJ119+AK119)/2),0) -> 207278 | AM119: 232050 | AN119: 219555 | AO119: =ROUND(((AM119+AN119)/2),0) -> 225803 | AP119: 195000 | AQ119: 178500 | AR119: =ROUND(((AP119+AQ119)/2),0) -> 186750 | AS119: 195000 | AT119: 178500 | AU119: =ROUND(((AS119+AT119)/2),0) -> 186750 | AV119: 195000 | AW119: 219555 | AX119: =ROUND(((AV119+AW119)/2),0) -> 207278 | AY119: 195000 | AZ119: 219555 | BA119: =ROUND(((AY119+AZ119)/2),0) -> 207278 | BB119: 195000 | BC119: 178500 | BD119: =ROUND(((BB119+BC119)/2),0) -> 186750 | BE119: =H119+K119+N119+Q119+T119+W119+Z119+AC119+AF119+AI119+AL119+AO119+AR119+AU119+AX119+BA119+BD119 -> 3499192
B120: 103 | C120: CAMBIO BOMBA AUXILIAR DE CLUTCH | D120: SERVICIO | F120: 169000 | G120: 190281 | H120: =ROUND(((F120+G120)/2),0) -> 179641 | I120: 169000 | J120: 190281 | K120: =ROUND(((I120+J120)/2),0) -> 179641 | L120: 169000 | M120: 190281 | N120: =ROUND(((L120+M120)/2),0) -> 179641 | O120: 169000 | P120: 190281 | Q120: =ROUND(((O120+P120)/2),0) -> 179641 | R120: 169000 | S120: 190281 | T120: =ROUND(((R120+S120)/2),0) -> 179641 | U120: 201110 | V120: 190281 | W120: =ROUND(((U120+V120)/2),0) -> 195696 | X120: 169000 | Y120: 190281 | Z120: =ROUND(((X120+Y120)/2),0) -> 179641 | AA120: 169000 | AB120: 190281 | AC120: =ROUND(((AA120+AB120)/2),0) -> 179641 | AD120: 169000 | AE120: 190281 | AF120: =ROUND(((AD120+AE120)/2),0) -> 179641 | AG120: 169000 | AH120: 190281 | AI120: =ROUND(((AG120+AH120)/2),0) -> 179641 | AJ120: 169000 | AK120: 190281 | AL120: =ROUND(((AJ120+AK120)/2),0) -> 179641 | AM120: 201110 | AN120: 190281 | AO120: =ROUND(((AM120+AN120)/2),0) -> 195696 | AP120: 169000 | AQ120: 154700 | AR120: =ROUND(((AP120+AQ120)/2),0) -> 161850 | AS120: 169000 | AT120: 154700 | AU120: =ROUND(((AS120+AT120)/2),0) -> 161850 | AV120: 169000 | AW120: 190281 | AX120: =ROUND(((AV120+AW120)/2),0) -> 179641 | AY120: 169000 | AZ120: 190281 | BA120: =ROUND(((AY120+AZ120)/2),0) -> 179641 | BB120: 169000 | BC120: 154700 | BD120: =ROUND(((BB120+BC120)/2),0) -> 161850 | BE120: =H120+K120+N120+Q120+T120+W120+Z120+AC120+AF120+AI120+AL120+AO120+AR120+AU120+AX120+BA120+BD120 -> 3032634
B121: 104 | C121: CAMBIO BOMBA DE EMBRAGUE | D121: SERVICIO | F121: 159598.53 | G121: 179695.67 | H121: =ROUND(((F121+G121)/2),0) -> 169647 | I121: 159598.53 | J121: 179695.67 | K121: =ROUND(((I121+J121)/2),0) -> 169647 | L121: 235624.87 | M121: 265295.48 | N121: =ROUND(((L121+M121)/2),0) -> 250460 | O121: 258127.22 | P121: 290631.39 | Q121: =ROUND(((O121+P121)/2),0) -> 274379 | R121: 279172.79 | S121: 314327.09 | T121: =ROUND(((R121+S121)/2),0) -> 296750 | U121: 432135.11 | V121: 408866.3 | W121: =ROUND(((U121+V121)/2),0) -> 420501 | X121: 303879.74 | Y121: 342145.22 | Z121: =ROUND(((X121+Y121)/2),0) -> 323012 | AA121: 314266.48 | AB121: 342145.22 | AC121: =ROUND(((AA121+AB121)/2),0) -> 328206 | AD121: 300405.1 | AE121: 342145.22 | AF121: =ROUND(((AD121+AE121)/2),0) -> 321275 | AG121: 309079.88 | AH121: 342145.22 | AI121: =ROUND(((AG121+AH121)/2),0) -> 325613 | AJ121: 310810.43 | AK121: 342145.22 | AL121: =ROUND(((AJ121+AK121)/2),0) -> 326478 | AM121: 429824.36 | AN121: 342145.22 | AO121: =ROUND(((AM121+AN121)/2),0) -> 385985 | AP121: 232736.66 | AQ121: 213043.56 | AR121: =ROUND(((AP121+AQ121)/2),0) -> 222890 | AS121: 257623.6 | AT121: 235824.68 | AU121: =ROUND(((AS121+AT121)/2),0) -> 246724 | AV121: 358729.54 | AW121: 342145.22 | AX121: =ROUND(((AV121+AW121)/2),0) -> 350437 | AY121: 365014.65 | AZ121: 342145.22 | BA121: =ROUND(((AY121+AZ121)/2),0) -> 353580 | BB121: 267928.38 | BC121: 245257.51 | BD121: =ROUND(((BB121+BC121)/2),0) -> 256593 | BE121: =H121+K121+N121+Q121+T121+W121+Z121+AC121+AF121+AI121+AL121+AO121+AR121+AU121+AX121+BA121+BD121 -> 5022177
B122: 105 | C122: CAMBIO CAUCHO Y BALINERA EMBRAGUE | D122: SERVICIO | F122: 155027.92 | G122: 174549.52 | H122: =ROUND(((F122+G122)/2),0) -> 164789 | I122: 155027.92 | J122: 174549.52 | K122: =ROUND(((I122+J122)/2),0) -> 164789 | L122: 246014.99 | M122: 276993.95 | N122: =ROUND(((L122+M122)/2),0) -> 261504 | O122: 269509.37 | P122: 303446.82 | Q122: =ROUND(((O122+P122)/2),0) -> 286478 | R122: 269660.62 | S122: 303617.12 | T122: =ROUND(((R122+S122)/2),0) -> 286639 | U122: 405515.19 | V122: 383679.75 | W122: =ROUND(((U122+V122)/2),0) -> 394597 | X122: 290581.14 | Y122: 327172.01 | Z122: =ROUND(((X122+Y122)/2),0) -> 308877 | AA122: 290581.14 | AB122: 327172.01 | AC122: =ROUND(((AA122+AB122)/2),0) -> 308877 | AD122: 280346.49 | AE122: 327172.01 | AF122: =ROUND(((AD122+AE122)/2),0) -> 303759 | AG122: 290581.14 | AH122: 327172.01 | AI122: =ROUND(((AG122+AH122)/2),0) -> 308877 | AJ122: 292282.97 | AK122: 327172.01 | AL122: =ROUND(((AJ122+AK122)/2),0) -> 309727 | AM122: 412630.46 | AN122: 327172.01 | AO122: =ROUND(((AM122+AN122)/2),0) -> 369901 | AP122: 221044.39 | AQ122: 202340.64 | AR122: =ROUND(((AP122+AQ122)/2),0) -> 211693 | AS122: 250245.06 | AT122: 229070.48 | AU122: =ROUND(((AS122+AT122)/2),0) -> 239658 | AV122: 323581.77 | AW122: 327172.01 | AX122: =ROUND(((AV122+AW122)/2),0) -> 325377 | AY122: 346402.68 | AZ122: 327172.01 | BA122: =ROUND(((AY122+AZ122)/2),0) -> 336787 | BB122: 260254.93 | BC122: 238233.36 | BD122: =ROUND(((BB122+BC122)/2),0) -> 249244 | BE122: =H122+K122+N122+Q122+T122+W122+Z122+AC122+AF122+AI122+AL122+AO122+AR122+AU122+AX122+BA122+BD122 -> 4831573
B123: 106 | C123: CAMBIO CORREA HIDRAULICO DIRECCIÓN | D123: SERVICIO | F123: 97500 | G123: 109777.5 | H123: =ROUND(((F123+G123)/2),0) -> 103639 | I123: 97500 | J123: 109777.5 | K123: =ROUND(((I123+J123)/2),0) -> 103639 | L123: 97500 | M123: 109777.5 | N123: =ROUND(((L123+M123)/2),0) -> 103639 | O123: 97500 | P123: 109777.5 | Q123: =ROUND(((O123+P123)/2),0) -> 103639 | R123: 97500 | S123: 109777.5 | T123: =ROUND(((R123+S123)/2),0) -> 103639 | U123: 116025 | V123: 109777.5 | W123: =ROUND(((U123+V123)/2),0) -> 112901 | X123: 97500 | Y123: 109777.5 | Z123: =ROUND(((X123+Y123)/2),0) -> 103639 | AA123: 97500 | AB123: 109777.5 | AC123: =ROUND(((AA123+AB123)/2),0) -> 103639 | AD123: 97500 | AE123: 109777.5 | AF123: =ROUND(((AD123+AE123)/2),0) -> 103639 | AG123: 97500 | AH123: 109777.5 | AI123: =ROUND(((AG123+AH123)/2),0) -> 103639 | AJ123: 97500 | AK123: 109777.5 | AL123: =ROUND(((AJ123+AK123)/2),0) -> 103639 | AM123: 116025 | AN123: 109777.5 | AO123: =ROUND(((AM123+AN123)/2),0) -> 112901 | AP123: 97500 | AQ123: 89250 | AR123: =ROUND(((AP123+AQ123)/2),0) -> 93375 | AS123: 97500 | AT123: 89250 | AU123: =ROUND(((AS123+AT123)/2),0) -> 93375 | AV123: 97500 | AW123: 109777.5 | AX123: =ROUND(((AV123+AW123)/2),0) -> 103639 | AY123: 97500 | AZ123: 109777.5 | BA123: =ROUND(((AY123+AZ123)/2),0) -> 103639 | BB123: 97500 | BC123: 89250 | BD123: =ROUND(((BB123+BC123)/2),0) -> 93375 | BE123: =H123+K123+N123+Q123+T123+W123+Z123+AC123+AF123+AI123+AL123+AO123+AR123+AU123+AX123+BA123+BD123 -> 1749595
B124: 107 | C124: CAMBIO DE EMBRAGUE COMPLETO | D124: SERVICIO | F124: 425738.04 | G124: 479348.28 | H124: =ROUND(((F124+G124)/2),0) -> 452543 | I124: 425738.04 | J124: 479348.28 | K124: =ROUND(((I124+J124)/2),0) -> 452543 | L124: 634445.44 | M124: 714336.76 | N124: =ROUND(((L124+M124)/2),0) -> 674391 | O124: 695035.32 | P124: 782556.3 | Q124: =ROUND(((O124+P124)/2),0) -> 738796 | R124: 684935.03 | S124: 771184.16 | T124: =ROUND(((R124+S124)/2),0) -> 728060 | U124: 1075901.3 | V124: 1017968.1 | W124: =ROUND(((U124+V124)/2),0) -> 1046935 | X124: 771474.86 | Y124: 868621.35 | Z124: =ROUND(((X124+Y124)/2),0) -> 820048 | AA124: 747775.15 | AB124: 868621.35 | AC124: =ROUND(((AA124+AB124)/2),0) -> 808198 | AD124: 743807.87 | AE124: 868621.35 | AF124: =ROUND(((AD124+AE124)/2),0) -> 806215 | AG124: 775409.18 | AH124: 868621.35 | AI124: =ROUND(((AG124+AH124)/2),0) -> 822015 | AJ124: 755692.8 | AK124: 868621.35 | AL124: =ROUND(((AJ124+AK124)/2),0) -> 812157 | AM124: 1053887.8 | AN124: 868621.35 | AO124: =ROUND(((AM124+AN124)/2),0) -> 961255 | AP124: 559489.71 | AQ124: 512148.27 | AR124: =ROUND(((AP124+AQ124)/2),0) -> 535819 | AS124: 687222.45 | AT124: 629072.85 | AU124: =ROUND(((AS124+AT124)/2),0) -> 658148 | AV124: 906620.78 | AW124: 868621.35 | AX124: =ROUND(((AV124+AW124)/2),0) -> 887621 | AY124: 906620.78 | AZ124: 868621.35 | BA124: =ROUND(((AY124+AZ124)/2),0) -> 887621 | BB124: 714711.99 | BC124: 654236.36 | BD124: =ROUND(((BB124+BC124)/2),0) -> 684474 | BE124: =H124+K124+N124+Q124+T124+W124+Z124+AC124+AF124+AI124+AL124+AO124+AR124+AU124+AX124+BA124+BD124 -> 12776839
B125: 108 | C125: CAMBIO DISCO | D125: SERVICIO | F125: 182041.73 | G125: 204964.98 | H125: =ROUND(((F125+G125)/2),0) -> 193503 | I125: 182041.73 | J125: 204964.98 | K125: =ROUND(((I125+J125)/2),0) -> 193503 | L125: 295260.74 | M125: 332440.89 | N125: =ROUND(((L125+M125)/2),0) -> 313851 | O125: 323458.4 | P125: 364189.27 | Q125: =ROUND(((O125+P125)/2),0) -> 343824 | R125: 323872.45 | S125: 364655.46 | T125: =ROUND(((R125+S125)/2),0) -> 344264 | U125: 516305.68 | V125: 488504.61 | W125: =ROUND(((U125+V125)/2),0) -> 502405 | X125: 367056.17 | Y125: 413277.01 | Z125: =ROUND(((X125+Y125)/2),0) -> 390167 | AA125: 365165.06 | AB125: 413277.01 | AC125: =ROUND(((AA125+AB125)/2),0) -> 389221 | AD125: 351867.3 | AE125: 413277.01 | AF125: =ROUND(((AD125+AE125)/2),0) -> 382572 | AG125: 370829.94 | AH125: 413277.01 | AI125: =ROUND(((AG125+AH125)/2),0) -> 392053 | AJ125: 344214.13 | AK125: 413277.01 | AL125: =ROUND(((AJ125+AK125)/2),0) -> 378746 | AM125: 508411.11 | AN125: 413277.01 | AO125: =ROUND(((AM125+AN125)/2),0) -> 460844 | AP125: 264383.6 | AQ125: 242012.68 | AR125: =ROUND(((AP125+AQ125)/2),0) -> 253198 | AS125: 293850.44 | AT125: 268986.17 | AU125: =ROUND(((AS125+AT125)/2),0) -> 281418 | AV125: 440307.53 | AW125: 413277.01 | AX125: =ROUND(((AV125+AW125)/2),0) -> 426792 | AY125: 433529.79 | AZ125: 413277.01 | BA125: =ROUND(((AY125+AZ125)/2),0) -> 423403 | BB125: 305604.39 | BC125: 279745.56 | BD125: =ROUND(((BB125+BC125)/2),0) -> 292675 | BE125: =H125+K125+N125+Q125+T125+W125+Z125+AC125+AF125+AI125+AL125+AO125+AR125+AU125+AX125+BA125+BD125 -> 5962439
B126: 109 | C126: CAMBIO GUAYA CONTROL DE CAMBIOS | D126: SERVICIO | F126: 156000 | G126: 175644 | H126: =ROUND(((F126+G126)/2),0) -> 165822 | I126: 156000 | J126: 175644 | K126: =ROUND(((I126+J126)/2),0) -> 165822 | L126: 156000 | M126: 175644 | N126: =ROUND(((L126+M126)/2),0) -> 165822 | O126: 156000 | P126: 175644 | Q126: =ROUND(((O126+P126)/2),0) -> 165822 | R126: 156000 | S126: 175644 | T126: =ROUND(((R126+S126)/2),0) -> 165822 | U126: 185640 | V126: 175644 | W126: =ROUND(((U126+V126)/2),0) -> 180642 | X126: 156000 | Y126: 175644 | Z126: =ROUND(((X126+Y126)/2),0) -> 165822 | AA126: 156000 | AB126: 175644 | AC126: =ROUND(((AA126+AB126)/2),0) -> 165822 | AD126: 156000 | AE126: 175644 | AF126: =ROUND(((AD126+AE126)/2),0) -> 165822 | AG126: 156000 | AH126: 175644 | AI126: =ROUND(((AG126+AH126)/2),0) -> 165822 | AJ126: 156000 | AK126: 175644 | AL126: =ROUND(((AJ126+AK126)/2),0) -> 165822 | AM126: 185640 | AN126: 175644 | AO126: =ROUND(((AM126+AN126)/2),0) -> 180642 | AP126: 156000 | AQ126: 142800 | AR126: =ROUND(((AP126+AQ126)/2),0) -> 149400 | AS126: 156000 | AT126: 142800 | AU126: =ROUND(((AS126+AT126)/2),0) -> 149400 | AV126: 156000 | AW126: 175644 | AX126: =ROUND(((AV126+AW126)/2),0) -> 165822 | AY126: 156000 | AZ126: 175644 | BA126: =ROUND(((AY126+AZ126)/2),0) -> 165822 | BB126: 156000 | BC126: 142800 | BD126: =ROUND(((BB126+BC126)/2),0) -> 149400 | BE126: =H126+K126+N126+Q126+T126+W126+Z126+AC126+AF126+AI126+AL126+AO126+AR126+AU126+AX126+BA126+BD126 -> 2799348
B127: 110 | C127: CAMBIO GUAYA DE EMBRAGUE | D127: SERVICIO | F127: 75907.195 | G127: 85465.663 | H127: =ROUND(((F127+G127)/2),0) -> 80686 | I127: 75907.195 | J127: 85465.663 | K127: =ROUND(((I127+J127)/2),0) -> 80686 | L127: 111239.18 | M127: 125246.76 | N127: =ROUND(((L127+M127)/2),0) -> 118243 | O127: 121863.37 | P127: 137208.77 | Q127: =ROUND(((O127+P127)/2),0) -> 129536 | R127: 123325.21 | S127: 138854.71 | T127: =ROUND(((R127+S127)/2),0) -> 131090 | U127: 192924.82 | V127: 182536.56 | W127: =ROUND(((U127+V127)/2),0) -> 187731 | X127: 138575.77 | Y127: 156025.66 | Z127: =ROUND(((X127+Y127)/2),0) -> 147301 | AA127: 139302.48 | AB127: 156025.66 | AC127: =ROUND(((AA127+AB127)/2),0) -> 147664 | AD127: 142199.98 | AE127: 156025.66 | AF127: =ROUND(((AD127+AE127)/2),0) -> 149113 | AG127: 138575.77 | AH127: 156025.66 | AI127: =ROUND(((AG127+AH127)/2),0) -> 147301 | AJ127: 141476.66 | AK127: 156025.66 | AL127: =ROUND(((AJ127+AK127)/2),0) -> 148751 | AM127: 196967.13 | AN127: 156025.66 | AO127: =ROUND(((AM127+AN127)/2),0) -> 176496 | AP127: 102327.81 | AQ127: 93669.303 | AR127: =ROUND(((AP127+AQ127)/2),0) -> 97999 | AS127: 122528.38 | AT127: 112160.59 | AU127: =ROUND(((AS127+AT127)/2),0) -> 117344 | AV127: 162403.93 | AW127: 156025.66 | AX127: =ROUND(((AV127+AW127)/2),0) -> 159215 | AY127: 162403.93 | AZ127: 156025.66 | BA127: =ROUND(((AY127+AZ127)/2),0) -> 159215 | BB127: 127430.23 | BC127: 116647.67 | BD127: =ROUND(((BB127+BC127)/2),0) -> 122039 | BE127: =H127+K127+N127+Q127+T127+W127+Z127+AC127+AF127+AI127+AL127+AO127+AR127+AU127+AX127+BA127+BD127 -> 2300410
B128: 111 | C128: CAMBIO MANGUERA DE EMBRAGUE | D128: SERVICIO | F128: 84150.17 | G128: 94746.618 | H128: =ROUND(((F128+G128)/2),0) -> 89448 | I128: 84150.17 | J128: 94746.618 | K128: =ROUND(((I128+J128)/2),0) -> 89448 | L128: 125191.82 | M128: 140956.36 | N128: =ROUND(((L128+M128)/2),0) -> 133074 | O128: 135761.92 | P128: 152857.48 | Q128: =ROUND(((O128+P128)/2),0) -> 144310 | R128: 138037.51 | S128: 155419.62 | T128: =ROUND(((R128+S128)/2),0) -> 146729 | U128: 211072.99 | V128: 199707.52 | W128: =ROUND(((U128+V128)/2),0) -> 205390 | X128: 144145.17 | Y128: 162296.37 | Z128: =ROUND(((X128+Y128)/2),0) -> 153221 | AA128: 154122.08 | AB128: 162296.37 | AC128: =ROUND(((AA128+AB128)/2),0) -> 158209 | AD128: 154881.74 | AE128: 162296.37 | AF128: =ROUND(((AD128+AE128)/2),0) -> 158589 | AG128: 155641.4 | AH128: 162296.37 | AI128: =ROUND(((AG128+AH128)/2),0) -> 158969 | AJ128: 157156.48 | AK128: 162296.37 | AL128: =ROUND(((AJ128+AK128)/2),0) -> 159726 | AM128: 214450.63 | AN128: 162296.37 | AO128: =ROUND(((AM128+AN128)/2),0) -> 188374 | AP128: 109705.51 | AQ128: 100422.73 | AR128: =ROUND(((AP128+AQ128)/2),0) -> 105064 | AS128: 135834.6 | AT128: 124340.9 | AU128: =ROUND(((AS128+AT128)/2),0) -> 130088 | AV128: 176472.34 | AW128: 162296.37 | AX128: =ROUND(((AV128+AW128)/2),0) -> 169384 | AY128: 176472.34 | AZ128: 162296.37 | BA128: =ROUND(((AY128+AZ128)/2),0) -> 169384 | BB128: 141267.95 | BC128: 129314.5 | BD128: =ROUND(((BB128+BC128)/2),0) -> 135291 | BE128: =H128+K128+N128+Q128+T128+W128+Z128+AC128+AF128+AI128+AL128+AO128+AR128+AU128+AX128+BA128+BD128 -> 2494698
B129: 112 | C129: CAMBIO PIVOTE HORQUILLA | D129: SERVICIO | F129: 54600 | G129: 61475.4 | H129: =ROUND(((F129+G129)/2),0) -> 58038 | I129: 54600 | J129: 61475.4 | K129: =ROUND(((I129+J129)/2),0) -> 58038 | L129: 54600 | M129: 61475.4 | N129: =ROUND(((L129+M129)/2),0) -> 58038 | O129: 54600 | P129: 61475.4 | Q129: =ROUND(((O129+P129)/2),0) -> 58038 | R129: 54600 | S129: 61475.4 | T129: =ROUND(((R129+S129)/2),0) -> 58038 | U129: 64974 | V129: 61475.4 | W129: =ROUND(((U129+V129)/2),0) -> 63225 | X129: 54600 | Y129: 61475.4 | Z129: =ROUND(((X129+Y129)/2),0) -> 58038 | AA129: 54600 | AB129: 61475.4 | AC129: =ROUND(((AA129+AB129)/2),0) -> 58038 | AD129: 54600 | AE129: 61475.4 | AF129: =ROUND(((AD129+AE129)/2),0) -> 58038 | AG129: 54600 | AH129: 61475.4 | AI129: =ROUND(((AG129+AH129)/2),0) -> 58038 | AJ129: 54600 | AK129: 61475.4 | AL129: =ROUND(((AJ129+AK129)/2),0) -> 58038 | AM129: 64974 | AN129: 61475.4 | AO129: =ROUND(((AM129+AN129)/2),0) -> 63225 | AP129: 54600 | AQ129: 49980 | AR129: =ROUND(((AP129+AQ129)/2),0) -> 52290 | AS129: 54600 | AT129: 49980 | AU129: =ROUND(((AS129+AT129)/2),0) -> 52290 | AV129: 54600 | AW129: 61475.4 | AX129: =ROUND(((AV129+AW129)/2),0) -> 58038 | AY129: 54600 | AZ129: 61475.4 | BA129: =ROUND(((AY129+AZ129)/2),0) -> 58038 | BB129: 54600 | BC129: 49980 | BD129: =ROUND(((BB129+BC129)/2),0) -> 52290 | BE129: =H129+K129+N129+Q129+T129+W129+Z129+AC129+AF129+AI129+AL129+AO129+AR129+AU129+AX129+BA129+BD129 -> 979776
B130: 113 | C130: CAMBIO PRENSA | D130: SERVICIO | F130: 156000 | G130: 175644 | H130: =ROUND(((F130+G130)/2),0) -> 165822 | I130: 156000 | J130: 175644 | K130: =ROUND(((I130+J130)/2),0) -> 165822 | L130: 156000 | M130: 175644 | N130: =ROUND(((L130+M130)/2),0) -> 165822 | O130: 156000 | P130: 175644 | Q130: =ROUND(((O130+P130)/2),0) -> 165822 | R130: 156000 | S130: 175644 | T130: =ROUND(((R130+S130)/2),0) -> 165822 | U130: 185640 | V130: 175644 | W130: =ROUND(((U130+V130)/2),0) -> 180642 | X130: 156000 | Y130: 175644 | Z130: =ROUND(((X130+Y130)/2),0) -> 165822 | AA130: 156000 | AB130: 175644 | AC130: =ROUND(((AA130+AB130)/2),0) -> 165822 | AD130: 156000 | AE130: 175644 | AF130: =ROUND(((AD130+AE130)/2),0) -> 165822 | AG130: 156000 | AH130: 175644 | AI130: =ROUND(((AG130+AH130)/2),0) -> 165822 | AJ130: 156000 | AK130: 175644 | AL130: =ROUND(((AJ130+AK130)/2),0) -> 165822 | AM130: 185640 | AN130: 175644 | AO130: =ROUND(((AM130+AN130)/2),0) -> 180642 | AP130: 156000 | AQ130: 142800 | AR130: =ROUND(((AP130+AQ130)/2),0) -> 149400 | AS130: 156000 | AT130: 142800 | AU130: =ROUND(((AS130+AT130)/2),0) -> 149400 | AV130: 156000 | AW130: 175644 | AX130: =ROUND(((AV130+AW130)/2),0) -> 165822 | AY130: 156000 | AZ130: 175644 | BA130: =ROUND(((AY130+AZ130)/2),0) -> 165822 | BB130: 156000 | BC130: 142800 | BD130: =ROUND(((BB130+BC130)/2),0) -> 149400 | BE130: =H130+K130+N130+Q130+T130+W130+Z130+AC130+AF130+AI130+AL130+AO130+AR130+AU130+AX130+BA130+BD130 -> 2799348
... B134: 117 | C134: PURGAR EMBRAGUE | D134: SERVICIO | F134: 66049.425 | G134: 74366.572 | H134: =ROUND(((F134+G134)/2),0) -> 70208 | I134: 66049.425 | J134: 74366.572 | K134: =ROUND(((I134+J134)/2),0) -> 70208 | L134: 135697.71 | M134: 152785.18 | N134: =ROUND(((L134+M134)/2),0) -> 144241 | O134: 107088.54 | P134: 120573.46 | Q134: =ROUND(((O134+P134)/2),0) -> 113831 | R134: 104941.4 | S134: 118155.94 | T134: =ROUND(((R134+S134)/2),0) -> 111549 | U134: 161446.08 | V134: 152752.83 | W134: =ROUND(((U134+V134)/2),0) -> 157099 | X134: 121102.87 | Y134: 136352.51 | Z134: =ROUND(((X134+Y134)/2),0) -> 128728 | AA134: 119253.16 | AB134: 136352.51 | AC134: =ROUND(((AA134+AB134)/2),0) -> 127803 | AD134: 119870.01 | AE134: 136352.51 | AF134: =ROUND(((AD134+AE134)/2),0) -> 128111 | AG134: 117396.7 | AH134: 136352.51 | AI134: =ROUND(((AG134+AH134)/2),0) -> 126875 | AJ134: 116157.08 | AK134: 136352.51 | AL134: =ROUND(((AJ134+AK134)/2),0) -> 126255 | AM134: 152511.77 | AN134: 136352.51 | AO134: =ROUND(((AM134+AN134)/2),0) -> 144432 | AP134: 88163.075 | AQ134: 80703.122 | AR134: =ROUND(((AP134+AQ134)/2),0) -> 84433 | AS134: 106616.18 | AT134: 97594.815 | AU134: =ROUND(((AS134+AT134)/2),0) -> 102106 | AV134: 134212.2 | AW134: 136352.51 | AX134: =ROUND(((AV134+AW134)/2),0) -> 135282 | AY134: 134212.2 | AZ134: 136352.51 | BA134: =ROUND(((AY134+AZ134)/2),0) -> 135282 | BB134: 110880.9 | BC134: 101498.67 | BD134: =ROUND(((BB134+BC134)/2),0) -> 106190 | BE134: =H134+K134+N134+Q134+T134+W134+Z134+AC134+AF134+AI134+AL134+AO134+AR134+AU134+AX134+BA134+BD134 -> 2012633
B135: MOTOR | F135: =+SUM(F136:F159) -> 3867607.1 | G135: =+SUM(G136:G176) -> 8421494.5 | H135: =+SUM(H136:H176) -> 7950570 | I135: =+SUM(I136:I176) -> 7479635.7 | J135: =+SUM(J136:J176) -> 8421494.5 | K135: =+SUM(K136:K176) -> 7950570 | L135: =+SUM(L136:L176) -> 9861452.1 | M135: =+SUM(M136:M176) -> 11103236 | N135: =+SUM(N136:N176) -> 10482353 | ... BD135: =+SUM(BD136:BD176) -> 7188089 | BE135: =H135+K135+N135+Q135+T135+W135+Z135+AC135+AF135+AI135+AL135+AO135+AR135+AU135+AX135+BA135+BD135 -> 163886609
B136: 118 | C136: CAMBIO ANILLOS | D136: SERVICIO | F136: 104000 | G136: 117096 | H136: =ROUND(((F136+G136)/2),0) -> 110548 | I136: 104000 | J136: 117096 | K136: =ROUND(((I136+J136)/2),0) -> 110548 | L136: 130000 | M136: 146370 | N136: =ROUND(((L136+M136)/2),0) -> 138185 | O136: 130000 | P136: 146370 | Q136: =ROUND(((O136+P136)/2),0) -> 138185 | R136: 130000 | S136: 146370 | T136: =ROUND(((R136+S136)/2),0) -> 138185 | U136: 154700 | V136: 146370 | W136: =ROUND(((U136+V136)/2),0) -> 150535 | X136: 130000 | Y136: 146370 | Z136: =ROUND(((X136+Y136)/2),0) -> 138185 | AA136: 130000 | AB136: 146370 | AC136: =ROUND(((AA136+AB136)/2),0) -> 138185 | AD136: 130000 | AE136: 146370 | AF136: =ROUND(((AD136+AE136)/2),0) -> 138185 | AG136: 130000 | AH136: 146370 | AI136: =ROUND(((AG136+AH136)/2),0) -> 138185 | AJ136: 130000 | AK136: 146370 | AL136: =ROUND(((AJ136+AK136)/2),0) -> 138185 | AM136: 154700 | AN136: 146370 | AO136: =ROUND(((AM136+AN136)/2),0) -> 150535 | AP136: 104000 | AQ136: 95200 | AR136: =ROUND(((AP136+AQ136)/2),0) -> 99600 | AS136: 104000 | AT136: 95200 | AU136: =ROUND(((AS136+AT136)/2),0) -> 99600 | AV136: 104000 | AW136: 146370 | AX136: =ROUND(((AV136+AW136)/2),0) -> 125185 | AY136: 130000 | AZ136: 146370 | BA136: =ROUND(((AY136+AZ136)/2),0) -> 138185 | BB136: 117000 | BC136: 107100 | BD136: =ROUND(((BB136+BC136)/2),0) -> 112050 | BE136: =H136+K136+N136+Q136+T136+W136+Z136+AC136+AF136+AI136+AL136+AO136+AR136+AU136+AX136+BA136+BD136 -> 2202266
B137: 119 | C137: CAMBIO BIELA MOTOR | D137: SERVICIO | F137: 104000 | G137: 117096 | H137: =ROUND(((F137+G137)/2),0) -> 110548 | I137: 104000 | J137: 117096 | K137: =ROUND(((I137+J137)/2),0) -> 110548 | L137: 130000 | M137: 146370 | N137: =ROUND(((L137+M137)/2),0) -> 138185 | O137: 130000 | P137: 146370 | Q137: =ROUND(((O137+P137)/2),0) -> 138185 | R137: 130000 | S137: 146370 | T137: =ROUND(((R137+S137)/2),0) -> 138185 | U137: 154700 | V137: 146370 | W137: =ROUND(((U137+V137)/2),0) -> 150535 | X137: 130000 | Y137: 146370 | Z137: =ROUND(((X137+Y137)/2),0) -> 138185 | AA137: 130000 | AB137: 146370 | AC137: =ROUND(((AA137+AB137)/2),0) -> 138185 | AD137: 130000 | AE137: 146370 | AF137: =ROUND(((AD137+AE137)/2),0) -> 138185 | AG137: 130000 | AH137: 146370 | AI137: =ROUND(((AG137+AH137)/2),0) -> 138185 | AJ137: 130000 | AK137: 146370 | AL137: =ROUND(((AJ137+AK137)/2),0) -> 138185 | AM137: 154700 | AN137: 146370 | AO137: =ROUND(((AM137+AN137)/2),0) -> 150535 | AP137: 104000 | AQ137: 95200 | AR137: =ROUND(((AP137+AQ137)/2),0) -> 99600 | AS137: 104000 | AT137: 95200 | AU137: =ROUND(((AS137+AT137)/2),0) -> 99600 | AV137: 104000 | AW137: 146370 | AX137: =ROUND(((AV137+AW137)/2),0) -> 125185 | AY137: 130000 | AZ137: 146370 | BA137: =ROUND(((AY137+AZ137)/2),0) -> 138185 | BB137: 117000 | BC137: 107100 | BD137: =ROUND(((BB137+BC137)/2),0) -> 112050 | BE137: =H137+K137+N137+Q137+T137+W137+Z137+AC137+AF137+AI137+AL137+AO137+AR137+AU137+AX137+BA137+BD137 -> 2202266
B138: 120 | C138: CAMBIO BOMBA DE ACEITE | D138: SERVICIO | F138: 156000 | G138: 175644 | H138: =ROUND(((F138+G138)/2),0) -> 165822 | I138: 156000 | J138: 175644 | K138: =ROUND(((I138+J138)/2),0) -> 165822 | L138: 182000 | M138: 204918 | N138: =ROUND(((L138+M138)/2),0) -> 193459 | O138: 182000 | P138: 204918 | Q138: =ROUND(((O138+P138)/2),0) -> 193459 | R138: 182000 | S138: 204918 | T138: =ROUND(((R138+S138)/2),0) -> 193459 | U138: 216580 | V138: 204918 | W138: =ROUND(((U138+V138)/2),0) -> 210749 | X138: 182000 | Y138: 204918 | Z138: =ROUND(((X138+Y138)/2),0) -> 193459 | AA138: 182000 | AB138: 204918 | AC138: =ROUND(((AA138+AB138)/2),0) -> 193459 | AD138: 182000 | AE138: 204918 | AF138: =ROUND(((AD138+AE138)/2),0) -> 193459 | AG138: 182000 | AH138: 204918 | AI138: =ROUND(((AG138+AH138)/2),0) -> 193459 | AJ138: 182000 | AK138: 204918 | AL138: =ROUND(((AJ138+AK138)/2),0) -> 193459 | AM138: 216580 | AN138: 204918 | AO138: =ROUND(((AM138+AN138)/2),0) -> 210749 | AP138: 156000 | AQ138: 142800 | AR138: =ROUND(((AP138+AQ138)/2),0) -> 149400 | AS138: 156000 | AT138: 142800 | AU138: =ROUND(((AS138+AT138)/2),0) -> 149400 | AV138: 156000 | AW138: 204918 | AX138: =ROUND(((AV138+AW138)/2),0) -> 180459 | AY138: 182000 | AZ138: 204918 | BA138: =ROUND(((AY138+AZ138)/2),0) -> 193459 | BB138: 156000 | BC138: 142800 | BD138: =ROUND(((BB138+BC138)/2),0) -> 149400 | BE138: =H138+K138+N138+Q138+T138+W138+Z138+AC138+AF138+AI138+AL138+AO138+AR138+AU138+AX138+BA138+BD138 -> 3122932
...

Sheet ESTUDIO DE MERCADO 2024
F1: FORMATO OFERTA ECONÓMICA
F3: OFERTA MANTENIMIENTO VEHICULOS
B4: ITEM | C4: SERVICIO MANTENIMIENTO PREVENTIVO INCLUIDO MANO DE OBRA, INSUMOS, HERRAMIENTAS MAYORES Y MENORES | D4: UNIDAD DE MEDIDA | F4: CAMPERO CHEVROLET VITARA MODELO 2006 | I4: CAMPERO CHEVROLET VITARA MODELO 2012 | L4: BUS CHEVROLET B70 MODELO 2005 | O4: CAMIÓN CHEVROLET NPR MODELO 2008 | R4: CAMIÓN CHEVROLET NHR MODELO 2008 | U4: CAMIÓN CHEVROLET NNR MODELO 2010 | X4: VOLQUETA INTERNATIONAL 4700 MODELO 1995 | AA4: CAMIONETA DOBLE CABINA NISSAN MODELO 2013 | AD4: BUS CHEVROLET MODELO 2013 | AG4: BUS CHEVROLET MODELO 2014 | AJ4: VAN HIUNDAY STAREX PANEL MODELO 2006
F5: CENTRO CAR 19 LTDA. | G5: DORADAUTOS S.A.S. | H5: VALOR DE REFERENCIA | I5: CENTRO CAR 19 LTDA. | J5: DORADAUTOS S.A.S. | K5: VALOR DE REFERENCIA | L5: CENTRO CAR 19 LTDA. | M5: DORADAUTOS S.A.S. | N5: VALOR DE REFERENCIA | O5: CENTRO CAR 19 LTDA. | P5: DORADAUTOS S.A.S. | Q5: VALOR DE REFERENCIA | R5: CENTRO CAR 19 LTDA. | S5: DORADAUTOS S.A.S. | T5: VALOR DE REFERENCIA | U5: CENTRO CAR 19 LTDA. | V5: DORADAUTOS S.A.S. | W5: VALOR DE REFERENCIA | X5: CENTRO CAR 19 LTDA. | Y5: DORADAUTOS S.A.S. | Z5: VALOR DE REFERENCIA | AA5: CENTRO CAR 19 LTDA. | AB5: DORADAUTOS S.A.S. | AC5: VALOR DE REFERENCIA | AD5: CENTRO CAR 19 LTDA. | AE5: DORADAUTOS S.A.S. | AF5: VALOR DE REFERENCIA | AG5: CENTRO CAR 19 LTDA. | AH5: DORADAUTOS S.A.S. | AI5: VALOR DE REFERENCIA | AJ5: CENTRO CAR 19 LTDA. | AK5: DORADAUTOS S.A.S. | AL5: VALOR DE REFERENCIA
A6: MANTENIMIENTO PREVENTIVO (SOLO VALOR MANO DE OBRA INCLUIDO IVA) | B6: 1 | C6: CAMBIO DE ACEITE, INCLUYE FILTRO DE ACEITE, FILTRO DE COMBUSTIBLE Y AIRE (INCLUYE MANO DE OBRA E INSUMOS) | D6: SERVICIO | F6: 434461.72 | G6: 411067.63 | H6: =ROUND(((F6+G6)/2),0) -> 422765 | I6: 434461.72 | J6: 411067.63 | K6: =ROUND(((I6+J6)/2),0) -> 422765 | L6: 1577159.1 | M6: 1492235.1 | N6: =ROUND(((L6+M6)/2),0) -> 1534697 | O6: 1666634.2 | P6: 1614855.7 | Q6: =ROUND(((O6+P6)/2),0) -> 1640745 | R6: 1643800.8 | S6: 1614855.7 | T6: =ROUND(((R6+S6)/2),0) -> 1629328 | U6: 1540166.5 | V6: 1614855.7 | W6: 1577511 | X6: 2215987.8 | Y6: 1865231.7 | Z6: =ROUND(((X6+Y6)/2),0) -> 2040610 | AA6: 648617.97 | AB6: 498936.9 | AC6: =ROUND(((AA6+AB6)/2),0) -> 573777 | AD6: 1871151.5 | AE6: 1865231.7 | AF6: =ROUND(((AD6+AE6)/2),0) -> 1868192 | AG6: 1863197.6 | AH6: 1865231.7 | AI6: =ROUND(((AG6+AH6)/2),0) -> 1864215 | AJ6: 623217.15 | AK6: 479397.81 | AL6: =ROUND(((AJ6+AK6)/2),0) -> 551307
B7: 2 | C7: ALINEACIÓN | D7: SERVICIO | F7: 68575.445 | G7: 64882.921 | H7: =ROUND(((F7+G7)/2),0) -> 66729 | I7: 68575.445 | J7: 64882.921 | K7: =ROUND(((I7+J7)/2),0) -> 66729 | L7: 116597.09 | M7: 110318.78 | N7: =ROUND(((L7+M7)/2),0) -> 113458 | O7: 153860.51 | P7: 145575.71 | Q7: =ROUND(((O7+P7)/2),0) -> 149718 | R7: 153860.51 | S7: 145575.71 | T7: =ROUND(((R7+S7)/2),0) -> 149718 | U7: 153860.51 | V7: 145575.71 | W7: 149718 | X7: 160345.06 | Y7: 145575.71 | Z7: =ROUND(((X7+Y7)/2),0) -> 152960 | AA7: 91968.488 | AB7: 70744.991 | AC7: =ROUND(((AA7+AB7)/2),0) -> 81357 | AD7: 153860.51 | AE7: 145575.71 | AF7: =ROUND(((AD7+AE7)/2),0) -> 149718 | AG7: 153860.51 | AH7: 145575.71 | AI7: =ROUND(((AG7+AH7)/2),0) -> 149718 | AJ7: 115122.46 | AK7: 88555.738 | AL7: =ROUND(((AJ7+AK7)/2),0) -> 101839
B8: 3 | C8: BALANCEO Y ROTACIÓN X 4 | D8: SERVICIO | F8: 73644.608 | G8: 69679.129 | H8: =ROUND(((F8+G8)/2),0) -> 71662 | I8: 73644.608 | J8: 69679.129 | K8: =ROUND(((I8+J8)/2),0) -> 71662 | L8: 212138.95 | M8: 200716.09 | N8: =ROUND(((L8+M8)/2),0) -> 206428 | O8: 276572.96 | P8: 256162.73 | Q8: =ROUND(((O8+P8)/2),0) -> 266368 | R8: 277306.04 | S8: 256162.73 | T8: =ROUND(((R8+S8)/2),0) -> 266734 | U8: 269278.1 | V8: 256162.73 | W8: 262720 | X8: 286269.11 | Y8: 256162.73 | Z8: =ROUND(((X8+Y8)/2),0) -> 271216 | AA8: 98901.562 | AB8: 76078.125 | AC8: =ROUND(((AA8+AB8)/2),0) -> 87490 | AD8: 270741.1 | AE8: 256162.73 | AF8: =ROUND(((AD8+AE8)/2),0) -> 263452 | AG8: 276572.96 | AH8: 256162.73 | AI8: =ROUND(((AG8+AH8)/2),0) -> 266368 | AJ8: 123631.71 | AK8: 95101.318 | AL8: =ROUND(((AJ8+AK8)/2),0) -> 109367
B9: 4 | C9: DESPINCHE | D9: SERVICIO | F9: 32548.88 | G9: 30796.248 | H9: =ROUND(((F9+G9)/2),0) -> 31673 | I9: 32548.88 | J9: 30796.248 | K9: =ROUND(((I9+J9)/2),0) -> 31673 | L9: 48823.32 | M9: 46194.372 | N9: =ROUND(((L9+M9)/2),0) -> 47509 | O9: 48823.32 | P9: 46194.372 | Q9: =ROUND(((O9+P9)/2),0) -> 47509 | R9: 48823.32 | S9: 46194.372 | T9: =ROUND(((R9+S9)/2),0) -> 47509 | U9: 48823.32 | V9: 46194.372 | W9: 47509 | X9: 48823.32 | Y9: 46194.372 | Z9: =ROUND(((X9+Y9)/2),0) -> 47509 | AA9: 32548.88 | AB9: 25037.6 | AC9: =ROUND(((AA9+AB9)/2),0) -> 28793 | AD9: 48823.32 | AE9: 46194.372 | AF9: =ROUND(((AD9+AE9)/2),0) -> 47509 | AG9: 48823.32 | AH9: 46194.372 | AI9: =ROUND(((AG9+AH9)/2),0) -> 47509 | AJ9: 40686.1 | AK9: 31297 | AL9: =ROUND(((AJ9+AK9)/2),0) -> 35992
B10: 5 | C10: ENGRASE GENERAL | D10: SERVICIO | F10: 115393.27 | G10: 109179.78 | H10: =ROUND(((F10+G10)/2),0) -> 112287 | I10: 115393.27 | J10: 109179.78 | K10: =ROUND(((I10+J10)/2),0) -> 112287 | L10: 267184.64 | M10: 252797.78 | N10: =ROUND(((L10+M10)/2),0) -> 259991 | O10: 255714.5 | P10: 237789.61 | Q10: =ROUND(((O10+P10)/2),0) -> 246752 | R10: 256083.68 | S10: 237789.61 | T10: =ROUND(((R10+S10)/2),0) -> 246937 | U10: 246921.74 | V10: 237789.61 | W10: 242356 | X10: 262083.74 | Y10: 237789.61 | Z10: =ROUND(((X10+Y10)/2),0) -> 249937 | AA10: 67715.422 | AB10: 52088.786 | AC10: =ROUND(((AA10+AB10)/2),0) -> 59902 | AD10: 255714.5 | AE10: 237789.61 | AF10: =ROUND(((AD10+AE10)/2),0) -> 246752 | AG10: 255714.5 | AH10: 237789.61 | AI10: =ROUND(((AG10+AH10)/2),0) -> 246752 | AJ10: 87087.621 | AK10: 66990.477 | AL10: =ROUND(((AJ10+AK10)/2),0) -> 77039
B11: 6 | C11: GRADUACIÓN DE FRENOS | D11: SERVICIO | F11: 81372.2 | G11: 76990.62 | H11: =ROUND(((F11+G11)/2),0) -> 79181 | I11: 81372.2 | J11: 76990.62 | K11: =ROUND(((I11+J11)/2),0) -> 79181 | L11: 130195.52 | M11: 123184.99 | N11: =ROUND(((L11+M11)/2),0) -> 126690 | O11: 130195.52 | P11: 123184.99 | Q11: =ROUND(((O11+P11)/2),0) -> 126690 | R11: 130195.52 | S11: 123184.99 | T11: =ROUND(((R11+S11)/2),0) -> 126690 | U11: 130195.52 | V11: 123184.99 | W11: 126690 | X11: 130195.52 | Y11: 123184.99 | Z11: =ROUND(((X11+Y11)/2),0) -> 126690 | AA11: 130195.52 | AB11: 100150.4 | AC11: =ROUND(((AA11+AB11)/2),0) -> 115173 | AD11: 130195.52 | AE11: 123184.99 | AF11: =ROUND(((AD11+AE11)/2),0) -> 126690 | AG11: 130195.52 | AH11: 123184.99 | AI11: =ROUND(((AG11+AH11)/2),0) -> 126690 | AJ11: 81372.2 | AK11: 62594 | AL11: =ROUND(((AJ11+AK11)/2),0) -> 71983
B12: 7 | C12: LAVADO (ENJUAGUE) | D12: SERVICIO | F12: 33235.173 | G12: 31445.587 | H12: =ROUND(((F12+G12)/2),0) -> 32340 | I12: 33235.173 | J12: 31445.587 | K12: =ROUND(((I12+J12)/2),0) -> 32340 | L12: 76277.568 | M12: 72170.314 | N12: =ROUND(((L12+M12)/2),0) -> 74224 | O12: 100387.83 | P12: 94447.858 | Q12: =ROUND(((O12+P12)/2),0) -> 97418 | R12: 99959.401 | S12: 94447.858 | T12: =ROUND(((R12+S12)/2),0) -> 97204 | U12: 99258.054 | V12: 94447.858 | W12: 96853 | X12: 103176.29 | Y12: 94447.858 | Z12: =ROUND(((X12+Y12)/2),0) -> 98812 | AA12: 43644.305 | AB12: 33572.542 | AC12: =ROUND(((AA12+AB12)/2),0) -> 38608 | AD12: 98126.166 | AE12: 94447.858 | AF12: =ROUND(((AD12+AE12)/2),0) -> 96287 | AG12: 100387.83 | AH12: 94447.858 | AI12: =ROUND(((AG12+AH12)/2),0) -> 97418 | AJ12: 55793.581 | AK12: 42918.139 | AL12: =ROUND(((AJ12+AK12)/2),0) -> 49356
B13: 8 | C13: LAVADO GENERAL INCLUIDO MOTOR | D13: SERVICIO | F13: 54917.691 | G13: 51960.584 | H13: =ROUND(((F13+G13)/2),0) -> 53439 | I13: 54917.691 | J13: 51960.584 | K13: =ROUND(((I13+J13)/2),0) -> 53439 | L13: 119762.14 | M13: 113313.41 | N13: =ROUND(((L13+M13)/2),0) -> 116538 | O13: 160360.93 | P13: 147754.62 | Q13: =ROUND(((O13+P13)/2),0) -> 154058 | R13: 160572.49 | S13: 147754.62 | T13: =ROUND(((R13+S13)/2),0) -> 154164 | U13: 159523.12 | V13: 147754.62 | W13: 153639 | X13: 166958.67 | Y13: 147754.62 | Z13: =ROUND(((X13+Y13)/2),0) -> 157357 | AA13: 74560.696 | AB13: 57354.381 | AC13: =ROUND(((AA13+AB13)/2),0) -> 65958 | AD13: 160360.93 | AE13: 147754.62 | AF13: =ROUND(((AD13+AE13)/2),0) -> 154058 | AG13: 158684.25 | AH13: 147754.62 | AI13: =ROUND(((AG13+AH13)/2),0) -> 153219 | AJ13: 92192.75 | AK13: 70917.5 | AL13: =ROUND(((AJ13+AK13)/2),0) -> 81555
B14: 9 | C14: REPARACIÓN DE LLANTA | D14: SERVICIO | F14: 48823.32 | G14: 46194.372 | H14: =ROUND(((F14+G14)/2),0) -> 47509 | I14: 48823.32 | J14: 46194.372 | K14: =ROUND(((I14+J14)/2),0) -> 47509 | L14: 65097.76 | M14: 61592.496 | N14: =ROUND(((L14+M14)/2),0) -> 63345 | O14: 65097.76 | P14: 61592.496 | Q14: =ROUND(((O14+P14)/2),0) -> 63345 | R14: 65097.76 | S14: 61592.496 | T14: =ROUND(((R14+S14)/2),0) -> 63345 | U14: 65097.76 | V14: 61592.496 | W14: 63345 | X14: 65097.76 | Y14: 61592.496 | Z14: =ROUND(((X14+Y14)/2),0) -> 63345 | AA14: 48823.32 | AB14: 37556.4 | AC14: =ROUND(((AA14+AB14)/2),0) -> 43190 | AD14: 65097.76 | AE14: 61592.496 | AF14: =ROUND(((AD14+AE14)/2),0) -> 63345 | AG14: 65097.76 | AH14: 61592.496 | AI14: =ROUND(((AG14+AH14)/2),0) -> 63345 | AJ14: 56960.54 | AK14: 43815.8 | AL14: =ROUND(((AJ14+AK14)/2),0) -> 50388
B15: 10 | C15: REVISIÓN DIRECCIÓN | D15: SERVICIO | F15: 115934.88 | G15: 109692.23 | H15: =ROUND(((F15+G15)/2),0) -> 112814 | I15: 115934.88 | J15: 109692.23 | K15: =ROUND(((I15+J15)/2),0) -> 112814 | L15: 166491.1 | M15: 157526.2 | N15: =ROUND(((L15+M15)/2),0) -> 162009 | O15: 222552.32 | P15: 211715.74 | Q15: =ROUND(((O15+P15)/2),0) -> 217134 | R15: 222858.03 | S15: 211715.74 | T15: =ROUND(((R15+S15)/2),0) -> 217287 | U15: 227392.99 | V15: 211715.74 | W15: 219554 | X15: 235233.69 | Y15: 211715.74 | Z15: =ROUND(((X15+Y15)/2),0) -> 223475 | AA15: 151714.15 | AB15: 116703.2 | AC15: =ROUND(((AA15+AB15)/2),0) -> 134209 | AD15: 222552.32 | AE15: 211715.74 | AF15: =ROUND(((AD15+AE15)/2),0) -> 217134 | AG15: 224975.82 | AH15: 211715.74 | AI15: =ROUND(((AG15+AH15)/2),0) -> 218346 | AJ15: 194627.49 | AK15: 149713.46 | AL15: =ROUND(((AJ15+AK15)/2),0) -> 172170
B16: 11 | C16: REVISIÓN FRENOS DELANTEROS / TRASEROS ( BANDAS) | D16: SERVICIO | F16: 243535.6 | G16: 230422.15 | H16: =ROUND(((F16+G16)/2),0) -> 236979 | I16: 243535.6 | J16: 230422.15 | K16: =ROUND(((I16+J16)/2),0) -> 236979 | L16: 299035.1 | M16: 282933.21 | N16: =ROUND(((L16+M16)/2),0) -> 290984 | O16: 268043.61 | P16: 259947.05 | Q16: =ROUND(((O16+P16)/2),0) -> 263995 | R16: 269735.09 | S16: 259947.05 | T16: =ROUND(((R16+S16)/2),0) -> 264841 | U16: 276074.72 | V16: 259947.05 | W16: 268011 | X16: 294202.9 | Y16: 259947.05 | Z16: =ROUND(((X16+Y16)/2),0) -> 277075 | AA16: 185996.59 | AB16: 143074.3 | AC16: =ROUND(((AA16+AB16)/2),0) -> 164535 | AD16: 268043.61 | AE16: 259947.05 | AF16: =ROUND(((AD16+AE16)/2),0) -> 263995 | AG16: 277406.54 | AH16: 259947.05 | AI16: =ROUND(((AG16+AH16)/2),0) -> 268677 | AJ16: 238704.45 | AK16: 183618.81 | AL16: =ROUND(((AJ16+AK16)/2),0) -> 211162
B17: 12 | C17: REVISIÓN GENERAL DE LUCES | D17: SERVICIO | F17: 73234.98 | G17: 69291.558 | H17: =ROUND(((F17+G17)/2),0) -> 71263 | I17: 73234.98 | J17: 69291.558 | K17: =ROUND(((I17+J17)/2),0) -> 71263 | L17: 73234.98 | M17: 69291.558 | N17: =ROUND(((L17+M17)/2),0) -> 71263 | O17: 73234.98 | P17: 69291.558 | Q17: =ROUND(((O17+P17)/2),0) -> 71263 | R17: 73234.98 | S17: 69291.558 | T17: =ROUND(((R17+S17)/2),0) -> 71263 | U17: 73234.98 | V17: 69291.558 | W17: 71263 | X17: 73234.98 | Y17: 69291.558 | Z17: =ROUND(((X17+Y17)/2),0) -> 71263 | AA17: 73234.98 | AB17: 56334.6 | AC17: =ROUND(((AA17+AB17)/2),0) -> 64785 | AD17: 73234.98 | AE17: 69291.558 | AF17: =ROUND(((AD17+AE17)/2),0) -> 71263 | AG17: 73234.98 | AH17: 69291.558 | AI17: =ROUND(((AG17+AH17)/2),0) -> 71263 | AJ17: 73234.98 | AK17: 56334.6 | AL17: =ROUND(((AJ17+AK17)/2),0) -> 64785
B18: 13 | C18: REVISIÓN Y MANTENIMIENTO SEL SISTEMA DE AIRE ACONDICIONADO | D18: SERVICIO | F18: 457880.15 | G18: 433225.06 | H18: =ROUND(((F18+G18)/2),0) -> 445553 | I18: 457880.15 | J18: 433225.06 | K18: =ROUND(((I18+J18)/2),0) -> 445553 | L18: 391382.3 | M18: 370307.87 | N18: =ROUND(((L18+M18)/2),0) -> 380845 | O18: 509057.32 | P18: 496657.71 | Q18: =ROUND(((O18+P18)/2),0) -> 502858 | R18: 513064.42 | S18: 496657.71 | T18: =ROUND(((R18+S18)/2),0) -> 504861 | U18: 514358.15 | V18: 496657.71 | W18: 505508 | X18: 547277.03 | Y18: 496657.71 | Z18: =ROUND(((X18+Y18)/2),0) -> 521967 | AA18: 460442.23 | AB18: 354186.33 | AC18: =ROUND(((AA18+AB18)/2),0) -> 407314 | AD18: 509057.32 | AE18: 496657.71 | AF18: =ROUND(((AD18+AE18)/2),0) -> 502858 | AG18: 522286.65 | AH18: 496657.71 | AI18: =ROUND(((AG18+AH18)/2),0) -> 509472 | AJ18: 578155.34 | AK18: 444734.88 | AL18: =ROUND(((AJ18+AK18)/2),0) -> 511445
... B21: 16 | C21: SINCRONIZACIÓN MOTOR | D21: SERVICIO | F21: 406036.54 | G21: 384173.03 | H21: =ROUND(((F21+G21)/2),0) -> 395105 | I21: 406036.54 | J21: 384173.03 | K21: =ROUND(((I21+J21)/2),0) -> 395105 | L21: 503039.28 | M21: 475952.55 | N21: =ROUND(((L21+M21)/2),0) -> 489496 | O21: 660203.42 | P21: 631120.68 | Q21: =ROUND(((O21+P21)/2),0) -> 645662 | R21: 661929.81 | S21: 631120.68 | T21: =ROUND(((R21+S21)/2),0) -> 646525 | U21: 649922.28 | V21: 631120.68 | W21: 640521 | X21: 686195.57 | Y21: 631120.68 | Z21: =ROUND(((X21+Y21)/2),0) -> 658658 | AA21: 390155.21 | AB21: 300119.39 | AC21: =ROUND(((AA21+AB21)/2),0) -> 345137 | AD21: 442449.46 | AE21: 631120.68 | AF21: =ROUND(((AD21+AE21)/2),0) -> 536785 | AG21: 440313.68 | AH21: 631120.68 | AI21: =ROUND(((AG21+AH21)/2),0) -> 535717 | AJ21: 481404.36 | AK21: 370311.05 | AL21: =ROUND(((AJ21+AK21)/2),0) -> 425858
B22: SUB TOTAL MANTENIMIENTO PREVENTIVO | F22: 3085865.3 | G22: 2919703.3 | H22: =ROUND(((F22+G22)/2),0) -> 3002784 | I22: 3085865.3 | J22: 2919703.3 | K22: =ROUND(((I22+J22)/2),0) -> 3002784 | L22: 4892689.7 | M22: 4629237.2 | N22: =ROUND(((L22+M22)/2),0) -> 4760963 | O22: 5437010.1 | P22: 5196993.3 | Q22: =ROUND(((O22+P22)/2),0) -> 5317002 | R22: 5422792.7 | S22: 5196993.3 | T22: =ROUND(((R22+S22)/2),0) -> 5309893 | U22: 5300378.6 | V22: 5196993.3 | W22: 5248686 | X22: 6121352.3 | Y22: 5447369.3 | Z22: =ROUND(((X22+Y22)/2),0) -> 5784361 | AA22: 3344790.2 | AB22: 2572915.5 | AC22: =ROUND(((AA22+AB22)/2),0) -> 2958853 | AD22: 5415679.8 | AE22: 5447369.3 | AF22: =ROUND(((AD22+AE22)/2),0) -> 5431525 | AG22: 5437022.8 | AH22: 5447369.3 | AI22: =ROUND(((AG22+AH22)/2),0) -> 5442196 | AJ22: 3688461.6 | AK22: 2837278.2 | AL22: =ROUND(((AJ22+AK22)/2),0) -> 3262870 | AM22: =+AL22+H22+K22+#REF!+N22+#REF!+#REF!+#REF!+#REF!+Q22+T22+W22+Z22+AC22+#REF!+AF22+AI22 -> #REF!
F25: FORMATO OFERTA ECONOMICA
F27: OFERTA MANTENIMIENTO CORRECTIVO PARQUE AUTOMOTOR
B28: ITEM | C28: SERVICIO MANTENIMIENTO CORRECTIVO INCLUIDO MANO DE OBRA, HERRAMIENTAS MAYORES Y MENORES | D28: UNIDAD DE MEDIDA | F28: CAMPERO CHEVROLET VITARA MODELO 2006 | I28: CAMPERO CHEVROLET VITARA MODELO 2012 | L28: BUS CHEVROLET B70 MODELO 2005 | O28: CAMIÓN CHEVROLET NPR MODELO 2008 | R28: CAMIÓN CHEVROLET NHR MODELO 2008 | U28: CAMIÓN CHEVROLET NNR MODELO 2010 | X28: VOLQUETA INTERNATIONAL 4700 MODELO 1995 | AA28: CAMIONETA DOBLE CABINA NISSAN MODELO 2013 | AD28: BUS CHEVROLET MODELO 2013 | AG28: BUS CHEVROLET MODELO 2014 | AJ28: VAN HIUNDAY STAREX PANEL MODELO 2006
F29: CENTRO CAR 19 LTDA. | G29: DORADAUTOS S.A.S. | H29: VALOR DE REFERENCIA | I29: CENTRO CAR 19 LTDA. | J29: DORADAUTOS S.A.S. | K29: VALOR DE REFERENCIA | L29: CENTRO CAR 19 LTDA. | M29: DORADAUTOS S.A.S. | N29: VALOR DE REFERENCIA | O29: CENTRO CAR 19 LTDA. | P29: DORADAUTOS S.A.S. | Q29: VALOR DE REFERENCIA | R29: CENTRO CAR 19 LTDA. | S29: DORADAUTOS S.A.S. | T29: VALOR DE REFERENCIA | U29: CENTRO CAR 19 LTDA. | V29: DORADAUTOS S.A.S. | W29: VALOR DE REFERENCIA | X29: CENTRO CAR 19 LTDA. | Y29: DORADAUTOS S.A.S. | Z29: VALOR DE REFERENCIA | AA29: CENTRO CAR 19 LTDA. | AB29: DORADAUTOS S.A.S. | AC29: VALOR DE REFERENCIA | AD29: CENTRO CAR 19 LTDA. | AE29: DORADAUTOS S.A.S. | AF29: VALOR DE REFERENCIA | AG29: CENTRO CAR 19 LTDA. | AH29: DORADAUTOS S.A.S. | AI29: VALOR DE REFERENCIA | AJ29: CENTRO CAR 19 LTDA. | AK29: DORADAUTOS S.A.S. | AL29: VALOR DE REFERENCIA
A30: MANTENIMIENTO CORRECTIVO ( SOLO VALOR DE MANO DE OBRA INCLUIDO IVA | B30: ELÉCTRICO | F30: 5524039.7 | G30: 6219643.7 | H30: =ROUND(((F30+G30)/2),0) -> 5871842 | I30: 5524039.7 | J30: 6219643.7 | K30: =ROUND(((I30+J30)/2),0) -> 5871842 | L30: 8244913.2 | M30: 9283138.1 | N30: =ROUND(((L30+M30)/2),0) -> 8764026 | O30: 8805624.6 | P30: 9934395.4 | Q30: =ROUND(((O30+P30)/2),0) -> 9370010 | R30: 8802865.3 | S30: 9934395.4 | T30: =ROUND(((R30+S30)/2),0) -> 9368630 | U30: 8838857.6 | V30: 9934395.4 | W30: 9386627 | X30: 11662641 | Y30: 9934395.4 | Z30: =ROUND(((X30+Y30)/2),0) -> 10798518 | AA30: 6711335.3 | AB30: 6143453.1 | AC30: =ROUND(((AA30+AB30)/2),0) -> 6427394 | AD30: 9947499.1 | AE30: 9934395.4 | AF30: =ROUND(((AD30+AE30)/2),0) -> 9940947 | AG30: 9954474.6 | AH30: 9934395.4 | AI30: =ROUND(((AG30+AH30)/2),0) -> 9944435 | AJ30: 7950434.4 | AK30: 7277705.3 | AL30: =ROUND(((AJ30+AK30)/2),0) -> 7614070 | AM30: =H30+K30+#REF!+N30+#REF!+#REF!+#REF!+#REF!+Q30+T30+W30+Z30+AC30+#REF!+AF30+AI30+AL30 -> #REF!
B31: 17 | C31: CAMBIO ALTERNADOR SISTEMA DE CARGA | D31: SERVICIO | F31: 191464 | G31: 215573.74 | H31: =ROUND(((F31+G31)/2),0) -> 203519 | I31: 191464 | J31: 215573.74 | K31: =ROUND(((I31+J31)/2),0) -> 203519 | L31: 273520 | M31: 307962.48 | N31: =ROUND(((L31+M31)/2),0) -> 290741 | O31: 273520 | P31: 307962.48 | Q31: =ROUND(((O31+P31)/2),0) -> 290741 | R31: 273520 | S31: 307962.48 | T31: =ROUND(((R31+S31)/2),0) -> 290741 | U31: 273520 | V31: 307962.48 | W31: 290741 | X31: 325488.8 | Y31: 307962.48 | Z31: =ROUND(((X31+Y31)/2),0) -> 316726 | AA31: 273520 | AB31: 250376 | AC31: =ROUND(((AA31+AB31)/2),0) -> 261948 | AD31: 273520 | AE31: 307962.48 | AF31: =ROUND(((AD31+AE31)/2),0) -> 290741 | AG31: 273520 | AH31: 307962.48 | AI31: =ROUND(((AG31+AH31)/2),0) -> 290741 | AJ31: 191464 | AK31: 175263.2 | AL31: =ROUND(((AJ31+AK31)/2),0) -> 183364 | AM31: =H31+K31+#REF!+N31+#REF!+#REF!+#REF!+#REF!+Q31+T31+W31+Z31+AC31+#REF!+AF31+AI31+AL31 -> #REF!
B32: 18 | C32: CAMBIO AUTOMATICO DEL ARRANQUE | D32: SERVICIO | F32: 119874.45 | G32: 134969.41 | H32: =ROUND(((F32+G32)/2),0) -> 127422 | I32: 119874.45 | J32: 134969.41 | K32: =ROUND(((I32+J32)/2),0) -> 127422 | L32: 207788.84 | M32: 233954.25 | N32: =ROUND(((L32+M32)/2),0) -> 220872 | O32: 234591.27 | P32: 250756.99 | Q32: =ROUND(((O32+P32)/2),0) -> 242674 | R32: 232593.82 | S32: 250756.99 | T32: =ROUND(((R32+S32)/2),0) -> 241675 | U32: 221386.06 | V32: 250756.99 | W32: 236072 | X32: 327055.13 | Y32: 250756.99 | Z32: =ROUND(((X32+Y32)/2),0) -> 288906 | AA32: 157898.86 | AB32: 144538.18 | AC32: =ROUND(((AA32+AB32)/2),0) -> 151219 | AD32: 278382.23 | AE32: 250756.99 | AF32: =ROUND(((AD32+AE32)/2),0) -> 264570 | AG32: 268804.79 | AH32: 250756.99 | AI32: =ROUND(((AG32+AH32)/2),0) -> 259781 | AJ32: 201240.02 | AK32: 184212.01 | AL32: =ROUND(((AJ32+AK32)/2),0) -> 192726 | AM32: =H32+K32+#REF!+N32+#REF!+#REF!+#REF!+#REF!+Q32+T32+W32+Z32+AC32+#REF!+AF32+AI32+AL32 -> #REF!
B33: 19 | C33: CAMBIO BÉNDIX DEL ARRANQUE | D33: SERVICIO | F33: 113123.84 | G33: 127368.74 | H33: =ROUND(((F33+G33)/2),0) -> 120246 | I33: 113123.84 | J33: 127368.74 | K33: =ROUND(((I33+J33)/2),0) -> 120246 | L33: 197248.67 | M33: 222086.83 | N33: =ROUND(((L33+M33)/2),0) -> 209668 | O33: 221163.83 | P33: 244637.62 | Q33: =ROUND(((O33+P33)/2),0) -> 232901 | R33: 220509.57 | S33: 244637.62 | T33: =ROUND(((R33+S33)/2),0) -> 232574 | U33: 227621.09 | V33: 244637.62 | W33: 236129 | X33: 308349.37 | Y33: 244637.62 | Z33: =ROUND(((X33+Y33)/2),0) -> 276493 | AA33: 149973.96 | AB33: 137283.85 | AC33: =ROUND(((AA33+AB33)/2),0) -> 143629 | AD33: 262882.67 | AE33: 244637.62 | AF33: =ROUND(((AD33+AE33)/2),0) -> 253760 | AG33: 251871.37 | AH33: 244637.62 | AI33: =ROUND(((AG33+AH33)/2),0) -> 248254 | AJ33: 189908.7 | AK33: 173839.5 | AL33: =ROUND(((AJ33+AK33)/2),0) -> 181874 | AM33: =H33+K33+#REF!+N33+#REF!+#REF!+#REF!+#REF!+Q33+T33+W33+Z33+AC33+#REF!+AF33+AI33+AL33 -> #REF!
B34: 20 | C34: CAMBIO BOBINA | D34: SERVICIO | F34: 119147.3 | G34: 134150.69 | H34: =ROUND(((F34+G34)/2),0) -> 126649 | I34: 119147.3 | J34: 134150.69 | K34: =ROUND(((I34+J34)/2),0) -> 126649 | L34: 206570.1 | M34: 232582.04 | N34: =ROUND(((L34+M34)/2),0) -> 219576 | O34: 233641.88 | P34: 255529.17 | Q34: =ROUND(((O34+P34)/2),0) -> 244586 | R34: 234651.71 | S34: 255529.17 | T34: =ROUND(((R34+S34)/2),0) -> 245090 | U34: 240300.93 | V34: 255529.17 | W34: 247915 | X34: 333151.46 | Y34: 255529.17 | Z34: =ROUND(((X34+Y34)/2),0) -> 294340 | AA34: 156661.45 | AB34: 143405.48 | AC34: =ROUND(((AA34+AB34)/2),0) -> 150033 | AD34: 278023.1 | AE34: 255529.17 | AF34: =ROUND(((AD34+AE34)/2),0) -> 266776 | AG34: 289318.86 | AH34: 255529.17 | AI34: =ROUND(((AG34+AH34)/2),0) -> 272424 | AJ34: 200020.39 | AK34: 183095.59 | AL34: =ROUND(((AJ34+AK34)/2),0) -> 191558 | AM34: =H34+K34+#REF!+N34+#REF!+#REF!+#REF!+#REF!+Q34+T34+W34+Z34+AC34+#REF!+AF34+AI34+AL34 -> #REF!
B35: 21 | C35: CAMBIO BUJES ARRANQUE | D35: SERVICIO | F35: 109384.96 | G35: 123159.05 | H35: =ROUND(((F35+G35)/2),0) -> 116272 | I35: 109384.96 | J35: 123159.05 | K35: =ROUND(((I35+J35)/2),0) -> 116272 | L35: 192086.6 | M35: 216274.74 | N35: =ROUND(((L35+M35)/2),0) -> 204181 | O35: 207869.73 | P35: 249900.23 | Q35: =ROUND(((O35+P35)/2),0) -> 228885 | R35: 210459.21 | S35: 249900.23 | T35: =ROUND(((R35+S35)/2),0) -> 230180 | U35: 215565.28 | V35: 249900.23 | W35: 232733 | X35: 307681.88 | Y35: 249900.23 | Z35: =ROUND(((X35+Y35)/2),0) -> 278791 | AA35: 145945.28 | AB35: 133596.06 | AC35: =ROUND(((AA35+AB35)/2),0) -> 139771 | AD35: 247984.04 | AE35: 249900.23 | AF35: =ROUND(((AD35+AE35)/2),0) -> 248942 | AG35: 261992.84 | AH35: 249900.23 | AI35: =ROUND(((AG35+AH35)/2),0) -> 255947 | AJ35: 183631 | AK35: 168092.99 | AL35: =ROUND(((AJ35+AK35)/2),0) -> 175862 | AM35: =H35+K35+#REF!+N35+#REF!+#REF!+#REF!+#REF!+Q35+T35+W35+Z35+AC35+#REF!+AF35+AI35+AL35 -> #REF!
B36: 22 | C36: CAMBIO BUJES DEL ALTERNADOR Y/O ESCOBILLAS | D36: SERVICIO | F36: 124992.96 | G36: 140732.46 | H36: =ROUND(((F36+G36)/2),0) -> 132863 | I36: 124992.96 | J36: 140732.46 | K36: =ROUND(((I36+J36)/2),0) -> 132863 | L36: 210312.54 | M36: 236795.74 | N36: =ROUND(((L36+M36)/2),0) -> 223554 | O36: 239475.99 | P36: 278758.55 | Q36: =ROUND(((O36+P36)/2),0) -> 259117 | R36: 241862.8 | S36: 278758.55 | T36: =ROUND(((R36+S36)/2),0) -> 260311 | U36: 248927.2 | V36: 278758.55 | W36: 263843 | X36: 347020.78 | Y36: 278758.55 | Z36: =ROUND(((X36+Y36)/2),0) -> 312890 | AA36: 159648.29 | AB36: 146139.59 | AC36: =ROUND(((AA36+AB36)/2),0) -> 152894 | AD36: 283423.41 | AE36: 278758.55 | AF36: =ROUND(((AD36+AE36)/2),0) -> 281091 | AG36: 288332.13 | AH36: 278758.55 | AI36: =ROUND(((AG36+AH36)/2),0) -> 283545 | AJ36: 209833.4 | AK36: 192078.26 | AL36: =ROUND(((AJ36+AK36)/2),0) -> 200956 | AM36: =H36+K36+#REF!+N36+#REF!+#REF!+#REF!+#REF!+Q36+T36+W36+Z36+AC36+#REF!+AF36+AI36+AL36 -> #REF!
B37: 23 | C37: CAMBIO BUJIAS | D37: SERVICIO | F37: 86272.516 | G37: 97136.217 | H37: =ROUND(((F37+G37)/2),0) -> 91704 | I37: 86272.516 | J37: 97136.217 | K37: =ROUND(((I37+J37)/2),0) -> 91704 | L37: 154645.34 | M37: 174118.75 | N37: =ROUND(((L37+M37)/2),0) -> 164382 | O37: 158945.14 | P37: 186515.63 | Q37: =ROUND(((O37+P37)/2),0) -> 172730 | R37: 161363.06 | S37: 186515.63 | T37: =ROUND(((R37+S37)/2),0) -> 173939 | U37: 170424.91 | V37: 186515.63 | W37: 178470 | X37: 234739.67 | Y37: 186515.63 | Z37: =ROUND(((X37+Y37)/2),0) -> 210628 | AA37: 117639.65 | AB37: 107685.53 | AC37: =ROUND(((AA37+AB37)/2),0) -> 112663 | AD37: 189309.55 | AE37: 186515.63 | AF37: =ROUND(((AD37+AE37)/2),0) -> 187913 | AG37: 202086.29 | AH37: 186515.63 | AI37: =ROUND(((AG37+AH37)/2),0) -> 194301 | AJ37: 144830.55 | AK37: 132575.66 | AL37: =ROUND(((AJ37+AK37)/2),0) -> 138703 | AM37: =H37+K37+#REF!+N37+#REF!+#REF!+#REF!+#REF!+Q37+T37+W37+Z37+AC37+#REF!+AF37+AI37+AL37 -> #REF!
B38: 24 | C38: CAMBIO BUJIAS PRECALENTAMIENTO | D38: SERVICIO | F38: 273520 | G38: 307962.48 | H38: =ROUND(((F38+G38)/2),0) -> 290741 | I38: 273520 | J38: 307962.48 | K38: =ROUND(((I38+J38)/2),0) -> 290741 | L38: 273520 | M38: 307962.48 | N38: =ROUND(((L38+M38)/2),0) -> 290741 | O38: 273520 | P38: 307962.48 | Q38: =ROUND(((O38+P38)/2),0) -> 290741 | R38: 273520 | S38: 307962.48 | T38: =ROUND(((R38+S38)/2),0) -> 290741 | U38: 273520 | V38: 307962.48 | W38: 290741 | X38: 325488.8 | Y38: 307962.48 | Z38: =ROUND(((X38+Y38)/2),0) -> 316726 | AA38: 273520 | AB38: 250376 | AC38: =ROUND(((AA38+AB38)/2),0) -> 261948 | AD38: 273520 | AE38: 307962.48 | AF38: =ROUND(((AD38+AE38)/2),0) -> 290741 | AG38: 273520 | AH38: 307962.48 | AI38: =ROUND(((AG38+AH38)/2),0) -> 290741 | AJ38: 273520 | AK38: 250376 | AL38: =ROUND(((AJ38+AK38)/2),0) -> 261948 | AM38: =H38+K38+#REF!+N38+#REF!+#REF!+#REF!+#REF!+Q38+T38+W38+Z38+AC38+#REF!+AF38+AI38+AL38 -> #REF!
B39: 25 | C39: CAMBIO CABLES DE BATERIA | D39: SERVICIO | F39: 88894 | G39: 100087.81 | H39: =ROUND(((F39+G39)/2),0) -> 94491 | I39: 88894 | J39: 100087.81 | K39: =ROUND(((I39+J39)/2),0) -> 94491 | L39: 88894 | M39: 100087.81 | N39: =ROUND(((L39+M39)/2),0) -> 94491 | O39: 88894 | P39: 100087.81 | Q39: =ROUND(((O39+P39)/2),0) -> 94491 | R39: 88894 | S39: 100087.81 | T39: =ROUND(((R39+S39)/2),0) -> 94491 | U39: 88894 | V39: 100087.81 | W39: 94491 | X39: 105783.86 | Y39: 100087.81 | Z39: =ROUND(((X39+Y39)/2),0) -> 102936 | AA39: 88894 | AB39: 81372.2 | AC39: =ROUND(((AA39+AB39)/2),0) -> 85133 | AD39: 88894 | AE39: 100087.81 | AF39: =ROUND(((AD39+AE39)/2),0) -> 94491 | AG39: 88894 | AH39: 100087.81 | AI39: =ROUND(((AG39+AH39)/2),0) -> 94491 | AJ39: 88894 | AK39: 81372.2 | AL39: =ROUND(((AJ39+AK39)/2),0) -> 85133 | AM39: =H39+K39+#REF!+N39+#REF!+#REF!+#REF!+#REF!+Q39+T39+W39+Z39+AC39+#REF!+AF39+AI39+AL39 -> #REF!
B40: 26 | C40: CAMBIO CARCAZA ARRANQUE | D40: SERVICIO | F40: 110430.35 | G40: 124336.08 | H40: =ROUND(((F40+G40)/2),0) -> 117383 | I40: 110430.35 | J40: 124336.08 | K40: =ROUND(((I40+J40)/2),0) -> 117383 | L40: 193732.03 | M40: 218127.36 | N40: =ROUND(((L40+M40)/2),0) -> 205930 | O40: 216527.12 | P40: 242434.69 | Q40: =ROUND(((O40+P40)/2),0) -> 229481 | R40: 215001.7 | S40: 242434.69 | T40: =ROUND(((R40+S40)/2),0) -> 228718 | U40: 210486.77 | V40: 242434.69 | W40: 226461 | X40: 298457.52 | Y40: 242434.69 | Z40: =ROUND(((X40+Y40)/2),0) -> 270446 | AA40: 147188.91 | AB40: 134734.46 | AC40: =ROUND(((AA40+AB40)/2),0) -> 140962 | AD40: 257761.49 | AE40: 242434.69 | AF40: =ROUND(((AD40+AE40)/2),0) -> 250098 | AG40: 257761.49 | AH40: 242434.69 | AI40: =ROUND(((AG40+AH40)/2),0) -> 250098 | AJ40: 185385.77 | AK40: 169699.28 | AL40: =ROUND(((AJ40+AK40)/2),0) -> 177543 | AM40: =H40+K40+#REF!+N40+#REF!+#REF!+#REF!+#REF!+Q40+T40+W40+Z40+AC40+#REF!+AF40+AI40+AL40 -> #REF!
B41: 27 | C41: CAMBIO CONTROLES BLOQUEO CENTRAL | D41: SERVICIO | F41: 205140 | G41: 230971.86 | H41: =ROUND(((F41+G41)/2),0) -> 218056 | I41: 205140 | J41: 230971.86 | K41: =ROUND(((I41+J41)/2),0) -> 218056 | L41: 205140 | M41: 230971.86 | N41: =ROUND(((L41+M41)/2),0) -> 218056 | O41: 205140 | P41: 230971.86 | Q41: =ROUND(((O41+P41)/2),0) -> 218056 | R41: 205140 | S41: 230971.86 | T41: =ROUND(((R41+S41)/2),0) -> 218056 | U41: 205140 | V41: 230971.86 | W41: 218056 | X41: 244116.6 | Y41: 230971.86 | Z41: =ROUND(((X41+Y41)/2),0) -> 237544 | AA41: 205140 | AB41: 187782 | AC41: =ROUND(((AA41+AB41)/2),0) -> 196461 | AD41: 205140 | AE41: 230971.86 | AF41: =ROUND(((AD41+AE41)/2),0) -> 218056 | AG41: 205140 | AH41: 230971.86 | AI41: =ROUND(((AG41+AH41)/2),0) -> 218056 | AJ41: 205140 | AK41: 187782 | AL41: =ROUND(((AJ41+AK41)/2),0) -> 196461 | AM41: =H41+K41+#REF!+N41+#REF!+#REF!+#REF!+#REF!+Q41+T41+W41+Z41+AC41+#REF!+AF41+AI41+AL41 -> #REF!
B42: 28 | C42: CAMBIO DE ALTERNADOR | D42: SERVICIO | F42: 176968.4 | G42: 199252.8 | H42: =ROUND(((F42+G42)/2),0) -> 188111 | I42: 176968.4 | J42: 199252.8 | K42: =ROUND(((I42+J42)/2),0) -> 188111 | L42: 307149.22 | M42: 345826.39 | N42: =ROUND(((L42+M42)/2),0) -> 326488 | O42: 347699.1 | P42: 395706.15 | Q42: =ROUND(((O42+P42)/2),0) -> 371703 | R42: 345322.97 | S42: 395706.15 | T42: =ROUND(((R42+S42)/2),0) -> 370515 | U42: 349575.66 | V42: 395706.15 | W42: 372641 | X42: 477138.1 | Y42: 395706.15 | Z42: =ROUND(((X42+Y42)/2),0) -> 436422 | AA42: 232824.05 | AB42: 213123.56 | AC42: =ROUND(((AA42+AB42)/2),0) -> 222974 | AD42: 411325.87 | AE42: 395706.15 | AF42: =ROUND(((AD42+AE42)/2),0) -> 403516 | AG42: 404508.59 | AH42: 395706.15 | AI42: =ROUND(((AG42+AH42)/2),0) -> 400107 | AJ42: 297087.3 | AK42: 271949.15 | AL42: =ROUND(((AJ42+AK42)/2),0) -> 284518 | AM42: =H42+K42+#REF!+N42+#REF!+#REF!+#REF!+#REF!+Q42+T42+W42+Z42+AC42+#REF!+AF42+AI42+AL42 -> #REF!
... B64: 50 | C64: REVISION FUNCIONAMIENTO TABLERO INSTRUMENTOS | D64: SERVICIO | F64: 268362.1 | G64: 302155.08 | H64: =ROUND(((F64+G64)/2),0) -> 285259 | I64: 268362.1 | J64: 302155.08 | K64: =ROUND(((I64+J64)/2),0) -> 285259 | L64: 494249.75 | M64: 556487.2 | N64: =ROUND(((L64+M64)/2),0) -> 525368 | O64: 488764.1 | P64: 550805.22 | Q64: =ROUND(((O64+P64)/2),0) -> 519785 | R64: 488983.67 | S64: 550805.22 | T64: =ROUND(((R64+S64)/2),0) -> 519894 | U64: 488323.19 | V64: 550805.22 | W64: 519564 | X64: 590177.68 | Y64: 550805.22 | Z64: =ROUND(((X64+Y64)/2),0) -> 570491 | AA64: 272813.91 | AB64: 249729.65 | AC64: =ROUND(((AA64+AB64)/2),0) -> 261272 | AD64: 495506.71 | AE64: 550805.22 | AF64: =ROUND(((AD64+AE64)/2),0) -> 523156 | AG64: 496036.52 | AH64: 550805.22 | AI64: =ROUND(((AG64+AH64)/2),0) -> 523421 | AJ64: 572114.67 | AK64: 523704.97 | AL64: =ROUND(((AJ64+AK64)/2),0) -> 547910 | AM64: =H64+K64+#REF!+N64+#REF!+#REF!+#REF!+#REF!+Q64+T64+W64+Z64+AC64+#REF!+AF64+AI64+AL64 -> #REF!
B65: SUSPENSIÓN | F65: 2929780.2 | G65: 3298707.2 | H65: =ROUND(((F65+G65)/2),0) -> 3114244 | I65: 2929780.2 | J65: 3298707.2 | K65: =ROUND(((I65+J65)/2),0) -> 3114244 | L65: 4032417.8 | M65: 4540192.3 | N65: =ROUND(((L65+M65)/2),0) -> 4286305 | O65: 4286042.2 | P65: 4819674.5 | Q65: =ROUND(((O65+P65)/2),0) -> 4552858 | R65: 4282789.6 | S65: 4819674.5 | T65: =ROUND(((R65+S65)/2),0) -> 4551232 | U65: 4299930.1 | V65: 4819674.5 | W65: 4559802 | X65: 5638010.2 | Y65: 4819674.5 | Z65: =ROUND(((X65+Y65)/2),0) -> 5228842 | AA65: 3579206.9 | AB65: 3276350.9 | AC65: =ROUND(((AA65+AB65)/2),0) -> 3427779 | AD65: 4796452.9 | AE65: 4819674.5 | AF65: =ROUND(((AD65+AE65)/2),0) -> 4808064 | AG65: 4781338.2 | AH65: 4819674.5 | AI65: =ROUND(((AG65+AH65)/2),0) -> 4800506 | AJ65: 3874090.5 | AK65: 3546282.8 | AL65: =ROUND(((AJ65+AK65)/2),0) -> 3710187 | AM65: =H65+K65+#REF!+N65+#REF!+#REF!+#REF!+#REF!+Q65+T65+W65+Z65+AC65+#REF!+AF65+AI65+AL65 -> #REF!
B66: 51 | C66: AJUSTE DE MORDAZA DELANTERAS | D66: SERVICIO | F66: 143598 | G66: 161680.3 | H66: =ROUND(((F66+G66)/2),0) -> 152639 | I66: 143598 | J66: 161680.3 | K66: =ROUND(((I66+J66)/2),0) -> 152639 | L66: 143598 | M66: 161680.3 | N66: =ROUND(((L66+M66)/2),0) -> 152639 | O66: 143598 | P66: 161680.3 | Q66: =ROUND(((O66+P66)/2),0) -> 152639 | R66: 143598 | S66: 161680.3 | T66: =ROUND(((R66+S66)/2),0) -> 152639 | U66: 143598 | V66: 161680.3 | W66: 152639 | X66: 170881.62 | Y66: 161680.3 | Z66: =ROUND(((X66+Y66)/2),0) -> 166281 | AA66: 143598 | AB66: 131447.4 | AC66: =ROUND(((AA66+AB66)/2),0) -> 137523 | AD66: 143598 | AE66: 161680.3 | AF66: =ROUND(((AD66+AE66)/2),0) -> 152639 | AG66: 143598 | AH66: 161680.3 | AI66: =ROUND(((AG66+AH66)/2),0) -> 152639 | AJ66: 143598 | AK66: 131447.4 | AL66: =ROUND(((AJ66+AK66)/2),0) -> 137523 | AM66: =H66+K66+#REF!+N66+#REF!+#REF!+#REF!+#REF!+Q66+T66+W66+Z66+AC66+#REF!+AF66+AI66+AL66 -> #REF!
B67: 52 | C67: AJUSTE Y ENGRASE RODAMIENTOS (INCLUYE INSUMO) | D67: SERVICIO | F67: 145852.83 | G67: 164219.07 | H67: =ROUND(((F67+G67)/2),0) -> 155036 | I67: 145852.83 | J67: 164219.07 | K67: =ROUND(((I67+J67)/2),0) -> 155036 | L67: 258168.62 | M67: 290678.01 | N67: =ROUND(((L67+M67)/2),0) -> 274423 | O67: 273027.25 | P67: 307407.69 | Q67: =ROUND(((O67+P67)/2),0) -> 290217 | R67: 276454.12 | S67: 307407.69 | T67: =ROUND(((R67+S67)/2),0) -> 291931 | U67: 271509.83 | V67: 307407.69 | W67: 289459 | X67: 393439.79 | Y67: 307407.69 | Z67: =ROUND(((X67+Y67)/2),0) -> 350424 | AA67: 204229.52 | AB67: 186948.56 | AC67: =ROUND(((AA67+AB67)/2),0) -> 195589 | AD67: 318695.66 | AE67: 307407.69 | AF67: =ROUND(((AD67+AE67)/2),0) -> 313052 | AG67: 325983.19 | AH67: 307407.69 | AI67: =ROUND(((AG67+AH67)/2),0) -> 316695 | AJ67: 244851.41 | AK67: 224133.22 | AL67: =ROUND(((AJ67+AK67)/2),0) -> 234492 | AM67: =H67+K67+#REF!+N67+#REF!+#REF!+#REF!+#REF!+Q67+T67+W67+Z67+AC67+#REF!+AF67+AI67+AL67 -> #REF!
B68: 53 | C68: AJUSTE Y TORQUEO SUSPENSION GENERAL | D68: SERVICIO | F68: 117138.29 | G68: 131888.7 | H68: =ROUND(((F68+G68)/2),0) -> 124513 | I68: 117138.29 | J68: 131888.7 | K68: =ROUND(((I68+J68)/2),0) -> 124513 | L68: 208123.97 | M68: 234331.58 | N68: =ROUND(((L68+M68)/2),0) -> 221228 | O68: 223829.76 | P68: 252015.09 | Q68: =ROUND(((O68+P68)/2),0) -> 237922 | R68: 224780.92 | S68: 252015.09 | T68: =ROUND(((R68+S68)/2),0) -> 238398 | U68: 233852.56 | V68: 252015.09 | W68: 242934 | X68: 324396.79 | Y68: 252015.09 | Z68: =ROUND(((X68+Y68)/2),0) -> 288206 | AA68: 169014.16 | AB68: 154712.96 | AC68: =ROUND(((AA68+AB68)/2),0) -> 161864 | AD68: 276988.37 | AE68: 252015.09 | AF68: =ROUND(((AD68+AE68)/2),0) -> 264502 | AG68: 258773.99 | AH68: 252015.09 | AI68: =ROUND(((AG68+AH68)/2),0) -> 255395 | AJ68: 196647.75 | AK68: 180008.33 | AL68: =ROUND(((AJ68+AK68)/2),0) -> 188328 | AM68: =H68+K68+#REF!+N68+#REF!+#REF!+#REF!+#REF!+Q68+T68+W68+Z68+AC68+#REF!+AF68+AI68+AL68 -> #REF!
B69: 54 | C69: CAMBIO AMORTIGUADORES DELANTEROS | D69: SERVICIO | F69: 126257.93 | G69: 142156.71 | H69: =ROUND(((F69+G69)/2),0) -> 134207 | I69: 126257.93 | J69: 142156.71 | K69: =ROUND(((I69+J69)/2),0) -> 134207 | L69: 218448.12 | M69: 245955.77 | N69: =ROUND(((L69+M69)/2),0) -> 232202 | O69: 238139.03 | P69: 268126.22 | Q69: =ROUND(((O69+P69)/2),0) -> 253133 | R69: 239723.12 | S69: 268126.22 | T69: =ROUND(((R69+S69)/2),0) -> 253925 | U69: 250642.86 | V69: 268126.22 | W69: 259385 | X69: 345951.3 | Y69: 268126.22 | Z69: =ROUND(((X69+Y69)/2),0) -> 307039 | AA69: 176943.51 | AB69: 161971.36 | AC69: =ROUND(((AA69+AB69)/2),0) -> 169457 | AD69: 292730.61 | AE69: 268126.22 | AF69: =ROUND(((AD69+AE69)/2),0) -> 280428 | AG69: 295707.67 | AH69: 268126.22 | AI69: =ROUND(((AG69+AH69)/2),0) -> 281917 | AJ69: 211957.08 | AK69: 194022.25 | AL69: =ROUND(((AJ69+AK69)/2),0) -> 202990 | AM69: =H69+K69+#REF!+N69+#REF!+#REF!+#REF!+#REF!+Q69+T69+W69+Z69+AC69+#REF!+AF69+AI69+AL69 -> #REF!
B70: 55 | C70: CAMBIO AMORTIGUADORES TRASEROS | D70: SERVICIO | F70: 124338.7 | G70: 139995.82 | H70: =ROUND(((F70+G70)/2),0) -> 132167 | I70: 124338.7 | J70: 139995.82 | K70: =ROUND(((I70+J70)/2),0) -> 132167 | L70: 222979.93 | M70: 251058.25 | N70: =ROUND(((L70+M70)/2),0) -> 237019 | O70: 253123 | P70: 284997.02 | Q70: =ROUND(((O70+P70)/2),0) -> 269060 | R70: 249657.02 | S70: 284997.02 | T70: =ROUND(((R70+S70)/2),0) -> 267327 | U70: 246909.31 | V70: 284997.02 | W70: 265953 | X70: 344213.28 | Y70: 284997.02 | Z70: =ROUND(((X70+Y70)/2),0) -> 314605 | AA70: 188455.28 | AB70: 172509.06 | AC70: =ROUND(((AA70+AB70)/2),0) -> 180482 | AD70: 288253.02 | AE70: 284997.02 | AF70: =ROUND(((AD70+AE70)/2),0) -> 286625 | AG70: 292730.61 | AH70: 284997.02 | AI70: =ROUND(((AG70+AH70)/2),0) -> 288864 | AJ70: 208734.67 | AK70: 191072.5 | AL70: =ROUND(((AJ70+AK70)/2),0) -> 199904 | AM70: =H70+K70+#REF!+N70+#REF!+#REF!+#REF!+#REF!+Q70+T70+W70+Z70+AC70+#REF!+AF70+AI70+AL70 -> #REF!
B71: 56 | C71: CAMBIO BUJES MUELLE | D71: SERVICIO | F71: 236329.14 | G71: 266088.44 | H71: =ROUND(((F71+G71)/2),0) -> 251209 | I71: 236329.14 | J71: 266088.44 | K71: =ROUND(((I71+J71)/2),0) -> 251209 | L71: 422937.21 | M71: 476194.76 | N71: =ROUND(((L71+M71)/2),0) -> 449566 | O71: 456728.48 | P71: 514241.14 | Q71: =ROUND(((O71+P71)/2),0) -> 485485 | R71: 452528.24 | S71: 514241.14 | T71: =ROUND(((R71+S71)/2),0) -> 483385 | U71: 459493.97 | V71: 514241.14 | W71: 486868 | X71: 583301.72 | Y71: 514241.14 | Z71: =ROUND(((X71+Y71)/2),0) -> 548771 | AA71: 350757.06 | AB71: 321077.61 | AC71: =ROUND(((AA71+AB71)/2),0) -> 335917 | AD71: 552573.1 | AE71: 514241.14 | AF71: =ROUND(((AD71+AE71)/2),0) -> 533407 | AG71: 539069.22 | AH71: 514241.14 | AI71: =ROUND(((AG71+AH71)/2),0) -> 526655 | AJ71: 396741.03 | AK71: 363170.64 | AL71: =ROUND(((AJ71+AK71)/2),0) -> 379956 | AM71: =H71+K71+#REF!+N71+#REF!+#REF!+#REF!+#REF!+Q71+T71+W71+Z71+AC71+#REF!+AF71+AI71+AL71 -> #REF!
B72: 57 | C72: CAMBIO BUJES Y CAUCHOS ESTABILIZADORA DELANTERA | D72: SERVICIO | F72: 81785.147 | G72: 92083.784 | H72: =ROUND(((F72+G72)/2),0) -> 86934 | I72: 81785.147 | J72: 92083.784 | K72: =ROUND(((I72+J72)/2),0) -> 86934 | L72: 140163.61 | M72: 157813.45 | N72: =ROUND(((L72+M72)/2),0) -> 148989 | O72: 156775.24 | P72: 176516.86 | Q72: =ROUND(((O72+P72)/2),0) -> 166646 | R72: 155269.37 | S72: 176516.86 | T72: =ROUND(((R72+S72)/2),0) -> 165893 | U72: 161010.15 | V72: 176516.86 | W72: 168764 | X72: 223012.48 | Y72: 176516.86 | Z72: =ROUND(((X72+Y72)/2),0) -> 199765 | AA72: 118315.25 | AB72: 108303.96 | AC72: =ROUND(((AA72+AB72)/2),0) -> 113310 | AD72: 189735.35 | AE72: 176516.86 | AF72: =ROUND(((AD72+AE72)/2),0) -> 183126 | AG72: 188715.74 | AH72: 176516.86 | AI72: =ROUND(((AG72+AH72)/2),0) -> 182616 | AJ72: 137296.78 | AK72: 125679.36 | AL72: =ROUND(((AJ72+AK72)/2),0) -> 131488 | AM72: =H72+K72+#REF!+N72+#REF!+#REF!+#REF!+#REF!+Q72+T72+W72+Z72+AC72+#REF!+AF72+AI72+AL72 -> #REF!
B73: 58 | C73: CAMBIO BUJES RESORTES | D73: SERVICIO | F73: 109408 | G73: 123184.99 | H73: =ROUND(((F73+G73)/2),0) -> 116296 | I73: 109408 | J73: 123184.99 | K73: =ROUND(((I73+J73)/2),0) -> 116296 | L73: 109408 | M73: 123184.99 | N73: =ROUND(((L73+M73)/2),0) -> 116296 | O73: 109408 | P73: 123184.99 | Q73: =ROUND(((O73+P73)/2),0) -> 116296 | R73: 109408 | S73: 123184.99 | T73: =ROUND(((R73+S73)/2),0) -> 116296 | U73: 109408 | V73: 123184.99 | W73: 116296 | X73: 130195.52 | Y73: 123184.99 | Z73: =ROUND(((X73+Y73)/2),0) -> 126690 | AA73: 109408 | AB73: 100150.4 | AC73: =ROUND(((AA73+AB73)/2),0) -> 104779 | AD73: 109408 | AE73: 123184.99 | AF73: =ROUND(((AD73+AE73)/2),0) -> 116296 | AG73: 109408 | AH73: 123184.99 | AI73: =ROUND(((AG73+AH73)/2),0) -> 116296 | AJ73: 109408 | AK73: 100150.4 | AL73: =ROUND(((AJ73+AK73)/2),0) -> 104779 | AM73: =H73+K73+#REF!+N73+#REF!+#REF!+#REF!+#REF!+Q73+T73+W73+Z73+AC73+#REF!+AF73+AI73+AL73 -> #REF!
B74: 59 | C74: CAMBIO GRAPAS Y CENTRALES | D74: SERVICIO | F74: 105078.93 | G74: 118310.79 | H74: =ROUND(((F74+G74)/2),0) -> 111695 | I74: 105078.93 | J74: 118310.79 | K74: =ROUND(((I74+J74)/2),0) -> 111695 | L74: 188590.4 | M74: 212338.28 | N74: =ROUND(((L74+M74)/2),0) -> 200464 | O74: 210217.42 | P74: 236688.64 | Q74: =ROUND(((O74+P74)/2),0) -> 223453 | R74: 210504.55 | S74: 236688.64 | T74: =ROUND(((R74+S74)/2),0) -> 223597 | U74: 205658.05 | V74: 236688.64 | W74: 221173 | X74: 296145.09 | Y74: 236688.64 | Z74: =ROUND(((X74+Y74)/2),0) -> 266417 | AA74: 158902.47 | AB74: 145456.88 | AC74: =ROUND(((AA74+AB74)/2),0) -> 152180 | AD74: 242926.86 | AE74: 236688.64 | AF74: =ROUND(((AD74+AE74)/2),0) -> 239808 | AG74: 249810.81 | AH74: 236688.64 | AI74: =ROUND(((AG74+AH74)/2),0) -> 243250 | AJ74: 176402.14 | AK74: 161475.81 | AL74: =ROUND(((AJ74+AK74)/2),0) -> 168939 | AM74: =H74+K74+#REF!+N74+#REF!+#REF!+#REF!+#REF!+Q74+T74+W74+Z74+AC74+#REF!+AF74+AI74+AL74 -> #REF!
B75: 60 | C75: CAMBIO RODAMIENTOS DELANTEROS | D75: SERVICIO | F75: 165796.2 | G75: 186673.77 | H75: =ROUND(((F75+G75)/2),0) -> 176235 | I75: 165796.2 | J75: 186673.77 | K75: =ROUND(((I75+J75)/2),0) -> 176235 | L75: 291698.55 | M75: 328430.13 | N75: =ROUND(((L75+M75)/2),0) -> 310064 | O75: 329927.41 | P75: 369511.17 | Q75: =ROUND(((O75+P75)/2),0) -> 349719 | R75: 329487.39 | S75: 369511.17 | T75: =ROUND(((R75+S75)/2),0) -> 349499 | U75: 329927.41 | V75: 369511.17 | W75: 349719 | X75: 450447.77 | Y75: 369511.17 | Z75: =ROUND(((X75+Y75)/2),0) -> 409979 | AA75: 247538.68 | AB75: 226593.1 | AC75: =ROUND(((AA75+AB75)/2),0) -> 237066 | AD75: 390296.22 | AE75: 369511.17 | AF75: =ROUND(((AD75+AE75)/2),0) -> 379904 | AG75: 381856.62 | AH75: 369511.17 | AI75: =ROUND(((AG75+AH75)/2),0) -> 375684 | AJ75: 278331.56 | AK75: 254780.43 | AL75: =ROUND(((AJ75+AK75)/2),0) -> 266556 | AM75: =H75+K75+#REF!+N75+#REF!+#REF!+#REF!+#REF!+Q75+T75+W75+Z75+AC75+#REF!+AF75+AI75+AL75 -> #REF!
B76: 61 | C76: CAMBIO MORDAZAS DELANTERAS | D76: SERVICIO | F76: 109408 | G76: 123184.99 | H76: =ROUND(((F76+G76)/2),0) -> 116296 | I76: 109408 | J76: 123184.99 | K76: =ROUND(((I76+J76)/2),0) -> 116296 | L76: 109408 | M76: 123184.99 | N76: =ROUND(((L76+M76)/2),0) -> 116296 | O76: 109408 | P76: 123184.99 | Q76: =ROUND(((O76+P76)/2),0) -> 116296 | R76: 109408 | S76: 123184.99 | T76: =ROUND(((R76+S76)/2),0) -> 116296 | U76: 109408 | V76: 123184.99 | W76: 116296 | X76: 130195.52 | Y76: 123184.99 | Z76: =ROUND(((X76+Y76)/2),0) -> 126690 | AA76: 109408 | AB76: 100150.4 | AC76: =ROUND(((AA76+AB76)/2),0) -> 104779 | AD76: 109408 | AE76: 123184.99 | AF76: =ROUND(((AD76+AE76)/2),0) -> 116296 | AG76: 109408 | AH76: 123184.99 | AI76: =ROUND(((AG76+AH76)/2),0) -> 116296 | AJ76: 109408 | AK76: 100150.4 | AL76: =ROUND(((AJ76+AK76)/2),0) -> 104779 | AM76: =H76+K76+#REF!+N76+#REF!+#REF!+#REF!+#REF!+Q76+T76+W76+Z76+AC76+#REF!+AF76+AI76+AL76 -> #REF!
B77: 62 | C77: CAMBIO PASADOR MUELLE TRASERO | D77: SERVICIO | F77: 109408 | G77: 123184.99 | H77: =ROUND(((F77+G77)/2),0) -> 116296 | I77: 109408 | J77: 123184.99 | K77: =ROUND(((I77+J77)/2),0) -> 116296 | L77: 109408 | M77: 123184.99 | N77: =ROUND(((L77+M77)/2),0) -> 116296 | O77: 109408 | P77: 123184.99 | Q77: =ROUND(((O77+P77)/2),0) -> 116296 | R77: 109408 | S77: 123184.99 | T77: =ROUND(((R77+S77)/2),0) -> 116296 | U77: 109408 | V77: 123184.99 | W77: 116296 | X77: 130195.52 | Y77: 123184.99 | Z77: =ROUND(((X77+Y77)/2),0) -> 126690 | AA77: 109408 | AB77: 100150.4 | AC77: =ROUND(((AA77+AB77)/2),0) -> 104779 | AD77: 109408 | AE77: 123184.99 | AF77: =ROUND(((AD77+AE77)/2),0) -> 116296 | AG77: 109408 | AH77: 123184.99 | AI77: =ROUND(((AG77+AH77)/2),0) -> 116296 | AJ77: 109408 | AK77: 100150.4 | AL77: =ROUND(((AJ77+AK77)/2),0) -> 104779 | AM77: =H77+K77+#REF!+N77+#REF!+#REF!+#REF!+#REF!+Q77+T77+W77+Z77+AC77+#REF!+AF77+AI77+AL77 -> #REF!
... B84: 69 | C84: CAMBIO TORNILLO CENTRAL | D84: SERVICIO | F84: 136760 | G84: 153981.24 | H84: =ROUND(((F84+G84)/2),0) -> 145371 | I84: 136760 | J84: 153981.24 | K84: =ROUND(((I84+J84)/2),0) -> 145371 | L84: 136760 | M84: 153981.24 | N84: =ROUND(((L84+M84)/2),0) -> 145371 | O84: 136760 | P84: 153981.24 | Q84: =ROUND(((O84+P84)/2),0) -> 145371 | R84: 136760 | S84: 153981.24 | T84: =ROUND(((R84+S84)/2),0) -> 145371 | U84: 136760 | V84: 153981.24 | W84: 145371 | X84: 162744.4 | Y84: 153981.24 | Z84: =ROUND(((X84+Y84)/2),0) -> 158363 | AA84: 136760 | AB84: 125188 | AC84: =ROUND(((AA84+AB84)/2),0) -> 130974 | AD84: 136760 | AE84: 153981.24 | AF84: =ROUND(((AD84+AE84)/2),0) -> 145371 | AG84: 136760 | AH84: 153981.24 | AI84: =ROUND(((AG84+AH84)/2),0) -> 145371 | AJ84: 136760 | AK84: 125188 | AL84: =ROUND(((AJ84+AK84)/2),0) -> 130974 | AM84: =H84+K84+#REF!+N84+#REF!+#REF!+#REF!+#REF!+Q84+T84+W84+Z84+AC84+#REF!+AF84+AI84+AL84 -> #REF!
B85: FILTROS | F85: 109408 | G85: 123184.99 | H85: =ROUND(((F85+G85)/2),0) -> 116296 | I85: 109408 | J85: 123184.99 | K85: =ROUND(((I85+J85)/2),0) -> 116296 | L85: 109408 | M85: 123184.99 | N85: =ROUND(((L85+M85)/2),0) -> 116296 | O85: 109408 | P85: 123184.99 | Q85: =ROUND(((O85+P85)/2),0) -> 116296 | R85: 109408 | S85: 123184.99 | T85: =ROUND(((R85+S85)/2),0) -> 116296 | U85: 109408 | V85: 123184.99 | W85: 116296 | X85: 130195.52 | Y85: 123184.99 | Z85: =ROUND(((X85+Y85)/2),0) -> 126690 | AA85: 109408 | AB85: 100150.4 | AC85: =ROUND(((AA85+AB85)/2),0) -> 104779 | AD85: 109408 | AE85: 123184.99 | AF85: =ROUND(((AD85+AE85)/2),0) -> 116296 | AG85: 109408 | AH85: 123184.99 | AI85: =ROUND(((AG85+AH85)/2),0) -> 116296 | AJ85: 109408 | AK85: 100150.4 | AL85: =ROUND(((AJ85+AK85)/2),0) -> 104779 | AM85: =H85+K85+#REF!+N85+#REF!+#REF!+#REF!+#REF!+Q85+T85+W85+Z85+AC85+#REF!+AF85+AI85+AL85 -> #REF!
B86: 70 | C86: CAMBIO FILTRO DE ACEITE | D86: SERVICIO | F86: 27352 | G86: 30796.248 | H86: =ROUND(((F86+G86)/2),0) -> 29074 | I86: 27352 | J86: 30796.248 | K86: =ROUND(((I86+J86)/2),0) -> 29074 | L86: 27352 | M86: 30796.248 | N86: =ROUND(((L86+M86)/2),0) -> 29074 | O86: 27352 | P86: 30796.248 | Q86: =ROUND(((O86+P86)/2),0) -> 29074 | R86: 27352 | S86: 30796.248 | T86: =ROUND(((R86+S86)/2),0) -> 29074 | U86: 27352 | V86: 30796.248 | W86: 29074 | X86: 32548.88 | Y86: 30796.248 | Z86: =ROUND(((X86+Y86)/2),0) -> 31673 | AA86: 27352 | AB86: 25037.6 | AC86: =ROUND(((AA86+AB86)/2),0) -> 26195 | AD86: 27352 | AE86: 30796.248 | AF86: =ROUND(((AD86+AE86)/2),0) -> 29074 | AG86: 27352 | AH86: 30796.248 | AI86: =ROUND(((AG86+AH86)/2),0) -> 29074 | AJ86: 27352 | AK86: 25037.6 | AL86: =ROUND(((AJ86+AK86)/2),0) -> 26195 | AM86: =H86+K86+#REF!+N86+#REF!+#REF!+#REF!+#REF!+Q86+T86+W86+Z86+AC86+#REF!+AF86+AI86+AL86 -> #REF!
B87: 71 | C87: CAMBIO FILTRO DE AIRE | D87: SERVICIO | F87: 41028 | G87: 46194.372 | H87: =ROUND(((F87+G87)/2),0) -> 43611 | I87: 41028 | J87: 46194.372 | K87: =ROUND(((I87+J87)/2),0) -> 43611 | L87: 41028 | M87: 46194.372 | N87: =ROUND(((L87+M87)/2),0) -> 43611 | O87: 41028 | P87: 46194.372 | Q87: =ROUND(((O87+P87)/2),0) -> 43611 | R87: 41028 | S87: 46194.372 | T87: =ROUND(((R87+S87)/2),0) -> 43611 | U87: 41028 | V87: 46194.372 | W87: 43611 | X87: 48823.32 | Y87: 46194.372 | Z87: =ROUND(((X87+Y87)/2),0) -> 47509 | AA87: 41028 | AB87: 37556.4 | AC87: =ROUND(((AA87+AB87)/2),0) -> 39292 | AD87: 41028 | AE87: 46194.372 | AF87: =ROUND(((AD87+AE87)/2),0) -> 43611 | AG87: 41028 | AH87: 46194.372 | AI87: =ROUND(((AG87+AH87)/2),0) -> 43611 | AJ87: 41028 | AK87: 37556.4 | AL87: =ROUND(((AJ87+AK87)/2),0) -> 39292 | AM87: =H87+K87+#REF!+N87+#REF!+#REF!+#REF!+#REF!+Q87+T87+W87+Z87+AC87+#REF!+AF87+AI87+AL87 -> #REF!
B88: 72 | C88: CAMBIO FILTRO DE COMBUSTIBLE | D88: SERVICIO | F88: 41028 | G88: 46194.372 | H88: =ROUND(((F88+G88)/2),0) -> 43611 | I88: 41028 | J88: 46194.372 | K88: =ROUND(((I88+J88)/2),0) -> 43611 | L88: 41028 | M88: 46194.372 | N88: =ROUND(((L88+M88)/2),0) -> 43611 | O88: 41028 | P88: 46194.372 | Q88: =ROUND(((O88+P88)/2),0) -> 43611 | R88: 41028 | S88: 46194.372 | T88: =ROUND(((R88+S88)/2),0) -> 43611 | U88: 41028 | V88: 46194.372 | W88: 43611 | X88: 48823.32 | Y88: 46194.372 | Z88: =ROUND(((X88+Y88)/2),0) -> 47509 | AA88: 41028 | AB88: 37556.4 | AC88: =ROUND(((AA88+AB88)/2),0) -> 39292 | AD88: 41028 | AE88: 46194.372 | AF88: =ROUND(((AD88+AE88)/2),0) -> 43611 | AG88: 41028 | AH88: 46194.372 | AI88: =ROUND(((AG88+AH88)/2),0) -> 43611 | AJ88: 41028 | AK88: 37556.4 | AL88: =ROUND(((AJ88+AK88)/2),0) -> 39292 | AM88: =H88+K88+#REF!+N88+#REF!+#REF!+#REF!+#REF!+Q88+T88+W88+Z88+AC88+#REF!+AF88+AI88+AL88 -> #REF!
B89: DIRECCIÓN | F89: 1884749.9 | G89: 2122083.4 | H89: =ROUND(((F89+G89)/2),0) -> 2003417 | I89: 1884749.9 | J89: 2122083.4 | K89: =ROUND(((I89+J89)/2),0) -> 2003417 | L89: 2339331.6 | M89: 2633907.4 | N89: =ROUND(((L89+M89)/2),0) -> 2486619 | O89: 2443387.3 | P89: 2728486.4 | Q89: =ROUND(((O89+P89)/2),0) -> 2585937 | R89: 2450206.4 | S89: 2728486.4 | T89: =ROUND(((R89+S89)/2),0) -> 2589346 | U89: 2439523.1 | V89: 2728486.4 | W89: 2584005 | X89: 3072708.7 | Y89: 2728486.4 | Z89: =ROUND(((X89+Y89)/2),0) -> 2900598 | AA89: 2173247.3 | AB89: 1989357.2 | AC89: =ROUND(((AA89+AB89)/2),0) -> 2081302 | AD89: 2658807.7 | AE89: 2728486.4 | AF89: =ROUND(((AD89+AE89)/2),0) -> 2693647 | AG89: 2654195 | AH89: 2728486.4 | AI89: =ROUND(((AG89+AH89)/2),0) -> 2691341 | AJ89: 2263619.7 | AK89: 2072082.6 | AL89: =ROUND(((AJ89+AK89)/2),0) -> 2167851 | AM89: =H89+K89+#REF!+N89+#REF!+#REF!+#REF!+#REF!+Q89+T89+W89+Z89+AC89+#REF!+AF89+AI89+AL89 -> #REF!
B90: 73 | C90: AJUSTE CAJA DE DIRECCION | D90: SERVICIO | F90: 85298.238 | G90: 96039.254 | H90: =ROUND(((F90+G90)/2),0) -> 90669 | I90: 85298.238 | J90: 96039.254 | K90: =ROUND(((I90+J90)/2),0) -> 90669 | L90: 153901.29 | M90: 173281.02 | N90: =ROUND(((L90+M90)/2),0) -> 163591 | O90: 166600.69 | P90: 190717.31 | Q90: =ROUND(((O90+P90)/2),0) -> 178659 | R90: 170313.79 | S90: 190717.31 | T90: =ROUND(((R90+S90)/2),0) -> 180516 | U90: 172165.45 | V90: 190717.31 | W90: 181441 | X90: 237245.69 | Y90: 190717.31 | Z90: =ROUND(((X90+Y90)/2),0) -> 213982 | AA90: 121138.52 | AB90: 110888.34 | AC90: =ROUND(((AA90+AB90)/2),0) -> 116013 | AD90: 197024.66 | AE90: 190717.31 | AF90: =ROUND(((AD90+AE90)/2),0) -> 193871 | AG90: 201514.7 | AH90: 190717.31 | AI90: =ROUND(((AG90+AH90)/2),0) -> 196116 | AJ90: 143194.9 | AK90: 131078.41 | AL90: =ROUND(((AJ90+AK90)/2),0) -> 137137 | AM90: =H90+K90+#REF!+N90+#REF!+#REF!+#REF!+#REF!+Q90+T90+W90+Z90+AC90+#REF!+AF90+AI90+AL90 -> #REF!
B91: 74 | C91: CAMBIO BRAZOS AXIALES | D91: SERVICIO | F91: 205140 | G91: 230971.86 | H91: =ROUND(((F91+G91)/2),0) -> 218056 | I91: 205140 | J91: 230971.86 | K91: =ROUND(((I91+J91)/2),0) -> 218056 | L91: 205140 | M91: 230971.86 | N91: =ROUND(((L91+M91)/2),0) -> 218056 | O91: 205140 | P91: 230971.86 | Q91: =ROUND(((O91+P91)/2),0) -> 218056 | R91: 205140 | S91: 230971.86 | T91: =ROUND(((R91+S91)/2),0) -> 218056 | U91: 205140 | V91: 230971.86 | W91: 218056 | X91: 244116.6 | Y91: 230971.86 | Z91: =ROUND(((X91+Y91)/2),0) -> 237544 | AA91: 205140 | AB91: 187782 | AC91: =ROUND(((AA91+AB91)/2),0) -> 196461 | AD91: 205140 | AE91: 230971.86 | AF91: =ROUND(((AD91+AE91)/2),0) -> 218056 | AG91: 205140 | AH91: 230971.86 | AI91: =ROUND(((AG91+AH91)/2),0) -> 218056 | AJ91: 205140 | AK91: 187782 | AL91: =ROUND(((AJ91+AK91)/2),0) -> 196461 | AM91: =H91+K91+#REF!+N91+#REF!+#REF!+#REF!+#REF!+Q91+T91+W91+Z91+AC91+#REF!+AF91+AI91+AL91 -> #REF!
B92: 75 | C92: CAMBIO BRAZOS DE DIRECCIÓN | D92: SERVICIO | F92: 164112 | G92: 184777.49 | H92: =ROUND(((F92+G92)/2),0) -> 174445 | I92: 164112 | J92: 184777.49 | K92: =ROUND(((I92+J92)/2),0) -> 174445 | L92: 164112 | M92: 184777.49 | N92: =ROUND(((L92+M92)/2),0) -> 174445 | O92: 164112 | P92: 184777.49 | Q92: =ROUND(((O92+P92)/2),0) -> 174445 | R92: 164112 | S92: 184777.49 | T92: =ROUND(((R92+S92)/2),0) -> 174445 | U92: 164112 | V92: 184777.49 | W92: 174445 | X92: 195293.28 | Y92: 184777.49 | Z92: =ROUND(((X92+Y92)/2),0) -> 190035 | AA92: 164112 | AB92: 150225.6 | AC92: =ROUND(((AA92+AB92)/2),0) -> 157169 | AD92: 164112 | AE92: 184777.49 | AF92: =ROUND(((AD92+AE92)/2),0) -> 174445 | AG92: 164112 | AH92: 184777.49 | AI92: =ROUND(((AG92+AH92)/2),0) -> 174445 | AJ92: 164112 | AK92: 150225.6 | AL92: =ROUND(((AJ92+AK92)/2),0) -> 157169 | AM92: =H92+K92+#REF!+N92+#REF!+#REF!+#REF!+#REF!+Q92+T92+W92+Z92+AC92+#REF!+AF92+AI92+AL92 -> #REF!
B93: 76 | C93: CAMBIO BUJES | D93: SERVICIO | F93: 136760 | G93: 153981.24 | H93: =ROUND(((F93+G93)/2),0) -> 145371 | I93: 136760 | J93: 153981.24 | K93: =ROUND(((I93+J93)/2),0) -> 145371 | L93: 136760 | M93: 153981.24 | N93: =ROUND(((L93+M93)/2),0) -> 145371 | O93: 136760 | P93: 153981.24 | Q93: =ROUND(((O93+P93)/2),0) -> 145371 | R93: 136760 | S93: 153981.24 | T93: =ROUND(((R93+S93)/2),0) -> 145371 | U93: 136760 | V93: 153981.24 | W93: 145371 | X93: 162744.4 | Y93: 153981.24 | Z93: =ROUND(((X93+Y93)/2),0) -> 158363 | AA93: 136760 | AB93: 125188 | AC93: =ROUND(((AA93+AB93)/2),0) -> 130974 | AD93: 136760 | AE93: 153981.24 | AF93: =ROUND(((AD93+AE93)/2),0) -> 145371 | AG93: 136760 | AH93: 153981.24 | AI93: =ROUND(((AG93+AH93)/2),0) -> 145371 | AJ93: 136760 | AK93: 125188 | AL93: =ROUND(((AJ93+AK93)/2),0) -> 130974 | AM93: =H93+K93+#REF!+N93+#REF!+#REF!+#REF!+#REF!+Q93+T93+W93+Z93+AC93+#REF!+AF93+AI93+AL93 -> #REF!
B94: 77 | C94: CAMBIO JUEGO RETENES CAJA DE DIRECCIÓN | D94: SERVICIO | F94: 126149.48 | G94: 142034.61 | H94: =ROUND(((F94+G94)/2),0) -> 134092 | I94: 126149.48 | J94: 142034.61 | K94: =ROUND(((I94+J94)/2),0) -> 134092 | L94: 221855.42 | M94: 249792.14 | N94: =ROUND(((L94+M94)/2),0) -> 235824 | O94: 247656.02 | P94: 272784.31 | Q94: =ROUND(((O94+P94)/2),0) -> 260220 | R94: 243622.9 | S94: 272784.31 | T94: =ROUND(((R94+S94)/2),0) -> 258204 | U94: 242276.15 | V94: 272784.31 | W94: 257530 | X94: 278513.04 | Y94: 272784.31 | Z94: =ROUND(((X94+Y94)/2),0) -> 275649 | AA94: 188668.63 | AB94: 172704.36 | AC94: =ROUND(((AA94+AB94)/2),0) -> 180686 | AD94: 295224.97 | AE94: 272784.31 | AF94: =ROUND(((AD94+AE94)/2),0) -> 284005 | AG94: 296848.18 | AH94: 272784.31 | AI94: =ROUND(((AG94+AH94)/2),0) -> 284816 | AJ94: 211774.84 | AK94: 193855.43 | AL94: =ROUND(((AJ94+AK94)/2),0) -> 202815 | AM94: =H94+K94+#REF!+N94+#REF!+#REF!+#REF!+#REF!+Q94+T94+W94+Z94+AC94+#REF!+AF94+AI94+AL94 -> #REF!
B95: 78 | C95: CAMBIO JUEGO RODAMIENTOS CAJA DE DIRECCIÓN | D95: SERVICIO | F95: 168781.26 | G95: 190034.72 | H95: =ROUND(((F95+G95)/2),0) -> 179408 | I95: 168781.26 | J95: 190034.72 | K95: =ROUND(((I95+J95)/2),0) -> 179408 | L95: 304267.27 | M95: 342581.54 | N95: =ROUND(((L95+M95)/2),0) -> 323424 | O95: 342585.92 | P95: 375203.16 | Q95: =ROUND(((O95+P95)/2),0) -> 358895 | R95: 340720.92 | S95: 375203.16 | T95: =ROUND(((R95+S95)/2),0) -> 357962 | U95: 333240.49 | V95: 375203.16 | W95: 354222 | X95: 477971.68 | Y95: 375203.16 | Z95: =ROUND(((X95+Y95)/2),0) -> 426587 | AA95: 259534.03 | AB95: 237573.46 | AC95: =ROUND(((AA95+AB95)/2),0) -> 248554 | AD95: 406995.85 | AE95: 375203.16 | AF95: =ROUND(((AD95+AE95)/2),0) -> 391100 | AG95: 400211.46 | AH95: 375203.16 | AI95: =ROUND(((AG95+AH95)/2),0) -> 387707 | AJ95: 283343.4 | AK95: 259368.19 | AL95: =ROUND(((AJ95+AK95)/2),0) -> 271356 | AM95: =H95+K95+#REF!+N95+#REF!+#REF!+#REF!+#REF!+Q95+T95+W95+Z95+AC95+#REF!+AF95+AI95+AL95 -> #REF!
B96: 79 | C96: CAMBIO ROTULAS | D96: SERVICIO | F96: 164112 | G96: 184777.49 | H96: =ROUND(((F96+G96)/2),0) -> 174445 | I96: 164112 | J96: 184777.49 | K96: =ROUND(((I96+J96)/2),0) -> 174445 | L96: 164112 | M96: 184777.49 | N96: =ROUND(((L96+M96)/2),0) -> 174445 | O96: 164112 | P96: 184777.49 | Q96: =ROUND(((O96+P96)/2),0) -> 174445 | R96: 164112 | S96: 184777.49 | T96: =ROUND(((R96+S96)/2),0) -> 174445 | U96: 164112 | V96: 184777.49 | W96: 174445 | X96: 195293.28 | Y96: 184777.49 | Z96: =ROUND(((X96+Y96)/2),0) -> 190035 | AA96: 164112 | AB96: 150225.6 | AC96: =ROUND(((AA96+AB96)/2),0) -> 157169 | AD96: 164112 | AE96: 184777.49 | AF96: =ROUND(((AD96+AE96)/2),0) -> 174445 | AG96: 164112 | AH96: 184777.49 | AI96: =ROUND(((AG96+AH96)/2),0) -> 174445 | AJ96: 164112 | AK96: 150225.6 | AL96: =ROUND(((AJ96+AK96)/2),0) -> 157169 | AM96: =H96+K96+#REF!+N96+#REF!+#REF!+#REF!+#REF!+Q96+T96+W96+Z96+AC96+#REF!+AF96+AI96+AL96 -> #REF!
B97: 80 | C97: CAMBIO SPLINDER | D97: SERVICIO | F97: 205140 | G97: 230971.86 | H97: =ROUND(((F97+G97)/2),0) -> 218056 | I97: 205140 | J97: 230971.86 | K97: =ROUND(((I97+J97)/2),0) -> 218056 | L97: 205140 | M97: 230971.86 | N97: =ROUND(((L97+M97)/2),0) -> 218056 | O97: 205140 | P97: 230971.86 | Q97: =ROUND(((O97+P97)/2),0) -> 218056 | R97: 205140 | S97: 230971.86 | T97: =ROUND(((R97+S97)/2),0) -> 218056 | U97: 205140 | V97: 230971.86 | W97: 218056 | X97: 244116.6 | Y97: 230971.86 | Z97: =ROUND(((X97+Y97)/2),0) -> 237544 | AA97: 205140 | AB97: 187782 | AC97: =ROUND(((AA97+AB97)/2),0) -> 196461 | AD97: 205140 | AE97: 230971.86 | AF97: =ROUND(((AD97+AE97)/2),0) -> 218056 | AG97: 205140 | AH97: 230971.86 | AI97: =ROUND(((AG97+AH97)/2),0) -> 218056 | AJ97: 205140 | AK97: 187782 | AL97: =ROUND(((AJ97+AK97)/2),0) -> 196461 | AM97: =H97+K97+#REF!+N97+#REF!+#REF!+#REF!+#REF!+Q97+T97+W97+Z97+AC97+#REF!+AF97+AI97+AL97 -> #REF!
B98: 81 | C98: CAMBIO TERMINALES DIRECCION | D98: SERVICIO | F98: 102891.25 | G98: 115847.63 | H98: =ROUND(((F98+G98)/2),0) -> 109369 | I98: 102891.25 | J98: 115847.63 | K98: =ROUND(((I98+J98)/2),0) -> 109369 | L98: 194227.17 | M98: 218684.85 | N98: =ROUND(((L98+M98)/2),0) -> 206456 | O98: 210220.98 | P98: 228498.46 | Q98: =ROUND(((O98+P98)/2),0) -> 219360 | R98: 215051.48 | S98: 228498.46 | T98: =ROUND(((R98+S98)/2),0) -> 221775 | U98: 213846.07 | V98: 228498.46 | W98: 221172 | X98: 293049.85 | Y98: 228498.46 | Z98: =ROUND(((X98+Y98)/2),0) -> 260774 | AA98: 159801.19 | AB98: 146279.55 | AC98: =ROUND(((AA98+AB98)/2),0) -> 153040 | AD98: 249772.58 | AE98: 228498.46 | AF98: =ROUND(((AD98+AE98)/2),0) -> 239136 | AG98: 246838.19 | AH98: 228498.46 | AI98: =ROUND(((AG98+AH98)/2),0) -> 237668 | AJ98: 172730.82 | AK98: 158115.14 | AL98: =ROUND(((AJ98+AK98)/2),0) -> 165423 | AM98: =H98+K98+#REF!+N98+#REF!+#REF!+#REF!+#REF!+Q98+T98+W98+Z98+AC98+#REF!+AF98+AI98+AL98 -> #REF!
B99: 82 | C99: CAMBIO TIJERAS | D99: SERVICIO | F99: 300872 | G99: 338758.73 | H99: =ROUND(((F99+G99)/2),0) -> 319815 | I99: 300872 | J99: 338758.73 | K99: =ROUND(((I99+J99)/2),0) -> 319815 | L99: 300872 | M99: 338758.73 | N99: =ROUND(((L99+M99)/2),0) -> 319815 | O99: 300872 | P99: 338758.73 | Q99: =ROUND(((O99+P99)/2),0) -> 319815 | R99: 300872 | S99: 338758.73 | T99: =ROUND(((R99+S99)/2),0) -> 319815 | U99: 300872 | V99: 338758.73 | W99: 319815 | X99: 358037.68 | Y99: 338758.73 | Z99: =ROUND(((X99+Y99)/2),0) -> 348398 | AA99: 300872 | AB99: 275413.6 | AC99: =ROUND(((AA99+AB99)/2),0) -> 288143 | AD99: 300872 | AE99: 338758.73 | AF99: =ROUND(((AD99+AE99)/2),0) -> 319815 | AG99: 300872 | AH99: 338758.73 | AI99: =ROUND(((AG99+AH99)/2),0) -> 319815 | AJ99: 300872 | AK99: 275413.6 | AL99: =ROUND(((AJ99+AK99)/2),0) -> 288143 | AM99: =H99+K99+#REF!+N99+#REF!+#REF!+#REF!+#REF!+Q99+T99+W99+Z99+AC99+#REF!+AF99+AI99+AL99 -> #REF!
B100: 83 | C100: PURGA SISTEMA DIRECCIONAL | D100: SERVICIO | F100: 150436 | G100: 169379.36 | H100: =ROUND(((F100+G100)/2),0) -> 159908 | I100: 150436 | J100: 169379.36 | K100: =ROUND(((I100+J100)/2),0) -> 159908 | L100: 150436 | M100: 169379.36 | N100: =ROUND(((L100+M100)/2),0) -> 159908 | O100: 150436 | P100: 169379.36 | Q100: =ROUND(((O100+P100)/2),0) -> 159908 | R100: 150436 | S100: 169379.36 | T100: =ROUND(((R100+S100)/2),0) -> 159908 | U100: 150436 | V100: 169379.36 | W100: 159908 | X100: 179018.84 | Y100: 169379.36 | Z100: =ROUND(((X100+Y100)/2),0) -> 174199 | AA100: 150436 | AB100: 137706.8 | AC100: =ROUND(((AA100+AB100)/2),0) -> 144071 | AD100: 150436 | AE100: 169379.36 | AF100: =ROUND(((AD100+AE100)/2),0) -> 159908 | AG100: 150436 | AH100: 169379.36 | AI100: =ROUND(((AG100+AH100)/2),0) -> 159908 | AJ100: 150436 | AK100: 137706.8 | AL100: =ROUND(((AJ100+AK100)/2),0) -> 144071 | AM100: =H100+K100+#REF!+N100+#REF!+#REF!+#REF!+#REF!+Q100+T100+W100+Z100+AC100+#REF!+AF100+AI100+AL100 -> #REF!
B101: 84 | C101: REVISION SISTEMA HIRAULICO | D101: SERVICIO | F101: 75057.649 | G101: 84509.139 | H101: =ROUND(((F101+G101)/2),0) -> 79783 | I101: 75057.649 | J101: 84509.139 | K101: =ROUND(((I101+J101)/2),0) -> 79783 | L101: 138508.41 | M101: 155949.81 | N101: =ROUND(((L101+M101)/2),0) -> 147229 | O101: 149751.72 | P101: 167665.09 | Q101: =ROUND(((O101+P101)/2),0) -> 158708 | R101: 153925.29 | S101: 167665.09 | T101: =ROUND(((R101+S101)/2),0) -> 160795 | U101: 151422.93 | V101: 167665.09 | W101: 159544 | X101: 207307.8 | Y101: 167665.09 | Z101: =ROUND(((X101+Y101)/2),0) -> 187486 | AA101: 117532.98 | AB101: 107587.88 | AC101: =ROUND(((AA101+AB101)/2),0) -> 112560 | AD101: 183217.65 | AE101: 167665.09 | AF101: =ROUND(((AD101+AE101)/2),0) -> 175441 | AG101: 182210.48 | AH101: 167665.09 | AI101: =ROUND(((AG101+AH101)/2),0) -> 174938 | AJ101: 126003.69 | AK101: 115341.84 | AL101: =ROUND(((AJ101+AK101)/2),0) -> 120673 | AM101: =H101+K101+#REF!+N101+#REF!+#REF!+#REF!+#REF!+Q101+T101+W101+Z101+AC101+#REF!+AF101+AI101+AL101 -> #REF!
B102: FRENOS | F102: 1821703 | G102: 2051097.5 | H102: =ROUND(((F102+G102)/2),0) -> 1936400 | I102: 1821703 | J102: 2051097.5 | K102: =ROUND(((I102+J102)/2),0) -> 1936400 | L102: 2797869.9 | M102: 3150186.3 | N102: =ROUND(((L102+M102)/2),0) -> 2974028 | O102: 3089052.9 | P102: 3505159.7 | Q102: =ROUND(((O102+P102)/2),0) -> 3297106 | R102: 3071304.3 | S102: 3505159.7 | T102: =ROUND(((R102+S102)/2),0) -> 3288232 | U102: 3091184.6 | V102: 3505159.7 | W102: 3298172 | X102: 4223489 | Y102: 3505159.7 | Z102: =ROUND(((X102+Y102)/2),0) -> 3864324 | AA102: 2437812.8 | AB102: 2231536.4 | AC102: =ROUND(((AA102+AB102)/2),0) -> 2334675 | AD102: 3512588.4 | AE102: 3505159.7 | AF102: =ROUND(((AD102+AE102)/2),0) -> 3508874 | AG102: 3545357.4 | AH102: 3505159.7 | AI102: =ROUND(((AG102+AH102)/2),0) -> 3525259 | AJ102: 2739944.3 | AK102: 2508102.8 | AL102: =ROUND(((AJ102+AK102)/2),0) -> 2624024 | AM102: =H102+K102+#REF!+N102+#REF!+#REF!+#REF!+#REF!+Q102+T102+W102+Z102+AC102+#REF!+AF102+AI102+AL102 -> #REF!
B103: 85 | C103: ARREGLO SWICHT FRENO AHOGO | D103: SERVICIO | F103: 196032.6 | G103: 220717.63 | H103: =ROUND(((F103+G103)/2),0) -> 208375 | I103: 196032.6 | J103: 220717.63 | K103: =ROUND(((I103+J103)/2),0) -> 208375 | L103: 338355.45 | M103: 380962.21 | N103: =ROUND(((L103+M103)/2),0) -> 359659 | O103: 381546.38 | P103: 446548.75 | Q103: =ROUND(((O103+P103)/2),0) -> 414048 | R103: 396606.8 | S103: 446548.75 | T103: =ROUND(((R103+S103)/2),0) -> 421578 | U103: 394733.81 | V103: 446548.75 | W103: 420641 | X103: 542743.13 | Y103: 446548.75 | Z103: =ROUND(((X103+Y103)/2),0) -> 494646 | AA103: 282083.77 | AB103: 258215.15 | AC103: =ROUND(((AA103+AB103)/2),0) -> 270149 | AD103: 451025.04 | AE103: 446548.75 | AF103: =ROUND(((AD103+AE103)/2),0) -> 448787 | AG103: 446507.45 | AH103: 446548.75 | AI103: =ROUND(((AG103+AH103)/2),0) -> 446528 | AJ103: 329091.81 | AK103: 301245.58 | AL103: =ROUND(((AJ103+AK103)/2),0) -> 315169 | AM103: =H103+K103+#REF!+N103+#REF!+#REF!+#REF!+#REF!+Q103+T103+W103+Z103+AC103+#REF!+AF103+AI103+AL103 -> #REF!
B104: 86 | C104: CAMBIO BANDAS | D104: SERVICIO | F104: 136340.28 | G104: 153508.67 | H104: =ROUND(((F104+G104)/2),0) -> 144924 | I104: 136340.28 | J104: 153508.67 | K104: =ROUND(((I104+J104)/2),0) -> 144924 | L104: 228305.57 | M104: 257054.51 | N104: =ROUND(((L104+M104)/2),0) -> 242680 | O104: 254376.4 | P104: 302248.16 | Q104: =ROUND(((O104+P104)/2),0) -> 278312 | R104: 268444.77 | S104: 302248.16 | T104: =ROUND(((R104+S104)/2),0) -> 285346 | U104: 264241.86 | V104: 302248.16 | W104: 283245 | X104: 372263.98 | Y104: 302248.16 | Z104: =ROUND(((X104+Y104)/2),0) -> 337256 | AA104: 202830.33 | AB104: 185667.76 | AC104: =ROUND(((AA104+AB104)/2),0) -> 194249 | AD104: 307599.91 | AE104: 302248.16 | AF104: =ROUND(((AD104+AE104)/2),0) -> 304924 | AG104: 317738.27 | AH104: 302248.16 | AI104: =ROUND(((AG104+AH104)/2),0) -> 309993 | AJ104: 228882.49 | AK104: 209515.51 | AL104: =ROUND(((AJ104+AK104)/2),0) -> 219199 | AM104: =H104+K104+#REF!+N104+#REF!+#REF!+#REF!+#REF!+Q104+T104+W104+Z104+AC104+#REF!+AF104+AI104+AL104 -> #REF!
B105: 87 | C105: CAMBIO BOMBA AUXILIAR DE FRENO | D105: SERVICIO | F105: 109408 | G105: 123184.99 | H105: =ROUND(((F105+G105)/2),0) -> 116296 | I105: 109408 | J105: 123184.99 | K105: =ROUND(((I105+J105)/2),0) -> 116296 | L105: 109408 | M105: 123184.99 | N105: =ROUND(((L105+M105)/2),0) -> 116296 | O105: 109408 | P105: 123184.99 | Q105: =ROUND(((O105+P105)/2),0) -> 116296 | R105: 109408 | S105: 123184.99 | T105: =ROUND(((R105+S105)/2),0) -> 116296 | U105: 109408 | V105: 123184.99 | W105: 116296 | X105: 130195.52 | Y105: 123184.99 | Z105: =ROUND(((X105+Y105)/2),0) -> 126690 | AA105: 109408 | AB105: 100150.4 | AC105: =ROUND(((AA105+AB105)/2),0) -> 104779 | AD105: 109408 | AE105: 123184.99 | AF105: =ROUND(((AD105+AE105)/2),0) -> 116296 | AG105: 109408 | AH105: 123184.99 | AI105: =ROUND(((AG105+AH105)/2),0) -> 116296 | AJ105: 109408 | AK105: 100150.4 | AL105: =ROUND(((AJ105+AK105)/2),0) -> 104779 | AM105: =H105+K105+#REF!+N105+#REF!+#REF!+#REF!+#REF!+Q105+T105+W105+Z105+AC105+#REF!+AF105+AI105+AL105 -> #REF!
B106: 88 | C106: CAMBIO BOMBA PRINCIPAL FRENOS | D106: SERVICIO | F106: 172628.59 | G106: 194366.52 | H106: =ROUND(((F106+G106)/2),0) -> 183498 | I106: 172628.59 | J106: 194366.52 | K106: =ROUND(((I106+J106)/2),0) -> 183498 | L106: 289365.97 | M106: 325803.82 | N106: =ROUND(((L106+M106)/2),0) -> 307585 | O106: 338159.89 | P106: 370668.18 | Q106: =ROUND(((O106+P106)/2),0) -> 354414 | R106: 329212.71 | S106: 370668.18 | T106: =ROUND(((R106+S106)/2),0) -> 349940 | U106: 334585.46 | V106: 370668.18 | W106: 352627 | X106: 469290 | Y106: 370668.18 | Z106: =ROUND(((X106+Y106)/2),0) -> 419979 | AA106: 248605.41 | AB106: 227569.56 | AC106: =ROUND(((AA106+AB106)/2),0) -> 238087 | AD106: 374981.56 | AE106: 370668.18 | AF106: =ROUND(((AD106+AE106)/2),0) -> 372825 | AG106: 385839.96 | AH106: 370668.18 | AI106: =ROUND(((AG106+AH106)/2),0) -> 378254 | AJ106: 289801.55 | AK106: 265279.88 | AL106: =ROUND(((AJ106+AK106)/2),0) -> 277541 | AM106: =H106+K106+#REF!+N106+#REF!+#REF!+#REF!+#REF!+Q106+T106+W106+Z106+AC106+#REF!+AF106+AI106+AL106 -> #REF!
B107: 89 | C107: CAMBIO CHUPAS | D107: SERVICIO | F107: 109408 | G107: 123184.99 | H107: =ROUND(((F107+G107)/2),0) -> 116296 | I107: 109408 | J107: 123184.99 | K107: =ROUND(((I107+J107)/2),0) -> 116296 | L107: 109408 | M107: 123184.99 | N107: =ROUND(((L107+M107)/2),0) -> 116296 | O107: 109408 | P107: 123184.99 | Q107: =ROUND(((O107+P107)/2),0) -> 116296 | R107: 109408 | S107: 123184.99 | T107: =ROUND(((R107+S107)/2),0) -> 116296 | U107: 109408 | V107: 123184.99 | W107: 116296 | X107: 130195.52 | Y107: 123184.99 | Z107: =ROUND(((X107+Y107)/2),0) -> 126690 | AA107: 109408 | AB107: 100150.4 | AC107: =ROUND(((AA107+AB107)/2),0) -> 104779 | AD107: 109408 | AE107: 123184.99 | AF107: =ROUND(((AD107+AE107)/2),0) -> 116296 | AG107: 109408 | AH107: 123184.99 | AI107: =ROUND(((AG107+AH107)/2),0) -> 116296 | AJ107: 109408 | AK107: 100150.4 | AL107: =ROUND(((AJ107+AK107)/2),0) -> 104779 | AM107: =H107+K107+#REF!+N107+#REF!+#REF!+#REF!+#REF!+Q107+T107+W107+Z107+AC107+#REF!+AF107+AI107+AL107 -> #REF!
B108: 90 | C108: CAMBIO CILINDRO FRENO | D108: SERVICIO | F108: 131449.34 | G108: 148001.84 | H108: =ROUND(((F108+G108)/2),0) -> 139726 | I108: 131449.34 | J108: 148001.84 | K108: =ROUND(((I108+J108)/2),0) -> 139726 | L108: 221126.49 | M108: 248971.42 | N108: =ROUND(((L108+M108)/2),0) -> 235049 | O108: 260590.09 | P108: 294956.76 | Q108: =ROUND(((O108+P108)/2),0) -> 277773 | R108: 261968.84 | S108: 294956.76 | T108: =ROUND(((R108+S108)/2),0) -> 278463 | U108: 256445.86 | V108: 294956.76 | W108: 275701 | X108: 363476.52 | Y108: 294956.76 | Z108: =ROUND(((X108+Y108)/2),0) -> 329217 | AA108: 195251.23 | AB108: 178729.97 | AC108: =ROUND(((AA108+AB108)/2),0) -> 186991 | AD108: 297887.35 | AE108: 294956.76 | AF108: =ROUND(((AD108+AE108)/2),0) -> 296422 | AG108: 307912.82 | AH108: 294956.76 | AI108: =ROUND(((AG108+AH108)/2),0) -> 301435 | AJ108: 220671.35 | AK108: 201999.16 | AL108: =ROUND(((AJ108+AK108)/2),0) -> 211335 | AM108: =H108+K108+#REF!+N108+#REF!+#REF!+#REF!+#REF!+Q108+T108+W108+Z108+AC108+#REF!+AF108+AI108+AL108 -> #REF!
