Workbook
Name d: [1]DATOS!$H$4:$H$12
Name dep: [1]DATOS!$D$3:$D$6
Name Deportes1: [2]DATOS!$H$4:$H$12
Name Deportes1: [3]DATOS!$H$4:$H$12
Name Deportes2: [2]DATOS!$I$4:$I$11
Name Deportes2: [3]DATOS!$I$4:$I$11
Name Deportes3: [2]DATOS!$K$4:$K$8
Name Deportes3: [3]DATOS!$K$4:$K$8
Name FF: [4]DATOS!$K$4:$K$8
Name INCLUIYENTE: [5]DATOS!$H$4:$H$12
Name INCLUYENTE: [5]DATOS!$J$4:$J$12
Name JUVENTUD: [6]DATOS!$J$4:$J$12
Name OTRPO: [7]DATOS!$D$3:$D$6
Name Proyecto: [2]DATOS!$D$3:$D$6
Name Proyecto: [3]DATOS!$D$3:$D$6
Name Recreacion: [2]DATOS!$J$4:$J$12
Name Recreacion: [3]DATOS!$J$4:$J$12
Name TEC: [8]DATOS!$I$4:$I$11

Sheet 02 DE ABRIL
A1: ZONA NORTE
A2: RUTAS CICLOVÍA 40 M3 | I2: LUDICA CICLOVÍA, ESCUELA DE LA BICI, ADICIONALES 25 M3 | R2: CONOS CICLOVÍA 25 M3
A3: CORREDOR | B3: # OPERARIOS | C3: # CAMIONES | D3: MODELO | E3: DISPONIBILIDAD | F3: TIPO DE SERVICIO | G3: $ | I3: ZONA | J3: CORREDOR | K3: # OPERARIOS | L3: # CAMIONES | M3: MODELO | N3: DISPONIBILIDAD | O3: TIPO DE SERVICIO | P3: $ | R3: ZONA | S3: CORREDOR | T3: # OPERARIOS | U3: # CAMIONES | V3: MODELO | W3: DISPONIBILIDAD | X3: TIPO DE SERVICIO | Y3: $
A4: NORTE 1 | B4: =+IF(F4=0,0,MID(F4,LEN(F4)-4,3)) -> 04 | C4: 1 | D4: 2014-2023 | E4: =+IF(F4=0,0,CONCATENATE(MID(F4,FIND("-",F4,1)+1,4),"ORAS")) -> 15 HORAS | F4: 1.CAMION TIPO40/50m³-15 HORAS-04 OP | G4: =+IF(F4="","",VLOOKUP(F4,$H$139:$I$217,2,FALSE)) -> 1955007 | I4: CENTRO | J4: CAMIONETA FURGONADA PENDONES CALLE 26 | K4: =+IF(O4=0,0,MID(O4,LEN(O4)-4,3)) -> 03 | L4: 1 | M4: 2014-2023 | N4: =+IF(O4=0,0,CONCATENATE(MID(O4,FIND("-",O4,1)+1,4),"ORAS")) -> 15 HORAS | O4: 31.CAMION TIPOFURGON-15 HORAS-03 OP | P4: =+IF(O4="","",VLOOKUP(O4,$H$139:$I$217,2,FALSE)) -> 1019917 | R4: CENTRO | S4: CENTRO 5 CAMION 1 UNICONOS | T4: 4 | U4: 1 | V4: 2014-2023 | W4: =+IF(X4=0,0,CONCATENATE(MID(X4,FIND("-",X4,1)+1,4),"ORAS")) -> 15 HORAS | X4: 16.CAMION TIPO25m³-15 HORAS-04 OP | Y4: =+IF(X4="","",VLOOKUP(X4,$H$139:$I$217,2,FALSE)) -> 1691890
A5: NORTE 2 | B5: =+IF(F5=0,0,MID(F5,LEN(F5)-4,3)) -> 03 | C5: 1 | D5: 2014-2023 | E5: =+IF(F5=0,0,CONCATENATE(MID(F5,FIND("-",F5,1)+1,4),"ORAS")) -> 15 HORAS | F5: 2.CAMION TIPO40/50m³-15 HORAS-03 OP | G5: =+IF(F5="","",VLOOKUP(F5,$H$139:$I$217,2,FALSE)) -> 1795972 | I5: CENTRO | J5: COMPORTAMIENTO VIAL | K5: =+IF(O5=0,0,MID(O5,LEN(O5)-4,3)) -> 01 | L5: 1 | M5: 2014-2023 | N5: =+IF(O5=0,0,CONCATENATE(MID(O5,FIND("-",O5,1)+1,4),"ORAS")) -> 09 HORAS | O5: 36.CAMION TIPOFURGON-09 HORAS-01 OP | P5: =+IF(O5="","",VLOOKUP(O5,$H$139:$I$217,2,FALSE)) -> 481858 | R5: CENTRO | S5: CENTRO 5 CAMION 2 UNICONOS | T5: 4 | U5: 1 | V5: 2014-2023 | W5: =+IF(X5=0,0,CONCATENATE(MID(X5,FIND("-",X5,1)+1,4),"ORAS")) -> 15 HORAS | X5: 16.CAMION TIPO25m³-15 HORAS-04 OP | Y5: =+IF(X5="","",VLOOKUP(X5,$H$139:$I$217,2,FALSE)) -> 1691890
A6: NORTE 3 | B6: =+IF(F6=0,0,MID(F6,LEN(F6)-4,3)) -> 03 | C6: 1 | D6: 2014-2023 | E6: =+IF(F6=0,0,CONCATENATE(MID(F6,FIND("-",F6,1)+1,4),"ORAS")) -> 15 HORAS | F6: 2.CAMION TIPO40/50m³-15 HORAS-03 OP | G6: =+IF(F6="","",VLOOKUP(F6,$H$139:$I$217,2,FALSE)) -> 1795972 | K6: =+IF(O6=0,0,MID(O6,LEN(O6)-4,3)) -> 0 | N6: =+IF(O6=0,0,CONCATENATE(MID(O6,FIND("-",O6,1)+1,4),"ORAS")) -> 0 | O6: 0 | P6: =+IF(O6="","",VLOOKUP(O6,$H$139:$I$217,2,FALSE)) -> 0 | R6: CENTRO | S6: CENTRO 4 CAMION 3 UNICONOS | T6: 4 | U6: 1 | V6: 2014-2023 | W6: =+IF(X6=0,0,CONCATENATE(MID(X6,FIND("-",X6,1)+1,4),"ORAS")) -> 15 HORAS | X6: 16.CAMION TIPO25m³-15 HORAS-04 OP | Y6: =+IF(X6="","",VLOOKUP(X6,$H$139:$I$217,2,FALSE)) -> 1691890
A7: NORTE 4 | B7: =+IF(F7=0,0,MID(F7,LEN(F7)-4,3)) -> 03 | C7: 1 | D7: 2014-2023 | E7: =+IF(F7=0,0,CONCATENATE(MID(F7,FIND("-",F7,1)+1,4),"ORAS")) -> 15 HORAS | F7: 2.CAMION TIPO40/50m³-15 HORAS-03 OP | G7: =+IF(F7="","",VLOOKUP(F7,$H$139:$I$217,2,FALSE)) -> 1795972 | K7: =+IF(O7=0,0,MID(O7,LEN(O7)-4,3)) -> 0 | N7: =+IF(O7=0,0,CONCATENATE(MID(O7,FIND("-",O7,1)+1,4),"ORAS")) -> 0 | O7: 0 | P7: =+IF(O7="","",VLOOKUP(O7,$H$139:$I$217,2,FALSE)) -> 0 | X7: 0 | Y7: 0
A8: NORTE 5 ZONA 1 | B8: =+IF(F8=0,0,MID(F8,LEN(F8)-4,3)) -> 03 | C8: 1 | D8: 2014-2023 | E8: =+IF(F8=0,0,CONCATENATE(MID(F8,FIND("-",F8,1)+1,4),"ORAS")) -> 15 HORAS | F8: 2.CAMION TIPO40/50m³-15 HORAS-03 OP | G8: =+IF(F8="","",VLOOKUP(F8,$H$139:$I$217,2,FALSE)) -> 1795972 | K8: =+IF(O8=0,0,MID(O8,LEN(O8)-4,3)) -> 0 | N8: =+IF(O8=0,0,CONCATENATE(MID(O8,FIND("-",O8,1)+1,4),"ORAS")) -> 0 | O8: 0 | P8: =+IF(O8="","",VLOOKUP(O8,$H$139:$I$217,2,FALSE)) -> 0 | U8: 3
A9: NORTE 5 ZONA 2 | B9: =+IF(F9=0,0,MID(F9,LEN(F9)-4,3)) -> 03 | C9: 1 | D9: 2014-2023 | E9: =+IF(F9=0,0,CONCATENATE(MID(F9,FIND("-",F9,1)+1,4),"ORAS")) -> 15 HORAS | F9: 2.CAMION TIPO40/50m³-15 HORAS-03 OP | G9: =+IF(F9="","",VLOOKUP(F9,$H$139:$I$217,2,FALSE)) -> 1795972 | K9: =+IF(O9=0,0,MID(O9,LEN(O9)-4,3)) -> 0 | N9: =+IF(O9=0,0,CONCATENATE(MID(O9,FIND("-",O9,1)+1,4),"ORAS")) -> 0 | O9: 0 | P9: =+IF(O9="","",VLOOKUP(O9,$H$139:$I$217,2,FALSE)) -> 0
A10: NORTE 1 CONOS | B10: =+IF(F10=0,0,MID(F10,LEN(F10)-4,3)) -> 04 | C10: 1 | D10: 2014-2023 | E10: =+IF(F10=0,0,CONCATENATE(MID(F10,FIND("-",F10,1)+1,4),"ORAS")) -> 15 HORAS | F10: 1.CAMION TIPO40/50m³-15 HORAS-04 OP | G10: =+IF(F10="","",VLOOKUP(F10,$H$139:$I$217,2,FALSE)) -> 1955007
A11: NORTE 1 CONTRAFLUJOS | B11: =+IF(F11=0,0,MID(F11,LEN(F11)-4,3)) -> 04 | C11: 1 | D11: 2014-2023 | E11: =+IF(F11=0,0,CONCATENATE(MID(F11,FIND("-",F11,1)+1,4),"ORAS")) -> 15 HORAS | F11: 1.CAMION TIPO40/50m³-15 HORAS-04 OP | G11: =+IF(F11="","",VLOOKUP(F11,$H$139:$I$217,2,FALSE)) -> 1955007
G12: =+IF(F12="","",VLOOKUP(F12,$H$139:$I$217,2,FALSE))
B13: =+B10+B9+B8+B7+B6+B5+B4 -> 23 | C13: =+C10+C9+C8+C7+C6+C5+C4 -> 7 | G13: =SUM(G4:G12) -> 14844881 | R13: OPERARIOS ADICIONALES
A14: RUTAS CICLOVÍA 25 M3 | R14: ZONA | S14: CORREDOR | T14: # OPERARIOS | U14: # CAMIONES | V14: MODELO | W14: DISPONIBILIDAD | X14: TIPO DE SERVICIO | Y14: $
A15: CORREDOR | B15: # OPERARIOS | C15: # CAMIONES | D15: MODELO | E15: DISPONIBILIDAD | F15: TIPO DE SERVICIO | G15: $ | R15: CENTRO | S15: APOYO CICLOVÍA | T15: 11 | U15: 0 | V15: 2014-2023 | W15: =+IF(X15=0,0,CONCATENATE(MID(X15,FIND("-",X15,1)+1,4),"ORAS")) -> 15 HORAS | X15: 47.OPERARIO-15 HORAS-00 OP | Y15: =+IF(X15="","",VLOOKUP(X15,$H$139:$I$217,2,FALSE))*T15 -> 3116641
B16: =+IF(F16=0,0,MID(F16,LEN(F16)-4,3)) -> 0 | E16: =+IF(F16=0,0,CONCATENATE(MID(F16,FIND("-",F16,1)+1,4),"ORAS")) -> 0 | F16: 0 | G16: =+IF(F16="","",VLOOKUP(F16,$H$139:$I$217,2,FALSE)) -> 0 | I16: ATN CICLOVÍA, ESCUELA DE LA BICI, ADICIONALES 40 M3 | W16: =+IF(X16=0,0,CONCATENATE(MID(X16,FIND("-",X16,1)+1,4),"ORAS")) -> 0 | X16: 0 | Y16: =+IF(X16="","",VLOOKUP(X16,$H$139:$I$217,2,FALSE))*T16 -> 0
F17: 0 | G17: =+IF(F17="","",VLOOKUP(F17,$H$139:$I$217,2,FALSE)) -> 0 | I17: ZONA | J17: CORREDOR | K17: # OPERARIOS | L17: # CAMIONES | M17: MODELO | N17: DISPONIBILIDAD | O17: TIPO DE SERVICIO | P17: $
F18: 0 | G18: =+IF(F18="","",VLOOKUP(F18,$H$139:$I$217,2,FALSE)) -> 0 | K18: =+IF(O18=0,0,MID(O18,LEN(O18)-4,3)) -> 0 | N18: =+IF(O18=0,0,CONCATENATE(MID(O18,FIND("-",O18,1)+1,4),"ORAS")) -> 0 | O18: 0 | P18: =+IF(O18="","",VLOOKUP(O18,$H$139:$I$217,2,FALSE)) -> 0 | R18: CAMIONETA 4 X4 DOBLE CABINA CON PLATON
F19: 0 | G19: =+IF(F19="","",VLOOKUP(F19,$H$139:$I$217,2,FALSE)) -> 0 | K19: =+IF(O19=0,0,MID(O19,LEN(O19)-4,3)) -> 0 | N19: =+IF(O19=0,0,CONCATENATE(MID(O19,FIND("-",O19,1)+1,4),"ORAS")) -> 0 | O19: 0 | P19: =+IF(O19="","",VLOOKUP(O19,$H$139:$I$217,2,FALSE)) -> 0 | R19: ZONA | S19: CORREDOR | T19: # OPERARIOS | U19: # CAMIONES | V19: MODELO | W19: DISPONIBILIDAD | X19: TIPO DE SERVICIO | Y19: $
F20: 0 | G20: =+IF(F20="","",VLOOKUP(F20,$H$139:$I$217,2,FALSE)) -> 0 | K20: =+IF(O20=0,0,MID(O20,LEN(O20)-4,3)) -> 0 | N20: =+IF(O20=0,0,CONCATENATE(MID(O20,FIND("-",O20,1)+1,4),"ORAS")) -> 0 | O20: 0 | P20: =+IF(O20="","",VLOOKUP(O20,$H$139:$I$217,2,FALSE)) -> 0 | R20: NORTE | S20: COORDINADOR ZONA NORTE | T20: NA | U20: NA | V20: 2014-2023 | W20: =+IF(X20=0,0,CONCATENATE(MID(X20,FIND("-",X20,1)+1,4),"ORAS")) -> #VALUE! | X20: 50. COORD X DIA | Y20: =+IF(X20="","",VLOOKUP(X20,$H$139:$I$217,2,FALSE)) -> 477011
F21: 0 | G21: =+IF(F21="","",VLOOKUP(F21,$H$139:$I$217,2,FALSE)) -> 0 | O21: 0 | P21: =+IF(O21="","",VLOOKUP(O21,$H$139:$I$217,2,FALSE)) -> 0 | R21: NORTE | S21: APOYO CICLOVÍA | T21: NA | U21: NA | V21: 2014-2023 | W21: =+IF(X21=0,0,CONCATENATE(MID(X21,FIND("-",X21,1)+1,4),"ORAS")) -> 15 HORAS | X21: 40.4X4-15 HORAS-00 OP | Y21: =+IF(X21="","",VLOOKUP(X21,$H$139:$I$217,2,FALSE)) -> 1128712
A22: valor total | B22: =SUM(B4:B13)+B16+B17+B18+B19+B20+B21 -> 23 | C22: =+C4+C5+C6+C7+C8+C9+C10+C16 -> 7 | G22: =SUM(G13,G16:G21) -> 14844881 | O22: 0 | P22: =+IF(O22="","",VLOOKUP(O22,$H$139:$I$217,2,FALSE)) -> 0 | R22: NORTE | S22: APOYO CICLOVÍA | T22: NA | U22: NA | V22: 2014-2023 | W22: =+IF(X22=0,0,CONCATENATE(MID(X22,FIND("-",X22,1)+1,4),"ORAS")) -> 15 HORAS | X22: 40.4X4-15 HORAS-00 OP | Y22: =+IF(X22="","",VLOOKUP(X22,$H$139:$I$217,2,FALSE)) -> 1128712
A23: ZONA CENTRO | R23: CENTRO | S23: COORDINADOR ZONA CENTRO | T23: NA | U23: NA | V23: 2014-2023 | W23: =+IF(X23=0,0,CONCATENATE(MID(X23,FIND("-",X23,1)+1,4),"ORAS")) -> #VALUE! | X23: 50. COORD X DIA | Y23: =+IF(X23="","",VLOOKUP(X23,$H$139:$I$217,2,FALSE)) -> 477011
A24: RUTAS CICLOVÍA 40 M3 | R24: CENTRO | S24: CAMION 3 | T24: NA | U24: 1 | V24: 2014-2024 | W24: =+IF(X24=0,0,CONCATENATE(MID(X24,FIND("-",X24,1)+1,4),"ORAS")) -> 15 HORAS | X24: 32.CAMION TIPOFURGON-15 HORAS-02 OP | Y24: =+IF(X24="","",VLOOKUP(X24,$H$139:$I$217,2,FALSE)) -> 832623
A25: CORREDOR | B25: # OPERARIOS | C25: # CAMIONES | D25: MODELO | E25: DISPONIBILIDAD | F25: TIPO DE SERVICIO | G25: $ | J25: TOTAL | K25: =K4+K5+K6+K7+K8+K9+K18+K19+K20 -> 4 | L25: =SUM(L4:L24) -> 2 | P25: =SUM(P4:P24) -> 1501775 | R25: SUR | S25: APOYO CICLOVÍA | T25: NA | U25: NA | V25: 2014-2024 | W25: =+IF(X25=0,0,CONCATENATE(MID(X25,FIND("-",X25,1)+1,4),"ORAS")) -> 15 HORAS | X25: 40.4X4-15 HORAS-00 OP | Y25: =+IF(X25="","",VLOOKUP(X25,$H$139:$I$217,2,FALSE)) -> 1128712
A26: CENTRO 1 | B26: =+IF(F26=0,0,MID(F26,LEN(F26)-4,3)) -> 04 | C26: 1 | D26: 2014-2023 | E26: =+IF(F26=0,0,CONCATENATE(MID(F26,FIND("-",F26,1)+1,4),"ORAS")) -> 15 HORAS | F26: 1.CAMION TIPO40/50m³-15 HORAS-04 OP | G26: =+IF(F26="","",VLOOKUP(F26,$H$139:$I$217,2,FALSE)) -> 1955007 | R26: SUR | S26: COORDINADOR ZONA SUR | T26: NA | U26: NA | V26: 2014-2026 | W26: =+IF(X26=0,0,CONCATENATE(MID(X26,FIND("-",X26,1)+1,4),"ORAS")) -> #VALUE! | X26: 50. COORD X DIA | Y26: =+IF(X26="","",VLOOKUP(X26,$H$139:$I$217,2,FALSE)) -> 477011
A27: CENTRO 2 | B27: =+IF(F27=0,0,MID(F27,LEN(F27)-4,3)) -> 04 | C27: 1 | D27: 2014-2023 | E27: =+IF(F27=0,0,CONCATENATE(MID(F27,FIND("-",F27,1)+1,4),"ORAS")) -> 15 HORAS | F27: 1.CAMION TIPO40/50m³-15 HORAS-04 OP | G27: =+IF(F27="","",VLOOKUP(F27,$H$139:$I$217,2,FALSE)) -> 1955007 | W27: =+IF(X27=0,0,CONCATENATE(MID(X27,FIND("-",X27,1)+1,4),"ORAS")) -> 0 | X27: 0 | Y27: =+IF(X27="","",VLOOKUP(X27,$H$139:$I$217,2,FALSE)) -> 0
A28: CENTRO 4 | B28: =+IF(F28=0,0,MID(F28,LEN(F28)-4,3)) -> 04 | C28: 1 | D28: 2014-2023 | E28: =+IF(F28=0,0,CONCATENATE(MID(F28,FIND("-",F28,1)+1,4),"ORAS")) -> 15 HORAS | F28: 1.CAMION TIPO40/50m³-15 HORAS-04 OP | G28: =+IF(F28="","",VLOOKUP(F28,$H$139:$I$217,2,FALSE)) -> 1955007 | W28: =+IF(X28=0,0,CONCATENATE(MID(X28,FIND("-",X28,1)+1,4),"ORAS")) -> 0 | X28: 0 | Y28: =+IF(X28="","",VLOOKUP(X28,$H$139:$I$217,2,FALSE)) -> 0
A29: CENTRO 5 | B29: =+IF(F29=0,0,MID(F29,LEN(F29)-4,3)) -> 03 | C29: 1 | D29: 2014-2023 | E29: =+IF(F29=0,0,CONCATENATE(MID(F29,FIND("-",F29,1)+1,4),"ORAS")) -> 15 HORAS | F29: 2.CAMION TIPO40/50m³-15 HORAS-03 OP | G29: =+IF(F29="","",VLOOKUP(F29,$H$139:$I$217,2,FALSE)) -> 1795972 | W29: =+IF(X29=0,0,CONCATENATE(MID(X29,FIND("-",X29,1)+1,4),"ORAS")) -> 0 | X29: 0 | Y29: =+IF(X29="","",VLOOKUP(X29,$H$139:$I$217,2,FALSE)) -> 0
F30: 0 | G30: =+IF(F30="","",VLOOKUP(F30,$H$139:$I$217,2,FALSE)) -> 0 | W30: =+IF(X30=0,0,CONCATENATE(MID(X30,FIND("-",X30,1)+1,4),"ORAS")) -> 0 | X30: 0 | Y30: =+IF(X30="","",VLOOKUP(X30,$H$139:$I$217,2,FALSE)) -> 0
G31: =+IF(F31="","",VLOOKUP(F31,$H$139:$I$217,2,FALSE))
A32: RUTAS CICLOVÍA 25 M3
B33: # OPERARIOS | C33: # CAMIONES | D33: MODELO | F33: TIPO DE SERVICIO | G33: $ | S33: TOTAL | T33: =+T15+T16+T4+T5+T6+T7 -> 23 | U33: =SUM(U4:U7,U24) -> 4 | Y33: =SUM(Y4:Y30) -> 13842103
A34: CENTRO 3 ZONA 1 | B34: =+IF(F34=0,0,MID(F34,LEN(F34)-4,3)) -> 03 | C34: 1 | D34: 2014-2023 | E34: =+IF(F34=0,0,CONCATENATE(MID(F34,FIND("-",F34,1)+1,4),"ORAS")) -> 15 HORAS | F34: 17.CAMION TIPO25m³-15 HORAS-03 OP | G34: =+IF(F34="","",VLOOKUP(F34,$H$139:$I$217,2,FALSE)) -> 1505234
A35: CENTRO 3 ZONA 2 | B35: =+IF(F35=0,0,MID(F35,LEN(F35)-4,3)) -> 03 | C35: 1 | D35: 2014-2023 | E35: =+IF(F35=0,0,CONCATENATE(MID(F35,FIND("-",F35,1)+1,4),"ORAS")) -> 15 HORAS | F35: 17.CAMION TIPO25m³-15 HORAS-03 OP | G35: =+IF(F35="","",VLOOKUP(F35,$H$139:$I$217,2,FALSE)) -> 1505234
A36: CENTRO 6 ZONA 1 | B36: =+IF(F36=0,0,MID(F36,LEN(F36)-4,3)) -> 03 | C36: 1 | D36: 2014-2023 | E36: =+IF(F36=0,0,CONCATENATE(MID(F36,FIND("-",F36,1)+1,4),"ORAS")) -> 15 HORAS | F36: 17.CAMION TIPO25m³-15 HORAS-03 OP | G36: =+IF(F36="","",VLOOKUP(F36,$H$139:$I$217,2,FALSE)) -> 1505234
A37: CENTRO 6 ZONA 2 | B37: =+IF(F37=0,0,MID(F37,LEN(F37)-4,3)) -> 03 | C37: 1 | D37: 2014-2023 | E37: =+IF(F37=0,0,CONCATENATE(MID(F37,FIND("-",F37,1)+1,4),"ORAS")) -> 15 HORAS | F37: 17.CAMION TIPO25m³-15 HORAS-03 OP | G37: =+IF(F37="","",VLOOKUP(F37,$H$139:$I$217,2,FALSE)) -> 1505234
B38: =+IF(F38=0,0,MID(F38,LEN(F38)-4,3)) -> 0 | D38: 2014-2023 | E38: =+IF(F38=0,0,CONCATENATE(MID(F38,FIND("-",F38,1)+1,4),"ORAS")) -> 0 | F38: 0 | G38: =+IF(F38="","",VLOOKUP(F38,$H$139:$I$217,2,FALSE)) -> 0
F39: 0 | G39: =+IF(F39="","",VLOOKUP(F39,$H$139:$I$217,2,FALSE)) -> 0
A40: valor total | B40: =+B26+B27+B28+B34+B35+B36+B37+B38 -> 24 | C40: =SUM(C26:C32)+C34+C35+C36+C37+C38+C39 -> 8 | E40: =+IF(F40=0,0,CONCATENATE(MID(F40,FIND("-",F40,1)+1,3),"ORAS")) -> 0 | G40: =SUM(G26:G31,G34:G39) -> 13681929
...

Sheet 05 DE ABRIL
A1: ZONA NORTE
A2: RUTAS CICLOVÍA 40 M3 | I2: LUDICA CICLOVÍA, ESCUELA DE LA BICI, ADICIONALES 25 M3 | R2: CONOS CICLOVÍA 25 M3
A3: CORREDOR | B3: # OPERARIOS | C3: # CAMIONES | D3: MODELO | E3: DISPONIBILIDAD | F3: TIPO DE SERVICIO | G3: $ | I3: ZONA | J3: CORREDOR | K3: # OPERARIOS | L3: # CAMIONES | M3: MODELO | N3: DISPONIBILIDAD | O3: TIPO DE SERVICIO | P3: $ | R3: ZONA | S3: CORREDOR | T3: # OPERARIOS | U3: # CAMIONES | V3: MODELO | W3: DISPONIBILIDAD | X3: TIPO DE SERVICIO | Y3: $
A4: NORTE 1 | B4: =+IF(F4=0,0,MID(F4,LEN(F4)-4,3)) -> 04 | C4: 1 | D4: 2014-2023 | E4: =+IF(F4=0,0,CONCATENATE(MID(F4,FIND("-",F4,1)+1,4),"ORAS")) -> 15 HORAS | F4: 1.CAMION TIPO40/50m³-15 HORAS-04 OP | G4: =+IF(F4="","",VLOOKUP(F4,$H$139:$I$217,2,FALSE)) -> 1955007 | I4: CENTRO | J4: CAMIONETA FURGONADA PENDONES CALLE 26 | K4: =+IF(O4=0,0,MID(O4,LEN(O4)-4,3)) -> 03 | L4: 1 | M4: 2014-2023 | N4: =+IF(O4=0,0,CONCATENATE(MID(O4,FIND("-",O4,1)+1,4),"ORAS")) -> 15 HORAS | O4: 31.CAMION TIPOFURGON-15 HORAS-03 OP | P4: =+IF(O4="","",VLOOKUP(O4,$H$139:$I$217,2,FALSE)) -> 1019917 | R4: CENTRO | S4: CENTRO 5 CAMION 1 UNICONOS | T4: 4 | U4: 1 | V4: 2014-2023 | W4: =+IF(X4=0,0,CONCATENATE(MID(X4,FIND("-",X4,1)+1,4),"ORAS")) -> 15 HORAS | X4: 16.CAMION TIPO25m³-15 HORAS-04 OP | Y4: =+IF(X4="","",VLOOKUP(X4,$H$139:$I$217,2,FALSE)) -> 1691890
A5: NORTE 2 | B5: =+IF(F5=0,0,MID(F5,LEN(F5)-4,3)) -> 03 | C5: 1 | D5: 2014-2023 | E5: =+IF(F5=0,0,CONCATENATE(MID(F5,FIND("-",F5,1)+1,4),"ORAS")) -> 15 HORAS | F5: 2.CAMION TIPO40/50m³-15 HORAS-03 OP | G5: =+IF(F5="","",VLOOKUP(F5,$H$139:$I$217,2,FALSE)) -> 1795972 | K5: =+IF(O5=0,0,MID(O5,LEN(O5)-4,3)) -> 0 | N5: =+IF(O5=0,0,CONCATENATE(MID(O5,FIND("-",O5,1)+1,4),"ORAS")) -> 0 | O5: 0 | P5: =+IF(O5="","",VLOOKUP(O5,$H$139:$I$217,2,FALSE)) -> 0 | R5: CENTRO | S5: CENTRO 5 CAMION 2 UNICONOS | T5: 4 | U5: 1 | V5: 2014-2023 | W5: =+IF(X5=0,0,CONCATENATE(MID(X5,FIND("-",X5,1)+1,4),"ORAS")) -> 15 HORAS | X5: 16.CAMION TIPO25m³-15 HORAS-04 OP | Y5: =+IF(X5="","",VLOOKUP(X5,$H$139:$I$217,2,FALSE)) -> 1691890
A6: NORTE 3 | B6: =+IF(F6=0,0,MID(F6,LEN(F6)-4,3)) -> 03 | C6: 1 | D6: 2014-2023 | E6: =+IF(F6=0,0,CONCATENATE(MID(F6,FIND("-",F6,1)+1,4),"ORAS")) -> 15 HORAS | F6: 2.CAMION TIPO40/50m³-15 HORAS-03 OP | G6: =+IF(F6="","",VLOOKUP(F6,$H$139:$I$217,2,FALSE)) -> 1795972 | K6: =+IF(O6=0,0,MID(O6,LEN(O6)-4,3)) -> 0 | N6: =+IF(O6=0,0,CONCATENATE(MID(O6,FIND("-",O6,1)+1,4),"ORAS")) -> 0 | O6: 0 | P6: =+IF(O6="","",VLOOKUP(O6,$H$139:$I$217,2,FALSE)) -> 0 | R6: CENTRO | S6: CENTRO 4 CAMION 3 UNICONOS | T6: 4 | U6: 1 | V6: 2014-2023 | W6: =+IF(X6=0,0,CONCATENATE(MID(X6,FIND("-",X6,1)+1,4),"ORAS")) -> 15 HORAS | X6: 16.CAMION TIPO25m³-15 HORAS-04 OP | Y6: =+IF(X6="","",VLOOKUP(X6,$H$139:$I$217,2,FALSE)) -> 1691890
A7: NORTE 4 | B7: =+IF(F7=0,0,MID(F7,LEN(F7)-4,3)) -> 03 | C7: 1 | D7: 2014-2023 | E7: =+IF(F7=0,0,CONCATENATE(MID(F7,FIND("-",F7,1)+1,4),"ORAS")) -> 15 HORAS | F7: 2.CAMION TIPO40/50m³-15 HORAS-03 OP | G7: =+IF(F7="","",VLOOKUP(F7,$H$139:$I$217,2,FALSE)) -> 1795972 | K7: =+IF(O7=0,0,MID(O7,LEN(O7)-4,3)) -> 0 | N7: =+IF(O7=0,0,CONCATENATE(MID(O7,FIND("-",O7,1)+1,4),"ORAS")) -> 0 | O7: 0 | P7: =+IF(O7="","",VLOOKUP(O7,$H$139:$I$217,2,FALSE)) -> 0 | X7: 0 | Y7: 0
A8: NORTE 5 ZONA 1 | B8: =+IF(F8=0,0,MID(F8,LEN(F8)-4,3)) -> 03 | C8: 1 | D8: 2014-2023 | E8: =+IF(F8=0,0,CONCATENATE(MID(F8,FIND("-",F8,1)+1,4),"ORAS")) -> 15 HORAS | F8: 2.CAMION TIPO40/50m³-15 HORAS-03 OP | G8: =+IF(F8="","",VLOOKUP(F8,$H$139:$I$217,2,FALSE)) -> 1795972 | K8: =+IF(O8=0,0,MID(O8,LEN(O8)-4,3)) -> 0 | N8: =+IF(O8=0,0,CONCATENATE(MID(O8,FIND("-",O8,1)+1,4),"ORAS")) -> 0 | O8: 0 | P8: =+IF(O8="","",VLOOKUP(O8,$H$139:$I$217,2,FALSE)) -> 0 | U8: 3
A9: NORTE 5 ZONA 2 | B9: =+IF(F9=0,0,MID(F9,LEN(F9)-4,3)) -> 03 | C9: 1 | D9: 2014-2023 | E9: =+IF(F9=0,0,CONCATENATE(MID(F9,FIND("-",F9,1)+1,4),"ORAS")) -> 15 HORAS | F9: 2.CAMION TIPO40/50m³-15 HORAS-03 OP | G9: =+IF(F9="","",VLOOKUP(F9,$H$139:$I$217,2,FALSE)) -> 1795972 | K9: =+IF(O9=0,0,MID(O9,LEN(O9)-4,3)) -> 0 | N9: =+IF(O9=0,0,CONCATENATE(MID(O9,FIND("-",O9,1)+1,4),"ORAS")) -> 0 | O9: 0 | P9: =+IF(O9="","",VLOOKUP(O9,$H$139:$I$217,2,FALSE)) -> 0
A10: NORTE 1 CONOS | B10: =+IF(F10=0,0,MID(F10,LEN(F10)-4,3)) -> 04 | C10: 1 | D10: 2014-2023 | E10: =+IF(F10=0,0,CONCATENATE(MID(F10,FIND("-",F10,1)+1,4),"ORAS")) -> 15 HORAS | F10: 1.CAMION TIPO40/50m³-15 HORAS-04 OP | G10: =+IF(F10="","",VLOOKUP(F10,$H$139:$I$217,2,FALSE)) -> 1955007
A11: NORTE 1 CONTRAFLUJOS | B11: =+IF(F11=0,0,MID(F11,LEN(F11)-4,3)) -> 04 | C11: 1 | D11: 2014-2023 | E11: =+IF(F11=0,0,CONCATENATE(MID(F11,FIND("-",F11,1)+1,4),"ORAS")) -> 15 HORAS | F11: 1.CAMION TIPO40/50m³-15 HORAS-04 OP | G11: =+IF(F11="","",VLOOKUP(F11,$H$139:$I$217,2,FALSE)) -> 1955007
G12: =+IF(F12="","",VLOOKUP(F12,$H$139:$I$217,2,FALSE))
B13: =+B10+B9+B8+B7+B6+B5+B4 -> 23 | C13: =+C10+C9+C8+C7+C6+C5+C4 -> 7 | G13: =SUM(G4:G12) -> 14844881 | R13: OPERARIOS ADICIONALES
A14: RUTAS CICLOVÍA 25 M3 | R14: ZONA | S14: CORREDOR | T14: # OPERARIOS | U14: # CAMIONES | V14: MODELO | W14: DISPONIBILIDAD | X14: TIPO DE SERVICIO | Y14: $
A15: CORREDOR | B15: # OPERARIOS | C15: # CAMIONES | D15: MODELO | E15: DISPONIBILIDAD | F15: TIPO DE SERVICIO | G15: $ | R15: CENTRO | S15: APOYO CICLOVÍA | T15: 0 | U15: 0 | V15: 2014-2023 | W15: =+IF(X15=0,0,CONCATENATE(MID(X15,FIND("-",X15,1)+1,4),"ORAS")) -> 0 | X15: 0 | Y15: =+IF(X15="","",VLOOKUP(X15,$H$139:$I$217,2,FALSE))*T15 -> 0
B16: =+IF(F16=0,0,MID(F16,LEN(F16)-4,3)) -> 0 | E16: =+IF(F16=0,0,CONCATENATE(MID(F16,FIND("-",F16,1)+1,4),"ORAS")) -> 0 | F16: 0 | G16: =+IF(F16="","",VLOOKUP(F16,$H$139:$I$217,2,FALSE)) -> 0 | I16: ATN CICLOVÍA, ESCUELA DE LA BICI, ADICIONALES 40 M3 | W16: =+IF(X16=0,0,CONCATENATE(MID(X16,FIND("-",X16,1)+1,4),"ORAS")) -> 0 | X16: 0 | Y16: =+IF(X16="","",VLOOKUP(X16,$H$139:$I$217,2,FALSE))*T16 -> 0
F17: 0 | G17: =+IF(F17="","",VLOOKUP(F17,$H$139:$I$217,2,FALSE)) -> 0 | I17: ZONA | J17: CORREDOR | K17: # OPERARIOS | L17: # CAMIONES | M17: MODELO | N17: DISPONIBILIDAD | O17: TIPO DE SERVICIO | P17: $
F18: 0 | G18: =+IF(F18="","",VLOOKUP(F18,$H$139:$I$217,2,FALSE)) -> 0 | I18: CENTRO | J18: CICLOVIA TE CUIDA | K18: =+IF(O18=0,0,MID(O18,LEN(O18)-4,3)) -> 04 | L18: 1 | M18: 2014-2023 | N18: =+IF(O18=0,0,CONCATENATE(MID(O18,FIND("-",O18,1)+1,4),"ORAS")) -> 09 HORAS | O18: 6.CAMION TIPO40/50m³-09 HORAS-04 OP | P18: =+IF(O18="","",VLOOKUP(O18,$H$139:$I$217,2,FALSE)) -> 1665773 | R18: CAMIONETA 4 X4 DOBLE CABINA CON PLATON
F19: 0 | G19: =+IF(F19="","",VLOOKUP(F19,$H$139:$I$217,2,FALSE)) -> 0 | I19: CENTRO | J19: ESCUELA | K19: =+IF(O19=0,0,MID(O19,LEN(O19)-4,3)) -> 02 | L19: 1 | M19: 2014-2023 | N19: =+IF(O19=0,0,CONCATENATE(MID(O19,FIND("-",O19,1)+1,4),"ORAS")) -> 15 HORAS | O19: 3.CAMION TIPO40/50m³-15 HORAS-02 OP | P19: =+IF(O19="","",VLOOKUP(O19,$H$139:$I$217,2,FALSE)) -> 1435144 | R19: ZONA | S19: CORREDOR | T19: # OPERARIOS | U19: # CAMIONES | V19: MODELO | W19: DISPONIBILIDAD | X19: TIPO DE SERVICIO | Y19: $
F20: 0 | G20: =+IF(F20="","",VLOOKUP(F20,$H$139:$I$217,2,FALSE)) -> 0 | I20: CENTRO | J20: CICLOVÍA ALTERNATIVA 1 | K20: =+IF(O20=0,0,MID(O20,LEN(O20)-4,3)) -> 04 | L20: 1 | M20: 2014-2023 | N20: =+IF(O20=0,0,CONCATENATE(MID(O20,FIND("-",O20,1)+1,4),"ORAS")) -> 15 HORAS | O20: 1.CAMION TIPO40/50m³-15 HORAS-04 OP | P20: =+IF(O20="","",VLOOKUP(O20,$H$139:$I$217,2,FALSE)) -> 1955007 | R20: NORTE | S20: COORDINADOR ZONA NORTE | T20: NA | U20: NA | V20: 2014-2023 | W20: =+IF(X20=0,0,CONCATENATE(MID(X20,FIND("-",X20,1)+1,4),"ORAS")) -> #VALUE! | X20: 50. COORD X DIA | Y20: =+IF(X20="","",VLOOKUP(X20,$H$139:$I$217,2,FALSE)) -> 477011
F21: 0 | G21: =+IF(F21="","",VLOOKUP(F21,$H$139:$I$217,2,FALSE)) -> 0 | O21: 0 | P21: =+IF(O21="","",VLOOKUP(O21,$H$139:$I$217,2,FALSE)) -> 0 | R21: NORTE | S21: APOYO CICLOVÍA | T21: NA | U21: NA | V21: 2014-2023 | W21: =+IF(X21=0,0,CONCATENATE(MID(X21,FIND("-",X21,1)+1,4),"ORAS")) -> 15 HORAS | X21: 40.4X4-15 HORAS-00 OP | Y21: =+IF(X21="","",VLOOKUP(X21,$H$139:$I$217,2,FALSE)) -> 1128712
A22: valor total | B22: =SUM(B4:B13)+B16+B17+B18+B19+B20+B21 -> 23 | C22: =+C4+C5+C6+C7+C8+C9+C10+C16 -> 7 | G22: =SUM(G13,G16:G21) -> 14844881 | O22: 0 | P22: =+IF(O22="","",VLOOKUP(O22,$H$139:$I$217,2,FALSE)) -> 0 | R22: NORTE | S22: APOYO CICLOVÍA | T22: NA | U22: NA | V22: 2014-2023 | W22: =+IF(X22=0,0,CONCATENATE(MID(X22,FIND("-",X22,1)+1,4),"ORAS")) -> 15 HORAS | X22: 40.4X4-15 HORAS-00 OP | Y22: =+IF(X22="","",VLOOKUP(X22,$H$139:$I$217,2,FALSE)) -> 1128712
A23: ZONA CENTRO | R23: CENTRO | S23: COORDINADOR ZONA CENTRO | T23: NA | U23: NA | V23: 2014-2023 | W23: =+IF(X23=0,0,CONCATENATE(MID(X23,FIND("-",X23,1)+1,4),"ORAS")) -> #VALUE! | X23: 50. COORD X DIA | Y23: =+IF(X23="","",VLOOKUP(X23,$H$139:$I$217,2,FALSE)) -> 477011
A24: RUTAS CICLOVÍA 40 M3 | R24: CENTRO | S24: CAMION 3 | T24: NA | U24: 1 | V24: 2014-2024 | W24: =+IF(X24=0,0,CONCATENATE(MID(X24,FIND("-",X24,1)+1,4),"ORAS")) -> 15 HORAS | X24: 32.CAMION TIPOFURGON-15 HORAS-02 OP | Y24: =+IF(X24="","",VLOOKUP(X24,$H$139:$I$217,2,FALSE)) -> 832623
A25: CORREDOR | B25: # OPERARIOS | C25: # CAMIONES | D25: MODELO | E25: DISPONIBILIDAD | F25: TIPO DE SERVICIO | G25: $ | J25: TOTAL | K25: =K4+K5+K6+K7+K8+K9+K18+K19+K20 -> 13 | L25: =SUM(L4:L24) -> 4 | P25: =SUM(P4:P24) -> 6075841 | R25: SUR | S25: APOYO CICLOVÍA | T25: NA | U25: NA | V25: 2014-2024 | W25: =+IF(X25=0,0,CONCATENATE(MID(X25,FIND("-",X25,1)+1,4),"ORAS")) -> 15 HORAS | X25: 40.4X4-15 HORAS-00 OP | Y25: =+IF(X25="","",VLOOKUP(X25,$H$139:$I$217,2,FALSE)) -> 1128712
A26: CENTRO 1 | B26: =+IF(F26=0,0,MID(F26,LEN(F26)-4,3)) -> 04 | C26: 1 | D26: 2014-2023 | E26: =+IF(F26=0,0,CONCATENATE(MID(F26,FIND("-",F26,1)+1,4),"ORAS")) -> 15 HORAS | F26: 1.CAMION TIPO40/50m³-15 HORAS-04 OP | G26: =+IF(F26="","",VLOOKUP(F26,$H$139:$I$217,2,FALSE)) -> 1955007 | R26: SUR | S26: COORDINADOR ZONA SUR | T26: NA | U26: NA | V26: 2014-2026 | W26: =+IF(X26=0,0,CONCATENATE(MID(X26,FIND("-",X26,1)+1,4),"ORAS")) -> #VALUE! | X26: 50. COORD X DIA | Y26: =+IF(X26="","",VLOOKUP(X26,$H$139:$I$217,2,FALSE)) -> 477011
A27: CENTRO 2 | B27: =+IF(F27=0,0,MID(F27,LEN(F27)-4,3)) -> 04 | C27: 1 | D27: 2014-2023 | E27: =+IF(F27=0,0,CONCATENATE(MID(F27,FIND("-",F27,1)+1,4),"ORAS")) -> 15 HORAS | F27: 1.CAMION TIPO40/50m³-15 HORAS-04 OP | G27: =+IF(F27="","",VLOOKUP(F27,$H$139:$I$217,2,FALSE)) -> 1955007 | W27: =+IF(X27=0,0,CONCATENATE(MID(X27,FIND("-",X27,1)+1,4),"ORAS")) -> 0 | X27: 0 | Y27: =+IF(X27="","",VLOOKUP(X27,$H$139:$I$217,2,FALSE)) -> 0
A28: CENTRO 4 | B28: =+IF(F28=0,0,MID(F28,LEN(F28)-4,3)) -> 04 | C28: 1 | D28: 2014-2023 | E28: =+IF(F28=0,0,CONCATENATE(MID(F28,FIND("-",F28,1)+1,4),"ORAS")) -> 15 HORAS | F28: 1.CAMION TIPO40/50m³-15 HORAS-04 OP | G28: =+IF(F28="","",VLOOKUP(F28,$H$139:$I$217,2,FALSE)) -> 1955007 | W28: =+IF(X28=0,0,CONCATENATE(MID(X28,FIND("-",X28,1)+1,4),"ORAS")) -> 0 | X28: 0 | Y28: =+IF(X28="","",VLOOKUP(X28,$H$139:$I$217,2,FALSE)) -> 0
A29: CENTRO 5 | B29: =+IF(F29=0,0,MID(F29,LEN(F29)-4,3)) -> 03 | C29: 1 | D29: 2014-2023 | E29: =+IF(F29=0,0,CONCATENATE(MID(F29,FIND("-",F29,1)+1,4),"ORAS")) -> 15 HORAS | F29: 2.CAMION TIPO40/50m³-15 HORAS-03 OP | G29: =+IF(F29="","",VLOOKUP(F29,$H$139:$I$217,2,FALSE)) -> 1795972 | W29: =+IF(X29=0,0,CONCATENATE(MID(X29,FIND("-",X29,1)+1,4),"ORAS")) -> 0 | X29: 0 | Y29: =+IF(X29="","",VLOOKUP(X29,$H$139:$I$217,2,FALSE)) -> 0
F30: 0 | G30: =+IF(F30="","",VLOOKUP(F30,$H$139:$I$217,2,FALSE)) -> 0 | W30: =+IF(X30=0,0,CONCATENATE(MID(X30,FIND("-",X30,1)+1,4),"ORAS")) -> 0 | X30: 0 | Y30: =+IF(X30="","",VLOOKUP(X30,$H$139:$I$217,2,FALSE)) -> 0
G31: =+IF(F31="","",VLOOKUP(F31,$H$139:$I$217,2,FALSE))
A32: RUTAS CICLOVÍA 25 M3
B33: # OPERARIOS | C33: # CAMIONES | D33: MODELO | F33: TIPO DE SERVICIO | G33: $ | S33: TOTAL | T33: =+T15+T16+T4+T5+T6+T7 -> 12 | U33: =SUM(U4:U7,U24) -> 4 | Y33: =SUM(Y4:Y30) -> 10725462
A34: CENTRO 3 ZONA 1 | B34: =+IF(F34=0,0,MID(F34,LEN(F34)-4,3)) -> 03 | C34: 1 | D34: 2014-2023 | E34: =+IF(F34=0,0,CONCATENATE(MID(F34,FIND("-",F34,1)+1,4),"ORAS")) -> 15 HORAS | F34: 17.CAMION TIPO25m³-15 HORAS-03 OP | G34: =+IF(F34="","",VLOOKUP(F34,$H$139:$I$217,2,FALSE)) -> 1505234
A35: CENTRO 3 ZONA 2 | B35: =+IF(F35=0,0,MID(F35,LEN(F35)-4,3)) -> 03 | C35: 1 | D35: 2014-2023 | E35: =+IF(F35=0,0,CONCATENATE(MID(F35,FIND("-",F35,1)+1,4),"ORAS")) -> 15 HORAS | F35: 17.CAMION TIPO25m³-15 HORAS-03 OP | G35: =+IF(F35="","",VLOOKUP(F35,$H$139:$I$217,2,FALSE)) -> 1505234
A36: CENTRO 6 ZONA 1 | B36: =+IF(F36=0,0,MID(F36,LEN(F36)-4,3)) -> 03 | C36: 1 | D36: 2014-2023 | E36: =+IF(F36=0,0,CONCATENATE(MID(F36,FIND("-",F36,1)+1,4),"ORAS")) -> 15 HORAS | F36: 17.CAMION TIPO25m³-15 HORAS-03 OP | G36: =+IF(F36="","",VLOOKUP(F36,$H$139:$I$217,2,FALSE)) -> 1505234
A37: CENTRO 6 ZONA 2 | B37: =+IF(F37=0,0,MID(F37,LEN(F37)-4,3)) -> 03 | C37: 1 | D37: 2014-2023 | E37: =+IF(F37=0,0,CONCATENATE(MID(F37,FIND("-",F37,1)+1,4),"ORAS")) -> 15 HORAS | F37: 17.CAMION TIPO25m³-15 HORAS-03 OP | G37: =+IF(F37="","",VLOOKUP(F37,$H$139:$I$217,2,FALSE)) -> 1505234
B38: =+IF(F38=0,0,MID(F38,LEN(F38)-4,3)) -> 0 | D38: 2014-2023 | E38: =+IF(F38=0,0,CONCATENATE(MID(F38,FIND("-",F38,1)+1,4),"ORAS")) -> 0 | F38: 0 | G38: =+IF(F38="","",VLOOKUP(F38,$H$139:$I$217,2,FALSE)) -> 0
F39: 0 | G39: =+IF(F39="","",VLOOKUP(F39,$H$139:$I$217,2,FALSE)) -> 0
A40: valor total | B40: =+B26+B27+B28+B34+B35+B36+B37+B38 -> 24 | C40: =SUM(C26:C32)+C34+C35+C36+C37+C38+C39 -> 8 | E40: =+IF(F40=0,0,CONCATENATE(MID(F40,FIND("-",F40,1)+1,3),"ORAS")) -> 0 | G40: =SUM(G26:G31,G34:G39) -> 13681929
...

Sheet 12 DE ABRIL
A1: ZONA NORTE
A2: RUTAS CICLOVÍA 40 M3 | I2: LUDICA CICLOVÍA, ESCUELA DE LA BICI, ADICIONALES 25 M3 | R2: CONOS CICLOVÍA 25 M3
A3: CORREDOR | B3: # OPERARIOS | C3: # CAMIONES | D3: MODELO | E3: DISPONIBILIDAD | F3: TIPO DE SERVICIO | G3: $ | I3: ZONA | J3: CORREDOR | K3: # OPERARIOS | L3: # CAMIONES | M3: MODELO | N3: DISPONIBILIDAD | O3: TIPO DE SERVICIO | P3: $ | R3: ZONA | S3: CORREDOR | T3: # OPERARIOS | U3: # CAMIONES | V3: MODELO | W3: DISPONIBILIDAD | X3: TIPO DE SERVICIO | Y3: $
A4: NORTE 1 | B4: =+IF(F4=0,0,MID(F4,LEN(F4)-4,3)) -> 04 | C4: 1 | D4: 2014-2023 | E4: =+IF(F4=0,0,CONCATENATE(MID(F4,FIND("-",F4,1)+1,4),"ORAS")) -> 15 HORAS | F4: 1.CAMION TIPO40/50m³-15 HORAS-04 OP | G4: =+IF(F4="","",VLOOKUP(F4,$H$139:$I$217,2,FALSE)) -> 1955007 | I4: CENTRO | J4: CAMIONETA FURGONADA PENDONES CALLE 26 | K4: =+IF(O4=0,0,MID(O4,LEN(O4)-4,3)) -> 03 | L4: 1 | M4: 2014-2023 | N4: =+IF(O4=0,0,CONCATENATE(MID(O4,FIND("-",O4,1)+1,4),"ORAS")) -> 15 HORAS | O4: 31.CAMION TIPOFURGON-15 HORAS-03 OP | P4: =+IF(O4="","",VLOOKUP(O4,$H$139:$I$217,2,FALSE)) -> 1019917 | R4: CENTRO | S4: CENTRO 5 CAMION 1 UNICONOS | T4: 4 | U4: 1 | V4: 2014-2023 | W4: =+IF(X4=0,0,CONCATENATE(MID(X4,FIND("-",X4,1)+1,4),"ORAS")) -> 15 HORAS | X4: 16.CAMION TIPO25m³-15 HORAS-04 OP | Y4: =+IF(X4="","",VLOOKUP(X4,$H$139:$I$217,2,FALSE)) -> 1691890
A5: NORTE 2 | B5: =+IF(F5=0,0,MID(F5,LEN(F5)-4,3)) -> 03 | C5: 1 | D5: 2014-2023 | E5: =+IF(F5=0,0,CONCATENATE(MID(F5,FIND("-",F5,1)+1,4),"ORAS")) -> 15 HORAS | F5: 2.CAMION TIPO40/50m³-15 HORAS-03 OP | G5: =+IF(F5="","",VLOOKUP(F5,$H$139:$I$217,2,FALSE)) -> 1795972 | K5: =+IF(O5=0,0,MID(O5,LEN(O5)-4,3)) -> 0 | L5: 1 | M5: 2014-2023 | N5: =+IF(O5=0,0,CONCATENATE(MID(O5,FIND("-",O5,1)+1,4),"ORAS")) -> 0 | O5: 0 | P5: =+IF(O5="","",VLOOKUP(O5,$H$139:$I$217,2,FALSE)) -> 0 | R5: CENTRO | S5: CENTRO 5 CAMION 2 UNICONOS | T5: 4 | U5: 1 | V5: 2014-2023 | W5: =+IF(X5=0,0,CONCATENATE(MID(X5,FIND("-",X5,1)+1,4),"ORAS")) -> 15 HORAS | X5: 16.CAMION TIPO25m³-15 HORAS-04 OP | Y5: =+IF(X5="","",VLOOKUP(X5,$H$139:$I$217,2,FALSE)) -> 1691890
A6: NORTE 3 | B6: =+IF(F6=0,0,MID(F6,LEN(F6)-4,3)) -> 03 | C6: 1 | D6: 2014-2023 | E6: =+IF(F6=0,0,CONCATENATE(MID(F6,FIND("-",F6,1)+1,4),"ORAS")) -> 15 HORAS | F6: 2.CAMION TIPO40/50m³-15 HORAS-03 OP | G6: =+IF(F6="","",VLOOKUP(F6,$H$139:$I$217,2,FALSE)) -> 1795972 | I6: CENTRO | J6: PUNTO PREVENCIÓN Y PROMOCIÓN | K6: =+IF(O6=0,0,MID(O6,LEN(O6)-4,3)) -> 02 | L6: 1 | M6: 2014-2023 | N6: =+IF(O6=0,0,CONCATENATE(MID(O6,FIND("-",O6,1)+1,4),"ORAS")) -> 09 HORAS | O6: 23.CAMION TIPO25m³-09 HORAS-02 OP | P6: =+IF(O6="","",VLOOKUP(O6,$H$139:$I$217,2,FALSE)) -> 1175229 | R6: CENTRO | S6: CENTRO 4 CAMION 3 UNICONOS | T6: 4 | U6: 1 | V6: 2014-2023 | W6: =+IF(X6=0,0,CONCATENATE(MID(X6,FIND("-",X6,1)+1,4),"ORAS")) -> 15 HORAS | X6: 16.CAMION TIPO25m³-15 HORAS-04 OP | Y6: =+IF(X6="","",VLOOKUP(X6,$H$139:$I$217,2,FALSE)) -> 1691890
A7: NORTE 4 | B7: =+IF(F7=0,0,MID(F7,LEN(F7)-4,3)) -> 03 | C7: 1 | D7: 2014-2023 | E7: =+IF(F7=0,0,CONCATENATE(MID(F7,FIND("-",F7,1)+1,4),"ORAS")) -> 15 HORAS | F7: 2.CAMION TIPO40/50m³-15 HORAS-03 OP | G7: =+IF(F7="","",VLOOKUP(F7,$H$139:$I$217,2,FALSE)) -> 1795972 | I7: CENTRO | J7: ACTIVIDADES SERVICIO SOCIAL 1 | K7: =+IF(O7=0,0,MID(O7,LEN(O7)-4,3)) -> 02 | L7: 1 | M7: 2014-2023 | N7: =+IF(O7=0,0,CONCATENATE(MID(O7,FIND("-",O7,1)+1,4),"ORAS")) -> 09 HORAS | O7: 35.CAMION TIPOFURGON-09 HORAS-02 OP | P7: =+IF(O7="","",VLOOKUP(O7,$H$139:$I$217,2,FALSE)) -> 728949 | X7: 0 | Y7: 0
A8: NORTE 5 ZONA 1 | B8: =+IF(F8=0,0,MID(F8,LEN(F8)-4,3)) -> 03 | C8: 1 | D8: 2014-2023 | E8: =+IF(F8=0,0,CONCATENATE(MID(F8,FIND("-",F8,1)+1,4),"ORAS")) -> 15 HORAS | F8: 2.CAMION TIPO40/50m³-15 HORAS-03 OP | G8: =+IF(F8="","",VLOOKUP(F8,$H$139:$I$217,2,FALSE)) -> 1795972 | I8: CENTRO | J8: ACTIVIDADES SERVICIO SOCIAL 2 | K8: =+IF(O8=0,0,MID(O8,LEN(O8)-4,3)) -> 02 | L8: 1 | M8: 2014-2023 | N8: =+IF(O8=0,0,CONCATENATE(MID(O8,FIND("-",O8,1)+1,4),"ORAS")) -> 09 HORAS | O8: 35.CAMION TIPOFURGON-09 HORAS-02 OP | P8: =+IF(O8="","",VLOOKUP(O8,$H$139:$I$217,2,FALSE)) -> 728949 | U8: 3
A9: NORTE 5 ZONA 2 | B9: =+IF(F9=0,0,MID(F9,LEN(F9)-4,3)) -> 03 | C9: 1 | D9: 2014-2023 | E9: =+IF(F9=0,0,CONCATENATE(MID(F9,FIND("-",F9,1)+1,4),"ORAS")) -> 15 HORAS | F9: 2.CAMION TIPO40/50m³-15 HORAS-03 OP | G9: =+IF(F9="","",VLOOKUP(F9,$H$139:$I$217,2,FALSE)) -> 1795972 | K9: =+IF(O9=0,0,MID(O9,LEN(O9)-4,3)) -> 0 | N9: =+IF(O9=0,0,CONCATENATE(MID(O9,FIND("-",O9,1)+1,4),"ORAS")) -> 0 | O9: 0 | P9: =+IF(O9="","",VLOOKUP(O9,$H$139:$I$217,2,FALSE)) -> 0
A10: NORTE 1 CONOS | B10: =+IF(F10=0,0,MID(F10,LEN(F10)-4,3)) -> 04 | C10: 1 | D10: 2014-2023 | E10: =+IF(F10=0,0,CONCATENATE(MID(F10,FIND("-",F10,1)+1,4),"ORAS")) -> 15 HORAS | F10: 1.CAMION TIPO40/50m³-15 HORAS-04 OP | G10: =+IF(F10="","",VLOOKUP(F10,$H$139:$I$217,2,FALSE)) -> 1955007
A11: NORTE 1 CONTRAFLUJOS | B11: =+IF(F11=0,0,MID(F11,LEN(F11)-4,3)) -> 04 | C11: 1 | D11: 2014-2023 | E11: =+IF(F11=0,0,CONCATENATE(MID(F11,FIND("-",F11,1)+1,4),"ORAS")) -> 15 HORAS | F11: 1.CAMION TIPO40/50m³-15 HORAS-04 OP | G11: =+IF(F11="","",VLOOKUP(F11,$H$139:$I$217,2,FALSE)) -> 1955007
G12: =+IF(F12="","",VLOOKUP(F12,$H$139:$I$217,2,FALSE))
B13: =+B10+B9+B8+B7+B6+B5+B4 -> 23 | C13: =+C10+C9+C8+C7+C6+C5+C4 -> 7 | G13: =SUM(G4:G12) -> 14844881 | R13: OPERARIOS ADICIONALES
A14: RUTAS CICLOVÍA 25 M3 | R14: ZONA | S14: CORREDOR | T14: # OPERARIOS | U14: # CAMIONES | V14: MODELO | W14: DISPONIBILIDAD | X14: TIPO DE SERVICIO | Y14: $
A15: CORREDOR | B15: # OPERARIOS | C15: # CAMIONES | D15: MODELO | E15: DISPONIBILIDAD | F15: TIPO DE SERVICIO | G15: $ | R15: CENTRO | S15: APOYO CICLOVÍA | T15: 0 | U15: 0 | V15: 2014-2023 | W15: =+IF(X15=0,0,CONCATENATE(MID(X15,FIND("-",X15,1)+1,4),"ORAS")) -> 0 | X15: 0 | Y15: =+IF(X15="","",VLOOKUP(X15,$H$139:$I$217,2,FALSE))*T15 -> 0
B16: =+IF(F16=0,0,MID(F16,LEN(F16)-4,3)) -> 0 | E16: =+IF(F16=0,0,CONCATENATE(MID(F16,FIND("-",F16,1)+1,4),"ORAS")) -> 0 | F16: 0 | G16: =+IF(F16="","",VLOOKUP(F16,$H$139:$I$217,2,FALSE)) -> 0 | I16: ATN CICLOVÍA, ESCUELA DE LA BICI, ADICIONALES 40 M3 | W16: =+IF(X16=0,0,CONCATENATE(MID(X16,FIND("-",X16,1)+1,4),"ORAS")) -> 0 | X16: 0 | Y16: =+IF(X16="","",VLOOKUP(X16,$H$139:$I$217,2,FALSE))*T16 -> 0
F17: 0 | G17: =+IF(F17="","",VLOOKUP(F17,$H$139:$I$217,2,FALSE)) -> 0 | I17: ZONA | J17: CORREDOR | K17: # OPERARIOS | L17: # CAMIONES | M17: MODELO | N17: DISPONIBILIDAD | O17: TIPO DE SERVICIO | P17: $
F18: 0 | G18: =+IF(F18="","",VLOOKUP(F18,$H$139:$I$217,2,FALSE)) -> 0 | I18: CENTRO | J18: CICLOVÍA ALTERNATIVA 1 | K18: =+IF(O18=0,0,MID(O18,LEN(O18)-4,3)) -> 04 | L18: 1 | M18: 2014-2023 | N18: =+IF(O18=0,0,CONCATENATE(MID(O18,FIND("-",O18,1)+1,4),"ORAS")) -> 15 HORAS | O18: 1.CAMION TIPO40/50m³-15 HORAS-04 OP | P18: =+IF(O18="","",VLOOKUP(O18,$H$139:$I$217,2,FALSE)) -> 1955007 | R18: CAMIONETA 4 X4 DOBLE CABINA CON PLATON
F19: 0 | G19: =+IF(F19="","",VLOOKUP(F19,$H$139:$I$217,2,FALSE)) -> 0 | I19: CENTRO | J19: ESCUELA | K19: =+IF(O19=0,0,MID(O19,LEN(O19)-4,3)) -> 03 | L19: 1 | M19: 2014-2023 | N19: =+IF(O19=0,0,CONCATENATE(MID(O19,FIND("-",O19,1)+1,4),"ORAS")) -> 15 HORAS | O19: 2.CAMION TIPO40/50m³-15 HORAS-03 OP | P19: =+IF(O19="","",VLOOKUP(O19,$H$139:$I$217,2,FALSE)) -> 1795972 | R19: ZONA | S19: CORREDOR | T19: # OPERARIOS | U19: # CAMIONES | V19: MODELO | W19: DISPONIBILIDAD | X19: TIPO DE SERVICIO | Y19: $
F20: 0 | G20: =+IF(F20="","",VLOOKUP(F20,$H$139:$I$217,2,FALSE)) -> 0 | I20: CENTRO | J20: CICLOVIA TE CUIDA | K20: =+IF(O20=0,0,MID(O20,LEN(O20)-4,3)) -> 04 | L20: 1 | M20: 2014-2023 | N20: =+IF(O20=0,0,CONCATENATE(MID(O20,FIND("-",O20,1)+1,4),"ORAS")) -> 09 HORAS | O20: 6.CAMION TIPO40/50m³-09 HORAS-04 OP | P20: =+IF(O20="","",VLOOKUP(O20,$H$139:$I$217,2,FALSE)) -> 1665773 | R20: NORTE | S20: COORDINADOR ZONA NORTE | T20: NA | U20: NA | V20: 2014-2023 | W20: =+IF(X20=0,0,CONCATENATE(MID(X20,FIND("-",X20,1)+1,4),"ORAS")) -> #VALUE! | X20: 50. COORD X DIA | Y20: =+IF(X20="","",VLOOKUP(X20,$H$139:$I$217,2,FALSE)) -> 477011
F21: 0 | G21: =+IF(F21="","",VLOOKUP(F21,$H$139:$I$217,2,FALSE)) -> 0 | K21: =+IF(O21=0,0,MID(O21,LEN(O21)-4,3)) -> 0 | N21: =+IF(O21=0,0,CONCATENATE(MID(O21,FIND("-",O21,1)+1,4),"ORAS")) -> 0 | O21: 0 | P21: =+IF(O21="","",VLOOKUP(O21,$H$139:$I$217,2,FALSE)) -> 0 | R21: NORTE | S21: APOYO CICLOVÍA | T21: NA | U21: NA | V21: 2014-2023 | W21: =+IF(X21=0,0,CONCATENATE(MID(X21,FIND("-",X21,1)+1,4),"ORAS")) -> 15 HORAS | X21: 40.4X4-15 HORAS-00 OP | Y21: =+IF(X21="","",VLOOKUP(X21,$H$139:$I$217,2,FALSE)) -> 1128712
A22: valor total | B22: =SUM(B4:B13)+B16+B17+B18+B19+B20+B21 -> 23 | C22: =+C4+C5+C6+C7+C8+C9+C10+C16 -> 7 | G22: =SUM(G13,G16:G21) -> 14844881 | N22: =+IF(O22=0,0,CONCATENATE(MID(O22,FIND("-",O22,1)+1,4),"ORAS")) -> 0 | O22: 0 | P22: =+IF(O22="","",VLOOKUP(O22,$H$139:$I$217,2,FALSE)) -> 0 | R22: NORTE | S22: APOYO CICLOVÍA | T22: NA | U22: NA | V22: 2014-2023 | W22: =+IF(X22=0,0,CONCATENATE(MID(X22,FIND("-",X22,1)+1,4),"ORAS")) -> 15 HORAS | X22: 40.4X4-15 HORAS-00 OP | Y22: =+IF(X22="","",VLOOKUP(X22,$H$139:$I$217,2,FALSE)) -> 1128712
A23: ZONA CENTRO | N23: =+IF(O23=0,0,CONCATENATE(MID(O23,FIND("-",O23,1)+1,4),"ORAS")) -> 0 | R23: CENTRO | S23: COORDINADOR ZONA CENTRO | T23: NA | U23: NA | V23: 2014-2023 | W23: =+IF(X23=0,0,CONCATENATE(MID(X23,FIND("-",X23,1)+1,4),"ORAS")) -> #VALUE! | X23: 50. COORD X DIA | Y23: =+IF(X23="","",VLOOKUP(X23,$H$139:$I$217,2,FALSE)) -> 477011
A24: RUTAS CICLOVÍA 40 M3 | N24: =+IF(O24=0,0,CONCATENATE(MID(O24,FIND("-",O24,1)+1,4),"ORAS")) -> 0 | R24: CENTRO | S24: CAMION 3 | T24: NA | U24: 1 | V24: 2014-2024 | W24: =+IF(X24=0,0,CONCATENATE(MID(X24,FIND("-",X24,1)+1,4),"ORAS")) -> 15 HORAS | X24: 32.CAMION TIPOFURGON-15 HORAS-02 OP | Y24: =+IF(X24="","",VLOOKUP(X24,$H$139:$I$217,2,FALSE)) -> 832623
A25: CORREDOR | B25: # OPERARIOS | C25: # CAMIONES | D25: MODELO | E25: DISPONIBILIDAD | F25: TIPO DE SERVICIO | G25: $ | J25: TOTAL | K25: =K4+K5+K6+K7+K8+K9+K18+K19+K20 -> 20 | L25: =SUM(L4:L24) -> 8 | P25: =SUM(P4:P24) -> 9069796 | R25: SUR | S25: APOYO CICLOVÍA | T25: NA | U25: NA | V25: 2014-2024 | W25: =+IF(X25=0,0,CONCATENATE(MID(X25,FIND("-",X25,1)+1,4),"ORAS")) -> 15 HORAS | X25: 40.4X4-15 HORAS-00 OP | Y25: =+IF(X25="","",VLOOKUP(X25,$H$139:$I$217,2,FALSE)) -> 1128712
A26: CENTRO 1 | B26: =+IF(F26=0,0,MID(F26,LEN(F26)-4,3)) -> 04 | C26: 1 | D26: 2014-2023 | E26: =+IF(F26=0,0,CONCATENATE(MID(F26,FIND("-",F26,1)+1,4),"ORAS")) -> 15 HORAS | F26: 1.CAMION TIPO40/50m³-15 HORAS-04 OP | G26: =+IF(F26="","",VLOOKUP(F26,$H$139:$I$217,2,FALSE)) -> 1955007 | R26: SUR | S26: COORDINADOR ZONA SUR | T26: NA | U26: NA | V26: 2014-2026 | W26: =+IF(X26=0,0,CONCATENATE(MID(X26,FIND("-",X26,1)+1,4),"ORAS")) -> #VALUE! | X26: 50. COORD X DIA | Y26: =+IF(X26="","",VLOOKUP(X26,$H$139:$I$217,2,FALSE)) -> 477011
A27: CENTRO 2 | B27: =+IF(F27=0,0,MID(F27,LEN(F27)-4,3)) -> 04 | C27: 1 | D27: 2014-2023 | E27: =+IF(F27=0,0,CONCATENATE(MID(F27,FIND("-",F27,1)+1,4),"ORAS")) -> 15 HORAS | F27: 1.CAMION TIPO40/50m³-15 HORAS-04 OP | G27: =+IF(F27="","",VLOOKUP(F27,$H$139:$I$217,2,FALSE)) -> 1955007 | W27: =+IF(X27=0,0,CONCATENATE(MID(X27,FIND("-",X27,1)+1,4),"ORAS")) -> 0 | X27: 0 | Y27: =+IF(X27="","",VLOOKUP(X27,$H$139:$I$217,2,FALSE)) -> 0
A28: CENTRO 4 | B28: =+IF(F28=0,0,MID(F28,LEN(F28)-4,3)) -> 04 | C28: 1 | D28: 2014-2023 | E28: =+IF(F28=0,0,CONCATENATE(MID(F28,FIND("-",F28,1)+1,4),"ORAS")) -> 15 HORAS | F28: 1.CAMION TIPO40/50m³-15 HORAS-04 OP | G28: =+IF(F28="","",VLOOKUP(F28,$H$139:$I$217,2,FALSE)) -> 1955007 | W28: =+IF(X28=0,0,CONCATENATE(MID(X28,FIND("-",X28,1)+1,4),"ORAS")) -> 0 | X28: 0 | Y28: =+IF(X28="","",VLOOKUP(X28,$H$139:$I$217,2,FALSE)) -> 0
A29: CENTRO 5 | B29: =+IF(F29=0,0,MID(F29,LEN(F29)-4,3)) -> 03 | C29: 1 | D29: 2014-2023 | E29: =+IF(F29=0,0,CONCATENATE(MID(F29,FIND("-",F29,1)+1,4),"ORAS")) -> 15 HORAS | F29: 2.CAMION TIPO40/50m³-15 HORAS-03 OP | G29: =+IF(F29="","",VLOOKUP(F29,$H$139:$I$217,2,FALSE)) -> 1795972 | W29: =+IF(X29=0,0,CONCATENATE(MID(X29,FIND("-",X29,1)+1,4),"ORAS")) -> 0 | X29: 0 | Y29: =+IF(X29="","",VLOOKUP(X29,$H$139:$I$217,2,FALSE)) -> 0
F30: 0 | G30: =+IF(F30="","",VLOOKUP(F30,$H$139:$I$217,2,FALSE)) -> 0 | W30: =+IF(X30=0,0,CONCATENATE(MID(X30,FIND("-",X30,1)+1,4),"ORAS")) -> 0 | X30: 0 | Y30: =+IF(X30="","",VLOOKUP(X30,$H$139:$I$217,2,FALSE)) -> 0
G31: =+IF(F31="","",VLOOKUP(F31,$H$139:$I$217,2,FALSE))
A32: RUTAS CICLOVÍA 25 M3
B33: # OPERARIOS | C33: # CAMIONES | D33: MODELO | F33: TIPO DE SERVICIO | G33: $ | S33: TOTAL | T33: =+T15+T16+T4+T5+T6+T7 -> 12 | U33: =SUM(U4:U7,U24) -> 4 | Y33: =SUM(Y4:Y30) -> 10725462
A34: CENTRO 3 ZONA 1 | B34: =+IF(F34=0,0,MID(F34,LEN(F34)-4,3)) -> 02 | C34: 1 | D34: 2014-2023 | E34: =+IF(F34=0,0,CONCATENATE(MID(F34,FIND("-",F34,1)+1,4),"ORAS")) -> 15 HORAS | F34: 18.CAMION TIPO25m³-15 HORAS-02 OP | G34: =+IF(F34="","",VLOOKUP(F34,$H$139:$I$217,2,FALSE)) -> 1308251
A35: CENTRO 3 ZONA 2 | B35: =+IF(F35=0,0,MID(F35,LEN(F35)-4,3)) -> 03 | C35: 1 | D35: 2014-2023 | E35: =+IF(F35=0,0,CONCATENATE(MID(F35,FIND("-",F35,1)+1,4),"ORAS")) -> 15 HORAS | F35: 17.CAMION TIPO25m³-15 HORAS-03 OP | G35: =+IF(F35="","",VLOOKUP(F35,$H$139:$I$217,2,FALSE)) -> 1505234
A36: CENTRO 6 ZONA 1 | B36: =+IF(F36=0,0,MID(F36,LEN(F36)-4,3)) -> 03 | C36: 1 | D36: 2014-2023 | E36: =+IF(F36=0,0,CONCATENATE(MID(F36,FIND("-",F36,1)+1,4),"ORAS")) -> 15 HORAS | F36: 17.CAMION TIPO25m³-15 HORAS-03 OP | G36: =+IF(F36="","",VLOOKUP(F36,$H$139:$I$217,2,FALSE)) -> 1505234
A37: CENTRO 6 ZONA 2 | B37: =+IF(F37=0,0,MID(F37,LEN(F37)-4,3)) -> 03 | C37: 1 | D37: 2014-2023 | E37: =+IF(F37=0,0,CONCATENATE(MID(F37,FIND("-",F37,1)+1,4),"ORAS")) -> 15 HORAS | F37: 17.CAMION TIPO25m³-15 HORAS-03 OP | G37: =+IF(F37="","",VLOOKUP(F37,$H$139:$I$217,2,FALSE)) -> 1505234
B38: =+IF(F38=0,0,MID(F38,LEN(F38)-4,3)) -> 0 | D38: 2014-2023 | E38: =+IF(F38=0,0,CONCATENATE(MID(F38,FIND("-",F38,1)+1,4),"ORAS")) -> 0 | F38: 0 | G38: =+IF(F38="","",VLOOKUP(F38,$H$139:$I$217,2,FALSE)) -> 0
F39: 0 | G39: =+IF(F39="","",VLOOKUP(F39,$H$139:$I$217,2,FALSE)) -> 0
A40: valor total | B40: =+B26+B27+B28+B34+B35+B36+B37+B38 -> 23 | C40: =SUM(C26:C32)+C34+C35+C36+C37+C38+C39 -> 8 | E40: =+IF(F40=0,0,CONCATENATE(MID(F40,FIND("-",F40,1)+1,3),"ORAS")) -> 0 | G40: =SUM(G26:G31,G34:G39) -> 13484946
...

Sheet 19 DE ABRIL
A1: ZONA NORTE
A2: RUTAS CICLOVÍA 40 M3 | I2: LUDICA CICLOVÍA, ESCUELA DE LA BICI, ADICIONALES 25 M3 | R2: CONOS CICLOVÍA 25 M3
A3: CORREDOR | B3: # OPERARIOS | C3: # CAMIONES | D3: MODELO | E3: DISPONIBILIDAD | F3: TIPO DE SERVICIO | G3: $ | I3: ZONA | J3: CORREDOR | K3: # OPERARIOS | L3: # CAMIONES | M3: MODELO | N3: DISPONIBILIDAD | O3: TIPO DE SERVICIO | P3: $ | R3: ZONA | S3: CORREDOR | T3: # OPERARIOS | U3: # CAMIONES | V3: MODELO | W3: DISPONIBILIDAD | X3: TIPO DE SERVICIO | Y3: $
A4: NORTE 1 | B4: =+IF(F4=0,0,MID(F4,LEN(F4)-4,3)) -> 04 | C4: 1 | D4: 2014-2023 | E4: =+IF(F4=0,0,CONCATENATE(MID(F4,FIND("-",F4,1)+1,4),"ORAS")) -> 15 HORAS | F4: 1.CAMION TIPO40/50m³-15 HORAS-04 OP | G4: =+IF(F4="","",VLOOKUP(F4,$H$142:$I$220,2,FALSE)) -> 1955007 | I4: CENTRO | J4: CAMIONETA FURGONADA PENDONES CALLE 26 | K4: =+IF(O4=0,0,MID(O4,LEN(O4)-4,3)) -> 03 | L4: 1 | M4: 2014-2023 | N4: =+IF(O4=0,0,CONCATENATE(MID(O4,FIND("-",O4,1)+1,4),"ORAS")) -> 15 HORAS | O4: 31.CAMION TIPOFURGON-15 HORAS-03 OP | P4: =+IF(O4="","",VLOOKUP(O4,$H$142:$I$220,2,FALSE)) -> 1019917 | R4: CENTRO | S4: CENTRO 5 CAMION 1 UNICONOS | T4: 4 | U4: 1 | V4: 2014-2023 | W4: =+IF(X4=0,0,CONCATENATE(MID(X4,FIND("-",X4,1)+1,4),"ORAS")) -> 15 HORAS | X4: 17.CAMION TIPO25m³-15 HORAS-03 OP | Y4: =+IF(X4="","",VLOOKUP(X4,$H$142:$I$220,2,FALSE)) -> 1505234
A5: NORTE 1 CONOS | B5: =+IF(F5=0,0,MID(F5,LEN(F5)-4,3)) -> 04 | C5: 1 | D5: 2014-2023 | E5: =+IF(F5=0,0,CONCATENATE(MID(F5,FIND("-",F5,1)+1,4),"ORAS")) -> 15 HORAS | F5: 1.CAMION TIPO40/50m³-15 HORAS-04 OP | G5: =+IF(F5="","",VLOOKUP(F5,$H$142:$I$220,2,FALSE)) -> 1955007 | I5: CENTRO | J5: ACTIVIDADES SERVICIO SOCIAL | K5: =+IF(O5=0,0,MID(O5,LEN(O5)-4,3)) -> 02 | L5: 1 | M5: 2014-2023 | N5: =+IF(O5=0,0,CONCATENATE(MID(O5,FIND("-",O5,1)+1,4),"ORAS")) -> 09 HORAS | O5: 35.CAMION TIPOFURGON-09 HORAS-02 OP | P5: =+IF(O5="","",VLOOKUP(O5,$H$142:$I$220,2,FALSE)) -> 728949 | R5: CENTRO | S5: CENTRO 5 CAMION 2 UNICONOS | T5: 4 | U5: 1 | V5: 2014-2023 | W5: =+IF(X5=0,0,CONCATENATE(MID(X5,FIND("-",X5,1)+1,4),"ORAS")) -> 15 HORAS | X5: 16.CAMION TIPO25m³-15 HORAS-04 OP | Y5: =+IF(X5="","",VLOOKUP(X5,$H$142:$I$220,2,FALSE)) -> 1691890
A6: NORTE 2 | B6: =+IF(F6=0,0,MID(F6,LEN(F6)-4,3)) -> 03 | C6: 1 | D6: 2014-2023 | E6: =+IF(F6=0,0,CONCATENATE(MID(F6,FIND("-",F6,1)+1,4),"ORAS")) -> 15 HORAS | F6: 2.CAMION TIPO40/50m³-15 HORAS-03 OP | G6: =+IF(F6="","",VLOOKUP(F6,$H$142:$I$220,2,FALSE)) -> 1795972 | K6: =+IF(O6=0,0,MID(O6,LEN(O6)-4,3)) -> 0 | N6: =+IF(O6=0,0,CONCATENATE(MID(O6,FIND("-",O6,1)+1,4),"ORAS")) -> 0 | O6: 0 | P6: =+IF(O6="","",VLOOKUP(O6,$H$142:$I$220,2,FALSE)) -> 0 | R6: CENTRO | S6: CENTRO 4 CAMION 3 UNICONOS | T6: 4 | U6: 1 | V6: 2014-2023 | W6: =+IF(X6=0,0,CONCATENATE(MID(X6,FIND("-",X6,1)+1,4),"ORAS")) -> 15 HORAS | X6: 17.CAMION TIPO25m³-15 HORAS-03 OP | Y6: =+IF(X6="","",VLOOKUP(X6,$H$142:$I$220,2,FALSE)) -> 1505234
A7: NORTE 3 | B7: =+IF(F7=0,0,MID(F7,LEN(F7)-4,3)) -> 03 | C7: 1 | D7: 2014-2023 | E7: =+IF(F7=0,0,CONCATENATE(MID(F7,FIND("-",F7,1)+1,4),"ORAS")) -> 15 HORAS | F7: 2.CAMION TIPO40/50m³-15 HORAS-03 OP | G7: =+IF(F7="","",VLOOKUP(F7,$H$142:$I$220,2,FALSE)) -> 1795972 | K7: =+IF(O7=0,0,MID(O7,LEN(O7)-4,3)) -> 0 | N7: =+IF(O7=0,0,CONCATENATE(MID(O7,FIND("-",O7,1)+1,4),"ORAS")) -> 0 | O7: 0 | P7: =+IF(O7="","",VLOOKUP(O7,$H$142:$I$220,2,FALSE)) -> 0 | X7: 0 | Y7: 0
A8: NORTE 4 | B8: =+IF(F8=0,0,MID(F8,LEN(F8)-4,3)) -> 03 | C8: 1 | D8: 2014-2023 | E8: =+IF(F8=0,0,CONCATENATE(MID(F8,FIND("-",F8,1)+1,4),"ORAS")) -> 15 HORAS | F8: 2.CAMION TIPO40/50m³-15 HORAS-03 OP | G8: =+IF(F8="","",VLOOKUP(F8,$H$142:$I$220,2,FALSE)) -> 1795972 | K8: =+IF(O8=0,0,MID(O8,LEN(O8)-4,3)) -> 0 | N8: =+IF(O8=0,0,CONCATENATE(MID(O8,FIND("-",O8,1)+1,4),"ORAS")) -> 0 | O8: 0 | P8: =+IF(O8="","",VLOOKUP(O8,$H$142:$I$220,2,FALSE)) -> 0 | U8: 3
A9: NORTE 5 ZONA 1 | B9: =+IF(F9=0,0,MID(F9,LEN(F9)-4,3)) -> 03 | C9: 1 | D9: 2014-2023 | E9: =+IF(F9=0,0,CONCATENATE(MID(F9,FIND("-",F9,1)+1,4),"ORAS")) -> 15 HORAS | F9: 2.CAMION TIPO40/50m³-15 HORAS-03 OP | G9: =+IF(F9="","",VLOOKUP(F9,$H$142:$I$220,2,FALSE)) -> 1795972 | K9: =+IF(O9=0,0,MID(O9,LEN(O9)-4,3)) -> 0 | N9: =+IF(O9=0,0,CONCATENATE(MID(O9,FIND("-",O9,1)+1,4),"ORAS")) -> 0 | O9: 0 | P9: =+IF(O9="","",VLOOKUP(O9,$H$142:$I$220,2,FALSE)) -> 0
A10: NORTE 5 ZONA 2 | B10: =+IF(F10=0,0,MID(F10,LEN(F10)-4,3)) -> 03 | C10: 1 | D10: 2014-2023 | E10: =+IF(F10=0,0,CONCATENATE(MID(F10,FIND("-",F10,1)+1,4),"ORAS")) -> 15 HORAS | F10: 2.CAMION TIPO40/50m³-15 HORAS-03 OP | G10: =+IF(F10="","",VLOOKUP(F10,$H$142:$I$220,2,FALSE)) -> 1795972
A11: NORTE 6 | B11: =+IF(F11=0,0,MID(F11,LEN(F11)-4,3)) -> 04 | C11: 1 | D11: 2014-2023 | E11: =+IF(F11=0,0,CONCATENATE(MID(F11,FIND("-",F11,1)+1,4),"ORAS")) -> 15 HORAS | F11: 1.CAMION TIPO40/50m³-15 HORAS-04 OP | G11: =+IF(F11="","",VLOOKUP(F11,$H$142:$I$220,2,FALSE)) -> 1955007
A12: NORTE 6 CONTRAFLUJOS | B12: =+IF(F12=0,0,MID(F12,LEN(F12)-4,3)) -> 03 | C12: 1 | D12: 2014-2023 | E12: =+IF(F12=0,0,CONCATENATE(MID(F12,FIND("-",F12,1)+1,4),"ORAS")) -> 15 HORAS | F12: 2.CAMION TIPO40/50m³-15 HORAS-03 OP | G12: =+IF(F12="","",VLOOKUP(F12,$H$142:$I$220,2,FALSE)) -> 1795972
B13: =+IF(F13=0,0,MID(F13,LEN(F13)-4,3)) -> 0 | E13: =+IF(F13=0,0,CONCATENATE(MID(F13,FIND("-",F13,1)+1,4),"ORAS")) -> 0 | F13: 0 | G13: =+IF(F13="","",VLOOKUP(F13,$H$142:$I$220,2,FALSE)) -> 0
B14: =+IF(F14=0,0,MID(F14,LEN(F14)-4,3)) -> 0 | E14: =+IF(F14=0,0,CONCATENATE(MID(F14,FIND("-",F14,1)+1,4),"ORAS")) -> 0 | F14: 0 | G14: =+IF(F14="","",VLOOKUP(F14,$H$142:$I$220,2,FALSE)) -> 0
B16: =+B10+B9+B8+B7+B6+B5+B4+B11+B12 -> 30 | C16: =+C10+C9+C8+C7+C6+C5+C4+C11+C12 -> 9 | G16: =SUM(G4:G15) -> 16640853 | R16: OPERARIOS ADICIONALES
A17: RUTAS CICLOVÍA 25 M3 | R17: ZONA | S17: CORREDOR | T17: # OPERARIOS | U17: # CAMIONES | V17: MODELO | W17: DISPONIBILIDAD | X17: TIPO DE SERVICIO | Y17: $
A18: CORREDOR | B18: # OPERARIOS | C18: # CAMIONES | D18: MODELO | E18: DISPONIBILIDAD | F18: TIPO DE SERVICIO | G18: $ | R18: CENTRO | S18: APOYO CICLOVÍA | T18: 0 | U18: 0 | V18: 2014-2023 | W18: =+IF(X18=0,0,CONCATENATE(MID(X18,FIND("-",X18,1)+1,4),"ORAS")) -> 0 | X18: 0 | Y18: =+IF(X18="","",VLOOKUP(X18,$H$142:$I$220,2,FALSE))*T18 -> 0
B19: =+IF(F19=0,0,MID(F19,LEN(F19)-4,3)) -> 0 | E19: =+IF(F19=0,0,CONCATENATE(MID(F19,FIND("-",F19,1)+1,4),"ORAS")) -> 0 | F19: 0 | G19: =+IF(F19="","",VLOOKUP(F19,$H$142:$I$220,2,FALSE)) -> 0 | I19: ATN CICLOVÍA, ESCUELA DE LA BICI, ADICIONALES 40 M3 | W19: =+IF(X19=0,0,CONCATENATE(MID(X19,FIND("-",X19,1)+1,4),"ORAS")) -> 0 | X19: 0 | Y19: =+IF(X19="","",VLOOKUP(X19,$H$142:$I$220,2,FALSE))*T19 -> 0
F20: 0 | G20: =+IF(F20="","",VLOOKUP(F20,$H$142:$I$220,2,FALSE)) -> 0 | I20: ZONA | J20: CORREDOR | K20: # OPERARIOS | L20: # CAMIONES | M20: MODELO | N20: DISPONIBILIDAD | O20: TIPO DE SERVICIO | P20: $
F21: 0 | G21: =+IF(F21="","",VLOOKUP(F21,$H$142:$I$220,2,FALSE)) -> 0 | I21: CENTRO | J21: CICLOVÍA ALTERNATIVA 1 | K21: =+IF(O21=0,0,MID(O21,LEN(O21)-4,3)) -> 04 | L21: 1 | M21: 2014-2023 | N21: =+IF(O21=0,0,CONCATENATE(MID(O21,FIND("-",O21,1)+1,4),"ORAS")) -> 15 HORAS | O21: 1.CAMION TIPO40/50m³-15 HORAS-04 OP | P21: =+IF(O21="","",VLOOKUP(O21,$H$142:$I$220,2,FALSE)) -> 1955007 | R21: CAMIONETA 4 X4 DOBLE CABINA CON PLATON
F22: 0 | G22: =+IF(F22="","",VLOOKUP(F22,$H$142:$I$220,2,FALSE)) -> 0 | I22: CENTRO | J22: ESCUELA | K22: =+IF(O22=0,0,MID(O22,LEN(O22)-4,3)) -> 03 | L22: 1 | M22: 2014-2023 | N22: =+IF(O22=0,0,CONCATENATE(MID(O22,FIND("-",O22,1)+1,4),"ORAS")) -> 15 HORAS | O22: 2.CAMION TIPO40/50m³-15 HORAS-03 OP | P22: =+IF(O22="","",VLOOKUP(O22,$H$142:$I$220,2,FALSE)) -> 1795972 | R22: ZONA | S22: CORREDOR | T22: # OPERARIOS | U22: # CAMIONES | V22: MODELO | W22: DISPONIBILIDAD | X22: TIPO DE SERVICIO | Y22: $
F23: 0 | G23: =+IF(F23="","",VLOOKUP(F23,$H$142:$I$220,2,FALSE)) -> 0 | I23: CENTRO | J23: CICLOVÍA EN PATINES | K23: =+IF(O23=0,0,MID(O23,LEN(O23)-4,3)) -> 03 | L23: 1 | M23: 2014-2023 | N23: =+IF(O23=0,0,CONCATENATE(MID(O23,FIND("-",O23,1)+1,4),"ORAS")) -> 15 HORAS | O23: 2.CAMION TIPO40/50m³-15 HORAS-03 OP | P23: =+IF(O23="","",VLOOKUP(O23,$H$142:$I$220,2,FALSE)) -> 1795972 | R23: NORTE | S23: COORDINADOR ZONA NORTE | T23: NA | U23: NA | V23: 2014-2023 | W23: =+IF(X23=0,0,CONCATENATE(MID(X23,FIND("-",X23,1)+1,4),"ORAS")) -> #VALUE! | X23: 50. COORD X DIA | Y23: =+IF(X23="","",VLOOKUP(X23,$H$142:$I$220,2,FALSE)) -> 477011
F24: 0 | G24: =+IF(F24="","",VLOOKUP(F24,$H$142:$I$220,2,FALSE)) -> 0 | I24: CENTRO | J24: CICLOVIA TE CUIDA | K24: =+IF(O24=0,0,MID(O24,LEN(O24)-4,3)) -> 04 | L24: 1 | M24: 2014-2023 | N24: =+IF(O24=0,0,CONCATENATE(MID(O24,FIND("-",O24,1)+1,4),"ORAS")) -> 09 HORAS | O24: 6.CAMION TIPO40/50m³-09 HORAS-04 OP | P24: =+IF(O24="","",VLOOKUP(O24,$H$142:$I$220,2,FALSE)) -> 1665773 | R24: NORTE | S24: APOYO CICLOVÍA | T24: NA | U24: NA | V24: 2014-2023 | W24: =+IF(X24=0,0,CONCATENATE(MID(X24,FIND("-",X24,1)+1,4),"ORAS")) -> 15 HORAS | X24: 40.4X4-15 HORAS-00 OP | Y24: =+IF(X24="","",VLOOKUP(X24,$H$142:$I$220,2,FALSE)) -> 1128712
A25: valor total | B25: =SUM(B4:B16)+B19+B20+B21+B22+B23+B24 -> 30 | C25: =+C4+C5+C6+C7+C8+C9+C10+C19 -> 7 | G25: =SUM(G16,G19:G24) -> 16640853 | O25: 0 | P25: =+IF(O25="","",VLOOKUP(O25,$H$142:$I$220,2,FALSE)) -> 0 | R25: NORTE | S25: APOYO CICLOVÍA | T25: NA | U25: NA | V25: 2014-2023 | W25: =+IF(X25=0,0,CONCATENATE(MID(X25,FIND("-",X25,1)+1,4),"ORAS")) -> 15 HORAS | X25: 40.4X4-15 HORAS-00 OP | Y25: =+IF(X25="","",VLOOKUP(X25,$H$142:$I$220,2,FALSE)) -> 1128712
A26: ZONA CENTRO | R26: CENTRO | S26: COORDINADOR ZONA CENTRO | T26: NA | U26: NA | V26: 2014-2023 | W26: =+IF(X26=0,0,CONCATENATE(MID(X26,FIND("-",X26,1)+1,4),"ORAS")) -> #VALUE! | X26: 50. COORD X DIA | Y26: =+IF(X26="","",VLOOKUP(X26,$H$142:$I$220,2,FALSE)) -> 477011
A27: RUTAS CICLOVÍA 40 M3 | R27: CENTRO | S27: CAMION 3 | T27: NA | U27: 1 | V27: 2014-2024 | W27: =+IF(X27=0,0,CONCATENATE(MID(X27,FIND("-",X27,1)+1,4),"ORAS")) -> 15 HORAS | X27: 32.CAMION TIPOFURGON-15 HORAS-02 OP | Y27: =+IF(X27="","",VLOOKUP(X27,$H$142:$I$220,2,FALSE)) -> 832623
A28: CORREDOR | B28: # OPERARIOS | C28: # CAMIONES | D28: MODELO | E28: DISPONIBILIDAD | F28: TIPO DE SERVICIO | G28: $ | J28: TOTAL | K28: =K4+K5+K6+K7+K8+K9+K21+K22+K23 -> 15 | L28: =SUM(L4:L27) -> 6 | P28: =SUM(P4:P27) -> 8961590 | R28: SUR | S28: APOYO CICLOVÍA | T28: NA | U28: NA | V28: 2014-2024 | W28: =+IF(X28=0,0,CONCATENATE(MID(X28,FIND("-",X28,1)+1,4),"ORAS")) -> 15 HORAS | X28: 40.4X4-15 HORAS-00 OP | Y28: =+IF(X28="","",VLOOKUP(X28,$H$142:$I$220,2,FALSE)) -> 1128712
A29: CENTRO 1 | B29: =+IF(F29=0,0,MID(F29,LEN(F29)-4,3)) -> 04 | C29: 1 | D29: 2014-2023 | E29: =+IF(F29=0,0,CONCATENATE(MID(F29,FIND("-",F29,1)+1,4),"ORAS")) -> 15 HORAS | F29: 1.CAMION TIPO40/50m³-15 HORAS-04 OP | G29: =+IF(F29="","",VLOOKUP(F29,$H$142:$I$220,2,FALSE)) -> 1955007 | R29: SUR | S29: COORDINADOR ZONA SUR | T29: NA | U29: NA | V29: 2014-2026 | W29: =+IF(X29=0,0,CONCATENATE(MID(X29,FIND("-",X29,1)+1,4),"ORAS")) -> #VALUE! | X29: 50. COORD X DIA | Y29: =+IF(X29="","",VLOOKUP(X29,$H$142:$I$220,2,FALSE)) -> 477011
A30: CENTRO 2 | B30: =+IF(F30=0,0,MID(F30,LEN(F30)-4,3)) -> 04 | C30: 1 | D30: 2014-2023 | E30: =+IF(F30=0,0,CONCATENATE(MID(F30,FIND("-",F30,1)+1,4),"ORAS")) -> 15 HORAS | F30: 1.CAMION TIPO40/50m³-15 HORAS-04 OP | G30: =+IF(F30="","",VLOOKUP(F30,$H$142:$I$220,2,FALSE)) -> 1955007 | W30: =+IF(X30=0,0,CONCATENATE(MID(X30,FIND("-",X30,1)+1,4),"ORAS")) -> 0 | X30: 0 | Y30: =+IF(X30="","",VLOOKUP(X30,$H$142:$I$220,2,FALSE)) -> 0
A31: CENTRO 4 | B31: =+IF(F31=0,0,MID(F31,LEN(F31)-4,3)) -> 03 | C31: 1 | D31: 2014-2023 | E31: =+IF(F31=0,0,CONCATENATE(MID(F31,FIND("-",F31,1)+1,4),"ORAS")) -> 15 HORAS | F31: 2.CAMION TIPO40/50m³-15 HORAS-03 OP | G31: =+IF(F31="","",VLOOKUP(F31,$H$142:$I$220,2,FALSE)) -> 1795972 | W31: =+IF(X31=0,0,CONCATENATE(MID(X31,FIND("-",X31,1)+1,4),"ORAS")) -> 0 | X31: 0 | Y31: =+IF(X31="","",VLOOKUP(X31,$H$142:$I$220,2,FALSE)) -> 0
A32: CENTRO 5 | B32: =+IF(F32=0,0,MID(F32,LEN(F32)-4,3)) -> 03 | C32: 1 | D32: 2014-2023 | E32: =+IF(F32=0,0,CONCATENATE(MID(F32,FIND("-",F32,1)+1,4),"ORAS")) -> 15 HORAS | F32: 2.CAMION TIPO40/50m³-15 HORAS-03 OP | G32: =+IF(F32="","",VLOOKUP(F32,$H$142:$I$220,2,FALSE)) -> 1795972 | W32: =+IF(X32=0,0,CONCATENATE(MID(X32,FIND("-",X32,1)+1,4),"ORAS")) -> 0 | X32: 0 | Y32: =+IF(X32="","",VLOOKUP(X32,$H$142:$I$220,2,FALSE)) -> 0
F33: 0 | G33: =+IF(F33="","",VLOOKUP(F33,$H$142:$I$220,2,FALSE)) -> 0 | W33: =+IF(X33=0,0,CONCATENATE(MID(X33,FIND("-",X33,1)+1,4),"ORAS")) -> 0 | X33: 0 | Y33: =+IF(X33="","",VLOOKUP(X33,$H$142:$I$220,2,FALSE)) -> 0
G34: =+IF(F34="","",VLOOKUP(F34,$H$142:$I$220,2,FALSE))
A35: RUTAS CICLOVÍA 25 M3
B36: # OPERARIOS | C36: # CAMIONES | D36: MODELO | F36: TIPO DE SERVICIO | G36: $ | S36: TOTAL | T36: =+T18+T19+T4+T5+T6+T7 -> 12 | U36: =SUM(U4:U7,U27) -> 4 | Y36: =SUM(Y4:Y33) -> 10352150
A37: CENTRO 3 ZONA 1 | B37: =+IF(F37=0,0,MID(F37,LEN(F37)-4,3)) -> 03 | C37: 1 | D37: 2014-2023 | E37: =+IF(F37=0,0,CONCATENATE(MID(F37,FIND("-",F37,1)+1,4),"ORAS")) -> 15 HORAS | F37: 17.CAMION TIPO25m³-15 HORAS-03 OP | G37: =+IF(F37="","",VLOOKUP(F37,$H$142:$I$220,2,FALSE)) -> 1505234
A38: CENTRO 3 ZONA 2 | B38: =+IF(F38=0,0,MID(F38,LEN(F38)-4,3)) -> 03 | C38: 1 | D38: 2014-2023 | E38: =+IF(F38=0,0,CONCATENATE(MID(F38,FIND("-",F38,1)+1,4),"ORAS")) -> 15 HORAS | F38: 17.CAMION TIPO25m³-15 HORAS-03 OP | G38: =+IF(F38="","",VLOOKUP(F38,$H$142:$I$220,2,FALSE)) -> 1505234
A39: CENTRO 6 ZONA 1 | B39: =+IF(F39=0,0,MID(F39,LEN(F39)-4,3)) -> 03 | C39: 1 | D39: 2014-2023 | E39: =+IF(F39=0,0,CONCATENATE(MID(F39,FIND("-",F39,1)+1,4),"ORAS")) -> 15 HORAS | F39: 17.CAMION TIPO25m³-15 HORAS-03 OP | G39: =+IF(F39="","",VLOOKUP(F39,$H$142:$I$220,2,FALSE)) -> 1505234
A40: CENTRO 6 ZONA 2 | B40: =+IF(F40=0,0,MID(F40,LEN(F40)-4,3)) -> 03 | C40: 1 | D40: 2014-2023 | E40: =+IF(F40=0,0,CONCATENATE(MID(F40,FIND("-",F40,1)+1,4),"ORAS")) -> 15 HORAS | F40: 17.CAMION TIPO25m³-15 HORAS-03 OP | G40: =+IF(F40="","",VLOOKUP(F40,$H$142:$I$220,2,FALSE)) -> 1505234
B41: =+IF(F41=0,0,MID(F41,LEN(F41)-4,3)) -> 0 | D41: 2014-2023 | E41: =+IF(F41=0,0,CONCATENATE(MID(F41,FIND("-",F41,1)+1,4),"ORAS")) -> 0 | F41: 0 | G41: =+IF(F41="","",VLOOKUP(F41,$H$142:$I$220,2,FALSE)) -> 0
...

Sheet 26 DE ABRIL
A1: ZONA NORTE
A2: RUTAS CICLOVÍA 40 M3 | I2: LUDICA CICLOVÍA, ESCUELA DE LA BICI, ADICIONALES 25 M3 | R2: CONOS CICLOVÍA 25 M3
A3: CORREDOR | B3: # OPERARIOS | C3: # CAMIONES | D3: MODELO | E3: DISPONIBILIDAD | F3: TIPO DE SERVICIO | G3: $ | I3: ZONA | J3: CORREDOR | K3: # OPERARIOS | L3: # CAMIONES | M3: MODELO | N3: DISPONIBILIDAD | O3: TIPO DE SERVICIO | P3: $ | R3: ZONA | S3: CORREDOR | T3: # OPERARIOS | U3: # CAMIONES | V3: MODELO | W3: DISPONIBILIDAD | X3: TIPO DE SERVICIO | Y3: $
A4: NORTE 1 | B4: =+IF(F4=0,0,MID(F4,LEN(F4)-4,3)) -> 04 | C4: 1 | D4: 2014-2023 | E4: =+IF(F4=0,0,CONCATENATE(MID(F4,FIND("-",F4,1)+1,4),"ORAS")) -> 15 HORAS | F4: 1.CAMION TIPO40/50m³-15 HORAS-04 OP | G4: =+IF(F4="","",VLOOKUP(F4,$H$142:$I$220,2,FALSE)) -> 1955007 | I4: CENTRO | J4: CAMIONETA FURGONADA PENDONES CALLE 26 | K4: =+IF(O4=0,0,MID(O4,LEN(O4)-4,3)) -> 03 | L4: 1 | M4: 2014-2023 | N4: =+IF(O4=0,0,CONCATENATE(MID(O4,FIND("-",O4,1)+1,4),"ORAS")) -> 15 HORAS | O4: 31.CAMION TIPOFURGON-15 HORAS-03 OP | P4: =+IF(O4="","",VLOOKUP(O4,$H$142:$I$220,2,FALSE)) -> 1019917 | R4: CENTRO | S4: CENTRO 5 CAMION 1 UNICONOS | T4: 4 | U4: 1 | V4: 2014-2023 | W4: =+IF(X4=0,0,CONCATENATE(MID(X4,FIND("-",X4,1)+1,4),"ORAS")) -> 15 HORAS | X4: 16.CAMION TIPO25m³-15 HORAS-04 OP | Y4: =+IF(X4="","",VLOOKUP(X4,$H$142:$I$220,2,FALSE)) -> 1691890
A5: NORTE 1 CONOS | B5: =+IF(F5=0,0,MID(F5,LEN(F5)-4,3)) -> 03 | C5: 1 | D5: 2014-2023 | E5: =+IF(F5=0,0,CONCATENATE(MID(F5,FIND("-",F5,1)+1,4),"ORAS")) -> 15 HORAS | F5: 2.CAMION TIPO40/50m³-15 HORAS-03 OP | G5: =+IF(F5="","",VLOOKUP(F5,$H$142:$I$220,2,FALSE)) -> 1795972 | K5: =+IF(O5=0,0,MID(O5,LEN(O5)-4,3)) -> 0 | N5: =+IF(O5=0,0,CONCATENATE(MID(O5,FIND("-",O5,1)+1,4),"ORAS")) -> 0 | O5: 0 | P5: =+IF(O5="","",VLOOKUP(O5,$H$142:$I$220,2,FALSE)) -> 0 | R5: CENTRO | S5: CENTRO 5 CAMION 2 UNICONOS | T5: 4 | U5: 1 | V5: 2014-2023 | W5: =+IF(X5=0,0,CONCATENATE(MID(X5,FIND("-",X5,1)+1,4),"ORAS")) -> 15 HORAS | X5: 16.CAMION TIPO25m³-15 HORAS-04 OP | Y5: =+IF(X5="","",VLOOKUP(X5,$H$142:$I$220,2,FALSE)) -> 1691890
A6: NORTE 2 | B6: =+IF(F6=0,0,MID(F6,LEN(F6)-4,3)) -> 03 | C6: 1 | D6: 2014-2023 | E6: =+IF(F6=0,0,CONCATENATE(MID(F6,FIND("-",F6,1)+1,4),"ORAS")) -> 15 HORAS | F6: 2.CAMION TIPO40/50m³-15 HORAS-03 OP | G6: =+IF(F6="","",VLOOKUP(F6,$H$142:$I$220,2,FALSE)) -> 1795972 | K6: =+IF(O6=0,0,MID(O6,LEN(O6)-4,3)) -> 0 | N6: =+IF(O6=0,0,CONCATENATE(MID(O6,FIND("-",O6,1)+1,4),"ORAS")) -> 0 | O6: 0 | P6: =+IF(O6="","",VLOOKUP(O6,$H$142:$I$220,2,FALSE)) -> 0 | R6: CENTRO | S6: CENTRO 4 CAMION 3 UNICONOS | T6: 4 | U6: 1 | V6: 2014-2023 | W6: =+IF(X6=0,0,CONCATENATE(MID(X6,FIND("-",X6,1)+1,4),"ORAS")) -> 15 HORAS | X6: 16.CAMION TIPO25m³-15 HORAS-04 OP | Y6: =+IF(X6="","",VLOOKUP(X6,$H$142:$I$220,2,FALSE)) -> 1691890
A7: NORTE 3 | B7: =+IF(F7=0,0,MID(F7,LEN(F7)-4,3)) -> 03 | C7: 1 | D7: 2014-2023 | E7: =+IF(F7=0,0,CONCATENATE(MID(F7,FIND("-",F7,1)+1,4),"ORAS")) -> 15 HORAS | F7: 2.CAMION TIPO40/50m³-15 HORAS-03 OP | G7: =+IF(F7="","",VLOOKUP(F7,$H$142:$I$220,2,FALSE)) -> 1795972 | K7: =+IF(O7=0,0,MID(O7,LEN(O7)-4,3)) -> 0 | N7: =+IF(O7=0,0,CONCATENATE(MID(O7,FIND("-",O7,1)+1,4),"ORAS")) -> 0 | O7: 0 | P7: =+IF(O7="","",VLOOKUP(O7,$H$142:$I$220,2,FALSE)) -> 0 | X7: 0 | Y7: 0
A8: NORTE 4 | B8: =+IF(F8=0,0,MID(F8,LEN(F8)-4,3)) -> 03 | C8: 1 | D8: 2014-2023 | E8: =+IF(F8=0,0,CONCATENATE(MID(F8,FIND("-",F8,1)+1,4),"ORAS")) -> 15 HORAS | F8: 2.CAMION TIPO40/50m³-15 HORAS-03 OP | G8: =+IF(F8="","",VLOOKUP(F8,$H$142:$I$220,2,FALSE)) -> 1795972 | K8: =+IF(O8=0,0,MID(O8,LEN(O8)-4,3)) -> 0 | N8: =+IF(O8=0,0,CONCATENATE(MID(O8,FIND("-",O8,1)+1,4),"ORAS")) -> 0 | O8: 0 | P8: =+IF(O8="","",VLOOKUP(O8,$H$142:$I$220,2,FALSE)) -> 0 | U8: 3
A9: NORTE 5 ZONA 1 | B9: =+IF(F9=0,0,MID(F9,LEN(F9)-4,3)) -> 03 | C9: 1 | D9: 2014-2023 | E9: =+IF(F9=0,0,CONCATENATE(MID(F9,FIND("-",F9,1)+1,4),"ORAS")) -> 15 HORAS | F9: 2.CAMION TIPO40/50m³-15 HORAS-03 OP | G9: =+IF(F9="","",VLOOKUP(F9,$H$142:$I$220,2,FALSE)) -> 1795972 | K9: =+IF(O9=0,0,MID(O9,LEN(O9)-4,3)) -> 0 | N9: =+IF(O9=0,0,CONCATENATE(MID(O9,FIND("-",O9,1)+1,4),"ORAS")) -> 0 | O9: 0 | P9: =+IF(O9="","",VLOOKUP(O9,$H$142:$I$220,2,FALSE)) -> 0
