Workbook
Name \a: [1]PJ!#REF!
Name \a: #REF!
Name \a: #REF!
Name \a: [1]PJ!#REF!
Name \a: [1]PJ!#REF!
Name \b: #REF!
Name \b: #REF!
Name \eliminar: [2]RESUM96!#REF!
Name \eliminar: [2]RESUM96!#REF!
Name \eliminar1: [2]RESUM96!#REF!
Name \eliminar1: [2]RESUM96!#REF!
Name \i: [3]INSUMOS!#REF!
Name \L: #REF!
Name \L: #REF!
Name \L: #REF!
Name \L: #REF!
Name \m: [3]INSUMOS!#REF!
Name \m: [3]INSUMOS!#REF!
Name \P: #REF!
Name \P: #REF!
Name \P: #REF!
Name \P: #REF!
Name \q: #REF!
Name \q: #REF!
Name \r: [3]INSUMOS!#REF!
Name \r: [3]INSUMOS!#REF!
Name \t: [3]INSUMOS!#REF!
Name \t: [3]INSUMOS!#REF!
Name \x: [3]INSUMOS!#REF!
Name _________________________________apu1: [3]INSUMOS!#REF!
Name ________________________________apu1: [3]INSUMOS!#REF!
Name _______________________________apu1: [3]INSUMOS!#REF!
Name ______________________________apu1: [3]INSUMOS!#REF!
Name ____________________________apu1: [3]INSUMOS!#REF!
Name ___________________________apu1: [3]INSUMOS!#REF!
Name __________________________apu1: [3]INSUMOS!#REF!
Name _________________________apu1: [3]INSUMOS!#REF!
Name ________________________apu1: [3]INSUMOS!#REF!
Name _______________________apu1: [3]INSUMOS!#REF!
Name _____________________apu1: [3]INSUMOS!#REF!
Name ____________________apu1: [3]INSUMOS!#REF!
Name ___________________apu1: [3]INSUMOS!#REF!
Name __________________apu1: [3]INSUMOS!#REF!
Name _________________apu1: [3]INSUMOS!#REF!
Name ________________apu1: [3]INSUMOS!#REF!
Name _______________apu1: [3]INSUMOS!#REF!
Name _______________EST1: #REF!
Name _______________EST1: #REF!
Name _______________EST10: #REF!
Name _______________EST10: #REF!
Name _______________EST11: #REF!
Name _______________EST11: #REF!
Name _______________EST12: #REF!
Name _______________EST12: #REF!
Name _______________EST13: #REF!
Name _______________EST13: #REF!
Name _______________EST14: #REF!
Name _______________EST14: #REF!
Name _______________EST15: #REF!
Name _______________EST15: #REF!

Sheet 2. PRESUPUESTO - 150 UNIDADES
A2: IMPLEMENTACION DE SOLUCIONES BASADAS EN NATURALEZA – ESTUFAS ECOEFICIENTES – COMO ESTRATEGIAS DE DISMINUCION DE LA DEFORESTACION Y LA EMISION DE GEI EN EL MUNICIPIO DE MELGAR TOLIMA
A3: PRESUPUESTO GENERAL DE OBRA | F3: ENERO DE 2026
A4: ITEM | B4: DESCRIPCIÓN | C4: UNIDAD | D4: CANTIDAD | E4: VALOR UNITARIO | F4: VALOR TOTAL
A5: 1. | B5: PRELIMINARES | I5: MOC | J5: MONC | K5: MATERIALES | L5: MAQUINARIA | M5: TRANSPORTE | N5: AU | O5: I
A6: 1.1 | B6: Diagnostico inicial (Incluye visita predial) | C6: ='2.1. PRESUPUESTO - UNIDAD.'!C6 -> VISITA | D6: ='2.2. CANTIDADES'!F6 -> 150 | E6: ='2.3. APU ESTUFA FIJA!'!$H$28 -> 122278 | F6: =D6*E6 -> 18341700 | H6: =ROUND(F6*30%+F6,0) -> 23844210 | I6: =H6*30% -> 7153263 | K6: =H6*10% -> 2384421 | M6: =H6*30% -> 7153263 | N6: =H6*29% -> 6914820.9 | O6: =H6*1% -> 238442.1 | P6: =I6+J6+K6+L6+M6+N6+O6 -> 23844210
A7: 1.2 | B7: Localización y replanteo. | C7: ='2.1. PRESUPUESTO - UNIDAD.'!C7 -> M2 | D7: ='2.2. CANTIDADES'!F11 -> 142.5 | E7: ='2.3. APU ESTUFA FIJA!'!$H$57 -> 7350 | F7: =ROUND(D7*E7,0) -> 1047375 | H7: =ROUND(F7*30%+F7,0) -> 1361588 | I7: =H7*70% -> 953111.6 | N7: =H7*29% -> 394860.52 | O7: =H7*1% -> 13615.88 | P7: =I7+J7+K7+L7+M7+N7+O7 -> 1361588
A8: Subtotal Preliminares | F8: =ROUND((F7+F6),0) -> 19389075
A10: 2. | B10: CONSTRUCCIÓN ESTUFAS ECOEFICIENTES (0,73m x 1,05m) h: 0,83m
A11: 2.1 | B11: Piso en concreto de 2500 PSI | C11: ='2.1. PRESUPUESTO - UNIDAD.'!C11 -> M3 | D11: ='2.2. CANTIDADES'!F15 -> 15 | E11: ='2.3. APU ESTUFA FIJA!'!$H$92 -> 653225 | F11: =ROUND(D11*E11,0) -> 9798375 | H11: =F11*30%+F11 -> 12737888 | I11: =H11*10% -> 1273788.8 | J11: =H11*20% -> 2547577.5 | K11: =H11*30% -> 3821366.2 | M11: =H11*10% -> 1273788.8 | N11: =H11*29% -> 3693987.4 | O11: =H11*1% -> 127378.88 | P11: =I11+J11+K11+L11+M11+N11+O11 -> 12737888
A12: 2.2 | B12: Mampostería ladrillo a la vista tipo bocadillo, macizo liviano de 6x12x24 cm | C12: ='2.1. PRESUPUESTO - UNIDAD.'!C12 -> M2 | D12: ='2.2. CANTIDADES'!F23 -> 444 | E12: ='2.3. APU ESTUFA FIJA!'!H126 -> 225406 | F12: =ROUND(D12*E12,0) -> 100080264 | H12: =F12*30%+F12 -> 1.3010434e+08 | I12: =H12*10% -> 13010434 | J12: =H12*20% -> 26020869 | K12: =H12*30% -> 39031303 | M12: =H12*10% -> 13010434 | N12: =H12*29% -> 37730260 | O12: =H12*1% -> 1301043.4 | P12: =I12+J12+K12+L12+M12+N12+O12 -> 1.3010434e+08
A13: 2.3 | B13: Mampostería ladrillo adobe macizo de 5x10x20 cm | C13: ='2.1. PRESUPUESTO - UNIDAD.'!C13 -> M2 | D13: ='2.2. CANTIDADES'!F29 -> 108 | E13: ='2.3. APU ESTUFA FIJA!'!$H$162 -> 200497 | F13: =ROUND(D13*E13,0) -> 21653676 | H13: =F13*30%+F13 -> 28149779 | I13: =H13*10% -> 2814977.9 | J13: =H13*20% -> 5629955.8 | K13: =H13*30% -> 8444933.6 | M13: =H13*10% -> 2814977.9 | N13: =H13*29% -> 8163435.9 | O13: =H13*1% -> 281497.79 | P13: =I13+J13+K13+L13+M13+N13+O13 -> 28149779
A14: 2.4 | B14: Suministro e Instalación de STC Vitrificado | C14: ='2.1. PRESUPUESTO - UNIDAD.'!C14 -> M2 | D14: ='2.2. CANTIDADES'!F37 -> 85.5 | E14: ='2.3. APU ESTUFA FIJA!'!$H$200 -> 100864 | F14: =D14*E14 -> 8623872 | H14: =F14*30%+F14 -> 11211034 | I14: =H14*10% -> 1121103.4 | J14: =H14*20% -> 2242206.7 | K14: =H14*30% -> 3363310.1 | M14: =H14*10% -> 1121103.4 | N14: =H14*29% -> 3251199.7 | O14: =H14*1% -> 112110.34 | P14: =I14+J14+K14+L14+M14+N14+O14 -> 11211034
A15: 2.5 | B15: Suministro e Instalación KIT de Herrajes | C15: ='2.1. PRESUPUESTO - UNIDAD.'!C15 -> UND | D15: ='2.2. CANTIDADES'!F40 -> 150 | E15: ='2.3. APU ESTUFA FIJA!'!$H$244 -> 2625571 | F15: =D15*E15 -> 393835650 | H15: =F15*30%+F15 -> 511986345 | I15: =H15*3% -> 15359590 | J15: =H15*25% -> 1.2799659e+08 | K15: =H15*40% -> 204794538 | M15: =H15*2% -> 10239727 | N15: =H15*29% -> 1.4847604e+08 | O15: =H15*1% -> 5119863.5 | P15: =I15+J15+K15+L15+M15+N15+O15 -> 5.1198634e+08
A16: 2.6 | B16: Transporte de materiales | C16: ='2.1. PRESUPUESTO - UNIDAD.'!C16 -> GLOBAL | D16: ='2.2. CANTIDADES'!F43 -> 150 | E16: ='2.3. APU ESTUFA FIJA!'!$H$281 -> 372000 | F16: =D16*E16 -> 55800000 | H16: =F16*30%+F16 -> 72540000 | I16: =H16*2% -> 1450800 | K16: =H16*1% -> 725400 | M16: =H16*67% -> 48601800 | N16: =H16*29% -> 21036600 | O16: =H16*1% -> 725400 | P16: =I16+J16+K16+L16+M16+N16+O16 -> 72540000
A17: Subtotal Construcción | F17: =F16+F15+F14+F13+F12+F11 -> 589791837 | H17: =SUM(H6:H16) -> 7.9193519e+08 | P17: =SUM(P6:P16) -> 7.9193519e+08
A18: Costo Total Directo para (1) Estufa Ecoeficiente | F18: =ROUND((F8+F17),0) -> 609180912
A20: AIU | E20: =+E21+E22+E23 -> 0.3
A21: Administración | E21: 0.24 | F21: =ROUND(F18*E21,0) -> 146203419
A22: Imprevistos | E22: 0.01 | F22: =ROUND(F18*E22,0) -> 6091809
A23: Utilidad | E23: 0.05 | F23: =ROUND(F18*E23,0) -> 30459046
A24: Total AIU | F24: =ROUND((F21+F22+F23),0) -> 182754274
A26: Total Costo de Obra | F26: =ROUND((F24+F18),0) -> 791935186
A28: Interventoría | E28: 0.1 | F28: =ROUND(F26*E28,0) -> 79193519
A31: Costo total estufa fija | F31: =F26+F28 -> 871128705

Sheet 2.1. PRESUPUESTO - UNIDAD.
A1: ='2. PRESUPUESTO - 150 UNIDADES'!A1 -> 0
A2: ='2. PRESUPUESTO - 150 UNIDADES'!A2 -> IMPLEMENTACION DE SOLUCIONES BASADAS EN NATURALEZA – ESTUFAS ECOEFICIENTES – COMO ESTRATEGIAS DE DISMINUCION DE LA DEFORESTACION Y LA EMISION DE GEI EN EL MUNICIPIO DE MELGAR TOLIMA
A3: PRESUPUESTO GENERAL DE OBRA | F3: ='2. PRESUPUESTO - 150 UNIDADES'!F3 -> ENERO DE 2026
A4: ITEM | B4: DESCRIPCIÓN | C4: UNIDAD | D4: CANTIDAD | E4: VALOR UNITARIO | F4: VALOR TOTAL
A5: 1. | B5: PRELIMINARES
A6: 1.1 | B6: Diagnostico incial | C6: VISITA | D6: 1 | E6: ='2.3. APU ESTUFA FIJA!'!H28 -> 122278 | F6: =ROUND(D6*E6,0) -> 122278
A7: ='2. PRESUPUESTO - 150 UNIDADES'!A7 -> 1.2 | B7: ='2. PRESUPUESTO - 150 UNIDADES'!B7 -> Localización y replanteo. | C7: M2 | D7: ='2.2. CANTIDADES'!E11 -> 0.95 | E7: =+'2.3. APU ESTUFA FIJA!'!H57 -> 7350 | F7: =ROUND(E7*D7,0) -> 6983
A8: Subtotal Preliminares | F8: =ROUND((F7+F6),0) -> 129261
A10: 2. | B10: CONSTRUCCIÓN ESTUFAS ECO (0,73m x 1,05m) h: 0,83m
A11: ='2. PRESUPUESTO - 150 UNIDADES'!A11 -> 2.1 | B11: ='2. PRESUPUESTO - 150 UNIDADES'!B11 -> Piso en concreto de 2500 PSI | C11: M3 | D11: ='2.2. CANTIDADES'!E15 -> 0.1 | E11: ='2.3. APU ESTUFA FIJA!'!H92 -> 653225 | F11: =ROUND((D11*E11),0) -> 65323
A12: ='2. PRESUPUESTO - 150 UNIDADES'!A12 -> 2.2 | B12: ='2. PRESUPUESTO - 150 UNIDADES'!B12 -> Mampostería ladrillo a la vista tipo bocadillo, macizo liviano de 6x12x24 cm | C12: M2 | D12: ='2.2. CANTIDADES'!B23 -> 2.96 | E12: ='2.3. APU ESTUFA FIJA!'!H126 -> 225406 | F12: =ROUND(E12*D12,0) -> 667202
A13: ='2. PRESUPUESTO - 150 UNIDADES'!A13 -> 2.3 | B13: ='2. PRESUPUESTO - 150 UNIDADES'!B13 -> Mampostería ladrillo adobe macizo de 5x10x20 cm | C13: M2 | D13: ='2.2. CANTIDADES'!B29 -> 0.72 | E13: =+'2.3. APU ESTUFA FIJA!'!H162 -> 200497 | F13: =ROUND(E13*D13,0) -> 144358
A14: ='2. PRESUPUESTO - 150 UNIDADES'!A14 -> 2.4 | B14: ='2. PRESUPUESTO - 150 UNIDADES'!B14 -> Suministro e Instalación de STC Vitrificado | C14: M2 | D14: ='2.2. CANTIDADES'!B37 -> 0.57 | E14: =+'2.3. APU ESTUFA FIJA!'!H200 -> 100864 | F14: =ROUND(E14*D14,0) -> 57492
A15: ='2. PRESUPUESTO - 150 UNIDADES'!A15 -> 2.5 | B15: ='2. PRESUPUESTO - 150 UNIDADES'!B15 -> Suministro e Instalación KIT de Herrajes | C15: UND | D15: ='2.2. CANTIDADES'!E40 -> 1 | E15: =+'2.3. APU ESTUFA FIJA!'!H244 -> 2625571 | F15: =ROUND(E15*D15,0) -> 2625571
A16: ='2. PRESUPUESTO - 150 UNIDADES'!A16 -> 2.6 | B16: ='2. PRESUPUESTO - 150 UNIDADES'!B16 -> Transporte de materiales | C16: GLOBAL | D16: ='2.2. CANTIDADES'!$E$43 -> 1 | E16: ='2.3. APU ESTUFA FIJA!'!H281 -> 372000 | F16: =ROUND(E16*D16,0) -> 372000
A17: Subtotal Construcción | F17: =ROUND((F16+F15+F14+F13+F12+F11),0) -> 3931946
A18: Costo Total Directo para (1) Estufa Ecoeficiente | F18: =ROUND((F8+F17),0) -> 4061207
A20: AIU | E20: =+E21+E22+E23 -> 0.3
A21: Administración | E21: 0.24 | F21: =ROUND(F18*E21,0) -> 974690
A22: Imprevistos | E22: 0.01 | F22: =ROUND(F18*E22,0) -> 40612
A23: Utilidad | E23: 0.05 | F23: =ROUND(F18*E23,0) -> 203060
A24: Total AIU | F24: =ROUND((F21+F22+F23),0) -> 1218362
A26: Total Costo de Obra | F26: =ROUND((F24+F18),0) -> 5279569
A28: ='2. PRESUPUESTO - 150 UNIDADES'!$A$28 -> Interventoría | F28: =ROUND(F26*10%,0) -> 527957
A31: Costo total estufa fija | F31: =F28+F26 -> 5807526

Sheet 2.2. CANTIDADES
A1: ='2.1. PRESUPUESTO - UNIDAD.'!A1 -> 0
A2: ='2.1. PRESUPUESTO - UNIDAD.'!A2 -> IMPLEMENTACION DE SOLUCIONES BASADAS EN NATURALEZA – ESTUFAS ECOEFICIENTES – COMO ESTRATEGIAS DE DISMINUCION DE LA DEFORESTACION Y LA EMISION DE GEI EN EL MUNICIPIO DE MELGAR TOLIMA
A3: MEMORIA DE CANTIDADES | F3: ='2.1. PRESUPUESTO - UNIDAD.'!F3 -> ENERO DE 2026
A4: ITEM | B4: DESCRIPCIÓN | E4: X UNIDAD | F4: 150
A5: ='2. PRESUPUESTO - 150 UNIDADES'!A6 -> 1.1 | B5: ='2. PRESUPUESTO - 150 UNIDADES'!B6 -> Diagnostico inicial (Incluye visita predial) | E5: ='2. PRESUPUESTO - 150 UNIDADES'!C6 -> VISITA | F5: ='2. PRESUPUESTO - 150 UNIDADES'!C6 -> VISITA
F6: 150
A9: 1.2 | B9: ='2.1. PRESUPUESTO - UNIDAD.'!B7 -> Localización y replanteo. | E9: ='2.1. PRESUPUESTO - UNIDAD.'!C7 -> M2 | F9: =E9 -> M2
B10: LARGO | C10: ANCHO | E10: AREA TOTAL | F10: =E10 -> AREA TOTAL
B11: 1.15 | C11: 0.83 | E11: =ROUND((B11*C11),2) -> 0.95 | F11: =E11*F4 -> 142.5
A13: ='2.1. PRESUPUESTO - UNIDAD.'!A11 -> 2.1 | B13: ='2.1. PRESUPUESTO - UNIDAD.'!B11 -> Piso en concreto de 2500 PSI | E13: ='2.1. PRESUPUESTO - UNIDAD.'!C11 -> M3 | F13: =E13 -> M3
B14: LARGO | C14: ANCHO | D14: ESPESOR | E14: VOLUMEN TOTAL | F14: =E14 -> VOLUMEN TOTAL
B15: =B11 -> 1.15 | C15: =C11 -> 0.83 | D15: 0.1 | E15: =ROUND((B15*C15*D15),2) -> 0.1 | F15: =E15*F4 -> 15
A17: ='2.1. PRESUPUESTO - UNIDAD.'!A12 -> 2.2 | B17: ='2.1. PRESUPUESTO - UNIDAD.'!B12 -> Mampostería ladrillo a la vista tipo bocadillo, macizo liviano de 6x12x24 cm | E17: ='2.1. PRESUPUESTO - UNIDAD.'!C12 -> M2 | F17: =E17 -> M2
B18: LARGO | C18: ALTO | E18: AREA TOTAL | F18: =E18 -> AREA TOTAL
A19: Pared Frontal | B19: 1.05 | C19: 0.83 | E19: =ROUND((B19*C19),2) -> 0.87
A20: Pared Lateral 1 | B20: 0.73 | C20: 0.83 | E20: =ROUND((B20*C20),2) -> 0.61
A21: Pared Posterior | B21: 1.05 | C21: 0.83 | E21: =ROUND((B21*C21),2) -> 0.87
A22: Pared Lateral 2 | B22: 0.73 | C22: 0.83 | E22: =ROUND((B22*C22),2) -> 0.61
A23: TOTAL | B23: =ROUND((E22+E21+E20+E19),2) -> 2.96 | F23: =B23*F4 -> 444
A25: ='2.1. PRESUPUESTO - UNIDAD.'!A13 -> 2.3 | B25: ='2.1. PRESUPUESTO - UNIDAD.'!B13 -> Mampostería ladrillo adobe macizo de 5x10x20 cm | E25: ='2.1. PRESUPUESTO - UNIDAD.'!C13 -> M2 | F25: =E25 -> M2
B26: LARGO | C26: ALTO | E26: AREA TOTAL | F26: =E26 -> AREA TOTAL
B27: 0.9 | C27: 0.4 | E27: =ROUND((B27*C27),2) -> 0.36
B28: 0.9 | C28: 0.4 | E28: =ROUND((B28*C28),2) -> 0.36
A29: TOTAL | B29: =ROUND((E28+E27),2) -> 0.72 | F29: =B29*F4 -> 108
I31: =80*0.72 -> 57.6
A32: ='2.1. PRESUPUESTO - UNIDAD.'!A14 -> 2.4 | B32: ='2.1. PRESUPUESTO - UNIDAD.'!B14 -> Suministro e Instalación de STC Vitrificado | E32: ='2.1. PRESUPUESTO - UNIDAD.'!C14 -> M2 | F32: =E32 -> M2
B33: LARGO | C33: ANCHO | E33: AREA TOTAL | F33: =E33 -> AREA TOTAL
B34: 1.05 | C34: 0.2 | E34: =ROUND((B34*C34),2) -> 0.21
B35: 0.1 | C35: 0.73 | E35: =ROUND((B35*C35),2) -> 0.07
B36: 0.4 | C36: 0.73 | E36: =ROUND((B36*C36),2) -> 0.29
A37: TOTAL | B37: =ROUND((E36+E35+E34),2) -> 0.57 | F37: =B37*F4 -> 85.5
A39: ='2.1. PRESUPUESTO - UNIDAD.'!A15 -> 2.5 | B39: ='2.1. PRESUPUESTO - UNIDAD.'!B15 -> Suministro e Instalación KIT de Herrajes | E39: ='2.1. PRESUPUESTO - UNIDAD.'!C15 -> UND | F39: =E39 -> UND
E40: 1 | F40: =E40*F4 -> 150
A42: ='2.1. PRESUPUESTO - UNIDAD.'!A16 -> 2.6 | B42: ='2.1. PRESUPUESTO - UNIDAD.'!B16 -> Transporte de materiales | E42: ='2.1. PRESUPUESTO - UNIDAD.'!C16 -> GLOBAL | F42: =E42 -> GLOBAL
E43: 1 | F43: =E43*F4 -> 150

Sheet 2.3. APU ESTUFA FIJA!
A2: =$A$31 -> ANALISIS DE PRECIOS UNITARIOS | G2: =G31 -> ENERO DE 2026
A4: =A33 -> IMPLEMENTACION DE SOLUCIONES BASADAS EN NATURALEZA – ESTUFAS ECOEFICIENTES – COMO ESTRATEGIAS DE DISMINUCION DE LA DEFORESTACION Y LA EMISION DE GEI EN EL MUNICIPIO DE MELGAR TOLIMA
A6: ACTIVIDAD: | B6: ='2. PRESUPUESTO - 150 UNIDADES'!B6 -> Diagnostico inicial (Incluye visita predial) | G6: ITEM: | H6: ='2. PRESUPUESTO - 150 UNIDADES'!A6 -> 1.1
G7: UNIDAD: | H7: ='2. PRESUPUESTO - 150 UNIDADES'!C6 -> VISITA
A8: I. MATERIALES E INSUMOS
A9: Descripción | D9: Unidad | E9: Tarifa/Hora | F9: Rendimiento | G9: Valor-Unit.
A10: Papeleria | D10: GL | G10: 7805
G15: Sub-Total | H15: =SUM(G10:G14) -> 7805
A16: III. TRANSPORTES
C17: Vol. Peso o Cant. | D17: Distancia | E17: M3-Km | F17: Tarifa | G17: Valor-Unit.
A20: Costos de desplazamiento | F20: 60000 | G20: =F20 -> 60000
G21: Sub-Total | H21: =SUM(G18:G20) -> 60000
A22: IV. MANO DE OBRA
A23: Descripción | D23: Unidad | E23: Tarifa/Hora | F23: Rendimiento | G23: Valor-Unit.
A24: Ayudante | D24: Dia | E24: ='2.8. CUADRILLAS'!D8 -> 81708.9 | F24: 1.5 | G24: =E24/F24 -> 54472.6
G26: Sub-Total | H26: =SUM(G24:G25) -> 54472.6
E28: Total Costo Directo | H28: =ROUND(H26+H21+H15,0) -> 122278 | I28: 8616.7286
A31: =$A$31 -> ANALISIS DE PRECIOS UNITARIOS | G31: ='2.1. PRESUPUESTO - UNIDAD.'!F3 -> ENERO DE 2026
A33: ='2.2. CANTIDADES'!A2 -> IMPLEMENTACION DE SOLUCIONES BASADAS EN NATURALEZA – ESTUFAS ECOEFICIENTES – COMO ESTRATEGIAS DE DISMINUCION DE LA DEFORESTACION Y LA EMISION DE GEI EN EL MUNICIPIO DE MELGAR TOLIMA
A35: ACTIVIDAD: | B35: ='2. PRESUPUESTO - 150 UNIDADES'!B7 -> Localización y replanteo. | G35: ITEM: | H35: ='2. PRESUPUESTO - 150 UNIDADES'!A7 -> 1.2
G36: UNIDAD: | H36: ='2. PRESUPUESTO - 150 UNIDADES'!C7 -> M2
A37: I. EQUIPO
A38: Descripción | D38: Unidad | E38: Tarifa/Hora | F38: Rendimiento | G38: Valor-Unit.
A39: HERRAMIENTA MENOR | D39: % | E39: =H55 -> 6681.8459 | F39: 0.1 | G39: =+E39*F39 -> 668.18459
G44: Sub-Total | H44: =SUM(G39:G43) -> 668.18459
A45: III. TRANSPORTES
C46: Vol. Peso o Cant. | D46: Distancia | E46: M3-Km | F46: Tarifa | G46: Valor-Unit.
G50: Sub-Total | H50: =SUM(G47:G49) -> 0
A51: IV. MANO DE OBRA
A52: Descripción | D52: Unidad | E52: Tarifa/Hora | F52: Rendimiento | G52: Valor-Unit.
A53: Cuadrilla AA 1Of+1Ay (Albañilería) | D53: HC | E53: ='2.8. CUADRILLAS'!G31 -> 23564 | F53: 3.5265704 | G53: =E53/F53 -> 6681.8459
G55: Sub-Total | H55: =SUM(G53:G54) -> 6681.8459
E57: Total Costo Directo | H57: =ROUND(H55+H50+H44,0) -> 7350 | I57: 8616.7286
A59: =A30 -> 0
A60: =$A$31 -> ANALISIS DE PRECIOS UNITARIOS | G60: =G95 -> ENERO DE 2026
A62: =$A$33 -> IMPLEMENTACION DE SOLUCIONES BASADAS EN NATURALEZA – ESTUFAS ECOEFICIENTES – COMO ESTRATEGIAS DE DISMINUCION DE LA DEFORESTACION Y LA EMISION DE GEI EN EL MUNICIPIO DE MELGAR TOLIMA
A64: ACTIVIDAD: | B64: ='2.1. PRESUPUESTO - UNIDAD.'!$B$11 -> Piso en concreto de 2500 PSI | G64: ITEM: | H64: ='2.1. PRESUPUESTO - UNIDAD.'!$A$11 -> 2.1
G65: UNIDAD: | H65: M3
A66: I. EQUIPO
A67: Descripción | D67: Unidad | E67: Tarifa/Hora | F67: Rendimiento | G67: Valor-Unit.
...

Sheet 2.3.1. APUS BASICOS
A1: ='2.3. APU ESTUFA FIJA!'!A30 -> 0
A2: ='2.3. APU ESTUFA FIJA!'!A166 -> ANALISIS DE PRECIOS UNITARIOS | G2: ='2.3. APU ESTUFA FIJA!'!G248 -> ENERO DE 2026
A4: ='2.3. APU ESTUFA FIJA!'!A168 -> IMPLEMENTACION DE SOLUCIONES BASADAS EN NATURALEZA – ESTUFAS ECOEFICIENTES – COMO ESTRATEGIAS DE DISMINUCION DE LA DEFORESTACION Y LA EMISION DE GEI EN EL MUNICIPIO DE MELGAR TOLIMA
A6: MORTERO 1:4 EN OBRA | G6: M3
A8: AGUA ACUEDUCTO | C8: Ins | D8: lt | E8: 220 | F8: 60 | G8: =+E8*F8 -> 13200
A9: ARENA ARROYO | C9: Ins | D9: m3 | E9: 1.16 | F9: 75000 | G9: =+E9*F9 -> 87000
A10: CEMENTO GRIS | C10: Ins | D10: kg | E10: 363 | F10: 750 | G10: =+E10*F10 -> 272250
H11: =G10+G9+G8 -> 372450
A13: MORTERO 1:5 EN OBRA | G13: M3
A15: AGUA ACUEDUCTO | C15: Ins | D15: lt | E15: 200 | F15: =F8 -> 60 | G15: =+E15*F15 -> 12000
A16: ARENA ARROYO | C16: Ins | D16: m3 | E16: 1.2 | F16: =F9 -> 75000 | G16: =+E16*F16 -> 90000
A17: CEMENTO GRIS | C17: Ins | D17: kg | E17: 300 | F17: 750 | G17: =+E17*F17 -> 225000
H18: =G17+G16+G15 -> 327000
A21: CONCRETO DE 2500 PSI | G21: M3
A22: EQUIPO
A23: Descripción | D23: Tipo | E23: Rendimiento | F23: Tarifa-Hora | G23: Vr. Unitario
A24: HERRAMIENTA MENOR 10 % M.O | G24: ='2.3. APU ESTUFA FIJA!'!H73 -> 11782.246
G25: Sub-Total | H25: =G24 -> 11782.246
A26: MATERIALES
A27: Descripción | D27: Unidad | E27: Cantidad | F27: Prec.Unitario | G27: Vr. Unitario
A28: CEMENTO GRIS | D28: Kg | E28: 300 | F28: 750 | G28: =E28*F28 -> 225000
A29: ARENA ARROYO | D29: M3 | E29: 0.72 | F29: 75000 | G29: =E29*F29 -> 54000
A30: GRAVA | D30: M3 | E30: 0.72 | F30: 70000 | G30: =E30*F30 -> 50400
A31: AGUA | D31: LT | E31: 170 | F31: 100 | G31: =G8 -> 13200
G32: Sub-Total | H32: =G31+G30+G29+G28 -> 342600
A33: TRANSPORTE
A34: Material - Equipo | D34: Cantidad | E34: Distancia | F34: M3/Km | G34: Vr. Unitario
A35: TRANSPORTE DE MATERIAL | D35: 1 | E35: 30 | F35: 1500 | G35: =+F35*E35*D35 -> 45000
G36: Sub-Total | H36: =G35 -> 45000
A37: MANO DE OBRA
A38: Trabajador | C38: Cantidad | D38: Hora-Hombre | E38: Prestac. Sociales | F38: Jornal Total | G38: Rendimiento | H38: Vr. Unitario
A39: CUADRILLA AA TIPO 3 (1 OFICIAL + 3 AYUDANTE) (ALBAÑILERIA) | C39: 3 | D39: 32217 | E39: 1.9 | F39: 61212.3 | G39: 0.3 | H39: 55091.07
G40: Sub-Total | H40: =H39 -> 55091.07
H43: =+H40+H36+H32+H25 -> 454473.32

Sheet 2.4. EJECUCION FINANCIERA
A2: =+'2.2. CANTIDADES'!A2:F2 -> IMPLEMENTACION DE SOLUCIONES BASADAS EN NATURALEZA – ESTUFAS ECOEFICIENTES – COMO ESTRATEGIAS DE DISMINUCION DE LA DEFORESTACION Y LA EMISION DE GEI EN EL MUNICIPIO DE MELGAR TOLIMA
A3: CRONOGRAMA DE EJECUCION FINANCIERA | L3: ='2.1. PRESUPUESTO - UNIDAD.'!F3 -> ENERO DE 2026
A4: ITEM | B4: DESCRIPCIÓN | C4: UNIDAD | G4: VALOR TOTAL | H4: MESES DEL PROYECTO
D5: CANTIDAD | E5: VALOR UNITARIO | F5: VALOR TOTAL | H5: 1 | I5: 2 | J5: 3 | K5: 4 | L5: 5 | M5: 6
A6: 1. | B6: PRELIMINARES
A8: ='2. PRESUPUESTO - 150 UNIDADES'!A6 -> 1.1 | B8: ='2. PRESUPUESTO - 150 UNIDADES'!B6 -> Diagnostico inicial (Incluye visita predial) | C8: ='2. PRESUPUESTO - 150 UNIDADES'!C6 -> VISITA | D8: ='2. PRESUPUESTO - 150 UNIDADES'!D6 -> 150 | E8: ='2.3. APU ESTUFA FIJA!'!H28 -> 122278 | F8: =ROUND(E8*D8,0) -> 18341700 | G8: =F8*30%+F8 -> 23844210 | H8: ETAPA PRECONTRACTUAL | M8: LIQUIDACION CONTRATOS
I9: =G8/4 -> 5961052.5 | J9: =I9 -> 5961052.5 | K9: =J9 -> 5961052.5 | L9: =K9 -> 5961052.5
A10: ='2. PRESUPUESTO - 150 UNIDADES'!A7 -> 1.2 | B10: ='2. PRESUPUESTO - 150 UNIDADES'!B7 -> Localización y replanteo. | C10: ='2.3. APU ESTUFA FIJA!'!$H$36 -> M2 | D10: ='2. PRESUPUESTO - 150 UNIDADES'!D7 -> 142.5 | E10: =+'2.3. APU ESTUFA FIJA!'!H57 -> 7350 | F10: =ROUND(E10*D10,0) -> 1047375 | G10: =F10*30%+F10 -> 1361587.5
I11: =G10/4 -> 340396.88 | J11: =I11 -> 340396.88 | K11: =I11 -> 340396.88 | L11: =K11 -> 340396.88
A12: Subtotal Preliminares | F12: =ROUND((F10),0) -> 1047375
A14: 2. | B14: CONSTRUCCIÓN ESTUFAS ECO (0,73m x 1,05m) h: 0,83m
A15: ='2. PRESUPUESTO - 150 UNIDADES'!A11 -> 2.1 | B15: ='2. PRESUPUESTO - 150 UNIDADES'!B11 -> Piso en concreto de 2500 PSI | C15: ='2.1. PRESUPUESTO - UNIDAD.'!C11 -> M3 | D15: ='2. PRESUPUESTO - 150 UNIDADES'!D11 -> 15 | E15: ='2.3. APU ESTUFA FIJA!'!H92 -> 653225 | F15: =D15*E15 -> 9798375 | G15: =F15*30%+F15 -> 12737888
I16: =G15/4 -> 3184471.9 | J16: =I16 -> 3184471.9 | K16: =I16 -> 3184471.9 | L16: =K16 -> 3184471.9
A17: ='2. PRESUPUESTO - 150 UNIDADES'!A12 -> 2.2 | B17: ='2. PRESUPUESTO - 150 UNIDADES'!B12 -> Mampostería ladrillo a la vista tipo bocadillo, macizo liviano de 6x12x24 cm | C17: ='2.1. PRESUPUESTO - UNIDAD.'!C12 -> M2 | D17: ='2. PRESUPUESTO - 150 UNIDADES'!D12 -> 444 | E17: ='2.3. APU ESTUFA FIJA!'!H126 -> 225406 | F17: =D17*E17 -> 100080264 | G17: =F17*30%+F17 -> 1.3010434e+08
I18: =G17/4 -> 32526086 | J18: =I18 -> 32526086 | K18: =I18 -> 32526086 | L18: =K18 -> 32526086
A19: ='2. PRESUPUESTO - 150 UNIDADES'!A13 -> 2.3 | B19: ='2. PRESUPUESTO - 150 UNIDADES'!B13 -> Mampostería ladrillo adobe macizo de 5x10x20 cm | C19: ='2.1. PRESUPUESTO - UNIDAD.'!C13 -> M2 | D19: ='2. PRESUPUESTO - 150 UNIDADES'!D13 -> 108 | E19: =+'2.3. APU ESTUFA FIJA!'!H162 -> 200497 | F19: =D19*E19 -> 21653676 | G19: =F19*30%+F19 -> 28149779
I20: =G19/4 -> 7037444.7 | J20: =I20 -> 7037444.7 | K20: =I20 -> 7037444.7 | L20: =K20 -> 7037444.7
A21: ='2. PRESUPUESTO - 150 UNIDADES'!A14 -> 2.4 | B21: ='2. PRESUPUESTO - 150 UNIDADES'!B14 -> Suministro e Instalación de STC Vitrificado | C21: ='2.1. PRESUPUESTO - UNIDAD.'!C14 -> M2 | D21: ='2. PRESUPUESTO - 150 UNIDADES'!D14 -> 85.5 | E21: =+'2.3. APU ESTUFA FIJA!'!H200 -> 100864 | F21: =D21*E21 -> 8623872 | G21: =F21*30%+F21 -> 11211034
I22: =G21/4 -> 2802758.4 | J22: =I22 -> 2802758.4 | K22: =I22 -> 2802758.4 | L22: =K22 -> 2802758.4
A23: ='2. PRESUPUESTO - 150 UNIDADES'!A15 -> 2.5 | B23: ='2. PRESUPUESTO - 150 UNIDADES'!B15 -> Suministro e Instalación KIT de Herrajes | C23: ='2.1. PRESUPUESTO - UNIDAD.'!C15 -> UND | D23: ='2. PRESUPUESTO - 150 UNIDADES'!D15 -> 150 | E23: =+'2.3. APU ESTUFA FIJA!'!H244 -> 2625571 | F23: =D23*E23 -> 393835650 | G23: =F23*30%+F23 -> 511986345
I24: =G23/4 -> 1.2799659e+08 | J24: =I24 -> 1.2799659e+08 | K24: =I24 -> 1.2799659e+08 | L24: =K24 -> 1.2799659e+08
A25: ='2. PRESUPUESTO - 150 UNIDADES'!A16 -> 2.6 | B25: ='2. PRESUPUESTO - 150 UNIDADES'!B16 -> Transporte de materiales | C25: ='2.1. PRESUPUESTO - UNIDAD.'!C16 -> GLOBAL | D25: ='2. PRESUPUESTO - 150 UNIDADES'!D16 -> 150 | E25: ='2.3. APU ESTUFA FIJA!'!H281 -> 372000 | F25: =D25*E25 -> 55800000 | G25: =F25*30%+F25 -> 72540000
I26: =G25/4 -> 18135000 | J26: =I26 -> 18135000 | K26: =I26 -> 18135000 | L26: =K26 -> 18135000
A27: Subtotal Construcción | F27: =F25+F23+F21+F19+F17+F15 -> 589791837
A28: Costo Total Directo para (1) Estufa Ecoeficiente | F28: =ROUND((F12+F27),0) -> 590839212
A30: AIU | E30: =+E31+E33+E35 -> 0.3
A31: Administración | E31: 0.24 | F31: =ROUND(F28*E31,0) -> 141801411
A33: Imprevistos | E33: 0.01 | F33: =ROUND(F28*E33,0) -> 5908392
A35: Utilidad | E35: 0.05 | F35: =ROUND(F28*E35,0) -> 29541961
A36: Total AIU | F36: =ROUND((F31+F33+F35),0) -> 177251764
A38: Total Costo de Obra | F38: =F25+F23+F21+F19+F17+F15+F10+F8 -> 609180912 | G38: =G25+G23+G21+G19+G17+G15+G10+G8 -> 7.9193519e+08 | I38: =I26+I24+I22+I20+I18+I16+I11+I9 -> 1.979838e+08 | J38: =J26+J24+J22+J20+J18+J16+J11+J9 -> 1.979838e+08 | K38: =K26+K24+K22+K20+K18+K16+K11+K9 -> 1.979838e+08 | L38: =L26+L24+L22+L20+L18+L16+L11+L9 -> 1.979838e+08
A40: Interventoría | G40: ='2. PRESUPUESTO - 150 UNIDADES'!F28 -> 79193519
I41: =G40/4 -> 19798380 | J41: =I41 -> 19798380 | K41: =I41 -> 19798380 | L41: =K41 -> 19798380
A43: Costo total estufa fija | F43: =ROUND((F38+F40),0) -> 609180912 | G43: =G40+G38 -> 8.711287e+08 | I43: =I41+I38 -> 2.1778218e+08 | J43: =J41+J38 -> 2.1778218e+08 | K43: =K41+K38 -> 2.1778218e+08 | L43: =L41+L38 -> 2.1778218e+08

Sheet 2.4.1. EJECUCION FISICA
A2: =+'2.4. EJECUCION FINANCIERA'!A2:M2 -> IMPLEMENTACION DE SOLUCIONES BASADAS EN NATURALEZA – ESTUFAS ECOEFICIENTES – COMO ESTRATEGIAS DE DISMINUCION DE LA DEFORESTACION Y LA EMISION DE GEI EN EL MUNICIPIO DE MELGAR TOLIMA
A3: CRONOGRAMA DE EJECUCION FISICA | L3: ='2.4. EJECUCION FINANCIERA'!L3 -> ENERO DE 2026
A4: ITEM | B4: DESCRIPCIÓN | C4: UNIDAD | G4: VALOR TOTAL | H4: MESES DEL PROYECTO
D5: CANTIDAD | E5: VALOR UNITARIO | F5: VALOR TOTAL | H5: 1 | I5: 2 | J5: 3 | K5: 4 | L5: 5 | M5: 6
A6: 1. | B6: PRELIMINARES
A8: ='2.4. EJECUCION FINANCIERA'!A8 -> 1.1 | B8: ='2.4. EJECUCION FINANCIERA'!B8 -> Diagnostico inicial (Incluye visita predial) | C8: ='2. PRESUPUESTO - 150 UNIDADES'!C6 -> VISITA | D8: ='2. PRESUPUESTO - 150 UNIDADES'!D6 -> 150 | H8: PRECONTRACTUAL | M8: LIQ. CONTRATOS
I9: =D8 -> 150
A10: ='2.4. EJECUCION FINANCIERA'!A10 -> 1.2 | B10: ='2.4. EJECUCION FINANCIERA'!B10 -> Localización y replanteo. | C10: ='2.3. APU ESTUFA FIJA!'!$H$36 -> M2 | D10: ='2. PRESUPUESTO - 150 UNIDADES'!D7 -> 142.5 | E10: =+'2.3. APU ESTUFA FIJA!'!H57 -> 7350 | F10: =ROUND(E10*D10,0) -> 1047375 | G10: =F10*30%+F10 -> 1361587.5
I11: =D10/4 -> 35.625 | J11: =I11 -> 35.625 | K11: =I11 -> 35.625 | L11: =K11 -> 35.625
A12: Subtotal Preliminares | F12: =ROUND((F10),0) -> 1047375
A14: 2. | B14: CONSTRUCCIÓN ESTUFAS ECO (0,73m x 1,05m) h: 0,83m
A15: ='2.4. EJECUCION FINANCIERA'!A15 -> 2.1 | B15: ='2.4. EJECUCION FINANCIERA'!B15 -> Piso en concreto de 2500 PSI | C15: ='2.1. PRESUPUESTO - UNIDAD.'!C11 -> M3 | D15: ='2. PRESUPUESTO - 150 UNIDADES'!D11 -> 15 | E15: ='2.3. APU ESTUFA FIJA!'!H92 -> 653225 | F15: =D15*E15 -> 9798375 | G15: =F15*30%+F15 -> 12737888
I16: =D15/4 -> 3.75 | J16: =I16 -> 3.75 | K16: =I16 -> 3.75 | L16: =K16 -> 3.75
A17: ='2.4. EJECUCION FINANCIERA'!A17 -> 2.2 | B17: ='2.4. EJECUCION FINANCIERA'!B17 -> Mampostería ladrillo a la vista tipo bocadillo, macizo liviano de 6x12x24 cm | C17: ='2.1. PRESUPUESTO - UNIDAD.'!C12 -> M2 | D17: ='2. PRESUPUESTO - 150 UNIDADES'!D12 -> 444 | E17: ='2.3. APU ESTUFA FIJA!'!H126 -> 225406 | F17: =D17*E17 -> 100080264 | G17: =F17*30%+F17 -> 1.3010434e+08
I18: =D17/4 -> 111 | J18: =I18 -> 111 | K18: =I18 -> 111 | L18: =K18 -> 111
A19: ='2.4. EJECUCION FINANCIERA'!A19 -> 2.3 | B19: ='2.4. EJECUCION FINANCIERA'!B19 -> Mampostería ladrillo adobe macizo de 5x10x20 cm | C19: ='2.1. PRESUPUESTO - UNIDAD.'!C13 -> M2 | D19: ='2. PRESUPUESTO - 150 UNIDADES'!D13 -> 108 | E19: =+'2.3. APU ESTUFA FIJA!'!H162 -> 200497 | F19: =D19*E19 -> 21653676 | G19: =F19*30%+F19 -> 28149779
I20: =D19/4 -> 27 | J20: =I20 -> 27 | K20: =I20 -> 27 | L20: =K20 -> 27
A21: ='2.4. EJECUCION FINANCIERA'!A21 -> 2.4 | B21: ='2.4. EJECUCION FINANCIERA'!B21 -> Suministro e Instalación de STC Vitrificado | C21: ='2.1. PRESUPUESTO - UNIDAD.'!C14 -> M2 | D21: ='2. PRESUPUESTO - 150 UNIDADES'!D14 -> 85.5 | E21: =+'2.3. APU ESTUFA FIJA!'!H200 -> 100864 | F21: =D21*E21 -> 8623872 | G21: =F21*30%+F21 -> 11211034
I22: =D21/4 -> 21.375 | J22: =I22 -> 21.375 | K22: =I22 -> 21.375 | L22: =K22 -> 21.375
A23: ='2.4. EJECUCION FINANCIERA'!A23 -> 2.5 | B23: ='2.4. EJECUCION FINANCIERA'!B23 -> Suministro e Instalación KIT de Herrajes | C23: ='2.1. PRESUPUESTO - UNIDAD.'!C15 -> UND | D23: ='2. PRESUPUESTO - 150 UNIDADES'!D15 -> 150 | E23: =+'2.3. APU ESTUFA FIJA!'!H244 -> 2625571 | F23: =D23*E23 -> 393835650 | G23: =F23*30%+F23 -> 511986345
I24: =D23/4 -> 37.5 | J24: =I24 -> 37.5 | K24: =I24 -> 37.5 | L24: =K24 -> 37.5
A25: ='2.4. EJECUCION FINANCIERA'!A25 -> 2.6 | B25: ='2.4. EJECUCION FINANCIERA'!B25 -> Transporte de materiales | C25: ='2.1. PRESUPUESTO - UNIDAD.'!C16 -> GLOBAL | D25: ='2. PRESUPUESTO - 150 UNIDADES'!D16 -> 150 | E25: ='2.3. APU ESTUFA FIJA!'!H281 -> 372000 | F25: =D25*E25 -> 55800000 | G25: =F25*30%+F25 -> 72540000
I26: =D25/4 -> 37.5 | J26: =I26 -> 37.5 | K26: =I26 -> 37.5 | L26: =K26 -> 37.5
A27: Subtotal Construcción | F27: =F25+F23+F21+F19+F17+F15 -> 589791837
A28: Costo Total Directo para (1) Estufa Ecoeficiente | F28: =ROUND((F12+F27),0) -> 590839212
A30: AIU | E30: =+E31+E33+E35 -> 0.3
A31: Administración | E31: 0.24 | F31: =ROUND(F28*E31,0) -> 141801411
A33: Imprevistos | E33: 0.01 | F33: =ROUND(F28*E33,0) -> 5908392
A35: Utilidad | E35: 0.05 | F35: =ROUND(F28*E35,0) -> 29541961
A36: Total AIU | F36: =ROUND((F31+F33+F35),0) -> 177251764
A38: Total Costo de Obra | F38: =ROUND((F36+F28),0) -> 768090976 | G38: =G25+G23+G21+G19+G17+G15+G10 -> 7.6809098e+08 | I38: =I26+I24+I22+I20+I18+I16+I11 -> 273.75 | K38: =K26+K24+K22+K20+K18+K16+K11 -> 273.75 | L38: =L26+L24+L22+L20+L18+L16+L11 -> 273.75
A40: Interventoría (10%) | F40: =ROUND((F38*10%),0) -> 76809098 | G40: =F40 -> 76809098
I41: =G40/3 -> 25603033 | K41: =I41 -> 25603033 | L41: =K41 -> 25603033
A43: Costo total estufa fija | F43: =ROUND((F38+F40),0) -> 844900074 | G43: =G40+G38 -> 8.4490007e+08 | I43: =I41+I38 -> 25603306 | K43: =K41+K38 -> 25603306 | L43: =L41+L38 -> 25603306

Sheet 2.5. AIU
B2: ='2.4.1. EJECUCION FISICA'!A1 -> 0
B3: ='2. PRESUPUESTO - 150 UNIDADES'!A2 -> IMPLEMENTACION DE SOLUCIONES BASADAS EN NATURALEZA – ESTUFAS ECOEFICIENTES – COMO ESTRATEGIAS DE DISMINUCION DE LA DEFORESTACION Y LA EMISION DE GEI EN EL MUNICIPIO DE MELGAR TOLIMA
B4: ANALISIS DE AIU | G4: ='2.1. PRESUPUESTO - UNIDAD.'!F3 -> ENERO DE 2026 | I4: ='2. PRESUPUESTO - 150 UNIDADES'!F26 -> 791935186
B5: CONCEPTO | D5: V.M./BASE | E5: Dedicación | F5: Duración de la obra (Meses) | G5: V.PARCIAL | H5: % | I5: ='2. PRESUPUESTO - 150 UNIDADES'!F18 -> 609180912
B6: ADMINISTRACION
B7: SALARIOS PERSONAL DE OBRA | G7: =SUM(G8:G10) -> 10400000 | H7: =G14/$I$5 -> 0.029022577
B8: 1 | C8: Director de obra | D8: 3000000 | E8: 0.2 | F8: 4 | G8: =D8*F8*E8 -> 2400000
B9: 1 | C9: Ingeniero residente de obra | D9: 2000000 | E9: 1 | F9: =$F$8 -> 4 | G9: =D9*F9*E9 -> 8000000
B12: FACTOR MULTIPLICADOR | F12: 1.7
B14: TOTAL SALARIOS PERSONAL | G14: =G7*F12 -> 17680000
B16: GASTOS OPERACIONALES | G16: =G17+G18 -> 467499.7 | H16: =G16/I5 -> 0.00076742343
B17: 1 | C17: Papeleria | D17: 16874.926 | E17: 1 | F17: 4 | G17: =D17*F17*E17 -> 67499.704
B18: 1 | C18: Seguridad industrial y dotación | D18: 100000 | E18: 1 | F18: 4 | G18: =D18*F18*E18 -> 400000
B20: GASTOS DE LEGALIZACIÓN E IMPUESTOS | G20: =SUM(G21:G32) -> 1.2805592e+08 | H20: =G20/I5 -> 0.21021
C21: Pólizas
C22: Cumplimiento | D22: =I4 -> 791935186 | E22: 1 | F22: 0.001 | G22: =D22*E22*F22 -> 791935.19
C23: Amparo de salarios y prest. sociales | D23: =+D22 -> 791935186 | E23: 1 | F23: 0.001 | G23: =D23*E23*F23 -> 791935.19
C24: Responsabilidad civil extracontractual | D24: =+D22 -> 791935186 | E24: 1 | F24: 0.001 | G24: =D24*E24*F24 -> 791935.19
C25: Estabilidad de obra | D25: =+D24 -> 791935186 | E25: 1 | F25: 0.0033 | G25: =D25*E25*F25 -> 2613386.1
B26: COSTOS DE IMPUESTOS O CARGA IMPOSITIVA
C27: Estampilla pro cultura | D27: =+D25 -> 791935186 | E27: 1 | F27: 0.02 | G27: =D27*E27*F27 -> 15838704
C28: Estampilla pro tercera edad | D28: =+D25 -> 791935186 | E28: 1 | F28: 0.04 | G28: =D28*E28*F28 -> 31677407
C29: Ley 418 o Ley 1106 de 2,006 Fondo Seguridad | D29: =+D27 -> 791935186 | E29: 1 | F29: 0.05 | G29: =D29*E29*F29 -> 39596759
C30: =[309]AIU!$B$33 -> Estampilla justicia familiar | D30: =D29 -> 791935186 | E30: 1 | F30: 0.02 | G30: =D30*E30*F30 -> 15838704
C31: Sobre tasa bomberil 2 % DE RETE-ICA | D31: =I4*2% -> 15838704 | E31: 1 | F31: 0.02 | G31: =D31*E31*F31 -> 316774.07
C32: Pro deporte | D32: =D29 -> 791935186 | E32: 1 | F32: 0.025 | G32: =D32*E32*F32 -> 19798380
B34: A | C34: ADMINISTRACION | G34: =G14+G20+G16 -> 1.4620342e+08 | H34: =H20+H16+H7 -> 0.24
B35: I | C35: IMPREVISTOS | G35: =H35*I5 -> 6091809.1 | H35: 0.01
B36: U | C36: UTILIDAD | G36: =H36*I5 -> 30459046 | H36: 0.05
B38: A.I.U. | G38: =G14+G16+G20+G35+G36 -> 182754274 | H38: =SUM(H34:H36) -> 0.3

Sheet 2.6. INTERVENTORIA
A2: PRESUPUESTO DE INTERVENTORIA
A3: ='2.5. AIU'!B3 -> IMPLEMENTACION DE SOLUCIONES BASADAS EN NATURALEZA – ESTUFAS ECOEFICIENTES – COMO ESTRATEGIAS DE DISMINUCION DE LA DEFORESTACION Y LA EMISION DE GEI EN EL MUNICIPIO DE MELGAR TOLIMA | F3: ='2.5. AIU'!$G$4 -> ENERO DE 2026
A4: PLAZO (MESES) | B4: 4
A5: PERSONAL ESPECIALISTA, PROFESIONAL O DE APOYO, PARA OBRAS CIVILES | B5: CANTIDAD DE PERSONAL POR ACTIVIDAD | C5: Vr. H/MES | D5: TIEMPO (Meses) | E5: DEDICACION | F5: COSTO ($) TOTAL | G5: ='2. PRESUPUESTO - 150 UNIDADES'!$F$28 -> 79193519
A7: Director de Interventoría | B7: 1 | C7: 4000000 | D7: 4 | E7: 0.5 | F7: =C7*D7*E7 -> 8000000
A8: Profesional en Seguridad Social y Salud en el trabajo | B8: 1 | C8: 3500000 | D8: =D7 -> 4 | E8: 0.6 | F8: =C8*D8*E8 -> 8400000
A9: Residente de Interventoría | B9: 1 | C9: 3500000 | D9: =D8 -> 4 | E9: 1 | F9: =C9*D9*E9 -> 14000000
A11: SUBTOTAL | F11: =F9+F7+F8 -> 30400000
A12: Factor Multiplicador | C12: 1.7 | F12: =C12*F11 -> 51680000
A14: GASTOS DE LEGALIZACION
B15: BASE | D15: % | F15: COSTO ($) TOTAL
A16: Polizas | B16: =G5 -> 79193519 | D16: 0.02 | F16: =B16*D16 -> 1583870.4
A17: Estampilla pro cultura | B17: =B16 -> 79193519 | D17: 0.02 | F17: =B17*D17 -> 1583870.4
A18: Estampilla pro tercera edad | B18: =B17 -> 79193519 | C18: =B17 -> 79193519 | D18: 0.03 | F18: =B18*D18 -> 2375805.6
A19: Estampilla justicia familiar | B19: =C18 -> 79193519 | D19: 0.02 | F19: =D19*B19 -> 1583870.4
A20: Estampilla Prodeporte | B20: =B19 -> 79193519 | D20: 0.025 | F20: =D20*B20 -> 1979838
A21: SUBTOTAL 2 | F21: =SUM(F16:F20) -> 9107254.7
A22: COSTOS OPERACIONALES
A23: ALQUILER EQUIPO, SUMINISTROS Y OTROS ELEMENTOS | B23: CANTIDAD | D23: =D5 -> TIEMPO (Meses) | F23: COSTO ($) TOTAL
A24: Alquiler de oficina | B24: 455591.85 | D24: =D7 -> 4 | F24: =B24*D24 -> 1822367.4
A25: Transporte | B25: 600000 | D25: =D7 -> 4 | F25: =D25*B25 -> 2400000
A26: Papeleria | B26: 384888.39 | D26: =D8 -> 4 | F26: =D26*B26 -> 1539553.6
A27: SUBTOTAL 2 | F27: =SUM(F24:F26) -> 5761920.9
A29: SUBTOTAL ( 1 + 2 ) | F29: =F12+F27+F21 -> 66549176
A30: IVA 19% | F30: =F29*0.19 -> 12644343
A31: TOTAL PERSONAL Y COSTOS OPERACIONALES INCLUYE I.V.A | F31: =F30+F29 -> 79193519 | G31: ='2. PRESUPUESTO - 150 UNIDADES'!F28 -> 79193519
A63: PRESUPUESTO DE OBRA | B63: ='[310]PPTO '!I58 -> 2.1639361e+09
A64: % PRESUPUESTO INTERVENTORIA | B64: =+F31/B63 -> 0.036596976

Sheet 2.7. FACTOR MULTIPLICADOR
A2: ='2.8. CUADRILLAS'!A2 -> IMPLEMENTACION DE SOLUCIONES BASADAS EN NATURALEZA – ESTUFAS ECOEFICIENTES – COMO ESTRATEGIAS DE DISMINUCION DE LA DEFORESTACION Y LA EMISION DE GEI EN EL MUNICIPIO DE MELGAR TOLIMA
A3: FACTOR MULTOPLICADOR | J3: ='2.8. CUADRILLAS'!E3 -> ENERO DE 2026
A4: DESCRIPCIÓN
A6: A. SALARIO | K6: 100
A8: B. PRESTACIONES SOCIALES Y APORTES PARAFISCALES
C10: Subsidio de transporte | K10: 11.96
C11: Cesantía | K11: 8.33
C12: Intereses Cesantía | K12: 1
C13: Prima Legal | K13: 8.33
C14: Vacaciones | K14: 4.16
C15: Salud | K15: 8.5
C16: Pensiones | K16: 12
C17: Riesgos Profesionales | K17: 0.522
C18: Dotacion | K18: 3
C19: Exámenes de ingreso y egreso | K19: 1.3
C20: FIC | K20: 1
C21: Otros (ausencias justificadas, Indemnizaciones, etc. ) | K21: 1
C23: PARAFISCALES
C24: Caja de compensacion Familiar | K24: 4
C25: Sena | K25: 2
C26: ICBF | K26: 3
E28: SUB-TOTAL B | K28: =SUM(K10:K26) -> 70.102
A32: FACTOR PRESTACIONAL ADOPTADO | K32: =+K28+K6 -> 170.102

Sheet 2.8. CUADRILLAS
A2: ='2.2. CANTIDADES'!A2 -> IMPLEMENTACION DE SOLUCIONES BASADAS EN NATURALEZA – ESTUFAS ECOEFICIENTES – COMO ESTRATEGIAS DE DISMINUCION DE LA DEFORESTACION Y LA EMISION DE GEI EN EL MUNICIPIO DE MELGAR TOLIMA
A3: FACTOR | E3: ='2.3.1. APUS BASICOS'!G2 -> ENERO DE 2026
A4: 1 AYUDANTE A | B4: SALARIO MIN | C4: 1.1 | D4: día
A5: 2026 | B5: 1750905 | C5: =+C4*B5 -> 1925995.5
A7: 1 AYUDANTE A | B7: SALARIO MIN | C7: 1.4 | D7: día
A8: =+A5 -> 2026 | B8: =+B5 -> 1750905 | C8: =+C7*B8 -> 2451267 | D8: =+C8/30 -> 81708.9
A10: 1 OFICIAL A | C10: 1.9 | D10: día
A11: =+A5 -> 2026 | B11: =+B5 -> 1750905 | C11: =+C10*B11 -> 3326719.5 | D11: =+C11/30 -> 110890.65
A13: 1 OFICIAL B | C13: 2.5 | D13: día
A14: =+A11 -> 2026 | B14: =+B11 -> 1750905 | C14: =+C13*B14 -> 4377262.5 | D14: =+C14/30 -> 145908.75
A17: CALCULO DE CUADRILLAS 2022
A18: Clave | C18: Descripción | D18: Unidad | E18: Cantidad | F18: Precio con prestaciones | G18: Total
A19: O00050 | C19: Cuadrilla AA (Mampostería) 2Of y 1 Ay | D19: HR
A20: O00001 | C20: Ayudante A | D20: jor | E20: 0.125 | F20: =+$D$5 -> 0 | G20: =+E20*F20 -> 0
A21: O00002 | C21: Oficial A | D21: jor | E21: 0.125 | F21: =+$D$11*2 -> 221781.3 | G21: =+E21*F21 -> 27722.662
C22: Subtotal | G22: =SUM(G20:G21) -> 27722.662
A23: O00901 | C23: Factor prestacional de ingreso por hora efectiva / base hora laboral | D23: % | E23: 0.7 | G23: =+G22*E23 -> 19405.864
C24: Total | G24: =ROUND(G22+G23,0) -> 47129
A26: O00051 | C26: Cuadrilla AA 1Of+1Ay (Albañilería) | D26: HR
A27: O00001 | C27: Ayudante A | D27: jor | E27: 0.125 | F27: =+$D$5 -> 0 | G27: =+E27*F27 -> 0 | I27: =ROUND((G27*E30+G27),0) -> 0
A28: O00002 | C28: Oficial A | D28: jor | E28: 0.125 | F28: =+$D$11 -> 110890.65 | G28: =+E28*F28 -> 13861.331
C29: Subtotal | G29: =SUM(G27:G28) -> 13861.331
A30: O00901 | C30: Factor prestacional de ingreso por hora efectiva / base hora laboral | D30: % | E30: 0.7 | G30: =+G29*E30 -> 9702.9319
C31: Total | G31: =ROUND(G29+G30,0) -> 23564

Sheet 2.9. ESP. ESTUFA FIJA
A2: ='2.3. APU ESTUFA FIJA!'!$A$33 -> IMPLEMENTACION DE SOLUCIONES BASADAS EN NATURALEZA – ESTUFAS ECOEFICIENTES – COMO ESTRATEGIAS DE DISMINUCION DE LA DEFORESTACION Y LA EMISION DE GEI EN EL MUNICIPIO DE MELGAR TOLIMA
A3: PROCESO CONSTRUCTIVO
A4: Las Estufas Ecoeficientes para leña deben construirse de acuerdo al diseño planteado en los planos aquí expuestos, y deben contener como mínimo los siguientes requisitos: 1- Tener un espacion interior en la cocina donde donde se construirá la Estufa Ecoeficiente, Incluyendo el piso en concreto reforzado de 2500 PSI. En caso contrario 2- La dimensiones mínimas para la construcción de la Estufa Ecoeficiente son de ancho de 0,83 metros por un mínimo de largo de 1,15 metros. 3- El sitio donde se ubicara la Estufa Ecoeficiente deberá tener una cubierta de protección cuando se proyecte por fuera de la vivienda. Especificaciones y proceso constructivo Estufa Ecoeficiente: 1- La Estufa Ecoeficiente para leña debe ser construida dentro de la vivienda, ubicada en un rincón y donde lo especifique el propietario de la vivienda, cumpliendo con las adecuaciones anteriormente descritas 2- Para el piso de apoyo de la Estufa Ecoeficiente, se realizará un replanteo de las dimensiones y nivelaciones, correspondientes a una longitud de 1,15 metros por un ancho de 0,83 metros y este se construira en concreto reforzado de 2500 PSI 3- Los muros exteriores de la Estufa Ecoeficiente será en ladrillo a la vista con medidas de 6x12x24 cm, modulados con las dimensiones de longitud de 1,15 metros, ancho de 0,83 metro y altura de 0,83 metros, con espesor del mortero de pega por 1,5 cm.
A7: 4- Los muros interiores o cuerpo de la Estufa Ecoeficiente, será de la siguiente manera: Muro donde circula el fuego en ladrillo Refractario con medidas de 5x10x20 cm, resistente a temperaturas de hasta 1400ºC, color terracota y liso por las cuatro caras; modulados con las dimensiones de longitud de 0,40 metros y altura de 0,83 metros por 3 muros, con espesor del mortero de pega por 1,5 cm; y Muros de apoyo de horno y caldero en Ladrillo Macizo cocido con medidas de 5x10x20 cm; modulados con las dimensiones de longitud de 0,35 metros y altura de 0,40 metros por 3 muros, con espesor del mortero de pega por 1,5 cm. Y en ladrillo tres hueco para la paso de calor entre cámaras y ingreso posterior de aire. 5- La chimenea debe ser instalada en lamina galvanizada calibre 18 con dos codos y tapa gorro (Ǿ:12cm x 260cm. 6- Los accesorios de la Estufa Ecoeficiente o kit herraje, se incluye además de los marcos de las puertas y puertas en lamina metálica con su sistema de cierre tipo gancho y sus respectivas bisagras, un marco de protección en el borde de la estufa. El proceso constructivo: Es el conjunto de fases, sucesivas o traslapadas en el tiempo, necesarias para materializar un proyecto de infraestructura; en este caso, para la instalación de estufas eficientes. Es importante aclarar que la ubicación de la estufa dentro de la cocina determinará el sentido de construcción de esta. El proceso constructivo que se indica en los siguientes pasos, se asume que la cámara de combustión será fijada sobre la parte izquierda del módulo, luego las medidas allí indicadas obedecen a dicha distribución espacial. No obstante, en aquellas circunstancias donde la cámara de combustión deba ser fijada sobre la parte derecha del módulo, la distribución de los demás elementos deberá adelantarse de forma inversamente proporcional. Teniendo en cuenta lo anterior, la construcción de la estufa fija debe seguir los siguientes pasos: 1. Se deben levantar las dos primeras hiladas de ladrillo común, empezando por las esquinas, teniendo cuidado de dejarlas niveladas, alineadas y con escuadra, igualmente con juntas de 1,5 centímetros. Se termina de nivelar el piso de la estufa con material de relleno (tierra, arena o materiales pétreos) y luego se procede a extender una capa de mortero hasta nivelar las hiladas de ladrillo. 2. Coloque la tercera hilada, empezando por la parte frontal de la estufa. Sobre esta hilada se insertarán los registros de tiraje y del depósito de cenizas, los cuales presentan un ancho de 18 cm cada uno, luego debe tenerse en cuenta estos espacios cuando se coloque la hilada de ladrillos. El registro del depósito de cenizas deberá colocarse a 10 cm de distancia respecto del borde izquierdo de la hilada mientras que el registro del tiraje se debe colocar a 38 cm respecto del borde derecho. El espacio entre registros se complementa con ladrillo, así como el resto de la hilada. El anterior procedimiento se repite nuevamente para montar la cuarta hilada y se fijan los registros con mortero. Con los ladrillos sencillos se construye el depósito de la ceniza sobre el cual se asentará la parrilla que servirá de soporte para la leña de la cámara de combustión. A la mitad del espacio interno del cuerpo de la estufa (aprox. 47,5 cm) sobre la parte posterior, se debe colocar la guía para colocar el tubo de la chimenea, el cual se debe soportar sobre 2 ladrillos macizos, dejando un espacio de 8 a 10 cm entre ellos para que el tubo quede situado a un centímetro a cada lado.
A10: 3. Sentar las quinta y sexta hilada, asegurándose que, en dicho momento, se cuente con una altura de 42 cm respecto del piso. Sobre la sexta hilada y a una distancia de 33 cm desde el borde derecho se debe marcar el espacio donde se colocará el horno de la estufa. 4. Se procede a colocar la séptima hilada, asegurándose de dejar el espacio para el horno (aprox. 25 cm) sobre la parte frontal. Sobre esta hilada se debe demarcar el espacio para colocar la compuerta de la cámara de combustión y la entrada lateral de aire. 5. Sobre los ladrillos macizos, dispuestos en forma de “V” invertida sobre los que se colocara la chimenea, se debe instalar un ladrillo acostado con respectivas juntas para soportar el horno, además de un ladrillo común para evitar escapes de humo e introducción de otro tipo de materiales en el tiro de la chimenea. 6. Se coloca de la octava hilada de ladrillos y se instala la ventanilla de la entrada lateral de aire, la cual tiene una longitud de 18 cm y situada a la mitad del espacio definido por la cámara de combustión. Se procede a colocar la octava hilada, de forma perimetral y conformando la cámara de combustión de la estufa. Se coloca la puerta de la cámara de combustión a 10 cm del borde izquierdo del módulo. 7. Se terminan de colocar las dos últimas hiladas de ladrillo, garantizando que la estufa alcance una altura de aprox. 75 cm respecto del suelo. Se instala el horno en el espacio que fue definido para su emplazamiento. 8. Se instalan las dos planchas y el separador, dejando en el interior una distancia entre el horno y las planchas de 4,5 cm, para permitir que el calor y el humo tengan forma de salir y calentar los accesorios de la estufa. Por último, se instala la escuadra protectora A continuacion se presentan los planos de detalle para la construcciòn de las estufas ecoeficientes en el muncipio de Alvarado Tolima:

Sheet PRESUPUESTO GENERAL E. MÓVIL
A1: Presupuesto Proyecto Tipo Ministerio de Ambiente y Desarrollo Sostenible - Departamento Nacional de Planeación
A2: Instalación de Estufas Ecoeficientes para Vivienda Rural
A3: PRESUPUESTO GENERAL DE OBRA PARA LA INSTALACIÓN DE 100 ESTUFAS ECOEFICIENTES
A4: 2. Estufa Móvil Ecoeficiente (Dentro de la vivienda con las adecuaciones preexistentes en la cocina)
A5: ITEM | B5: DESCRIPCIÓN | C5: UNIDAD | D5: CANTIDAD | E5: VALOR UNITARIO | F5: VALOR TOTAL
A6: 1. | B6: PRELIMINARES
A7: 1.1 | B7: Localización y replanteo. | C7: M2 | D7: =0.75*1*100 -> 75 | E7: =+'APU ESTUFA MÓVIL!'!H29 -> 4320 | F7: =ROUND(E7*D7,0) -> 324000
A8: Subtotal Preliminares | F8: =F7 -> 324000
A9: 2. | B9: SUMINISTRO E INSTALACIÓN ESTUFA ECO MOVIL (0,60m x 0,90m) h: 0,80m
A10: 2.1 | B10: Estufa Ecoeficiente móvil | C10: UND | D10: 100 | E10: 525815 | F10: =ROUND(E10*D10,0) -> 52581500
A11: 3. | B11: TALLER
A12: 3.1 | B12: Taller de capacitación para la operación y mantenimiento de la Estufa Ecoeficiente (Manual, Carta de beneficio y otros). | C12: Und | D12: 1 | E12: =+'APU ESTUFA MÓVIL!'!H57 -> 400000 | F12: =+E12*D12 -> 400000
A13: Subtotal Construcción | F13: =SUM(F7:F12) -> 53629500
A14: Costo Total Directo para (1) Estufa Ecoeficiente | F14: =ROUND(F8+F13,0) -> 53953500
C16: AIU | E16: =+E17+E18+E19 -> 0.28
C17: Administración | E17: 0.22 | F17: =ROUND(F14*E17,0) -> 11869770
C18: Imprevistos | E18: 0.01 | F18: =ROUND(F14*E18,0) -> 539535
C19: Utilidad | E19: 0.05 | F19: =ROUND(F14*E19,0) -> 2697675
C20: Costo Total Indirecto para (1) Estufa Ecoeficiente | F20: =F17+F18+F19 -> 15106980
C21: Total Costo de Obra | F21: =F20+F14 -> 69060480
C23: Interventoría (7%) | F23: =ROUND((F20+F14)*7%,0) -> 4834234
C25: Costo total estufa móvil | F25: =F21+F23 -> 73894714
A27: 4 | B27: Monitoreo y Seguimiento - Esta actividad debe ser financiada y ejecutada por la entidad territorial en los tiempos establecidos en la Guía de Formulación del Proyecto Tipo para tal fin
A28: 4.1 | B28: Monitorear los impactos del uso de las estufas ecoeficientes | C28: Und | D28: 100 | E28: =+'APU ESTUFA MÓVIL!'!H84 -> 75600 | F28: =+E28*D28 -> 7560000
A30: Especificaciones: La estufa móvil estará constituida por 2 planchas de hierro gris fundido reforzadas de 2 hornillas cada una, para un total de 4 hornillas. * Horno de 0.25 ancho x 0.40 fondo x 0.30 de alto, elaborado en lamina galvanizada calibre 20 con parrilla de entrepaño desmontable en la parte intermedia elaborada en varilla redonda y/o grafil de 6.0 mm, con puerta abisagrada elaborada en lamina CR calibre 16 (1.4 mm), con grosor de 25 mm entamborado (para aislamiento por ceniza), con tapa superior desmontable. * Chasis de la estufa elaborada en Angulo de 3/4 " x 1/8" y borde de esquina verticales en Angulo de 1” ¼ x 1/8". Cuerpo de la estufa (frontal, espalda, laterales y piso base) elaborado en lámina Coll Rolled calibre 16 (1.4 mm). *Cuenta con 1 cavidad para leñero principal ubicado en la parte superior izquierda de la estufa, contiene al interior parrilla porta leña elaborada en hierro gris fundido, con puerta abisagrada elaborada en lamina CR calibre 16, con grosor de 25 mm entamborado (para aislamiento por ceniza) con tapa superior desmontable . * 1 bandeja cenícera ubicada en la parte inferior del leñero principal elaborada en lámina galvanizada calibre 20 (0.85 mm). * Con accesorio recipiente calentador de agua de 20 cms de altura, 16 cms ancho y 16 cms de fondo con tapa y agarradera en pasta (Capacidad para 4 litros), elaborado en lámina de acero inoxidable 304 2B calibre 18 (para uso de alimentos); O parrilla asadora con su bandeja portacarbon según modelo, parrilla en acero inoxidable de 1/4" (OPCIONAL). * Remarco distanciador de protección al contorno de la superficie de la estufa al frente y lados, con distancia de borde mesa de fondo al exterior de 60.5 cms y ancho a bordes extremos de 90 cms, elaborado en tubo redondo aguas negras de 3/4" calibre 16, sujeto al chasis con distanciadores de 25 mm en varilla cuadrada de 9 mm. * Chimenea o buitrón de 2 mtrs de altura 10 x10 cm elaborado en lámina galvanizada calibre 22 con capuchón de 33.3 x 33.3 puntas en diamante desmontable. * Gancho atizador elaborado en varilla redonda lisa y/o grafil de 6.0 mm de 50 cms de longitud. * Las puertas de leñero principal y horno tienen manija sujetadora metálica y pasador de ajuste en platina de 1". * Toda la estructura pintada con esmalte martillado color negro o gris acorazado, a excepción de las partes que van en lámina galvanizada (bandeja ceniceros, horno interior, bandeja de horno y buitrón). Toda la estufa cuenta con sistema interno de doble pared para generar una recamara de aislamiento de calor externo reutilizando la ceniza que genera la combustión de la leña, y protegida con tablón de horno de 1" para corte de fuego. * Con nivelador de 3/8" en cada un a de las patas.
A31: Observaciones: 1. La adecuaciones preexistentes para la construcción e instalación de la Estufa Ecoeficiente, deberá contemplar con un piso nivelado (nivel 0°) con las siguientes dimensiones mínimas: largo x 1,05m, ancho x 0,73m; del mismo modo, deberá contar en la parte posterior un muro en mampostería donde se proyectara la construcción de la estufa. Esta estufa deberá contar con una cubierta para su protección (cuando se proyecte por fuera de la vivienda). 2. Los costos incluidos en este documento son de referencia. Las Entidades Territoriales deben ajustar el presupuesto con base en los precios de región. 3. Para el componente 2. Suministro e instalación de la estufa móvil, se debe presentar estudio de mercado con base en las especificaciones incluidas en el proyecto tipo. Adicionalmente, se debe verificar que la actividad incluya el anclaje y fijación al piso. La instalación de Chimenea metalica debe incluir las adecuaciones necesarias para el paso al exterior. 4. Se debe presentar la proyección para los los porcentajes de AIU, Factor Prestacional, Interventoría y FM. 5. Los precios contemplados para la construcción del presupuesto no incluyen costos de transporte. En caso de aplicar, se debe incluir el transporte de materiales a locaciones dispersas, debidamente soportado. 6. El proyecto tipo plantea la realización de un taller general de sensibilización para 100 beneficiarios. El implementador debe plantear un análisis respecto al número de talleres que se considere necesarios para la atención de la totalidad de beneficiarios incluidos en el proyecto. 7. La actividad de monitoreo de impacto por la instalación de estufas ecoeficientes debe ser adelantada por la entidad territorial en los tiempos establecidos en la Guía de Formulación del Proyecto Tipo. Se incluye el costeo como referencia.
A41: Secretario (a) de Planeacion e Infraestructura (M.P.) | D41: Profesional responsable estructuración del proyecto (M.P.)
A48: Profesional responsable interventoría estructuración (M.P.)

Sheet PRESUPUESTO ESTUFA MÓVIL
A1: Presupuesto Proyecto Tipo Ministerio de Ambiente y Desarrollo Sostenible - Departamento Nacional de Planeación
A2: Instalación de Estufas Ecoeficientes para Vivienda Rural
A3: PRESUPUESTO GENERAL DE OBRA
A4: 2. Estufa Móvil Ecoeficiente (Dentro de la vivienda con las adecuaciones preexistentes en la cocina)
A5: ITEM | B5: DESCRIPCIÓN | C5: UNIDAD | D5: CANTIDAD | E5: VALOR UNITARIO | F5: VALOR TOTAL
A6: 1. | B6: PRELIMINARES
A7: 1.1 | B7: Localización y replanteo. | C7: M2 | D7: =0.75*1 -> 0.75 | E7: =+'APU ESTUFA MÓVIL!'!H29 -> 4320 | F7: =ROUND(E7*D7,0) -> 3240
A8: Subtotal Preliminares | F8: =F7 -> 3240
A9: 2. | B9: SUMINISTRO E INSTALACIÓN ESTUFA ECO MOVIL (0,60m x 0,90m) h: 0,80m
A10: 2.1 | B10: Estufa Ecoeficiente móvil | C10: UND | D10: 1 | E10: 1525815 | F10: =ROUND(E10*D10,0) -> 1525815
A11: 3. | B11: TALLER
A12: 3.1 | B12: Taller de capacitación para la operación y mantenimiento de la Estufa Ecoeficiente (Manual, Carta de beneficio y otros). | C12: Und | D12: 1 | E12: =+'APU ESTUFA MÓVIL!'!H57/100 -> 4000 | F12: =+E12*D12 -> 4000
A13: Subtotal Construcción | F13: =SUM(F7:F12) -> 1536295
A14: Costo Total Directo para (1) Estufa Ecoeficiente | F14: =ROUND(F8+F13,0) -> 1539535
C16: AIU | E16: =+E17+E18+E19 -> 0.3
C17: Administración | E17: 0.24 | F17: =ROUND(F14*E17,0) -> 369488
C18: Imprevistos | E18: 0.01 | F18: =ROUND(F14*E18,0) -> 15395
C19: Utilidad | E19: 0.05 | F19: =ROUND(F14*E19,0) -> 76977
C20: Costo Total Indirecto para (1) Estufa Ecoeficiente | F20: =F17+F18+F19 -> 461860
C21: Total Costo de Obra | F21: =F20+F14 -> 2001395
C23: Interventoría (7%) | F23: =ROUND((F20+F14)*7%,0) -> 140098
C25: Costo total estufa móvil | F25: =F21+F23 -> 2141493
A27: Especificaciones: La estufa móvil estará constituida por 2 planchas de hierro gris fundido reforzadas de 2 hornillas cada una, para un total de 4 hornillas. * Horno de 0.25 ancho x 0.40 fondo x 0.30 de alto, elaborado en lamina galvanizada calibre 20 con parrilla de entrepaño desmontable en la parte intermedia elaborada en varilla redonda y/o grafil de 6.0 mm, con puerta abisagrada elaborada en lamina CR calibre 16 (1.4 mm), con grosor de 25 mm entamborado (para aislamiento por ceniza), con tapa superior desmontable. * Chasis de la estufa elaborada en Angulo de 3/4 " x 1/8" y borde de esquina verticales en Angulo de 1” ¼ x 1/8". Cuerpo de la estufa (frontal, espalda, laterales y piso base) elaborado en lámina Coll Rolled calibre 16 (1.4 mm). *Cuenta con 1 cavidad para leñero principal ubicado en la parte superior izquierda de la estufa, contiene al interior parrilla porta leña elaborada en hierro gris fundido, con puerta abisagrada elaborada en lamina CR calibre 16, con grosor de 25 mm entamborado (para aislamiento por ceniza) con tapa superior desmontable . * 1 bandeja cenícera ubicada en la parte inferior del leñero principal elaborada en lámina galvanizada calibre 20 (0.85 mm). * Con accesorio recipiente calentador de agua de 20 cms de altura, 16 cms ancho y 16 cms de fondo con tapa y agarradera en pasta (Capacidad para 4 litros), elaborado en lámina de acero inoxidable 304 2B calibre 18 (para uso de alimentos); O parrilla asadora con su bandeja portacarbon según modelo, parrilla en acero inoxidable de 1/4" (OPCIONAL). * Remarco distanciador de protección al contorno de la superficie de la estufa al frente y lados, con distancia de borde mesa de fondo al exterior de 60.5 cms y ancho a bordes extremos de 90 cms, elaborado en tubo redondo aguas negras de 3/4" calibre 16, sujeto al chasis con distanciadores de 25 mm en varilla cuadrada de 9 mm. * Chimenea o buitrón de 2 mtrs de altura 10 x10 cm elaborado en lámina galvanizada calibre 22 con capuchón de 33.3 x 33.3 puntas en diamante desmontable. * Gancho atizador elaborado en varilla redonda lisa y/o grafil de 6.0 mm de 50 cms de longitud. * Las puertas de leñero principal y horno tienen manija sujetadora metálica y pasador de ajuste en platina de 1". * Toda la estructura pintada con esmalte martillado color negro o gris acorazado, a excepción de las partes que van en lámina galvanizada (bandeja ceniceros, horno interior, bandeja de horno y buitrón). Toda la estufa cuenta con sistema interno de doble pared para generar una recamara de aislamiento de calor externo reutilizando la ceniza que genera la combustión de la leña, y protegida con tablón de horno de 1" para corte de fuego. * Con nivelador de 3/8" en cada un a de las patas.
A28: Observaciones: 1. La adecuaciones preexistentes para la construcción e instalación de la Estufa Ecoeficiente, deberá contemplar con un piso nivelado (nivel 0°) con las siguientes dimensiones mínimas: largo x 1,05m, ancho x 0,73m; del mismo modo, deberá contar en la parte posterior un muro en mampostería donde se proyectara la construcción de la estufa. Esta estufa deberá contar con una cubierta para su protección (cuando se proyecte por fuera de la vivienda). 2. Los costos incluidos en este documento son de referencia. Las Entidades Territoriales deben ajustar el presupuesto con base en los precios de región. 3. Para el componente 2. Suministro e instalación de la estufa móvil, se debe presentar estudio de mercado con base en las especificaciones incluidas en el proyecto tipo. Adicionalmente, se debe verificar que la actividad incluya el anclaje y fijación al piso. La instalación de Chimenea metálica debe incluir las adecuaciones necesarias para el paso al exterior. 4. Se debe presentar la proyección para los porcentajes de AIU, Factor Prestacional, Interventoría y FM. 5. Los precios contemplados para la construcción del presupuesto no incluyen costos de transporte. En caso de aplicar, se debe incluir el transporte de materiales a locaciones dispersas, debidamente soportado. 6. El proyecto tipo plantea la realización de un taller general de sensibilización para 100 beneficiarios. El implementador debe plantear un análisis respecto al número de talleres que se considere necesarios para la atención de la totalidad de beneficiarios incluidos en el proyecto. 7. La actividad de monitoreo de impacto por la instalación de estufas ecoeficientes debe ser adelantada por la entidad territorial en los tiempos establecidos en la Guía de Formulación del Proyecto Tipo. Se incluye el costeo como referencia.
A34: Secretario (a) de Planeacion e Infraestructura (M.P.) | D34: Profesional responsable estructuración del proyecto (M.P.)
A41: Profesional responsable interventoría estructuración (M.P.)

Sheet APU ESTUFA MÓVIL!
A2: MUNICIPIO: | D2: ANÁLISIS DE PRECIOS UNITARIOS
D4: ABRIL DE 2021
A6: PROYECTO: | B6: INSTALACIÓN DE ESTUFAS ECOEFICIENTES PARA VIVIENDA RURAL
A7: ACTIVIDAD: | B7: Localización y Replanteo | G7: ITEM: | H7: 1.1
G8: UNIDAD: | H8: M2
A9: I. EQUIPO
A10: Descripción | D10: Unidad | E10: Tarifa/Hora | F10: Rendimiento | G10: Valor-Unit.
A11: HERRAMIENTA MENOR | D11: % | E11: =H27 -> 3927.3333 | F11: 0.1 | G11: =+E11*F11 -> 392.73333 | I11: ajustado rendimiento
G16: Sub-Total | H16: =SUM(G11:G15) -> 392.73333
A17: III. TRANSPORTES
C18: Vol. Peso o Cant. | D18: Distancia | E18: M3-Km | F18: Tarifa | G18: Valor-Unit.
G22: Sub-Total | H22: =SUM(G19:G21) -> 0
A23: IV. MANO DE OBRA
A24: Descripción | D24: Unidad | E24: Tarifa/Hora | F24: Rendimiento | G24: Valor-Unit.
A25: Cuadrilla AA 1Of+1Ay (Albañilería) | D25: HC | E25: ='2.8. CUADRILLAS'!G31 -> 23564 | F25: 6 | G25: =E25/F25 -> 3927.3333
G27: Sub-Total | H27: =SUM(G25:G26) -> 3927.3333 | K27: =H27 -> 3927.3333 | L27: 0.9 | M27: =K27*L27 -> 3534.6
E29: Total Costo Directo | H29: =ROUND(H16+H22+H27,0) -> 4320
A32: PROYECTO: | B32: INSTALACIÓN DE ESTUFAS ECOEFICIENTES PARA VIVIENDA RURAL | M32: =SUM(M2:M31) -> 3534.6 | N32: =+M32*1.28 -> 4524.288
A33: ACTIVIDAD: | B33: Taller de capacitación para la operación y mantenimiento de la Estufa Ecoeficiente (Manual, Carta de beneficio y otros). | G33: ITEM: | H33: 3.1
G34: UNIDAD: | H34: UND
A35: I. EQUIPO
A36: Descripción | D36: Unidad | E36: Tarifa/Hora | F36: Rendimiento | G36: Valor-Unit.
