Workbook

Sheet PRESUPUESTO
B1: PRESUPUESTO GENERAL
B2: Objeto: "MANTENIMIENTO, REPARACIÓN Y CONSERVACION DE LA CASA DE LA CULTURA MIGUEL SAMPER AGUDELO DEL MUNICIPIO DE GUADUAS CUNDINAMARCA"
B3: ITEM | C3: COD ICCU | D3: DESCRIPCION | E3: UN | F3: CANT | G3: VR/UNIT | H3: VR/TOTAL | K3: VALORES ICCU 2026 | R3: DESCRIPCION | S3: UN | T3: CANT
B4: 1 | D4: PRELIMINARES | K4: VALORES DE CONTRATOS PREVIOS CON AUMENTO IPC O APU NUEVOS CALCULADOS | R4: PRELIMINARES
B5: 1.1 | C5: 1.8 | D5: CERCA EN TELA VERDE H = 2.10 M | E5: ML | F5: 60 | G5: 35988 | H5: =ROUND(F5*G5,0) -> 2159280 | I5: =23.8+18+1+1+1+1 -> 45.8 | K5: CANTIDADES ESTIMADAS | R5: CERCA EN TELA VERDE H = 2.10 M | S5: ML | T5: 60
B6: 1.2 | C6: 1.12 | D6: DEMOLICIÓN ENCHAPE MURO | E6: M2 | F6: 15 | G6: 14116 | H6: =ROUND(F6*G6,0) -> 211740 | I6: 279 | R6: DEMOLICIÓN ENCHAPE MURO | S6: M2 | T6: 15
B7: 1.3 | C7: 1.32 | D7: DESMONTE APARATOS SANITARIOS | E7: UN | F7: 2 | G7: 40253 | H7: =ROUND(F7*G7,0) -> 80506 | R7: DESMONTE APARATOS SANITARIOS | S7: UN | T7: 2
B8: 1.4 | C8: 1,5** | D8: APUNTALAMIENTO PROVISIONAL DE MUROS | E8: M2 | F8: 8 | G8: ='1.5 '!G29 -> 85340.667 | H8: =ROUND(F8*G8,0) -> 682725 | R8: APUNTALAMIENTO PROVISIONAL DE MUROS | S8: M2 | T8: 8
B9: 1.5 | C9: 1,6** | D9: APUNTALAMIENTO PROVISIONAL DE CUBIERTAS | E9: M2 | F9: 30 | G9: ='1.6 '!G30 -> 108863.97 | H9: =ROUND(F9*G9,0) -> 3265919 | R9: APUNTALAMIENTO PROVISIONAL DE CUBIERTAS | S9: M2 | T9: 30
B10: 1.6 | C10: 1,7** | D10: DESMONTE CONTROLADO DE ELEMENTOS COLAPSADOS DE CUBIERTA | E10: M2 | F10: 30 | G10: ='1.7 '!G30 -> 135769.16 | H10: =ROUND(F10*G10,0) -> 4073075 | R10: DESMONTE CONTROLADO DE ELEMENTOS COLAPSADOS DE CUBIERTA | S10: M2 | T10: 30
B11: 1.7 | C11: 1.38 | D11: DESMONTE MARCOS Y PUERTAS | E11: UN | F11: 4 | G11: =26090 -> 26090 | H11: =ROUND(F11*G11,0) -> 104360 | R11: DESMONTE MARCOS Y PUERTAS | S11: UN | T11: 4
B12: 1.8 | C12: 1.39 | D12: DESMONTE DE VENTANAS, INC RETIRO | E12: M2 | F12: 10 | G12: 18338 | H12: =ROUND(F12*G12,0) -> 183380 | R12: DESMONTE DE VENTANAS, INC RETIRO | S12: M2 | T12: 10
B13: 1.9 | C13: 1,11** | D13: PELADO Y RASQUETEADO DE MUROS DE TAPIA PISADA | E13: M2 | F13: 200 | G13: ='1.11'!G27 -> 15740.15 | H13: =ROUND(F13*G13,0) -> 3148030 | R13: PELADO Y RASQUETEADO DE MUROS DE TAPIA PISADA | S13: M2 | T13: 200
B14: SUBTOTAL | H14: =SUM(H5:H13) -> 13909015 | R14: REFORZAMIENTO ESTRUCTURAL
B15: 2 | D15: REFORZAMIENTO ESTRUCTURAL | R15: REFORZAMIENTO MURO EN TAPIA PISADA | S15: M2 | T15: 18
B16: 2.1 | C16: 2,1** | D16: REFORZAMIENTO MURO EN TAPIA PISADA | E16: M2 | F16: 18 | G16: ='2.1'!G34 -> 396851.34 | H16: =ROUND(F16*G16,0) -> 7143324 | R16: REMPLAZO DE VIGAS ESTRUCTURALES DE MADERA CIRCULARES DE 4" DE CUBIERTA | S16: M2 | T16: 108.72602
B17: 2.2 | C17: 2,2** | D17: REMPLAZO DE VIGAS ESTRUCTURALES DE MADERA CIRCULARES DE 4" DE CUBIERTA | E17: M2 | F17: 108.72602 | G17: ='2.2'!G34 -> 215620.43 | H17: =ROUND(F17*G17,0) -> 23443551 | R17: REMPLAZO DE VIGA ESTRUCTURAL DE MADERA CUADRADA 15X15 DE CUBIERTA | S17: ML | T17: 8
B18: 2.3 | C18: 2,3** | D18: REMPLAZO DE VIGA ESTRUCTURAL DE MADERA CUADRADA 15X15 DE CUBIERTA | E18: ML | F18: 8 | G18: =' 2.3'!G34 -> 369865 | H18: =ROUND(F18*G18,0) -> 2958920 | R18: CUBIERTA
B19: SUBTOTAL | H19: =SUM(H16:H18) -> 33545795 | R19: AFINADO IMPERMEABILIZADO PARA TEJA DE BARRO EN ASFALTO (INCLUYE TELA IMPERMEABILIZANTE) | S19: M2 | T19: 36
B20: 3 | D20: CUBIERTA | R20: CABALLETE EN TEJA DE BARRO | S20: ML | T20: 13
B21: 3.1 | C21: 7.2 | D21: AFINADO IMPERMEABILIZADO PARA TEJA DE BARRO EN ASFALTO (INCLUYE TELA IMPERMEABILIZANTE) | E21: M2 | F21: 36 | G21: 64741 | H21: =ROUND(F21*G21,0) -> 2330676 | J21: =F23+F24 -> 298 | R21: REPARACIÓN Y REPARCHEO DE CUBIERTA COLONIAL EXISTENTE | S21: M2 | T21: 262
B22: 3.3 | C22: 3,3** | D22: CABALLETE EN TEJA DE BARRO | E22: ML | F22: 13 | G22: ='3.3'!G30 -> 82403.673 | H22: =ROUND(F22*G22,0) -> 1071248 | R22: RECONSTRUCCIÓN DE CUBIERTA COLONIAL INCLUYE ELEMENTOS ESTRUCTURALES | S22: M2 | T22: 36
B23: 3.4 | C23: 3,4** | D23: REPARACIÓN Y REPARCHEO DE CUBIERTA COLONIAL EXISTENTE | E23: M2 | F23: 262 | G23: ='3.4'!G40 -> 311789.08 | H23: =ROUND(F23*G23,0) -> 81688739 | R23: RECONSTRUCCIÓN DE CIELO RASO | S23: M2 | T23: 36
B24: 3.5 | C24: 3,5** | D24: RECONSTRUCCIÓN DE CUBIERTA COLONIAL INCLUYE ELEMENTOS ESTRUCTURALES | E24: M2 | F24: 36 | G24: ='3.5'!G44 -> 580098.09 | H24: =ROUND(F24*G24,0) -> 20883531 | R24: RECONSTRUCCIÓN DE ALERO DE CUBIERTA COLONIAL | S24: M2 | T24: 20
B25: 3.6 | C25: 3,6** | D25: RECONSTRUCCIÓN DE CIELO RASO | E25: M2 | F25: 36 | G25: ='3.6'!G35 -> 180544.78 | H25: =ROUND(F25*G25,0) -> 6499612 | I25: =+F24+F23 -> 298 | R25: FLANCHE LAMINA GALVANIZADA CAL. 22 DS=30 | S25: ML | T25: 15
B26: 3.7 | C26: 3,7** | D26: RECONSTRUCCIÓN DE ALERO DE CUBIERTA COLONIAL | E26: M2 | F26: 20 | G26: ='3.7'!G32 -> 173855.88 | H26: =ROUND(F26*G26,0) -> 3477118 | J26: =+F23+F24 -> 298 | R26: PAÑETES, REVOQUES Y REPELLOS
B27: 3.8 | C27: 7.34 | D27: FLANCHE LAMINA GALVANIZADA CAL. 22 DS=30 | E27: ML | F27: 15 | G27: 37613 | H27: =ROUND(F27*G27,0) -> 564195 | R27: IMPERMEABILIZACIÓN INTEGRAL MORTERO SIKA | S27: M2 | T27: 220
B28: SUBTOTAL | H28: =SUM(H21:H27) -> 116515119 | R28: FILOS O DILATACIONES S/MURO | S28: ML | T28: 10
B29: 4 | D29: PAÑETES, REVOQUES Y REPELLOS | R29: CARPINTERIA DE MADERA
B30: 4.1 | C30: 6.15 | D30: IMPERMEABILIZACIÓN INTEGRAL MORTERO SIKA | E30: M2 | F30: 220 | G30: 26158 | H30: =ROUND(F30*G30,0) -> 5754760 | R30: REPARACIÓN DE HOJAS DE MADERA DE VENTANAS Y PUERTA | S30: UN | T30: 3
B31: 4.3 | C31: 6.3 | D31: FILOS O DILATACIONES S/MURO | E31: ML | F31: 10 | G31: 7819 | H31: =ROUND(F31*G31,0) -> 78190 | R31: MARCO Y PUERTA EN MADERA INCLUYE INMUNIZANTE (1,5X2) | S31: UN | T31: 1
B32: SUBTOTAL | H32: =SUM(H30:H31) -> 5832950 | R32: VENTANERÍA ARRODILLADA EN MADERA CEDRO MACHO 1,1MX1,4M | S32: UN | T32: 1
B33: 5 | D33: CARPINTERIA DE MADERA | R33: VENTANERÍA EN MADERA TIPO COLONIAL CEDRO MACHO 1MX1,3M | S33: UN | T33: 1
B34: 5.3 | C34: 5,3** | D34: REPARACIÓN DE HOJAS DE MADERA DE VENTANAS Y PUERTA | E34: UN | F34: 3 | G34: ='5.3'!G31 -> 555441.3 | H34: =ROUND(F34*G34,0) -> 1666324 | R34: VIDRIO TRANSPARENTE 3mm | S34: M2 | T34: 3.45
B35: 5.4 | C35: 5,4** | D35: MARCO Y PUERTA EN MADERA INCLUYE INMUNIZANTE (1,5X2) | E35: UN | F35: 1 | G35: ='5.4'!G31 -> 3165441.3 | H35: =ROUND(F35*G35,0) -> 3165441 | R35: PINTURA
B36: 5.5 | C36: 5,5** | D36: VENTANERÍA ARRODILLADA EN MADERA CEDRO MACHO 1,1MX1,4M | E36: UN | F36: 1 | G36: ='5.5'!G31 -> 3466864.6 | H36: =ROUND(F36*G36,0) -> 3466865 | R36: VINILO SOBRE PAÑETE 2 MANOS | S36: M2 | T36: 759.8781
B37: 5.6 | C37: 5,6** | D37: VENTANERÍA EN MADERA TIPO COLONIAL CEDRO MACHO 1MX1,3M | E37: UN | F37: 1 | G37: ='5.6'!G31 -> 2786864.6 | H37: =ROUND(F37*G37,0) -> 2786865 | R37: ESMALTE SOBRE LÁMINA LINEAL (SOCALO MURO) | S37: ML | T37: 72
B38: 5.7 | C38: 9.29 | D38: VIDRIO TRANSPARENTE 3mm | E38: M2 | F38: 3.45 | G38: 58572 | H38: =ROUND(F38*G38,0) -> 202073 | R38: ESMALTE SOBRE LÁMINA LLENA (CARPINTERIA DE MADERA) | S38: M2 | T38: 120
B39: SUBTOTAL | H39: =SUM(H34:H38) -> 11287568 | R39: ESMALTE SOBRE LÁMINA LINEAL (CARPINTERIA METALICA Y DE MADERA) | S39: ML | T39: 100
B40: 6 | D40: PINTURA | R40: INSTALACIONES ELECTRICAS
...

Sheet 1.5 
B1: ANALISIS DE PRECIOS UNITARIOS CONSTRUCCION
A2: Actividad | B2: APUNTALAMIENTO PROVISIONAL DE MUROS
A3: Unidad | B3: M2
A5: I. EQUIPO
A6: Descripcion | B6: Unidad | C6: Tarifa | D6: Rendimiento | E6: Valor-Unit | G6: TOTALES
A7: Herramienta menor | B7: GL | C7: 759 | D7: 1 | E7: =D7*C7 -> 759
G9: =SUM(E7:E8) -> 759
A10: II. MATERIALES EN OBRA
A12: Descripcion | B12: Unidad | C12: Tarifa | D12: Cantidad | E12: Valor-Unit
A13: Madera rolliza temporal | B13: ML | C13: 14000 | D13: 2 | E13: =D13*C13 -> 28000
A14: Cuñas y fijaciones | B14: GL | C14: 6000 | D14: 1 | E14: =D14*C14 -> 6000
G16: =+SUM(E13:E14) -> 34000
A17: III. TRANSPORTES
A18: Material | B18: Vol-peso o Cant. | C18: Distancia | D18: M3-km | E18: Tarifa | F18: Valor-Unit
G21: =SUM(F19) -> 0
A23: IV. MANO DE OBRA
A24: Trabajador | B24: Jornal | C24: Prestaciones | D24: Jornal Total | E24: Rendimiento | F24: Valor-Unit
A25: Ayudante (2) AA | B25: 151745 | C25: 2 | D25: =B25*C25 -> 303490 | E25: 6 | F25: =D25/E25 -> 50581.667
G27: =SUM(F25:F26) -> 50581.667
F29: TOTAL | G29: =SUM(G9:G27) -> 85340.667

Sheet 1.6 
B1: ANALISIS DE PRECIOS UNITARIOS CONSTRUCCION
A2: Actividad | B2: APUNTALAMIENTO PROVISIONAL DE CUBIERTA
A3: Unidad | B3: M2
A5: I. EQUIPO
A6: Descripcion | B6: Unidad | C6: Tarifa | D6: Rendimiento | E6: Valor-Unit | G6: TOTALES
A7: Andamio tubular | B7: D | C7: =32822*3 -> 98466 | D7: 20 | E7: =C7/D7 -> 4923.3
A8: Herramienta menor | B8: GL | C8: 759 | D8: 1 | E8: =C8/D8 -> 759
F9: SUB-TOTAL | G9: =SUM(E7:E8) -> 5682.3
A10: II. MATERIALES EN OBRA
A12: Descripcion | B12: Unidad | C12: Tarifa | D12: Cantidad | E12: Valor-Unit
A13: Madera rolliza temporal | B13: ML | C13: 14000 | D13: 2.5 | E13: =D13*C13 -> 35000
A14: Cuñas y fijaciones | B14: GL | C14: 12000 | D14: 1 | E14: =C14/D14 -> 12000
A15: Soleras de reparto en madera | B15: ML | C15: 1600 | D15: 1 | E15: =C15/D15 -> 1600
A16: Protección geotextil sobre esterilla | B16: M2 | C16: 4000 | D16: 1 | E16: =C16/D16 -> 4000
F17: SUB-TOTAL | G17: =+SUM(E13:E17) -> 52600
A18: III. TRANSPORTES
A19: Material | B19: Vol-peso o Cant. | C19: Distancia | D19: M3-km | E19: Tarifa | F19: Valor-Unit
F22: SUB-TOTAL | G22: =SUM(F20:F21) -> 0
A24: IV. MANO DE OBRA
A25: Trabajador | B25: Jornal | C25: Prestaciones | D25: Jornal Total | E25: Rendimiento | F25: Valor-Unit
A26: Ayudante (2) AA | B26: 151745 | C26: 2 | D26: =B26*C26 -> 303490 | E26: 6 | F26: =D26/E26 -> 50581.667
F28: SUB-TOTAL | G28: =SUM(F26:F27) -> 50581.667
F30: TOTAL | G30: =SUM(G9:G28) -> 108863.97

Sheet 1.7 
B1: ANALISIS DE PRECIOS UNITARIOS CONSTRUCCION
A2: Actividad | B2: DESMONTE CONSTROLADO DE ELEMENTOS COLAPSADOS
A3: Unidad | B3: M2
A5: I. EQUIPO
A6: Descripcion | B6: Unidad | C6: Tarifa | D6: Rendimiento | E6: Valor-Unit | G6: TOTALES
A7: Andamio tubular | B7: D | C7: =32822*3 -> 98466 | D7: 20 | E7: =C7/D7 -> 4923.3
A8: Herramienta menor | B8: GL | C8: 758.73 | D8: 1 | E8: =C8/D8 -> 758.73
A9: Equipo protección personal | B9: GL | C9: 500 | D9: 1 | E9: =C9/D9 -> 500
A10: Volqueta M3 | B10: H | C10: 83867 | D10: 15 | E10: =C10/D10 -> 5591.1333
F11: SUB-TOTAL | G11: =SUM(E7:E10) -> 11773.163
A12: II. MATERIALES EN OBRA
A14: Descripcion | B14: Unidad | C14: Tarifa | D14: Rendimiento | E14: Valor-Unit
A15: Plástico protector | B15: M2 | C15: 3500 | D15: 2.5 | E15: =C15/D15 -> 1400
A16: Costales para clasificación | B16: UND | C16: 1200 | D16: 1 | E16: =C16/D16 -> 1200
F17: SUB-TOTAL | G17: =+SUM(E15:E17) -> 2600
A18: III. TRANSPORTES
A19: Material | B19: Vol-peso o Cant. | C19: Distancia | D19: M3-km | E19: Tarifa | F19: Valor-Unit
F22: SUB-TOTAL | G22: =SUM(F20:F21) -> 0
A24: IV. MANO DE OBRA
A25: Trabajador | B25: Jornal | C25: Prestaciones | D25: Jornal Total | E25: Rendimiento | F25: Valor-Unit
A26: Ayudante (4) AA | B26: =151745*2 -> 303490 | C26: 2 | D26: =B26*C26 -> 606980 | E26: 5 | F26: =D26/E26 -> 121396
F28: SUB-TOTAL | G28: =SUM(F26:F27) -> 121396
F30: TOTAL | G30: =SUM(G11:G28) -> 135769.16

Sheet 1.11
B1: ANALISIS DE PRECIOS UNITARIOS CONSTRUCCION
A2: Actividad | B2: DESMONTE CONSTROLADO DE ELEMENTOS COLAPSADOS
A3: Unidad | B3: M2
A5: I. EQUIPO
A6: Descripcion | B6: Unidad | C6: Tarifa | D6: Rendimiento | E6: Valor-Unit | G6: TOTALES
A7: Andamio tubular | B7: D | C7: =32822*1 -> 32822 | D7: 20 | E7: =C7/D7 -> 1641.1
A8: Herramienta menor | B8: GL | C8: 758.73 | D8: 1 | E8: =C8/D8 -> 758.73
F9: SUB-TOTAL | G9: =SUM(E7:E8) -> 2399.83
A10: II. MATERIALES EN OBRA
A12: Descripcion | B12: Unidad | C12: Tarifa | D12: Rendimiento | E12: Valor-Unit
A13: Costales para clasificación | B13: UND | C13: 1200 | D13: 1 | E13: =C13/D13 -> 1200
F14: SUB-TOTAL | G14: =+SUM(E13:E14) -> 1200
A15: III. TRANSPORTES
A16: Material | B16: Vol-peso o Cant. | C16: Distancia | D16: M3-km | E16: Tarifa | F16: Valor-Unit
F19: SUB-TOTAL | G19: =SUM(F17:F18) -> 0
A21: IV. MANO DE OBRA
A22: Trabajador | B22: Jornal | C22: Prestaciones | D22: Jornal Total | E22: Rendimiento | F22: Valor-Unit
A23: Ayudante (2) AA | B23: 151754 | C23: 2 | D23: =B23*C23 -> 303508 | E23: 25 | F23: =D23/E23 -> 12140.32
F25: SUB-TOTAL | G25: =SUM(F23:F24) -> 12140.32
F27: TOTAL | G27: =SUM(G9:G25) -> 15740.15

Sheet 2.1
B1: ANALISIS DE PRECIOS UNITARIOS CONSTRUCCION
A2: Actividad | B2: MURO EN TAPIA PISADA E=0,65
A3: Unidad | B3: M2
A5: I. EQUIPO
A6: Descripcion | B6: Unidad | C6: Tarifa | D6: Rendimiento | E6: Valor-Unit | F6: TOTALES
A7: Herramienta menor | B7: GL | C7: =G32*0.1 -> 10645.52 | D7: 1 | E7: =D7*C7 -> 10645.52
A8: Volqueta M3 | B8: H | C8: 83867 | D8: 10 | E8: =C8*0.05 -> 4193.35
G9: =SUM(E7:E8) -> 14838.87
A11: II. MATERIALES EN OBRA
A12: Descripcion | B12: Unidad | C12: Tarifa | D12: Rendimiento | E12: Valor-Unit | F12: TOTALES
A13: Piedra rajoneada (5" x 12") | B13: M3 | D13: 0.24 | E13: =D13*C13 -> 0
A14: Tierra arcillosa | B14: M3 | C14: 153317 | D14: 0.36 | E14: =D14*C14 -> 55194.12
A15: Cal - (oxido de calcio) | B15: Kg | C15: 3805.35 | D15: 10 | E15: =D15*C15 -> 38053.5
A16: Miel de caña | B16: GL | C16: 27575 | D16: 1 | E16: =D16*C16 -> 27575
A17: Tabla burra de 30 cm x 3 ml | B17: Und | C17: 41031.6 | D17: 3 | E17: =D17*C17 -> 123094.8
A18: Durmiente 5x5 cm x 3ml | B18: Und | C18: =11000*1.19 -> 13090 | D18: 2 | E18: =D18*C18 -> 26180
A19: Puntilla con cabeza | B19: Lb | C19: 5956.2 | D19: 0.5 | E19: =D19*C19 -> 2978.1
A20: Alambre negro | B20: Kg | C20: 8272.5 | D20: 0.3 | E20: =D20*C20 -> 2481.75
G21: =+SUM(E13:E20) -> 275557.27
A22: III. TRANSPORTES
A23: Material | B23: Vol-peso o Cant. | C23: Distancia | D23: M3-km | E23: Tarifa | F23: Valor-Unit | G23: TOTALES
G26: =SUM(F24) -> 0
A28: IV. MANO DE OBRA
A29: Trabajador | B29: Jornal | C29: Prestaciones | D29: Jornal Total | E29: Rendimiento | F29: Valor-Unit | G29: TOTALES
A30: OFICIAL (1) AA | B30: 114392 | C30: 2 | D30: =B30*C30 -> 228784 | E30: 5 | F30: =D30/E30 -> 45756.8
A31: AYUDANTE (2) AA | B31: =75873*2 -> 151746 | C31: 2 | D31: =B31*C31 -> 303492 | E31: 5 | F31: =D31/E31 -> 60698.4
G32: =SUM(F30:F31) -> 106455.2
G34: =SUM(G9:G32) -> 396851.34

Sheet 2.2
B1: ANALISIS DE PRECIOS UNITARIOS CONSTRUCCION
A2: Actividad | B2: REMPLAZO DE VIGAS ESTRUCTURALES
A3: Unidad | B3: M2
A5: I. EQUIPO
A6: Descripcion | B6: Unidad | C6: Tarifa | D6: Rendimiento | E6: Valor-Unit | F6: TOTALES
A7: Herramienta menor | B7: GL | C7: 759 | D7: 1 | E7: =D7*C7 -> 759
A8: Andamio / apuntalamiento temporal | B8: GL | C8: 60000 | D8: 1 | E8: =D8*C8 -> 60000
G9: =SUM(E7:E8) -> 60759
A11: II. MATERIALES EN OBRA | I11: =1200000/34 -> 35294.118 | J11: =I11/3 -> 11764.706
A12: Descripcion | B12: Unidad | C12: Tarifa | D12: Cantidad | E12: Valor-Unit | F12: TOTALES
A13: Viga madera estructural 4”x8” x 1m | B13: ML | C13: 15000 | D13: 2 | E13: =D13*C13 -> 30000
A14: Inmunizante + protector exterior | B14: GL | C14: 15000 | D14: 0.25 | E14: =D14*C14 -> 3750
A15: Pernos estructurales / tirafondos | B15: UND | C15: 4500 | D15: 6 | E15: =D15*C15 -> 27000
A16: Platinas o herrajes metálicos | B16: UND | C16: 18000 | D16: 2 | E16: =D16*C16 -> 36000
A17: Elementos menores (brocas, anclajes, consumibles) | B17: GL | C17: 25000 | D17: 0.15 | E17: =D17*C17 -> 3750
G21: =+SUM(E13:E20) -> 100500
A22: III. TRANSPORTES
A23: Material | B23: Vol-peso o Cant. | C23: Distancia | D23: M3-km | E23: Tarifa | F23: Valor-Unit | G23: TOTALES
G26: =SUM(F24) -> 0
A28: IV. MANO DE OBRA
A29: Trabajador | B29: Jornal | C29: Prestaciones | D29: Jornal Total | E29: Rendimiento | F29: Valor-Unit | G29: TOTALES
A30: MANO DE OBRA AA | B30: 190265 | C30: 2 | D30: =B30*C30 -> 380530 | E30: 7 | F30: =D30/E30 -> 54361.429
G32: =SUM(F30:F31) -> 54361.429
G34: =SUM(G9:G32) -> 215620.43

Sheet  2.3
B1: ANALISIS DE PRECIOS UNITARIOS CONSTRUCCION
A2: Actividad | B2: REMPLAZO DE VIGA ESTRUCTURAL de cubierta 15x15
A3: Unidad | B3: M2
A5: I. EQUIPO
A6: Descripcion | B6: Unidad | C6: Tarifa | D6: Rendimiento | E6: Valor-Unit | F6: TOTALES
A7: Herramienta menor | B7: GL | C7: 759 | D7: 1 | E7: =D7*C7 -> 759
A8: Andamio / apuntalamiento temporal | B8: GL | C8: 60000 | D8: 1 | E8: =D8*C8 -> 60000
G9: =SUM(E7:E8) -> 60759
A11: II. MATERIALES EN OBRA
A12: Descripcion | B12: Unidad | C12: Tarifa | D12: Cantidad | E12: Valor-Unit | F12: TOTALES
A13: Viga madera estructural 15x15x 1m | B13: UND | C13: 125000 | D13: 1 | E13: =D13*C13 -> 125000
A14: Inmunizante + protector exterior | B14: GL | C14: 80000 | D14: 0.25 | E14: =D14*C14 -> 20000
A15: Pernos estructurales / tirafondos | B15: UND | C15: 4500 | D15: 6 | E15: =D15*C15 -> 27000
A16: Platinas o herrajes metálicos | B16: UND | C16: 18000 | D16: 2 | E16: =D16*C16 -> 36000
A17: Elementos menores (brocas, anclajes, consumibles) | B17: GL | C17: 25000 | D17: 1 | E17: =D17*C17 -> 25000
G21: =+SUM(E13:E20) -> 233000
A22: III. TRANSPORTES
A23: Material | B23: Vol-peso o Cant. | C23: Distancia | D23: M3-km | E23: Tarifa | F23: Valor-Unit | G23: TOTALES
G26: =SUM(F24) -> 0
A28: IV. MANO DE OBRA
A29: Trabajador | B29: Jornal | C29: Prestaciones | D29: Jornal Total | E29: Rendimiento | F29: Valor-Unit | G29: TOTALES
A30: MANO DE OBRA AA | B30: 190265 | C30: 2 | D30: =B30*C30 -> 380530 | E30: 5 | F30: =D30/E30 -> 76106
G32: =SUM(F30:F31) -> 76106
G34: =SUM(G9:G32) -> 369865

Sheet 3.3
B1: ANALISIS DE PRECIOS UNITARIOS CONSTRUCCION
A2: Actividad | B2: CABALLETE CUBIERTA TEJA DE BARRO
A3: Unidad | B3: ML
A5: I. EQUIPO
A6: Descripcion | B6: Unidad | C6: Tarifa | D6: Rendimiento | E6: Valor-Unit | G6: TOTALES
A7: Andamio tubular | B7: D | C7: 32822 | D7: 10 | E7: =C7/D7 -> 3282.2
A8: Herramienta menor | B8: GL | C8: 758.73 | D8: 1 | E8: =C8/D8 -> 758.73
A9: Equipo protección personal | B9: GL | C9: 500 | D9: 1 | E9: =C9/D9 -> 500
F11: SUB-TOTAL | G11: =SUM(E7:E10) -> 4540.93
A12: II. MATERIALES EN OBRA
A14: Descripcion | B14: Unidad | C14: Tarifa | D14: Rendimiento | E14: Valor-Unit
A15: Caballete Teja S Ntral 45.7X21.6X7.8Cm 2 | B15: UND | C15: 6300 | D15: 0.5 | E15: =C15/D15 -> 12600
A16: Mortero impermeabilizado 1:3 Arena lavada de peña | B16: M3 | C16: 816292.3 | D16: 30 | E16: =C16/D16 -> 27209.743
F17: SUB-TOTAL | G17: =+SUM(E15:E17) -> 39809.743
A18: III. TRANSPORTES
A19: Material | B19: Vol-peso o Cant. | C19: Distancia | D19: M3-km | E19: Tarifa | F19: Valor-Unit
F22: SUB-TOTAL | G22: =SUM(F20:F21) -> 0
A24: IV. MANO DE OBRA
A25: Trabajador | B25: Jornal | C25: Prestaciones | D25: Jornal Total | E25: Rendimiento | F25: Valor-Unit
A26: MANO DE OBRA AA | B26: 190265 | C26: 2 | D26: =B26*C26 -> 380530 | E26: 10 | F26: =D26/E26 -> 38053
F28: SUB-TOTAL | G28: =SUM(F26:F27) -> 38053
F30: TOTAL | G30: =SUM(G11:G28) -> 82403.673

Sheet 3.4
B1: ANALISIS DE PRECIOS UNITARIOS CONSTRUCCION
A2: Actividad | B2: PARCHEO DE CUBIERTA COLONIAL
A3: Unidad | B3: M2
A5: I. EQUIPO
A6: Descripcion | B6: Unidad | C6: Tarifa | D6: Rendimiento | E6: Valor-Unit | G6: TOTALES
A7: SECCIÓN DE 1,4 POR 1,4 H=6,0 ANDAMIO CERTIFICADO | B7: D | C7: =32822*3 -> 98466 | D7: 15 | E7: =C7/D7 -> 6564.4
A8: Herramienta menor | B8: GL | C8: 758.73 | D8: 1 | E8: =C8/D8 -> 758.73
A9: Equipo protección personal | B9: GL | C9: 500 | D9: 1 | E9: =C9/D9 -> 500
F11: SUB-TOTAL | G11: =SUM(E7:E10) -> 7823.13
A12: II. MATERIALES EN OBRA
A14: Descripcion | B14: Unidad | C14: Tarifa | D14: Cantidad | E14: Valor-Unit
A15: Teja colonial de barro (canal + cobija) | B15: UND | C15: 5500 | D15: 20 | E15: =C15*D15 -> 110000
A16: Mortero de cal o pega flexible | B16: M3 | C16: 280000 | D16: 0.02 | E16: =C16*D16 -> 5600
A17: Entablado | B17: ML | C17: 15000 | D17: 1.1 | E17: =D17*C17 -> 16500
A18: Alambre negro No. 18 | B18: KG | C18: 13725 | D18: 0.02 | E18: =C18*D18 -> 274.5
A19: Asfalto tipo 190/220 200KG | B19: KG | C19: 6000 | D19: 1.02 | E19: =C19*D19 -> 6120
A20: Concreto 2500 PSI | B20: M3 | C20: 507539 | D20: 0.05 | E20: =C20*D20 -> 25376.95
A21: Elementos menores (amarres, alambre) | B21: GL | C21: 8000 | D21: 0.3 | E21: =C21*D21 -> 2400
A22: Placa Superboard 6 mm 1,2MX2,4M | B22: M2 | C22: 28000 | D22: 1 | E22: =C22*D22 -> 28000
A23: Tornillos punta broca | B23: UND | C23: 180 | D23: 18 | E23: =C23*D23 -> 3240
A24: Cinta + masilla juntas | B24: GL | C24: 6000 | D24: 0.4 | E24: =C24*D24 -> 2400
A25: Pintura vinilo blanco (2 manos) | B25: M2 | C25: 6400 | D25: 1 | E25: =C25*D25 -> 6400
A26: Estuco de acabado | B26: M2 | C26: 2522 | D26: 1 | E26: =C26*D26 -> 2522
F27: SUB-TOTAL | G27: =+SUM(E15:E27) -> 208833.45
A28: III. TRANSPORTES
A29: Material | B29: Vol-peso o Cant. | C29: Distancia | D29: M3-km | E29: Tarifa | F29: Valor-Unit
F32: SUB-TOTAL | G32: =SUM(F30:F31) -> 0
A34: IV. MANO DE OBRA
A35: Trabajador | B35: Jornal | C35: Prestaciones | D35: Jornal Total | E35: Rendimiento | F35: Valor-Unit
A36: MANO DE OBRA AA | B36: 190265 | C36: 2 | D36: =B36*C36 -> 380530 | E36: 4 | F36: =D36/E36 -> 95132.5
F38: SUB-TOTAL | G38: =SUM(F36:F37) -> 95132.5
F40: TOTAL | G40: =SUM(G11:G38) -> 311789.08

Sheet 3.5
B1: ANALISIS DE PRECIOS UNITARIOS CONSTRUCCION
A2: Actividad | B2: RECONSTRUCCIÓN DE CUBIERTA COLONIAL
A3: Unidad | B3: M2
A5: I. EQUIPO
A6: Descripcion | B6: Unidad | C6: Tarifa | D6: Rendimiento | E6: Valor-Unit | G6: TOTALES
A7: SECCIÓN DE 1,4 POR 1,4 H=6,0 ANDAMIO CERTIFICADO X 3 | B7: D | C7: =32822*3 -> 98466 | D7: 20 | E7: =C7/D7 -> 4923.3
A8: Herramienta menor | B8: GL | C8: 758.73 | D8: 1 | E8: =C8/D8 -> 758.73
A9: Equipo protección personal | B9: GL | C9: 500 | D9: 1 | E9: =C9/D9 -> 500
F11: SUB-TOTAL | G11: =SUM(E7:E10) -> 6182.03
A12: II. MATERIALES EN OBRA
A14: Descripcion | B14: Unidad | C14: Tarifa | D14: Cantidad | E14: Valor-Unit
A15: Viga rolliza inmunizada Ø 7” | B15: ML | C15: 180000 | D15: 0.2 | E15: =C15*D15 -> 36000
A16: Alfarda 2”x4” estructural de madera inmunizada | B16: ML | C16: 14000 | D16: 1.2 | E16: =C16*D16 -> 16800
A17: Listón 2”x2” | B17: ML | C17: 7000 | D17: 3 | E17: =C17*D17 -> 21000
A18: Puntilla con cabeza 2" | B18: LB | C18: 7178 | D18: 0.32 | E18: =C18*D18 -> 2296.96
A19: Durmiente Ordinario | B19: ML | C19: 3672 | D19: 1.05 | E19: =C19*D19 -> 3855.6
A20: Planchon ordinario | B20: ML | C20: 8600 | D20: 2.67 | E20: =D20*C20 -> 22962
A21: Teja Colonial | B21: UN | C21: 5000 | D21: 30 | E21: =C21*D21 -> 150000
A22: Platinas acero 1/4” anclaje | B22: UN | C22: 25000 | D22: 0.4 | E22: =C22*D22 -> 10000
A23: Madera rolliza inmunizada 4'' | B23: ML | C23: 48000 | D23: 1 | E23: =C23*D23 -> 48000
A24: Pernos pasantes ½” | B24: UN | C24: 9000 | D24: 0.8 | E24: =C24*D24 -> 7200
A25: Mortero de cal | B25: M3 | C25: 280000 | D25: 0.02 | E25: =C25*D25 -> 5600
A26: Inmunizante adicional (retoque obra) | B26: GL | C26: 120000 | D26: 0.1 | E26: =C26*D26 -> 12000
A27: Pernos estructurales discretos | B27: UN | C27: 8000 | D27: 1 | E27: =C27*D27 -> 8000
A28: Cuñas y nivelación | B28: UN | C28: 2000 | D28: 1 | E28: =C28*D28 -> 2000
F30: SUB-TOTAL | G30: =+SUM(E15:E30) -> 345714.56
A31: III. TRANSPORTES
A32: Material | B32: Vol-peso o Cant. | C32: Distancia | D32: M3-km | E32: Tarifa | F32: Valor-Unit
F35: SUB-TOTAL | G35: =SUM(F33:F34) -> 0
A37: IV. MANO DE OBRA
A38: Trabajador | B38: Jornal | C38: Prestaciones | D38: Jornal Total | E38: Rendimiento | F38: Valor-Unit
A39: OFICIAL (2) AA | B39: =114392*2 -> 228784 | C39: 2 | D39: =B39*C39 -> 457568 | E39: 4 | F39: =D39/E39 -> 114392
A40: AYUDANTE (3) AA | B40: =75873*3 -> 227619 | C40: 2 | D40: =B40*C40 -> 455238 | E40: 4 | F40: =D40/E40 -> 113809.5
F42: SUB-TOTAL | G42: =SUM(F39:F41) -> 228201.5
F44: TOTAL | G44: =SUM(G11:G42) -> 580098.09

Sheet 3.6
B1: ANALISIS DE PRECIOS UNITARIOS CONSTRUCCION
A2: Actividad | B2: RECONSTRUCCIÓN DE CIELO RASO
A3: Unidad | B3: M2
A5: I. EQUIPO
A6: Descripcion | B6: Unidad | C6: Tarifa | D6: Rendimiento | E6: Valor-Unit | G6: TOTALES
A7: SECCIÓN DE 1,4 POR 1,4 H=6,0 ANDAMIO CERTIFICADO X 3 | B7: D | C7: =32822*3 -> 98466 | D7: 20 | E7: =C7/D7 -> 4923.3
A8: Herramienta menor | B8: GL | C8: 758.73 | D8: 1 | E8: =C8/D8 -> 758.73
A9: Equipo protección personal | B9: GL | C9: 500 | D9: 1 | E9: =C9/D9 -> 500
F11: SUB-TOTAL | G11: =SUM(E7:E10) -> 6182.03
A12: II. MATERIALES EN OBRA
A14: Descripcion | B14: Unidad | C14: Tarifa | D14: Cantidad | E14: Valor-Unit
A15: Placa Superboard 6 mm | B15: M2 | C15: 28000 | D15: 1.05 | E15: =C15*D15 -> 29400
A16: Perfilería galvanizada liviana | B16: ML | C16: 6500 | D16: 3 | E16: =C16*D16 -> 19500
A17: Tornillos punta broca | B17: UND | C17: 180 | D17: 18 | E17: =C17*D17 -> 3240
A18: Cinta + masilla juntas | B18: GL | C18: 6000 | D18: 0.4 | E18: =C18*D18 -> 2400
A19: Pintura vinilo blanco (2 manos) | B19: M2 | C19: 3200 | D19: 1 | E19: =C19*D19 -> 3200
A20: Estuco de acabado | B20: M2 | C20: 2522 | D20: 1 | E20: =C20*D20 -> 2522
F21: SUB-TOTAL | G21: =+SUM(E15:E21) -> 60262
A22: III. TRANSPORTES
A23: Material | B23: Vol-peso o Cant. | C23: Distancia | D23: M3-km | E23: Tarifa | F23: Valor-Unit
F26: SUB-TOTAL | G26: =SUM(F24:F25) -> 0
A28: IV. MANO DE OBRA
A29: Trabajador | B29: Jornal | C29: Prestaciones | D29: Jornal Total | E29: Rendimiento | F29: Valor-Unit
A30: OFICIAL (2) AA | B30: =114392*2 -> 228784 | C30: 2 | D30: =B30*C30 -> 457568 | E30: 8 | F30: =D30/E30 -> 57196
A31: AYUDANTE (3) AA | B31: =75873*3 -> 227619 | C31: 2 | D31: =B31*C31 -> 455238 | E31: 8 | F31: =D31/E31 -> 56904.75
F33: SUB-TOTAL | G33: =SUM(F30:F32) -> 114100.75
F35: TOTAL | G35: =SUM(G11:G33) -> 180544.78

Sheet 3.7
B1: ANALISIS DE PRECIOS UNITARIOS CONSTRUCCION
A2: Actividad | B2: RECONSTRUCCION ALERO DE CUBIERTA COLONIAL
A3: Unidad | B3: M2
A5: I. EQUIPO
A6: Descripcion | B6: Unidad | C6: Tarifa | D6: Rendimiento | E6: Valor-Unit | G6: TOTALES
A7: Andamio tubular X3 | B7: D | C7: =32822*3 -> 98466 | D7: 20 | E7: =C7/D7 -> 4923.3
A8: Herramienta menor | B8: GL | C8: 758.73 | D8: 1 | E8: =C8/D8 -> 758.73
A9: Equipo protección personal | B9: GL | C9: 500 | D9: 1 | E9: =C9/D9 -> 500
F11: SUB-TOTAL | G11: =SUM(E7:E10) -> 6182.03
A12: II. MATERIALES EN OBRA
A14: Descripcion | B14: Unidad | C14: Tarifa | D14: Rendimiento | E14: Valor-Unit
A15: Durmiente ordinario | B15: ML | C15: 3672 | D15: 1 | E15: =C15/D15 -> 3672
A16: Puntilla con cabeza 2'' | B16: LB | C16: 7178 | D16: 5 | E16: =C16/D16 -> 1435.6
A17: Planchon ordinario | B17: ML | C17: 15000 | D17: 1 | E17: =C17/D17 -> 15000
A18: Canes de madera Tipo de madera Precio unidad (1 ml) Pino inmunizado cepillado | B18: UN | C18: 25000 | D18: =1/4 -> 0.25 | E18: =C18/D18 -> 100000
F19: SUB-TOTAL | G19: =+SUM(E15:E19) -> 120107.6
A20: III. TRANSPORTES
A21: Material | B21: Vol-peso o Cant. | C21: Distancia | D21: M3-km | E21: Tarifa | F21: Valor-Unit
F24: SUB-TOTAL | G24: =SUM(F22:F23) -> 0
A26: IV. MANO DE OBRA
A27: Trabajador | B27: Jornal | C27: Prestaciones | D27: Jornal Total | E27: Rendimiento | F27: Valor-Unit
A28: MANO DE OBRA AA | B28: 190265 | C28: 2 | D28: =B28*C28 -> 380530 | E28: 8 | F28: =D28/E28 -> 47566.25
F30: SUB-TOTAL | G30: =SUM(F28:F29) -> 47566.25
F32: TOTAL | G32: =SUM(G11:G30) -> 173855.88

Sheet 5.3
B1: ANALISIS DE PRECIOS UNITARIOS CONSTRUCCION
A2: Actividad | B2: REPARACION DE HOJAS DE MADERA EN PUERTAS Y VENTANAS
A3: Unidad | B3: M2
A5: I. EQUIPO
A6: Descripcion | B6: Unidad | C6: Tarifa | D6: Rendimiento | E6: Valor-Unit | G6: TOTALES
A7: Herramienta menor | B7: GL | C7: 1630.84 | D7: 1 | E7: =C7/D7 -> 1630.84
F9: SUB-TOTAL | G9: =SUM(E7:E8) -> 1630.84
A10: II. MATERIALES EN OBRA
A12: Descripcion | B12: Unidad | C12: Tarifa | D12: Rendimiento | E12: Valor-Unit
A13: Cedro macho pieza | B13: ML | C13: 450000 | D13: 1 | E13: =C13/D13 -> 450000
A14: bisagra comun 3" | B14: LB | C14: 7900 | D14: 3 | E14: =D14*C14 -> 23700
A15: tornillo para madera 2" No 9 | B15: UN | C15: 100 | D15: 10 | E15: =D15*C15 -> 1000
A16: Puntilla sin cabeza 1" | B16: UN | C16: 7160 | D16: 0.46 | E16: =D16*C16 -> 3293.6
A17: Chazos para carpinteria en madera | B17: UN | C17: 7200 | D17: 6 | E17: =D17*C17 -> 43200 | J17: =1800000/4 -> 450000
F18: SUB-TOTAL | G18: =+SUM(E13:E17) -> 521193.6
A19: III. TRANSPORTES
A20: Material | B20: Vol-peso o Cant. | C20: Distancia | D20: M3-km | E20: Tarifa | F20: Valor-Unit
F23: SUB-TOTAL | G23: =SUM(F21:F22) -> 0
A25: IV. MANO DE OBRA
A26: Trabajador | B26: Jornal | C26: Prestaciones | D26: Jornal Total | E26: Rendimiento | F26: Valor-Unit
A27: MANO DE OBRA DD | B27: 228318 | C27: 2 | D27: =B27*C27 -> 456636 | E27: 14 | F27: =D27/E27 -> 32616.857
F29: SUB-TOTAL | G29: =SUM(F27:F28) -> 32616.857
F31: TOTAL | G31: =SUM(G9:G29) -> 555441.3

Sheet 5.4
B1: ANALISIS DE PRECIOS UNITARIOS CONSTRUCCION
A2: Actividad | B2: MARCO, PUERTA Y ENCHAPE, AMDERA ROBIZA CHAPA X0,20 M
A3: Unidad | B3: M2
A5: I. EQUIPO
A6: Descripcion | B6: Unidad | C6: Tarifa | D6: Rendimiento | E6: Valor-Unit | G6: TOTALES
A7: Herramienta menor | B7: GL | C7: 1630.84 | D7: 1 | E7: =C7/D7 -> 1630.84
F9: SUB-TOTAL | G9: =SUM(E7:E8) -> 1630.84
A10: II. MATERIALES EN OBRA
A12: Descripcion | B12: Unidad | C12: Tarifa | D12: Rendimiento | E12: Valor-Unit
A13: Cedro macho pieza | B13: ML | C13: =1800000*1.7 -> 3060000 | D13: 1 | E13: =C13/D13 -> 3060000
A14: bisagra comun 3" | B14: LB | C14: 7900 | D14: 3 | E14: =D14*C14 -> 23700
A15: tornillo para madera 2" No 9 | B15: UN | C15: 100 | D15: 10 | E15: =D15*C15 -> 1000
A16: Puntilla sin cabeza 1" | B16: UN | C16: 7160 | D16: 0.46 | E16: =D16*C16 -> 3293.6
A17: Chazos para carpinteria en madera | B17: UN | C17: 7200 | D17: 6 | E17: =D17*C17 -> 43200
F18: SUB-TOTAL | G18: =+SUM(E13:E17) -> 3131193.6
A19: III. TRANSPORTES
A20: Material | B20: Vol-peso o Cant. | C20: Distancia | D20: M3-km | E20: Tarifa | F20: Valor-Unit
F23: SUB-TOTAL | G23: =SUM(F21:F22) -> 0
A25: IV. MANO DE OBRA
A26: Trabajador | B26: Jornal | C26: Prestaciones | D26: Jornal Total | E26: Rendimiento | F26: Valor-Unit
A27: MANO DE OBRA DD | B27: 228318 | C27: 2 | D27: =B27*C27 -> 456636 | E27: 14 | F27: =D27/E27 -> 32616.857
F29: SUB-TOTAL | G29: =SUM(F27:F28) -> 32616.857
F31: TOTAL | G31: =SUM(G9:G29) -> 3165441.3

Sheet 5.5
B1: ANALISIS DE PRECIOS UNITARIOS CONSTRUCCION
A2: Actividad | B2: VENTANERÍA ARRODILLADA EN MADERA CEDRO MACHO 1,1MX1,4M
A3: Unidad | B3: UND
A5: I. EQUIPO
A6: Descripcion | B6: Unidad | C6: Tarifa | D6: Rendimiento | E6: Valor-Unit | G6: TOTALES
A7: Herramienta menor | B7: GL | C7: 1630.84 | D7: 1 | E7: =C7/D7 -> 1630.84
F9: SUB-TOTAL | G9: =SUM(E7:E8) -> 1630.84
A10: II. MATERIALES EN OBRA
A12: Descripcion | B12: Unidad | C12: Tarifa | D12: Cantidad | E12: Valor-Unit
A13: Ventana arrodillada de madera | B13: UN | C13: =2000000*1.7 -> 3400000 | D13: 1 | E13: =C13/D13 -> 3400000
F18: SUB-TOTAL | G18: =+SUM(E13:E17) -> 3400000
A19: III. TRANSPORTES
A20: Material | B20: Vol-peso o Cant. | C20: Distancia | D20: M3-km | E20: Tarifa | F20: Valor-Unit
F23: SUB-TOTAL | G23: =SUM(F21:F22) -> 0
A25: IV. MANO DE OBRA
A26: Trabajador | B26: Jornal | C26: Prestaciones | D26: Jornal Total | E26: Rendimiento | F26: Valor-Unit
A27: MANO DE OBRA DD | B27: 228318 | C27: 2 | D27: =B27*C27 -> 456636 | E27: 7 | F27: =D27/E27 -> 65233.714
F29: SUB-TOTAL | G29: =SUM(F27:F28) -> 65233.714
F31: TOTAL | G31: =SUM(G9:G29) -> 3466864.6

Sheet 5.6
B1: ANALISIS DE PRECIOS UNITARIOS CONSTRUCCION
A2: Actividad | B2: VENTANERÍA EN MADERA TIPO COLONIAL CEDRO MACHO 1MX1,3M
A3: Unidad | B3: UND
A5: I. EQUIPO
A6: Descripcion | B6: Unidad | C6: Tarifa | D6: Rendimiento | E6: Valor-Unit | G6: TOTALES
A7: Herramienta menor | B7: GL | C7: 1630.84 | D7: 1 | E7: =C7/D7 -> 1630.84
F9: SUB-TOTAL | G9: =SUM(E7:E8) -> 1630.84
A10: II. MATERIALES EN OBRA
A12: Descripcion | B12: Unidad | C12: Tarifa | D12: Cantidad | E12: Valor-Unit
A13: Ventana de madera tipo colonial | B13: UN | C13: =1600000*1.7 -> 2720000 | D13: 1 | E13: =C13/D13 -> 2720000
F18: SUB-TOTAL | G18: =+SUM(E13:E17) -> 2720000
A19: III. TRANSPORTES
A20: Material | B20: Vol-peso o Cant. | C20: Distancia | D20: M3-km | E20: Tarifa | F20: Valor-Unit
F23: SUB-TOTAL | G23: =SUM(F21:F22) -> 0
A25: IV. MANO DE OBRA
A26: Trabajador | B26: Jornal | C26: Prestaciones | D26: Jornal Total | E26: Rendimiento | F26: Valor-Unit
A27: MANO DE OBRA DD | B27: 228318 | C27: 2 | D27: =B27*C27 -> 456636 | E27: 7 | F27: =D27/E27 -> 65233.714
F29: SUB-TOTAL | G29: =SUM(F27:F28) -> 65233.714
F31: TOTAL | G31: =SUM(G9:G29) -> 2786864.6

Sheet 8.2
B1: ANALISIS DE PRECIOS UNITARIOS CONSTRUCCION
A2: Actividad | B2: INSTALACION Y REPARACION DE MALLA PLASTICA PARA AISLAMIENTO DE PALOMAS
A3: Unidad | B3: M2
A5: I. EQUIPO
A6: Descripcion | B6: Unidad | C6: Tarifa | D6: Rendimiento | E6: Valor-Unit | G6: TOTALES
A7: Herramienta menor | B7: GL | C7: 1630.84 | D7: 1 | E7: =C7/D7 -> 1630.84
A8: Andamio tubular | B8: D | C8: 32822 | D8: 10 | E8: =C8/D8 -> 3282.2
F9: SUB-TOTAL | G9: =SUM(E7:E8) -> 4913.04
A10: II. MATERIALES EN OBRA
A12: Descripcion | B12: Unidad | C12: Tarifa | D12: Cantidad | E12: Valor-Unit
A13: Malla plástica UV reforzada | B13: M2 | C13: 18000 | D13: 1 | E13: =C13*D13 -> 18000
A14: Guaya galvanizada 1/8" | B14: ML | C14: 4000 | D14: 2 | E14: =C14*D14 -> 8000
A15: Grapas/anclajes | B15: UND | C15: 1500 | D15: 6 | E15: =C15*D15 -> 9000
A16: Tensores metálicos | B16: UND | C16: 6000 | D16: 0.25 | E16: =C16*D16 -> 1500
F18: SUB-TOTAL | G18: =+SUM(E13:E17) -> 36500
A19: III. TRANSPORTES
A20: Material | B20: Vol-peso o Cant. | C20: Distancia | D20: M3-km | E20: Tarifa | F20: Valor-Unit
F23: SUB-TOTAL | G23: =SUM(F21:F22) -> 0
A25: IV. MANO DE OBRA
A26: Trabajador | B26: Jornal | C26: Prestaciones | D26: Jornal Total | E26: Rendimiento | F26: Valor-Unit
A27: MANO DE OBRA DD | B27: 228318 | C27: 2 | D27: =B27*C27 -> 456636 | E27: 18 | F27: =D27/E27 -> 25368.667
F29: SUB-TOTAL | G29: =SUM(F27:F28) -> 25368.667
F31: TOTAL | G31: =SUM(G9:G29) -> 66781.707

Sheet 8.3
B1: ANALISIS DE PRECIOS UNITARIOS CONSTRUCCION
A2: Actividad | B2: Aseo y Limpieza final de obra
A3: Unidad | B3: M2
A5: I. EQUIPO
A6: Descripcion | B6: Unidad | C6: Tarifa | D6: Rendimiento | E6: Valor-Unit | G6: TOTALES
A7: Herramienta menor | B7: GL | C7: 600 | D7: 1 | E7: =C7/D7 -> 600
A8: Carretilla | B8: D | C8: 10000 | D8: 50 | E8: =C8/D8 -> 200
F9: SUB-TOTAL | G9: =SUM(E7:E8) -> 800
A10: II. MATERIALES EN OBRA
A12: Descripcion | B12: Unidad | C12: Tarifa | D12: Cantidad | E12: Valor-Unit
A13: Bolsas para residuos | B13: UND | C13: 1200 | D13: 0.1 | E13: =C13*D13 -> 120
A14: Costales reutilizables | B14: UND | C14: 1500 | D14: 0.1 | E14: =C14*D14 -> 150
F18: SUB-TOTAL | G18: =+SUM(E13:E17) -> 270
A19: III. TRANSPORTES
A20: Material | B20: Vol-peso o Cant. | C20: Distancia | D20: M3-km | E20: Tarifa | F20: Valor-Unit
A21: Transporte interno residuos | B21: 1 | C21: 1 | D21: 1 | E21: 1200 | F21: =E21*B21 -> 1200
F23: SUB-TOTAL | G23: =SUM(F21:F22) -> 1200
A25: IV. MANO DE OBRA
A26: Trabajador | B26: Jornal | C26: Prestaciones | D26: Jornal Total | E26: Rendimiento | F26: Valor-Unit
A27: Ayudante de obra | B27: 80000 | C27: 100 | D27: =B27*C27 -> 8000000 | E27: 50 | F27: =D27/E27/C27 -> 1600
F29: SUB-TOTAL | G29: =SUM(F27:F28) -> 1600
F31: TOTAL | G31: =SUM(G9:G29) -> 3870
