Workbook
Name Ca: ExperienciaGeneral!#REF!
Name Categoría: Inputs!$E$1:$E$4
Name Cuatro: Inputs!#REF!
Name DDDD: Inputs!$F$1:$F$5
Name Dos: Inputs!#REF!
Name reGION: Inputs!$H$2:$H$9
Name Tres: Inputs!#REF!
Name Uno: Inputs!#REF!

Sheet ExperienciaGeneral
C4: AGENCIA NACIONAL DE CONTRATACIÓN PÚBLICA
C5: COLOMBIA COMPRA EFICIENTE
C6: AMP/SDA PARA LA PRESTACIÓN DEL SERVICIO DE TRANSPORTE TERRESTRE AUTOMOTOR ESPECIAL DE PASAJEROS
F8: NOMBRE DEL PROPONENTE:
C10: FORMATO DE EXPERIENCIA
C11: PROCESO DE SELECCIÓN CCENEG-089-01-2025
C13: EXPERIENCIA DEL PROPONENTE
D15: Indique La Modalidad a la cual se presenta con el fin de establecer las condiciones de experiencia. | E15: Indique el Semento al cual se presenta con el fin de establecer las condiciones de experiencia. | L15: Indique el código UNSPSC del contrato en el RUP con el que acredita la experiencia | M15: Indique el nombre del contratista que figura en la experiencia | N15: Indique el % de participación en el contrato a acreditar. | O15: Indique el número del consecutivo en el RUP de la persona que aporta la experiencia. | P15: Indique el valor ejecutado en en SMMLV.
C16: Modalidad | D16: Zona | E16: Segmento | F16: Presenta Propuesta (SI/NO) | G16: Experiencia requerida en SMMLV | I16: Total de experiencia requerida en SMMLV | K16: # | L16: Código UNSPSC | M16: En caso de ser proponente prural, diligencie el integrante que aporta la experiencia | N16: % de participación | O16: Número del contrato en el RUP | P16: Cantidad de SMMLV del contrato
B17: 1Escolar | C17: Vehículos con motor de combustión interna o Vehículos con motor eléctrico o híbrido | D17: 1 | E17: Escolar | G17: =IF(B17="","",IF(F17="Si",VLOOKUP(B17,Hoja1!$B$2:$E$74,4,0),"")) | I17: =SUM(G17:G89) -> 0 | K17: 1 | L17: 78111800
B18: 1Empresarial | E18: Empresarial | G18: =IF(B18="","",IF(F18="Si",VLOOKUP(B18,Hoja1!$B$2:$E$74,4,0),"")) | K18: 2 | L18: 78111800
B19: 1Salud | E19: Grupo específico de usuarios | G19: =IF(B19="","",IF(F19="Si",VLOOKUP(B19,Hoja1!$B$2:$E$74,4,0),"")) | K19: 3 | L19: 78111800
B20: 1Grupo específico de usuarios | E20: Salud | G20: =IF(B20="","",IF(F20="Si",VLOOKUP(B20,Hoja1!$B$2:$E$74,4,0),"")) | K20: 4 | L20: 78111800
B21: 2Escolar | D21: 2 | E21: Escolar | G21: =IF(B21="","",IF(F21="Si",VLOOKUP(B21,Hoja1!$B$2:$E$74,4,0),"")) | K21: 5 | L21: 78111800
B22: 2Empresarial | E22: Empresarial | G22: =IF(B22="","",IF(F22="Si",VLOOKUP(B22,Hoja1!$B$2:$E$74,4,0),"")) | K22: 6 | L22: 78111800
B23: 2Salud | E23: Grupo específico de usuarios | G23: =IF(B23="","",IF(F23="Si",VLOOKUP(B23,Hoja1!$B$2:$E$74,4,0),"")) | K23: 7 | L23: 78111800
B24: 2Grupo específico de usuarios | E24: Salud | G24: =IF(B24="","",IF(F24="Si",VLOOKUP(B24,Hoja1!$B$2:$E$74,4,0),"")) | K24: 8 | L24: 78111800
B25: 3Escolar | D25: 3 | E25: Escolar | G25: =IF(B25="","",IF(F25="Si",VLOOKUP(B25,Hoja1!$B$2:$E$74,4,0),"")) | K25: 9 | L25: 78111800
B26: 3Empresarial | E26: Empresarial | G26: =IF(B26="","",IF(F26="Si",VLOOKUP(B26,Hoja1!$B$2:$E$74,4,0),"")) | K26: 10 | L26: 78111800
B27: 3Salud | E27: Grupo específico de usuarios | G27: =IF(B27="","",IF(F27="Si",VLOOKUP(B27,Hoja1!$B$2:$E$74,4,0),"")) | K27: 11 | L27: 78111800
B28: 3Grupo específico de usuarios | E28: Salud | G28: =IF(B28="","",IF(F28="Si",VLOOKUP(B28,Hoja1!$B$2:$E$74,4,0),"")) | K28: 12 | L28: 78111800
B29: 4Escolar | D29: 4 | E29: Escolar | G29: =IF(B29="","",IF(F29="Si",VLOOKUP(B29,Hoja1!$B$2:$E$74,4,0),"")) | K29: 13 | L29: 78111800
B30: 4Empresarial | E30: Empresarial | G30: =IF(B30="","",IF(F30="Si",VLOOKUP(B30,Hoja1!$B$2:$E$74,4,0),"")) | K30: 14 | L30: 78111800
B31: 4Salud | E31: Grupo específico de usuarios | G31: =IF(B31="","",IF(F31="Si",VLOOKUP(B31,Hoja1!$B$2:$E$74,4,0),"")) | K31: 15 | L31: 78111800
B32: 4Grupo específico de usuarios | E32: Salud | G32: =IF(B32="","",IF(F32="Si",VLOOKUP(B32,Hoja1!$B$2:$E$74,4,0),"")) | K32: 16 | L32: 78111800
B33: 5Escolar | D33: 5 | E33: Escolar | G33: =IF(B33="","",IF(F33="Si",VLOOKUP(B33,Hoja1!$B$2:$E$74,4,0),"")) | K33: 17 | L33: 78111800
B34: 5Empresarial | E34: Empresarial | G34: =IF(B34="","",IF(F34="Si",VLOOKUP(B34,Hoja1!$B$2:$E$74,4,0),"")) | K34: 18 | L34: 78111800
B35: 5Salud | E35: Grupo específico de usuarios | G35: =IF(B35="","",IF(F35="Si",VLOOKUP(B35,Hoja1!$B$2:$E$74,4,0),"")) | K35: 19 | L35: 78111800
B36: 5Grupo específico de usuarios | E36: Salud | G36: =IF(B36="","",IF(F36="Si",VLOOKUP(B36,Hoja1!$B$2:$E$74,4,0),"")) | K36: 20 | L36: 78111800
B37: 6Escolar | D37: 6 | E37: Escolar | G37: =IF(B37="","",IF(F37="Si",VLOOKUP(B37,Hoja1!$B$2:$E$74,4,0),"")) | K37: 21 | L37: 78111800
B38: 6Empresarial | E38: Empresarial | G38: =IF(B38="","",IF(F38="Si",VLOOKUP(B38,Hoja1!$B$2:$E$74,4,0),"")) | K38: 22 | L38: 78111800
B39: 6Salud | E39: Grupo específico de usuarios | G39: =IF(B39="","",IF(F39="Si",VLOOKUP(B39,Hoja1!$B$2:$E$74,4,0),"")) | K39: 23 | L39: 78111800
B40: 6Grupo específico de usuarios | E40: Salud | G40: =IF(B40="","",IF(F40="Si",VLOOKUP(B40,Hoja1!$B$2:$E$74,4,0),"")) | K40: 24 | L40: 78111800
B41: 7Escolar | D41: 7 | E41: Escolar | G41: =IF(B41="","",IF(F41="Si",VLOOKUP(B41,Hoja1!$B$2:$E$74,4,0),"")) | K41: 25 | L41: 78111800
B42: 7Empresarial | E42: Empresarial | G42: =IF(B42="","",IF(F42="Si",VLOOKUP(B42,Hoja1!$B$2:$E$74,4,0),"")) | K42: 26 | L42: 78111800
B43: 7Salud | E43: Grupo específico de usuarios | G43: =IF(B43="","",IF(F43="Si",VLOOKUP(B43,Hoja1!$B$2:$E$74,4,0),"")) | K43: 27 | L43: 78111800
B44: 7Grupo específico de usuarios | E44: Salud | G44: =IF(B44="","",IF(F44="Si",VLOOKUP(B44,Hoja1!$B$2:$E$74,4,0),"")) | K44: 28 | L44: 78111800
B45: 8Escolar | D45: 8 | E45: Escolar | G45: =IF(B45="","",IF(F45="Si",VLOOKUP(B45,Hoja1!$B$2:$E$74,4,0),"")) | K45: 29 | L45: 78111800
B46: 8Empresarial | E46: Empresarial | G46: =IF(B46="","",IF(F46="Si",VLOOKUP(B46,Hoja1!$B$2:$E$74,4,0),"")) | K46: 30 | L46: 78111800
B47: 8Salud | E47: Grupo específico de usuarios | G47: =IF(B47="","",IF(F47="Si",VLOOKUP(B47,Hoja1!$B$2:$E$74,4,0),"")) | K47: 31 | L47: 78111800
B48: 8Grupo específico de usuarios | E48: Salud | G48: =IF(B48="","",IF(F48="Si",VLOOKUP(B48,Hoja1!$B$2:$E$74,4,0),"")) | K48: 32 | L48: 78111800
B49: 9Escolar | D49: 9 | E49: Escolar | G49: =IF(B49="","",IF(F49="Si",VLOOKUP(B49,Hoja1!$B$2:$E$74,4,0),"")) | K49: 33 | L49: 78111800
B50: 9Empresarial | E50: Empresarial | G50: =IF(B50="","",IF(F50="Si",VLOOKUP(B50,Hoja1!$B$2:$E$74,4,0),"")) | K50: 34 | L50: 78111800
B51: 9Salud | E51: Grupo específico de usuarios | G51: =IF(B51="","",IF(F51="Si",VLOOKUP(B51,Hoja1!$B$2:$E$74,4,0),"")) | K51: 35 | L51: 78111800
B52: 9Grupo específico de usuarios | E52: Salud | G52: =IF(B52="","",IF(F52="Si",VLOOKUP(B52,Hoja1!$B$2:$E$74,4,0),"")) | K52: 36 | L52: 78111800
B53: 10Escolar | D53: 10 | E53: Escolar | G53: =IF(B53="","",IF(F53="Si",VLOOKUP(B53,Hoja1!$B$2:$E$74,4,0),"")) | K53: 37 | L53: 78111800
B54: 10Empresarial | E54: Empresarial | G54: =IF(B54="","",IF(F54="Si",VLOOKUP(B54,Hoja1!$B$2:$E$74,4,0),"")) | K54: 38 | L54: 78111800
B55: 10Salud | E55: Grupo específico de usuarios | G55: =IF(B55="","",IF(F55="Si",VLOOKUP(B55,Hoja1!$B$2:$E$74,4,0),"")) | K55: 39 | L55: 78111800
B56: 10Grupo específico de usuarios | E56: Salud | G56: =IF(B56="","",IF(F56="Si",VLOOKUP(B56,Hoja1!$B$2:$E$74,4,0),"")) | K56: 40 | L56: 78111800
B57: 11Escolar | D57: 11 | E57: Escolar | G57: =IF(B57="","",IF(F57="Si",VLOOKUP(B57,Hoja1!$B$2:$E$74,4,0),"")) | K57: 41 | L57: 78111800
B58: 11Empresarial | E58: Empresarial | G58: =IF(B58="","",IF(F58="Si",VLOOKUP(B58,Hoja1!$B$2:$E$74,4,0),"")) | K58: 42 | L58: 78111800
B59: 11Salud | E59: Grupo específico de usuarios | G59: =IF(B59="","",IF(F59="Si",VLOOKUP(B59,Hoja1!$B$2:$E$74,4,0),"")) | K59: 43 | L59: 78111800
B60: 11Grupo específico de usuarios | E60: Salud | G60: =IF(B60="","",IF(F60="Si",VLOOKUP(B60,Hoja1!$B$2:$E$74,4,0),"")) | K60: 44 | L60: 78111800
B61: 12Escolar | D61: 12 | E61: Escolar | G61: =IF(B61="","",IF(F61="Si",VLOOKUP(B61,Hoja1!$B$2:$E$74,4,0),"")) | K61: 45 | L61: 78111800
B62: 12Empresarial | E62: Empresarial | G62: =IF(B62="","",IF(F62="Si",VLOOKUP(B62,Hoja1!$B$2:$E$74,4,0),"")) | K62: 46 | L62: 78111800
B63: 12Salud | E63: Grupo específico de usuarios | G63: =IF(B63="","",IF(F63="Si",VLOOKUP(B63,Hoja1!$B$2:$E$74,4,0),"")) | K63: 47 | L63: 78111800
B64: 12Grupo específico de usuarios | E64: Salud | G64: =IF(B64="","",IF(F64="Si",VLOOKUP(B64,Hoja1!$B$2:$E$74,4,0),"")) | K64: 48 | L64: 78111800
B65: 13Escolar | D65: 13 | E65: Escolar | G65: =IF(B65="","",IF(F65="Si",VLOOKUP(B65,Hoja1!$B$2:$E$74,4,0),"")) | K65: 49 | L65: 78111800
B66: 13Empresarial | E66: Empresarial | G66: =IF(B66="","",IF(F66="Si",VLOOKUP(B66,Hoja1!$B$2:$E$74,4,0),"")) | K66: 50 | L66: 78111800
B67: 13Salud | E67: Grupo específico de usuarios | G67: =IF(B67="","",IF(F67="Si",VLOOKUP(B67,Hoja1!$B$2:$E$74,4,0),"")) | K67: 51 | L67: 78111800
B68: 13Grupo específico de usuarios | E68: Salud | G68: =IF(B68="","",IF(F68="Si",VLOOKUP(B68,Hoja1!$B$2:$E$74,4,0),"")) | K68: 52 | L68: 78111800
B69: 14Escolar | D69: 14 | E69: Escolar | G69: =IF(B69="","",IF(F69="Si",VLOOKUP(B69,Hoja1!$B$2:$E$74,4,0),"")) | K69: 53 | L69: 78111800
B70: 14Empresarial | E70: Empresarial | G70: =IF(B70="","",IF(F70="Si",VLOOKUP(B70,Hoja1!$B$2:$E$74,4,0),"")) | K70: 54 | L70: 78111800
B71: 14Salud | E71: Grupo específico de usuarios | G71: =IF(B71="","",IF(F71="Si",VLOOKUP(B71,Hoja1!$B$2:$E$74,4,0),"")) | K71: 55 | L71: 78111800
B72: 14Grupo específico de usuarios | E72: Salud | G72: =IF(B72="","",IF(F72="Si",VLOOKUP(B72,Hoja1!$B$2:$E$74,4,0),"")) | K72: 56 | L72: 78111800
B73: 15Escolar | D73: 15 | E73: Escolar | G73: =IF(B73="","",IF(F73="Si",VLOOKUP(B73,Hoja1!$B$2:$E$74,4,0),"")) | K73: 57 | L73: 78111800
B74: 15Empresarial | E74: Empresarial | G74: =IF(B74="","",IF(F74="Si",VLOOKUP(B74,Hoja1!$B$2:$E$74,4,0),"")) | K74: 58 | L74: 78111800
B75: 15Salud | E75: Grupo específico de usuarios | G75: =IF(B75="","",IF(F75="Si",VLOOKUP(B75,Hoja1!$B$2:$E$74,4,0),"")) | K75: 59 | L75: 78111800
B76: 15Grupo específico de usuarios | E76: Salud | G76: =IF(B76="","",IF(F76="Si",VLOOKUP(B76,Hoja1!$B$2:$E$74,4,0),"")) | K76: 60 | L76: 78111800
B77: 16Escolar | D77: 16 | E77: Escolar | G77: =IF(B77="","",IF(F77="Si",VLOOKUP(B77,Hoja1!$B$2:$E$74,4,0),"")) | K77: 61 | L77: 78111800
B78: 16Empresarial | E78: Empresarial | G78: =IF(B78="","",IF(F78="Si",VLOOKUP(B78,Hoja1!$B$2:$E$74,4,0),"")) | K78: 62 | L78: 78111800
B79: 16Salud | E79: Grupo específico de usuarios | G79: =IF(B79="","",IF(F79="Si",VLOOKUP(B79,Hoja1!$B$2:$E$74,4,0),"")) | K79: 63 | L79: 78111800
B80: 16Grupo específico de usuarios | E80: Salud | G80: =IF(B80="","",IF(F80="Si",VLOOKUP(B80,Hoja1!$B$2:$E$74,4,0),"")) | K80: 64 | L80: 78111800
B81: 17Escolar | D81: 17 | E81: Escolar | G81: =IF(B81="","",IF(F81="Si",VLOOKUP(B81,Hoja1!$B$2:$E$74,4,0),"")) | K81: 65 | L81: 78111800
B82: 17Empresarial | E82: Empresarial | G82: =IF(B82="","",IF(F82="Si",VLOOKUP(B82,Hoja1!$B$2:$E$74,4,0),"")) | K82: 66 | L82: 78111800
B83: 17Salud | E83: Grupo específico de usuarios | G83: =IF(B83="","",IF(F83="Si",VLOOKUP(B83,Hoja1!$B$2:$E$74,4,0),"")) | K83: 67 | L83: 78111800
B84: 17Grupo específico de usuarios | E84: Salud | G84: =IF(B84="","",IF(F84="Si",VLOOKUP(B84,Hoja1!$B$2:$E$74,4,0),"")) | K84: 68 | L84: 78111800
B85: 18Escolar | D85: 18 | E85: Escolar | G85: =IF(B85="","",IF(F85="Si",VLOOKUP(B85,Hoja1!$B$2:$E$74,4,0),"")) | K85: 69 | L85: 78111800
B86: 18Empresarial | E86: Empresarial | G86: =IF(B86="","",IF(F86="Si",VLOOKUP(B86,Hoja1!$B$2:$E$74,4,0),"")) | K86: 70 | L86: 78111800
B87: 18Salud | E87: Grupo específico de usuarios | G87: =IF(B87="","",IF(F87="Si",VLOOKUP(B87,Hoja1!$B$2:$E$74,4,0),""))
B88: 18Grupo específico de usuarios | E88: Salud | G88: =IF(B88="","",IF(F88="Si",VLOOKUP(B88,Hoja1!$B$2:$E$74,4,0),""))
B89: 19Escolar Bogotá | D89: 19 | E89: Escolar Bogotá | G89: =IF(B89="","",IF(F89="Si",VLOOKUP(B89,Hoja1!$B$2:$E$74,4,0),""))
C92: Agrege filas según necesidad
H95: Firma representante legal
H96: Nombre/Razón Social:
H97: Representante Legal:

Sheet Hoja1
B1: Llave | C1: Zona | D1: Segmento | E1: SMMLV requeridos
B2: =+C2&D2 -> 1Escolar | C2: 1 | D2: Escolar | E2: 4314
B3: =+C3&D3 -> 1Empresarial | C3: 1 | D3: Empresarial | E3: 4314
B4: =+C4&D4 -> 1Salud | C4: 1 | D4: Salud | E4: 4314
B5: =+C5&D5 -> 1Grupo específico de usuarios | C5: 1 | D5: Grupo específico de usuarios | E5: 4314 | G5: |
B6: =+C6&D6 -> 2Escolar | C6: 2 | D6: Escolar | E6: 4314
B7: =+C7&D7 -> 2Empresarial | C7: 2 | D7: Empresarial | E7: 4314
B8: =+C8&D8 -> 2Salud | C8: 2 | D8: Salud | E8: 4314
B9: =+C9&D9 -> 2Grupo específico de usuarios | C9: 2 | D9: Grupo específico de usuarios | E9: 4314
B10: =+C10&D10 -> 3Escolar | C10: 3 | D10: Escolar | E10: 5530
B11: =+C11&D11 -> 3Empresarial | C11: 3 | D11: Empresarial | E11: 5530
B12: =+C12&D12 -> 3Salud | C12: 3 | D12: Salud | E12: 5530
B13: =+C13&D13 -> 3Grupo específico de usuarios | C13: 3 | D13: Grupo específico de usuarios | E13: 5530
B14: =+C14&D14 -> 4Escolar | C14: 4 | D14: Escolar | E14: 4314
B15: =+C15&D15 -> 4Empresarial | C15: 4 | D15: Empresarial | E15: 4314
B16: =+C16&D16 -> 4Salud | C16: 4 | D16: Salud | E16: 4314
B17: =+C17&D17 -> 4Grupo específico de usuarios | C17: 4 | D17: Grupo específico de usuarios | E17: 4314
... B74: =+C74&D74 -> 19Escolar Bogotá | C74: 19 | D74: Escolar Bogotá | E74: 5648

Sheet Inputs
A1: I | B1: PROPIO | C1: PÚBLICO | E1: Uno (1) | F1: A | H1: SEGMENTOS | I1: SEGMENTOS
A2: C | B2: SOCIO | C2: PRIVADO | E2: Dos (2) | F2: B | H2: REGIÓN 1 | I2: SEGMENTO 1 MOBILIARIO ESCOLAR
A3: UT | B3: MATRIZ | E3: Tres (3) | F3: C | H3: REGIÓN 2 | I3: SEGMENTO 2 MOBILIARIO DE COCINA
B4: MATRIZ FILIAL | E4: Cuatro (4) | F4: D | H4: REGIÓN 3 | I4: SEGMENTO 3 RESIDENCIAS ESCOLARES
B5: MATRIZ SUBORDINADA | F5: E | H5: REGIÓN 4 | I5: SEGMENTO 4 MENAJE, UTENSILIOS Y EQUIPO DE OFICINA
H6: REGIÓN 5 | I6: SEGMENTO 5 MOBILIARIO DE OFICINA
H7: REGIÓN 6 | I7: SEGMENTO 6 MOBILIAIRO SED
H8: REGIÓN 7 | I8: SEGMENTO 7 MOBILIARIO PARA ATENCIÓN DE EMERGENCIAS
H9: REGIÓN 8
