Workbook
Name _____________________________________________________TEP44: #N/A
Name _____________________________________________________TEP44: #N/A
Name _____________________________________________________TEP44: #N/A
Name _____________________________________________________TZ216: #N/A
Name _____________________________________________________TZ216: #N/A
Name _____________________________________________________TZ216: #N/A
Name ____________________________________________________ADM4: [1]BASE!$D$120
Name ____________________________________________________ADM4: [2]BASE!$D$120
Name ____________________________________________________AIU1: #REF!
Name ____________________________________________________AIU1: #REF!
Name ____________________________________________________AIU1: #REF!
Name ____________________________________________________TPE1132: #N/A
Name ____________________________________________________TPE1132: #N/A
Name ____________________________________________________TPE1132: #N/A
Name ____________________________________________________TPE12: #REF!
Name ____________________________________________________TPE12: #REF!
Name ____________________________________________________TPE12: #REF!
Name ____________________________________________________TPE1331: #N/A
Name ____________________________________________________TPE1331: #N/A
Name ____________________________________________________TPE1331: #N/A
Name ____________________________________________________TPE1702: #N/A
Name ____________________________________________________TPE1702: #N/A
Name ____________________________________________________TPE1702: #N/A
Name ____________________________________________________TPE1703: #N/A
Name ____________________________________________________TPE1703: #N/A
Name ____________________________________________________TPE1703: #N/A
Name ____________________________________________________TPE1704: #N/A
Name ____________________________________________________TPE1704: #N/A
Name ____________________________________________________TPE1704: #N/A
Name ____________________________________________________TPE1706: #N/A
Name ____________________________________________________TPE1706: #N/A
Name ____________________________________________________TPE1706: #N/A
Name ____________________________________________________TPE1708: #N/A
Name ____________________________________________________TPE1708: #N/A
Name ____________________________________________________TPE1708: #N/A
Name ____________________________________________________TPE1710: #N/A
Name ____________________________________________________TPE1710: #N/A
Name ____________________________________________________TPE1710: #N/A
Name ____________________________________________________TPE1735: #N/A
Name ____________________________________________________TPE1735: #N/A
Name ____________________________________________________TPE1735: #N/A
Name ____________________________________________________TPE1763: #N/A
Name ____________________________________________________TPE1763: #N/A
Name ____________________________________________________TPE1763: #N/A
Name ____________________________________________________TPE1790: #N/A
Name ____________________________________________________TPE1790: #N/A
Name ____________________________________________________TPE1790: #N/A
Name ____________________________________________________TUZ22: '[3]BASE ORIGINAL'!#REF!
Name ____________________________________________________TUZ22: '[3]BASE ORIGINAL'!#REF!
Name ____________________________________________________TUZ22: '[4]BASE ORIGINAL'!#REF!
Name ____________________________________________________TUZ22: '[3]BASE ORIGINAL'!#REF!
Name ____________________________________________________TUZ36: '[3]BASE ORIGINAL'!#REF!
Name ____________________________________________________TUZ36: '[3]BASE ORIGINAL'!#REF!
Name ____________________________________________________TUZ36: '[4]BASE ORIGINAL'!#REF!
Name ____________________________________________________TUZ36: '[3]BASE ORIGINAL'!#REF!
Name ____________________________________________________TZ214: #N/A
Name ____________________________________________________TZ214: #N/A
Name ____________________________________________________TZ214: #N/A
Name ____________________________________________________TZ323: '[3]BASE ORIGINAL'!#REF!
Name ____________________________________________________TZ323: '[3]BASE ORIGINAL'!#REF!

Sheet PPTO
A1: SUMINISTRO, TRANSPORTE, INSTALACIÓN, PUESTA EN FUNCIONAMIENTO Y CAPACITACIÓN PARA LA OPERACIÓN DE SISTEMAS SÉPTICOS INDIVIDUALES PARA EL TRATAMIENTO DE AGUAS RESIDUALES DOMÉSTICAS EN LA ZONA RURAL DEL MUNICIPIO DE ANGELÓPOLIS, EN EL MARCO DEL CONVENIO INTERADMINISTRATIVO NO. 040-COV2509-33 SUSCRITO CON CORANTIOQUIA
A3: SAMC-004-2026 | G3: MUN_ANG
A4: VALOR INICIAL ($162.719.385) | G4: SEG_OBRA_
A5: ITEM | B5: DESCRIPCION | C5: CANTIDADES CONTRACTUALES | G5: CANTIDADES ACUMULADAS
C6: UND | D6: CANTIDAD | E6: VL UNITARIO | F6: VALOR TOTAL
B7: Subtotal instalación | C7: TOTAL | E7: =SUM(F8:F49) -> 21592046 | G7: TOTAL
A8: 1 | B8: Excavación manual en material común y/o suelo rocoso hasta 4 m de profundidad, bajo cualquier grado de humedad | C8: m3 | D8: 99 | E8: 43551.375 | F8: =D8*E8 -> 4311586.1
A9: 1.1 | B9: Excavación en roca a cualquier profundidad | C9: m3 | D9: 0.8 | E9: 228176.86 | F9: =D9*E9 -> 182541.49
A10: 1.2 | B10: Lleno y apisonado de zanjas y apiques con material selecto de la excavación, incluye acarreo interno | C10: m3 | D10: 57.9 | E10: 29034.25 | F10: =D10*E10 -> 1681083.1
A11: 1.3 | B11: Regada de material proveniente de la excavación y conformación del terreno | C11: m3 | D11: 41.1 | E11: 3484.11 | F11: =D11*E11 -> 143196.92
A12: 1.4 | B12: I. Tubería pvc-s de ø2" (50 mm). Efluente+purga. incluye accesorios. | C12: m | D12: 166.5 | E12: 5061.42 | F12: =D12*E12 -> 842726.43
A13: 1.5 | B13: I. Tubería pvc-s de ø3" (75 mm). Incluye accesorios | C13: m | D13: 129 | E13: 6326.775 | F13: =D13*E13 -> 816153.97
A14: 1.6 | B14: I. Tubería pvc-s de ø4" (100 mm). Incluye accesorios | C14: m | D14: 0 | E14: 6326.775 | F14: =D14*E14 -> 0
A15: 1.7 | B15: I. Tubería pvc-s de ø2" (50 mm). Trampa de grasas.Incluye accesorios | C15: m | D15: 96 | E15: 5061.42 | F15: =D15*E15 -> 485896.32
A16: 1.8 | B16: I. De sifón S.R. De 135° en pvc-s ø3" para control de olores (pozo) | C16: un | D16: 15 | E16: 8298.4125 | F16: =D16*E16 -> 124476.19
A17: 1.9 | B17: I. De sifón S.R. De 135° en pvc-s ø3" para control de olores (trampa grasa) | C17: un | D17: 15 | E17: 8298.4125 | F17: =D17*E17 -> 124476.19
A18: 2 | B18: I. De sifón S.R. De 135° en pvc-s ø4" para control de olores | C18: un | D18: 0 | E18: 11064.55 | F18: =D18*E18 -> 0
A19: 2.1 | B19: I. Sistema séptico y FAFA prefabricado en P.R.F.V (Poliéster Reforzado Con Fibra De Vidrio) con capacidad para atender una población entre tres a nueve (3 a 9) habitantes, (incluye: accesorios internos, material filtrante para el FAFA que garanticen un área superficial de contacto ≥ 90m2/m3, tubería de PVC-S ø2" con accesorios y malla mosquitera doble. Volumen de 1,500-1,800 litros. | C19: un | D19: 15 | E19: 566956.25 | F19: =D19*E19 -> 8504343.8
... A49: 5.1 | B49: S.T.I Caja de inspección | C49: un | D49: 0 | E49: 275919.45 | F49: =D49*E49 -> 0
B50: Subtotal suministros | C50: TOTAL | E50: =SUM(F51:F89) -> 1.1197469e+08
A51: 5.3 | B51: S.T. Tubería pvc-s de ø2" (50 mm) incluye accesorios. (ver A.P.U) | C51: m | D51: 166.5 | E51: 43157.043 | F51: =D51*E51 -> 7185647.7
A52: 5.4 | B52: S.T. Tubería pvc-s de ø3" (75 mm). Incluye accesorios (ver A.P.U) | C52: m | D52: 129 | E52: 35769.792 | F52: =D52*E52 -> 4614303.2
A53: 5.5 | B53: S.T. Tubería pvc-s de ø4" (100 mm). Incluye accesorios (ver A.P.U) | C53: m | D53: 0 | E53: 46954.374 | F53: =D53*E53 -> 0
A54: 5.6 | B54: S.T. Tubería pvc-s de ø2" (50 mm). Trampa de grasa. Incluye accesorios | C54: m | D54: 96 | E54: 26674.057 | F54: =D54*E54 -> 2560709.4
A55: 5.7 | B55: S.T. De sifón s.r. De 135° en pvc-s ø3" para control de olores (ver A.P.U) (pozo) | C55: un | D55: 15 | E55: 48964.829 | F55: =D55*E55 -> 734472.44
A56: 5.8 | B56: S.T. De sifón s.r. De 135° en pvc-s ø3" para control de olores (ver A.P.U) (trampa grasa) | C56: un | D56: 15 | E56: 48964.829 | F56: =D56*E56 -> 734472.44
A57: 5.9 | B57: S.T. De sifón s.r. De 135° en pvc-s ø4" para control de olores (ver A.P.U) | C57: un | D57: 0 | E57: 91315.927 | F57: =D57*E57 -> 0
A58: 6 | B58: S.T. Sistema séptico y FAFA prefabricado en P.R.F.V (Poliéster Reforzado Con Fibra De Vidrio) con capacidad para atender una población entre 3 a nueve (3 a 9) habitantes, (incluye: accesorios internos, material filtrante para el FAFA que garanticen un área superficial de contacto ≥ 90m2/m3, tubería de PVC-S ø2" con accesorios y malla mosquitera doble. Volumen de 1,500-1,800 litros. | C58: un | D58: 15 | E58: 4284983.7 | F58: =D58*E58 -> 64274756
A59: 6.1 | B59: S.T trampa de grasas prefabricada en P.R.F.V (Poliéster Reforzado con Fibra De Vidrio) con capacidad para atender una población de tres a nueve (3 a 9) habitantes | C59: un | D59: 15 | E59: 842599.2 | F59: =D59*E59 -> 12638988
A60: 6.2 | B60: S.T. Sistema séptico y FAFA prefabricado en P.R.F.V (Poliéster Reforzado Con Fibra De Vidrio) con capacidad para atender una población de diez a quince (10 a 15) habitantes, (incluye: accesorios internos, material filtrante para el FAFA que garanticen un área superficial de contacto ≥ 90m2/m3, tubería de PVC-S ø2" con accesorios y malla mosquitera doble. Volumen de 2,300-2,500 litros. | C60: un | D60: 0 | E60: 5486288.7 | F60: =D60*E60 -> 0
A61: 6.3 | B61: S.T trampa de grasas prefabricado en P.R.F.V(Poliéster Reforzado con Fibra De Vidrio) con capacidad para atender una población de diez a quince (10 a 15) habitantes | C61: un | D61: 0 | E61: 1057862.3 | F61: =D61*E61 -> 0
A62: 6.4 | B62: S.T. Sistema séptico y FAFA prefabricado en P.R.F.V (Poliéster Reforzado Con Fibra De Vidrio) con capacidad para atender una población de dieciséis a veinte (16 a 20) habitantes, (incluye: accesorios internos, material filtrante para el FAFA que garanticen un área superficial de contacto ≥ 90m2/m3, tubería de PVC-S ø2" con accesorios y malla mosquitera doble. Volumen de 3,000-3,300 litros. | C62: un | D62: 0 | E62: 7005383.2 | F62: =D62*E62 -> 0
... A89: 9.1 | B89: S.T.I Caja de inspección | C89: un | D89: 0 | E89: 184604.83 | F89: =D89*E89 -> 0
A90: SUBTOTAL COSTOS DIRECTOS + MANO DE OBRA NO CALIFICADA | E90: =E7+E50 -> 1.3356674e+08
A91: IVA EXCLUIBLE | E91: =E90*12.6948838280482% -> 16956142
A92: TOTAL COSTOS DIRECTOS SIN IVA EXCLUIBLE | E92: =E90-E91 -> 1.1661059e+08
A93: AU | D93: ='Vr. A.U.'!K54 -> 0.21737828 | E93: ='Vr. A.U.'!J54 -> 29034507
A94: SUBTOTAL ( Costos Directos) CON IVA EXCLUIBLE | E94: =E90+E93 -> 1.6260124e+08
A95: APORTES EN DINERO CORANTIOQUIA | E95: 1.4771939e+08
A96: APORTES EN DINERO CORANTIOQUIA SIN IVA EXCLUIBLE | E96: 1.3076324e+08
...

Sheet Vr. A.U.
F3: DISCRIMINACION DE LOS COSTOS DE ADMINISTRACION, LOS IMPREVISTOS Y LA UTILIDAD
C5: COSTO DIRECTO SIN IVA EXCLUIBLE | G5: PLAZO | I5: ANTICIPO SOLICITADO
C6: =PPTO!E90 -> 1.3356674e+08 | G6: 4 | I6: 0 | J6: =+C6*I6 -> 0
C8: Descripción | D8: Unidad | E8: Cantidad | F8: Duracion | G8: Dedicacion | H8: Valor Unitario | I8: S. Social | J8: Valor Total | K8: %
B10: 1. | C10: Personal de obra | J10: =SUM(J11:J17) -> 2389572 | K10: =+J10/$C$6 -> 0.017890472
B11: 1.1 | C11: Director de obra | D11: Mes | E11: 0 | F11: 4 | G11: 0.51627714 | H11: 7493940 | J11: =F11*E11*G11*H11*(1+I11) -> 0 | K11: =+J11/$C$6 -> 0
B12: 1.2 | C12: Residente(s) de obra | D12: Mes | E12: 1 | F12: 3 | G12: 0.14732172 | H12: 5406697.5 | J12: =F12*E12*G12*H12*(1+I12) -> 2389572 | K12: =+J12/$C$6 -> 0.017890472
B13: 1.3 | C13: Ingeniero ambiental / SST | D13: Mes | E13: 0 | F13: 0 | G13: 1 | H13: 4500000 | J13: =F13*E13*G13*H13*(1+I13) -> 0 | K13: =+J13/$C$6 -> 0
B15: 1.8 | C15: Almacenista(s) | D15: Mes | E15: 0 | F15: =+$G$6 -> 4 | G15: 1 | H15: 1100000 | I15: =+'[76]IV. MANO DE OBRA'!$G$15 -> 0.6929 | J15: =F15*E15*G15*H15*(1+I15) -> 0 | K15: =+J15/$C$6 -> 0
B16: 1.9 | C16: Vigilante(s) | D16: Mes | F16: =+$G$6 -> 4 | G16: 1 | H16: 750000 | I16: =+'[76]IV. MANO DE OBRA'!$G$15 -> 0.6929 | J16: =F16*E16*G16*H16*(1+I16) -> 0 | K16: =+J16/$C$6 -> 0
B18: 2. | C18: Costos de servicios públicos y telecomunicaciones | J18: =SUM(J19:J20) -> 552000 | K18: =+J18/$C$6 -> 0.0041327655
B19: 2.2 | C19: Servicios publicos | D19: Mes | E19: 1 | F19: 2 | G19: 1 | H19: 150000 | J19: =+F19*E19*G19*H19 -> 300000 | K19: =+J19/$C$6 -> 0.0022460682
B20: 2.2 | C20: Comunicaciones | D20: Mes | E20: 1 | F20: 2 | G20: 1 | H20: 126000 | J20: =+F20*E20*G20*H20 -> 252000 | K20: =+J20/$C$6 -> 0.0018866973
B21: 3. | C21: Costos de dotación campamento e instalaciones provisionales | J21: =SUM(J22:J22) -> 0 | K21: =+J21/$C$6 -> 0
B22: 3.1 | C22: Campamento/oficinas/almacén | D22: glb | E22: 0 | F22: 4 | G22: 1 | H22: 550000 | J22: =+F22*E22*G22*H22 -> 0 | K22: =+J22/$C$6 -> 0
B23: 4. | C23: Otros gastos generales | J23: =SUM(J24:J27) -> 0 | K23: =SUM(K24:K27) -> 0
B24: 4.1 | C24: Viaticos personal profesional | D24: mes | E24: 0 | F24: 4 | G24: 1 | H24: 1300000 | J24: =+F24*E24*G24*H24 -> 0 | K24: =+J24/$C$6 -> 0
B25: 4.2 | C25: Papelería, planos, permisos e insumos oficina | D25: mes | E25: 0 | F25: 4 | G25: 1 | H25: 200000 | J25: =+F25*E25*G25*H25 -> 0 | K25: =+J25/$C$6 -> 0
B26: 4.3 | C26: Valla informativa | D26: un | E26: 0 | F26: 1 | G26: 1 | H26: 1800000 | J26: =+F26*E26*G26*H26 -> 0 | K26: =+J26/$C$6 -> 0
B27: 4.4 | C27: Dotacion EPPS | D27: un | E27: 0 | F27: 1 | G27: 1 | H27: =+[76]EPPS!G14 -> 476745.36 | J27: =+F27*E27*G27*H27 -> 0 | K27: =+J27/$C$6 -> 0
B28: 5. | C28: Garantias y gastos de legalizacion | J28: =SUM(J30:J36) -> 715255.09 | K28: =+J28/$C$6 -> 0.0053550391
C29: Tipo de Garantia | F29: Valores Asegurados | H29: Cobertura | I29: Tasa | J29: Prima (Incluido IVA)
B30: 5.1 | C30: Cumplimiento | E30: 0.2 | G30: =+E30*$C$6 -> 26713347 | H30: =$G$6*30+(6*30) -> 300 | I30: 0.003 | J30: =+H30/365*(G30*I30)*(1+16%) -> 76407.492 | K30: =+J30/$C$6 -> 0.00057205479
B31: 5.2 | C31: Buen Manejo y Correcta Inversión del Anticipo | E31: 100% del anticipo | G31: =100%*J6 -> 0 | H31: =$G$6*30+(6*30) -> 300 | I31: 0.002 | J31: =+H31/365*(G31*I31)*(1+16%) -> 0 | K31: =+J31/$C$6 -> 0
B32: 5.3 | C32: Salarios y Prestaciones Sociales | E32: 0.1 | G32: =+E32*$C$6 -> 13356674 | H32: =$G$6*30+(3*360) -> 1200 | I32: 0.002 | J32: =+H32/365*(G32*I32)*(1+16%) -> 101876.66 | K32: =+J32/$C$6 -> 0.00076273973
B33: 5.4 | C33: Estabilidad y Calidad de la Obras | E33: 0.2 | G33: =+E33*$C$6 -> 26713347 | H33: =$G$6*30+(5*360) -> 1920 | I33: 0.003 | J33: =+H33/365*(G33*I33)*(1+16%) -> 489007.95 | K33: =+J33/$C$6 -> 0.0036611507
B34: 5.5 | C34: Responsabilidad Civil | E34: 0.2 | G34: =+E34*$C$6 -> 26713347 | H34: =$G$6*30 -> 120 | I34: 0.003 | J34: =+H34/365*(G34*I34)*(1+16%) -> 30562.997 | K34: =+J34/$C$6 -> 0.00022882192
B35: 5.6 | C35: Todo Riesgo en Construcción | E35: * | G35: * | H35: * | I35: * | J35: =+IFERROR(H35/365*(G35*I35)*(1+16%),0) -> 0 | K35: =+J35/$C$6 -> 0
B36: 5.7 | C36: Gastos de expedición | J36: =15000*(1+16%) -> 17400 | K36: =+J36/$C$6 -> 0.00013027196
C37: *Debido al riesgo moderado para la comunidad, no se considera necesario tener en cuenta la póliza Todo Riesgo en Construcción.
B38: 6. | C38: Costos de impuestos o carga impositiva | J38: =SUM(J39:J44) -> 20035010 | K38: =+J38/$C$6 -> 0.15
B39: 6.1 | C39: CONTRATO OBRA PUBLICA - RETENCION EN LA FUENTE POR RENTA | D39: % | E39: 1 | G39: 0.02 | J39: =G39*$C$6 -> 2671334.7 | K39: =+J39/$C$6 -> 0.02
B40: 6.2 | C40: IMPUESTO DE SEGURIDAD - FONSET | D40: % | E40: 1 | G40: 0.05 | J40: =G40*$C$6 -> 6678336.8 | K40: =+J40/$C$6 -> 0.05
B41: 6.3 | C41: INDUSTRIA Y COMERCIO | D41: % | E41: 1 | G41: 0.01 | J41: =G41*$C$6 -> 1335667.4 | K41: =+J41/$C$6 -> 0.01
B42: 6.4 | C42: ESTAMPILLA PRO ADULTO MAYOR | D42: % | E42: 1 | G42: 0.04 | J42: =G42*$C$6 -> 5342669.5 | K42: =+J42/$C$6 -> 0.04
B43: 6.5 | C43: ESTAMPILLA PRO HOSPITAL | D43: % | E43: 1 | G43: 0.01 | J43: =G43*$C$6 -> 1335667.4 | K43: =+J43/$C$6 -> 0.01
B44: 6.6 | C44: TASA PRO RECREACION Y DEPORTE | D44: % | E44: 1 | G44: 0.02 | J44: =G44*$C$6 -> 2671334.7 | K44: =+J44/$C$6 -> 0.02
B45: 6.7 | C45: ESTAMPILLA PRO CULTURA | D45: % | E45: 1 | G45: 0.01 | J45: =G45*$C$6 -> 1335667.4 | K45: =+J45/$C$6 -> 0.01
B46: 6.8 | C46: ESTAMPILLA PRO JUSTICIA FAMILIAR | D46: % | E46: 1 | G46: 0.02 | J46: =G46*$C$6 -> 2671334.7 | K46: =+J46/$C$6 -> 0.02
C48: ADMINISTRACION | J48: =SUM(J10,J18,J21,J23,J28,J38) -> 23691838 | K48: =SUM(K38+K28+K23+K21+K18+K10) -> 0.17737828
...

Sheet  BENEFICIARIOS
A1: LISTADO DE USUARIOS BENEFICIARIOS SEGÚN LA INFORMACIÓN REPORTADA EN LAS "FICHAS DE ASIGNACIÓN Y UBICACIÓN DE TANQUES SÉPTICOS" - (AUNAR ESFUERZOS AUNAR ESFUERZOS PARA CONTRIBUÍR AL SANEAMIENTO HÍDRICO RURAL EN MUNICIPIOS DE LA JURISDICCIÓN DE CORANTIQOUIA 2018)
P2: OCULTAR
A3: FICHA No. | B3: Usuario | C3: Municipio | D3: Vereda / Resguardo Indígena | E3: No. de viviendas beneficiadas | F3: No personas atendidas | G3: Fuente Hídrica mas cercana | H3: Vivienda? SI/NO | I3: Distancia Horizontal Vivienda - T. Séptico (3") en metros lineales | J3: Distancia Horizontal vivienda aTrampa de grasa y trampa de grasas al postratamiento (2") (metros lineales) | K3: Distancia Horizontal T.Séptico-Sitio descarga (m) | L3: Disposición Efluente en Pozo de Absorción | M3: SITIIO DE DESCARGA | N3: Distancia Municipio - Vereda (Km) | P3: CAPACIDAD DE LOS SISTEMAS SEGÚN POBLACIÓN (P) | Y3: Distancia Horizontal Vivienda - T. Séptico (3") en metros lineales | AH3: Distancia Horizontal vivienda aTrampa de grasa y trampa de grasas al postratamiento (2") (metros lineales) | AQ3: Distancia Horizontal T. Séptico - Fuente (m) | AZ3: Distancia Horizontal T. Séptico - Pozo de Absorcion (m) | BJ3: Futuro Sitio de descarga | BL3: DISPOSICIÓN EFLUENTE | BU3: CAPACIDAD TRAMPA DE GRASAS PARA VIVIENDAS | BW3: CAPACIDAD TRAMPA DE GRASAS PARA MULTIUSOS
P4: 3≤ 9 PERS. | Q4: 10<P≤15 | R4: 16<P≤20 | S4: 21<P≤30 | T4: 31<P≤40 | U4: 41<P≤50 | V4: 51<P≤70 | W4: 71<P≤90 | Y4: 3≤ 9 PERS. | Z4: 10<P≤15 | AA4: 16<P≤20 | AB4: 21<P≤30 | AC4: 31<P≤40 | AD4: 41<P≤50 | AE4: 51<P≤70 | AF4: 71<P≤90 | AH4: 3≤ 9 PERS. | AI4: 10<P≤15 | AJ4: 16<P≤20 | AK4: 21<P≤30 | AL4: 31<P≤40 | AM4: 41<P≤50 | AN4: 51<P≤70 | AO4: 71<P≤90 | AQ4: 3≤ 9 PERS. | AR4: 10<P≤15 | AS4: 16<P≤20 | AT4: 21<P≤30 | AU4: 31<P≤40 | AV4: 41<P≤50 | AW4: 51<P≤70 | AX4: 71<P≤90 | AZ4: 3≤ 9 PERS. | BA4: 10<P≤15 | BB4: 16<P≤20 | BC4: 21<P≤30 | BD4: 31<P≤40 | BE4: 41<P≤50 | BF4: 51<P≤70 | BG4: 71<P≤90 | BL4: 3≤ 9 PERS. | BM4: 10<P≤15 | BN4: 16<P≤20 | BO4: 21<P≤30 | BP4: 31<P≤40 | BQ4: 41<P≤50 | BR4: 51<P≤70 | BS4: 71<P≤90 | BU4: 3≤ 9 PERS. | BW4: 3≤ 9 PERS. | BX4: 10<P≤15 | BY4: 16<P≤20 | BZ4: 21<P≤30 | CA4: 31<P≤40 | CB4: 41<P≤50 | CC4: 51<P≤70 | CD4: 71<P≤90
P5: 1500-1800 | Q5: 2300-2500 | R5: 3000-3300 | S5: 4500-5000 | T5: 6000-6500 | U5: 7500-8000 | V5: 10000-12000 | W5: >12500 | Y5: 1500-1800 | Z5: 2300-2500 | AA5: 3000-3300 | AB5: 4500-5000 | AC5: 6000-6500 | AD5: 7500-8000 | AE5: 10000-12000 | AF5: >12500 | AH5: 1500-1800 | AI5: 2300-2500 | AJ5: 3000-3300 | AK5: 4500-5000 | AL5: 6000-6500 | AM5: 7500-8000 | AN5: 10000-12000 | AO5: >12500 | AQ5: 1500-1800 | AR5: 2300-2500 | AS5: 3000-3300 | AT5: 4500-5000 | AU5: 6000-6500 | AV5: 7500-8000 | AW5: 10000-12000 | AX5: >12500 | AZ5: 1500-1800 | BA5: 2300-2500 | BB5: 3000-3300 | BC5: 4500-5000 | BD5: 6000-6500 | BE5: 7500-8000 | BF5: 10000-12000 | BG5: >12500 | BJ5: F = Fuente P = Pozo | BL5: 1500-1800 | BM5: 2300-2500 | BN5: 3000-3300 | BO5: 4500-5000 | BP5: 6000-6500 | BQ5: 7500-8000 | BR5: 10000-12000 | BS5: >12500 | BU5: 1500-1800 | BW5: 1500-1800 | BX5: 2300-2500 | BY5: 3000-3300 | BZ5: 4500-5000 | CA5: 6000-6500 | CB5: 7500-8000 | CC5: 10000-12000 | CD5: >12500
A6: 1 | B6: juan esteban mejia marin | C6: Angelópolis | D6: cascajala | E6: 1 | F6: 3 | G6: N/A | H6: SI | I6: 9 | J6: 5 | K6: 8 | L6: SI | M6: =+IF(L6="","ERROR",IF(L6="SI","SUELO","FUENTE")) -> SUELO | N6: 15 | P6: =IF(F6<10,IF(F6>=1,"X",""),"") -> X | Q6: =IF(F6>=10,IF(F6<=15,"X",""),"") | R6: =IF(F6>15,IF(F6<=20,"X",""),"") | S6: =IF(F6>20,IF(F6<=30,"X",""),"") | T6: =IF(F6>30,IF(F6<=40,"X",""),"") | U6: =IF(F6>40,IF(F6<=50,"X",""),"") | V6: =IF(F6>50,IF(F6<=70,"X",""),"") | W6: =IF(F6>70,IF(F6<=100,"X",""),"") | Y6: =IF(P6="X",$I6,"") -> 9 | Z6: =IF(Q6="X",$I6,"") | AA6: =IF(R6="X",$I6,"") | AB6: =IF(S6="X",$I6,"") | AC6: =IF(T6="X",$I6,"") | AD6: =IF(U6="X",$I6,"") | AE6: =IF(V6="X",$I6,"") | AF6: =IF(W6="X",$I6,"") | AH6: =IF(P6="X",$J6,"") -> 5 | AI6: =IF(Q6="X",$J6,"") | AJ6: =IF(R6="X",$J6,"") | AK6: =IF(S6="X",$J6,"") | AL6: =IF(T6="X",$J6,"") | AM6: =IF(U6="X",$J6,"") | AN6: =IF(V6="X",$J6,"") | AO6: =IF(W6="X",$J6,"") | AQ6: =IF(AND(P6="X",$BJ6="F"),$K6,"") | AR6: =IF(AND(Q6="X",$BJ6="F"),$K6,"") | AS6: =IF(AND(R6="X",$BJ6="F"),$K6,"") | AT6: =IF(AND(S6="X",$BJ6="F"),$K6,"") | AU6: =IF(AND(T6="X",$BJ6="F"),$K6,"") | AV6: =IF(AND(U6="X",$BJ6="F"),$K6,"") | AW6: =IF(AND(V6="X",$BJ6="F"),$K6,"") | AX6: =IF(AND(W6="X",$BJ6="F"),$K6,"") | AZ6: =IF(AND(P6="X",$BJ6="P"),$K6,"") -> 8 | BA6: =IF(AND(Q6="X",$BJ6="P"),$K6,"") | BB6: =IF(AND(R6="X",$BJ6="P"),$K6,"") | BC6: =IF(AND(S6="X",$BJ6="P"),$K6,"") | BD6: =IF(AND(T6="X",$BJ6="P"),$K6,"") | BE6: =IF(AND(U6="X",$BJ6="P"),$K6,"") | BF6: =IF(AND(V6="X",$BJ6="P"),$K6,"") | BG6: =IF(AND(W6="X",$BJ6="P"),$K6,"") | BJ6: =IF(L6="","",IF(L6="SI","P","F")) -> P | BL6: =IF(P6="X",$BJ6,"") -> P | BM6: =IF(Q6="X",$BJ6,"") | BN6: =IF(R6="X",$BJ6,"") | BO6: =IF(S6="X",$BJ6,"") | BP6: =IF(T6="X",$BJ6,"") | BQ6: =IF(U6="X",$BJ6,"") | BR6: =IF(V6="X",$BJ6,"") | BS6: =IF(W6="X",$BJ6,"") | BU6: =IF(H6="SI",E6,"") -> 1 | BW6: =IF(H6="SI",IF(F6<=9,"X",""),"") -> X | BX6: =IF(H6="SI",IF(F6>=10,IF(F6<=15,"X",""),"")) | BY6: =IF(H6="SI",IF(F6>=16,IF(F6<=20,"X",""),"")) | BZ6: =IF(H6="SI",IF(F6>=21,IF(F6<=30,"X",""),"")) | CA6: =IF(H6="SI",IF(F6>=31,IF(F6<=40,"X",""),"")) | CB6: =IF(H6="SI",IF(F6>=41,IF(F6<=50,"X",""),"")) | CC6: =IF(H6="SI",IF(F6>=51,IF(F6<=70,"X",""),"")) | CD6: =IF(H6="SI",IF(F6>=71,IF(F6<=90,"X",""),""))
A7: 2 | B7: luz helena salgado mejia | C7: =C6 -> Angelópolis | D7: cascajala | E7: 1 | F7: 3 | G7: N/A | H7: SI | I7: 8 | J7: 5 | K7: 7 | L7: SI | M7: =+IF(L7="","ERROR",IF(L7="SI","SUELO","FUENTE")) -> SUELO | N7: 16 | P7: =IF(F7<10,IF(F7>=1,"X",""),"") -> X | Q7: =IF(F7>=10,IF(F7<=15,"X",""),"") | R7: =IF(F7>15,IF(F7<=20,"X",""),"") | S7: =IF(F7>20,IF(F7<=30,"X",""),"") | T7: =IF(F7>30,IF(F7<=40,"X",""),"") | U7: =IF(F7>40,IF(F7<=50,"X",""),"") | V7: =IF(F7>50,IF(F7<=70,"X",""),"") | W7: =IF(F7>70,IF(F7<=100,"X",""),"") | Y7: =IF(P7="X",$I7,"") -> 8 | Z7: =IF(Q7="X",$I7,"") | AA7: =IF(R7="X",$I7,"") | AB7: =IF(S7="X",$I7,"") | AC7: =IF(T7="X",$I7,"") | AD7: =IF(U7="X",$I7,"") | AE7: =IF(V7="X",$I7,"") | AF7: =IF(W7="X",$I7,"") | AH7: =IF(P7="X",$J7,"") -> 5 | AI7: =IF(Q7="X",$J7,"") | AJ7: =IF(R7="X",$J7,"") | AK7: =IF(S7="X",$J7,"") | AL7: =IF(T7="X",$J7,"") | AM7: =IF(U7="X",$J7,"") | AN7: =IF(V7="X",$J7,"") | AO7: =IF(W7="X",$J7,"") | AQ7: =IF(AND(P7="X",$BJ7="F"),$K7,"") | AR7: =IF(AND(Q7="X",$BJ7="F"),$K7,"") | AS7: =IF(AND(R7="X",$BJ7="F"),$K7,"") | AT7: =IF(AND(S7="X",$BJ7="F"),$K7,"") | AU7: =IF(AND(T7="X",$BJ7="F"),$K7,"") | AV7: =IF(AND(U7="X",$BJ7="F"),$K7,"") | AW7: =IF(AND(V7="X",$BJ7="F"),$K7,"") | AX7: =IF(AND(W7="X",$BJ7="F"),$K7,"") | AZ7: =IF(AND(P7="X",$BJ7="P"),$K7,"") -> 7 | BA7: =IF(AND(Q7="X",$BJ7="P"),$K7,"") | BB7: =IF(AND(R7="X",$BJ7="P"),$K7,"") | BC7: =IF(AND(S7="X",$BJ7="P"),$K7,"") | BD7: =IF(AND(T7="X",$BJ7="P"),$K7,"") | BE7: =IF(AND(U7="X",$BJ7="P"),$K7,"") | BF7: =IF(AND(V7="X",$BJ7="P"),$K7,"") | BG7: =IF(AND(W7="X",$BJ7="P"),$K7,"") | BJ7: =IF(L7="","",IF(L7="SI","P","F")) -> P | BL7: =IF(P7="X",$BJ7,"") -> P | BM7: =IF(Q7="X",$BJ7,"") | BN7: =IF(R7="X",$BJ7,"") | BO7: =IF(S7="X",$BJ7,"") | BP7: =IF(T7="X",$BJ7,"") | BQ7: =IF(U7="X",$BJ7,"") | BR7: =IF(V7="X",$BJ7,"") | BS7: =IF(W7="X",$BJ7,"") | BU7: =IF(H7="SI",E7,"") -> 1 | BW7: =IF(H7="SI",IF(F7<=9,"X",""),"") -> X | BX7: =IF(H7="SI",IF(F7>=10,IF(F7<=15,"X",""),"")) | BY7: =IF(H7="SI",IF(F7>=16,IF(F7<=20,"X",""),"")) | BZ7: =IF(H7="SI",IF(F7>=21,IF(F7<=30,"X",""),"")) | CA7: =IF(H7="SI",IF(F7>=31,IF(F7<=40,"X",""),"")) | CB7: =IF(H7="SI",IF(F7>=41,IF(F7<=50,"X",""),"")) | CC7: =IF(H7="SI",IF(F7>=51,IF(F7<=70,"X",""),"")) | CD7: =IF(H7="SI",IF(F7>=71,IF(F7<=90,"X",""),""))
A8: 3 | B8: victor hugo parra posada | C8: =C7 -> Angelópolis | D8: cienaguita | E8: 1 | F8: 3 | G8: N/A | H8: SI | I8: 5 | J8: 5 | K8: 4 | L8: SI | M8: =+IF(L8="","ERROR",IF(L8="SI","SUELO","FUENTE")) -> SUELO | N8: 5 | P8: =IF(F8<10,IF(F8>=1,"X",""),"") -> X | Q8: =IF(F8>=10,IF(F8<=15,"X",""),"") | R8: =IF(F8>15,IF(F8<=20,"X",""),"") | S8: =IF(F8>20,IF(F8<=30,"X",""),"") | T8: =IF(F8>30,IF(F8<=40,"X",""),"") | U8: =IF(F8>40,IF(F8<=50,"X",""),"") | V8: =IF(F8>50,IF(F8<=70,"X",""),"") | W8: =IF(F8>70,IF(F8<=100,"X",""),"") | Y8: =IF(P8="X",$I8,"") -> 5 | Z8: =IF(Q8="X",$I8,"") | AA8: =IF(R8="X",$I8,"") | AB8: =IF(S8="X",$I8,"") | AC8: =IF(T8="X",$I8,"") | AD8: =IF(U8="X",$I8,"") | AE8: =IF(V8="X",$I8,"") | AF8: =IF(W8="X",$I8,"") | AH8: =IF(P8="X",$J8,"") -> 5 | AI8: =IF(Q8="X",$J8,"") | AJ8: =IF(R8="X",$J8,"") | AK8: =IF(S8="X",$J8,"") | AL8: =IF(T8="X",$J8,"") | AM8: =IF(U8="X",$J8,"") | AN8: =IF(V8="X",$J8,"") | AO8: =IF(W8="X",$J8,"") | AQ8: =IF(AND(P8="X",$BJ8="F"),$K8,"") | AR8: =IF(AND(Q8="X",$BJ8="F"),$K8,"") | AS8: =IF(AND(R8="X",$BJ8="F"),$K8,"") | AT8: =IF(AND(S8="X",$BJ8="F"),$K8,"") | AU8: =IF(AND(T8="X",$BJ8="F"),$K8,"") | AV8: =IF(AND(U8="X",$BJ8="F"),$K8,"") | AW8: =IF(AND(V8="X",$BJ8="F"),$K8,"") | AX8: =IF(AND(W8="X",$BJ8="F"),$K8,"") | AZ8: =IF(AND(P8="X",$BJ8="P"),$K8,"") -> 4 | BA8: =IF(AND(Q8="X",$BJ8="P"),$K8,"") | BB8: =IF(AND(R8="X",$BJ8="P"),$K8,"") | BC8: =IF(AND(S8="X",$BJ8="P"),$K8,"") | BD8: =IF(AND(T8="X",$BJ8="P"),$K8,"") | BE8: =IF(AND(U8="X",$BJ8="P"),$K8,"") | BF8: =IF(AND(V8="X",$BJ8="P"),$K8,"") | BG8: =IF(AND(W8="X",$BJ8="P"),$K8,"") | BJ8: =IF(L8="","",IF(L8="SI","P","F")) -> P | BL8: =IF(P8="X",$BJ8,"") -> P | BM8: =IF(Q8="X",$BJ8,"") | BN8: =IF(R8="X",$BJ8,"") | BO8: =IF(S8="X",$BJ8,"") | BP8: =IF(T8="X",$BJ8,"") | BQ8: =IF(U8="X",$BJ8,"") | BR8: =IF(V8="X",$BJ8,"") | BS8: =IF(W8="X",$BJ8,"") | BU8: =IF(H8="SI",E8,"") -> 1 | BW8: =IF(H8="SI",IF(F8<=9,"X",""),"") -> X | BX8: =IF(H8="SI",IF(F8>=10,IF(F8<=15,"X",""),"")) | BY8: =IF(H8="SI",IF(F8>=16,IF(F8<=20,"X",""),"")) | BZ8: =IF(H8="SI",IF(F8>=21,IF(F8<=30,"X",""),"")) | CA8: =IF(H8="SI",IF(F8>=31,IF(F8<=40,"X",""),"")) | CB8: =IF(H8="SI",IF(F8>=41,IF(F8<=50,"X",""),"")) | CC8: =IF(H8="SI",IF(F8>=51,IF(F8<=70,"X",""),"")) | CD8: =IF(H8="SI",IF(F8>=71,IF(F8<=90,"X",""),""))
A9: 4 | B9: leidy yuliet ortiz colorado | C9: =C8 -> Angelópolis | D9: barro | E9: 1 | F9: 3 | G9: N/A | H9: SI | I9: 7 | J9: 8 | K9: 8.5 | L9: SI | M9: =+IF(L9="","ERROR",IF(L9="SI","SUELO","FUENTE")) -> SUELO | N9: 13 | P9: =IF(F9<10,IF(F9>=1,"X",""),"") -> X | Q9: =IF(F9>=10,IF(F9<=15,"X",""),"") | R9: =IF(F9>15,IF(F9<=20,"X",""),"") | S9: =IF(F9>20,IF(F9<=30,"X",""),"") | T9: =IF(F9>30,IF(F9<=40,"X",""),"") | U9: =IF(F9>40,IF(F9<=50,"X",""),"") | V9: =IF(F9>50,IF(F9<=70,"X",""),"") | W9: =IF(F9>70,IF(F9<=100,"X",""),"") | Y9: =IF(P9="X",$I9,"") -> 7 | Z9: =IF(Q9="X",$I9,"") | AA9: =IF(R9="X",$I9,"") | AB9: =IF(S9="X",$I9,"") | AC9: =IF(T9="X",$I9,"") | AD9: =IF(U9="X",$I9,"") | AE9: =IF(V9="X",$I9,"") | AF9: =IF(W9="X",$I9,"") | AH9: =IF(P9="X",$J9,"") -> 8 | AI9: =IF(Q9="X",$J9,"") | AJ9: =IF(R9="X",$J9,"") | AK9: =IF(S9="X",$J9,"") | AL9: =IF(T9="X",$J9,"") | AM9: =IF(U9="X",$J9,"") | AN9: =IF(V9="X",$J9,"") | AO9: =IF(W9="X",$J9,"") | AQ9: =IF(AND(P9="X",$BJ9="F"),$K9,"") | AR9: =IF(AND(Q9="X",$BJ9="F"),$K9,"") | AS9: =IF(AND(R9="X",$BJ9="F"),$K9,"") | AT9: =IF(AND(S9="X",$BJ9="F"),$K9,"") | AU9: =IF(AND(T9="X",$BJ9="F"),$K9,"") | AV9: =IF(AND(U9="X",$BJ9="F"),$K9,"") | AW9: =IF(AND(V9="X",$BJ9="F"),$K9,"") | AX9: =IF(AND(W9="X",$BJ9="F"),$K9,"") | AZ9: =IF(AND(P9="X",$BJ9="P"),$K9,"") -> 8.5 | BA9: =IF(AND(Q9="X",$BJ9="P"),$K9,"") | BB9: =IF(AND(R9="X",$BJ9="P"),$K9,"") | BC9: =IF(AND(S9="X",$BJ9="P"),$K9,"") | BD9: =IF(AND(T9="X",$BJ9="P"),$K9,"") | BE9: =IF(AND(U9="X",$BJ9="P"),$K9,"") | BF9: =IF(AND(V9="X",$BJ9="P"),$K9,"") | BG9: =IF(AND(W9="X",$BJ9="P"),$K9,"") | BJ9: =IF(L9="","",IF(L9="SI","P","F")) -> P | BL9: =IF(P9="X",$BJ9,"") -> P | BM9: =IF(Q9="X",$BJ9,"") | BN9: =IF(R9="X",$BJ9,"") | BO9: =IF(S9="X",$BJ9,"") | BP9: =IF(T9="X",$BJ9,"") | BQ9: =IF(U9="X",$BJ9,"") | BR9: =IF(V9="X",$BJ9,"") | BS9: =IF(W9="X",$BJ9,"") | BU9: =IF(H9="SI",E9,"") -> 1 | BW9: =IF(H9="SI",IF(F9<=9,"X",""),"") -> X | BX9: =IF(H9="SI",IF(F9>=10,IF(F9<=15,"X",""),"")) | BY9: =IF(H9="SI",IF(F9>=16,IF(F9<=20,"X",""),"")) | BZ9: =IF(H9="SI",IF(F9>=21,IF(F9<=30,"X",""),"")) | CA9: =IF(H9="SI",IF(F9>=31,IF(F9<=40,"X",""),"")) | CB9: =IF(H9="SI",IF(F9>=41,IF(F9<=50,"X",""),"")) | CC9: =IF(H9="SI",IF(F9>=51,IF(F9<=70,"X",""),"")) | CD9: =IF(H9="SI",IF(F9>=71,IF(F9<=90,"X",""),""))
A10: 5 | B10: francisco luis ortiz betancur | C10: =C9 -> Angelópolis | D10: barro | E10: 1 | F10: 4 | G10: N/A | H10: SI | I10: 8 | J10: 5 | K10: 9 | L10: SI | M10: =+IF(L10="","ERROR",IF(L10="SI","SUELO","FUENTE")) -> SUELO | N10: 13 | P10: =IF(F10<10,IF(F10>=1,"X",""),"") -> X | Q10: =IF(F10>=10,IF(F10<=15,"X",""),"") | R10: =IF(F10>15,IF(F10<=20,"X",""),"") | S10: =IF(F10>20,IF(F10<=30,"X",""),"") | T10: =IF(F10>30,IF(F10<=40,"X",""),"") | U10: =IF(F10>40,IF(F10<=50,"X",""),"") | V10: =IF(F10>50,IF(F10<=70,"X",""),"") | W10: =IF(F10>70,IF(F10<=100,"X",""),"") | Y10: =IF(P10="X",$I10,"") -> 8 | Z10: =IF(Q10="X",$I10,"") | AA10: =IF(R10="X",$I10,"") | AB10: =IF(S10="X",$I10,"") | AC10: =IF(T10="X",$I10,"") | AD10: =IF(U10="X",$I10,"") | AE10: =IF(V10="X",$I10,"") | AF10: =IF(W10="X",$I10,"") | AH10: =IF(P10="X",$J10,"") -> 5 | AI10: =IF(Q10="X",$J10,"") | AJ10: =IF(R10="X",$J10,"") | AK10: =IF(S10="X",$J10,"") | AL10: =IF(T10="X",$J10,"") | AM10: =IF(U10="X",$J10,"") | AN10: =IF(V10="X",$J10,"") | AO10: =IF(W10="X",$J10,"") | AQ10: =IF(AND(P10="X",$BJ10="F"),$K10,"") | AR10: =IF(AND(Q10="X",$BJ10="F"),$K10,"") | AS10: =IF(AND(R10="X",$BJ10="F"),$K10,"") | AT10: =IF(AND(S10="X",$BJ10="F"),$K10,"") | AU10: =IF(AND(T10="X",$BJ10="F"),$K10,"") | AV10: =IF(AND(U10="X",$BJ10="F"),$K10,"") | AW10: =IF(AND(V10="X",$BJ10="F"),$K10,"") | AX10: =IF(AND(W10="X",$BJ10="F"),$K10,"") | AZ10: =IF(AND(P10="X",$BJ10="P"),$K10,"") -> 9 | BA10: =IF(AND(Q10="X",$BJ10="P"),$K10,"") | BB10: =IF(AND(R10="X",$BJ10="P"),$K10,"") | BC10: =IF(AND(S10="X",$BJ10="P"),$K10,"") | BD10: =IF(AND(T10="X",$BJ10="P"),$K10,"") | BE10: =IF(AND(U10="X",$BJ10="P"),$K10,"") | BF10: =IF(AND(V10="X",$BJ10="P"),$K10,"") | BG10: =IF(AND(W10="X",$BJ10="P"),$K10,"") | BJ10: =IF(L10="","",IF(L10="SI","P","F")) -> P | BL10: =IF(P10="X",$BJ10,"") -> P | BM10: =IF(Q10="X",$BJ10,"") | BN10: =IF(R10="X",$BJ10,"") | BO10: =IF(S10="X",$BJ10,"") | BP10: =IF(T10="X",$BJ10,"") | BQ10: =IF(U10="X",$BJ10,"") | BR10: =IF(V10="X",$BJ10,"") | BS10: =IF(W10="X",$BJ10,"") | BU10: =IF(H10="SI",E10,"") -> 1 | BW10: =IF(H10="SI",IF(F10<=9,"X",""),"") -> X | BX10: =IF(H10="SI",IF(F10>=10,IF(F10<=15,"X",""),"")) | BY10: =IF(H10="SI",IF(F10>=16,IF(F10<=20,"X",""),"")) | BZ10: =IF(H10="SI",IF(F10>=21,IF(F10<=30,"X",""),"")) | CA10: =IF(H10="SI",IF(F10>=31,IF(F10<=40,"X",""),"")) | CB10: =IF(H10="SI",IF(F10>=41,IF(F10<=50,"X",""),"")) | CC10: =IF(H10="SI",IF(F10>=51,IF(F10<=70,"X",""),"")) | CD10: =IF(H10="SI",IF(F10>=71,IF(F10<=90,"X",""),""))
A11: 6 | B11: germin alberto gonzalez ortiz | C11: =C10 -> Angelópolis | D11: barro | E11: 1 | F11: 3 | G11: N/A | H11: SI | I11: 9 | J11: 6 | K11: 9 | L11: SI | M11: =+IF(L11="","ERROR",IF(L11="SI","SUELO","FUENTE")) -> SUELO | N11: 13 | P11: =IF(F11<10,IF(F11>=1,"X",""),"") -> X | Q11: =IF(F11>=10,IF(F11<=15,"X",""),"") | R11: =IF(F11>15,IF(F11<=20,"X",""),"") | S11: =IF(F11>20,IF(F11<=30,"X",""),"") | T11: =IF(F11>30,IF(F11<=40,"X",""),"") | U11: =IF(F11>40,IF(F11<=50,"X",""),"") | V11: =IF(F11>50,IF(F11<=70,"X",""),"") | W11: =IF(F11>70,IF(F11<=100,"X",""),"") | Y11: =IF(P11="X",$I11,"") -> 9 | Z11: =IF(Q11="X",$I11,"") | AA11: =IF(R11="X",$I11,"") | AB11: =IF(S11="X",$I11,"") | AC11: =IF(T11="X",$I11,"") | AD11: =IF(U11="X",$I11,"") | AE11: =IF(V11="X",$I11,"") | AF11: =IF(W11="X",$I11,"") | AH11: =IF(P11="X",$J11,"") -> 6 | AI11: =IF(Q11="X",$J11,"") | AJ11: =IF(R11="X",$J11,"") | AK11: =IF(S11="X",$J11,"") | AL11: =IF(T11="X",$J11,"") | AM11: =IF(U11="X",$J11,"") | AN11: =IF(V11="X",$J11,"") | AO11: =IF(W11="X",$J11,"") | AQ11: =IF(AND(P11="X",$BJ11="F"),$K11,"") | AR11: =IF(AND(Q11="X",$BJ11="F"),$K11,"") | AS11: =IF(AND(R11="X",$BJ11="F"),$K11,"") | AT11: =IF(AND(S11="X",$BJ11="F"),$K11,"") | AU11: =IF(AND(T11="X",$BJ11="F"),$K11,"") | AV11: =IF(AND(U11="X",$BJ11="F"),$K11,"") | AW11: =IF(AND(V11="X",$BJ11="F"),$K11,"") | AX11: =IF(AND(W11="X",$BJ11="F"),$K11,"") | AZ11: =IF(AND(P11="X",$BJ11="P"),$K11,"") -> 9 | BA11: =IF(AND(Q11="X",$BJ11="P"),$K11,"") | BB11: =IF(AND(R11="X",$BJ11="P"),$K11,"") | BC11: =IF(AND(S11="X",$BJ11="P"),$K11,"") | BD11: =IF(AND(T11="X",$BJ11="P"),$K11,"") | BE11: =IF(AND(U11="X",$BJ11="P"),$K11,"") | BF11: =IF(AND(V11="X",$BJ11="P"),$K11,"") | BG11: =IF(AND(W11="X",$BJ11="P"),$K11,"") | BJ11: =IF(L11="","",IF(L11="SI","P","F")) -> P | BL11: =IF(P11="X",$BJ11,"") -> P | BM11: =IF(Q11="X",$BJ11,"") | BN11: =IF(R11="X",$BJ11,"") | BO11: =IF(S11="X",$BJ11,"") | BP11: =IF(T11="X",$BJ11,"") | BQ11: =IF(U11="X",$BJ11,"") | BR11: =IF(V11="X",$BJ11,"") | BS11: =IF(W11="X",$BJ11,"") | BU11: =IF(H11="SI",E11,"") -> 1 | BW11: =IF(H11="SI",IF(F11<=9,"X",""),"") -> X | BX11: =IF(H11="SI",IF(F11>=10,IF(F11<=15,"X",""),"")) | BY11: =IF(H11="SI",IF(F11>=16,IF(F11<=20,"X",""),"")) | BZ11: =IF(H11="SI",IF(F11>=21,IF(F11<=30,"X",""),"")) | CA11: =IF(H11="SI",IF(F11>=31,IF(F11<=40,"X",""),"")) | CB11: =IF(H11="SI",IF(F11>=41,IF(F11<=50,"X",""),"")) | CC11: =IF(H11="SI",IF(F11>=51,IF(F11<=70,"X",""),"")) | CD11: =IF(H11="SI",IF(F11>=71,IF(F11<=90,"X",""),""))
A12: 7 | B12: luz marina arboleda deossa | C12: =C11 -> Angelópolis | D12: barro | E12: 1 | F12: 4 | G12: N/A | H12: SI | I12: 12 | J12: 8 | K12: 12 | L12: SI | M12: =+IF(L12="","ERROR",IF(L12="SI","SUELO","FUENTE")) -> SUELO | N12: 13 | P12: =IF(F12<10,IF(F12>=1,"X",""),"") -> X | Q12: =IF(F12>=10,IF(F12<=15,"X",""),"") | R12: =IF(F12>15,IF(F12<=20,"X",""),"") | S12: =IF(F12>20,IF(F12<=30,"X",""),"") | T12: =IF(F12>30,IF(F12<=40,"X",""),"") | U12: =IF(F12>40,IF(F12<=50,"X",""),"") | V12: =IF(F12>50,IF(F12<=70,"X",""),"") | W12: =IF(F12>70,IF(F12<=100,"X",""),"") | Y12: =IF(P12="X",$I12,"") -> 12 | Z12: =IF(Q12="X",$I12,"") | AA12: =IF(R12="X",$I12,"") | AB12: =IF(S12="X",$I12,"") | AC12: =IF(T12="X",$I12,"") | AD12: =IF(U12="X",$I12,"") | AE12: =IF(V12="X",$I12,"") | AF12: =IF(W12="X",$I12,"") | AH12: =IF(P12="X",$J12,"") -> 8 | AI12: =IF(Q12="X",$J12,"") | AJ12: =IF(R12="X",$J12,"") | AK12: =IF(S12="X",$J12,"") | AL12: =IF(T12="X",$J12,"") | AM12: =IF(U12="X",$J12,"") | AN12: =IF(V12="X",$J12,"") | AO12: =IF(W12="X",$J12,"") | AQ12: =IF(AND(P12="X",$BJ12="F"),$K12,"") | AR12: =IF(AND(Q12="X",$BJ12="F"),$K12,"") | AS12: =IF(AND(R12="X",$BJ12="F"),$K12,"") | AT12: =IF(AND(S12="X",$BJ12="F"),$K12,"") | AU12: =IF(AND(T12="X",$BJ12="F"),$K12,"") | AV12: =IF(AND(U12="X",$BJ12="F"),$K12,"") | AW12: =IF(AND(V12="X",$BJ12="F"),$K12,"") | AX12: =IF(AND(W12="X",$BJ12="F"),$K12,"") | AZ12: =IF(AND(P12="X",$BJ12="P"),$K12,"") -> 12 | BA12: =IF(AND(Q12="X",$BJ12="P"),$K12,"") | BB12: =IF(AND(R12="X",$BJ12="P"),$K12,"") | BC12: =IF(AND(S12="X",$BJ12="P"),$K12,"") | BD12: =IF(AND(T12="X",$BJ12="P"),$K12,"") | BE12: =IF(AND(U12="X",$BJ12="P"),$K12,"") | BF12: =IF(AND(V12="X",$BJ12="P"),$K12,"") | BG12: =IF(AND(W12="X",$BJ12="P"),$K12,"") | BJ12: =IF(L12="","",IF(L12="SI","P","F")) -> P | BL12: =IF(P12="X",$BJ12,"") -> P | BM12: =IF(Q12="X",$BJ12,"") | BN12: =IF(R12="X",$BJ12,"") | BO12: =IF(S12="X",$BJ12,"") | BP12: =IF(T12="X",$BJ12,"") | BQ12: =IF(U12="X",$BJ12,"") | BR12: =IF(V12="X",$BJ12,"") | BS12: =IF(W12="X",$BJ12,"") | BU12: =IF(H12="SI",E12,"") -> 1 | BW12: =IF(H12="SI",IF(F12<=9,"X",""),"") -> X | BX12: =IF(H12="SI",IF(F12>=10,IF(F12<=15,"X",""),"")) | BY12: =IF(H12="SI",IF(F12>=16,IF(F12<=20,"X",""),"")) | BZ12: =IF(H12="SI",IF(F12>=21,IF(F12<=30,"X",""),"")) | CA12: =IF(H12="SI",IF(F12>=31,IF(F12<=40,"X",""),"")) | CB12: =IF(H12="SI",IF(F12>=41,IF(F12<=50,"X",""),"")) | CC12: =IF(H12="SI",IF(F12>=51,IF(F12<=70,"X",""),"")) | CD12: =IF(H12="SI",IF(F12>=71,IF(F12<=90,"X",""),""))
A13: 8 | B13: francisco luis pareja diez | C13: =C12 -> Angelópolis | D13: santa barbara | E13: 1 | F13: 5 | G13: N/A | H13: SI | I13: 13 | J13: 5 | K13: 10 | L13: SI | M13: =+IF(L13="","ERROR",IF(L13="SI","SUELO","FUENTE")) -> SUELO | N13: 5 | P13: =IF(F13<10,IF(F13>=1,"X",""),"") -> X | Q13: =IF(F13>=10,IF(F13<=15,"X",""),"") | R13: =IF(F13>15,IF(F13<=20,"X",""),"") | S13: =IF(F13>20,IF(F13<=30,"X",""),"") | T13: =IF(F13>30,IF(F13<=40,"X",""),"") | U13: =IF(F13>40,IF(F13<=50,"X",""),"") | V13: =IF(F13>50,IF(F13<=70,"X",""),"") | W13: =IF(F13>70,IF(F13<=100,"X",""),"") | Y13: =IF(P13="X",$I13,"") -> 13 | Z13: =IF(Q13="X",$I13,"") | AA13: =IF(R13="X",$I13,"") | AB13: =IF(S13="X",$I13,"") | AC13: =IF(T13="X",$I13,"") | AD13: =IF(U13="X",$I13,"") | AE13: =IF(V13="X",$I13,"") | AF13: =IF(W13="X",$I13,"") | AH13: =IF(P13="X",$J13,"") -> 5 | AI13: =IF(Q13="X",$J13,"") | AJ13: =IF(R13="X",$J13,"") | AK13: =IF(S13="X",$J13,"") | AL13: =IF(T13="X",$J13,"") | AM13: =IF(U13="X",$J13,"") | AN13: =IF(V13="X",$J13,"") | AO13: =IF(W13="X",$J13,"") | AQ13: =IF(AND(P13="X",$BJ13="F"),$K13,"") | AR13: =IF(AND(Q13="X",$BJ13="F"),$K13,"") | AS13: =IF(AND(R13="X",$BJ13="F"),$K13,"") | AT13: =IF(AND(S13="X",$BJ13="F"),$K13,"") | AU13: =IF(AND(T13="X",$BJ13="F"),$K13,"") | AV13: =IF(AND(U13="X",$BJ13="F"),$K13,"") | AW13: =IF(AND(V13="X",$BJ13="F"),$K13,"") | AX13: =IF(AND(W13="X",$BJ13="F"),$K13,"") | AZ13: =IF(AND(P13="X",$BJ13="P"),$K13,"") -> 10 | BA13: =IF(AND(Q13="X",$BJ13="P"),$K13,"") | BB13: =IF(AND(R13="X",$BJ13="P"),$K13,"") | BC13: =IF(AND(S13="X",$BJ13="P"),$K13,"") | BD13: =IF(AND(T13="X",$BJ13="P"),$K13,"") | BE13: =IF(AND(U13="X",$BJ13="P"),$K13,"") | BF13: =IF(AND(V13="X",$BJ13="P"),$K13,"") | BG13: =IF(AND(W13="X",$BJ13="P"),$K13,"") | BJ13: =IF(L13="","",IF(L13="SI","P","F")) -> P | BL13: =IF(P13="X",$BJ13,"") -> P | BM13: =IF(Q13="X",$BJ13,"") | BN13: =IF(R13="X",$BJ13,"") | BO13: =IF(S13="X",$BJ13,"") | BP13: =IF(T13="X",$BJ13,"") | BQ13: =IF(U13="X",$BJ13,"") | BR13: =IF(V13="X",$BJ13,"") | BS13: =IF(W13="X",$BJ13,"") | BU13: =IF(H13="SI",E13,"") -> 1 | BW13: =IF(H13="SI",IF(F13<=9,"X",""),"") -> X | BX13: =IF(H13="SI",IF(F13>=10,IF(F13<=15,"X",""),"")) | BY13: =IF(H13="SI",IF(F13>=16,IF(F13<=20,"X",""),"")) | BZ13: =IF(H13="SI",IF(F13>=21,IF(F13<=30,"X",""),"")) | CA13: =IF(H13="SI",IF(F13>=31,IF(F13<=40,"X",""),"")) | CB13: =IF(H13="SI",IF(F13>=41,IF(F13<=50,"X",""),"")) | CC13: =IF(H13="SI",IF(F13>=51,IF(F13<=70,"X",""),"")) | CD13: =IF(H13="SI",IF(F13>=71,IF(F13<=90,"X",""),""))
A14: 9 | B14: yeny lorena arredondo rodriguez | C14: =C13 -> Angelópolis | D14: pajonal | E14: 1 | F14: 4 | G14: N/A | H14: SI | I14: 6 | J14: 8 | K14: 9 | L14: SI | M14: =+IF(L14="","ERROR",IF(L14="SI","SUELO","FUENTE")) -> SUELO | N14: 6 | P14: =IF(F14<10,IF(F14>=1,"X",""),"") -> X | Q14: =IF(F14>=10,IF(F14<=15,"X",""),"") | R14: =IF(F14>15,IF(F14<=20,"X",""),"") | S14: =IF(F14>20,IF(F14<=30,"X",""),"") | T14: =IF(F14>30,IF(F14<=40,"X",""),"") | U14: =IF(F14>40,IF(F14<=50,"X",""),"") | V14: =IF(F14>50,IF(F14<=70,"X",""),"") | W14: =IF(F14>70,IF(F14<=100,"X",""),"") | Y14: =IF(P14="X",$I14,"") -> 6 | Z14: =IF(Q14="X",$I14,"") | AA14: =IF(R14="X",$I14,"") | AB14: =IF(S14="X",$I14,"") | AC14: =IF(T14="X",$I14,"") | AD14: =IF(U14="X",$I14,"") | AE14: =IF(V14="X",$I14,"") | AF14: =IF(W14="X",$I14,"") | AH14: =IF(P14="X",$J14,"") -> 8 | AI14: =IF(Q14="X",$J14,"") | AJ14: =IF(R14="X",$J14,"") | AK14: =IF(S14="X",$J14,"") | AL14: =IF(T14="X",$J14,"") | AM14: =IF(U14="X",$J14,"") | AN14: =IF(V14="X",$J14,"") | AO14: =IF(W14="X",$J14,"") | AQ14: =IF(AND(P14="X",$BJ14="F"),$K14,"") | AR14: =IF(AND(Q14="X",$BJ14="F"),$K14,"") | AS14: =IF(AND(R14="X",$BJ14="F"),$K14,"") | AT14: =IF(AND(S14="X",$BJ14="F"),$K14,"") | AU14: =IF(AND(T14="X",$BJ14="F"),$K14,"") | AV14: =IF(AND(U14="X",$BJ14="F"),$K14,"") | AW14: =IF(AND(V14="X",$BJ14="F"),$K14,"") | AX14: =IF(AND(W14="X",$BJ14="F"),$K14,"") | AZ14: =IF(AND(P14="X",$BJ14="P"),$K14,"") -> 9 | BA14: =IF(AND(Q14="X",$BJ14="P"),$K14,"") | BB14: =IF(AND(R14="X",$BJ14="P"),$K14,"") | BC14: =IF(AND(S14="X",$BJ14="P"),$K14,"") | BD14: =IF(AND(T14="X",$BJ14="P"),$K14,"") | BE14: =IF(AND(U14="X",$BJ14="P"),$K14,"") | BF14: =IF(AND(V14="X",$BJ14="P"),$K14,"") | BG14: =IF(AND(W14="X",$BJ14="P"),$K14,"") | BJ14: =IF(L14="","",IF(L14="SI","P","F")) -> P | BL14: =IF(P14="X",$BJ14,"") -> P | BM14: =IF(Q14="X",$BJ14,"") | BN14: =IF(R14="X",$BJ14,"") | BO14: =IF(S14="X",$BJ14,"") | BP14: =IF(T14="X",$BJ14,"") | BQ14: =IF(U14="X",$BJ14,"") | BR14: =IF(V14="X",$BJ14,"") | BS14: =IF(W14="X",$BJ14,"") | BU14: =IF(H14="SI",E14,"") -> 1 | BW14: =IF(H14="SI",IF(F14<=9,"X",""),"") -> X | BX14: =IF(H14="SI",IF(F14>=10,IF(F14<=15,"X",""),"")) | BY14: =IF(H14="SI",IF(F14>=16,IF(F14<=20,"X",""),"")) | BZ14: =IF(H14="SI",IF(F14>=21,IF(F14<=30,"X",""),"")) | CA14: =IF(H14="SI",IF(F14>=31,IF(F14<=40,"X",""),"")) | CB14: =IF(H14="SI",IF(F14>=41,IF(F14<=50,"X",""),"")) | CC14: =IF(H14="SI",IF(F14>=51,IF(F14<=70,"X",""),"")) | CD14: =IF(H14="SI",IF(F14>=71,IF(F14<=90,"X",""),""))
A15: 10 | B15: lina maria cardenas toro | C15: =C14 -> Angelópolis | D15: pajonal | E15: 1 | F15: 4 | G15: N/A | H15: SI | I15: 8 | J15: 8 | K15: 8 | L15: SI | M15: =+IF(L15="","ERROR",IF(L15="SI","SUELO","FUENTE")) -> SUELO | N15: 6 | P15: =IF(F15<10,IF(F15>=1,"X",""),"") -> X | Q15: =IF(F15>=10,IF(F15<=15,"X",""),"") | R15: =IF(F15>15,IF(F15<=20,"X",""),"") | S15: =IF(F15>20,IF(F15<=30,"X",""),"") | T15: =IF(F15>30,IF(F15<=40,"X",""),"") | U15: =IF(F15>40,IF(F15<=50,"X",""),"") | V15: =IF(F15>50,IF(F15<=70,"X",""),"") | W15: =IF(F15>70,IF(F15<=100,"X",""),"") | Y15: =IF(P15="X",$I15,"") -> 8 | Z15: =IF(Q15="X",$I15,"") | AA15: =IF(R15="X",$I15,"") | AB15: =IF(S15="X",$I15,"") | AC15: =IF(T15="X",$I15,"") | AD15: =IF(U15="X",$I15,"") | AE15: =IF(V15="X",$I15,"") | AF15: =IF(W15="X",$I15,"") | AH15: =IF(P15="X",$J15,"") -> 8 | AI15: =IF(Q15="X",$J15,"") | AJ15: =IF(R15="X",$J15,"") | AK15: =IF(S15="X",$J15,"") | AL15: =IF(T15="X",$J15,"") | AM15: =IF(U15="X",$J15,"") | AN15: =IF(V15="X",$J15,"") | AO15: =IF(W15="X",$J15,"") | AQ15: =IF(AND(P15="X",$BJ15="F"),$K15,"") | AR15: =IF(AND(Q15="X",$BJ15="F"),$K15,"") | AS15: =IF(AND(R15="X",$BJ15="F"),$K15,"") | AT15: =IF(AND(S15="X",$BJ15="F"),$K15,"") | AU15: =IF(AND(T15="X",$BJ15="F"),$K15,"") | AV15: =IF(AND(U15="X",$BJ15="F"),$K15,"") | AW15: =IF(AND(V15="X",$BJ15="F"),$K15,"") | AX15: =IF(AND(W15="X",$BJ15="F"),$K15,"") | AZ15: =IF(AND(P15="X",$BJ15="P"),$K15,"") -> 8 | BA15: =IF(AND(Q15="X",$BJ15="P"),$K15,"") | BB15: =IF(AND(R15="X",$BJ15="P"),$K15,"") | BC15: =IF(AND(S15="X",$BJ15="P"),$K15,"") | BD15: =IF(AND(T15="X",$BJ15="P"),$K15,"") | BE15: =IF(AND(U15="X",$BJ15="P"),$K15,"") | BF15: =IF(AND(V15="X",$BJ15="P"),$K15,"") | BG15: =IF(AND(W15="X",$BJ15="P"),$K15,"") | BJ15: =IF(L15="","",IF(L15="SI","P","F")) -> P | BL15: =IF(P15="X",$BJ15,"") -> P | BM15: =IF(Q15="X",$BJ15,"") | BN15: =IF(R15="X",$BJ15,"") | BO15: =IF(S15="X",$BJ15,"") | BP15: =IF(T15="X",$BJ15,"") | BQ15: =IF(U15="X",$BJ15,"") | BR15: =IF(V15="X",$BJ15,"") | BS15: =IF(W15="X",$BJ15,"") | BU15: =IF(H15="SI",E15,"") -> 1 | BW15: =IF(H15="SI",IF(F15<=9,"X",""),"") -> X | BX15: =IF(H15="SI",IF(F15>=10,IF(F15<=15,"X",""),"")) | BY15: =IF(H15="SI",IF(F15>=16,IF(F15<=20,"X",""),"")) | BZ15: =IF(H15="SI",IF(F15>=21,IF(F15<=30,"X",""),"")) | CA15: =IF(H15="SI",IF(F15>=31,IF(F15<=40,"X",""),"")) | CB15: =IF(H15="SI",IF(F15>=41,IF(F15<=50,"X",""),"")) | CC15: =IF(H15="SI",IF(F15>=51,IF(F15<=70,"X",""),"")) | CD15: =IF(H15="SI",IF(F15>=71,IF(F15<=90,"X",""),""))
A16: 11 | B16: luis alberto zapata blandon | C16: =C15 -> Angelópolis | D16: pajonal | E16: 1 | F16: 3 | G16: N/A | H16: SI | I16: 8 | J16: 9 | K16: 4 | L16: SI | M16: =+IF(L16="","ERROR",IF(L16="SI","SUELO","FUENTE")) -> SUELO | N16: 9 | P16: =IF(F16<10,IF(F16>=1,"X",""),"") -> X | Q16: =IF(F16>=10,IF(F16<=15,"X",""),"") | R16: =IF(F16>15,IF(F16<=20,"X",""),"") | S16: =IF(F16>20,IF(F16<=30,"X",""),"") | T16: =IF(F16>30,IF(F16<=40,"X",""),"") | U16: =IF(F16>40,IF(F16<=50,"X",""),"") | V16: =IF(F16>50,IF(F16<=70,"X",""),"") | W16: =IF(F16>70,IF(F16<=100,"X",""),"") | Y16: =IF(P16="X",$I16,"") -> 8 | Z16: =IF(Q16="X",$I16,"") | AA16: =IF(R16="X",$I16,"") | AB16: =IF(S16="X",$I16,"") | AC16: =IF(T16="X",$I16,"") | AD16: =IF(U16="X",$I16,"") | AE16: =IF(V16="X",$I16,"") | AF16: =IF(W16="X",$I16,"") | AH16: =IF(P16="X",$J16,"") -> 9 | AI16: =IF(Q16="X",$J16,"") | AJ16: =IF(R16="X",$J16,"") | AK16: =IF(S16="X",$J16,"") | AL16: =IF(T16="X",$J16,"") | AM16: =IF(U16="X",$J16,"") | AN16: =IF(V16="X",$J16,"") | AO16: =IF(W16="X",$J16,"") | AQ16: =IF(AND(P16="X",$BJ16="F"),$K16,"") | AR16: =IF(AND(Q16="X",$BJ16="F"),$K16,"") | AS16: =IF(AND(R16="X",$BJ16="F"),$K16,"") | AT16: =IF(AND(S16="X",$BJ16="F"),$K16,"") | AU16: =IF(AND(T16="X",$BJ16="F"),$K16,"") | AV16: =IF(AND(U16="X",$BJ16="F"),$K16,"") | AW16: =IF(AND(V16="X",$BJ16="F"),$K16,"") | AX16: =IF(AND(W16="X",$BJ16="F"),$K16,"") | AZ16: =IF(AND(P16="X",$BJ16="P"),$K16,"") -> 4 | BA16: =IF(AND(Q16="X",$BJ16="P"),$K16,"") | BB16: =IF(AND(R16="X",$BJ16="P"),$K16,"") | BC16: =IF(AND(S16="X",$BJ16="P"),$K16,"") | BD16: =IF(AND(T16="X",$BJ16="P"),$K16,"") | BE16: =IF(AND(U16="X",$BJ16="P"),$K16,"") | BF16: =IF(AND(V16="X",$BJ16="P"),$K16,"") | BG16: =IF(AND(W16="X",$BJ16="P"),$K16,"") | BJ16: =IF(L16="","",IF(L16="SI","P","F")) -> P | BL16: =IF(P16="X",$BJ16,"") -> P | BM16: =IF(Q16="X",$BJ16,"") | BN16: =IF(R16="X",$BJ16,"") | BO16: =IF(S16="X",$BJ16,"") | BP16: =IF(T16="X",$BJ16,"") | BQ16: =IF(U16="X",$BJ16,"") | BR16: =IF(V16="X",$BJ16,"") | BS16: =IF(W16="X",$BJ16,"") | BU16: =IF(H16="SI",E16,"") -> 1 | BW16: =IF(H16="SI",IF(F16<=9,"X",""),"") -> X | BX16: =IF(H16="SI",IF(F16>=10,IF(F16<=15,"X",""),"")) | BY16: =IF(H16="SI",IF(F16>=16,IF(F16<=20,"X",""),"")) | BZ16: =IF(H16="SI",IF(F16>=21,IF(F16<=30,"X",""),"")) | CA16: =IF(H16="SI",IF(F16>=31,IF(F16<=40,"X",""),"")) | CB16: =IF(H16="SI",IF(F16>=41,IF(F16<=50,"X",""),"")) | CC16: =IF(H16="SI",IF(F16>=51,IF(F16<=70,"X",""),"")) | CD16: =IF(H16="SI",IF(F16>=71,IF(F16<=90,"X",""),""))
A17: 12 | B17: fabio david zapata blandon | C17: =C16 -> Angelópolis | D17: pajonal | E17: 1 | F17: 4 | G17: N/A | H17: SI | I17: 12 | J17: 8 | K17: 9 | L17: SI | M17: =+IF(L17="","ERROR",IF(L17="SI","SUELO","FUENTE")) -> SUELO | N17: 9 | P17: =IF(F17<10,IF(F17>=1,"X",""),"") -> X | Q17: =IF(F17>=10,IF(F17<=15,"X",""),"") | R17: =IF(F17>15,IF(F17<=20,"X",""),"") | S17: =IF(F17>20,IF(F17<=30,"X",""),"") | T17: =IF(F17>30,IF(F17<=40,"X",""),"") | U17: =IF(F17>40,IF(F17<=50,"X",""),"") | V17: =IF(F17>50,IF(F17<=70,"X",""),"") | W17: =IF(F17>70,IF(F17<=100,"X",""),"") | Y17: =IF(P17="X",$I17,"") -> 12 | Z17: =IF(Q17="X",$I17,"") | AA17: =IF(R17="X",$I17,"") | AB17: =IF(S17="X",$I17,"") | AC17: =IF(T17="X",$I17,"") | AD17: =IF(U17="X",$I17,"") | AE17: =IF(V17="X",$I17,"") | AF17: =IF(W17="X",$I17,"") | AH17: =IF(P17="X",$J17,"") -> 8 | AI17: =IF(Q17="X",$J17,"") | AJ17: =IF(R17="X",$J17,"") | AK17: =IF(S17="X",$J17,"") | AL17: =IF(T17="X",$J17,"") | AM17: =IF(U17="X",$J17,"") | AN17: =IF(V17="X",$J17,"") | AO17: =IF(W17="X",$J17,"") | AQ17: =IF(AND(P17="X",$BJ17="F"),$K17,"") | AR17: =IF(AND(Q17="X",$BJ17="F"),$K17,"") | AS17: =IF(AND(R17="X",$BJ17="F"),$K17,"") | AT17: =IF(AND(S17="X",$BJ17="F"),$K17,"") | AU17: =IF(AND(T17="X",$BJ17="F"),$K17,"") | AV17: =IF(AND(U17="X",$BJ17="F"),$K17,"") | AW17: =IF(AND(V17="X",$BJ17="F"),$K17,"") | AX17: =IF(AND(W17="X",$BJ17="F"),$K17,"") | AZ17: =IF(AND(P17="X",$BJ17="P"),$K17,"") -> 9 | BA17: =IF(AND(Q17="X",$BJ17="P"),$K17,"") | BB17: =IF(AND(R17="X",$BJ17="P"),$K17,"") | BC17: =IF(AND(S17="X",$BJ17="P"),$K17,"") | BD17: =IF(AND(T17="X",$BJ17="P"),$K17,"") | BE17: =IF(AND(U17="X",$BJ17="P"),$K17,"") | BF17: =IF(AND(V17="X",$BJ17="P"),$K17,"") | BG17: =IF(AND(W17="X",$BJ17="P"),$K17,"") | BJ17: =IF(L17="","",IF(L17="SI","P","F")) -> P | BL17: =IF(P17="X",$BJ17,"") -> P | BM17: =IF(Q17="X",$BJ17,"") | BN17: =IF(R17="X",$BJ17,"") | BO17: =IF(S17="X",$BJ17,"") | BP17: =IF(T17="X",$BJ17,"") | BQ17: =IF(U17="X",$BJ17,"") | BR17: =IF(V17="X",$BJ17,"") | BS17: =IF(W17="X",$BJ17,"") | BU17: =IF(H17="SI",E17,"") -> 1 | BW17: =IF(H17="SI",IF(F17<=9,"X",""),"") -> X | BX17: =IF(H17="SI",IF(F17>=10,IF(F17<=15,"X",""),"")) | BY17: =IF(H17="SI",IF(F17>=16,IF(F17<=20,"X",""),"")) | BZ17: =IF(H17="SI",IF(F17>=21,IF(F17<=30,"X",""),"")) | CA17: =IF(H17="SI",IF(F17>=31,IF(F17<=40,"X",""),"")) | CB17: =IF(H17="SI",IF(F17>=41,IF(F17<=50,"X",""),"")) | CC17: =IF(H17="SI",IF(F17>=51,IF(F17<=70,"X",""),"")) | CD17: =IF(H17="SI",IF(F17>=71,IF(F17<=90,"X",""),""))
A18: 13 | B18: rosa julia blandon granados | C18: =C17 -> Angelópolis | D18: pajonal | E18: 1 | F18: 3 | G18: N/A | H18: SI | I18: 8 | J18: 4 | K18: 7 | L18: SI | M18: =+IF(L18="","ERROR",IF(L18="SI","SUELO","FUENTE")) -> SUELO | N18: 8 | P18: =IF(F18<10,IF(F18>=1,"X",""),"") -> X | Q18: =IF(F18>=10,IF(F18<=15,"X",""),"") | R18: =IF(F18>15,IF(F18<=20,"X",""),"") | S18: =IF(F18>20,IF(F18<=30,"X",""),"") | T18: =IF(F18>30,IF(F18<=40,"X",""),"") | U18: =IF(F18>40,IF(F18<=50,"X",""),"") | V18: =IF(F18>50,IF(F18<=70,"X",""),"") | W18: =IF(F18>70,IF(F18<=100,"X",""),"") | Y18: =IF(P18="X",$I18,"") -> 8 | Z18: =IF(Q18="X",$I18,"") | AA18: =IF(R18="X",$I18,"") | AB18: =IF(S18="X",$I18,"") | AC18: =IF(T18="X",$I18,"") | AD18: =IF(U18="X",$I18,"") | AE18: =IF(V18="X",$I18,"") | AF18: =IF(W18="X",$I18,"") | AH18: =IF(P18="X",$J18,"") -> 4 | AI18: =IF(Q18="X",$J18,"") | AJ18: =IF(R18="X",$J18,"") | AK18: =IF(S18="X",$J18,"") | AL18: =IF(T18="X",$J18,"") | AM18: =IF(U18="X",$J18,"") | AN18: =IF(V18="X",$J18,"") | AO18: =IF(W18="X",$J18,"") | AQ18: =IF(AND(P18="X",$BJ18="F"),$K18,"") | AR18: =IF(AND(Q18="X",$BJ18="F"),$K18,"") | AS18: =IF(AND(R18="X",$BJ18="F"),$K18,"") | AT18: =IF(AND(S18="X",$BJ18="F"),$K18,"") | AU18: =IF(AND(T18="X",$BJ18="F"),$K18,"") | AV18: =IF(AND(U18="X",$BJ18="F"),$K18,"") | AW18: =IF(AND(V18="X",$BJ18="F"),$K18,"") | AX18: =IF(AND(W18="X",$BJ18="F"),$K18,"") | AZ18: =IF(AND(P18="X",$BJ18="P"),$K18,"") -> 7 | BA18: =IF(AND(Q18="X",$BJ18="P"),$K18,"") | BB18: =IF(AND(R18="X",$BJ18="P"),$K18,"") | BC18: =IF(AND(S18="X",$BJ18="P"),$K18,"") | BD18: =IF(AND(T18="X",$BJ18="P"),$K18,"") | BE18: =IF(AND(U18="X",$BJ18="P"),$K18,"") | BF18: =IF(AND(V18="X",$BJ18="P"),$K18,"") | BG18: =IF(AND(W18="X",$BJ18="P"),$K18,"") | BJ18: =IF(L18="","",IF(L18="SI","P","F")) -> P | BL18: =IF(P18="X",$BJ18,"") -> P | BM18: =IF(Q18="X",$BJ18,"") | BN18: =IF(R18="X",$BJ18,"") | BO18: =IF(S18="X",$BJ18,"") | BP18: =IF(T18="X",$BJ18,"") | BQ18: =IF(U18="X",$BJ18,"") | BR18: =IF(V18="X",$BJ18,"") | BS18: =IF(W18="X",$BJ18,"") | BU18: =IF(H18="SI",E18,"") -> 1 | BW18: =IF(H18="SI",IF(F18<=9,"X",""),"") -> X | BX18: =IF(H18="SI",IF(F18>=10,IF(F18<=15,"X",""),"")) | BY18: =IF(H18="SI",IF(F18>=16,IF(F18<=20,"X",""),"")) | BZ18: =IF(H18="SI",IF(F18>=21,IF(F18<=30,"X",""),"")) | CA18: =IF(H18="SI",IF(F18>=31,IF(F18<=40,"X",""),"")) | CB18: =IF(H18="SI",IF(F18>=41,IF(F18<=50,"X",""),"")) | CC18: =IF(H18="SI",IF(F18>=51,IF(F18<=70,"X",""),"")) | CD18: =IF(H18="SI",IF(F18>=71,IF(F18<=90,"X",""),""))
A19: 14 | B19: ruben dario blandon agudelo | C19: =C18 -> Angelópolis | D19: santa barbara | E19: 1 | F19: 4 | G19: N/A | H19: SI | I19: 9 | J19: 8 | K19: 9 | L19: SI | M19: =+IF(L19="","ERROR",IF(L19="SI","SUELO","FUENTE")) -> SUELO | N19: 5 | P19: =IF(F19<10,IF(F19>=1,"X",""),"") -> X | Q19: =IF(F19>=10,IF(F19<=15,"X",""),"") | R19: =IF(F19>15,IF(F19<=20,"X",""),"") | S19: =IF(F19>20,IF(F19<=30,"X",""),"") | T19: =IF(F19>30,IF(F19<=40,"X",""),"") | U19: =IF(F19>40,IF(F19<=50,"X",""),"") | V19: =IF(F19>50,IF(F19<=70,"X",""),"") | W19: =IF(F19>70,IF(F19<=100,"X",""),"") | Y19: =IF(P19="X",$I19,"") -> 9 | Z19: =IF(Q19="X",$I19,"") | AA19: =IF(R19="X",$I19,"") | AB19: =IF(S19="X",$I19,"") | AC19: =IF(T19="X",$I19,"") | AD19: =IF(U19="X",$I19,"") | AE19: =IF(V19="X",$I19,"") | AF19: =IF(W19="X",$I19,"") | AH19: =IF(P19="X",$J19,"") -> 8 | AI19: =IF(Q19="X",$J19,"") | AJ19: =IF(R19="X",$J19,"") | AK19: =IF(S19="X",$J19,"") | AL19: =IF(T19="X",$J19,"") | AM19: =IF(U19="X",$J19,"") | AN19: =IF(V19="X",$J19,"") | AO19: =IF(W19="X",$J19,"") | AQ19: =IF(AND(P19="X",$BJ19="F"),$K19,"") | AR19: =IF(AND(Q19="X",$BJ19="F"),$K19,"") | AS19: =IF(AND(R19="X",$BJ19="F"),$K19,"") | AT19: =IF(AND(S19="X",$BJ19="F"),$K19,"") | AU19: =IF(AND(T19="X",$BJ19="F"),$K19,"") | AV19: =IF(AND(U19="X",$BJ19="F"),$K19,"") | AW19: =IF(AND(V19="X",$BJ19="F"),$K19,"") | AX19: =IF(AND(W19="X",$BJ19="F"),$K19,"") | AZ19: =IF(AND(P19="X",$BJ19="P"),$K19,"") -> 9 | BA19: =IF(AND(Q19="X",$BJ19="P"),$K19,"") | BB19: =IF(AND(R19="X",$BJ19="P"),$K19,"") | BC19: =IF(AND(S19="X",$BJ19="P"),$K19,"") | BD19: =IF(AND(T19="X",$BJ19="P"),$K19,"") | BE19: =IF(AND(U19="X",$BJ19="P"),$K19,"") | BF19: =IF(AND(V19="X",$BJ19="P"),$K19,"") | BG19: =IF(AND(W19="X",$BJ19="P"),$K19,"") | BJ19: =IF(L19="","",IF(L19="SI","P","F")) -> P | BL19: =IF(P19="X",$BJ19,"") -> P | BM19: =IF(Q19="X",$BJ19,"") | BN19: =IF(R19="X",$BJ19,"") | BO19: =IF(S19="X",$BJ19,"") | BP19: =IF(T19="X",$BJ19,"") | BQ19: =IF(U19="X",$BJ19,"") | BR19: =IF(V19="X",$BJ19,"") | BS19: =IF(W19="X",$BJ19,"") | BU19: =IF(H19="SI",E19,"") -> 1 | BW19: =IF(H19="SI",IF(F19<=9,"X",""),"") -> X | BX19: =IF(H19="SI",IF(F19>=10,IF(F19<=15,"X",""),"")) | BY19: =IF(H19="SI",IF(F19>=16,IF(F19<=20,"X",""),"")) | BZ19: =IF(H19="SI",IF(F19>=21,IF(F19<=30,"X",""),"")) | CA19: =IF(H19="SI",IF(F19>=31,IF(F19<=40,"X",""),"")) | CB19: =IF(H19="SI",IF(F19>=41,IF(F19<=50,"X",""),"")) | CC19: =IF(H19="SI",IF(F19>=51,IF(F19<=70,"X",""),"")) | CD19: =IF(H19="SI",IF(F19>=71,IF(F19<=90,"X",""),""))
A20: 15 | B20: clara ines zapata blandon | C20: Angelópolis | D20: pajonal | E20: 1 | F20: 4 | G20: N/A | H20: SI | I20: 7 | J20: 4 | K20: 8 | L20: SI | M20: SUELO | N20: 8 | P20: =IF(F20<10,IF(F20>=1,"X",""),"") -> X | Q20: =IF(F20>=10,IF(F20<=15,"X",""),"") | R20: =IF(F20>15,IF(F20<=20,"X",""),"") | S20: =IF(F20>20,IF(F20<=30,"X",""),"") | T20: =IF(F20>30,IF(F20<=40,"X",""),"") | U20: =IF(F20>40,IF(F20<=50,"X",""),"") | V20: =IF(F20>50,IF(F20<=70,"X",""),"") | W20: =IF(F20>70,IF(F20<=100,"X",""),"") | Y20: =IF(P20="X",$I20,"") -> 7 | Z20: =IF(Q20="X",$I20,"") | AA20: =IF(R20="X",$I20,"") | AB20: =IF(S20="X",$I20,"") | AC20: =IF(T20="X",$I20,"") | AD20: =IF(U20="X",$I20,"") | AE20: =IF(V20="X",$I20,"") | AF20: =IF(W20="X",$I20,"") | AH20: =IF(P20="X",$J20,"") -> 4 | AI20: =IF(Q20="X",$J20,"") | AJ20: =IF(R20="X",$J20,"") | AK20: =IF(S20="X",$J20,"") | AL20: =IF(T20="X",$J20,"") | AM20: =IF(U20="X",$J20,"") | AN20: =IF(V20="X",$J20,"") | AO20: =IF(W20="X",$J20,"") | AQ20: =IF(AND(P20="X",$BJ20="F"),$K20,"") | AR20: =IF(AND(Q20="X",$BJ20="F"),$K20,"") | AS20: =IF(AND(R20="X",$BJ20="F"),$K20,"") | AT20: =IF(AND(S20="X",$BJ20="F"),$K20,"") | AU20: =IF(AND(T20="X",$BJ20="F"),$K20,"") | AV20: =IF(AND(U20="X",$BJ20="F"),$K20,"") | AW20: =IF(AND(V20="X",$BJ20="F"),$K20,"") | AX20: =IF(AND(W20="X",$BJ20="F"),$K20,"") | AZ20: =IF(AND(P20="X",$BJ20="P"),$K20,"") -> 8 | BA20: =IF(AND(Q20="X",$BJ20="P"),$K20,"") | BB20: =IF(AND(R20="X",$BJ20="P"),$K20,"") | BC20: =IF(AND(S20="X",$BJ20="P"),$K20,"") | BD20: =IF(AND(T20="X",$BJ20="P"),$K20,"") | BE20: =IF(AND(U20="X",$BJ20="P"),$K20,"") | BF20: =IF(AND(V20="X",$BJ20="P"),$K20,"") | BG20: =IF(AND(W20="X",$BJ20="P"),$K20,"") | BJ20: =IF(L20="","",IF(L20="SI","P","F")) -> P | BL20: =IF(P20="X",$BJ20,"") -> P | BM20: =IF(Q20="X",$BJ20,"") | BN20: =IF(R20="X",$BJ20,"") | BO20: =IF(S20="X",$BJ20,"") | BP20: =IF(T20="X",$BJ20,"") | BQ20: =IF(U20="X",$BJ20,"") | BR20: =IF(V20="X",$BJ20,"") | BS20: =IF(W20="X",$BJ20,"") | BU20: =IF(H20="SI",E20,"") -> 1 | BW20: =IF(H20="SI",IF(F20<=9,"X",""),"") -> X | BX20: =IF(H20="SI",IF(F20>=10,IF(F20<=15,"X",""),"")) | BY20: =IF(H20="SI",IF(F20>=16,IF(F20<=20,"X",""),"")) | BZ20: =IF(H20="SI",IF(F20>=21,IF(F20<=30,"X",""),"")) | CA20: =IF(H20="SI",IF(F20>=31,IF(F20<=40,"X",""),"")) | CB20: =IF(H20="SI",IF(F20>=41,IF(F20<=50,"X",""),"")) | CC20: =IF(H20="SI",IF(F20>=51,IF(F20<=70,"X",""),"")) | CD20: =IF(H20="SI",IF(F20>=71,IF(F20<=90,"X",""),""))
A21: 16 | P21: =IF(F21<10,IF(F21>=1,"X",""),"") | Q21: =IF(F21>=10,IF(F21<=15,"X",""),"") | R21: =IF(F21>15,IF(F21<=20,"X",""),"") | S21: =IF(F21>20,IF(F21<=30,"X",""),"") | T21: =IF(F21>30,IF(F21<=40,"X",""),"") | U21: =IF(F21>40,IF(F21<=50,"X",""),"") | V21: =IF(F21>50,IF(F21<=70,"X",""),"") | W21: =IF(F21>70,IF(F21<=100,"X",""),"") | Y21: =IF(P21="X",$I21,"") | Z21: =IF(Q21="X",$I21,"") | AA21: =IF(R21="X",$I21,"") | AB21: =IF(S21="X",$I21,"") | AC21: =IF(T21="X",$I21,"") | AD21: =IF(U21="X",$I21,"") | AE21: =IF(V21="X",$I21,"") | AF21: =IF(W21="X",$I21,"") | AH21: =IF(P21="X",$J21,"") | AI21: =IF(Q21="X",$J21,"") | AJ21: =IF(R21="X",$J21,"") | AK21: =IF(S21="X",$J21,"") | AL21: =IF(T21="X",$J21,"") | AM21: =IF(U21="X",$J21,"") | AN21: =IF(V21="X",$J21,"") | AO21: =IF(W21="X",$J21,"") | AQ21: =IF(AND(P21="X",$BJ21="F"),$K21,"") | AR21: =IF(AND(Q21="X",$BJ21="F"),$K21,"") | AS21: =IF(AND(R21="X",$BJ21="F"),$K21,"") | AT21: =IF(AND(S21="X",$BJ21="F"),$K21,"") | AU21: =IF(AND(T21="X",$BJ21="F"),$K21,"") | AV21: =IF(AND(U21="X",$BJ21="F"),$K21,"") | AW21: =IF(AND(V21="X",$BJ21="F"),$K21,"") | AX21: =IF(AND(W21="X",$BJ21="F"),$K21,"") | AZ21: =IF(AND(P21="X",$BJ21="P"),$K21,"") | BA21: =IF(AND(Q21="X",$BJ21="P"),$K21,"") | BB21: =IF(AND(R21="X",$BJ21="P"),$K21,"") | BC21: =IF(AND(S21="X",$BJ21="P"),$K21,"") | BD21: =IF(AND(T21="X",$BJ21="P"),$K21,"") | BE21: =IF(AND(U21="X",$BJ21="P"),$K21,"") | BF21: =IF(AND(V21="X",$BJ21="P"),$K21,"") | BG21: =IF(AND(W21="X",$BJ21="P"),$K21,"") | BJ21: =IF(L21="","",IF(L21="SI","P","F")) | BL21: =IF(P21="X",$BJ21,"") | BM21: =IF(Q21="X",$BJ21,"") | BN21: =IF(R21="X",$BJ21,"") | BO21: =IF(S21="X",$BJ21,"") | BP21: =IF(T21="X",$BJ21,"") | BQ21: =IF(U21="X",$BJ21,"") | BR21: =IF(V21="X",$BJ21,"") | BS21: =IF(W21="X",$BJ21,"") | BU21: =IF(H21="SI",E21,"") | BW21: =IF(H21="SI",IF(F21<=9,"X",""),"") | BX21: =IF(H21="SI",IF(F21>=10,IF(F21<=15,"X",""),"")) -> FALSE | BY21: =IF(H21="SI",IF(F21>=16,IF(F21<=20,"X",""),"")) -> FALSE | BZ21: =IF(H21="SI",IF(F21>=21,IF(F21<=30,"X",""),"")) -> FALSE | CA21: =IF(H21="SI",IF(F21>=31,IF(F21<=40,"X",""),"")) -> FALSE | CB21: =IF(H21="SI",IF(F21>=41,IF(F21<=50,"X",""),"")) -> FALSE | CC21: =IF(H21="SI",IF(F21>=51,IF(F21<=70,"X",""),"")) -> FALSE | CD21: =IF(H21="SI",IF(F21>=71,IF(F21<=90,"X",""),"")) -> FALSE
