Workbook
Name \0: #REF!
Name \00: #REF!
Name \a: #REF!
Name \a: #REF!
Name \a: #REF!
Name \a: #REF!
Name \a: #REF!
Name \a: #REF!
Name \a: #REF!
Name \a: #REF!
Name \a: #REF!
Name \a: #REF!
Name \a: #REF!
Name \a: #REF!
Name \a: #REF!
Name \a: #REF!
Name \a: #REF!
Name \a: #REF!
Name \a: #REF!
Name \a: #REF!
Name \a: #REF!
Name \a: #REF!
Name \a: #REF!
Name \a: #REF!
Name \a: #REF!
Name \a: #REF!
Name \a: #REF!
Name \a: #REF!
Name \a: #REF!
Name \a: #REF!
Name \a: #REF!
Name \a: #REF!
Name \a: #REF!
Name \a: #REF!
Name \a: #REF!
Name \a: #REF!
Name \a: #REF!
Name \a: #REF!
Name \a: #REF!
Name \a: #REF!
Name \a: #REF!
Name \a: #REF!
Name \a: #REF!
Name \a: #REF!
Name \a: #REF!
Name \a: #REF!
Name \a: #REF!
Name \a: #REF!
Name \a: #REF!
Name \a: #REF!
Name \a: #REF!
Name \a: #REF!
Name \a: #REF!
Name \a: #REF!
Name \a: #REF!
Name \a: #REF!
Name \a: #REF!
Name \a: #REF!
Name \a: #REF!
Name \a: #REF!

Sheet DATOS
A3: MEMORIA DE CANTIDADES - PRESUPUESTO GENERAL
A8: PROCESO No. | B8: HA-SA-003-2026
A11: PROYECTO: | B11: MEJORAMIENTO Y ADECUACION DE LAS INSTALACIONES FISICAS DEL HOGAR DE LOS ABUELOS DEL MUNICIPIO DE HACARI, NORTE DE SANTANDER.
A14: PROPONENTE: | B14: -------------
A17: ENTIDAD: | B17: MUNICIPIO DE HACARÍ - DEPARTAMENTO NORTE DE SANTANDER
A20: SUPERVISOR(A): | B20: ING. LINA LICETH SUAREZ LEON SECRETARIA DE PLANEACION E INFRAESTRUCTURA MPAL
A23: LUGAR DE EJECUCIÓN: | B23: BARRIO CENTRO, MUNICIPIO DE HACARÍ
A26: FECHA: | B26: 46167
B34: ING. LINA LICETH SUAREZ LEON
B35: Secretaria de Planeación e Infreaestructura M/pal
B36: Supervisora

Sheet PRESUPUESTO OFICIAL (Entidad)
B1: Formulario 1 - Propuesta económica - Documento tipo de selección abreviada de menor cuantía - versión 1
B2: Versión: 1 del 21 de agosto de 2025
C5: FORMULARIO 1
C6: PRESUPUESTO OFICIAL
C7: [La entidad puede utilizar este formulario de detalle del presupuesto oficial para determinar las condiciones bajo las cuales los proponentes analizarán y presentarán su propuesta económica de forma detallada, sin perjuicio que la entidad pueda modificarlo o establecer la presentación de la oferta económica con un formulario distinto al indicado.]
C9: Adicionalmente, cuando el proceso de contratación es estructurado por precios unitarios, la Entidad debe aplicar las notas 1, 2 y 3 del presente formulario y las casillas de "Descripción", "Porcentaje" de la Administración, Imprevisto, Utilidad y total A.I.U. resaltadas en colo amarillo. Tratándose de otras modalidades de precio, la Entidad puede o no configurar los mismos aspectos.
C11: Nº | D11: ITEM DE PAGO | E11: ESPECIFICACIONES | G11: DESCRIPCION | H11: UND. | I11: CANTIDAD | J11: VALOR UNITARIO | K11: VALOR TOTAL
E12: GENERAL | F12: PARTICULAR
D13: 1 | G13: PRELIMINARES
D14: 1.1 | G14: OBRAS PRELIMINARES
D15: 1.1.1 | G15: LIMPIEZA, DESCAPOTE, RETIRO SOBR. - MANUAL H = 0,20 MTS | H15: M2 | I15: 108.35 | J15: ='APU 1.1.1'!O67 -> 18337 | K15: =ROUND(PRODUCT(I15:J15),2) -> 1986813.9
D16: 1.1.2 | G16: LOCALIZACIÓN Y REPLANTEO TOPOGRAFICO (AREA A PAGAR ES EL AREA DE LA HUELLA DE LA EDIFICACIÓN) | H16: M2 | I16: 435.1 | J16: ='APU 1.1.2'!O70 -> 7513 | K16: =ROUND(PRODUCT(I16:J16),2) -> 3268906.3
J18: SUBTOTAL | K18: =SUM(K14:K17) -> 5255720.2
D19: 1.2 | G19: DEMOLICIONES - DESMONTES - RETIROS
D20: 1.2.1 | G20: DEMOLICIÓN DE CONSTRUCCIONES EXISTENTES (INC. RETIRO DE SOBR.) | H20: M2 | I20: 44.01 | J20: ='APU 1.2.1'!O70 -> 105235 | K20: =ROUND(PRODUCT(I20:J20),2) -> 4631392.3
D21: 1.2.2 | G21: DESMONTE DE APARATOS SANITARIOS | H21: UND | I21: 1 | J21: ='APU 1.2.2'!O70 -> 99816 | K21: =ROUND(PRODUCT(I21:J21),2) -> 99816
D22: 1.2.3 | G22: DESMONTE DE LAVAMANOS | H22: UND | I22: 1 | J22: ='APU 1.2.3'!O70 -> 74862 | K22: =ROUND(PRODUCT(I22:J22),2) -> 74862
D23: 1.2.4 | G23: DESMONTE MARCOS Y PUERTAS | H23: UND | I23: 5 | J23: ='APU 1.2.4'!O70 -> 85556 | K23: =ROUND(PRODUCT(I23:J23),2) -> 427780
D24: 1.2.5 | G24: DESMONTE DE VENTANAS | H24: UND | I24: 1 | J24: ='APU 1.2.5'!O70 -> 59889 | K24: =ROUND(PRODUCT(I24:J24),2) -> 59889
J26: SUBTOTAL | K26: =SUM(K20:K25) -> 5293739.3
D27: 1.3 | G27: VARIOS - PRELIMINARES | XFD27: =SUM(A27:XFC27) -> 0
D28: 1.3.1 | G28: RETIRO DE SOBRANTES: CARGUE TRANSPORTE Y DISPOSICION FINAL DE ESCOMBROS A SITIO AUTORIZADO (APLICA PARA SOBRANTES QUE NO PERTENECEN A LAS ACTIVIDADES DE LA OBRA). | H28: M3 | I28: 7.67 | J28: ='APU 1.3.1'!O70 -> 142594 | K28: =ROUND(PRODUCT(I28:J28),2) -> 1093696
J30: SUBTOTAL | K30: =SUM(K28:K29) -> 1093696
D31: 2 | G31: CIMENTACION
D32: 2.1 | G32: EXCAVACIONES, RELLENOS Y REEMPLAZOS (MEDIDOS EN BANCA Y/O COMPACTOS)
D33: 2.1.1 | G33: EXCAVACION MANUAL EN MATERIAL COMUN (INCLUYE CARGUE, RETIRO Y DISPOCIÓN FINAL) | H33: M3 | I33: 109.34 | J33: ='APU 2.1.1'!O70 -> 117878 | K33: =ROUND(PRODUCT(I33:J33),2) -> 12888781
D34: 2.1.2 | G34: RELLENO EN RECEBO COMUN (SUMINISTRO, EXTENDIDO, HUMEDECIMIENTO Y COMPACTACIÓN) | H34: M3 | I34: 69.55 | J34: ='APU 2.1.2'!O70 -> 172010 | K34: =ROUND(PRODUCT(I34:J34),2) -> 11963296
J36: SUBTOTAL | K36: =SUM(K33:K35) -> 24852076
D37: 2.2 | G37: CONCRETOS PARA CIMENTACION
D38: 2.2.1 | G38: CONCRETO DE LIMPIEZA - 2000 PSI | H38: M3 | I38: 2.07 | J38: ='APU 2.2.1'!O70 -> 864058 | K38: =ROUND(PRODUCT(I38:J38),2) -> 1788600.1
D39: 2.2.2 | G39: CONCRETO PARA VIGAS DE CIMENTACIÓN 3000 PSI (INCLUYE TODO LO NECESARIO PARA SU CORRECTA EJECUCIÓN) | H39: M3 | I39: 5.54 | J39: ='APU 2.2.2'!O71 -> 1348219 | K39: =ROUND(PRODUCT(I39:J39),2) -> 7469133.3
D40: 2.2.3 | G40: CONCRETO PARA ZAPATAS 3000 PSI (INCLUYE TODO LO NECESARIO PARA SU CORRECTA EJECUCIÓN) | H40: M3 | I40: 11.66 | J40: ='APU 2.2.3'!O69 -> 1241476 | K40: =ROUND(PRODUCT(I40:J40),2) -> 14475610
J42: SUBTOTAL | K42: =SUM(K38:K41) -> 23733343
D43: 2.3 | G43: ACERO DE REFUERZO PARA CIMENTACION - ESTRUCTURA - MAMPOSTERIA Y OTROS
D44: 2.3.1 | G44: SUMINISTRO E INSTALACIÓN ACERO DE REFUERZO 60000 PSI | H44: KG | I44: 3593.96 | J44: ='APU 2.3.1'!O69 -> 11893 | K44: =ROUND(PRODUCT(I44:J44),2) -> 42742966
J46: SUBTOTAL | K46: =SUM(K44:K45) -> 42742966
D47: 2.4 | G47: OBRAS DE MITIGACION Y ESTABILIZACION
D48: 2.4.1 | G48: FILTRO TIPO FRANCES DE 40X50 CM, CON MATERIAL FILTRANTE EN TRITURADO DE 7/8", GEOTEXTIL NO TEJIDO Y TUBERIA PVC SANITARIA DE 3" PERFORADA | H48: M | I48: 11.3 | J48: ='APU 2.4.1'!O72 -> 223275 | K48: =ROUND(PRODUCT(I48:J48),2) -> 2523007.5
J50: SUBTOTAL | K50: =SUM(K48:K49) -> 2523007.5
D51: 3 | G51: DESAGÜES E INSTALACIONES SUBTERRANEAS (INCLUYE ATRAQUE)
...

Sheet PROPUESTA ECONOMICA(Proponente)
B1: Formulario 1 - Propuesta económica - Documento tipo de selección abreviada de menor cuantía - versión 1
B2: Versión: 1 del 21 de agosto de 2025
C5: FORMULARIO 1
C6: PROPUESTA ECONOMICA
C7: [La entidad puede utilizar este formulario de presentación de propuesta económica de forma detallada, sin perjuicio que la entidad pueda modificarlo o establecer la presentación de la oferta económica con un formulario distinto al indicado.] [Los proponentes emplearán el formulario establecido por la entidad para determinar su propuesta económica conforme al Formulario 1 - Presupuesto Oficial publicado por la Entidad] [En caso de modificar el formulario, es importante tener en cuenta que no se deben incluir causales de rechazo, reglas o parámetros contrarios a los definidos en el documento base. Los términos del proceso solo se encuentran en el Documento Base, por lo que la Entidad no deberá incluir ningún tipo de notas que se configuren en reglas contrarias a las definidas en dicho documento, las notas únicamente pueden ser aclaratorias para efectos del diligenciamiento del formato]
C9: Cuando el proceso de contratación es estructurado por precios unitarios, la Entidad debe aplicar las notas 1, 2 y 3 del presente formato y las casillas de "Descripción", "Porcentaje" de la Administración, Imprevisto, Utilidad y total A.I.U. resaltadas en color amarillo.
C11: Nº | D11: ITEM DE PAGO | E11: ESPECIFICACIONES | G11: DESCRIPCION | H11: UND. | I11: CANTIDAD | J11: VALOR UNITARIO | K11: VALOR TOTAL
E12: GENERAL | F12: PARTICULAR
D13: 1 | G13: PRELIMINARES
D14: 1.1 | G14: OBRAS PRELIMINARES
D15: 1.1.1 | G15: LIMPIEZA, DESCAPOTE, RETIRO SOBR. - MANUAL H = 0,20 MTS | H15: M2 | I15: 108.35 | J15: ='APU 1.1.1'!O67 -> 18337 | K15: =ROUND(PRODUCT(I15:J15),2) -> 1986813.9
D16: 1.1.2 | G16: LOCALIZACIÓN Y REPLANTEO TOPOGRAFICO (AREA A PAGAR ES EL AREA DE LA HUELLA DE LA EDIFICACIÓN) | H16: M2 | I16: 435.1 | J16: ='APU 1.1.2'!O70 -> 7513 | K16: =ROUND(PRODUCT(I16:J16),2) -> 3268906.3
J18: SUBTOTAL | K18: =SUM(K15:K17) -> 5255720.2
D19: 1.2 | G19: DEMOLICIONES - DESMONTES - RETIROS
D20: 1.2.1 | G20: DEMOLICIÓN DE CONSTRUCCIONES EXISTENTES (INC. RETIRO DE SOBR.) | H20: M2 | I20: 44.01 | J20: ='APU 1.2.1'!O70 -> 105235 | K20: =ROUND(PRODUCT(I20:J20),2) -> 4631392.3
D21: 1.2.2 | G21: DESMONTE DE APARATOS SANITARIOS | H21: UND | I21: 1 | J21: ='APU 1.2.2'!O70 -> 99816 | K21: =ROUND(PRODUCT(I21:J21),2) -> 99816
D22: 1.2.3 | G22: DESMONTE DE LAVAMANOS | H22: UND | I22: 1 | J22: ='APU 1.2.3'!O70 -> 74862 | K22: =ROUND(PRODUCT(I22:J22),2) -> 74862
D23: 1.2.4 | G23: DESMONTE MARCOS Y PUERTAS | H23: UND | I23: 5 | J23: ='APU 1.2.4'!O70 -> 85556 | K23: =ROUND(PRODUCT(I23:J23),2) -> 427780
D24: 1.2.5 | G24: DESMONTE DE VENTANAS | H24: UND | I24: 1 | J24: ='APU 1.2.5'!O70 -> 59889 | K24: =ROUND(PRODUCT(I24:J24),2) -> 59889
J26: SUBTOTAL | K26: =SUM(K20:K25) -> 5293739.3
D27: 1.3 | G27: VARIOS - PRELIMINARES | XFD27: =SUM(A27:XFC27) -> 0
D28: 1.3.1 | G28: RETIRO DE SOBRANTES: CARGUE TRANSPORTE Y DISPOSICION FINAL DE ESCOMBROS A SITIO AUTORIZADO (APLICA PARA SOBRANTES QUE NO PERTENECEN A LAS ACTIVIDADES DE LA OBRA). | H28: M3 | I28: 7.67 | J28: ='APU 1.3.1'!O70 -> 142594 | K28: =ROUND(PRODUCT(I28:J28),2) -> 1093696
J30: SUBTOTAL | K30: =SUM(K28:K29) -> 1093696
D31: 2 | G31: CIMENTACION
D32: 2.1 | G32: EXCAVACIONES, RELLENOS Y REEMPLAZOS (MEDIDOS EN BANCA Y/O COMPACTOS)
D33: 2.1.1 | G33: EXCAVACION MANUAL EN MATERIAL COMUN (INCLUYE CARGUE, RETIRO Y DISPOCIÓN FINAL) | H33: M3 | I33: 109.34 | J33: ='APU 2.1.1'!O70 -> 117878 | K33: =ROUND(PRODUCT(I33:J33),2) -> 12888781
D34: 2.1.2 | G34: RELLENO EN RECEBO COMUN (SUMINISTRO, EXTENDIDO, HUMEDECIMIENTO Y COMPACTACIÓN) | H34: M3 | I34: 69.55 | J34: ='APU 2.1.2'!O70 -> 172010 | K34: =ROUND(PRODUCT(I34:J34),2) -> 11963296
J36: SUBTOTAL | K36: =SUM(K33:K35) -> 24852076
D37: 2.2 | G37: CONCRETOS PARA CIMENTACION
D38: 2.2.1 | G38: CONCRETO DE LIMPIEZA - 2000 PSI | H38: M3 | I38: 2.07 | J38: ='APU 2.2.1'!O70 -> 864058 | K38: =ROUND(PRODUCT(I38:J38),2) -> 1788600.1
D39: 2.2.2 | G39: CONCRETO PARA VIGAS DE CIMENTACIÓN 3000 PSI (INCLUYE TODO LO NECESARIO PARA SU CORRECTA EJECUCIÓN) | H39: M3 | I39: 5.54 | J39: ='APU 2.2.2'!O71 -> 1348219 | K39: =ROUND(PRODUCT(I39:J39),2) -> 7469133.3
D40: 2.2.3 | G40: CONCRETO PARA ZAPATAS 3000 PSI (INCLUYE TODO LO NECESARIO PARA SU CORRECTA EJECUCIÓN) | H40: M3 | I40: 11.66 | J40: ='APU 2.2.3'!O69 -> 1241476 | K40: =ROUND(PRODUCT(I40:J40),2) -> 14475610
J42: SUBTOTAL | K42: =SUM(K38:K41) -> 23733343
D43: 2.3 | G43: ACERO DE REFUERZO PARA CIMENTACION - ESTRUCTURA - MAMPOSTERIA Y OTROS
D44: 2.3.1 | G44: SUMINISTRO E INSTALACIÓN ACERO DE REFUERZO 60000 PSI | H44: KG | I44: 3593.96 | J44: ='APU 2.3.1'!O69 -> 11893 | K44: =ROUND(PRODUCT(I44:J44),2) -> 42742966
J46: SUBTOTAL | K46: =SUM(K44:K45) -> 42742966
D47: 2.4 | G47: OBRAS DE MITIGACION Y ESTABILIZACION
D48: 2.4.1 | G48: FILTRO TIPO FRANCES DE 40X50 CM, CON MATERIAL FILTRANTE EN TRITURADO DE 7/8", GEOTEXTIL NO TEJIDO Y TUBERIA PVC SANITARIA DE 3" PERFORADA | H48: M | I48: 11.3 | J48: ='APU 2.4.1'!O72 -> 223275 | K48: =ROUND(PRODUCT(I48:J48),2) -> 2523007.5
J50: SUBTOTAL | K50: =SUM(K48:K49) -> 2523007.5
D51: 3 | G51: DESAGÜES E INSTALACIONES SUBTERRANEAS (INCLUYE ATRAQUE)
...

Sheet APU 1.1.1
B1: Formulario 1 - Propuesta económica - Documento tipo de selección abreviada de menor cuantía
B2: Versión: 1 del 21 de agosto de 2025
C5: [La entidad podrá utilizar este formato para la presentación de los análisis de precios unitarios el contratista en la oportunidad prevista en el numeral 8.2. del Documento Base]
D8: =DATOS!B17 -> MUNICIPIO DE HACARÍ - DEPARTAMENTO NORTE DE SANTANDER
L9: VERSIÓN
D10: =DATOS!B8 -> HA-SA-003-2026
L11: PÁGINA | M11: 1 | N11: DE | O11: 1
D13: ANALISIS DE PRECIOS UNITARIOS
L15: FECHA | M15: DD | N15: MM | O15: AA
M16: 22 | N16: 5 | O16: 2026
C17: ITEMS DE LA PROPUESTA ECONÓMICA | G17: X | I17: ITEMS NO PREVISTOS
C21: DATOS ESPECÍFICOS
C23: ITEM | D23: DESCRIPCIÓN | M23: UNIDAD | O23: CANTIDAD
C24: 1.1.1 | D24: LIMPIEZA, DESCAPOTE, RETIRO SOBR. - MANUAL H = 0,20 MTS | M24: M2 | O24: 108.35
C25: I. EQUIPO
C28: DESCRIPCIÓN | H28: MARCA | J28: TIPO | L28: TARIFA/HORA | M28: RENDIMIENTO | O28: Vr. UNITARIO
C29: Herramienta menor (5% mano de obra) | O29: =5%*O55 -> 671.6665
C32: SUBTOTAL $ | O32: =SUM(O29:O31) -> 671.6665
C33: II. MATERIALES
C36: DESCRIPCIÓN | K36: UNIDAD | L36: CANTIDAD | M36: PRECIO UNIT. | O36: Vr. UNITARIO
C39: SUBTOTAL $ | O39: 0
C40: III. TRANSPORTES
C43: MATERIAL | J43: VOL. o PESO | K43: DISTANCIA | L43: M3 o Ton/Km | M43: TARIFA | O43: Vr. UNITARIO
C46: SUBTOTAL $
C47: IV. MANO DE OBRA
C50: TRABAJADOR | J50: JORNAL | K50: PRESTACIONES | L50: JORNAL TOTAL | M50: RENDIMIENTO | O50: Vr. UNITARIO
C51: Ayudante de construcción | J51: 85000 | K51: 1.95 | L51: =J51*K51 -> 165750 | M51: 32.118341 | O51: =L51/M51 -> 5160.6027
C52: Oficial de construcción | J52: 140000 | K52: 1.95 | L52: =J52*K52 -> 273000 | M52: 33 | O52: =L52/M52 -> 8272.7273
C55: SUBTOTAL $ | O55: =SUM(O51:O54) -> 13433.33
C57: TOTAL COSTO DIRECTO $ | O57: =ROUND((O32+O39+O46+O55),2) -> 14105
C58: V. COSTOS INDIRECTOS
C61: Descripción | L61: Porcentaje | M61: Total Costo Directo | O61: Valor Total
C62: ADMINISTRACION | L62: 0.25 | M62: =O$57 -> 14105 | O62: =L62*M62 -> 3526.25
C63: IMPREVISTOS | L63: 0.01 | M63: =O$57 -> 14105 | O63: =L63*M63 -> 141.05
C64: UTILIDAD | L64: 0.04 | M64: =O$57 -> 14105 | O64: =L64*M64 -> 564.2
C65: SUBTOTAL $ | O65: =ROUND(SUM(O62:O64),2) -> 4231.5
C67: Precio Unitario Total Aproximado al peso $ | O67: =ROUND((O57+O65),0) -> 18337
H71: Firma
H72: Nombre:
H73: Representante Legal del Contratista o su Apoderado
...

Sheet APU 1.1.2
B1: Formulario 1 - Propuesta económica - Documento tipo de selección abreviada de menor cuantía
B2: Versión: 1 del 21 de agosto de 2025
C5: [La entidad podrá utilizar este formato para la presentación de los análisis de precios unitarios el contratista en la oportunidad prevista en el numeral 8.2. del Documento Base]
D8: =DATOS!B17 -> MUNICIPIO DE HACARÍ - DEPARTAMENTO NORTE DE SANTANDER
L9: VERSIÓN
D10: =DATOS!B8 -> HA-SA-003-2026
L11: PÁGINA | M11: 1 | N11: DE | O11: 1
D13: ANALISIS DE PRECIOS UNITARIOS
L15: FECHA | M15: DD | N15: MM | O15: AA
M16: 22 | N16: 5 | O16: 2026
C17: ITEMS DE LA PROPUESTA ECONÓMICA | G17: X | I17: ITEMS NO PREVISTOS
C21: DATOS ESPECÍFICOS
C23: ITEM | D23: DESCRIPCIÓN | M23: UNIDAD | O23: CANTIDAD
C24: 1.1.2 | D24: LOCALIZACIÓN Y REPLANTEO TOPOGRAFICO (AREA A PAGAR ES EL AREA DE LA HUELLA DE LA EDIFICACIÓN) | M24: M2 | O24: 435.1
C25: I. EQUIPO
C28: DESCRIPCIÓN | H28: MARCA | J28: TIPO | L28: TARIFA/HORA | M28: RENDIMIENTO | O28: Vr. UNITARIO
C29: Herramienta menor (5% mano de obra) | O29: =5%*O58 -> 201.49999
C32: SUBTOTAL $ | O32: =SUM(O29:O31) -> 201.49999
C33: II. MATERIALES
C36: DESCRIPCIÓN | K36: UNIDAD | L36: CANTIDAD | M36: PRECIO UNIT. | O36: Vr. UNITARIO
C37: Tabla pegachento 2*20*300 | K37: Und | L37: 0.04 | M37: 15700 | O37: =PRODUCT(L37:N37) -> 628
C38: Puntilla 2-1/2" | K38: Kg | L38: 0.02 | M38: 12000 | O38: =PRODUCT(L38:N38) -> 240
C39: Estaca en madera de 30 cm | K39: und | L39: 0.04 | M39: 3000 | O39: =PRODUCT(L39:N39) -> 120
C40: Hilo | K40: Rollo | L40: 0.02 | M40: 8000 | O40: =PRODUCT(L40:N40) -> 160
C41: Cal blanca | K41: Paca | L41: 0.02 | M41: 20000 | O41: =PRODUCT(L41:N41) -> 400
C42: SUBTOTAL $ | O42: =SUM(O37:O41) -> 1548
C43: III. TRANSPORTES
C46: MATERIAL | J46: VOL. o PESO | K46: DISTANCIA | L46: M3 o Ton/Km | M46: TARIFA | O46: Vr. UNITARIO
C49: SUBTOTAL $
C50: IV. MANO DE OBRA
C53: TRABAJADOR | J53: JORNAL | K53: PRESTACIONES | L53: JORNAL TOTAL | M53: RENDIMIENTO | O53: Vr. UNITARIO
C54: Ayudante de construcción | J54: 85000 | K54: 1.95 | L54: =J54*K54 -> 165750 | M54: 108.65912 | O54: =L54/M54 -> 1525.4126
C55: Oficial de construcción | J55: 140000 | K55: 1.95 | L55: =J55*K55 -> 273000 | M55: 109 | O55: =L55/M55 -> 2504.5872
C58: SUBTOTAL $ | O58: =SUM(O54:O57) -> 4029.9998
C60: TOTAL COSTO DIRECTO $ | O60: =ROUND((O32+O42+O49+O58),2) -> 5779.5
C61: V. COSTOS INDIRECTOS
C64: Descripción | L64: Porcentaje | M64: Total Costo Directo | O64: Valor Total
C65: ADMINISTRACION | L65: 0.25 | M65: =O$60 -> 5779.5 | O65: =L65*M65 -> 1444.875
C66: IMPREVISTOS | L66: 0.01 | M66: =O$60 -> 5779.5 | O66: =L66*M66 -> 57.795
C67: UTILIDAD | L67: 0.04 | M67: =O$60 -> 5779.5 | O67: =L67*M67 -> 231.18
...

Sheet APU 1.2.1
B1: Formulario 1 - Propuesta económica - Documento tipo de selección abreviada de menor cuantía
B2: Versión: 1 del 21 de agosto de 2025
C5: [La entidad podrá utilizar este formato para la presentación de los análisis de precios unitarios el contratista en la oportunidad prevista en el numeral 8.2. del Documento Base]
D8: =DATOS!B17 -> MUNICIPIO DE HACARÍ - DEPARTAMENTO NORTE DE SANTANDER
L9: VERSIÓN
D10: =DATOS!B8 -> HA-SA-003-2026
L11: PÁGINA | M11: 1 | N11: DE | O11: 1
D13: ANALISIS DE PRECIOS UNITARIOS
L15: FECHA | M15: DD | N15: MM | O15: AA
M16: 22 | N16: 5 | O16: 2026
C17: ITEMS DE LA PROPUESTA ECONÓMICA | G17: X | I17: ITEMS NO PREVISTOS
C21: DATOS ESPECÍFICOS
C23: ITEM | D23: DESCRIPCIÓN | M23: UNIDAD | O23: CANTIDAD
C24: 1.2.1 | D24: DEMOLICIÓN DE CONSTRUCCIONES EXISTENTES (INC. RETIRO DE SOBR.) | M24: M2 | O24: 44.01
C25: I. EQUIPO
C28: DESCRIPCIÓN | H28: MARCA | J28: TIPO | L28: TARIFA/HORA | M28: RENDIMIENTO | O28: Vr. UNITARIO
C29: Herramienta menor (5% mano de obra) | O29: =5%*O58 -> 1950
C30: Martillo eléctrico | L30: =120000/8 -> 15000 | M30: 0.375 | O30: =L30/M30 -> 40000
C32: SUBTOTAL $ | O32: =SUM(O29:O31) -> 41950
C33: II. MATERIALES
C36: DESCRIPCIÓN | K36: UNIDAD | L36: CANTIDAD | M36: PRECIO UNIT. | O36: Vr. UNITARIO
C42: SUBTOTAL $ | O42: =SUM(O37:O41) -> 0
C43: III. TRANSPORTES
C46: MATERIAL | J46: VOL. o PESO | K46: DISTANCIA | L46: M3 o Ton/Km | M46: TARIFA | O46: Vr. UNITARIO
C49: SUBTOTAL $
C50: IV. MANO DE OBRA
C53: TRABAJADOR | J53: JORNAL | K53: PRESTACIONES | L53: JORNAL TOTAL | M53: RENDIMIENTO | O53: Vr. UNITARIO
C54: Ayudante de construcción | J54: 85000 | K54: 1.95 | L54: =J54*K54 -> 165750 | M54: 11.6875 | O54: =L54/M54 -> 14181.818
C55: Oficial de construcción | J55: 140000 | K55: 1.95 | L55: =J55*K55 -> 273000 | M55: 11 | O55: =L55/M55 -> 24818.182
C58: SUBTOTAL $ | O58: =SUM(O54:O57) -> 39000
C60: TOTAL COSTO DIRECTO $ | O60: =ROUND((O32+O42+O49+O58),2) -> 80950
C61: V. COSTOS INDIRECTOS
C64: Descripción | L64: Porcentaje | M64: Total Costo Directo | O64: Valor Total
C65: ADMINISTRACION | L65: 0.25 | M65: =O$60 -> 80950 | O65: =L65*M65 -> 20237.5
C66: IMPREVISTOS | L66: 0.01 | M66: =O$60 -> 80950 | O66: =L66*M66 -> 809.5
C67: UTILIDAD | L67: 0.04 | M67: =O$60 -> 80950 | O67: =L67*M67 -> 3238
C68: SUBTOTAL $ | O68: =ROUND(SUM(O65:O67),2) -> 24285
C70: Precio Unitario Total Aproximado al peso $ | O70: =ROUND((O60+O68),0) -> 105235
H74: Firma
H75: Nombre:
...

Sheet APU 1.2.2
B1: Formulario 1 - Propuesta económica - Documento tipo de selección abreviada de menor cuantía
B2: Versión: 1 del 21 de agosto de 2025
C5: [La entidad podrá utilizar este formato para la presentación de los análisis de precios unitarios el contratista en la oportunidad prevista en el numeral 8.2. del Documento Base]
D8: =DATOS!B17 -> MUNICIPIO DE HACARÍ - DEPARTAMENTO NORTE DE SANTANDER
L9: VERSIÓN
D10: =DATOS!B8 -> HA-SA-003-2026
L11: PÁGINA | M11: 1 | N11: DE | O11: 1
D13: ANALISIS DE PRECIOS UNITARIOS
L15: FECHA | M15: DD | N15: MM | O15: AA
M16: 22 | N16: 5 | O16: 2026
C17: ITEMS DE LA PROPUESTA ECONÓMICA | G17: X | I17: ITEMS NO PREVISTOS
C21: DATOS ESPECÍFICOS
C23: ITEM | D23: DESCRIPCIÓN | M23: UNIDAD | O23: CANTIDAD
C24: 1.2.2 | D24: DESMONTE DE APARATOS SANITARIOS | M24: UND | O24: 1
C25: I. EQUIPO
C28: DESCRIPCIÓN | H28: MARCA | J28: TIPO | L28: TARIFA/HORA | M28: RENDIMIENTO | O28: Vr. UNITARIO
C29: Herramienta menor (5% mano de obra) | O29: =5%*O58 -> 3656.25
C32: SUBTOTAL $ | O32: =SUM(O29:O31) -> 3656.25
C33: II. MATERIALES
C36: DESCRIPCIÓN | K36: UNIDAD | L36: CANTIDAD | M36: PRECIO UNIT. | O36: Vr. UNITARIO
C42: SUBTOTAL $ | O42: =SUM(O37:O41) -> 0
C43: III. TRANSPORTES
C46: MATERIAL | J46: VOL. o PESO | K46: DISTANCIA | L46: M3 o Ton/Km | M46: TARIFA | O46: Vr. UNITARIO
C49: SUBTOTAL $
C50: IV. MANO DE OBRA
C53: TRABAJADOR | J53: JORNAL | K53: PRESTACIONES | L53: JORNAL TOTAL | M53: RENDIMIENTO | O53: Vr. UNITARIO
C54: Ayudante de construcción | J54: 85000 | K54: 1.95 | L54: =J54*K54 -> 165750 | M54: 6 | O54: =L54/M54 -> 27625
C55: Oficial de construcción | J55: 140000 | K55: 1.95 | L55: =J55*K55 -> 273000 | M55: 6 | O55: =L55/M55 -> 45500
C58: SUBTOTAL $ | O58: =SUM(O54:O57) -> 73125
C60: TOTAL COSTO DIRECTO $ | O60: =ROUND((O32+O42+O49+O58),2) -> 76781.25
C61: V. COSTOS INDIRECTOS
C64: Descripción | L64: Porcentaje | M64: Total Costo Directo | O64: Valor Total
C65: ADMINISTRACION | L65: 0.25 | M65: =O$60 -> 76781.25 | O65: =L65*M65 -> 19195.312
C66: IMPREVISTOS | L66: 0.01 | M66: =O$60 -> 76781.25 | O66: =L66*M66 -> 767.8125
C67: UTILIDAD | L67: 0.04 | M67: =O$60 -> 76781.25 | O67: =L67*M67 -> 3071.25
C68: SUBTOTAL $ | O68: =ROUND(SUM(O65:O67),2) -> 23034.38
C70: Precio Unitario Total Aproximado al peso $ | O70: =ROUND((O60+O68),0) -> 99816
H74: Firma
H75: Nombre:
H76: Representante Legal del Contratista o su Apoderado
...

Sheet APU 1.2.3
B1: Formulario 1 - Propuesta económica - Documento tipo de selección abreviada de menor cuantía
B2: Versión: 1 del 21 de agosto de 2025
C5: [La entidad podrá utilizar este formato para la presentación de los análisis de precios unitarios el contratista en la oportunidad prevista en el numeral 8.2. del Documento Base]
D8: =DATOS!B17 -> MUNICIPIO DE HACARÍ - DEPARTAMENTO NORTE DE SANTANDER
L9: VERSIÓN
D10: =DATOS!B8 -> HA-SA-003-2026
L11: PÁGINA | M11: 1 | N11: DE | O11: 1
D13: ANALISIS DE PRECIOS UNITARIOS
L15: FECHA | M15: DD | N15: MM | O15: AA
M16: 22 | N16: 5 | O16: 2026
C17: ITEMS DE LA PROPUESTA ECONÓMICA | G17: X | I17: ITEMS NO PREVISTOS
C21: DATOS ESPECÍFICOS
C23: ITEM | D23: DESCRIPCIÓN | M23: UNIDAD | O23: CANTIDAD
C24: 1.2.3 | D24: DESMONTE DE LAVAMANOS | M24: UND | O24: 1
C25: I. EQUIPO
C28: DESCRIPCIÓN | H28: MARCA | J28: TIPO | L28: TARIFA/HORA | M28: RENDIMIENTO | O28: Vr. UNITARIO
C29: Herramienta menor (5% mano de obra) | O29: =5%*O58 -> 2742.1875
C32: SUBTOTAL $ | O32: =SUM(O29:O31) -> 2742.1875
C33: II. MATERIALES
C36: DESCRIPCIÓN | K36: UNIDAD | L36: CANTIDAD | M36: PRECIO UNIT. | O36: Vr. UNITARIO
C42: SUBTOTAL $ | O42: =SUM(O37:O41) -> 0
C43: III. TRANSPORTES
C46: MATERIAL | J46: VOL. o PESO | K46: DISTANCIA | L46: M3 o Ton/Km | M46: TARIFA | O46: Vr. UNITARIO
C49: SUBTOTAL $
C50: IV. MANO DE OBRA
C53: TRABAJADOR | J53: JORNAL | K53: PRESTACIONES | L53: JORNAL TOTAL | M53: RENDIMIENTO | O53: Vr. UNITARIO
C54: Ayudante de construcción | J54: 85000 | K54: 1.95 | L54: =J54*K54 -> 165750 | M54: 8 | O54: =L54/M54 -> 20718.75
C55: Oficial de construcción | J55: 140000 | K55: 1.95 | L55: =J55*K55 -> 273000 | M55: 8 | O55: =L55/M55 -> 34125
C58: SUBTOTAL $ | O58: =SUM(O54:O57) -> 54843.75
C60: TOTAL COSTO DIRECTO $ | O60: =ROUND((O32+O42+O49+O58),2) -> 57585.94
C61: V. COSTOS INDIRECTOS
C64: Descripción | L64: Porcentaje | M64: Total Costo Directo | O64: Valor Total
C65: ADMINISTRACION | L65: 0.25 | M65: =O$60 -> 57585.94 | O65: =L65*M65 -> 14396.485
C66: IMPREVISTOS | L66: 0.01 | M66: =O$60 -> 57585.94 | O66: =L66*M66 -> 575.8594
C67: UTILIDAD | L67: 0.04 | M67: =O$60 -> 57585.94 | O67: =L67*M67 -> 2303.4376
C68: SUBTOTAL $ | O68: =ROUND(SUM(O65:O67),2) -> 17275.78
C70: Precio Unitario Total Aproximado al peso $ | O70: =ROUND((O60+O68),0) -> 74862
H74: Firma
H75: Nombre:
H76: Representante Legal del Contratista o su Apoderado
...

Sheet APU 1.2.4
B1: Formulario 1 - Propuesta económica - Documento tipo de selección abreviada de menor cuantía
B2: Versión: 1 del 21 de agosto de 2025
C5: [La entidad podrá utilizar este formato para la presentación de los análisis de precios unitarios el contratista en la oportunidad prevista en el numeral 8.2. del Documento Base]
D8: =DATOS!B17 -> MUNICIPIO DE HACARÍ - DEPARTAMENTO NORTE DE SANTANDER
L9: VERSIÓN
D10: =DATOS!B8 -> HA-SA-003-2026
L11: PÁGINA | M11: 1 | N11: DE | O11: 1
D13: ANALISIS DE PRECIOS UNITARIOS
L15: FECHA | M15: DD | N15: MM | O15: AA
M16: 22 | N16: 5 | O16: 2026
C17: ITEMS DE LA PROPUESTA ECONÓMICA | G17: X | I17: ITEMS NO PREVISTOS
C21: DATOS ESPECÍFICOS
C23: ITEM | D23: DESCRIPCIÓN | M23: UNIDAD | O23: CANTIDAD
C24: 1.2.4 | D24: DESMONTE MARCOS Y PUERTAS | M24: UND | O24: 5
C25: I. EQUIPO
C28: DESCRIPCIÓN | H28: MARCA | J28: TIPO | L28: TARIFA/HORA | M28: RENDIMIENTO | O28: Vr. UNITARIO
C29: Herramienta menor (5% mano de obra) | O29: =5%*O58 -> 3133.9286
C32: SUBTOTAL $ | O32: =SUM(O29:O31) -> 3133.9286
C33: II. MATERIALES
C36: DESCRIPCIÓN | K36: UNIDAD | L36: CANTIDAD | M36: PRECIO UNIT. | O36: Vr. UNITARIO
C42: SUBTOTAL $ | O42: =SUM(O37:O41) -> 0
C43: III. TRANSPORTES
C46: MATERIAL | J46: VOL. o PESO | K46: DISTANCIA | L46: M3 o Ton/Km | M46: TARIFA | O46: Vr. UNITARIO
C49: SUBTOTAL $
C50: IV. MANO DE OBRA
C53: TRABAJADOR | J53: JORNAL | K53: PRESTACIONES | L53: JORNAL TOTAL | M53: RENDIMIENTO | O53: Vr. UNITARIO
C54: Ayudante de construcción | J54: 85000 | K54: 1.95 | L54: =J54*K54 -> 165750 | M54: 7 | O54: =L54/M54 -> 23678.571
C55: Oficial de construcción | J55: 140000 | K55: 1.95 | L55: =J55*K55 -> 273000 | M55: 7 | O55: =L55/M55 -> 39000
C58: SUBTOTAL $ | O58: =SUM(O54:O57) -> 62678.571
C60: TOTAL COSTO DIRECTO $ | O60: =ROUND((O32+O42+O49+O58),2) -> 65812.5
C61: V. COSTOS INDIRECTOS
C64: Descripción | L64: Porcentaje | M64: Total Costo Directo | O64: Valor Total
C65: ADMINISTRACION | L65: 0.25 | M65: =O$60 -> 65812.5 | O65: =L65*M65 -> 16453.125
C66: IMPREVISTOS | L66: 0.01 | M66: =O$60 -> 65812.5 | O66: =L66*M66 -> 658.125
C67: UTILIDAD | L67: 0.04 | M67: =O$60 -> 65812.5 | O67: =L67*M67 -> 2632.5
C68: SUBTOTAL $ | O68: =ROUND(SUM(O65:O67),2) -> 19743.75
C70: Precio Unitario Total Aproximado al peso $ | O70: =ROUND((O60+O68),0) -> 85556
H74: Firma
H75: Nombre:
H76: Representante Legal del Contratista o su Apoderado
...

Sheet APU 1.2.5
B1: Formulario 1 - Propuesta económica - Documento tipo de selección abreviada de menor cuantía
B2: Versión: 1 del 21 de agosto de 2025
C5: [La entidad podrá utilizar este formato para la presentación de los análisis de precios unitarios el contratista en la oportunidad prevista en el numeral 8.2. del Documento Base]
D8: =DATOS!B17 -> MUNICIPIO DE HACARÍ - DEPARTAMENTO NORTE DE SANTANDER
L9: VERSIÓN
D10: =DATOS!B8 -> HA-SA-003-2026
L11: PÁGINA | M11: 1 | N11: DE | O11: 1
D13: ANALISIS DE PRECIOS UNITARIOS
L15: FECHA | M15: DD | N15: MM | O15: AA
M16: 22 | N16: 5 | O16: 2026
C17: ITEMS DE LA PROPUESTA ECONÓMICA | G17: X | I17: ITEMS NO PREVISTOS
C21: DATOS ESPECÍFICOS
C23: ITEM | D23: DESCRIPCIÓN | M23: UNIDAD | O23: CANTIDAD
C24: 1.2.5 | D24: DESMONTE DE VENTANAS | M24: UND | O24: 1
C25: I. EQUIPO
C28: DESCRIPCIÓN | H28: MARCA | J28: TIPO | L28: TARIFA/HORA | M28: RENDIMIENTO | O28: Vr. UNITARIO
C29: Herramienta menor (5% mano de obra) | O29: =5%*O58 -> 2193.75
C32: SUBTOTAL $ | O32: =SUM(O29:O31) -> 2193.75
C33: II. MATERIALES
C36: DESCRIPCIÓN | K36: UNIDAD | L36: CANTIDAD | M36: PRECIO UNIT. | O36: Vr. UNITARIO
C42: SUBTOTAL $ | O42: =SUM(O37:O41) -> 0
C43: III. TRANSPORTES
C46: MATERIAL | J46: VOL. o PESO | K46: DISTANCIA | L46: M3 o Ton/Km | M46: TARIFA | O46: Vr. UNITARIO
C49: SUBTOTAL $
C50: IV. MANO DE OBRA
C53: TRABAJADOR | J53: JORNAL | K53: PRESTACIONES | L53: JORNAL TOTAL | M53: RENDIMIENTO | O53: Vr. UNITARIO
C54: Ayudante de construcción | J54: 85000 | K54: 1.95 | L54: =J54*K54 -> 165750 | M54: 10 | O54: =L54/M54 -> 16575
C55: Oficial de construcción | J55: 140000 | K55: 1.95 | L55: =J55*K55 -> 273000 | M55: 10 | O55: =L55/M55 -> 27300
C58: SUBTOTAL $ | O58: =SUM(O54:O57) -> 43875
C60: TOTAL COSTO DIRECTO $ | O60: =ROUND((O32+O42+O49+O58),2) -> 46068.75
C61: V. COSTOS INDIRECTOS
C64: Descripción | L64: Porcentaje | M64: Total Costo Directo | O64: Valor Total
C65: ADMINISTRACION | L65: 0.25 | M65: =O$60 -> 46068.75 | O65: =L65*M65 -> 11517.188
C66: IMPREVISTOS | L66: 0.01 | M66: =O$60 -> 46068.75 | O66: =L66*M66 -> 460.6875
C67: UTILIDAD | L67: 0.04 | M67: =O$60 -> 46068.75 | O67: =L67*M67 -> 1842.75
C68: SUBTOTAL $ | O68: =ROUND(SUM(O65:O67),2) -> 13820.63
C70: Precio Unitario Total Aproximado al peso $ | O70: =ROUND((O60+O68),0) -> 59889
H74: Firma
H75: Nombre:
H76: Representante Legal del Contratista o su Apoderado
...

Sheet APU 1.3.1
B1: Formulario 1 - Propuesta económica - Documento tipo de selección abreviada de menor cuantía
B2: Versión: 1 del 21 de agosto de 2025
C5: [La entidad podrá utilizar este formato para la presentación de los análisis de precios unitarios el contratista en la oportunidad prevista en el numeral 8.2. del Documento Base]
D8: =DATOS!B17 -> MUNICIPIO DE HACARÍ - DEPARTAMENTO NORTE DE SANTANDER
L9: VERSIÓN
D10: =DATOS!B8 -> HA-SA-003-2026
L11: PÁGINA | M11: 1 | N11: DE | O11: 1
D13: ANALISIS DE PRECIOS UNITARIOS
L15: FECHA | M15: DD | N15: MM | O15: AA
M16: 22 | N16: 5 | O16: 2026
C17: ITEMS DE LA PROPUESTA ECONÓMICA | G17: X | I17: ITEMS NO PREVISTOS
C21: DATOS ESPECÍFICOS
C23: ITEM | D23: DESCRIPCIÓN | M23: UNIDAD | O23: CANTIDAD
C24: 1.3.1 | D24: RETIRO DE SOBRANTES: CARGUE TRANSPORTE Y DISPOSICION FINAL DE ESCOMBROS A SITIO AUTORIZADO (APLICA PARA SOBRANTES QUE NO PERTENECEN A LAS ACTIVIDADES DE LA OBRA). | M24: M3 | O24: 7.6703909
C25: I. EQUIPO
C28: DESCRIPCIÓN | H28: MARCA | J28: TIPO | L28: TARIFA/HORA | M28: RENDIMIENTO | O28: Vr. UNITARIO
C29: Herramienta menor (5% mano de obra) | O29: =5%*O58 -> 5223.2145
C32: SUBTOTAL $ | O32: =SUM(O29:O31) -> 5223.2145
C33: II. MATERIALES
C36: DESCRIPCIÓN | K36: UNIDAD | L36: CANTIDAD | M36: PRECIO UNIT. | O36: Vr. UNITARIO
C42: SUBTOTAL $ | O42: =SUM(O37:O41) -> 0
C43: III. TRANSPORTES
C46: MATERIAL | J46: VOL. o PESO | K46: DISTANCIA | L46: M3 o Ton/Km | M46: TARIFA | O46: Vr. UNITARIO
C49: SUBTOTAL $
C50: IV. MANO DE OBRA
C53: TRABAJADOR | J53: JORNAL | K53: PRESTACIONES | L53: JORNAL TOTAL | M53: RENDIMIENTO | O53: Vr. UNITARIO
C54: Ayudante de construcción | J54: 85000 | K54: 1.95 | L54: =J54*K54 -> 165750 | M54: 4.5769225 | O54: =L54/M54 -> 36214.29
C55: Oficial de construcción | J55: 140000 | K55: 1.95 | L55: =J55*K55 -> 273000 | M55: 4 | O55: =L55/M55 -> 68250
C58: SUBTOTAL $ | O58: =SUM(O54:O57) -> 104464.29
C60: TOTAL COSTO DIRECTO $ | O60: =ROUND((O32+O42+O49+O58),2) -> 109687.5
C61: V. COSTOS INDIRECTOS
C64: Descripción | L64: Porcentaje | M64: Total Costo Directo | O64: Valor Total
C65: ADMINISTRACION | L65: 0.25 | M65: =O$60 -> 109687.5 | O65: =L65*M65 -> 27421.875
C66: IMPREVISTOS | L66: 0.01 | M66: =O$60 -> 109687.5 | O66: =L66*M66 -> 1096.875
C67: UTILIDAD | L67: 0.04 | M67: =O$60 -> 109687.5 | O67: =L67*M67 -> 4387.5
C68: SUBTOTAL $ | O68: =ROUND(SUM(O65:O67),2) -> 32906.25
C70: Precio Unitario Total Aproximado al peso $ | O70: =ROUND((O60+O68),0) -> 142594
H74: Firma
H75: Nombre:
H76: Representante Legal del Contratista o su Apoderado
...

Sheet APU 2.1.1
B1: Formulario 1 - Propuesta económica - Documento tipo de selección abreviada de menor cuantía
B2: Versión: 1 del 21 de agosto de 2025
C5: [La entidad podrá utilizar este formato para la presentación de los análisis de precios unitarios el contratista en la oportunidad prevista en el numeral 8.2. del Documento Base]
D8: =DATOS!B17 -> MUNICIPIO DE HACARÍ - DEPARTAMENTO NORTE DE SANTANDER
L9: VERSIÓN
D10: =DATOS!B8 -> HA-SA-003-2026
L11: PÁGINA | M11: 1 | N11: DE | O11: 1
D13: ANALISIS DE PRECIOS UNITARIOS
L15: FECHA | M15: DD | N15: MM | O15: AA
M16: 22 | N16: 5 | O16: 2026
C17: ITEMS DE LA PROPUESTA ECONÓMICA | G17: X | I17: ITEMS NO PREVISTOS
C21: DATOS ESPECÍFICOS
C23: ITEM | D23: DESCRIPCIÓN | M23: UNIDAD | O23: CANTIDAD
C24: 2.1.1 | D24: EXCAVACION MANUAL EN MATERIAL COMUN (INCLUYE CARGUE, RETIRO Y DISPOCIÓN FINAL) | M24: M3 | O24: 109.34
C25: I. EQUIPO
C28: DESCRIPCIÓN | H28: MARCA | J28: TIPO | L28: TARIFA/HORA | M28: RENDIMIENTO | O28: Vr. UNITARIO
C29: Herramienta menor (5% mano de obra) | O29: =5%*O58 -> 4317.857
C32: SUBTOTAL $ | O32: =SUM(O29:O31) -> 4317.857
C33: II. MATERIALES
C36: DESCRIPCIÓN | K36: UNIDAD | L36: CANTIDAD | M36: PRECIO UNIT. | O36: Vr. UNITARIO
C42: SUBTOTAL $ | O42: =SUM(O37:O41) -> 0
C43: III. TRANSPORTES
C46: MATERIAL | J46: VOL. o PESO | K46: DISTANCIA | L46: M3 o Ton/Km | M46: TARIFA | O46: Vr. UNITARIO
C49: SUBTOTAL $
C50: IV. MANO DE OBRA
C53: TRABAJADOR | J53: JORNAL | K53: PRESTACIONES | L53: JORNAL TOTAL | M53: RENDIMIENTO | O53: Vr. UNITARIO
C54: Ayudante de construcción | J54: 85000 | K54: 1.95 | L54: =J54*K54 -> 165750 | M54: 5.2192987 | O54: =L54/M54 -> 31757.14
C55: Oficial de construcción | J55: 140000 | K55: 1.95 | L55: =J55*K55 -> 273000 | M55: 5 | O55: =L55/M55 -> 54600
C58: SUBTOTAL $ | O58: =SUM(O54:O57) -> 86357.14
C60: TOTAL COSTO DIRECTO $ | O60: =ROUND((O32+O42+O49+O58),2) -> 90675
C61: V. COSTOS INDIRECTOS
C64: Descripción | L64: Porcentaje | M64: Total Costo Directo | O64: Valor Total
C65: ADMINISTRACION | L65: 0.25 | M65: =O$60 -> 90675 | O65: =L65*M65 -> 22668.75
C66: IMPREVISTOS | L66: 0.01 | M66: =O$60 -> 90675 | O66: =L66*M66 -> 906.75
C67: UTILIDAD | L67: 0.04 | M67: =O$60 -> 90675 | O67: =L67*M67 -> 3627
C68: SUBTOTAL $ | O68: =ROUND(SUM(O65:O67),2) -> 27202.5
C70: Precio Unitario Total Aproximado al peso $ | O70: =ROUND((O60+O68),0) -> 117878
H74: Firma
H75: Nombre:
H76: Representante Legal del Contratista o su Apoderado
...

Sheet APU 2.1.2
B1: Formulario 1 - Propuesta económica - Documento tipo de selección abreviada de menor cuantía
B2: Versión: 1 del 21 de agosto de 2025
C5: [La entidad podrá utilizar este formato para la presentación de los análisis de precios unitarios el contratista en la oportunidad prevista en el numeral 8.2. del Documento Base]
D8: =DATOS!B17 -> MUNICIPIO DE HACARÍ - DEPARTAMENTO NORTE DE SANTANDER
L9: VERSIÓN
D10: =DATOS!B8 -> HA-SA-003-2026
L11: PÁGINA | M11: 1 | N11: DE | O11: 1
D13: ANALISIS DE PRECIOS UNITARIOS
L15: FECHA | M15: DD | N15: MM | O15: AA
M16: 22 | N16: 5 | O16: 2026
C17: ITEMS DE LA PROPUESTA ECONÓMICA | G17: X | I17: ITEMS NO PREVISTOS
C21: DATOS ESPECÍFICOS
C23: ITEM | D23: DESCRIPCIÓN | M23: UNIDAD | O23: CANTIDAD
C24: 2.1.2 | D24: RELLENO EN RECEBO COMUN (SUMINISTRO, EXTENDIDO, HUMEDECIMIENTO Y COMPACTACIÓN) | M24: M3 | O24: 69.55
C25: I. EQUIPO
C28: DESCRIPCIÓN | H28: MARCA | J28: TIPO | L28: TARIFA/HORA | M28: RENDIMIENTO | O28: Vr. UNITARIO
C29: Herramienta menor (5% mano de obra) | O29: =5%*O58 -> 2015
C30: Rana compactadora | L30: =80000/8 -> 10000 | M30: 0.5 | O30: =L30/M30 -> 20000
C32: SUBTOTAL $ | O32: =SUM(O29:O31) -> 22015
C33: II. MATERIALES
C36: DESCRIPCIÓN | K36: UNIDAD | L36: CANTIDAD | M36: PRECIO UNIT. | O36: Vr. UNITARIO
C37: Recebo común | K37: M3 | L37: 1 | M37: 70000 | O37: =L37*M37 -> 70000
C42: SUBTOTAL $ | O42: =SUM(O37:O41) -> 70000
C43: III. TRANSPORTES
C46: MATERIAL | J46: VOL. o PESO | K46: DISTANCIA | L46: M3 o Ton/Km | M46: TARIFA | O46: Vr. UNITARIO
C49: SUBTOTAL $
C50: IV. MANO DE OBRA
C53: TRABAJADOR | J53: JORNAL | K53: PRESTACIONES | L53: JORNAL TOTAL | M53: RENDIMIENTO | O53: Vr. UNITARIO
C54: Ayudante de construcción | J54: 85000 | K54: 1.95 | L54: =J54*K54 -> 165750 | M54: 10.706107 | O54: =L54/M54 -> 15481.818
C55: Oficial de construcción | J55: 140000 | K55: 1.95 | L55: =J55*K55 -> 273000 | M55: 11 | O55: =L55/M55 -> 24818.182
C58: SUBTOTAL $ | O58: =SUM(O54:O57) -> 40300
C60: TOTAL COSTO DIRECTO $ | O60: =ROUND((O32+O42+O49+O58),2) -> 132315
C61: V. COSTOS INDIRECTOS
C64: Descripción | L64: Porcentaje | M64: Total Costo Directo | O64: Valor Total
C65: ADMINISTRACION | L65: 0.25 | M65: =O$60 -> 132315 | O65: =L65*M65 -> 33078.75
C66: IMPREVISTOS | L66: 0.01 | M66: =O$60 -> 132315 | O66: =L66*M66 -> 1323.15
C67: UTILIDAD | L67: 0.04 | M67: =O$60 -> 132315 | O67: =L67*M67 -> 5292.6
C68: SUBTOTAL $ | O68: =ROUND(SUM(O65:O67),2) -> 39694.5
C70: Precio Unitario Total Aproximado al peso $ | O70: =ROUND((O60+O68),0) -> 172010
H74: Firma
...

Sheet APU 2.2.1
B1: Formulario 1 - Propuesta económica - Documento tipo de selección abreviada de menor cuantía
B2: Versión: 1 del 21 de agosto de 2025
C5: [La entidad podrá utilizar este formato para la presentación de los análisis de precios unitarios el contratista en la oportunidad prevista en el numeral 8.2. del Documento Base]
D8: =DATOS!B17 -> MUNICIPIO DE HACARÍ - DEPARTAMENTO NORTE DE SANTANDER
L9: VERSIÓN
D10: =DATOS!B8 -> HA-SA-003-2026
L11: PÁGINA | M11: 1 | N11: DE | O11: 1
D13: ANALISIS DE PRECIOS UNITARIOS
L15: FECHA | M15: DD | N15: MM | O15: AA
M16: 22 | N16: 5 | O16: 2026
C17: ITEMS DE LA PROPUESTA ECONÓMICA | G17: X | I17: ITEMS NO PREVISTOS
C21: DATOS ESPECÍFICOS
C23: ITEM | D23: DESCRIPCIÓN | M23: UNIDAD | O23: CANTIDAD
C24: 2.2.1 | D24: CONCRETO DE LIMPIEZA - 2000 PSI | M24: M3 | O24: 2.07
C25: I. EQUIPO
C28: DESCRIPCIÓN | H28: MARCA | J28: TIPO | L28: TARIFA/HORA | M28: RENDIMIENTO | O28: Vr. UNITARIO
C29: Herramienta menor (5% mano de obra) | O29: =5%*O58 -> 6045
C30: Rana compactadora | L30: =80000/8 -> 10000 | M30: 0.75 | O30: =L30/M30 -> 13333.333
C32: SUBTOTAL $ | O32: =SUM(O29:O31) -> 19378.333
C33: II. MATERIALES
C36: DESCRIPCIÓN | K36: UNIDAD | L36: CANTIDAD | M36: PRECIO UNIT. | O36: Vr. UNITARIO
C37: Cemento gris | K37: Kg | L37: 350 | M37: 800 | O37: =L37*M37 -> 280000
C38: Arena lavada | K38: M3 | L38: 1.05 | M38: 160000 | O38: =L38*M38 -> 168000
C39: Agua | K39: Lt | L39: 160 | M39: 49.9 | O39: =L39*M39 -> 7984
C42: SUBTOTAL $ | O42: =SUM(O37:O41) -> 455984
C43: III. TRANSPORTES
C46: MATERIAL | J46: VOL. o PESO | K46: DISTANCIA | L46: M3 o Ton/Km | M46: TARIFA | O46: Vr. UNITARIO
C47: Transporte (15% materiales en obra) | O47: =15%*O42 -> 68397.6
C49: SUBTOTAL $ | O49: =SUM(O47:O48) -> 68397.6
C50: IV. MANO DE OBRA
C53: TRABAJADOR | J53: JORNAL | K53: PRESTACIONES | L53: JORNAL TOTAL | M53: RENDIMIENTO | O53: Vr. UNITARIO
C54: Ayudante de construcción | J54: 85000 | K54: 1.95 | L54: =J54*K54 -> 165750 | M54: 3.1481481 | O54: =L54/M54 -> 52650
C55: Oficial de construcción | J55: 140000 | K55: 1.95 | L55: =J55*K55 -> 273000 | M55: 4 | O55: =L55/M55 -> 68250
C58: SUBTOTAL $ | O58: =SUM(O54:O57) -> 120900
C60: TOTAL COSTO DIRECTO $ | O60: =ROUND((O32+O42+O49+O58),2) -> 664659.93
C61: V. COSTOS INDIRECTOS
C64: Descripción | L64: Porcentaje | M64: Total Costo Directo | O64: Valor Total
C65: ADMINISTRACION | L65: 0.25 | M65: =O$60 -> 664659.93 | O65: =L65*M65 -> 166164.98
C66: IMPREVISTOS | L66: 0.01 | M66: =O$60 -> 664659.93 | O66: =L66*M66 -> 6646.5993
C67: UTILIDAD | L67: 0.04 | M67: =O$60 -> 664659.93 | O67: =L67*M67 -> 26586.397
...

Sheet APU 2.2.2
B1: Formulario 1 - Propuesta económica - Documento tipo de selección abreviada de menor cuantía
B2: Versión: 1 del 21 de agosto de 2025
C5: [La entidad podrá utilizar este formato para la presentación de los análisis de precios unitarios el contratista en la oportunidad prevista en el numeral 8.2. del Documento Base]
D8: =DATOS!B17 -> MUNICIPIO DE HACARÍ - DEPARTAMENTO NORTE DE SANTANDER
L9: VERSIÓN
D10: =DATOS!B8 -> HA-SA-003-2026
L11: PÁGINA | M11: 1 | N11: DE | O11: 1
D13: ANALISIS DE PRECIOS UNITARIOS
L15: FECHA | M15: DD | N15: MM | O15: AA
M16: 22 | N16: 5 | O16: 2026
C17: ITEMS DE LA PROPUESTA ECONÓMICA | G17: X | I17: ITEMS NO PREVISTOS
C21: DATOS ESPECÍFICOS
C23: ITEM | D23: DESCRIPCIÓN | M23: UNIDAD | O23: CANTIDAD
C24: 2.2.2 | D24: CONCRETO PARA VIGAS DE CIMENTACIÓN 3000 PSI (INCLUYE TODO LO NECESARIO PARA SU CORRECTA EJECUCIÓN) | M24: M3 | O24: 5.54
C25: I. EQUIPO
C28: DESCRIPCIÓN | H28: MARCA | J28: TIPO | L28: TARIFA/HORA | M28: RENDIMIENTO | O28: Vr. UNITARIO
C29: Herramienta menor (5% mano de obra) | O29: =5%*O59 -> 11700
C30: Mezcladora de concreto | L30: =80000/8 -> 10000 | M30: 0.5 | O30: =L30/M30 -> 20000
C31: Vibrador de concreto | L31: =80000/8 -> 10000 | M31: 0.5 | O31: =L31/M31 -> 20000
C32: SUBTOTAL $ | O32: =SUM(O29:O31) -> 51700
C33: II. MATERIALES
C36: DESCRIPCIÓN | K36: UNIDAD | L36: CANTIDAD | M36: PRECIO UNIT. | O36: Vr. UNITARIO
C37: Cemento gris | K37: Kg | L37: 350 | M37: 800 | O37: =L37*M37 -> 280000
C38: Arena lavada | K38: M3 | L38: 0.6 | M38: 160000 | O38: =L38*M38 -> 96000
C39: Triturado | K39: M3 | L39: 0.9 | M39: 220000 | O39: =L39*M39 -> 198000
C40: Agua | K40: Lt | L40: 160 | M40: 49.9 | O40: =L40*M40 -> 7984
C41: Tabla de madera (3,00x0,30x0,02 m) | K41: Docena | L41: 0.2 | M41: 350000 | O41: =L41*M41 -> 70000
C42: Puntilla 2-1/2" | K42: Lb | L42: 0.2 | M42: 7000 | O42: =L42*M42 -> 1400
C43: SUBTOTAL $ | O43: =SUM(O37:O42) -> 653384
C44: III. TRANSPORTES
C47: MATERIAL | J47: VOL. o PESO | K47: DISTANCIA | L47: M3 o Ton/Km | M47: TARIFA | O47: Vr. UNITARIO
C48: Transporte (15% materiales en obra) | O48: =15%*O43 -> 98007.6
C50: SUBTOTAL $ | O50: =SUM(O48:O49) -> 98007.6
C51: IV. MANO DE OBRA
C54: TRABAJADOR | J54: JORNAL | K54: PRESTACIONES | L54: JORNAL TOTAL | M54: RENDIMIENTO | O54: Vr. UNITARIO
C55: Ayudante de construcción | J55: 85000 | K55: 1.95 | L55: =J55*K55 -> 165750 | M55: 1.7 | O55: =L55/M55 -> 97500
C56: Oficial de construcción | J56: 140000 | K56: 1.95 | L56: =J56*K56 -> 273000 | M56: 2 | O56: =L56/M56 -> 136500
C59: SUBTOTAL $ | O59: =SUM(O55:O58) -> 234000
C61: TOTAL COSTO DIRECTO $ | O61: =ROUND((O32+O43+O50+O59),2) -> 1037091.6
C62: V. COSTOS INDIRECTOS
...

Sheet APU 2.2.3
B1: Formulario 1 - Propuesta económica - Documento tipo de selección abreviada de menor cuantía
B2: Versión: 1 del 21 de agosto de 2025
C5: [La entidad podrá utilizar este formato para la presentación de los análisis de precios unitarios el contratista en la oportunidad prevista en el numeral 8.2. del Documento Base]
D8: =DATOS!B17 -> MUNICIPIO DE HACARÍ - DEPARTAMENTO NORTE DE SANTANDER
L9: VERSIÓN
D10: =DATOS!B8 -> HA-SA-003-2026
L11: PÁGINA | M11: 1 | N11: DE | O11: 1
D13: ANALISIS DE PRECIOS UNITARIOS
L15: FECHA | M15: DD | N15: MM | O15: AA
M16: 22 | N16: 5 | O16: 2026
C17: ITEMS DE LA PROPUESTA ECONÓMICA | G17: X | I17: ITEMS NO PREVISTOS
C21: DATOS ESPECÍFICOS
C23: ITEM | D23: DESCRIPCIÓN | M23: UNIDAD | O23: CANTIDAD
C24: 2.2.3 | D24: CONCRETO PARA ZAPATAS 3000 PSI (INCLUYE TODO LO NECESARIO PARA SU CORRECTA EJECUCIÓN) | M24: M3 | O24: 11.66
C25: I. EQUIPO
C28: DESCRIPCIÓN | H28: MARCA | J28: TIPO | L28: TARIFA/HORA | M28: RENDIMIENTO | O28: Vr. UNITARIO
C29: Herramienta menor (5% mano de obra) | O29: =5%*O57 -> 11700
C30: Mezcladora de concreto | L30: =80000/8 -> 10000 | M30: 0.5 | O30: =L30/M30 -> 20000
C31: Vibrador de concreto | L31: =80000/8 -> 10000 | M31: 0.5 | O31: =L31/M31 -> 20000
C32: SUBTOTAL $ | O32: =SUM(O29:O31) -> 51700
C33: II. MATERIALES
C36: DESCRIPCIÓN | K36: UNIDAD | L36: CANTIDAD | M36: PRECIO UNIT. | O36: Vr. UNITARIO
C37: Cemento gris | K37: Kg | L37: 350 | M37: 800 | O37: =L37*M37 -> 280000
C38: Arena lavada | K38: M3 | L38: 0.6 | M38: 160000 | O38: =L38*M38 -> 96000
C39: Triturado | K39: M3 | L39: 0.9 | M39: 220000 | O39: =L39*M39 -> 198000
C40: Agua | K40: Lt | L40: 160 | M40: 49.9 | O40: =L40*M40 -> 7984
C41: SUBTOTAL $ | O41: =SUM(O37:O40) -> 581984
C42: III. TRANSPORTES
C45: MATERIAL | J45: VOL. o PESO | K45: DISTANCIA | L45: M3 o Ton/Km | M45: TARIFA | O45: Vr. UNITARIO
C46: Transporte (15% materiales en obra) | O46: =15%*O41 -> 87297.6
C48: SUBTOTAL $ | O48: =SUM(O46:O47) -> 87297.6
C49: IV. MANO DE OBRA
C52: TRABAJADOR | J52: JORNAL | K52: PRESTACIONES | L52: JORNAL TOTAL | M52: RENDIMIENTO | O52: Vr. UNITARIO
C53: Ayudante de construcción | J53: 85000 | K53: 1.95 | L53: =J53*K53 -> 165750 | M53: 1.7 | O53: =L53/M53 -> 97500
C54: Oficial de construcción | J54: 140000 | K54: 1.95 | L54: =J54*K54 -> 273000 | M54: 2 | O54: =L54/M54 -> 136500
C57: SUBTOTAL $ | O57: =SUM(O53:O56) -> 234000
C59: TOTAL COSTO DIRECTO $ | O59: =ROUND((O32+O41+O48+O57),2) -> 954981.6
C60: V. COSTOS INDIRECTOS
C63: Descripción | L63: Porcentaje | M63: Total Costo Directo | O63: Valor Total
C64: ADMINISTRACION | L64: 0.25 | M64: =O$59 -> 954981.6 | O64: =L64*M64 -> 238745.4
...

Sheet APU 2.3.1
B1: Formulario 1 - Propuesta económica - Documento tipo de selección abreviada de menor cuantía
B2: Versión: 1 del 21 de agosto de 2025
C5: [La entidad podrá utilizar este formato para la presentación de los análisis de precios unitarios el contratista en la oportunidad prevista en el numeral 8.2. del Documento Base]
D8: =DATOS!B17 -> MUNICIPIO DE HACARÍ - DEPARTAMENTO NORTE DE SANTANDER
L9: VERSIÓN
D10: =DATOS!B8 -> HA-SA-003-2026
L11: PÁGINA | M11: 1 | N11: DE | O11: 1
D13: ANALISIS DE PRECIOS UNITARIOS
L15: FECHA | M15: DD | N15: MM | O15: AA
M16: 22 | N16: 5 | O16: 2026
C17: ITEMS DE LA PROPUESTA ECONÓMICA | G17: X | I17: ITEMS NO PREVISTOS
C21: DATOS ESPECÍFICOS
C23: ITEM | D23: DESCRIPCIÓN | M23: UNIDAD | O23: CANTIDAD
C24: 2.3.1 | D24: SUMINISTRO E INSTALACIÓN ACERO DE REFUERZO 60000 PSI | M24: KG | O24: 3593.96
C25: I. EQUIPO
C28: DESCRIPCIÓN | H28: MARCA | J28: TIPO | L28: TARIFA/HORA | M28: RENDIMIENTO | O28: Vr. UNITARIO
C29: Herramienta menor (5% mano de obra) | O29: =5%*O57 -> 151.12501
C30: Cizalla | L30: =15000/8 -> 1875 | M30: 13.042996 | O30: =L30/M30 -> 143.75532
C31: Dobladora | L31: =15000/8 -> 1875 | M31: 12 | O31: =L31/M31 -> 156.25
C32: SUBTOTAL $ | O32: =SUM(O29:O31) -> 451.13033
C33: II. MATERIALES
C36: DESCRIPCIÓN | K36: UNIDAD | L36: CANTIDAD | M36: PRECIO UNIT. | O36: Vr. UNITARIO
C37: Varilla corrugada de 1/2" | K37: Kg | L37: 1 | M37: =28000/(0.994*6) -> 4694.8357 | O37: =L37*M37 -> 4694.8357
C38: Alambre negro | K38: Kg | L38: 0.03 | M38: 8000 | O38: =L38*M38 -> 240
O39: =L39*M39 -> 0
O40: =L40*M40 -> 0
C41: SUBTOTAL $ | O41: =SUM(O37:O40) -> 4934.8357
C42: III. TRANSPORTES
C45: MATERIAL | J45: VOL. o PESO | K45: DISTANCIA | L45: M3 o Ton/Km | M45: TARIFA | O45: Vr. UNITARIO
C46: Transporte (15% materiales en obra) | O46: =15%*O41 -> 740.22535
C48: SUBTOTAL $ | O48: =SUM(O46:O47) -> 740.22535
C49: IV. MANO DE OBRA
C52: TRABAJADOR | J52: JORNAL | K52: PRESTACIONES | L52: JORNAL TOTAL | M52: RENDIMIENTO | O52: Vr. UNITARIO
C53: Ayudante de construcción | J53: 85000 | K53: 1.95 | L53: =J53*K53 -> 165750 | M53: 145.42771 | O53: =L53/M53 -> 1139.7415
C54: Oficial de construcción | J54: 140000 | K54: 1.95 | L54: =J54*K54 -> 273000 | M54: 145 | O54: =L54/M54 -> 1882.7586
C57: SUBTOTAL $ | O57: =SUM(O53:O56) -> 3022.5002
C59: TOTAL COSTO DIRECTO $ | O59: =ROUND((O32+O41+O48+O57),2) -> 9148.69
C60: V. COSTOS INDIRECTOS
C63: Descripción | L63: Porcentaje | M63: Total Costo Directo | O63: Valor Total
C64: ADMINISTRACION | L64: 0.25 | M64: =O$59 -> 9148.69 | O64: =L64*M64 -> 2287.1725
...

Sheet APU 2.4.1
B1: Formulario 1 - Propuesta económica - Documento tipo de selección abreviada de menor cuantía
B2: Versión: 1 del 21 de agosto de 2025
C5: [La entidad podrá utilizar este formato para la presentación de los análisis de precios unitarios el contratista en la oportunidad prevista en el numeral 8.2. del Documento Base]
D8: =DATOS!B17 -> MUNICIPIO DE HACARÍ - DEPARTAMENTO NORTE DE SANTANDER
L9: VERSIÓN
D10: =DATOS!B8 -> HA-SA-003-2026
L11: PÁGINA | M11: 1 | N11: DE | O11: 1
D13: ANALISIS DE PRECIOS UNITARIOS
L15: FECHA | M15: DD | N15: MM | O15: AA
M16: 22 | N16: 5 | O16: 2026
C17: ITEMS DE LA PROPUESTA ECONÓMICA | G17: X | I17: ITEMS NO PREVISTOS
C21: DATOS ESPECÍFICOS
C23: ITEM | D23: DESCRIPCIÓN | M23: UNIDAD | O23: CANTIDAD
C24: 2.4.1 | D24: FILTRO TIPO FRANCES DE 40X50 CM, CON MATERIAL FILTRANTE EN TRITURADO DE 7/8", GEOTEXTIL NO TEJIDO Y TUBERIA PVC SANITARIA DE 3" PERFORADA | M24: ML | O24: 11.3
C25: I. EQUIPO
C28: DESCRIPCIÓN | H28: MARCA | J28: TIPO | L28: TARIFA/HORA | M28: RENDIMIENTO | O28: Vr. UNITARIO
C29: Herramienta menor (5% mano de obra) | O29: =5%*O60 -> 4317.857
C32: SUBTOTAL $ | O32: =SUM(O29:O31) -> 4317.857
C33: II. MATERIALES
C36: DESCRIPCIÓN | K36: UNIDAD | L36: CANTIDAD | M36: PRECIO UNIT. | O36: Vr. UNITARIO
C37: Triturado | K37: M3 | L37: 0.2 | M37: 220000 | O37: =L37*M37 -> 44000
C38: Geotextil no tejido | K38: ML | L38: =0.5 -> 0.5 | M38: =14000 -> 14000 | O38: =L38*M38 -> 7000
C39: Tuberia pvc sanitaria 3" TP | K39: ML | L39: 1 | M39: =75000/6 -> 12500 | O39: =L39*M39 -> 12500
C40: Uniones pvc sanitaria 3" | K40: und | L40: =1/6 -> 0.16666667 | M40: 15000 | O40: =L40*M40 -> 2500
C41: Pegante PVC (1/4 gl) | K41: und | L41: 0.04 | M41: 80000 | O41: =L41*M41 -> 3200
C42: Limpiador para pvc | K42: und | L42: 0.03 | M42: 10000 | O42: =L42*M42 -> 300
C43: Broca metalica de 3/8" | K43: und | L43: 0.1 | M43: 10000 | O43: =L43*M43 -> 1000
C44: SUBTOTAL $ | O44: =SUM(O37:O43) -> 70500
C45: III. TRANSPORTES
C48: MATERIAL | J48: VOL. o PESO | K48: DISTANCIA | L48: M3 o Ton/Km | M48: TARIFA | O48: Vr. UNITARIO
C49: Transporte (15% materiales en obra) | O49: =15%*O44 -> 10575
C51: SUBTOTAL $ | O51: =SUM(O49:O50) -> 10575
C52: IV. MANO DE OBRA
C55: TRABAJADOR | J55: JORNAL | K55: PRESTACIONES | L55: JORNAL TOTAL | M55: RENDIMIENTO | O55: Vr. UNITARIO
C56: Ayudante de construcción | J56: 85000 | K56: 1.95 | L56: =J56*K56 -> 165750 | M56: 5.2192987 | O56: =L56/M56 -> 31757.14
C57: Oficial de construcción | J57: 140000 | K57: 1.95 | L57: =J57*K57 -> 273000 | M57: 5 | O57: =L57/M57 -> 54600
C60: SUBTOTAL $ | O60: =SUM(O56:O59) -> 86357.14
C62: TOTAL COSTO DIRECTO $ | O62: =ROUND((O32+O44+O51+O60),2) -> 171750
C63: V. COSTOS INDIRECTOS
C66: Descripción | L66: Porcentaje | M66: Total Costo Directo | O66: Valor Total
...

Sheet APU 3.1.1
B1: Formulario 1 - Propuesta económica - Documento tipo de selección abreviada de menor cuantía
B2: Versión: 1 del 21 de agosto de 2025
C5: [La entidad podrá utilizar este formato para la presentación de los análisis de precios unitarios el contratista en la oportunidad prevista en el numeral 8.2. del Documento Base]
D8: =DATOS!B17 -> MUNICIPIO DE HACARÍ - DEPARTAMENTO NORTE DE SANTANDER
L9: VERSIÓN
D10: =DATOS!B8 -> HA-SA-003-2026
L11: PÁGINA | M11: 1 | N11: DE | O11: 1
D13: ANALISIS DE PRECIOS UNITARIOS
L15: FECHA | M15: DD | N15: MM | O15: AA
M16: 22 | N16: 5 | O16: 2026
C17: ITEMS DE LA PROPUESTA ECONÓMICA | G17: X | I17: ITEMS NO PREVISTOS
C21: DATOS ESPECÍFICOS
C23: ITEM | D23: DESCRIPCIÓN | M23: UNIDAD | O23: CANTIDAD
C24: 3.1.1 | D24: TUBERIA PVC SANITARIA DE 2" (INCLUYE ATRAQUE EN CONCRETO) (INCLUYE ACCESORIOS) | M24: M | O24: 40
C25: I. EQUIPO
C28: DESCRIPCIÓN | H28: MARCA | J28: TIPO | L28: TARIFA/HORA | M28: RENDIMIENTO | O28: Vr. UNITARIO
C29: Herramienta menor (5% mano de obra) | O29: =5%*O57 -> 604.5
C32: SUBTOTAL $ | O32: =SUM(O29:O31) -> 604.5
C33: II. MATERIALES
C36: DESCRIPCIÓN | K36: UNIDAD | L36: CANTIDAD | M36: PRECIO UNIT. | O36: Vr. UNITARIO
C37: Tubo pvc sanitario 2" RDE 41 | K37: ML | L37: 1.05 | M37: 10000 | O37: =L37*M37 -> 10500
C38: Limpiador para pvc (1/4 gl) | K38: Und | L38: 0.05 | M38: 30000 | O38: =L38*M38 -> 1500
C39: Codo pvc 2"- Sanitario | K39: Und | L39: 1 | M39: 3500 | O39: =L39*M39 -> 3500
C40: Pegante PVC (1/4 gl) | K40: Und | L40: 0.05 | M40: 80000 | O40: =L40*M40 -> 4000
C41: SUBTOTAL $ | O41: =SUM(O37:O40) -> 19500
C42: III. TRANSPORTES
C45: MATERIAL | J45: VOL. o PESO | K45: DISTANCIA | L45: M3 o Ton/Km | M45: TARIFA | O45: Vr. UNITARIO
C46: Transporte (15% materiales en obra) | O46: =15%*O41 -> 2925
C48: SUBTOTAL $ | O48: =SUM(O46:O47) -> 2925
C49: IV. MANO DE OBRA
C52: TRABAJADOR | J52: JORNAL | K52: PRESTACIONES | L52: JORNAL TOTAL | M52: RENDIMIENTO | O52: Vr. UNITARIO
C53: Ayudante de construcción | J53: 85000 | K53: 1.95 | L53: =J53*K53 -> 165750 | M53: 36.778846 | O53: =L53/M53 -> 4506.6667
C54: Oficial de construcción | J54: 140000 | K54: 1.95 | L54: =J54*K54 -> 273000 | M54: 36 | O54: =L54/M54 -> 7583.3333
C57: SUBTOTAL $ | O57: =SUM(O53:O56) -> 12090
C59: TOTAL COSTO DIRECTO $ | O59: =ROUND((O32+O41+O48+O57),2) -> 35119.5
C60: V. COSTOS INDIRECTOS
C63: Descripción | L63: Porcentaje | M63: Total Costo Directo | O63: Valor Total
C64: ADMINISTRACION | L64: 0.25 | M64: =O$59 -> 35119.5 | O64: =L64*M64 -> 8779.875
C65: IMPREVISTOS | L65: 0.01 | M65: =O$59 -> 35119.5 | O65: =L65*M65 -> 351.195
C66: UTILIDAD | L66: 0.04 | M66: =O$59 -> 35119.5 | O66: =L66*M66 -> 1404.78
...

Sheet APU 3.1.2
B1: Formulario 1 - Propuesta económica - Documento tipo de selección abreviada de menor cuantía
B2: Versión: 1 del 21 de agosto de 2025
C5: [La entidad podrá utilizar este formato para la presentación de los análisis de precios unitarios el contratista en la oportunidad prevista en el numeral 8.2. del Documento Base]
D8: =DATOS!B17 -> MUNICIPIO DE HACARÍ - DEPARTAMENTO NORTE DE SANTANDER
L9: VERSIÓN
D10: =DATOS!B8 -> HA-SA-003-2026
L11: PÁGINA | M11: 1 | N11: DE | O11: 1
D13: ANALISIS DE PRECIOS UNITARIOS
L15: FECHA | M15: DD | N15: MM | O15: AA
M16: 22 | N16: 5 | O16: 2026
C17: ITEMS DE LA PROPUESTA ECONÓMICA | G17: X | I17: ITEMS NO PREVISTOS
C21: DATOS ESPECÍFICOS
C23: ITEM | D23: DESCRIPCIÓN | M23: UNIDAD | O23: CANTIDAD
C24: 3.1.2 | D24: TUBERIA PVC SANITARIA DE 4" (INCLUYE ATRAQUE EN CONCRETO) (INCLUYE ACCESORIOS) | M24: M | O24: 40
C25: I. EQUIPO
C28: DESCRIPCIÓN | H28: MARCA | J28: TIPO | L28: TARIFA/HORA | M28: RENDIMIENTO | O28: Vr. UNITARIO
C29: Herramienta menor (5% mano de obra) | O29: =5%*O57 -> 503.75
C32: SUBTOTAL $ | O32: =SUM(O29:O31) -> 503.75
C33: II. MATERIALES
C36: DESCRIPCIÓN | K36: UNIDAD | L36: CANTIDAD | M36: PRECIO UNIT. | O36: Vr. UNITARIO
C37: Tubo pvc sanitario 2" RDE 41 | K37: ML | L37: 1.05 | M37: 15000 | O37: =L37*M37 -> 15750
C38: Limpiador para pvc (1/4 gl) | K38: Und | L38: 0.15 | M38: 30000 | O38: =L38*M38 -> 4500
C39: Codo pvc 4"- Sanitario | K39: Und | L39: 1 | M39: 10000 | O39: =L39*M39 -> 10000
C40: Pegante PVC (1/4 gl) | K40: Und | L40: 0.15 | M40: 80000 | O40: =L40*M40 -> 12000
C41: SUBTOTAL $ | O41: =SUM(O37:O40) -> 42250
C42: III. TRANSPORTES
C45: MATERIAL | J45: VOL. o PESO | K45: DISTANCIA | L45: M3 o Ton/Km | M45: TARIFA | O45: Vr. UNITARIO
C46: Transporte (15% materiales en obra) | O46: =15%*O41 -> 6337.5
C48: SUBTOTAL $ | O48: =SUM(O46:O47) -> 6337.5
C49: IV. MANO DE OBRA
C52: TRABAJADOR | J52: JORNAL | K52: PRESTACIONES | L52: JORNAL TOTAL | M52: RENDIMIENTO | O52: Vr. UNITARIO
C53: Ayudante de construcción | J53: 85000 | K53: 1.95 | L53: =J53*K53 -> 165750 | M53: 44.482758 | O53: =L53/M53 -> 3726.1628
C54: Oficial de construcción | J54: 140000 | K54: 1.95 | L54: =J54*K54 -> 273000 | M54: 43 | O54: =L54/M54 -> 6348.8372
C57: SUBTOTAL $ | O57: =SUM(O53:O56) -> 10075
C59: TOTAL COSTO DIRECTO $ | O59: =ROUND((O32+O41+O48+O57),2) -> 59166.25
C60: V. COSTOS INDIRECTOS
C63: Descripción | L63: Porcentaje | M63: Total Costo Directo | O63: Valor Total
C64: ADMINISTRACION | L64: 0.25 | M64: =O$59 -> 59166.25 | O64: =L64*M64 -> 14791.562
C65: IMPREVISTOS | L65: 0.01 | M65: =O$59 -> 59166.25 | O65: =L65*M65 -> 591.6625
C66: UTILIDAD | L66: 0.04 | M66: =O$59 -> 59166.25 | O66: =L66*M66 -> 2366.65
...

Sheet APU 3.2.1
B1: Formulario 1 - Propuesta económica - Documento tipo de selección abreviada de menor cuantía
B2: Versión: 1 del 21 de agosto de 2025
C5: [La entidad podrá utilizar este formato para la presentación de los análisis de precios unitarios el contratista en la oportunidad prevista en el numeral 8.2. del Documento Base]
D8: =DATOS!B17 -> MUNICIPIO DE HACARÍ - DEPARTAMENTO NORTE DE SANTANDER
L9: VERSIÓN
D10: =DATOS!B8 -> HA-SA-003-2026
L11: PÁGINA | M11: 1 | N11: DE | O11: 1
D13: ANALISIS DE PRECIOS UNITARIOS
L15: FECHA | M15: DD | N15: MM | O15: AA
M16: 22 | N16: 5 | O16: 2026
C17: ITEMS DE LA PROPUESTA ECONÓMICA | G17: X | I17: ITEMS NO PREVISTOS
C21: DATOS ESPECÍFICOS
C23: ITEM | D23: DESCRIPCIÓN | M23: UNIDAD | O23: CANTIDAD
C24: 3.2.1 | D24: CAJA INSPECCION 60 X 60 X 60 CM (INC. BASE Y CAÑUELA Y TAPA CON MARCO METALICO) | M24: UND | O24: 1
C25: I. EQUIPO
C28: DESCRIPCIÓN | H28: MARCA | J28: TIPO | L28: TARIFA/HORA | M28: RENDIMIENTO | O28: Vr. UNITARIO
C29: Herramienta menor (5% mano de obra) | O29: =5%*O58 -> 6045
C32: SUBTOTAL $ | O32: =SUM(O29:O31) -> 6045
C33: II. MATERIALES
C36: DESCRIPCIÓN | K36: UNIDAD | L36: CANTIDAD | M36: PRECIO UNIT. | O36: Vr. UNITARIO
C37: Marco y tapa 60X60 | K37: und | L37: 1 | M37: 120000 | O37: =L37*M37 -> 120000
C38: Ladrillo macizo prensado 24x12x6,5 cm | K38: Und | L38: 100 | M38: 1200 | O38: =L38*M38 -> 120000
C39: Subbase granular | K39: m3 | L39: 0.1 | M39: 140000 | O39: =L39*M39 -> 14000
C40: Mortero 1:3 impermeabilizado | K40: m3 | L40: 0.15 | M40: 664000 | O40: =L40*M40 -> 99600
C41: Concreto 3000 psi | K41: m3 | L41: 0.15 | M41: 950000 | O41: =L41*M41 -> 142500
C42: SUBTOTAL $ | O42: =SUM(O37:O41) -> 496100
C43: III. TRANSPORTES
C46: MATERIAL | J46: VOL. o PESO | K46: DISTANCIA | L46: M3 o Ton/Km | M46: TARIFA | O46: Vr. UNITARIO
C47: Transporte (15% materiales en obra) | O47: =15%*O42 -> 74415
C49: SUBTOTAL $ | O49: =SUM(O47:O48) -> 74415
C50: IV. MANO DE OBRA
C53: TRABAJADOR | J53: JORNAL | K53: PRESTACIONES | L53: JORNAL TOTAL | M53: RENDIMIENTO | O53: Vr. UNITARIO
C54: Ayudante de construcción | J54: 85000 | K54: 1.95 | L54: =J54*K54 -> 165750 | M54: 3.1481481 | O54: =L54/M54 -> 52650
C55: Oficial de construcción | J55: 140000 | K55: 1.95 | L55: =J55*K55 -> 273000 | M55: 4 | O55: =L55/M55 -> 68250
C58: SUBTOTAL $ | O58: =SUM(O54:O57) -> 120900
C60: TOTAL COSTO DIRECTO $ | O60: =ROUND((O32+O42+O49+O58),2) -> 697460
C61: V. COSTOS INDIRECTOS
C64: Descripción | L64: Porcentaje | M64: Total Costo Directo | O64: Valor Total
C65: ADMINISTRACION | L65: 0.25 | M65: =O$60 -> 697460 | O65: =L65*M65 -> 174365
C66: IMPREVISTOS | L66: 0.01 | M66: =O$60 -> 697460 | O66: =L66*M66 -> 6974.6
...

Sheet APU 4.1.1
B1: Formulario 1 - Propuesta económica - Documento tipo de selección abreviada de menor cuantía
B2: Versión: 1 del 21 de agosto de 2025
C5: [La entidad podrá utilizar este formato para la presentación de los análisis de precios unitarios el contratista en la oportunidad prevista en el numeral 8.2. del Documento Base]
D8: =DATOS!B17 -> MUNICIPIO DE HACARÍ - DEPARTAMENTO NORTE DE SANTANDER
L9: VERSIÓN
D10: =DATOS!B8 -> HA-SA-003-2026
L11: PÁGINA | M11: 1 | N11: DE | O11: 1
D13: ANALISIS DE PRECIOS UNITARIOS
L15: FECHA | M15: DD | N15: MM | O15: AA
M16: 22 | N16: 5 | O16: 2026
C17: ITEMS DE LA PROPUESTA ECONÓMICA | G17: X | I17: ITEMS NO PREVISTOS
C21: DATOS ESPECÍFICOS
C23: ITEM | D23: DESCRIPCIÓN | M23: UNIDAD | O23: CANTIDAD
C24: 4.1.1 | D24: COLUMNAS EN CONCRETO DE 3000 PSI | M24: M3 | O24: 6.38
C25: I. EQUIPO
C28: DESCRIPCIÓN | H28: MARCA | J28: TIPO | L28: TARIFA/HORA | M28: RENDIMIENTO | O28: Vr. UNITARIO
C29: Herramienta menor (5% mano de obra) | O29: =5%*O59 -> 11700
C30: Mezcladora de concreto | L30: =80000/8 -> 10000 | M30: 0.5 | O30: =L30/M30 -> 20000
C31: Vibrador de concreto | L31: =80000/8 -> 10000 | M31: 0.5 | O31: =L31/M31 -> 20000
C32: SUBTOTAL $ | O32: =SUM(O29:O31) -> 51700
C33: II. MATERIALES
C36: DESCRIPCIÓN | K36: UNIDAD | L36: CANTIDAD | M36: PRECIO UNIT. | O36: Vr. UNITARIO
C37: Cemento gris | K37: Kg | L37: 350 | M37: 800 | O37: =L37*M37 -> 280000
C38: Arena lavada | K38: M3 | L38: 0.6 | M38: 160000 | O38: =L38*M38 -> 96000
C39: Triturado | K39: M3 | L39: 0.9 | M39: 220000 | O39: =L39*M39 -> 198000
C40: Agua | K40: Lt | L40: 160 | M40: 49.9 | O40: =L40*M40 -> 7984
C41: Tabla de madera (3,00x0,30x0,02 m) | K41: Docena | L41: 0.6 | M41: 350000 | O41: =L41*M41 -> 210000
C42: Puntilla 2-1/2" | K42: Lb | L42: 0.2 | M42: 7000 | O42: =L42*M42 -> 1400
C43: SUBTOTAL $ | O43: =SUM(O37:O42) -> 793384
C44: III. TRANSPORTES
C47: MATERIAL | J47: VOL. o PESO | K47: DISTANCIA | L47: M3 o Ton/Km | M47: TARIFA | O47: Vr. UNITARIO
C48: Transporte (15% materiales en obra) | O48: =15%*O43 -> 119007.6
C50: SUBTOTAL $ | O50: =SUM(O48:O49) -> 119007.6
C51: IV. MANO DE OBRA
