Workbook
Name a1_Y1: [2]CONFIGURACIÓN!$D$17
Name a1_Y2: [2]CONFIGURACIÓN!$E$17
Name a10_Y10: [2]CONFIGURACIÓN!$M$26
Name a10_Y11: [2]CONFIGURACIÓN!$N$26
Name a2_Y2: [2]CONFIGURACIÓN!$E$18
Name a2_Y3: [2]CONFIGURACIÓN!$F$18
Name a3_Y3: [2]CONFIGURACIÓN!$F$19
Name a3_Y4: [2]CONFIGURACIÓN!$G$19
Name a4_Y4: [2]CONFIGURACIÓN!$G$20
Name a4_Y5: [2]CONFIGURACIÓN!$H$20
Name a5_Y5: [2]CONFIGURACIÓN!$H$21
Name a5_Y6: [2]CONFIGURACIÓN!$I$21
Name a6_Y6: [2]CONFIGURACIÓN!$I$22
Name a6_Y7: [2]CONFIGURACIÓN!$J$22
Name a7_Y7: [2]CONFIGURACIÓN!$J$23
Name a7_Y8: [2]CONFIGURACIÓN!$K$23
Name a8_Y8: [2]CONFIGURACIÓN!$K$24
Name a8_Y9: [2]CONFIGURACIÓN!$L$24
Name a9_Y10: [2]CONFIGURACIÓN!$M$25
Name a9_Y9: [2]CONFIGURACIÓN!$L$25
Name ALMUERZO: '[3]Resumen Preparaciones'!$C$52:$C$113
Name almuerzocena: '[3]Resumen Preparaciones'!$C$52:$C$141
Name año1: [2]CONFIGURACIÓN!$F$9
Name APLICA: #REF!
Name APLICA.: #REF!
Name bbb: [4]lista!$A$11:$A$13
Name CALENDARIO: [2]CALENDARIO!$B$6:$H$161
Name Calidad: [5]PERSONAL!$P$58
Name Campamento: [5]PERSONAL!$P$122
Name Comercio: [6]OCULTAR!$F$14:$G$17
Name Decision: [4]lista!$A$6:$A$7
Name dependencia: '[7]Datos Inciales'!$B$5:$B$30
Name desayuno: '[3]Resumen Preparaciones'!$C$5:$C$50
Name DESAYUNOS: '[3]Resumen Preparaciones'!$C$5:$C$33
Name Ensayos: [5]PERSONAL!$P$100
Name Estrategia: [8]Tablas!$F$2:$F$34
Name EUR: '[2]DATOS ENTRADA'!$E$2
Name fecha_fin_servicio: [2]CONFIGURACIÓN!$C$10
Name fecha_inicio_servicio: [2]CONFIGURACIÓN!$C$9
Name Fuente: [8]Tablas!$D$2:$D$10
Name FUENTES: '[7]Datos Inciales'!$B$40:$B$49
Name GRUPO: #REF!
Name horas_jornada: [2]CONFIGURACIÓN!$C$12
Name horas_ubicacion1: [2]CONFIGURACIÓN!$C$47
Name horas_ubicacion2: [2]CONFIGURACIÓN!$C$48
Name horas_ubicacion3: [2]CONFIGURACIÓN!$C$49
Name horas_ubicacion4: [2]CONFIGURACIÓN!$C$50
Name horas_ubicacion5: [2]CONFIGURACIÓN!$C$51
Name horas_ubicacion6: [2]CONFIGURACIÓN!$C$52
Name horas_ubicacion7: [2]CONFIGURACIÓN!$C$53
Name Info_Prazo_do_contrato: [9]Seletor!$C$13
Name IVASobreUtilidad: [5]IMPUESTOS!$E$16
Name lista_hnp: '[2]COSTES NO SSPP'!$B$24:$B$33
Name lista_lineas_reparto: '[2]HW&SW'!$C$314:$C$324
Name lista_localizaciones: [2]CONFIGURACIÓN!$B$47:$B$53
Name lista_paises: '[2]DATOS MAESTROS'!$B$13:$B$39
Name lista_perfiles_esp: [2]TASAS!$D$7:$D$198
Name lista_perfiles_resto: [2]TASAS!$B$330:$B$450
Name M: [6]OCULTAR!$B$14:$B$17
Name Manufacturero: [6]OCULTAR!$B$14:$C$17

Sheet Matriz de Calculo
B2: #VALUE! | D2: República de Colombia | P2: #VALUE!
D3: Instituto Colombiano de Antropología e Historia
D5: ESTUDIO DE MERCADO
B7: ÍTEM | C7: SEDE | D7: DESCRIPCIÓN | E7: REFERENCIA | F7: ALCANCE MINIMO | G7: CANTIDAD DE EQUIPOS | H7: CANTIDAD DE MANTENIMIENTOS | I7: Muestra 1 | J7: Muestra 2 | K7: Muestra 3 | L7: Muestra 4 | M7: Coeficiente deVariación | N7: Promedio | O7: Mediana | P7: Media Geometrica | Q7: Media Armonica
I8: ='1. SELTEL S.A.S.'!D7 -> SELTEL S.A.S. | J8: ='2. ING ELECTROMECA'!D7 -> INGENIEROS ELECTROMECANICOS SAS | K8: L Y S INGENIERIA SAS (2025) + IPC ABRIL 2026 DANE (5,16)
I9: Precio unitario (Incluidos Impuestos) | J9: Precio unitario (Incluidos Impuestos) | K9: Precio unitario (Incluidos Impuestos) | L9: Precio unitario (Incluidos Impuestos)
B10: 1.1 | C10: PARQUE TEYUNA Parque Arqueológico Teyuna – Ciudad Perdida. Sierra Nevada de Santa Marta, Resguardo Kogüi-malayo -Arhuaco – Distrito Turístico, Cultural e Histórico de Santa Marta, Magdalena | D10: GENERADORE S ELÉCTRICOS | E10: Panel Solar Kyocera KC65 - Con accesorios | F10: Mantenimiento general del sistema de paneles solares, inlcuye limpeza general de equipos compuesto por 12 paneles solares y 8 baterias | G10: 1 | H10: 1 | I10: ='1. SELTEL S.A.S.'!I18 -> 2778704 | J10: ='2. ING ELECTROMECA'!I18 -> 2875000 | K10: =IF('3. EM 2025 + IPC'!I18*(1+($K$79/100))=0,"",'3. EM 2025 + IPC'!I18*(1+($K$79/100))) -> 2676453.5 | M10: =STDEVP(I10:L10)/AVERAGE(I10:L10) -> 0.029195765 | N10: =ROUND(AVERAGE(I10:L10),-2) -> 2776700 | O10: =ROUND(MEDIAN(I10:K10),-2) -> 2778700 | P10: =ROUND(GEOMEAN(I10:L10),-2) -> 2775500 | Q10: =ROUND(HARMEAN(I10:L10),-2) -> 2774300
E11: Planta eléctrica portátil Portel Cable 3.500 W | F11: Mantenimiento preventivo equipo portatil, incluye limpieza general de equipo (interior-exterior), mantenimiento de motor, cambio de aceite y filtro de aceite, sustitucion de filtro de aire del motor, cambio de correas de elementos auxiliares, mantenimiento del alternador inspeccion sistema de refigeracion y cambio de refigerante, servicio a la válvula de combustible, cambio de bujía y lo demas necesario para su correcto funcionamiento. | G11: 1 | H11: 1 | I11: ='1. SELTEL S.A.S.'!I19 -> 2576117 | J11: ='2. ING ELECTROMECA'!I19 -> 2640000 | K11: =IF('3. EM 2025 + IPC'!I19*(1+($K$79/100))=0,"",'3. EM 2025 + IPC'!I19*(1+($K$79/100))) -> 2484448.1 | M11: =STDEVP(I11:L11)/AVERAGE(I11:L11) -> 0.024871139 | N11: =ROUND(AVERAGE(I11:L11),-2) -> 2566900 | O11: =ROUND(MEDIAN(I11:K11),-2) -> 2576100 | P11: =ROUND(GEOMEAN(I11:L11),-2) -> 2566100 | Q11: =ROUND(HARMEAN(I11:L11),-2) -> 2565300
E12: Planta eléctrica Portel Cable 1200 W | F12: Mantenimiento preventivo equipo portatil, incluye limpieza general de equipo (interior-exterior), mantenimiento de motor, cambio de aceite y filtro de aceite, sustitucion de filtro de aire del motor, cambio de correas de elementos auxiliares, mantenimiento del alternador inspeccion sistema de refigeracion y cambio de refigerante, servicio a la válvula de combustible, cambio de bujía y lo demas necesario para su correcto funcionamiento. | G12: 1 | H12: 1 | I12: ='1. SELTEL S.A.S.'!I20 -> 2090502 | J12: ='2. ING ELECTROMECA'!I20 -> 2236000 | K12: =IF('3. EM 2025 + IPC'!I20*(1+($K$79/100))=0,"",'3. EM 2025 + IPC'!I20*(1+($K$79/100))) -> 1947694.7 | M12: =STDEVP(I12:L12)/AVERAGE(I12:L12) -> 0.056279018 | N12: =ROUND(AVERAGE(I12:L12),-2) -> 2091400 | O12: =ROUND(MEDIAN(I12:K12),-2) -> 2090500 | P12: =ROUND(GEOMEAN(I12:L12),-2) -> 2088100 | Q12: =ROUND(HARMEAN(I12:L12),-2) -> 2084800
B13: 1.2 | D13: MOTOBOMBA AUTOMÁTICA | E13: Motobomba Toolcraft Potencia máxima 4097w-Motor a gasolina | F13: Mantenimiento preventivo de equipo de bombeo incluye limpieza general del equipo, ajuste de contactos, revision de rodamientos y sello mecánico, lavado de embobinado de motor, revisión de parámetros y pruebas de aislamiento y lo demas necesario para su correcto funcionamiento. | G13: 1 | H13: 1 | I13: ='1. SELTEL S.A.S.'!I21 -> 1731170 | J13: ='2. ING ELECTROMECA'!I21 -> 1860000 | K13: =IF('3. EM 2025 + IPC'!I21*(1+($K$79/100))=0,"",'3. EM 2025 + IPC'!I21*(1+($K$79/100))) -> 1649944.6 | M13: =STDEVP(I13:L13)/AVERAGE(I13:L13) -> 0.049504185 | N13: =ROUND(AVERAGE(I13:L13),-2) -> 1747000 | O13: =ROUND(MEDIAN(I13:K13),-2) -> 1731200 | P13: =ROUND(GEOMEAN(I13:L13),-2) -> 1744900 | Q13: =ROUND(HARMEAN(I13:L13),-2) -> 1742800
B14: 1.3 | D14: EQUIPO DE SOLDADURA | E14: Maquina de soldadura TIG-220GP modelo TIG-220GP | F14: Mantenimiento preventivo de equipo de soldadura, incluye limpieza general del equipo (interior-exterior), revisión de conexiones eléctricas, verificación de componentes internos, inspección de cables y accesorios, pruebas de funcionamiento y ajustes básicos, así como las demás actividades necesarias para garantizar su correcto funcionamiento. | G14: 1 | H14: 1 | I14: ='1. SELTEL S.A.S.'!I22 -> 850000 | J14: ='2. ING ELECTROMECA'!I22 -> 1450000 | K14: =IF('3. EM 2025 + IPC'!I22*(1+($K$79/100))=0,"",'3. EM 2025 + IPC'!I22*(1+($K$79/100))) | M14: =STDEVP(I14:L14)/AVERAGE(I14:L14) -> 0.26086957 | N14: =ROUND(AVERAGE(I14:L14),-2) -> 1150000 | O14: =ROUND(MEDIAN(I14:K14),-2) -> 1150000 | P14: =ROUND(GEOMEAN(I14:L14),-2) -> 1110200 | Q14: =ROUND(HARMEAN(I14:L14),-2) -> 1071700
B15: 2.1 | C15: CASA ADMINISTRA TIVA SEDE SANTA MARTA Santa Marta "Calle 17 No. 3-72" | D15: GENERADORES ELÉCTRICOS | E15: Planta eléctrica portátil Portel Cable 3.500 W | F15: Mantenimiento preventivo equipo portatil, incluye limpieza general de equipo (interior-exterior), mantenimiento de motor, cambio de aceite y filtro de aceite, sustitucion de filtro de aire del motor, cambio de correas de elementos auxiliares, mantenimiento del alternador inspeccion sistema de refigeracion y cambio de refigerante, servicio a la válvula de combustible, cambio de bujía y lo demas necesario para su correcto funcionamiento. | G15: 1 | H15: 1 | I15: ='1. SELTEL S.A.S.'!I23 -> 1061886 | J15: ='2. ING ELECTROMECA'!I23 -> 1180000 | K15: =IF('3. EM 2025 + IPC'!I23*(1+($K$79/100))=0,"",'3. EM 2025 + IPC'!I23*(1+($K$79/100))) -> 1319181.7 | M15: =STDEVP(I15:L15)/AVERAGE(I15:L15) -> 0.088589595 | N15: =ROUND(AVERAGE(I15:L15),-2) -> 1187000 | O15: =ROUND(MEDIAN(I15:K15),-2) -> 1180000 | P15: =ROUND(GEOMEAN(I15:L15),-2) -> 1182400 | Q15: =ROUND(HARMEAN(I15:L15),-2) -> 1177800
B16: 2.2 | D16: AIRE ACONDICIONADO | E16: Aire acondicionado piso techo Ref / 12000 BTU | F16: Unidades Manejadoras Limpieza de bandeja de condensado, Limpieza de drenajes, Limpieza, sanitización e higienización serpentín evaporador, Mediciones de parámetros eléctricos, Revisión y limpieza de válvulas, Limpieza de filtros de aire, Revisión de lecturas eléctricas, temperatura, presiones alta y baja en circuitos de refrigeración, operación de motores y compresores. Unidades Condensadoras Limpieza y sanitización serpentín de la condensadora, Mediciones de parámetros eléctricos compresor, Revisión presiones de refrigerante de succión, descarga compresor con manómetros, Limpieza general de unidad, Verificación de niveles y presiones de aceite Verificación del estado de correas y poleas, Verificación del alineamiento de trasmisión de potencia, Revisión de rodamientos y chumaceras, Verificación del estado del sistema de acople a la red de ductos, Verificación del aislamiento térmico, Ajuste general de la unidad Revisión de la carga de refrigerante con manómetros, Revisión de tuberías para detectar posibles fugas, Inspección de mirillas de líquido para verificar estado de humedad en los circuitos, Verificación del estado del aislamiento térmico, Circuito de Refrigeración, Inspección visual de tuberías, Inspección y limpieza de conductos de expulsión de calor Revisión de válvulas de paso. Revisión Eléctrica Limpieza general de contactos eléctricos, fuerza y control de sulfatación de terminales, limpieza general de tableros, Ajuste de terminales eléctricos y de sulfatación, Verificación de la operación de sistemas de control, Ajuste del control de temperatura. | G16: 3 | H16: 1 | I16: ='1. SELTEL S.A.S.'!I24 -> 500000 | J16: ='2. ING ELECTROMECA'!I24 -> 950000 | K16: =IF('3. EM 2025 + IPC'!I24*(1+($K$79/100))=0,"",'3. EM 2025 + IPC'!I24*(1+($K$79/100))) -> 853112.6 | M16: =STDEVP(I16:L16)/AVERAGE(I16:L16) -> 0.25189885 | N16: =ROUND(AVERAGE(I16:L16),-2) -> 767700 | O16: =ROUND(MEDIAN(I16:K16),-2) -> 853100 | P16: =ROUND(GEOMEAN(I16:L16),-2) -> 740000 | Q16: =ROUND(HARMEAN(I16:L16),-2) -> 710100
E17: Aire acondicionado Wurden piso techo Inverter Ref / 18000 BTU | G17: 2 | H17: 1 | I17: ='1. SELTEL S.A.S.'!I25 -> 588540 | J17: ='2. ING ELECTROMECA'!I25 -> 950000 | K17: =IF('3. EM 2025 + IPC'!I25*(1+($K$79/100))=0,"",'3. EM 2025 + IPC'!I25*(1+($K$79/100))) -> 853112.6 | M17: =STDEVP(I17:L17)/AVERAGE(I17:L17) -> 0.19162494 | N17: =ROUND(AVERAGE(I17:L17),-2) -> 797200 | O17: =ROUND(MEDIAN(I17:K17),-2) -> 853100 | P17: =ROUND(GEOMEAN(I17:L17),-2) -> 781300 | Q17: =ROUND(HARMEAN(I17:L17),-2) -> 764500
E18: Aire acondicionado Wurden piso techo Inverter Ref / 24000 BTU | G18: 2 | H18: 1 | I18: ='1. SELTEL S.A.S.'!I26 -> 588540 | J18: ='2. ING ELECTROMECA'!I26 -> 950000 | K18: =IF('3. EM 2025 + IPC'!I26*(1+($K$79/100))=0,"",'3. EM 2025 + IPC'!I26*(1+($K$79/100))) -> 853112.6 | M18: =STDEVP(I18:L18)/AVERAGE(I18:L18) -> 0.19162494 | N18: =ROUND(AVERAGE(I18:L18),-2) -> 797200 | O18: =ROUND(MEDIAN(I18:K18),-2) -> 853100 | P18: =ROUND(GEOMEAN(I18:L18),-2) -> 781300 | Q18: =ROUND(HARMEAN(I18:L18),-2) -> 764500
E19: Aire acondicionado piso techo LG Ref AUNQ36EM / 36000 BTU | G19: 2 | H19: 1 | I19: ='1. SELTEL S.A.S.'!I27 -> 1070660 | J19: ='2. ING ELECTROMECA'!I27 -> 1956000 | M19: =STDEVP(I19:L19)/AVERAGE(I19:L19) -> 0.29251386 | N19: =ROUND(AVERAGE(I19:L19),-2) -> 1513300 | O19: =ROUND(MEDIAN(I19:K19),-2) -> 1513300 | P19: =ROUND(GEOMEAN(I19:L19),-2) -> 1447100 | Q19: =ROUND(HARMEAN(I19:L19),-2) -> 1383800
B20: 2.3 | D20: ELECTROBOMBA | E20: Electrobomba predollo modelo CPM620 TANQUE DE PRECIÓN MENBRANA DE 100 LITROS/ 1 HP | F20: Mantenimiento preventivo de sistema de presurizacion incluye limpieza general de equipos, ajuste de contactos, revision de rodamientos y sello mecánico, revision y mantenimiento de tanque hidroflo, ajuste de cableado, lavado de embobinado de motor, revisión de parámetros y pruebas de aislamiento y lo demas necesario para su correcto funcionamiento. | G20: 1 | H20: 1 | I20: ='1. SELTEL S.A.S.'!I28 -> 1350000 | J20: ='2. ING ELECTROMECA'!I28 -> 1723000 | K20: =IF('3. EM 2025 + IPC'!I28*(1+($K$79/100))=0,"",'3. EM 2025 + IPC'!I28*(1+($K$79/100))) | M20: =STDEVP(I20:L20)/AVERAGE(I20:L20) -> 0.12137976 | N20: =ROUND(AVERAGE(I20:L20),-2) -> 1536500 | O20: =ROUND(MEDIAN(I20:K20),-2) -> 1536500 | P20: =ROUND(GEOMEAN(I20:L20),-2) -> 1525100 | Q20: =ROUND(HARMEAN(I20:L20),-2) -> 1513900
B21: 3.1 | C21: PARQUE ARQUEOLOGICO TIERRADENTRO Vereda El Escaño bajo (El Escaño Parque) – Resguardo San Andrés de Pisimbalá | D21: BOMBAS | E21: Motobomba Toolcraft Potencia máxima 4097w-Motor a gasolina | F21: Mantenimiento preventivo de equipo de bombeo incluye limpieza general del equipo, ajuste de contactos, revision de rodamientos y sello mecánico, lavado de embobinado de motor, revisión de parámetros y pruebas de aislamiento y lo demas necesario para su correcto funcionamiento. | G21: 1 | H21: 1 | I21: ='1. SELTEL S.A.S.'!I29 -> 1705522 | J21: ='2. ING ELECTROMECA'!I29 -> 1700000 | K21: =IF('3. EM 2025 + IPC'!I29*(1+($K$79/100))=0,"",'3. EM 2025 + IPC'!I29*(1+($K$79/100))) -> 1649944.6 | M21: =STDEVP(I21:L21)/AVERAGE(I21:L21) -> 0.014835264 | N21: =ROUND(AVERAGE(I21:L21),-2) -> 1685200 | O21: =ROUND(MEDIAN(I21:K21),-2) -> 1700000 | P21: =ROUND(GEOMEAN(I21:L21),-2) -> 1685000 | Q21: =ROUND(HARMEAN(I21:L21),-2) -> 1684800
B22: 3.2 | D22: COMPRESOR AIRE | E22: Compresor de aire marca Toolcraft de 2,5 HP | F22: Mantenimiento preventivo equipo compresor portatil incluye limpieza general del equipo, cambio de filtro, aceites, correa y rodamientos. | G22: 1 | H22: 1 | I22: ='1. SELTEL S.A.S.'!I30 -> 744976 | J22: ='2. ING ELECTROMECA'!I30 -> 767000 | K22: =IF('3. EM 2025 + IPC'!I30*(1+($K$79/100))=0,"",'3. EM 2025 + IPC'!I30*(1+($K$79/100))) -> 692567.99 | M22: =STDEVP(I22:L22)/AVERAGE(I22:L22) -> 0.042483973 | N22: =ROUND(AVERAGE(I22:L22),-2) -> 734800 | O22: =ROUND(MEDIAN(I22:K22),-2) -> 745000 | P22: =ROUND(GEOMEAN(I22:L22),-2) -> 734200 | Q22: =ROUND(HARMEAN(I22:L22),-2) -> 733500
E23: Compresor de aire Siemens HP 1/2 RMP 1730 | F23: Mantenimiento preventivo equipo compresor portatil incluye limpieza general del equipo, cambio de filtro, aceites, correa y rodamientos. | G23: 1 | H23: 1 | I23: ='1. SELTEL S.A.S.'!I31 -> 292943 | J23: ='2. ING ELECTROMECA'!I31 -> 380000 | K23: =IF('3. EM 2025 + IPC'!I31*(1+($K$79/100))=0,"",'3. EM 2025 + IPC'!I31*(1+($K$79/100))) -> 267720.53 | M23: =STDEVP(I23:L23)/AVERAGE(I23:L23) -> 0.15339971 | N23: =ROUND(AVERAGE(I23:L23),-2) -> 313600 | O23: =ROUND(MEDIAN(I23:K23),-2) -> 292900 | P23: =ROUND(GEOMEAN(I23:L23),-2) -> 310000 | Q23: =ROUND(HARMEAN(I23:L23),-2) -> 306700
B24: 3.3 | D24: GENERADORES ELÉCTRICOS | E24: Planta eléctrica portátil Portel Cable / 6500W / voltaje 110-220 /Combustible gasolina. | F24: Mantenimiento preventivo equipo portatil, incluye limpieza general de equipo ( interior-exterior), mantenimiento de motor, cambio de aceite y filtro de aceite, sustitucion de filtro de aire del motor, cambio de correas de elementos auxiliares, mantenimiento del alternador inspeccion sistema de refigeracion y cambio de refigerante, servicio a la válvula de combustible, cambio de bujía y lo demas necesario para su correcto funcionamiento. | G24: 1 | H24: 1 | I24: ='1. SELTEL S.A.S.'!I32 -> 2702324 | J24: ='2. ING ELECTROMECA'!I32 -> 2800000 | K24: =IF('3. EM 2025 + IPC'!I32*(1+($K$79/100))=0,"",'3. EM 2025 + IPC'!I32*(1+($K$79/100))) -> 2579096.3 | M24: =STDEVP(I24:L24)/AVERAGE(I24:L24) -> 0.033552675 | N24: =ROUND(AVERAGE(I24:L24),-2) -> 2693800 | O24: =ROUND(MEDIAN(I24:K24),-2) -> 2702300 | P24: =ROUND(GEOMEAN(I24:L24),-2) -> 2692300 | Q24: =ROUND(HARMEAN(I24:L24),-2) -> 2690800
E25: Planta eléctrica portátil Honda 650 / voltaje 110-220 / Combustible gasolina. | F25: Mantenimiento preventivo equipo portatil, incluye limpieza general de equipo ( interior-exterior), mantenimiento de motor, cambio de aceite y filtro de aceite, sustitucion de filtro de aire del motor, cambio de correas de elementos auxiliares, mantenimiento del alternador inspeccion sistema de refigeracion y cambio de refigerante, servicio a la válvula de combustible, cambio de bujía y lo demas necesario para su correcto funcionamiento. | G25: 1 | H25: 1 | I25: ='1. SELTEL S.A.S.'!I33 -> 795000 | J25: ='2. ING ELECTROMECA'!I33 -> 825000 | K25: =IF('3. EM 2025 + IPC'!I33*(1+($K$79/100))=0,"",'3. EM 2025 + IPC'!I33*(1+($K$79/100))) -> 788700 | M25: =STDEVP(I25:L25)/AVERAGE(I25:L25) -> 0.019725119 | N25: =ROUND(AVERAGE(I25:L25),-2) -> 802900 | O25: =ROUND(MEDIAN(I25:K25),-2) -> 795000 | P25: =ROUND(GEOMEAN(I25:L25),-2) -> 802700 | Q25: =ROUND(HARMEAN(I25:L25),-2) -> 802600
E26: Planta eléctrica portátil Honda 950 / voltaje 110-220 / Combustible gasolina. | F26: Mantenimiento preventivo equipo portatil, incluye limpieza general de equipo ( interior-exterior), mantenimiento de motor, cambio de aceite y filtro de aceite, sustitucion de filtro de aire del motor, cambio de correas de elementos auxiliares, mantenimiento del alternador inspeccion sistema de refigeracion y cambio de refigerante, servicio a la válvula de combustible, cambio de bujía y lo demas necesario para su correcto funcionamiento. | G26: 1 | H26: 1 | I26: ='1. SELTEL S.A.S.'!I34 -> 932257 | J26: ='2. ING ELECTROMECA'!I34 -> 1030000 | K26: =IF('3. EM 2025 + IPC'!I34*(1+($K$79/100))=0,"",'3. EM 2025 + IPC'!I34*(1+($K$79/100))) -> 893860 | M26: =STDEVP(I26:L26)/AVERAGE(I26:L26) -> 0.060199352 | N26: =ROUND(AVERAGE(I26:L26),-2) -> 952000 | O26: =ROUND(MEDIAN(I26:K26),-2) -> 932300 | P26: =ROUND(GEOMEAN(I26:L26),-2) -> 950300 | Q26: =ROUND(HARMEAN(I26:L26),-2) -> 948700
B27: 4.1 | C27: PARQUE ALTO DE LOS ÍDOLOS ubicado en la Vereda Ídolos | D27: BOMBAS PRESURIZACI ÓN | E27: Sistema de presurización BARNES de dos (2) bombas Ref 1J6085 / Mod: AP2-HE 1.5 20- 1 -201 / 2 Hp / 220 V + tanque Hidroneumático + Presostato + Tablero de distribución | F27: Mantenimiento preventivo de sistema de presurizacion incluye limpieza general de equipos, ajuste de contactos, revision de rodamientos y sello mecánico, revision y mantenimiento de tanque hidroflo, ajuste de cableado, lavado de embobinado de motor, revisión de parámetros y pruebas de aislamiento y lo demas necesario para su correcto funcionamiento. | G27: 1 | H27: 2 | I27: ='1. SELTEL S.A.S.'!I35 -> 299130 | J27: ='2. ING ELECTROMECA'!I35 -> 756000 | K27: =IF('3. EM 2025 + IPC'!I35*(1+($K$79/100))=0,"",'3. EM 2025 + IPC'!I35*(1+($K$79/100))) -> 279149.32 | M27: =STDEVP(I27:L27)/AVERAGE(I27:L27) -> 0.49516886 | N27: =ROUND(AVERAGE(I27:L27),-2) -> 444800 | O27: =ROUND(MEDIAN(I27:K27),-2) -> 299100 | P27: =ROUND(GEOMEAN(I27:L27),-2) -> 398200 | Q27: =ROUND(HARMEAN(I27:L27),-2) -> 363700
B28: 4.2 | D28: BOMBAS SUMERGIBLES | E28: Sin especificaciones dos bombas sumergidas en un pozo | F28: Mantenimiento preventivo de sistema de subsión, incluye limpieza general de equipos, ajuste de contactos, revision de rodamientos y sello mecánico, revision y mantenimiento de tanque hidroflo, ajuste de cableado, lavado de embobinado de motor, revisión de parámetros y pruebas de aislamiento y lo demas necesario para su correcto funcionamiento. | G28: 2 | H28: 2 | I28: ='1. SELTEL S.A.S.'!I36 -> 683680 | J28: ='2. ING ELECTROMECA'!I36 -> 780000 | K28: =IF('3. EM 2025 + IPC'!I36*(1+($K$79/100))=0,"",'3. EM 2025 + IPC'!I36*(1+($K$79/100))) -> 683540 | M28: =STDEVP(I28:L28)/AVERAGE(I28:L28) -> 0.063484949 | N28: =ROUND(AVERAGE(I28:L28),-2) -> 715700 | O28: =ROUND(MEDIAN(I28:K28),-2) -> 683700 | P28: =ROUND(GEOMEAN(I28:L28),-2) -> 714300 | Q28: =ROUND(HARMEAN(I28:L28),-2) -> 713000
B29: 4.3 | D29: TABLERO DE DISTRIBUCIÓN GENERAL, | E29: Tablero distribución, Tensión de servicio 208/120v. Tensión nominal 600V. Corriente de corto 70KA. Corriente nominal 400AMP. Serial del tablero IP-B427/2020.Fases 3. Hilos 5 | F29: Mantenimiento en general todos los elementos que integran el tablero, Registro de datos del tablero correspondiente, Registro de datos del tablero correspondiente. Maniobras de des-energización y puesta a tierra, Revisión y limpieza del gabinete, cables, aisladores, interruptores electromagnéticos, termomagnéticos y demás componentes que integran el tablero, Revisión del sistema de tierras y apriete de conexiones en general, Pruebas de operación mecánica de interruptor(es) principal(es) y derivados, Medición de resistencia de aislamiento de interruptores electromagnéticos (megóhmetro), Revisión final, retiro de puesta a tierra y energización. | G29: 1 | H29: 1 | I29: ='1. SELTEL S.A.S.'!I37 -> 317250 | J29: ='2. ING ELECTROMECA'!I37 -> 750000 | K29: =IF('3. EM 2025 + IPC'!I37*(1+($K$79/100))=0,"",'3. EM 2025 + IPC'!I37*(1+($K$79/100))) -> 313991.99 | M29: =STDEVP(I29:L29)/AVERAGE(I29:L29) -> 0.44475743 | N29: =ROUND(AVERAGE(I29:L29),-2) -> 460400 | O29: =ROUND(MEDIAN(I29:K29),-2) -> 317300 | P29: =ROUND(GEOMEAN(I29:L29),-2) -> 421200 | Q29: =ROUND(HARMEAN(I29:L29),-2) -> 391100
D30: TRANSFERENCIA AUTOMÁTICA | E30: Transferencia motorizada, Tensión de servicio 208/120v. Tensión nominal 600V. Corriente de corto 70KA. Corriente nominal 400AMP. Serial del tablero IP- B427/2020.Fases 3. Hilos 5 | G30: 1 | H30: 1 | I30: ='1. SELTEL S.A.S.'!I38 -> 317250 | J30: ='2. ING ELECTROMECA'!I38 -> 750000 | K30: =IF('3. EM 2025 + IPC'!I38*(1+($K$79/100))=0,"",'3. EM 2025 + IPC'!I38*(1+($K$79/100))) -> 313991.99 | M30: =STDEVP(I30:L30)/AVERAGE(I30:L30) -> 0.44475743 | N30: =ROUND(AVERAGE(I30:L30),-2) -> 460400 | O30: =ROUND(MEDIAN(I30:K30),-2) -> 317300 | P30: =ROUND(GEOMEAN(I30:L30),-2) -> 421200 | Q30: =ROUND(HARMEAN(I30:L30),-2) -> 391100
B31: 4.4 | D31: GENERADORE S ELÉCTRICOS | E31: Planta eléctrica tipo cabinado Jeilyfish Power de 100KVA / voltaje 220V / altura 1000 mts | F31: Limpieza en general, ajuste de contactos, revisión de voltajes, corriente, cambio de aceite y filtros, cambio de refrigerante, pruebas de funcionamiento en vacío y lo demas necesario para su correcto funcionamiento. | G31: 1 | H31: 1 | I31: ='1. SELTEL S.A.S.'!I39 -> 928507 | J31: ='2. ING ELECTROMECA'!I39 -> 1400000 | K31: =IF('3. EM 2025 + IPC'!I39*(1+($K$79/100))=0,"",'3. EM 2025 + IPC'!I39*(1+($K$79/100))) -> 896533.17 | M31: =STDEVP(I31:L31)/AVERAGE(I31:L31) -> 0.21410958 | N31: =ROUND(AVERAGE(I31:L31),-2) -> 1075000 | O31: =ROUND(MEDIAN(I31:K31),-2) -> 928500 | P31: =ROUND(GEOMEAN(I31:L31),-2) -> 1052300 | Q31: =ROUND(HARMEAN(I31:L31),-2) -> 1032100
E32: Planta eléctrica portátil KT 3500 - 3,2 KW / Voltaje 110-220, combustible gasolina | F32: Mantenimiento preventivo equipo portatil, incluye limpieza general de equipo (interior-exterior), mantenimiento de motor, cambio de aceite y filtro de aceite, sustitucion de filtro de aire del motor, cambio de correas de elementos auxiliares, mantenimiento del alternador inspeccion sistema de refigeracion y cambio de refigerante, servicio a la válvula de combustible, cambio de bujía y lo demas necesario para su correcto funcionamiento. | G32: 1 | H32: 1 | I32: ='1. SELTEL S.A.S.'!I40 -> 1102630 | J32: ='2. ING ELECTROMECA'!I40 -> 840000 | K32: =IF('3. EM 2025 + IPC'!I40*(1+($K$79/100))=0,"",'3. EM 2025 + IPC'!I40*(1+($K$79/100))) -> 1422357.4 | M32: =STDEVP(I32:L32)/AVERAGE(I32:L32) -> 0.21229827 | N32: =ROUND(AVERAGE(I32:L32),-2) -> 1121700 | O32: =ROUND(MEDIAN(I32:K32),-2) -> 1102600 | P32: =ROUND(GEOMEAN(I32:L32),-2) -> 1096200 | Q32: =ROUND(HARMEAN(I32:L32),-2) -> 1071300
E33: Planta eléctrica portátil FG 1250 - 1200 W, Voltaje 110-220, combustible gasolina | F33: Mantenimiento preventivo equipo portatil, incluye limpieza general de equipo (interior-exterior), mantenimiento de motor, cambio de aceite y filtro de aceite, sustitucion de filtro de aire del motor, cambio de correas de elementos auxiliares, mantenimiento del alternador inspeccion sistema de refigeracion y cambio de refigerante, servicio a la válvula de combustible, cambio de bujía y lo demas necesario para su correcto funcionamiento. | G33: 1 | H33: 1 | I33: ='1. SELTEL S.A.S.'!I41 -> 787507 | J33: ='2. ING ELECTROMECA'!I41 -> 650000 | K33: =IF('3. EM 2025 + IPC'!I41*(1+($K$79/100))=0,"",'3. EM 2025 + IPC'!I41*(1+($K$79/100))) -> 784361.1 | M33: =STDEVP(I33:L33)/AVERAGE(I33:L33) -> 0.086539063 | N33: =ROUND(AVERAGE(I33:L33),-2) -> 740600 | O33: =ROUND(MEDIAN(I33:K33),-2) -> 784400 | P33: =ROUND(GEOMEAN(I33:L33),-2) -> 737700 | Q33: =ROUND(HARMEAN(I33:L33),-2) -> 734700
B34: 4.5 | D34: MOTOBOMBA A GASOLINA | E34: Motobomba Globalmeq. Model KGP 30. FLOW 60 M3/H. LIFT 35m. SUCTION HEIGHT 8m. OUTIETSIZE 80mm. INIET SIZE 80mm. Motor 7.0 HP A GASOLINA | F34: Mantenimiento preventivo equipo portatil, incluye limpieza general de equipo (interior-exterior), mantenimiento de motor, cambio de aceite y filtro de aceite, sustitucion de filtro de aire del motor, inspeccion sistema de refigeracion y cambio de refigerante y lo demas necesario para su corrector funcionamiento. | G34: 1 | H34: 1 | I34: ='1. SELTEL S.A.S.'!I42 -> 662634 | J34: ='2. ING ELECTROMECA'!I42 -> 689000 | K34: =IF('3. EM 2025 + IPC'!I42*(1+($K$79/100))=0,"",'3. EM 2025 + IPC'!I42*(1+($K$79/100))) -> 657515 | M34: =STDEVP(I34:L34)/AVERAGE(I34:L34) -> 0.020598014 | N34: =ROUND(AVERAGE(I34:L34),-2) -> 669700 | O34: =ROUND(MEDIAN(I34:K34),-2) -> 662600 | P34: =ROUND(GEOMEAN(I34:L34),-2) -> 669600 | Q34: =ROUND(HARMEAN(I34:L34),-2) -> 669400
B35: 4.6 | D35: AIRES ACONDICIONADOS | E35: Aire acondicionado PANASONIC CS-YS18VKV-8 - 1552 KW, Frecuencia 60HZ. Voltaje 220V. Potencia Nominal 1.552KW. Capacidad 5043W. Índice de eficiencia energía 3.25W./ WE. Entrada de alimentación 1552W. | F35: Unidades Manejadoras Limpieza de bandeja de condensado, Limpieza de drenajes, Limpieza, sanitización e higienización serpentín evaporador, Mediciones de parámetros eléctricos, Revisión y limpieza de válvulas, Limpieza de filtros de aire, Revisión de lecturas eléctricas, temperatura, presiones alta y baja en circuitos de refrigeración, operación de motores y compresores. Unidades Condensadoras Limpieza y sanitización serpentín de la condensadora, Mediciones de parámetros eléctricos compresor, Revisión presiones de refrigerante de succión, descarga compresor con manómetros, Limpieza general de unidad, Verificación de niveles y presiones de aceite Verificación del estado de correas y poleas, Verificación del alineamiento de trasmisión de potencia, Revisión de rodamientos y chumaceras, Verificación del estado del sistema de acople a la red de ductos, Verificación del aislamiento térmico, Ajuste general de la unidad Revisión de la carga de refrigerante con manómetros, Revisión de tuberías para detectar posibles fugas, Inspección de mirillas de líquido para verificar estado de humedad en los circuitos, Verificación del estado del aislamiento térmico, Circuito de Refrigeración, Inspección visual de tuberías, Inspección y limpieza de conductos de expulsión de calor Revisión de válvulas de paso. Revisión Eléctrica Limpieza general de contactos eléctricos, fuerza y control de sulfatación de terminales, limpieza general de tableros, Ajuste de terminales eléctricos y de sulfatación, Verificación de la operación de sistemas de control, Ajuste del control de temperatura. | G35: 1 | H35: 1 | I35: ='1. SELTEL S.A.S.'!I43 -> 739537 | J35: ='2. ING ELECTROMECA'!I43 -> 980000 | K35: =IF('3. EM 2025 + IPC'!I43*(1+($K$79/100))=0,"",'3. EM 2025 + IPC'!I43*(1+($K$79/100))) -> 853112.6 | M35: =STDEVP(I35:L35)/AVERAGE(I35:L35) -> 0.11453414 | N35: =ROUND(AVERAGE(I35:L35),-2) -> 857500 | O35: =ROUND(MEDIAN(I35:K35),-2) -> 853100 | P35: =ROUND(GEOMEAN(I35:L35),-2) -> 851900 | Q35: =ROUND(HARMEAN(I35:L35),-2) -> 846300
B36: 4.7 | D36: UPS ELÉCTRICA | E36: UPS marca PEI Potencia 3.000VA Frecuencia 60 Hz THD: <3% Numero de fases una (1) Voltaje de entrada 120 VAC +20, -25% Voltaje de salida 120 VAC +/-2% Voltaje de baterías 72 VDC | F36: Mantenimiento preventivo equipo fijo, incluye limpieza general de equipo (interior-exterior), mantenimiento de de baterias, verificación de entrada y salida, configuración del equipo. Cambio de baterias si es necesario. | G36: 3 | H36: 1 | I36: ='1. SELTEL S.A.S.'!I44 -> 610352 | J36: ='2. ING ELECTROMECA'!I44 -> 2100000 | K36: =IF('3. EM 2025 + IPC'!I44*(1+($K$79/100))=0,"",'3. EM 2025 + IPC'!I44*(1+($K$79/100))) -> 581097.33 | M36: =STDEVP(I36:L36)/AVERAGE(I36:L36) -> 0.64642292 | N36: =ROUND(AVERAGE(I36:L36),-2) -> 1097100 | O36: =ROUND(MEDIAN(I36:K36),-2) -> 610400 | P36: =ROUND(GEOMEAN(I36:L36),-2) -> 906500 | Q36: =ROUND(HARMEAN(I36:L36),-2) -> 782200
E37: UPS marca PEI Potencia 10.000VA Frecuencia 60 Hz, THD: <3%, Numero de fases dos (2) Voltaje de entrada 208 VAC +20, -25%, Voltaje de baterías 192 VDC, Voltaje de salida 240/120 VAC +/-1% | F37: Mantenimiento preventivo equipo fijo, incluye limpieza general de equipo (interior-exterior), mantenimiento de de baterias, verificación de entrada y salida, configuración del equipo. Cambio de baterias si es necesario. | G37: 1 | H37: 1 | I37: ='1. SELTEL S.A.S.'!I45 -> 1992144 | J37: ='2. ING ELECTROMECA'!I45 -> 2200000 | K37: =IF('3. EM 2025 + IPC'!I45*(1+($K$79/100))=0,"",'3. EM 2025 + IPC'!I45*(1+($K$79/100))) -> 1954908.6 | M37: =STDEVP(I37:L37)/AVERAGE(I37:L37) -> 0.052628889 | N37: =ROUND(AVERAGE(I37:L37),-2) -> 2049000 | O37: =ROUND(MEDIAN(I37:K37),-2) -> 1992100 | P37: =ROUND(GEOMEAN(I37:L37),-2) -> 2046200 | Q37: =ROUND(HARMEAN(I37:L37),-2) -> 2043500
B38: 4.8 | D38: SISTEMA DE DETECCION Y ALARMA CONTRA INCENDIO | E38: Panel central de detección VS SERIES ref VS4-(G/R)(D)(-PG/-SP) / 110 V | F38: Inspección pruebas y mantenimientos de sistemas de detección, alarma, extinción y protección contra incendio, incluye limpieza e inspeccion visual, pruebas funcionales, pruebas de sensibilidad, | G38: 1 | H38: 1 | I38: ='1. SELTEL S.A.S.'!I46 -> 500000 | J38: ='2. ING ELECTROMECA'!I46 -> 150000 | K38: =IF('3. EM 2025 + IPC'!I46*(1+($K$79/100))=0,"",'3. EM 2025 + IPC'!I46*(1+($K$79/100))) | M38: =STDEVP(I38:L38)/AVERAGE(I38:L38) -> 0.53846154 | N38: =ROUND(AVERAGE(I38:L38),-2) -> 325000 | O38: =ROUND(MEDIAN(I38:K38),-2) -> 325000 | P38: =ROUND(GEOMEAN(I38:L38),-2) -> 273900 | Q38: =ROUND(HARMEAN(I38:L38),-2) -> 230800
E39: Sirena Kidde con luz estroboscópica | G39: 10 | H39: 1 | I39: ='1. SELTEL S.A.S.'!I47 -> 72000 | J39: ='2. ING ELECTROMECA'!I47 -> 100000 | K39: =IF('3. EM 2025 + IPC'!I47*(1+($K$79/100))=0,"",'3. EM 2025 + IPC'!I47*(1+($K$79/100))) | M39: =STDEVP(I39:L39)/AVERAGE(I39:L39) -> 0.1627907 | N39: =ROUND(AVERAGE(I39:L39),-2) -> 86000 | O39: =ROUND(MEDIAN(I39:K39),-2) -> 86000 | P39: =ROUND(GEOMEAN(I39:L39),-2) -> 84900 | Q39: =ROUND(HARMEAN(I39:L39),-2) -> 83700
E40: Estación manual de alarma | G40: 5 | H40: 1 | I40: ='1. SELTEL S.A.S.'!I48 -> 72000 | J40: ='2. ING ELECTROMECA'!I48 -> 120000 | K40: =IF('3. EM 2025 + IPC'!I48*(1+($K$79/100))=0,"",'3. EM 2025 + IPC'!I48*(1+($K$79/100))) | M40: =STDEVP(I40:L40)/AVERAGE(I40:L40) -> 0.25 | N40: =ROUND(AVERAGE(I40:L40),-2) -> 96000 | O40: =ROUND(MEDIAN(I40:K40),-2) -> 96000 | P40: =ROUND(GEOMEAN(I40:L40),-2) -> 93000 | Q40: =ROUND(HARMEAN(I40:L40),-2) -> 90000
E41: Sensor humo fotoeléctrico | G41: 10 | H41: 1 | I41: ='1. SELTEL S.A.S.'!I49 -> 72000 | J41: ='2. ING ELECTROMECA'!I49 -> 120000 | K41: =IF('3. EM 2025 + IPC'!I49*(1+($K$79/100))=0,"",'3. EM 2025 + IPC'!I49*(1+($K$79/100))) | M41: =STDEVP(I41:L41)/AVERAGE(I41:L41) -> 0.25 | N41: =ROUND(AVERAGE(I41:L41),-2) -> 96000 | O41: =ROUND(MEDIAN(I41:K41),-2) -> 96000 | P41: =ROUND(GEOMEAN(I41:L41),-2) -> 93000 | Q41: =ROUND(HARMEAN(I41:L41),-2) -> 90000
E42: Modulo indicador, BOSCH de la serie DS7400Xi o similar | G42: 1 | H42: 1 | I42: ='1. SELTEL S.A.S.'!I50 -> 72000 | J42: ='2. ING ELECTROMECA'!I50 -> 150000 | K42: =IF('3. EM 2025 + IPC'!I50*(1+($K$79/100))=0,"",'3. EM 2025 + IPC'!I50*(1+($K$79/100))) | M42: =STDEVP(I42:L42)/AVERAGE(I42:L42) -> 0.35135135 | N42: =ROUND(AVERAGE(I42:L42),-2) -> 111000 | O42: =ROUND(MEDIAN(I42:K42),-2) -> 111000 | P42: =ROUND(GEOMEAN(I42:L42),-2) -> 103900 | Q42: =ROUND(HARMEAN(I42:L42),-2) -> 97300
E43: Rociador Pendent K=5,6 Respuesta Rápida (QR) UL/FM | G43: 30 | H43: 1 | I43: ='1. SELTEL S.A.S.'!I51 -> 55000 | J43: ='2. ING ELECTROMECA'!I51 -> 100000 | K43: =IF('3. EM 2025 + IPC'!I51*(1+($K$79/100))=0,"",'3. EM 2025 + IPC'!I51*(1+($K$79/100))) | M43: =STDEVP(I43:L43)/AVERAGE(I43:L43) -> 0.29032258 | N43: =ROUND(AVERAGE(I43:L43),-2) -> 77500 | O43: =ROUND(MEDIAN(I43:K43),-2) -> 77500 | P43: =ROUND(GEOMEAN(I43:L43),-2) -> 74200 | Q43: =ROUND(HARMEAN(I43:L43),-2) -> 71000
...

Sheet 1. SELTEL S.A.S.
B2: #VALUE! | D2: República de Colombia | I2: #VALUE!
D3: Instituto Colombiano de Antropología e Historia
D5: Formato de cotización
B7: Nombre o Razón Social | D7: SELTEL S.A.S. | H7: NIT | I7: 900.851.890-4
B8: Persona de contacto | D8: JORGE MEDINA RAMIREZ | H8: Teléfono celular | I8: 316 831 49 55
B9: Correo electrónico | D9: comercial@seltel.co | H9: Teléfono fijo | I9: 608 864 50 11
B12: OBJETO: Prestar el servicio de mantenimiento preventivo y correctivo de los equipos especiales de las sedes del Instituto Colombiano de Antropología e Historia – ICANH a nivel nacional, que incluye equipos de bombeo, generadores eléctricos, sistemas de aire acondicionado, Red Contra Incendios (RCI) y sistemas de detección de incendios; así como el suministro e instalación de repuestos, partes y componentes requeridos.
B14: Instrucciones para el diligenciamiento de la cotización
B15: • Por favor diligenciar solo las celdas en AZUL. • Revisar todos los requerimientos que se exponen en los documentos técnico y formular su cotización en concordancia con este, de tal forma que cumplan con la necesidad del Instituto. • Los precios unitarios deberán ser expresado en PESOS COLOMBIANOS. • Los precios deberán aproximarse por exceso o por defecto al entero más cercano así: (i) si es igual o superior a 50 centavos, se aproxima al entero siguiente; (ii) si es inferior a 50 centavos se baja al entero anterior. • El formato contiene los insumos de costos estimados por el Instituto por lo tanto no se permite modificar, agregar o quitar ningún ítem o sub-ítem. • Los precios unitarios deben contemplar todos los rubros requeridos para la adecuada prestación del servicio y el cumplimiento de las obligaciones tributarias y contractuales como los son trazabilidad del servicio, equipo mínimo de trabajo, impuestos entre otros.
B17: ÍTEM | C17: SEDE | D17: DESCRIPCIÓN | E17: REFERENCIA | F17: ALCANCE MINIMO | G17: CANTIDAD DE EQUIPOS | H17: CANTIDAD DE MANTENIMIENTOS | I17: Precio unitario (Incluidos Impuestos) | J17: Precio total (Incluidos Impuestos)
B18: 1.1 | C18: PARQUE TEYUNA Parque Arqueológico Teyuna – Ciudad Perdida. Sierra Nevada de Santa Marta, Resguardo Kogüi-malayo -Arhuaco – Distrito Turístico, Cultural e Histórico de Santa Marta, Magdalena | D18: GENERADORE S ELÉCTRICOS | E18: Panel Solar Kyocera KC65 - Con accesorios | F18: Mantenimiento general del sistema de paneles solares, inlcuye limpeza general de equipos compuesto por 12 paneles solares y 8 baterias | G18: 1 | H18: 1 | I18: 2778704 | J18: =ROUND(I18*H18*G18,0) -> 2778704
E19: Planta eléctrica portátil Portel Cable 3.500 W | F19: Mantenimiento preventivo equipo portatil, incluye limpieza general de equipo (interior-exterior), mantenimiento de motor, cambio de aceite y filtro de aceite, sustitucion de filtro de aire del motor, cambio de correas de elementos auxiliares, mantenimiento del alternador inspeccion sistema de refigeracion y cambio de refigerante, servicio a la válvula de combustible, cambio de bujía y lo demas necesario para su correcto funcionamiento. | G19: 1 | H19: 1 | I19: 2576117 | J19: =ROUND(I19*H19*G19,0) -> 2576117
E20: Planta eléctrica Portel Cable 1200 W | F20: Mantenimiento preventivo equipo portatil, incluye limpieza general de equipo (interior-exterior), mantenimiento de motor, cambio de aceite y filtro de aceite, sustitucion de filtro de aire del motor, cambio de correas de elementos auxiliares, mantenimiento del alternador inspeccion sistema de refigeracion y cambio de refigerante, servicio a la válvula de combustible, cambio de bujía y lo demas necesario para su correcto funcionamiento. | G20: 1 | H20: 1 | I20: 2090502 | J20: =ROUND(I20*H20*G20,0) -> 2090502
B21: 1.2 | D21: MOTOBOMBA AUTOMÁTICA | E21: Motobomba Toolcraft Potencia máxima 4097w-Motor a gasolina | F21: Mantenimiento preventivo de equipo de bombeo incluye limpieza general del equipo, ajuste de contactos, revision de rodamientos y sello mecánico, lavado de embobinado de motor, revisión de parámetros y pruebas de aislamiento y lo demas necesario para su correcto funcionamiento. | G21: 1 | H21: 1 | I21: 1731170 | J21: =ROUND(I21*H21*G21,0) -> 1731170
B22: 1.3 | D22: EQUIPO DE SOLDADURA | E22: Maquina de soldadura TIG-220GP modelo TIG-220GP | F22: Mantenimiento preventivo de equipo de soldadura, incluye limpieza general del equipo (interior-exterior), revisión de conexiones eléctricas, verificación de componentes internos, inspección de cables y accesorios, pruebas de funcionamiento y ajustes básicos, así como las demás actividades necesarias para garantizar su correcto funcionamiento. | G22: 1 | H22: 1 | I22: 850000 | J22: =ROUND(I22*H22*G22,0) -> 850000
B23: 2.1 | C23: CASA ADMINISTRA TIVA SEDE SANTA MARTA Santa Marta "Calle 17 No. 3-72" | D23: GENERADORES ELÉCTRICOS | E23: Planta eléctrica portátil Portel Cable 3.500 W | F23: Mantenimiento preventivo equipo portatil, incluye limpieza general de equipo (interior-exterior), mantenimiento de motor, cambio de aceite y filtro de aceite, sustitucion de filtro de aire del motor, cambio de correas de elementos auxiliares, mantenimiento del alternador inspeccion sistema de refigeracion y cambio de refigerante, servicio a la válvula de combustible, cambio de bujía y lo demas necesario para su correcto funcionamiento. | G23: 1 | H23: 1 | I23: 1061886 | J23: =ROUND(I23*H23*G23,0) -> 1061886
B24: 2.2 | D24: AIRE ACONDICIONADO | E24: Aire acondicionado piso techo Ref / 12000 BTU | F24: Unidades Manejadoras Limpieza de bandeja de condensado, Limpieza de drenajes, Limpieza, sanitización e higienización serpentín evaporador, Mediciones de parámetros eléctricos, Revisión y limpieza de válvulas, Limpieza de filtros de aire, Revisión de lecturas eléctricas, temperatura, presiones alta y baja en circuitos de refrigeración, operación de motores y compresores. Unidades Condensadoras Limpieza y sanitización serpentín de la condensadora, Mediciones de parámetros eléctricos compresor, Revisión presiones de refrigerante de succión, descarga compresor con manómetros, Limpieza general de unidad, Verificación de niveles y presiones de aceite Verificación del estado de correas y poleas, Verificación del alineamiento de trasmisión de potencia, Revisión de rodamientos y chumaceras, Verificación del estado del sistema de acople a la red de ductos, Verificación del aislamiento térmico, Ajuste general de la unidad Revisión de la carga de refrigerante con manómetros, Revisión de tuberías para detectar posibles fugas, Inspección de mirillas de líquido para verificar estado de humedad en los circuitos, Verificación del estado del aislamiento térmico, Circuito de Refrigeración, Inspección visual de tuberías, Inspección y limpieza de conductos de expulsión de calor Revisión de válvulas de paso. Revisión Eléctrica Limpieza general de contactos eléctricos, fuerza y control de sulfatación de terminales, limpieza general de tableros, Ajuste de terminales eléctricos y de sulfatación, Verificación de la operación de sistemas de control, Ajuste del control de temperatura. | G24: 3 | H24: 1 | I24: 500000 | J24: =ROUND(I24*H24*G24,0) -> 1500000
E25: Aire acondicionado Wurden piso techo Inverter Ref / 18000 BTU | G25: 2 | H25: 1 | I25: 588540 | J25: =ROUND(I25*H25*G25,0) -> 1177080
E26: Aire acondicionado Wurden piso techo Inverter Ref / 24000 BTU | G26: 2 | H26: 1 | I26: 588540 | J26: =ROUND(I26*H26*G26,0) -> 1177080
E27: Aire acondicionado piso techo LG Ref AUNQ36EM / 36000 BTU | G27: 2 | H27: 1 | I27: 1070660 | J27: =ROUND(I27*H27*G27,0) -> 2141320
B28: 2.3 | D28: ELECTROBOMBA | E28: Electrobomba predollo modelo CPM620 TANQUE DE PRECIÓN MENBRANA DE 100 LITROS/ 1 HP | F28: Mantenimiento preventivo de sistema de presurizacion incluye limpieza general de equipos, ajuste de contactos, revision de rodamientos y sello mecánico, revision y mantenimiento de tanque hidroflo, ajuste de cableado, lavado de embobinado de motor, revisión de parámetros y pruebas de aislamiento y lo demas necesario para su correcto funcionamiento. | G28: 1 | H28: 1 | I28: 1350000 | J28: =ROUND(I28*H28*G28,0) -> 1350000
B29: 3.1 | C29: PARQUE ARQUEOLOGICO TIERRADENTRO Vereda El Escaño bajo (El Escaño Parque) – Resguardo San Andrés de Pisimbalá | D29: BOMBAS | E29: Motobomba Toolcraft Potencia máxima 4097w-Motor a gasolina | F29: Mantenimiento preventivo de equipo de bombeo incluye limpieza general del equipo, ajuste de contactos, revision de rodamientos y sello mecánico, lavado de embobinado de motor, revisión de parámetros y pruebas de aislamiento y lo demas necesario para su correcto funcionamiento. | G29: 1 | H29: 1 | I29: 1705522 | J29: =ROUND(I29*H29*G29,0) -> 1705522
B30: 3.2 | D30: COMPRESOR AIRE | E30: Compresor de aire marca Toolcraft de 2,5 HP | F30: Mantenimiento preventivo equipo compresor portatil incluye limpieza general del equipo, cambio de filtro, aceites, correa y rodamientos. | G30: 1 | H30: 1 | I30: 744976 | J30: =ROUND(I30*H30*G30,0) -> 744976
E31: Compresor de aire Siemens HP 1/2 RMP 1730 | F31: Mantenimiento preventivo equipo compresor portatil incluye limpieza general del equipo, cambio de filtro, aceites, correa y rodamientos. | G31: 1 | H31: 1 | I31: 292943 | J31: =ROUND(I31*H31*G31,0) -> 292943
B32: 3.3 | D32: GENERADORES ELÉCTRICOS | E32: Planta eléctrica portátil Portel Cable / 6500W / voltaje 110-220 /Combustible gasolina. | F32: Mantenimiento preventivo equipo portatil, incluye limpieza general de equipo ( interior-exterior), mantenimiento de motor, cambio de aceite y filtro de aceite, sustitucion de filtro de aire del motor, cambio de correas de elementos auxiliares, mantenimiento del alternador inspeccion sistema de refigeracion y cambio de refigerante, servicio a la válvula de combustible, cambio de bujía y lo demas necesario para su correcto funcionamiento. | G32: 1 | H32: 1 | I32: 2702324 | J32: =ROUND(I32*H32*G32,0) -> 2702324
E33: Planta eléctrica portátil Honda 650 / voltaje 110-220 / Combustible gasolina. | F33: Mantenimiento preventivo equipo portatil, incluye limpieza general de equipo ( interior-exterior), mantenimiento de motor, cambio de aceite y filtro de aceite, sustitucion de filtro de aire del motor, cambio de correas de elementos auxiliares, mantenimiento del alternador inspeccion sistema de refigeracion y cambio de refigerante, servicio a la válvula de combustible, cambio de bujía y lo demas necesario para su correcto funcionamiento. | G33: 1 | H33: 1 | I33: 795000 | J33: =ROUND(I33*H33*G33,0) -> 795000
E34: Planta eléctrica portátil Honda 950 / voltaje 110-220 / Combustible gasolina. | F34: Mantenimiento preventivo equipo portatil, incluye limpieza general de equipo ( interior-exterior), mantenimiento de motor, cambio de aceite y filtro de aceite, sustitucion de filtro de aire del motor, cambio de correas de elementos auxiliares, mantenimiento del alternador inspeccion sistema de refigeracion y cambio de refigerante, servicio a la válvula de combustible, cambio de bujía y lo demas necesario para su correcto funcionamiento. | G34: 1 | H34: 1 | I34: 932257 | J34: =ROUND(I34*H34*G34,0) -> 932257
B35: 4.1 | C35: PARQUE ALTO DE LOS ÍDOLOS ubicado en la Vereda Ídolos | D35: BOMBAS PRESURIZACI ÓN | E35: Sistema de presurización BARNES de dos (2) bombas Ref 1J6085 / Mod: AP2-HE 1.5 20- 1 -201 / 2 Hp / 220 V + tanque Hidroneumático + Presostato + Tablero de distribución | F35: Mantenimiento preventivo de sistema de presurizacion incluye limpieza general de equipos, ajuste de contactos, revision de rodamientos y sello mecánico, revision y mantenimiento de tanque hidroflo, ajuste de cableado, lavado de embobinado de motor, revisión de parámetros y pruebas de aislamiento y lo demas necesario para su correcto funcionamiento. | G35: 1 | H35: 2 | I35: 299130 | J35: =ROUND(I35*H35*G35,0) -> 598260
B36: 4.2 | D36: BOMBAS SUMERGIBLES | E36: Sin especificaciones dos bombas sumergidas en un pozo | F36: Mantenimiento preventivo de sistema de subsión, incluye limpieza general de equipos, ajuste de contactos, revision de rodamientos y sello mecánico, revision y mantenimiento de tanque hidroflo, ajuste de cableado, lavado de embobinado de motor, revisión de parámetros y pruebas de aislamiento y lo demas necesario para su correcto funcionamiento. | G36: 2 | H36: 2 | I36: 683680 | J36: =ROUND(I36*H36*G36,0) -> 2734720
B37: 4.3 | D37: TABLERO DE DISTRIBUCIÓN GENERAL, | E37: Tablero distribución, Tensión de servicio 208/120v. Tensión nominal 600V. Corriente de corto 70KA. Corriente nominal 400AMP. Serial del tablero IP-B427/2020.Fases 3. Hilos 5 | F37: Mantenimiento en general todos los elementos que integran el tablero, Registro de datos del tablero correspondiente, Registro de datos del tablero correspondiente. Maniobras de des-energización y puesta a tierra, Revisión y limpieza del gabinete, cables, aisladores, interruptores electromagnéticos, termomagnéticos y demás componentes que integran el tablero, Revisión del sistema de tierras y apriete de conexiones en general, Pruebas de operación mecánica de interruptor(es) principal(es) y derivados, Medición de resistencia de aislamiento de interruptores electromagnéticos (megóhmetro), Revisión final, retiro de puesta a tierra y energización. | G37: 1 | H37: 1 | I37: 317250 | J37: =ROUND(I37*H37*G37,0) -> 317250
D38: TRANSFERENCIA AUTOMÁTICA | E38: Transferencia motorizada, Tensión de servicio 208/120v. Tensión nominal 600V. Corriente de corto 70KA. Corriente nominal 400AMP. Serial del tablero IP- B427/2020.Fases 3. Hilos 5 | G38: 1 | H38: 1 | I38: 317250 | J38: =ROUND(I38*H38*G38,0) -> 317250
B39: 4.4 | D39: GENERADORE S ELÉCTRICOS | E39: Planta eléctrica tipo cabinado Jeilyfish Power de 100KVA / voltaje 220V / altura 1000 mts | F39: Limpieza en general, ajuste de contactos, revisión de voltajes, corriente, cambio de aceite y filtros, cambio de refrigerante, pruebas de funcionamiento en vacío y lo demas necesario para su correcto funcionamiento. | G39: 1 | H39: 1 | I39: 928507 | J39: =ROUND(I39*H39*G39,0) -> 928507
E40: Planta eléctrica portátil KT 3500 - 3,2 KW / Voltaje 110-220, combustible gasolina | F40: Mantenimiento preventivo equipo portatil, incluye limpieza general de equipo (interior-exterior), mantenimiento de motor, cambio de aceite y filtro de aceite, sustitucion de filtro de aire del motor, cambio de correas de elementos auxiliares, mantenimiento del alternador inspeccion sistema de refigeracion y cambio de refigerante, servicio a la válvula de combustible, cambio de bujía y lo demas necesario para su correcto funcionamiento. | G40: 1 | H40: 1 | I40: 1102630 | J40: =ROUND(I40*H40*G40,0) -> 1102630
E41: Planta eléctrica portátil FG 1250 - 1200 W, Voltaje 110-220, combustible gasolina | F41: Mantenimiento preventivo equipo portatil, incluye limpieza general de equipo (interior-exterior), mantenimiento de motor, cambio de aceite y filtro de aceite, sustitucion de filtro de aire del motor, cambio de correas de elementos auxiliares, mantenimiento del alternador inspeccion sistema de refigeracion y cambio de refigerante, servicio a la válvula de combustible, cambio de bujía y lo demas necesario para su correcto funcionamiento. | G41: 1 | H41: 1 | I41: 787507 | J41: =ROUND(I41*H41*G41,0) -> 787507
B42: 4.5 | D42: MOTOBOMBA A GASOLINA | E42: Motobomba Globalmeq. Model KGP 30. FLOW 60 M3/H. LIFT 35m. SUCTION HEIGHT 8m. OUTIETSIZE 80mm. INIET SIZE 80mm. Motor 7.0 HP A GASOLINA | F42: Mantenimiento preventivo equipo portatil, incluye limpieza general de equipo (interior-exterior), mantenimiento de motor, cambio de aceite y filtro de aceite, sustitucion de filtro de aire del motor, inspeccion sistema de refigeracion y cambio de refigerante y lo demas necesario para su corrector funcionamiento. | G42: 1 | H42: 1 | I42: 662634 | J42: =ROUND(I42*H42*G42,0) -> 662634
B43: 4.6 | D43: AIRES ACONDICIONADOS | E43: Aire acondicionado PANASONIC CS-YS18VKV-8 - 1552 KW, Frecuencia 60HZ. Voltaje 220V. Potencia Nominal 1.552KW. Capacidad 5043W. Índice de eficiencia energía 3.25W./ WE. Entrada de alimentación 1552W. | F43: Unidades Manejadoras Limpieza de bandeja de condensado, Limpieza de drenajes, Limpieza, sanitización e higienización serpentín evaporador, Mediciones de parámetros eléctricos, Revisión y limpieza de válvulas, Limpieza de filtros de aire, Revisión de lecturas eléctricas, temperatura, presiones alta y baja en circuitos de refrigeración, operación de motores y compresores. Unidades Condensadoras Limpieza y sanitización serpentín de la condensadora, Mediciones de parámetros eléctricos compresor, Revisión presiones de refrigerante de succión, descarga compresor con manómetros, Limpieza general de unidad, Verificación de niveles y presiones de aceite Verificación del estado de correas y poleas, Verificación del alineamiento de trasmisión de potencia, Revisión de rodamientos y chumaceras, Verificación del estado del sistema de acople a la red de ductos, Verificación del aislamiento térmico, Ajuste general de la unidad Revisión de la carga de refrigerante con manómetros, Revisión de tuberías para detectar posibles fugas, Inspección de mirillas de líquido para verificar estado de humedad en los circuitos, Verificación del estado del aislamiento térmico, Circuito de Refrigeración, Inspección visual de tuberías, Inspección y limpieza de conductos de expulsión de calor Revisión de válvulas de paso. Revisión Eléctrica Limpieza general de contactos eléctricos, fuerza y control de sulfatación de terminales, limpieza general de tableros, Ajuste de terminales eléctricos y de sulfatación, Verificación de la operación de sistemas de control, Ajuste del control de temperatura. | G43: 1 | H43: 1 | I43: 739537 | J43: =ROUND(I43*H43*G43,0) -> 739537
B44: 4.7 | D44: UPS ELÉCTRICA | E44: UPS marca PEI Potencia 3.000VA Frecuencia 60 Hz THD: <3% Numero de fases una (1) Voltaje de entrada 120 VAC +20, -25% Voltaje de salida 120 VAC +/-2% Voltaje de baterías 72 VDC | F44: Mantenimiento preventivo equipo fijo, incluye limpieza general de equipo (interior-exterior), mantenimiento de de baterias, verificación de entrada y salida, configuración del equipo. Cambio de baterias si es necesario. | G44: 3 | H44: 1 | I44: 610352 | J44: =ROUND(I44*H44*G44,0) -> 1831056
E45: UPS marca PEI Potencia 10.000VA Frecuencia 60 Hz, THD: <3%, Numero de fases dos (2) Voltaje de entrada 208 VAC +20, -25%, Voltaje de baterías 192 VDC, Voltaje de salida 240/120 VAC +/-1% | F45: Mantenimiento preventivo equipo fijo, incluye limpieza general de equipo (interior-exterior), mantenimiento de de baterias, verificación de entrada y salida, configuración del equipo. Cambio de baterias si es necesario. | G45: 1 | H45: 1 | I45: 1992144 | J45: =ROUND(I45*H45*G45,0) -> 1992144
B46: 4.8 | D46: SISTEMA DE DETECCION Y ALARMA CONTRA INCENDIO | E46: Panel central de detección VS SERIES ref VS4-(G/R)(D)(-PG/-SP) / 110 V | F46: Inspección pruebas y mantenimientos de sistemas de detección, alarma, extinción y protección contra incendio, incluye limpieza e inspeccion visual, pruebas funcionales, pruebas de sensibilidad, | G46: 1 | H46: 1 | I46: 500000 | J46: =ROUND(I46*H46*G46,0) -> 500000
E47: Sirena Kidde con luz estroboscópica | G47: 10 | H47: 1 | I47: 72000 | J47: =ROUND(I47*H47*G47,0) -> 720000
...

Sheet 2. ING ELECTROMECA
B2: #VALUE! | D2: República de Colombia | I2: #VALUE!
D3: Instituto Colombiano de Antropología e Historia
D5: Formato de cotización
B7: Nombre o Razón Social | D7: INGENIEROS ELECTROMECANICOS SAS | H7: NIT | I7: 901512765
B8: Persona de contacto | D8: Carlos Fernando Rojas Tovar | H8: Teléfono celular | I8: 32123922389
B9: Correo electrónico | D9: comercial@ingelectromecanicos.com | H9: Teléfono fijo
B12: OBJETO: Prestar el servicio de mantenimiento preventivo y correctivo de los equipos especiales de las sedes del Instituto Colombiano de Antropología e Historia – ICANH a nivel nacional, que incluye equipos de bombeo, generadores eléctricos, sistemas de aire acondicionado, Red Contra Incendios (RCI) y sistemas de detección de incendios; así como el suministro e instalación de repuestos, partes y componentes requeridos.
B14: Instrucciones para el diligenciamiento de la cotización
B15: • Por favor diligenciar solo las celdas en AZUL. • Revisar todos los requerimientos que se exponen en los documentos técnico y formular su cotización en concordancia con este, de tal forma que cumplan con la necesidad del Instituto. • Los precios unitarios deberán ser expresado en PESOS COLOMBIANOS. • Los precios deberán aproximarse por exceso o por defecto al entero más cercano así: (i) si es igual o superior a 50 centavos, se aproxima al entero siguiente; (ii) si es inferior a 50 centavos se baja al entero anterior. • El formato contiene los insumos de costos estimados por el Instituto por lo tanto no se permite modificar, agregar o quitar ningún ítem o sub-ítem. • Los precios unitarios deben contemplar todos los rubros requeridos para la adecuada prestación del servicio y el cumplimiento de las obligaciones tributarias y contractuales como los son trazabilidad del servicio, equipo mínimo de trabajo, impuestos entre otros.
B17: ÍTEM | C17: SEDE | D17: DESCRIPCIÓN | E17: REFERENCIA | F17: ALCANCE MINIMO | G17: CANTIDAD DE EQUIPOS | H17: CANTIDAD DE MANTENIMIENTOS | I17: Precio unitario (Incluidos Impuestos) | J17: Precio total (Incluidos Impuestos)
B18: 1.1 | C18: PARQUE TEYUNA Parque Arqueológico Teyuna – Ciudad Perdida. Sierra Nevada de Santa Marta, Resguardo Kogüi-malayo -Arhuaco – Distrito Turístico, Cultural e Histórico de Santa Marta, Magdalena | D18: GENERADORE S ELÉCTRICOS | E18: Panel Solar Kyocera KC65 - Con accesorios | F18: Mantenimiento general del sistema de paneles solares, inlcuye limpeza general de equipos compuesto por 12 paneles solares y 8 baterias | G18: 1 | H18: 1 | I18: 2875000 | J18: =ROUND(I18*H18*G18,0) -> 2875000
E19: Planta eléctrica portátil Portel Cable 3.500 W | F19: Mantenimiento preventivo equipo portatil, incluye limpieza general de equipo (interior-exterior), mantenimiento de motor, cambio de aceite y filtro de aceite, sustitucion de filtro de aire del motor, cambio de correas de elementos auxiliares, mantenimiento del alternador inspeccion sistema de refigeracion y cambio de refigerante, servicio a la válvula de combustible, cambio de bujía y lo demas necesario para su correcto funcionamiento. | G19: 1 | H19: 1 | I19: 2640000 | J19: =ROUND(I19*H19*G19,0) -> 2640000
E20: Planta eléctrica Portel Cable 1200 W | F20: Mantenimiento preventivo equipo portatil, incluye limpieza general de equipo (interior-exterior), mantenimiento de motor, cambio de aceite y filtro de aceite, sustitucion de filtro de aire del motor, cambio de correas de elementos auxiliares, mantenimiento del alternador inspeccion sistema de refigeracion y cambio de refigerante, servicio a la válvula de combustible, cambio de bujía y lo demas necesario para su correcto funcionamiento. | G20: 1 | H20: 1 | I20: 2236000 | J20: =ROUND(I20*H20*G20,0) -> 2236000
B21: 1.2 | D21: MOTOBOMBA AUTOMÁTICA | E21: Motobomba Toolcraft Potencia máxima 4097w-Motor a gasolina | F21: Mantenimiento preventivo de equipo de bombeo incluye limpieza general del equipo, ajuste de contactos, revision de rodamientos y sello mecánico, lavado de embobinado de motor, revisión de parámetros y pruebas de aislamiento y lo demas necesario para su correcto funcionamiento. | G21: 1 | H21: 1 | I21: 1860000 | J21: =ROUND(I21*H21*G21,0) -> 1860000
B22: 1.3 | D22: EQUIPO DE SOLDADURA | E22: Maquina de soldadura TIG-220GP modelo TIG-220GP | F22: Mantenimiento preventivo de equipo de soldadura, incluye limpieza general del equipo (interior-exterior), revisión de conexiones eléctricas, verificación de componentes internos, inspección de cables y accesorios, pruebas de funcionamiento y ajustes básicos, así como las demás actividades necesarias para garantizar su correcto funcionamiento. | G22: 1 | H22: 1 | I22: 1450000 | J22: =ROUND(I22*H22*G22,0) -> 1450000
B23: 2.1 | C23: CASA ADMINISTRA TIVA SEDE SANTA MARTA Santa Marta "Calle 17 No. 3-72" | D23: GENERADORES ELÉCTRICOS | E23: Planta eléctrica portátil Portel Cable 3.500 W | F23: Mantenimiento preventivo equipo portatil, incluye limpieza general de equipo (interior-exterior), mantenimiento de motor, cambio de aceite y filtro de aceite, sustitucion de filtro de aire del motor, cambio de correas de elementos auxiliares, mantenimiento del alternador inspeccion sistema de refigeracion y cambio de refigerante, servicio a la válvula de combustible, cambio de bujía y lo demas necesario para su correcto funcionamiento. | G23: 1 | H23: 1 | I23: 1180000 | J23: =ROUND(I23*H23*G23,0) -> 1180000
B24: 2.2 | D24: AIRE ACONDICIONADO | E24: Aire acondicionado piso techo Ref / 12000 BTU | F24: Unidades Manejadoras Limpieza de bandeja de condensado, Limpieza de drenajes, Limpieza, sanitización e higienización serpentín evaporador, Mediciones de parámetros eléctricos, Revisión y limpieza de válvulas, Limpieza de filtros de aire, Revisión de lecturas eléctricas, temperatura, presiones alta y baja en circuitos de refrigeración, operación de motores y compresores. Unidades Condensadoras Limpieza y sanitización serpentín de la condensadora, Mediciones de parámetros eléctricos compresor, Revisión presiones de refrigerante de succión, descarga compresor con manómetros, Limpieza general de unidad, Verificación de niveles y presiones de aceite Verificación del estado de correas y poleas, Verificación del alineamiento de trasmisión de potencia, Revisión de rodamientos y chumaceras, Verificación del estado del sistema de acople a la red de ductos, Verificación del aislamiento térmico, Ajuste general de la unidad Revisión de la carga de refrigerante con manómetros, Revisión de tuberías para detectar posibles fugas, Inspección de mirillas de líquido para verificar estado de humedad en los circuitos, Verificación del estado del aislamiento térmico, Circuito de Refrigeración, Inspección visual de tuberías, Inspección y limpieza de conductos de expulsión de calor Revisión de válvulas de paso. Revisión Eléctrica Limpieza general de contactos eléctricos, fuerza y control de sulfatación de terminales, limpieza general de tableros, Ajuste de terminales eléctricos y de sulfatación, Verificación de la operación de sistemas de control, Ajuste del control de temperatura. | G24: 3 | H24: 1 | I24: 950000 | J24: =ROUND(I24*H24*G24,0) -> 2850000
E25: Aire acondicionado Wurden piso techo Inverter Ref / 18000 BTU | G25: 2 | H25: 1 | I25: 950000 | J25: =ROUND(I25*H25*G25,0) -> 1900000
E26: Aire acondicionado Wurden piso techo Inverter Ref / 24000 BTU | G26: 2 | H26: 1 | I26: 950000 | J26: =ROUND(I26*H26*G26,0) -> 1900000
