Workbook
Name _Hlk40285583: 'análisis de riesg contratración'!$B$9

Sheet análisis de riesg contratración
G2: PROCEDIMIENTO DE GESTIÓN PRECONTRACTUAL | Z2: CÓDIGO: | AB2: GC-PR-05-FO-09
G4: ANÁLISIS DEL RIESGO Y MITIGACIÓN | Z4: VERSIÓN: | AB4: 02
Z5: FECHA: | AB5: 45261
B7: DESCRIPCIÓN | G7: De acuerdo con el artículo 2.2.1.1.1.3.1 del Decreto 1082 de 2015, se entiende por riesgo el "Evento que puede generar efectos adversos y de distinta magnitud en el logro de los objetivos del proceso de contratación o en la ejecución de un contrato". El Instituto Colombiano de Antropología e Historia, identifica los siguientes riesgos asociados al proceso de contratación: Para el análisis del riesgo, se recomienda hacer uso del Manual para la Identificación y Cobertura del Riesgo en los Procesos de Contratación de la Agencia Nacional de Contratación Pública, que podrá ser consultado en el siguiente enlace: https://www.colombiacompra.gov.co/sites/cce_public/files/cce_documents/cce_manual_cobertura_riesgo.pdf
B8: OBJETO CONTRACTUAL | G8: Contratar el servicio de mantenimiento preventivo y correctivo, incluyendo suministro de repuestos, de los equipos de las sedes del ICANH a nivel nacional.
B9: No. | C9: Clase | D9: Fuente | E9: Etapa | F9: Tipo | G9: Descripción (Qué puede pasar y, cómo puede ocurrir) | H9: Consecuencia de la ocurrencia del evento | I9: Probabilidad | J9: Valoración | K9: Impacto | L9: Valoración | M9: Calificación total | N9: Categoría | O9: ¿A quién se le asigna? | P9: Tratamiento/Controles a ser implementados | Q9: Impacto después del tratamiento | W9: ¿Afecta el equilibrio económico del contrato | X9: Persona responsable de atender e implementar el tratamiento | Y9: Fecha estimada en que se inicia el tratamiento | Z9: Fecha estimada en que se termina el tratamiento | AA9: Monitoreo y revisión
Q10: Probabilidad | R10: Valoración | S10: Impacto | T10: Valoración | U10: Calificación | V10: Calificación total | AA10: ¿Cómo se realiza el monitoreo? | AB10: Periodicidad ¿Cuándo?
B11: 1 | C11: Específico | D11: Interno | E11: Ejecución | F11: Riesgos Operacionales | G11: Entrega de los mantenimientos fuera del tiempo establecido | H11: Retrasos y afectación en la ejecución de actividades programadas de los funcionarios de las diferentes sedes de la entidad. | I11: Posible | J11: =+IFERROR(VLOOKUP(I11,'V1'!$C$2:$D$7,2,FALSE),"") -> 3 | K11: Menor | L11: =+IFERROR(VLOOKUP(K11,'V1'!$E$2:$F$7,2,FALSE),"") -> 2 | M11: =+IFERROR((J11+L11),"") -> 5 | N11: =+IF(M11="","",IF(M11>=8,'V1'!$G$3,IF(M11>=6,'V1'!$G$4,IF(M11>=5,'V1'!$G$5,IF(M11>=2,'V1'!$G$6,"revisar"))))) -> Riesgo Medio | O11: Contratista | P11: El supervisor del contrato hará seguimiento al tiempo de entrega de los equipos que requieran mantenimiento | Q11: Posible | R11: 2 | S11: Menor | T11: 1 | U11: =+IFERROR((R11+T11),"") -> 3 | V11: =+IF(U11="","",IF(U11>=8,'V1'!$G$3,IF(U11>=6,'V1'!$G$4,IF(U11>=5,'V1'!$G$5,IF(U11>=2,'V1'!$G$6,"revisar"))))) -> Riesgo Bajo | W11: Si | X11: Supervisor del contrato | Y11: Ejecución | Z11: Terminación del contrato | AA11: Realizando periodicamente el seguimiento a la entrega de los equipos | AB11: Trimestral
B12: 2 | C12: General | D12: Externo | E12: Ejecución | F12: Riesgos Regulatorios | G12: Cambios en la normativa que modifiquen o impongan nuevas obligaciones al contratista | H12: Posible variacion del valor del contrato | I12: Raro | J12: 2 | K12: Moderado | L12: =+IFERROR(VLOOKUP(K12,'V1'!$E$2:$F$7,2,FALSE),"") -> 3 | M12: =+IFERROR((J12+L12),"") -> 5 | N12: =+IF(M12="","",IF(M12>=8,'V1'!$G$3,IF(M12>=6,'V1'!$G$4,IF(M12>=5,'V1'!$G$5,IF(M12>=2,'V1'!$G$6,"revisar"))))) -> Riesgo Medio | O12: Contratista y Entidad | P12: El contratista y el supervisor haran el seguimiento permanente a cambios normativos aplicables a sistemas eléctricos, electromecánicos, SST y protección contra incendios, evaluando oportunamente su impacto sobre la ejecución contractual. | Q12: Raro | R12: =+IFERROR(VLOOKUP(Q12,'V1'!$C$2:$D$7,2,FALSE),"") -> 1 | S12: Moderado | T12: 2 | U12: =+IFERROR((R12+T12),"") -> 3 | V12: =+IF(U12="","",IF(U12>=8,'V1'!$G$3,IF(U12>=6,'V1'!$G$4,IF(U12>=5,'V1'!$G$5,IF(U12>=2,'V1'!$G$6,"revisar"))))) -> Riesgo Bajo | W12: Si | X12: Supervisor contratista | Y12: Ejecución | Z12: Terminación del contrato | AA12: Seguimiento periódico a modificaciones normativas y técnicas aplicables al objeto contractual, verificando su posible incidencia sobre las condiciones de ejecución del contrato. | AB12: Hasta la terminación del contrato
B13: 3 | C13: Específico | D13: Interno | E13: Planeación | F13: Riesgos Operacionales | G13: Cambios originados en la necesidad del contratante de hacer ajustes a las especificaciones Técnicas | H13: Sobrecostos y variacion del valor y condiciones del contrato | I13: Posible | J13: =+IFERROR(VLOOKUP(I13,'V1'!$C$2:$D$7,2,FALSE),"") -> 3 | K13: Mayor | L13: =+IFERROR(VLOOKUP(K13,'V1'!$E$2:$F$7,2,FALSE),"") -> 4 | M13: =+IFERROR((J13+L13),"") -> 7 | N13: =+IF(M13="","",IF(M13>=8,'V1'!$G$3,IF(M13>=6,'V1'!$G$4,IF(M13>=5,'V1'!$G$5,IF(M13>=2,'V1'!$G$6,"revisar"))))) -> Riesgo alto | O13: Contratista | P13: Realizar la verificación de las condiciones iniciales de los equipos a fin de determinar posibles variaciones en las especificaciones técnica. | Q13: Improbable | R13: =+IFERROR(VLOOKUP(Q13,'V1'!$C$2:$D$7,2,FALSE),"") -> 2 | S13: Menor | T13: 1 | U13: =+IFERROR((R13+T13),"") -> 3 | V13: =+IF(U13="","",IF(U13>=8,'V1'!$G$3,IF(U13>=6,'V1'!$G$4,IF(U13>=5,'V1'!$G$5,IF(U13>=2,'V1'!$G$6,"revisar"))))) -> Riesgo Bajo | W13: Si | X13: Supervisor | Y13: Ejecución | Z13: Terminación del contrato | AA13: El supervisor del contrato, debera identificar los posibles cambios que se puedan presentar | AB13: Hasta la terminación del contrato
B14: 4 | C14: General | D14: Externo | E14: Ejecución | F14: Riesgos Operacionales | G14: Los repuestos suministrados no cumplen con las especificaciones técnicas requeridas para los equipos objeto del contrato. | H14: Afectación en el cronograma contractual | I14: Raro | J14: =+IFERROR(VLOOKUP(I14,[1]V1!$C$2:$D$7,2,FALSE),"") -> 1 | K14: Mayor | L14: =+IFERROR(VLOOKUP(K14,[1]V1!$E$2:$F$7,2,FALSE),"") -> 4 | M14: =+IFERROR((J14+L14),"") -> 5 | N14: =+IF(M14="","",IF(M14>=8,[1]V1!$G$3,IF(M14>=6,[1]V1!$G$4,IF(M14>=5,[1]V1!$G$5,IF(M14>=2,[1]V1!$G$6,"revisar"))))) -> Riesgo Medio | O14: Contraista | P14: Validación técnica y supervisión del cumplimiento de especificaciones de los repuestos y componentes instalados. | Q14: Raro | R14: 1 | S14: Menor | T14: 2 | U14: 3 | V14: =+IF(U14="","",IF(U14>=8,[1]V1!$G$3,IF(U14>=6,[1]V1!$G$4,IF(U14>=5,[1]V1!$G$5,IF(U14>=2,[1]V1!$G$6,"revisar"))))) -> Riesgo Bajo | W14: SI | X14: Entidad | Y14: Inicio del contrato | Z14: Primera semana | AA14: Verificación técnica del funcionamiento y compatibilidad de los repuestos instalados durante la ejecución contractual. | AB14: Una vez a la entregta de las garantias
B15: 5 | C15: General | D15: Externo | E15: Ejecución | F15: Riesgos Operacionales | G15: Desabastecimiento de insumos o elementos requeridos | H15: Posibles retrasos en la ejecución de mantenimientos preventivos y correctivos por falta de disponibilidad de insumos o repuestos requeridos. | I15: Improbable | J15: 2 | K15: Menor | L15: 3 | M15: =+IFERROR((J15+L15),"") -> 5 | N15: =+IF(M15="","",IF(M15>=8,[1]V1!$G$3,IF(M15>=6,[1]V1!$G$4,IF(M15>=5,[1]V1!$G$5,IF(M15>=2,[1]V1!$G$6,"revisar"))))) -> Riesgo Medio | O15: contratista | P15: Planeación anticipada de requerimientos y seguimiento a la disponibilidad de insumos y repuestos necesarios para la ejecución del contrato. | Q15: Raro | R15: 1 | S15: Menor | T15: =+IFERROR(VLOOKUP(S15,[1]V1!$E$2:$F$7,2,FALSE),"") -> 2 | U15: =+IFERROR((R15+T15),"") -> 3 | V15: =+IF(U15="","",IF(U15>=8,[1]V1!$G$3,IF(U15>=6,[1]V1!$G$4,IF(U15>=5,[1]V1!$G$5,IF(U15>=2,[1]V1!$G$6,"revisar"))))) -> Riesgo Bajo | W15: NO | X15: Entidad | Y15: Adjudicación del contrato | Z15: liquidación del contrato | AA15: Seguimiento periódico a la disponibilidad de insumos, repuestos y tiempos de suministro durante la ejecución contractual. | AB15: Durante todo el proceso de ejecución
B16: 6 | C16: General | D16: Externo | E16: Ejecución | F16: Riesgos Operacionales | G16: Condiciones climáticas que afecten la operación o acceso a sedes donde se ejecutan actividades de mantenimiento. | H16: Afectación temporal en los cronogramas de mantenimiento y atención técnica. | I16: Posible | J16: 3 | K16: Menor | L16: 2 | M16: =+IFERROR((J16+L16),"") -> 5 | N16: =+IF(M16="","",IF(M16>=8,[1]V1!$G$3,IF(M16>=6,[1]V1!$G$4,IF(M16>=5,[1]V1!$G$5,IF(M16>=2,[1]V1!$G$6,"revisar"))))) -> Riesgo Medio | O16: Supervisor y contratista | P16: Programación y priorización de actividades considerando condiciones climáticas y accesibilidad de las sedes. | Q16: Improbable | R16: 2 | S16: Menor | T16: =+IFERROR(VLOOKUP(S16,[1]V1!$E$2:$F$7,2,FALSE),"") -> 2 | U16: =+IFERROR((R16+T16),"") -> 4 | V16: =+IF(U16="","",IF(U16>=8,[1]V1!$G$3,IF(U16>=6,[1]V1!$G$4,IF(U16>=5,[1]V1!$G$5,IF(U16>=2,[1]V1!$G$6,"revisar"))))) -> Riesgo Bajo | W16: NO | X16: Entidad | Y16: Adjudicación del contrato | Z16: liquidación del contrato | AA16: Segimiento de las partes | AB16: Durante toda la ejecución del contrato
B17: Garantías a Requerir
B18: De conformidad con lo establecido en el Libro 2, Parte 2, Título 1, Capítulo 2, Sección 3 Garantías en la Contratación de la Administración Pública, Subsección 1, del Decreto 1082 de 2015, y de acuerdo con los riesgos que se puedan originar por la suscripción y ejecución del respectivo contrato, el ICANH ha determinado la exigencia de las siguientes garantías:
B19: 1. Póliza de Cumplimiento
B20: 2. Póliza de Pago de salarios, prestaciones sociales e indemnizaciones laborales
B21: 3. Póliza de Calidad del Servicio

Sheet V1
A2: Clase | B2: Tipo | C2: Probabilidad | E2: Impacto | G2: Categoría
A3: General | B3: Riesgos Económicos | C3: Raro | D3: 1 | E3: Insignificante | F3: 1 | G3: Riesgo Extremo | H3: 8_10
A4: Específico | B4: Riesgos Sociales o Políticos | C4: Improbable | D4: 2 | E4: Menor | F4: 2 | G4: Riesgo alto | H4: 6_7
B5: Riesgos Operacionales | C5: Posible | D5: 3 | E5: Moderado | F5: 3 | G5: Riesgo Medio | H5: 5
B6: Riesgos Financieros | C6: Probable | D6: 4 | E6: Mayor | F6: 4 | G6: Riesgo Bajo | H6: 2_4
A7: Fuente | B7: Riesgos Regulatorios | C7: Casi cierto | D7: 5 | E7: Catastrófico | F7: 5
A8: Interno | B8: Riesgos de la Naturaleza
A9: Externo | B9: Riesgos Ambientales
B10: Riesgos Tecnológicos
A11: Etapa
A12: Planeación
A13: Selección
A14: Contratación
A15: Ejecución
