Workbook
Name ____DIA1: #REF!
Name ____DIA2: #REF!
Name ____EE1: #REF!
Name ____GT1: #REF!
Name ____GTO1: #REF!
Name ____INC1: #REF!
Name ____INI1: #REF!
Name ____MA1: #REF!
Name ____MES1: #REF!
Name ____RC: #REF!
Name ___DAT1: #REF!
Name ___DIA1: #REF!
Name ___DIA2: #REF!
Name ___EE1: #REF!
Name ___GT1: #REF!
Name ___GTO1: #REF!
Name ___INC1: #REF!
Name ___INI1: #REF!
Name ___MA1: #REF!
Name ___MES1: #REF!
Name ___RC: #REF!
Name __1Excel_BuiltIn_Print_Area_1_1: #REF!
Name __DAT1: #REF!
Name __DIA1: #REF!
Name __DIA2: #REF!
Name __EE1: #REF!
Name __GT1: #REF!
Name __GTO1: #REF!
Name __INC1: #REF!
Name __INI1: #REF!
Name __MA1: #REF!
Name __MES1: #REF!
Name __RC: #REF!
Name _1_b_1: #REF!
Name _1Excel_BuiltIn_Print_Area_1_1: #REF!
Name _2_m_1: #REF!
Name _2Excel_BuiltIn_Print_Area_1_1: #REF!
Name _3Excel_BuiltIn_Print_Area_2_1: #REF!
Name _b: #REF!
Name _DAT1: #REF!
Name _DIA1: #REF!
Name _DIA2: #REF!
Name _EE1: #REF!
Name _GT1: #REF!
Name _GT2: #REF!
Name _GTO1: #REF!
Name _GTO11: #REF!
Name _INC1: #REF!
Name _INI1: #REF!
Name _m: #REF!
Name _MA1: #REF!
Name _MES1: #REF!
Name _RC: #REF!
Name _Toc124048707_1: #REF!
Name \b: #REF!
Name \m: #REF!
Name A: #REF!
Name A_impresión_IM: #REF!
Name anos: #REF!
Name AÑO: #REF!

Sheet TODO RIESGO DAÑOS MATERIALES
A1: ANEXO Nº 01 (ESPECIFICACIONES TECNICAS SEGURO DE TODO RIESGOS DAÑO MATERIALES)
A2: TOMADOR: | B2: MUNICIPIO DE PEREIRA
A3: ASEGURADO: | B3: =B2 -> MUNICIPIO DE PEREIRA
A4: BENEFICIARIO: | B4: =B3 -> MUNICIPIO DE PEREIRA
A5: NIT: | B5: 891.480.030-2.
A6: RAMO | B6: TODO RIESGO DAÑOS MATERIALES
A7: INTERMEDIARIO: | B7: GONSEGUROS CORREDORES DE SEGUROS S.A
A8: VIGENCIA: | B8: DESDE LAS 00:00 HORAS DEL 19 DE SEPTIEMBRE DE 2025 HASTA LAS 24:00 HORAS DEL 19 DE SEPTIEMBRE DE 2026
A9: CONDICIONES MINIMAS REQUERIDAS OBLIGATORIAS
A10: BIENES ASEGURADOS | B10: VALOR ASEGURABLE | C10: VALOR ASEGURADO | D10: PROPUESTA DE LA COMPAÑÍA
D11: TASA | E11: PRIMA
A12: Edificios: Toda clase de bienes e inmuebles de propiedad del asegurado o por los que sea responsable ubicados dentro o fuera de los predios asegurados (incluye, casetas, instalaciones deportivas, cerramientos, tanques, redes, lineas y cables. Incluida la norma de sismoresistencia, avisos, vias internas) Se Amparan bienes que por su naturaleza deban permanecer a la intemperie. | C12: =SUM('RELACION BIENES ALCALDIA '!B2:B116) -> 8.7696331e+11
A13: Adecuación a NSR 2010 antes NSR 98 | C13: 8.5638077e+10
A14: CONTENIDOS EN GENERAL: Corresponden a todo tipo de bienes como muebles y enseres en general propios de la actividad general de una entidad pública, incluidos equipos de oficina no eléctricos ni electrónicos, entre otros, sistemas de oficina abierta, al igual que los documentos de cualquier tipo, que se encuentren localizados dentro de los predios asegurados o fuera de los mismos y que esten bajo su responsabilidad, tenencia y/o control del ENTIDAD | C14: 1.1649943e+10
A15: CONTENIDOS EN GENERAL INSTITUCIONES EDUCATIVAS: Corresponden a todo tipo de bienes como muebles y enseres en general propios de la actividad general de una entidad pública, incluidos equipos de oficina no eléctricos ni electrónicos, entre otros, sistemas de oficina abierta, al igual que los documentos de cualquier tipo, que se encuentren localizados dentro de los predios asegurados o fuera de los mismos y que esten bajo su responsabilidad, tenencia y/o control del ENTIDAD | C15: ='RELACION BIENES ALCALDIA '!B124 -> 1164190000
A16: EQUIPOS ELECTRICOS Y ELECTRONICOS INCLUYE CABLEADO ESTRUCTURADO (equipos de comuniciacion, y similares, equipos de computo fijos y portatiles y similares aunque no se especifiquen, incluye equipos en comodatos de terceros al ENTIDAD y del ENTIDAD a terceros). | C16: =SUM('RELACION BIENES ALCALDIA '!B125:B146) -> 6.0653508e+11
A17: MAQUINARIA EN GENERAL Consistente principalmente pero no limitado a: Maquinaria, equipo, maquinaria y equipo subestaciones electricas, plantas de emergencia, calderas, ascensores, motores electricos, montacargas, aire acondicionado central, aire acondiconado de cada oficina, motobombas, transformadores y equipos similares, propios y/o bajo la responsabilidad del asegurado aunque no se especifiquen y demás bienes aunque no se hayan determinado específicamente. Incluye muebles y enseres Hospitalarios). | C17: 7.4923548e+10
A18: SERMOVIENTES(4 CANINOS) | C18: ='RELACION BIENES ALCALDIA '!B159 -> 20000000
A19: INSTRUMENTOS MUSICALES | C19: 1450000000
A20: OBRAS DE ARTE Y PIEZAS ARQUEOLOGICAS | C20: =SUM('RELACION BIENES ALCALDIA '!B160:B161) -> 9.1933575e+08
A21: Mercancias suministros en insumos | C21: ='RELACION BIENES ALCALDIA '!B160 -> 7.5711075e+08
A22: Vacunas refrigeradas | C22: 162225000
A23: Dinero en Efectivo (Dentro y o fuera de caja fuerte) | C23: ='RELACION BIENES ALCALDIA '!B196 -> 64014300
A24: 40 BICICLETAS | C24: ='RELACION BIENES ALCALDIA '!B164 -> 36754877
A25: Bibliotecas (Libros, enciclopedias y contenidos en general de estas) | C25: ='RELACION BIENES ALCALDIA '!B194 -> 4.8505702e+08
A26: Bienes en reposo | C26: ='RELACION BIENES ALCALDIA '!B165 -> 150000000
A27: Totales | C27: =SUM(C12:C26) -> 1.6609186e+12
A28: Total Indice Variable ( 6%) | C28: 9.427637e+10
A29: RENTA: 12 MESES: $250,000,000 MENSUALES | C29: 3000000000
A30: TOTAL | C30: =C27+C28+C29 -> 1.758195e+12
A31: PRIMA NETA
A32: IVA
A33: TOTAL
A34: OBJETO DEL SEGURO | B34: Amparar todos los activos (bienes inmuebles y muebles) de propiedad de la ENTIDAD o aquellos que se encuentren bajo su control, tenencia, responsabilidad o custodia, contra los daños o pérdidas materiales a consecuencia de cualquier riesgo, tanto por eventos internos o externos y en general los recibidos a cualquier título o por los que tenga algún interés asegurable, ubicados en el territorio nacional o por aquellos que por su naturaleza se deban trasladar a nivel mundial, dentro o fuera de las instalaciones del asegurado y/o en predios de terceros o a la intemperie y los utilizados en desarrollo del objeto social de la ENTIDAD.
A35: COBERTURA OBLIGATORIA
A36: MODALIDAD DE LA POLIZA: TODO RIESGO PERDIDA Y/O DAÑO MATERIAL CON EXCLUSIONES La aseguradora se obliga a indemnizar al asegurado los daños y/o pérdidas que sufran los intereses asegurados, así como los costos y/o gastos en que incurra, o todos combinados, como consecuencia de los riesgos que a continuación se enuncian y sujeto a los riesgos excluidos: Todo riesgo para las pérdidas y/o daños materiales que sufran los intereses asegurados por cualquier riesgo y/o causas, incluidos, pero no limitados a: Incendio, explosión, anegación, daños por agua; extended coverage; daños a calderas o aparatos generadores de vapor, huelga, asonada, motín, conmoción civil o popular, actos malintencionados de terceros, incluidos sabotaje y los actos terroristas, cometidos o no por movimientos subversivos (tomas a poblaciones, municipios y ciudades y los actos de la autoridad para repelerlos); terremoto, temblor y/o erupción volcánica, maremoto, tsunami, y/o eventos de la naturaleza tales como ciclón, huracán, tempestad, vientos, inundación, desbordamiento, alza en el nivel de aguas y enfangamiento, hundimiento, deslizamiento del terreno, derrumbes, ludes, desprendimiento de tierra y rocas, y las pérdidas y/o daños consecuenciales originados por tales fenómenos los cuales sean consecuencia de un hecho súbito, accidental e imprevisto cubiertos en la póliza ; daño interno de equipos eléctricos y electrónicos: coberturas de todo riesgo daño material por rotura de maquinaria y equipos eléctricos y electrónicos (explosión física o química interna, caída directa de rayo, rotura debido a fuerza centrifuga, cuerpo extraños, acción directa de la energía eléctrica y/o rayo, impericia, descuido, negligencia; sabotaje individual; error de diseño, defecto de mano de obra, falta de agua en aparatos generadores de vapor, otros accidentes ocurridos a los equipos por causas no expresamente excluidas en la póliza); rotura de vidrios, sustracción con violencia y sustracción sin violencia, y demás amparos y/o cobertura que no se encuentren expresamente excluidas. se amparan los hundimientos, desplazamientos, agrietamientos o asentamientos de cimientos, muros, pisos, techos y pavimentos, vibraciones o movimientos naturales del suelo, siempre y cuando sean consecuencia de un hecho accidental, súbito e imprevisto cubierto en la póliza La cobertura de Hurto simple y calificado se extiende a amparar los equipos moviles y portatiles , kit de emergencias, herramientas, equipos y similares dentro y/o fuera de los predios del asegurado y en aquellos donde ejerza su actividad y cuando estan siendo transportados en vehiculos del asegurado, de sus empleados y/o de terceros contratistas y/o subcontratistas del mismo.
A37: BIENES ASEGURADOS (INTERES ASEGURABLE) OBLIGATORIA
A38: Todos los bienes de propiedad real o personal del ASEGURADO, o en los que tuviere interés asegurable , o los recibidos a cualquier titulo, los tomados en arriendo, los recibidos en dación de pagos o los recibidos a cualquier titulo, comodato, los de terceros o aquellos por los cuales sea o pueda llegar a ser responsable, que se encuentren bajo su cuidado, control y custodia, utilizados en el desarrollo del objeto social del asegurado, consistentes principalmente en, pero no limitados a : edificios, estructuras, cimientos, muros de contención, cercas, escaleras externas, vidrios planos, patios, avisos, torres, toldos, techos, estacionamientos, vías de acceso, otras construcciones separadas de las edificaciones, instalaciones subterráneas, instalaciones eléctricas, de cableado estructural, de aires acondicionados, electrónicas, de comunicación, para conducción de gas sean o no subterráneas, tuberías. conductos, desagües, y en general todo tipo de instalación y equipos que se encuentren por debajo del nivel del suelo, instalaciones fijas de protección contra incendio, instalaciones eléctricas, alarmas, cámaras y circuitos cerrados de televisión, maquinaria, equipos, herramientas, ascensores, subestaciones y /o plantas eléctricas, motores, transformadores, muebles e inmuebles de todo tipo y descripción. enseres, equipos de construcción, equipos de oficina, de procesamiento de datos, equipos de comunicación, de audiovisuales, de sistemas, de laboratorios, equipos de hospitalización, equipos de apoyo, equipos de diagnostico, equipos de apoyo terapéutico, equipos médicos y científicos, instrumental médico mejoras locativas (acabados y obras realizadas en el edificio, mercancías, repuestos, insumos, armas de fuego, equipos móviles y portátiles, vehículos inmovilizados ( en reposo), dinero en efectivo, medallas, plata labrada, obras de arte, estatuas, frescos, colecciones, y muebles que tengan valor artístico, científico e histórico, manuscritos, planos, croquis, patrones, sellos, monedas, libros de comercio, títulos valores y billetes de bancos, instrumentos musicales, equipos de sonidos, bienes que por su naturaleza deben permanecer a la intemperie televisores, equipos de video, cámaras fotográficas, electrodomésticos, equipos para el manejo y movilización de materiales, camillas, papelería, mercancìas azarosas necesarias para el normal funcionamiento del establecimiento y demás bienes que aunque no hayan sido mencionados específicamente se encuentren localizados dentro o fuera de los predios asegurados y/o donde el asegurado desarrolle su actividad dentro del territorio de la republica de Colombia..
A39: DIRECCION UBICACIÓN RIESGOS | B39: Cra. 7 No. 18-55 Pereira - Risaralda. y demas riesgos donde el asegurado ejerce su actividad, aunque no esten determinados especificamente ubicados en el territorio Colombiano.
A41: DEFINICION DE BIENES
...

Sheet RELACION BIENES ALCALDIA 
A1: BIENES ASEGURADOS | B1: VALORES ASEGURADOS | C1: TIPO DE BIEN | D1: INDICE VARIABLE
A2: Cra 7 No 18-55 Palacio Municipal Edificio (incluido ascensores y subestación eléctrica y planta de emergencia, sistema hidráulico y tanques de agua) DEPENDENCIAS, OFICINAS DE LA ADMINISTRACION MUNICIPAL, ADMINISTRACIÓN CENTRAL Y AREA URBANA Y RURAL DEL MUNICIPIO. Edificios (propios, comodatos y alquiler) | B2: =34903933055.09+31031021078 -> 6.5934954e+10 | C2: EDIFICIO | D2: SI
A3: Concejo de Pereira – Cra 6 Nro 21-62 Pereira Edificio | B3: 8.2207672e+09 | C3: EDIFICIO | D3: SI
A4: Centro Administrativo Cuba edificio | B4: 2556578978 | C4: EDIFICIO | D4: SI
A5: CREEME Vereda Combia Baja, Pereira Edificios | B5: 3.3832579e+09 | C5: EDIFICIO | D5: SI
A6: Edificios Vereda la Siria Combia Baja - frente al CREEME Edificio | B6: 721946438 | C6: EDIFICIO | D6: SI
A7: Cuerpo de Bomberos Pereira Edificios - Estaciones Central, Cuba, Parque Industrial y Puerto Caldas, la florida, Caimalito, Base oriente - Barrio Ormaza) EDIFICIOS | B7: 14239479428 | C7: EDIFICIO | D7: SI
A8: Centros Educativos del Municipio, Edificios (74 urbanos y 99 rurales) , incluyendo el Instituto Educativo Hans Drews Arango, y los SEDES comunales de: Ormaza y Parque Industrial. | B8: 1.4370864e+11 | C8: EDIFICIO | D8: SI
A9: Plaza de Ferias de Cerritos Edificios, galpones, corrales de exposición y embarcaderos de ganado y coliseo de exposición, mall de comidas | B9: 8.2911585e+09 | C9: EDIFICIO | D9: SI
A10: AREA PRIVADA -Unidad Administrativa El Lago Calle 25 No, 7-40/48 LISTADO | B10: 4354055828 | C10: EDIFICIO | D10: SI
A11: Planta semisótano (parqueaderos 1 al 7)
A12: Bodega 1
A13: Planta sótano (parqueadero 16, 17, 18, 20, 21, 22, 32, 33)
A14: Planta sótano ( bodega 4 y 5 )
A15: Planta piso 1 (locales 101 y 102)
A16: Planta piso 2 (locales 202 y 203)
A17: Planta piso 3
A18: Planta piso 4
A19: Planta piso 5
A20: Planta piso 6
A21: Planta piso 7
A22: Desarrollo Social y Político Edificios casetas comunales rurales y urbanas, Centros de Desarrollo Vecinales) | B22: 6784232408 | C22: EDIFICIO | D22: SI
A23: Parque del Café Edificios, kioscos, piscinas y zonas húmedas | B23: 52849479428 | C23: EDIFICIO | D23: SI
A24: Centro Comercial Parqueadero la 17 AREA PRIVADA - Edificio (sótano, nivel y nivel A) | B24: 5.517756e+08 | C24: EDIFICIO | D24: SI
A25: Mercado de Minorista Calle 41 con Cra 11 Locales 1G 2H y 3-032 y Parqueaderos Edificio (incluye elevadores mecánicos, subestación y planta eléctrica y sistema hidráulico y tanques de agua | B25: 1.0085282e+10 | C25: EDIFICIO | D25: SI
A26: MERCASA AREA PRIVADA (45 locales comerciales) | B26: 784479428 | C26: EDIFICIO | D26: SI
A27: Centro Comercial Fiducentro AREA PRIVADA - Locales (F101 al F106) | B27: 535597028 | C27: EDIFICIO | D27: SI
A28: Unidad Permanente de Vida Calle 14 con Cra 5 esquina EDIFICIO | B28: 4314679478 | C28: EDIFICIO | D28: SI
A29: Edificio Diario del Otún AREA PRIVADA - Local 108 | B29: 1753567028 | C29: EDIFICIO | D29: SI
A30: Plazoleta el Lago (obra civil, arquitectónica y ornamentación) | B30: 13786649648 | C30: EDIFICIO | D30: SI
A31: Obelisco - sector Villa Olímpica | B31: 7111242728 | C31: EDIFICIO | D31: SI
A32: CRA 8 No calles 36-37 coliseo Rafael Cuartas Edificios (graderías, cancha, cerramiento e instalaciones e iluminación) | B32: 3.3218815e+10 | C32: EDIFICIO | D32: SI
A33: Piscinas Villa Olímpica Edificios (piscinas: olímpica, clavados y auxiliar, graderías, plataforma de clavados, oficinas, túneles y cerramientos e instalaciones en general) | B33: 4.4078966e+10 | C33: EDIFICIO | D33: SI
... A117: Carrera 7a No. 18-55 Palacio Municipal Otros bienes (acometidas, software, bienes en comodato Finca Albania, acetatos, música etc.) | B117: 67540774 | C117: CONTENIDOS | D117: SI
A118: MEGACABLE ESTACION OLAYA Muebles y Enseres | B118: =55219350+6028200 -> 61247550 | C118: CONTENIDOS | D118: SI
A119: MEGACABLE ESTACIÓN TERMINAL Muebles y Enseres | B119: =54731450+3161681 -> 57893131 | C119: CONTENIDOS | D119: SI
A120: MEGACABLE ESTACIÓN UNIVERSIDAD Muebles y Enseres | B120: =268852263+8261681 -> 277113944 | C120: CONTENIDOS | D120: SI
A121: MEGACABLE ESTACIÓN UNIVERSIDAD Stock Inventarios | B121: =1200000000+422222047 -> 1622222047 | C121: CONTENIDOS | D121: SI
A122: MEGACABLE ESTACIÓN LAS BRISAS Muebles y Enseres | B122: =54731450+12728644 -> 67460094 | C122: CONTENIDOS | D122: SI
A123: MEGACABLE CABINAS | B123: =55000*3453.26*50 -> 9496465000 | C123: CONTENIDOS | D123: SI
...

Sheet EQUIPO Y MAQUINARIA
A2: ANEXO No 02 ESPECIFICACIONES TECNICAS SEGURO DE TODO RIESGO EQUIPO Y MAQUINARIA
A3: TOMADOR: | B3: ='TODO RIESGO DAÑOS MATERIALES'!B2 -> MUNICIPIO DE PEREIRA
A4: ASEGURADO : | B4: =+B3 -> MUNICIPIO DE PEREIRA | C4: =+B3 -> MUNICIPIO DE PEREIRA
A5: BENEFICIARIO: | B5: =+B4 -> MUNICIPIO DE PEREIRA | C5: =+B4 -> MUNICIPIO DE PEREIRA
A6: NIT | B6: ='TODO RIESGO DAÑOS MATERIALES'!B5 -> 891.480.030-2. | C6: 890.399.029-5
A7: RAMO | B7: TODO RIESGO EQUIPO Y MAQUINARIA | C7: TODO RIESGO DANO MATERIAL
A8: INTERMEDIARIO | B8: GONSEGUROS CORREDORES DE SEGUROS S.A.
A9: VIGENCIA | B9: ='TODO RIESGO DAÑOS MATERIALES'!B8 -> DESDE LAS 00:00 HORAS DEL 19 DE SEPTIEMBRE DE 2025 HASTA LAS 24:00 HORAS DEL 19 DE SEPTIEMBRE DE 2026 | C9: DESDE: xx de xxxx DEL 2012 HORA: 00,00 HASTA: xxx DEL XXXXX 2013 HORA:00,00
A10: CONDICIONES TÉCNICAS BÁSICAS OBLIGATORIAS
A11: DESCRIPCION DE LA ACTIVIDAD DEL ASEGURADO | B11: Entidad Pública -
A12: DIRECCION COMERCIAL /TELEFONO | B12: Cra. 7 No. 18-55 Pereira - Risaralda.
A13: DIRECCION DEL RIESGO | B13: Territorio Colombiano
A14: OBJETO DEL SEGURO | B14: Amparar las pérdidas o daños materiales que sufran los bienes de propiedad de la entidad, bajo su responsabilidad, tenencia y/o control, y en general los recibidos a cualquier titulo y/o por los que tenga algún interés asegurable, de acuerdo con el tipo de maquinaria de la relación asegurada, en sus operaciones sobre cualquier terreno y zona en el cual realizan sus operaciones.
A15: BIENES ASEGURADOS | B15: Toda la maquinaria y equipo de propiedad de la entidad, que se hallen bajo su responsabilidad, tenencia y/o control, y en general los recibidos a cualquier titulo o por los que tenga algún interés asegurable y consistente principalmente, pero no limitados, en los siguientes: Maquinaria y equipo consistente principalmente en: Buldoceres, Tractores, Motoniveladoras, Excavadoras, Retroexcavadoras, Equipos Agrícolas, Planchones y otras similares ubicados en el territorio nacional, de propiedad de la entidad, bajo su responsabilidad, tenencia y/o control.
A16: BIENES NO ASEGURABLES | B16: • Vehículos a motor destinados para transitar en vias públicas y provistos de una licencia y/o placa para tal fin, cuando la operación de los mismos sea la movilización en vías públicas y esten asegurados en pólizas de autos. • Embarcaciones, naves flotantes, aeronaves o máquinas que hagan parte de ellas.
A17: MODALIDAD DE VALOR ASEGURADO DE LOS BIENES ASEGURADOS | B17: EQUIPO Y MAQUINARÍA: Valor de reposición o reemplazo.
A18: VALORES ASEGURADOS | B18: Según relacion
A19: COBERTURA BASICA TODO RIESGO | B19: La aseguradora se obliga a indemnizar al asegurado los daños y/o pérdidas que sufran los intereses asegurados, así como los costos y/o gastos en que incurra, o todos combinados, por cualquier causa, como consecuencia de los riesgos que a continuación se enuncian y sujeto a los riesgos excluidos: Incendio y/o Rayo, Explosión, Impacto directo de rayo, Terremoto, Temblor y/o Erupción, Maremoto (100%). Actos Mal Intencionados de Terceros, Asonada, Motín, Conmoción Civil o Popular y Huelga. (Incluido Terrorismo). 100% del valor asegurado. Cobertura para Daño interno, si a consecuencia de tal daño interno o desarreglo surge un accidente que produce daños externos, este daño consecuencial será indemnizable sujeto a la demostración del mantenimiento. Cobertura para partes Eléctricas y/o Electrónicas. Sustracción con y sin violencia (Hurto y Hurto Calificado). Daños por agua Anegación Extended coverage Errores de Diseño y Defectos de Fabricación. Movilización por sus propios medios Volcamiento Responsabilidad Civil básico obligatorio de 500,000,000 Colisión con objetos en movimiento o estacionarios
A20: CONVENIO PARA EL PLAZO DEL PAGO DE LA PRIMA | B20: No obstante cualquier estipulación en contrario, por la presente cláusula se deja establecido que, de acuerdo con lo estipulado en el artículo 81 de la Ley 45/90 y la Resolución numero 03750 de Diciembre 31/74 de la Superintendencia Financiera, las partes contratantes convienen que las primas causadas por el presente Contrato de seguros y los Certificados o Anexos que se emitan en aplicación al mismo serán pagadas por el asegurado dentro de los noventa (90) días a partir de la fecha en que el respectivo documento sea recibido en sus oficinas, directamente por la Aseguradora y/o por el intermediario de seguros, quien deberá certificar haber recibido a satisfacción las respectivas pólizas en las condiciones contratadas; Si las pólizas no han sido correctamente elaboradas, el término para el pago solo empezará a contarse desde la fecha en que se presenten en debida forma. La demora en el pago originada por la presentación incorrecta de los documentos requeridos será responsabilidad del contratista y no tendrán por ello derecho al pago de intereses o compensación de ninguna naturaleza o a la aplicación de la terminación del contrato por mora en el pago de la prima.
A21: REVOCACIÓN, NO RENOVACIÓN O MODIFICACIONES DE LA PÓLIZA Y SUS ANEXOS | B21: La Aseguradora deberá dar aviso por escrito al ASEGURADO, con una anticipación de noventa (90) días en caso que decida modificar, revocar o no renovar esta póliza y/o alguno de sus amparos adicionales o modificar cualquiera de sus condiciones. En caso de revocación la aseguradora devolverá al asegurado, la proporción de prima correspondiente al tiempo que falte para el vencimiento de la Póliza, liquidada a prorrata. Para HMACC AMIT TERRORISMO Aplican 10 días. Si la revocación es solicitada por EL ASEGURADO , la Aseguradora devolverá el valor de la prima no corrida del riesgo, liquidada a Prorrata
A22: MODIFICACIONES A FAVOR DEL ASEGURADO | B22: Si durante la vigencia de este seguro se presentan modificaciones a las condiciones generales y particulares de la póliza, que presenten un beneficio a favor del ASEGURADO, tales modificaciones se consideran automáticamente incorporadas a la póliza siempre que el cambio no implique un aumento en la prima originalmente pactada.
... A39: COMPROMISO DE LA ASEGURADORA PARA EL PAGO DE LAS INDEMNIZACIONES. | B39: Una vez formalizada la reclamación hasta 10 días hábiles. Queda expresamente convenido y aceptado, que la Aseguradora se compromete a efectuar el pago de la indemnización de los siniestros, dentro de los diez (10) días hábiles siguientes al término previsto para el pronunciamiento y aceptación de los reclamos.
A40: PARA LOS SIGUIENTES AMPAROS ADICIONALES SUBLIMITADOS NO HAY APLICACIÓN DE DEDUCIBLE
A41: AMPAROS ADICIONALES SUBLIMITADOS EN CASO DE SINIESTRO LA COMPAÑÍA CUBRIRA LOS GASTOS RAZONABLES EN QUE INCURRA EL ASEGURADO POR UNO, VARIOS O TODOS ESTOS CONCEPTOS SIN EXCEDER EL 20% DE LA SUMA ASEGURADA DE LOS BIENES AFECTADOS
A42: GASTOS RAZONABLES DE HORAS EXTRAS, TRABAJO NOCTURNO O EN DÍAS FESTIVOS Y FLETE EXPRESO Y AÉREO. | B42: Bajo esta cobertura se amparan los gastos adicionales y extraordinarios por concepto de horas extras, trabajo nocturno o en días festivos, flete expreso y aéreo, que se incurran o deba incurrir con motivo de una pérdida o daño amparado.
A43: GASTOS RAZONABLES DE VIAJES Y ESTADÍA. | B43: Bajo esta cobertura se amparan los gastos (que incurra o deba incurrir) de viajes de y estadía de funcionarios, empleados y técnicos que intervienen en la planificación de la reconstrucción o adquisición de los bienes asegurados.
A44: REMOCIÓN DE ESCOMBROS Y GASTOS DE DEMOLICIÓN. | B44: Mediante este amparo la compañía indemnizará, los gastos razonables (en que incurra o deba incurrir) demostrados por remoción de escombros, desmantelamiento, demolición o de apuntalamiento de los bienes asegurados, que hayan sido dañados o destruidos por la ocurrencia de cualquiera de los riesgos amparados, incluyendo los gastos de limpieza, recuperación de materiales y el traslado de los escombros a sitio autorizado, con ocasión de un siniestro.
A45: GASTOS PARA LA DEMOSTRACIÓN DEL SINIESTRO. | B45: Bajo este amparo se cubren los gastos razonables en que incurra o deba incurrir el asegurado, para la demostración de la ocurrencia y cuantía del siniestro y serán indemnizados bajo esta póliza. La aseguradora indemnizará hasta el 100% de los gastos demostrados.
A46: GASTOS PARA LA EXTINCIÓN DEL SINIESTRO. | B46: La Compañía se obliga a indemnizar el 100% de los gastos en que necesaria y razonablemente incurra o deba incurrir el asegurado así como los costos de los productos o sustancias utilizadas, o de los elementos o equipos destruidos total o parcialmente, como consecuencia de las actividades dirigidas a la extinción de cualquier siniestro amparado por la póliza o para evitar su propagación, de acuerdo con lo señalado en el artículo 1074 del Código de Comercio. Se precisa que bajo ninguna circunstancia se considerara como gastos de extinción de un incendio la colaboración personal prestada por el asegurado, ni la de sus empleados, obreros o sus contratistas para el apoyo a la gestión.
A47: GASTOS DE AUDITORES, REVISORES Y CONTADORES. | B47: Bajo este amparo la Compañía indemnizará, los gastos razonables en que en que incurra o deba incurrir el asegurado, por pago de auditores, revisores y contadores que se requieran para analizar y certificar los datos extraídos de los libros de contabilidad y demás documentos del negocio del asegurado, al igual que cualesquiera otras informaciones que sean solicitadas por la compañía al asegurado, para la demostración de la ocurrencia y cuantía del siniestro, según lo establecido en esta póliza.
A48: PAGO DE HONORARIOS PROFESIONALES. | B48: Se otorga cobertura para amparar los honorarios (en que incurra o deba incurrir) razonables de arquitectos, interventores, ingenieros, técnicos, consultores u otros profesionales, que sean razonablemente necesarios, así como los gastos de viaje y estadía que se requieran para la planificación, reconstrucción o reparación de los bienes asegurados, a condición de que sea consecuencia de un siniestro cubierto por la póliza.
A49: GASTOS PARA LA PRESERVACIÓN DE BIENES Y CONTINUACIÓN DE ACTIVIDADES. | B49: Se ampara bajo la presente cobertura, los gastos razonables en que incurra o deba incurrir el asegurado para realizar remplazos temporales y/o provisionales o reacondicionamientos y/o reparación de los bienes asegurados afectados por siniestro, así como la ejecución de obras o construcciones provisionales o transitorias, siempre y cuando estos gastos sean requeridos para la preservación y/o conservación de los bienes asegurados con el fin de establecer y continuar con igual eficiencia, como sea posible, las operaciones del giro normal de las actividades del asegurado que sean afectados directamente por un evento amparado.
A50: GASTOS PARA ACELERAR LA REPARACIÓN, REACONDICIONAMIENTO O EL REEMPLAZO DE LOS BIENES ASEGURADOS. | B50: Se ampara bajo la presente cobertura, los gastos razonables en que en que incurra o deba incurrir el asegurado para acelerar la reparación, reacondicionamiento o el reemplazo de los bienes asegurados.
A51: GASTOS PARA REACONDICIONAMIENTOS O REPARACIONES PROVISONALES O TRANSITORIAS. | B51: Se ampara bajo la presente cobertura, los gastos razonables en que en que incurra o deba incurrir el asegurado con el fin de efectuar reacondicionamientos o reparaciones provisionales transitorias, con el objeto de salvar, preservar o conservar los bienes amparados.
A52: GASTOS EXTRAORDINARIOS. | B52: Bajo esta condición la cobertura de la póliza se extiende a amparar los gastos extras por arrendamientos de bienes, equipos, instalaciones y edificios en que incurra el asegurado, adicionales y en exceso a sus costos normales de operación, con el único fin de poder continuar con igual eficiencia, como sea posible, las operaciones del giro normal de sus actividades que se vean afectadas directamente por un evento amparado bajo este seguro.
A53: COBERTURA AUTOMÁTICA PARA NUEVOS BIENES. SUBLÍMITE DE $1.000.000.000 | B53: La presente clausula se amplia hasta $1.000,000,000 para otorgar cobertura automática, a partir del momento en que el asegurado asuma la responsabilidad por los bienes hasta la suma asegurada, sujeto a que éste queda obligado a dar aviso a la aseguradora dentro de los 90 días siguientes. Se precisa, que la aplicación de esta cobertura dará derecho a la compañía al cobro de la prima proporcional calculada a prorrata, de acuerdo con las tasas ofrecidas en este proceso y correspondiente al periodo de amparo, incluido el término automático otorgado para esta condición.
... A69: REPOSICION O REEMPLAZO | B69: Bajo esta cláusula la Compañía pagará la indemnización por el valor de la reposición o reemplazo de los bienes asegurados, cuando el conjunto o la totalidad de ellos queden destruidos o de tal modo averiados que pierdan la aptitud para el fin a que están destinados o cuando no obstante no perder esa aptitud, su reparación aunque se facilite, implique perjuicios en la calidad o eficiencia en la producción u operación y de conformidad con lo siguiente:
A70: 1. Por igual valor de reposición o reemplazo se hará la indemnización de las secciones, partes o piezas de tales bienes, cuando en vez de reponerse o reemplazarse el conjunto o la totalidad de ellos o cada uno de ellos, se proceda a su reconstrucción o reparación necesaria para que no haya perjuicio alguno en la calidad o eficiencia de la producción u operación.
A71: 2. Se entiende por valor de reposición de la totalidad de los bienes, de un conjunto o grupo de ellos o cada uno de ellos individualmente considerando, el valor a nuevo de los mismos, sin deducción alguna por depreciación, demérito, uso, vetustez, o en fin, por cualquier otro concepto.
A72: 3. Si con ocasión del siniestro, la reposición o reparación del conjunto o totalidad de los bienes, ó de un grupo de éstos o de cualquiera de ellos, el asegurado hiciera cualquier cambio o reforma en sus instalaciones, o reemplazare el o los bienes siniestrados por otro u otros de diferente naturaleza, o de mayor capacidad, serán de su cuenta los mayores costos que dichos cambios ocasionen
...

Sheet RELACIÓN EYM
A1: ANEXO 02 A RELACION MAQUINARIA Y EQUIPO
A2: Bienes Asegurados | B2: Equipo | C2: Mod | D2: Motor | E2: Chasis | F2: Valor asegurado
A3: Vibrocompactador Caterpillar modelo CB 34B y accesorios - TL-164 | B3: VIBROC | C3: 2016 | D3: CYP03315 | E3: 03B400164 | F3: 180000000 | G3: INFRA
A4: Vibrocompactador, TIPO SV210 | B4: VIBROC | C4: 2016 | D4: 68348325 | E4: DDDSV210NGNTB2110 | F4: 250000000 | G4: INFRA
A5: Retroexcavadora 420F2 | B5: MC090460 | C5: 2018 | D5: G4D59959 | E5: CAT0420FALBS01285 | F5: 446228750 | G5: INFRA
A6: Bulldozer 1850K | B6: CASE | C6: 2009 | D6: 563432 | E6: N9DC80001 | F6: 265862069 | G6: INFRA
A7: Motoniveladora 845 | B7: CASE | C7: 2006 | D7: 30379841 | E7: N6af03194 | F7: 450000000 | G7: INFRA
A8: Maquinaria OVE495 | B8: ADECUACION BOMBERO | C8: 2020 | D8: 74501476 | E8: 3HAEJTAR3LL378611 | F8: 425800000 | G8: INFRA
A9: Maquinaria OVE496 | B9: ADECUACION BOMBERO | C9: 2020 | D9: 74498607 | E9: 3HAEJTAR1LL182795 | F9: 425800000 | G9: INFRA
A10: Maquinaria OVE497 | B10: ADECUACION BOMBERO | C10: 2020 | D10: 74501460 | E10: 3HAEJTAR3LL380049 | F10: 425800000 | G10: INFRA
A11: Furgon de rescate OVE492 | B11: TIPO RESCATE | C11: 2020 | D11: N04CUV31724 | E11: 9F3MCP3H5K3103840 | F11: 269267059 | G11: INFRA
A12: Minicargador New Holland L220 | B12: MINICARGADOR | C12: 2020 | D12: 126586 | E12: JAFOL220EJM445289 | F12: 200000000 | G12: INFRA
A13: Fresadora Simex | B13: M018022A06- PL 35,15 | C13: 2020 | D13: NA | E13: NA | F13: 112633000 | G13: INFRA
A14: Pavimentadora sobre llantas | B14: AMMANN AFW 150 G | C14: 2020 | D14: NA | E14: NA | F14: 241164000 | G14: INFRA
A15: CARGADOR 621E | B15: CASE | C15: 2009 | D15: 618982 | E15: N9F206744 | F15: 220000000 | G15: INFRA
A16: MOTONIVELADORA 120G | B16: CATERPILLAR | C16: 1996 | D16: 07Z31717 | E16: 87V10025 | F16: 200000000 | G16: INFRA
A17: MINI CARGADOR 853 | B17: BOBCAT | C17: 1994 | D17: N3958288 | E17: 512821590 | F17: 60000000 | G17: INFRA
A18: MOTONIVELADORA 120K | B18: CATERPILLAR | C18: 2018 | D18: TX708316 | E18: CAT0120KLJAP07225 | F18: 680000000 | G18: INFRA
A19: RETROEXCAVADORA 580SN | B19: CASE | C19: 2006 | D19: 629993 | E19: N9C525742 | F19: 180000000 | G19: INFRA
A20: OVE403 | B20: EXTINTORA | C20: 2015 | D20: 531HM2U1612797 | E20: 3HAWCDR8FL606170 | F20: 936397344 | G20: INFRA
A21: MOTONIVELADORA MC748007 | B21: NEW HOLLAND | C21: 2024 | D21: 6294745 | E21: NPAF10174 | F21: 938807217 | G21: INFRA
A22: RETROEXCAVADORA MC634244 | B22: NEW HOLLAND | C22: 2023 | D22: 804545748385569 | E22: NKJ0B80CJNKH31899 | F22: 435115003 | G22: INFRA
A23: MOTONIVELADORA MC748009 | B23: NEW HOLLAND | C23: 2024 | D23: F4HE9687WJ1106302024 | E23: NRAF10472 | F23: 938807217 | G23: INFRA
A24: MOTONIVELADORA MC748008 | B24: NEW HOLLAND | C24: 2024 | D24: F4HE9687WJ1106293172 | E24: NPAF10111 | F24: 938807217 | G24: INFRA
A25: RETROEXCAVADORA MC640775 | B25: NEW HOLLAND | C25: 2023 | D25: 804545748385248 | E25: NKJ0B80CTNKH31901 | F25: 435115003 | G25: INFRA
A26: RETROEXCAVADORA MC631203 | B26: NEW HOLLAND | C26: 2023 | D26: 804545748382954 | E26: NKJ0B80CHNK13716 | F26: 435115003 | G26: INFRA
A28: VALOR ASEGURADO | F28: =SUM(F3:F26) -> 10090718882
A29: INDICE VARIABLE | F29: =F28*5% -> 5.0453594e+08

Sheet AUTOMOVILES
A1: ANEXO Nº 03 ( ESPECIFICACIONES TECNICAS SEGURO DE AUTOMOVILES )
A2: X | B2: ='EQUIPO Y MAQUINARIA'!B3 -> MUNICIPIO DE PEREIRA
A3: ASEGURADO : | B3: =+B2 -> MUNICIPIO DE PEREIRA
A4: BENEFICIARIO: | B4: =+B3 -> MUNICIPIO DE PEREIRA
A5: NIT | B5: ='EQUIPO Y MAQUINARIA'!B6 -> 891.480.030-2.
A6: RAMO | B6: AUTOMOVILES
A7: INTERMEDIARIO | B7: GONSEGUROS CORREDORES DE SEGUROS S.A.
A8: VIGENCIA | B8: ='EQUIPO Y MAQUINARIA'!B9 -> DESDE LAS 00:00 HORAS DEL 19 DE SEPTIEMBRE DE 2025 HASTA LAS 24:00 HORAS DEL 19 DE SEPTIEMBRE DE 2026
A9: CONDICIONES TECNICAS BASICAS OBLIGATORIAS
A10: DESCRIPCION DE LA ACTIVIDAD DEL ASEGURADO | B10: Entidad Pública
A11: DIRECCION COMERCIAL /TELEFONO | B11: Cra. 7 No. 18-55 Pereira - Risaralda.
A12: Objeto del Seguro: | B12: Amparar los daños y/o pérdidas que sufran los vehículos de propiedad, bajo tenencia, control o por los que sea legalmente responsable la entidad, o los perjuicios patrimoniales y/o extrapatrimoniales por daños a bienes o lesiones o muerte a terceros que causen.
A13: LIMITES ASEGURADOS RESPONSABILIDAD CIVIL EXTRACONTRATUAL OBLIGATORIO
A14: AUTOMOVILES
A15: - Daños a bienes de terceros | B15: $1,500,000,000 AUTOS $300,000,000 MOTOS
A16: - Lesiones o muerte a una persona | B16: $1,500,000,000 AUTOS $300,000,000 MOTOS
A17: - Lesiones o muerte a dos o más personas | B17: $3,000,000,000 AUTOS $600,000,000 MOTOS
A19: COBERTURAS AL VEHICULO OBLIGATORIAS
A20: Pérdida Total por Daños | B20: Valor Guia de Valores (Tabla de Fasecolda) mas accesorios
A21: Pérdida Parcial por Daños | B21: Valor Guia de Valores (Tabla de Fasecolda) mas accesorios
A22: Pérdida total o Parcial por Hurto | B22: Valor Guia de Valores (Tabla de Fasecolda) mas accesorios
A23: Terremoto, temblor y/o erupción volcánica y otros eventos de la naturaleza. | B23: Valor Guia de Valores (Tabla de Fasecolda) mas accesorios
A24: Amparo Patrimonial | B24: SI
A25: Asistencia Jurídica en Proceso Civil, Penal y Administrativo. | B25: SI
A26: Asistencia en viaje | B26: Incluyendo perímetro urbano y rural, excluye motos
A27: Casa Cárcel | B27: 50 SMDLV
A28: Gastos de transporte | B28: Con un tiempo mínimo de 60 días y $40.000 diarios.
A29: Gastos de grúa, transporte y protección al vehículo, para automóviles, vehículos livianos y camionetas. | B29: Sin limite de kilometraje
A30: Huelga, Motín, Asonada, Conmoción Civil o Popular, explosión, terrorismo (Actos Mal Intencionados de Terceros), movimientos subversivos o, en general, conmociones populares de cualquier clase. | B30: Incluidos actos terroristas y riesgos asegurados por pólizas contratadas por el gobierno nacional o entidades de cualquier orden
A31: Accidentes Personales para el conductor | B31: Valor asegurado $50.000.000
... A33: Deducible | B33: No aplicación de deducible
A34: VALORES ASEGURADOS
A35: AUTOMÓVILES | B35: Ver relacion adjunta
A36: MOTOCICLETAS | B36: Ver relacion adjunta
A37: CLAUSULAS Y SUBLIMITES OBLIGATORIOS Queda expresamente acordado y convenido que la aseguradora acepta las condiciones tecnicas básicas obligatorias establecidas en este anexo, en los termimos aqui señalados; por lo tanto, en caso de exisitir discrepancia entre este texto frente a los ejemplares de las condiciones generales de la poliza o en los certificados, anexos, nota de cobertura, slip de cotizacion o cualquier otro documento incluido o no en la oferta, prevaleceran los terminos de este anexo de condiciones tecnicas básicas obligatorias. Por lo tanto se deberá entender que la aseguradora acepta las siguientes cláusulas.
A38: HONORARIOS DE ABOGADOS Y GASTOS DE DEFENSA. | B38: Se cubren los gastos de honorarios requeridos para asistir profesionalmente a la entidad, demandados como consecuencia de daños a cosas, o lesiones o muerte de terceras personas durante el ejercicio de sus actividades laborales.
A39: AMPARO AUTOMATICO VEHICULOS NUEVOS O USADOS término de noventa (120) días para aviso. | B39: Limite: $ 400.000.000. Los vehículos automotores adquiridos por el Asegurado quedan automáticamente amparados por la presente Póliza, siempre que el Asegurado, notifique a la Aseguradora su adquisición dentro de los noventa (90) días calendarios siguientes a la fecha en que reciba el Vehículo, ó este quede por su cuenta y bajo la garantía de que todos los vehículos de su propiedad, serán amparados de acuerdo con las condiciones pactadas. El límite de responsabilidad de la Aseguradora en cuanto a los vehículos que ingresan a la Póliza, para los amparos de Daños, Robo y Hurto e Incendio, en ningún caso excederá, del valor que aparezca en la factura de compra o documento similar. Para el Amparo de Responsabilidad Civil, así como para los Amparos adicionales, los límites serán los estipulados en la póliza.
A40: CONVENIO PARA EL PLAZO DEL PAGO DE LA PRIMA | B40: No obstante cualquier estipulación en contrario, por la presente cláusula se deja establecido que, de acuerdo con lo estipulado en el artículo 81 de la Ley 45/90 y la Resolución numero 03750 de Diciembre 31/74 de la Superintendencia Financiera, las partes contratantes convienen que las primas causadas por el presente Contrato de seguros y los Certificados o Anexos que se emitan en aplicación al mismo serán pagadas por el asegurado dentro de los noventa (90) días a partir de la fecha en que el respectivo documento sea recibido en sus oficinas, directamente por la Aseguradora y/o por el intermediario de seguros, quien deberá certificar haber recibido a satisfacción las respectivas pólizas en las condiciones contratadas; Si las pólizas no han sido correctamente elaboradas, el término para el pago solo empezará a contarse desde la fecha en que se presenten en debida forma. La demora en el pago originada por la presentación incorrecta de los documentos requeridos será responsabilidad del contratista y no tendrán por ello derecho al pago de intereses o compensación de ninguna naturaleza o a la aplicación de la terminación del contrato por mora en el pago de la prima.
A41: REVOCACIÓN, NO RENOVACIÓN O MODIFICACIONES DE LA PÓLIZA Y SUS ANEXOS | B41: La Aseguradora deberá dar aviso por escrito aL ASEGURADO, con una anticipación de noventa (90) días, en caso que decida modificar, revocar o no renovar esta póliza y/o alguno de sus amparos adicionales o modificar cualquiera de sus condiciones. En caso de revocación la aseguradora devolverá al asegurado, la proporción de prima correspondiente al tiempo que falte para el vencimiento de la Póliza, liquidada a prorrata. Si la revocación es solicitada por EL ASEGURADO , la Aseguradora devolverá el valor de la prima no corrida del riesgo, liquidada a Prorrata.
A42: MODIFICACIONES EN FAVOR DEL ASEGURADO | B42: Si durante la vigencia de este seguro se presentan modificaciones a las condiciones generales y particulares de la póliza, que presenten un beneficio a favor del ASEGURADO, tales modificaciones se consideran automáticamente incorporadas a la póliza siempre que el cambio no implique un aumento en la prima originalmente pactada.
...

Sheet RELACION AUTOS
A1: ANEXO 03-A RELACION DE AUTOMOVILES
A2: # | B2: COD. FASECOLDA | C2: MARCA | D2: TIPO | E2: PLACA | F2: MODELO | G2: MOTOR # | H2: CHASIS # | I2: VALOR ASEGURADO | J2: OBSERVACION
A3: 1 | B3: 1611031 | C3: CHEVROLET NPR 3 SER MT 4600 TD 4X2 | D3: CHASIS CABINA | E3: BOM 34(OVE272) | F3: 2007 | G3: 450970 | H3: 9GDNPR7167BOO8510 | I3: 54500000 | J3: BOMBEROS | K3: BOM
A4: 2 | B4: 1620016 | C4: CHEVROLET LUV KB21 MT 1600 | D4: CAMIONETA ESTACAS | E4: OVD562 | F4: 1986 | G4: 891248 | H4: KS617522KB21 | I4: 23800000 | J4: TALLERES | K4: INFRA
A5: 3 | B5: 3611002 | C5: INTERNATIONAL | D5: VOLQUETA | E5: OVE064 | F5: 1996 | G5: 469GH2U0911945 | H5: SII658315 | I5: 60900000 | J5: INFRAESTRUCTURA | K5: SGA
A6: 4 | B6: 5621005 | C6: MAZDA | D6: CAMIONETA | E6: OVE202 | F6: 2002 | G6: G6249304 | H6: 9FJUN84G02000616 | I6: 31300000 | J6: TALLERES | K6: SGA
A7: 5 | B7: 03626007 | C7: INTERNATIONAL | D7: VOLQUETA | E7: OVE229 | F7: 2004 | G7: 470HM2U1421475 | H7: 3HAMMAAR34L609693 | I7: 101400000 | J7: INFRAESTRUCTURA | K7: BOM
A8: 6 | B8: 1621034 | C8: CHEVROLET LUV DMAX 3000 DOBLE CABINA | D8: CAMIONETA | E8: OVE246 | F8: 2005 | G8: 226686 | H8: 8LBETF1E550000657 | I8: 46800000 | J8: VIVIENDA | K8: SGA
A9: 7 | B9: 1621031 | C9: CHEVROLET LUV DMAX 3000 DOBLE CABINA | D9: CAMIONETA | E9: OVE247 | F9: 2005 | G9: 226436 | H9: 8LBETF1E350000639 | I9: 43600000 | J9: PARQUES Y ARBORIZACIÓN | K9: SGA
A10: 8 | B10: 6403024 | C10: NISSAN | D10: MICROBUS | E10: OVE252 | F10: 2005 | G10: ZD300048663 | H10: JN1MG4E25Z0713273 | I10: 42800000 | J10: GOBIERNO | K10: SGA
A11: 9 | B11: 9226003 | C11: VOLKSWAGEN | D11: VOLQUETA | E11: OVE259 | F11: 2006 | G11: 30554917 | H11: 9BWCM82T06R613405 | I11: 103100000 | J11: TALLERES | K11: BOM
A12: 10 | B12: 6421009 | C12: NISSAN D 22 4X4 | D12: CAMIONETA | E12: OVE261 | F12: 2006 | G12: KA24951814X | H12: JN1CDUD22Z0036437 | I12: 39000000 | J12: GOBIERNO | K12: INFRA
A13: 11 | B13: 1601104 | C13: CHEVROLET | D13: AUTOMOVIL | E13: OVE274 | F13: 2007 | G13: 1R0-019238 | H13: 8LAXF11R870024898 | I13: 20500000 | J13: GOBIERNO | K13: SGA
A14: 12 | B14: 6406080 | C14: NISSAN URVAN | D14: CAMIONETA | E14: OVE275 | F14: 2007 | G14: Z0705044CM | H14: JN1PG4E25Z0705044 | I14: 43200000 | J14: PALACIO | K14: SGA
A15: 13 | B15: 6421026 | C15: NISSAN FRONTIER D22 | D15: CAMIONETA | E15: OVE276 | F15: 2007 | G15: KA24968516X | H15: JN1CDG22ZOO45578 | I15: 43700000 | J15: TALLERES | K15: INFRA
A16: 14 | B16: 9008118 | C16: TOYOTA | D16: CAMPERO | E16: OVE302 | F16: 2008 | G16: 1KD7551279 | H16: MROYZ59G780073790 | I16: 74300000 | J16: TIC | K16: SGA
A17: 15 | B17: 1621083 | C17: CHEVROLET LUV | D17: PICKUP UP DC | E17: OVE305 | F17: 2009 | G17: 746997 | H17: 8LBETF3E890018072 | I17: 79900000 | J17: DIGER | K17: SGA
A18: 16 | B18: 1626087 | C18: CHEVROLET | D18: VOLQUETA | E18: OVE318 | F18: 2009 | G18: 9SZ42281 | H18: 9GDP7H1C09B116976 | I18: 92600000 | J18: TALLERES | K18: INFRA
A19: 17 | B19: 1621083 | C19: CHEVROLET | D19: PICKUP UP DC | E19: OVE323 | F19: 2009 | G19: 792213 | H19: 8LBETF3E890027497 | I19: 79900000 | J19: TALLERES | K19: INFRA
A20: 18 | B20: 1621083 | C20: CHEVROLET | D20: PICKUP UP DC | E20: OVE324 | F20: 2009 | G20: 792216 | H20: 8LBETF3E890027496 | I20: 60300000 | J20: GOBIERNO | K20: SGA
A21: 19 | B21: 1608051 | C21: CHEVROLET CAPTIVA | D21: CAMIONETA | E21: OVE339 | F21: 2010 | G21: NAS617881 | H21: 3GNFLME77A5617881 | I21: 31300000 | J21: PERSONERIA | K21: SGA
A22: 20 | B22: 8806004 | C22: SUZUKI GRAN VITARA | D22: CAMIONETA | E22: OVE350 | F22: 2011 | G22: J20A715015 | H22: 8LDCB5352B0070752 | I22: 39900000 | J22: RURAL | K22: INFRA
A23: 21 | B23: 1620121 | C23: CHEVROLET | D23: AMBULANCIA | E23: OVE357 (BOM 60) | F23: 2012 | G23: 166948 | H23: 8LBETF4E7C0135082 | I23: 68800000 | J23: BOMBEROS | K23: INFRA
A24: 22 | B24: 9008172 | C24: TOYOTA | D24: FORTUNER | E24: OVE378 | F24: 2014 | G24: 1KDA272785 | H24: 8AJYZ59G4E3065945 | I24: 133400000 | J24: ALCALDE | K24: INFRA
A25: 23 | B25: 1621092 | C25: CAMIONETA PICK UP | D25: CAMIONETA | E25: OVE394 | F25: 2015 | G25: MB8402 | H25: 8LBETF3W6F0276529 | I25: 83900000 | J25: GOBIERNO | K25: INFRA
A26: 24 | B26: 9206063 | C26: VOLKSWAGEN | D26: CAMIONETA | E26: OVE395 | F26: 2015 | G26: CNF042140 | H26: WV1ZZZ2HZFA010482 | I26: 110600000 | J26: ADMINISTRATIVA | K26: INFRA
A27: 25 | B27: 3622105 | C27: INTERNATIONAL | D27: EXTINTORA | E27: OVE403 | F27: 2015 | G27: 531HM2U1612797 | H27: 3HAWCDR8FL606170 | I27: 303400000 | J27: BOMBEROS | K27: INFRA
A28: 26 | B28: 1621090 | C28: CHEVROLET | D28: PICKUP UP DC | E28: OVE408 | F28: 2016 | G28: NC9811 | H28: 8LBETF3W1G0375519 | I28: 90900000 | J28: SOCIAL | K28: INFRA
A29: 27 | B29: 1621090 | C29: CHEVROLET | D29: PICKUP UP DC | E29: OVE409 | F29: 2016 | G29: NC7514 | H29: 8LBETF3W1G0375518 | I29: 90900000 | J29: SOCIAL | K29: INFRA
A30: 28 | B30: 1621090 | C30: CHEVROLET | D30: DIMAX | E30: OVE410 | F30: 2016 | G30: NC9803 | H30: 8LBETF3W1G0375521 | I30: 90900000 | J30: CONCEJO | K30: INFRA
A31: 29 | B31: 1606222 | C31: CHEVROLET | D31: CAMIONETA PAS | E31: OVE416 | F31: 2016 | G31: CGL904588 | H31: 3GNCJ8EE7GL904588 | I31: 40200000 | J31: PRIMERA DAMA | K31: INFRA
A32: 30 | B32: 11303021 | C32: JAC HFC6108H | D32: BUS | E32: OVE419 | F32: 2016 | G32: 78153408 | H32: LJ16B96G7GB100118 | I32: 236300000 | J32: ADULTO MAYOR | K32: BOM
A33: 31 | B33: 1603132 | C33: CHEVROLET | D33: BUSETA | E33: OVE431 | F33: 2016 | G33: 4HK1418890 | H33: 9GCNPR755GB036743 | I33: 124400000 | J33: TALLERES | K33: SGA
A34: 32 | B34: 3626096 | C34: INTERNATIONAL 4300 4x2 Hardox Durastar | D34: VOLQUETA | E34: OVE440 | F34: 2018 | G34: 74087770 | H34: 3HAMMMMR1JL471659 | I34: 237100000 | J34: TALLERES | K34: INFRA
A35: 33 | B35: 3626096 | C35: INTERNATIONAL 4300 4x2 Hardox Durastar | D35: VOLQUETA | E35: OVE441 | F35: 2018 | G35: 74087771 | H35: 3HAMMMMR8JL471660 | I35: 237100000 | J35: TALLERES | K35: BOM
A36: 34 | B36: 3626096 | C36: INTERNATIONAL 4300 4x2 Hardox Durastar | D36: VOLQUETA | E36: OVE442 | F36: 2018 | G36: 74087767 | H36: 3HAMMMMRXJL471661 | I36: 237100000 | J36: TALLERES | K36: BOM
A37: 35 | B37: 9006163 | C37: TOYOTA FORTUNER [2] 2.7L MID TP 2700CC 4X2 EURO IV TC | D37: CAMIONETA | E37: OVE460 | F37: 2018 | G37: 2TRA347811 | H37: 8AJCX8GS9J0692144 | I37: 160200000 | J37: CONTRALORIA | K37: SGA
A38: 36 | B38: 9226015 | C38: VOLKSWAGEN CONSTELLATION 17.230 DEE 3560 E5 CHASIS | D38: VOLQUETA | E38: OVE469 | F38: 2018 | G38: 0154800A034798 | H38: 9536G8240JR807941 | I38: 230000000 | J38: TALLERES | K38: BOM
A39: 37 | B39: 9226015 | C39: VOLKSWAGEN CONSTELLATION 17.230 DEE 3560 E5 CHASIS | D39: VOLQUETA | E39: OVE470 | F39: 2018 | G39: 0154822A094816 | H39: 9536G8241JR808936 | I39: 230000000 | J39: TALLERES | K39: INFRA
A40: 38 | B40: 9226015 | C40: VOLKSWAGEN CONSTELLATION 17.230 DEE 3560 E5 CHASIS | D40: VOLQUETA | E40: OVE471 | F40: 2018 | G40: 0154805A444798 | H40: 9536G8245JR807868 | I40: 230000000 | J40: TALLERES | K40: INFRA
...

Sheet MANEJO ESTATAL
A1: ANEXO Nº 04 ESPECIFICACIONES TECNICAS SEGURO DE MANEJO ENTIDADES ESTATALES
A2: TOMADOR: | B2: =AUTOMOVILES!B2 -> MUNICIPIO DE PEREIRA
A3: ASEGURADO : | B3: =AUTOMOVILES!B3 -> MUNICIPIO DE PEREIRA
A4: BENEFICIARIO: | B4: =AUTOMOVILES!B4 -> MUNICIPIO DE PEREIRA
A5: NIT | B5: =AUTOMOVILES!B5 -> 891.480.030-2.
A6: RAMO | B6: SEGURO DE MANEJO ENTIDADES ESTATALES | D6: SEGURO DE MANEJO ENTIDADES ESTATALES
A7: INTERMEDIARIO | B7: GONSEGUROS CORREDORES DE SEGUROS S.A.
A8: VIGENCIA | B8: =AUTOMOVILES!B8 -> DESDE LAS 00:00 HORAS DEL 19 DE SEPTIEMBRE DE 2025 HASTA LAS 24:00 HORAS DEL 19 DE SEPTIEMBRE DE 2026
A9: CONDICIONES TECNICAS BASICAS OBLIGATORIAS
A10: DESCRIPCION DE LA ACTIVIDAD DEL ASEGURADO | B10: Entidad Pública -
A11: DIRECCION COMERCIAL /TELEFONO | B11: Cra. 7 No. 18-55 Pereira - Risaralda.
A12: DIRECCION DEL RIESGO | B12: Territorio Colombiano
A13: AMPAROS OBLIGATORIOS | B13: Delitos contra la Administración Pública
B14: Delitos contra el patrimonio económico.
B15: Juicios por Responsabilidad Fiscal
B16: Gastos de reconstrucción de cuentas.
B17: Gastos de rendición de cuentas.
A18: OBJETO DEL SEGURO | B18: Amparar los riesgos que impliquen menoscabo de los fondos y/o bienes de propiedad de la entidad, o que estén bajo su tenencia, control y/o responsabilidad causados por acciones u omisiones de sus servidores, que incurran en delitos contra la administración pública o fallos con responsabilidad fiscal, por incumplimiento de las disposiciones legales y reglamentarias, incluyendo el costo de la rendición de cuentas en caso de abandono del cargo o fallecimiento del empleado, en concordancia con la Resolución 014249 del 15 de mayo de 1992, aprobada por la Contraloría General de la República.
A19: MODALIDAD DE COBERTURA | B19: Los amparos otorgados, en la presente póliza, operan bajo la modalidad de delimitación temporal de cobertura, denominada OCURRENCIA, es decir que se cubrirán las pérdidas que sufra o que se causen al asegurado durante la vigencia de la póliza.
A20: VALORES ASEGURADOS OBLIGATORIOS
A21: Amparo básico | B21: 600000000
A22: Empleados no identificados 100% del valor asegurado principal | B22: 600000000
A23: Protección de depósitos bancarios: 100% del valor asegurado principal. | B23: 600000000
A24: Empleados de firmas temporales y especializadas, de cooperativas y empresas asociativas: 100% del valor asegurado principal. | B24: 600000000
A25: Pago del siniestro sin necesidad de Fallo Fiscal | B25: 600000000
A26: Costas en juicios y honorarios profesionales 40% del Valor Asegurado | B26: =B25*40% -> 240000000
A27: Bienes bajo cuidado, tenencia o control declarados por el asegurado. 40% del valor asegurado | B27: =B26*40% -> 96000000
A28: Gastos de Reconstrucción de cuentas | B28: =B25*50% -> 300000000
A29: Gastos de Rendición de cuentas | B29: =B25*50% -> 300000000
A30: Cargos Asegurados | B30: Total Planta de cargos del Asegurado
A31: CLAUSULAS Y SUBLIMITES OBLIGATORIOS Queda expresamente acordado y convenido que la aseguradora acepta las condiciones tecnicas básicas obligatorias establecidas en este anexo, en los termimos aqui señalados; por lo tanto, en caso de exisitir discrepancia entre este texto frente a los ejemplares de las condiciones generales de la poliza o en los certificados, anexos, nota de cobertura, slip de cotizacion o cualquier otro documento incluido o no en la oferta, prevaleceran los terminos de este anexo de condiciones tecnicas básicas obligatorias. Por lo tanto se deberá entender que la aseguradora acepta las siguientes cláusulas.
A32: EMPLEADOS NO IDENTIFICADOS | B32: En caso de ocurrencia de cualquier pérdida, en la que la entidad, no pudiera determinar específicamente al empleado o los empleados responsables, la compañía reconocerá la indemnización correspondiente, siempre y cuando las circunstancias que dieron lugar al evento, permitan considerar que en la ocurrencia del mismo intervinieron uno o varios empleados de la entidad, a cualquier titulo (autor intelectual, material o cómplice). Queda entendido que la responsabilidad de la compañía, respecto de tales pérdidas, no excederá en ningún caso del monto asegurado estipulado en la póliza. Los faltantes de inventario estarán amparados en los mismos términos establecidos anteriormente, siempre y cuando no sean atribuibles a entradas y salidas de almacén. Prevalecerá sobre esta condición el señalamiento de la pérdida por hurto simple cuando así lo indique la entidad. No se interpretara como faltante de inventario la pérdida de bienes en deposito y/o almacenados (guardados), que sean señaladas como hurto simple. NOTA: Para faltantes de inventario, sublimite del 15%
A33: PROTECCIÓN DE DEPÓSITOS BANCARIOS | B33: Cubre las pérdidas de dinero que el asegurado tenga depositado en sus cuentas corrientes o de ahorro en entidades bancarias o financieras (incluidos sus respectivos intereses), que se deba a falsificación o adulteración de un cheque, letra de cambio, pagaré, carta de crédito o cualquier otra clase de título valor que el banco o entidad financiera presuma que ha sido firmado, endosado o avalado por el asegurado o por una persona que obre en su nombre o representación y que el banco o entidad financiera compruebe que no es responsable por dicho pago, incluyendo: • Cualquier cheque o giro hecho o girado en nombre de la Entidad pagadero a una persona ficticia y endosado o pagado a nombre de dicha persona. • Cualquier cheque o giro hecho o girado en transacción de la Entidad o por su representante a favor de un tercero y entregado al representante de éste que resultare endosado o cobrado por persona distinta de aquel a quien se giró. • y, Cualquier cheque o giro con destino al pago de salarios que habiendo sido girado u ordenado por la Entidad, resultare endosado y cobrado por un tercero obrando supuestamente a nombre del girador, o de aquel a quien se debía hacer el pago. Para efectos de esta cobertura, las firmas estampadas por medios mecánicos, se consideran como firmas autografas
A34: EXTENSION DE COBERTURA PARA EMPLEADOS OCASIONALES, TEMPORALES Y TRANSITORIOS | B34: Por la presente condición la cobertura de la presente póliza se extiende a amparar a los trabajadores ocasionales, temporales o transitorios y a quienes sin serlo, realicen prácticas o investigaciones en sus dependencias. Esta cobertura queda sujeta a que las operaciones que realicen tales personas estén bajo el control de la entidad
A35: EXTENSION DE COBERTURA PARA EMPLEADOS DE FIRMAS ESPECIALIZADAS Y OTROS | B35: Bajo esta condición la cobertura de la presente póliza se extiende a amparar a todas aquellas personas naturales que presten servicios en los establecimientos del asegurado bajo cualquier título o contrato, incluidos los empleados de firmas especializadas, los empleados de contratistas independientes, los cuales deben cumplir con las normas que los regulan y con las garantías exigidas por la ley 80 de 1993. Esta cobertura queda sujeta a que las operaciones que realicen tales personas estén bajo el control de la entidad
A36: EXTENSIÓN DE COBERTURA PARA PERDIDAS OCASIONADAS POR EMPLEADOS DE CONTRATISTAS INDEPENDIENTES | B36: AL 100% DEL VALOR ASEGURADO.
A37: CLAUSULAS PARTICULARES Y CONDICIONES ESPECIALES OBLITATORIAS
A38: CONVENIO PARA EL PLAZO DEL PAGO DE LA PRIMA | B38: No obstante cualquier estipulación en contrario, por la presente cláusula se deja establecido que, de acuerdo con lo estipulado en el artículo 81 de la Ley 45/90 y la Resolución numero 03750 de Diciembre 31/74 de la Superintendencia Financiera, las partes contratantes convienen que las primas causadas por el presente Contrato de seguros y los Certificados o Anexos que se emitan en aplicación al mismo serán pagadas por el asegurado dentro de los noventa (90) días a partir de la fecha en que el respectivo documento sea recibido en sus oficinas, directamente por la Aseguradora y/o por el intermediario de seguros, quien deberá certificar haber recibido a satisfacción las respectivas pólizas en las condiciones contratadas; Si las pólizas no han sido correctamente elaboradas, el término para el pago solo empezará a contarse desde la fecha en que se presenten en debida forma. La demora en el pago originada por la presentación incorrecta de los documentos requeridos será responsabilidad del contratista y no tendrán por ello derecho al pago de intereses o compensación de ninguna naturaleza o a la aplicación de la terminación del contrato por mora en el pago de la prima.
A39: REVOCACIÓN, NO RENOVACIÓN O MODIFICACIONES DE LA PÓLIZA Y SUS ANEXOS | B39: La Aseguradora deberá dar aviso por escrito al ASEGURADO, con una anticipación de noventa (90) días en caso que decida modificar, revocar o no renovar esta póliza y/o alguno de sus amparos adicionales o modificar cualquiera de sus condiciones. En caso de revocación la aseguradora devolverá al asegurado, la proporción de prima correspondiente al tiempo que falte para el vencimiento de la Póliza, liquidada a prorrata.
A40: MODIFICACIONES A FAVOR DEL ASEGURADO | B40: Si durante la vigencia de este seguro se presentan modificaciones a las condiciones generales y particulares de la póliza, que presenten un beneficio a favor del ASEGURADO, tales modificaciones se consideran automáticamente incorporadas a la póliza siempre que el cambio no implique un aumento en la prima originalmente pactada.
...

Sheet IRF
A4: ANEXO No 05 ESPECIFICACIONES TECNICAS SEGURO DE INFIDELIDAD Y RIESGOS FINANCIEROS
A5: TOMADOR | B5: ='MANEJO ESTATAL'!B2 -> MUNICIPIO DE PEREIRA
A6: ASEGURADO | B6: ='MANEJO ESTATAL'!B3 -> MUNICIPIO DE PEREIRA
A7: BENEFICIARIO | B7: ='MANEJO ESTATAL'!B4 -> MUNICIPIO DE PEREIRA
A8: NIT | B8: ='MANEJO ESTATAL'!B5 -> 891.480.030-2.
A9: RAMO | B9: INFIDELIDAD Y RIESGOS FINANCIEROS
A10: INTERMEDIARIO | B10: GONSEGUROS CORREDODRES DE SEGUROS S.A.
A11: VIGENCIA | B11: ='MANEJO ESTATAL'!B8 -> DESDE LAS 00:00 HORAS DEL 19 DE SEPTIEMBRE DE 2025 HASTA LAS 24:00 HORAS DEL 19 DE SEPTIEMBRE DE 2026
A12: CONDICIONES TECNICAS BASICAS OBLIGATORIAS
A13: DESCRIPCION DE LA ACTIVIDAD DEL ASEGURADO | B13: Entidad territorial que representa el gobierno municipal y ejerce el poder ejecutivo en el territorio, encargada de administrar los recursos del municipio, garantizar la prestación de servicios públicos, velar por el bienestar de la comunidad, y promover el desarrollo local.
A14: DIRECCIONCOMERCIAL | B14: Cra. 7 No. 18-55 Pereira - Risaralda.
A15: DIRECCION DEL RIESGO | B15: Territorio Colombiano
A16: INTERES ASEGURABLE | B16: Se cubren los perjuicios patrimoniales las pérdidas, daños y/o gastos en que tenga que incurrir el asegurado, como consecuencia de actos fraudulentos cometidos y/o causados por empleados y/o por terceros y/o por personal a su servicio y/o en complicidad con éstos y demás eventos amparados acorde con las condiciones de la pólza.
A17: VALOR ASEGURADO
A18: 6000000000
A19: COBERTURA | B19: VALOR ASEGURADO
A20: Infidelidad de Empleados. Se cubren los perjuicios patrimoniales que sufra la entidad con motivo de actos deshonestos y fraudulentos de los servidores públicos a su servicio | B20: 6000000000
A21: Ámbito | B21: Mundial
A22: Jurisdicción | B22: Colombia
A23: Predios sobre los cuales la entidad tenga interés | B23: 6000000000
A24: Tránsito de Valores u Otras Propiedades incluyendo mercancías | B24: 6000000000
A25: Falsificación de cheques u otros documentos | B25: 6000000000
A26: Falsificación de Documento de Retiro de Propiedad | B26: 6000000000
A27: Falsificación extendida | B27: 6000000000
A28: Moneda Falsificada y Giros Postales | B28: 6000000000
A29: Hurto por Computador | B29: 6000000000
A30: Fraude en Transferencia de Fondos | B30: 6000000000
A31: Pérdida de derechos de suscripción | B31: 6000000000
A32: Costos legales y honorarios de abogados | B32: 6000000000
A33: Manejo y negociación de documentos seriales | B33: 6000000000
A34: Pérdidas por amenaza y extorsión a la propiedad y a las personas | B34: 6000000000
... A39: Protección de Depósitos Bancarios | B39: 6000000000
A40: Costo neto financiero | B40: 150.000.000 por mes / 1.800.000.000 por vigencia Tasa mensual 2.5%
A41: Se cubre el incendio y líneas aliadas incluyendo terremoto, HAMMC y AMIT, de dinero y títulos valores | B41: 6000000000
A42: Se cubre la pérdida de otros bienes diferentes a dinero y títulos valores | B42: 6000000000
A43: Restablecimiento automático del valor asegurado por pago de siniestro | B43: (1) vez con cobro de prima
