Workbook

Sheet APUS
B2: PROYECTO: | C2: CONSTRUCCION OBRAS Y SUMINISTRO ASCENSOR DOS (2) PARADAS
B3: DESCRIPCIÓN: | C3: Suministro e instalación de ascensor de dos (2) paradas, incluyendo equipo completo, obras civiles,montaje, pruebas y puesta en funcionamiento conforme a normas vigentes.
B4: UBICACIÓN: | C4: Municipio de Aguachica, Dpto del Cesar.
B5: FECHA: | C5: Marzo de 2026
B7: ANÁLISIS DE PRECIOS UNITARIOS
B8: 1.01 Corte de piso y/o andén con máquina; profundidad mínima 4.0 cm y demolición de muros requeridos | F8: UNIDAD: m
B9: DESCRIPCIÓN | C9: UNIDAD | D9: CANT/ REND | E9: PRECIO UNITARIO | F9: VR PARCIAL
B10: MATERIALES:
B11: =Insumos!C12 -> AGUA | C11: =Insumos!D12 -> Lt | D11: 20 | E11: =Insumos!E12 -> 81 | F11: =ROUND(D11*E11, 2) -> 1620
E12: Subtotal = | F12: =SUM(F11:F11) -> 1620
B13: EQUIPO y HERRAMIENTAS:
B14: HERRAMIENTA MENOR % | C14: %MO | D14: 3 | E14: =F22 -> 2628.42 | F14: =ROUND(D14*E14/100, 2) -> 78.85
B15: =Insumos!C81 -> CORTADORA DE PAVIMENTO | C15: =Insumos!D81 -> Día | D15: 0.02 | E15: =Insumos!E81 -> 442632 | F15: =ROUND(D15*E15, 2) -> 8852.64
E16: Subtotal = | F16: =SUM(F14:F15) -> 8931.49
B17: TRANSPORTES:
B18: =Insumos!C111 -> CAMIONETA | C18: =Insumos!D111 -> Hr | D18: 0.014 | E18: =Insumos!E111 -> 41652 | F18: =ROUND(D18*E18, 2) -> 583.13
E19: Subtotal = | F19: =SUM(F18:F18) -> 583.13
B20: MANO de OBRA:
B21: AYUDANTE PRÁCTICO (Incl. prestaciones) | C21: Día | D21: 0.02 | E21: =Básicos!F148 -> 131421 | F21: =ROUND(D21*E21, 2) -> 2628.42
E22: Subtotal = | F22: =SUM(F21:F21) -> 2628.42
E24: VR COSTO DIRECTO = | F24: =ROUND(SUM(F10:F22)/2, 0) -> 13763
B27: 1.02 Demolición de piso y/o andén en concreto. espesor = 0.10 a 0.15m y demolición de muros requeridos | F27: UNIDAD: m3
B28: DESCRIPCIÓN | C28: UNIDAD | D28: CANT/ REND | E28: PRECIO UNITARIO | F28: VR PARCIAL
B29: EQUIPO y HERRAMIENTAS:
B30: =Insumos!C79 -> COMPRESOR NEUMÁTICO 1 MARTILLO | C30: =Insumos!D79 -> Hr | D30: 0.23008 | E30: =Insumos!E79 -> 208272 | F30: =ROUND(D30*E30, 2) -> 47919.22
B31: HERRAMIENTA MENOR % | C31: %MO | D31: 3 | E31: =F35 -> 15444.1 | F31: =ROUND(D31*E31/100, 2) -> 463.32
E32: Subtotal = | F32: =SUM(F30:F31) -> 48382.54
B33: MANO de OBRA:
B34: CUADRILLA 2 Ay | C34: Día | D34: 0.07104 | E34: =Básicos!F323 -> 217400 | F34: =ROUND(D34*E34, 2) -> 15444.1
E35: Subtotal = | F35: =SUM(F34:F34) -> 15444.1
E37: VR COSTO DIRECTO = | F37: =ROUND(SUM(F29:F35)/2, 0) -> 63827
B40: 1.03 Retiro sobrantes demoliciones | F40: UNIDAD: m3
B41: DESCRIPCIÓN | C41: UNIDAD | D41: CANT/ REND | E41: PRECIO UNITARIO | F41: VR PARCIAL
B42: EQUIPO y HERRAMIENTAS:
B43: HERRAMIENTA MENOR % | C43: %MO | D43: 3 | E43: =F50 -> 12804.86 | F43: =ROUND(D43*E43/100, 2) -> 384.15
E44: Subtotal = | F44: =SUM(F43:F43) -> 384.15
B45: TRANSPORTES:
B46: =Insumos!C112 -> VOLQUETA 7 m3 | C46: =Insumos!D112 -> Hr | D46: 0.4708 | E46: =Insumos!E112 -> 96839 | F46: =ROUND(D46*E46, 2) -> 45591.8
E47: Subtotal = | F47: =SUM(F46:F46) -> 45591.8
B48: MANO de OBRA:
B49: CUADRILLA 2 Ay | C49: Día | D49: 0.0589 | E49: =Básicos!F323 -> 217400 | F49: =ROUND(D49*E49, 2) -> 12804.86
E50: Subtotal = | F50: =SUM(F49:F49) -> 12804.86
B51: OTROS:
B52: =Insumos!C120 -> TARIFA ESCOMBRERA AUTORIZADA | C52: =Insumos!D120 -> m3 | D52: 1 | E52: =Insumos!E120 -> 4500 | F52: =ROUND(D52*E52, 2) -> 4500
E53: Subtotal = | F53: =SUM(F52:F52) -> 4500
E55: VR COSTO DIRECTO = | F55: =ROUND(SUM(F42:F53)/2, 0) -> 63281
B58: 2.01 Excavacion manual en material común, profundida maxima 1.50 m | F58: UNIDAD: m3
B59: DESCRIPCIÓN | C59: UNIDAD | D59: CANT/ REND | E59: PRECIO UNITARIO | F59: VR PARCIAL
B60: MATERIALES:
B61: =Insumos!C25 -> CINTA DE SEÑALIZACIÓN a=7 cm | C61: =Insumos!D25 -> m | D61: 1 | E61: =Insumos!E25 -> 203 | F61: =ROUND(D61*E61, 2) -> 203
B62: POSTE DE SEÑALIZACIÓN EN MADERA PINTADO + MUERTO EN CONCRETO | C62: Un | D62: 0.05 | E62: =Básicos!F500 -> 25080 | F62: =ROUND(D62*E62, 2) -> 1254
E63: Subtotal = | F63: =SUM(F61:F62) -> 1457
B64: EQUIPO y HERRAMIENTAS:
B65: HERRAMIENTA MENOR % | C65: %MO | D65: 3 | E65: =F69 -> 52337.94 | F65: =ROUND(D65*E65/100, 2) -> 1570.14
E66: Subtotal = | F66: =SUM(F65:F65) -> 1570.14
B67: MANO de OBRA:
B68: CUADRILLA 1 OF + 2 AY | C68: Día | D68: 0.1405 | E68: =Básicos!F294 -> 372512 | F68: =ROUND(D68*E68, 2) -> 52337.94
E69: Subtotal = | F69: =SUM(F68:F68) -> 52337.94
E71: VR COSTO DIRECTO = | F71: =ROUND(SUM(F60:F69)/2, 0) -> 55365
B74: 2.02 Retiro sobrantes. volumen compacto | F74: UNIDAD: m3
B75: DESCRIPCIÓN | C75: UNIDAD | D75: CANT/ REND | E75: PRECIO UNITARIO | F75: VR PARCIAL
B76: EQUIPO y HERRAMIENTAS:
B77: HERRAMIENTA MENOR % | C77: %MO | D77: 3 | E77: =F84 -> 12804.86 | F77: =ROUND(D77*E77/100, 2) -> 384.15
E78: Subtotal = | F78: =SUM(F77:F77) -> 384.15
B79: TRANSPORTES:
B80: =Insumos!C112 -> VOLQUETA 7 m3 | C80: =Insumos!D112 -> Hr | D80: 0.4708 | E80: =Insumos!E112 -> 96839 | F80: =ROUND(D80*E80, 2) -> 45591.8
E81: Subtotal = | F81: =SUM(F80:F80) -> 45591.8
B82: MANO de OBRA:
B83: CUADRILLA 2 Ay | C83: Día | D83: 0.0589 | E83: =Básicos!F323 -> 217400 | F83: =ROUND(D83*E83, 2) -> 12804.86
E84: Subtotal = | F84: =SUM(F83:F83) -> 12804.86
B85: OTROS:
B86: =Insumos!C120 -> TARIFA ESCOMBRERA AUTORIZADA | C86: =Insumos!D120 -> m3 | D86: 1 | E86: =Insumos!E120 -> 4500 | F86: =ROUND(D86*E86, 2) -> 4500
E87: Subtotal = | F87: =SUM(F86:F86) -> 4500
E89: VR COSTO DIRECTO = | F89: =ROUND(SUM(F76:F87)/2, 0) -> 63281
B92: 3.01 Concreto para solados, f'c = 2.500 psi. | F92: UNIDAD: m3
B93: DESCRIPCIÓN | C93: UNIDAD | D93: CANT/ REND | E93: PRECIO UNITARIO | F93: VR PARCIAL
B94: MATERIALES:
B95: CONCRETO 17.2 MPa | C95: m3 | D95: 1.05 | E95: =Básicos!F389 -> 438597 | F95: =ROUND(D95*E95, 2) -> 460526.85
E96: Subtotal = | F96: =SUM(F95:F95) -> 460526.85
B97: EQUIPO y HERRAMIENTAS:
B98: HERRAMIENTA MENOR % | C98: %MO | D98: 3 | E98: =F102 -> 102589.8 | F98: =ROUND(D98*E98/100, 2) -> 3077.69
E99: Subtotal = | F99: =SUM(F98:F98) -> 3077.69
B100: MANO de OBRA:
B101: CUADRILLA 1 OF + 2 AY | C101: Día | D101: 0.2754 | E101: =Básicos!F294 -> 372512 | F101: =ROUND(D101*E101, 2) -> 102589.8
E102: Subtotal = | F102: =SUM(F101:F101) -> 102589.8
E104: VR COSTO DIRECTO = | F104: =ROUND(SUM(F94:F102)/2, 0) -> 566194
B107: 3.02 Losa foso del ascensor en concreto f'c = 4.000 psi impermeabilizado. inluye cinta waterbar pvc o 22 para junta, encofrado, vibrado y curado | F107: UNIDAD: m3
B108: DESCRIPCIÓN | C108: UNIDAD | D108: CANT/ REND | E108: PRECIO UNITARIO | F108: VR PARCIAL
B109: MATERIALES:
B110: =Insumos!C45 -> SEPAROL N (Desformaleteante para fácil desencofre de concreto) | C110: =Insumos!D45 -> Kg | D110: 0.3 | E110: =Insumos!E45 -> 14745 | F110: =ROUND(D110*E110, 2) -> 4423.5
B111: CONCRETO 27.6 MPa | C111: m3 | D111: 1.03 | E111: =Básicos!F415 -> 542221 | F111: =ROUND(D111*E111, 2) -> 558487.63
B112: =Insumos!C15 -> ANTISOL BLANCO (Curador para concreto y mortero base agua) | C112: =Insumos!D15 -> Kg | D112: 2.3 | E112: =Insumos!E15 -> 10481 | F112: =ROUND(D112*E112, 2) -> 24106.3
B113: =Insumos!C60 -> CINTA WATERBAR PVC O 22 PARA JUNTAS | C113: =Insumos!D60 -> Ml | D113: 5.2632 | E113: =Insumos!E60 -> 50000 | F113: =ROUND(D113*E113, 2) -> 263160
E114: Subtotal = | F114: =SUM(F110:F113) -> 850177.43
B115: EQUIPO y HERRAMIENTAS:
B116: =Insumos!C66 -> ANDAMIO CERTIFICADO | C116: =Insumos!D66 -> Día | D116: 0.63 | E116: =Insumos!E66 -> 8827 | F116: =ROUND(D116*E116, 2) -> 5561.01
B117: =Insumos!C83 -> FORMALETA METÁLICA MURO | C117: =Insumos!D83 -> Día | D117: 1.67 | E117: =Insumos!E83 -> 28727 | F117: =ROUND(D117*E117, 2) -> 47974.09
B118: CARRETA BUGGIE, PALA, BALDES | C118: Un | D118: 0.0191 | E118: =Básicos!F28 -> 419827 | F118: =ROUND(D118*E118, 2) -> 8018.7
B119: =Insumos!C82 -> EXTENSIÓN ELÉCTRICA ENCAUCHETADA 3x12 x 10 m | C119: =Insumos!D82 -> Un | D119: 0.0095 | E119: =Insumos!E82 -> 65384 | F119: =ROUND(D119*E119, 2) -> 621.15
B120: =Insumos!C109 -> VIBRADOR ELÉCTRICO PARA CONCRETO | C120: =Insumos!D109 -> Día | D120: 0.125 | E120: =Insumos!E109 -> 46175 | F120: =ROUND(D120*E120, 2) -> 5771.88
...

Sheet Básicos
B2: PROYECTO: | C2: CONSTRUCCION OBRAS Y SUMINISTRO ASCENSOR DOS (2) PARADAS
B3: DESCRIPCIÓN: | C3: Suministro e instalación de ascensor de dos (2) paradas, incluyendo equipo completo, obras civiles,montaje, pruebas y puesta en funcionamiento conforme a normas vigentes.
B4: UBICACIÓN: | C4: Municipio de Aguachica, Dpto del Cesar.
B5: FECHA: | C5: Marzo de 2026
B6: DISTANCIA CANTERA AL MUNICIPIO DE AGUACHICA: | C6: 0
B8: ANÁLISIS DE PRECIOS UNITARIOS - BÁSICOS
B9: ANDAMIO TUBULAR CON TIJERA 1.50x1.50 m | F9: UNIDAD: Día
B10: DESCRIPCIÓN | C10: UNIDAD | D10: CANT/ REND | E10: PRECIO UNITARIO | F10: VR PARCIAL
B11: EQUIPO y HERRAMIENTAS:
B12: =Insumos!C91 -> MARCO ANDAMIO DE TIJERA 1.50x1.50 m | C12: =Insumos!D91 -> Día | D12: 2 | E12: =Insumos!E91 -> 735 | F12: =ROUND(D12*E12, 2) -> 1470
B13: =Insumos!C108 -> TIJERA DE ANDAMIO | C13: =Insumos!D108 -> Día | D13: 2 | E13: =Insumos!E108 -> 197 | F13: =ROUND(D13*E13, 2) -> 394
B14: =Insumos!C100 -> PLATAFORMA METÁLICA PARA ANDAMIO | C14: =Insumos!D100 -> Día | D14: 1 | E14: =Insumos!E100 -> 3539 | F14: =ROUND(D14*E14, 2) -> 3539
E15: Subtotal = | F15: =SUM(F12:F14) -> 5403
E17: VR UNITARIO = | F17: =ROUND(SUM(F11:F15)/2, 0) -> 5403
B20: CARRETA BUGGIE, PALA, BALDES | F20: UNIDAD: Un
B21: DESCRIPCIÓN | C21: UNIDAD | D21: CANT/ REND | E21: PRECIO UNITARIO | F21: VR PARCIAL
B22: EQUIPO y HERRAMIENTAS:
B23: =Insumos!C74 -> CARRETA LLANTA NEUMÁTICA | C23: =Insumos!D74 -> Un | D23: 1 | E23: =Insumos!E74 -> 364684 | F23: =ROUND(D23*E23, 2) -> 364684
B24: =Insumos!C96 -> PALA REDONDA CON CABO | C24: =Insumos!D96 -> Un | D24: 1 | E24: =Insumos!E96 -> 40559 | F24: =ROUND(D24*E24, 2) -> 40559
B25: =Insumos!C69 -> BALDE CONSTRUCCIÓN | C25: =Insumos!D69 -> Un | D25: 2 | E25: =Insumos!E69 -> 7292 | F25: =ROUND(D25*E25, 2) -> 14584
E26: Subtotal = | F26: =SUM(F23:F25) -> 419827
E28: VR UNITARIO = | F28: =ROUND(SUM(F22:F26)/2, 0) -> 419827
B31: HERRAMIENTAS PARA ALBAÑIL | F31: UNIDAD: Un
B32: DESCRIPCIÓN | C32: UNIDAD | D32: CANT/ REND | E32: PRECIO UNITARIO | F32: VR PARCIAL
B33: EQUIPO y HERRAMIENTAS:
B34: =Insumos!C65 -> ALMADANA 4 lb | C34: =Insumos!D65 -> Un | D34: 1 | E34: =Insumos!E65 -> 57954 | F34: =ROUND(D34*E34, 2) -> 57954
B35: =Insumos!C75 -> CINCEL 3/4" ACERO TEMPLADO | C35: =Insumos!D75 -> Un | D35: 1 | E35: =Insumos!E75 -> 35824 | F35: =ROUND(D35*E35, 2) -> 35824
B36: =Insumos!C97 -> PALUSTRE | C36: =Insumos!D97 -> Un | D36: 1 | E36: =Insumos!E97 -> 16707 | F36: =ROUND(D36*E36, 2) -> 16707
B37: =Insumos!C76 -> CINTA MÉTRICA x 5 m | C37: =Insumos!D76 -> Un | D37: 1 | E37: =Insumos!E76 -> 22753 | F37: =ROUND(D37*E37, 2) -> 22753
B38: =Insumos!C95 -> NIVEL DE BURBUJA | C38: =Insumos!D95 -> Un | D38: 1 | E38: =Insumos!E95 -> 52700 | F38: =ROUND(D38*E38, 2) -> 52700
B39: =Insumos!C88 -> MANGUERA DE NIVEL x 10 m | C39: =Insumos!D88 -> Un | D39: 1 | E39: =Insumos!E88 -> 5863 | F39: =ROUND(D39*E39, 2) -> 5863
B40: =Insumos!C101 -> PLOMADA | C40: =Insumos!D101 -> Un | D40: 1 | E40: =Insumos!E101 -> 22171 | F40: =ROUND(D40*E40, 2) -> 22171
B41: =Insumos!C92 -> MARCO SEGUETA FIJO | C41: =Insumos!D92 -> Un | D41: 1 | E41: =Insumos!E92 -> 35467 | F41: =ROUND(D41*E41, 2) -> 35467
B42: =Insumos!C104 -> SERRUCHO | C42: =Insumos!D104 -> Un | D42: 1 | E42: =Insumos!E104 -> 44567 | F42: =ROUND(D42*E42, 2) -> 44567
B43: =Insumos!C93 -> MARTILLO | C43: =Insumos!D93 -> Un | D43: 1 | E43: =Insumos!E93 -> 41506 | F43: =ROUND(D43*E43, 2) -> 41506
B44: =Insumos!C86 -> LIMA PLANA PARA USO GENERAL CON MANGO 8" | C44: =Insumos!D86 -> Un | D44: 1 | E44: =Insumos!E86 -> 26639 | F44: =ROUND(D44*E44, 2) -> 26639
E45: Subtotal = | F45: =SUM(F34:F44) -> 362151
E47: VR UNITARIO = | F47: =ROUND(SUM(F33:F45)/2, 0) -> 362151
B50: DOTACIÓN LABORAL | F50: UNIDAD: Un
B51: DESCRIPCIÓN | C51: UNIDAD | D51: CANT/ REND | E51: PRECIO UNITARIO | F51: VR PARCIAL
B52: VESTIDO:
B53: =Insumos!C38 -> PANTALÓN DE TRABAJO | C53: =Insumos!D38 -> Un | D53: 1 | E53: =Insumos!E38 -> 62869 | F53: =ROUND(D53*E53, 2) -> 62869
B54: =Insumos!C18 -> CAMISA DE TRABAJO | C54: =Insumos!D18 -> Un | D54: 1 | E54: =Insumos!E18 -> 27337 | F54: =ROUND(D54*E54, 2) -> 27337
E55: Subtotal = | F55: =SUM(F53:F54) -> 90206
B56: ZAPATOS:
B57: =Insumos!C17 -> BOTAS DE SEGURIDAD | C57: =Insumos!D17 -> Par | D57: 1 | E57: =Insumos!E17 -> 111344 | F57: =ROUND(D57*E57, 2) -> 111344
E58: Subtotal = | F58: =SUM(F57:F57) -> 111344
E60: VR UNITARIO = | F60: =ROUND(SUM(F52:F58)/2, 0) -> 201550
B63: SEGURIDAD INDUSTRIAL | F63: UNIDAD: Un
B64: DESCRIPCIÓN | C64: UNIDAD | D64: CANT/ REND | E64: PRECIO UNITARIO | F64: VR PARCIAL
B65: ELEMENTOS DE PROTECCIÓN PERSONAL (EPP):
B66: =Insumos!C23 -> CHALECO REFLECTIVO | C66: =Insumos!D23 -> Un | D66: 1 | E66: =Insumos!E23 -> 35331 | F66: =ROUND(D66*E66, 2) -> 35331
B67: =Insumos!C21 -> CASCO DE SEGURIDAD | C67: =Insumos!D21 -> Un | D67: 1 | E67: =Insumos!E21 -> 42768 | F67: =ROUND(D67*E67, 2) -> 42768
B68: =Insumos!C54 -> TAPABOCAS | C68: =Insumos!D54 -> Un | D68: 1 | E68: =Insumos!E54 -> 268 | F68: =ROUND(D68*E68, 2) -> 268
B69: =Insumos!C55 -> TAPÓN PARA OIDO | C69: =Insumos!D55 -> Un | D69: 1 | E69: =Insumos!E55 -> 2653 | F69: =ROUND(D69*E69, 2) -> 2653
B70: =Insumos!C28 -> GAFAS DE SEGURIDAD | C70: =Insumos!D28 -> Un | D70: 1 | E70: =Insumos!E28 -> 8658 | F70: =ROUND(D70*E70, 2) -> 8658
B71: =Insumos!C33 -> GUANTES VAQUETA | C71: =Insumos!D33 -> Par | D71: 1 | E71: =Insumos!E33 -> 13703 | F71: =ROUND(D71*E71, 2) -> 13703
E72: Subtotal = | F72: =SUM(F66:F71) -> 103381
E74: VR UNITARIO = | F74: =ROUND(SUM(F65:F72)/2, 0) -> 103381
B77: SEGURIDAD INDUSTRIAL PARA SOLDADOR | F77: UNIDAD: Un
B78: DESCRIPCIÓN | C78: UNIDAD | D78: CANT/ REND | E78: PRECIO UNITARIO | F78: VR PARCIAL
B79: ELEMENTOS DE PROTECCIÓN PERSONAL (EPP):
B80: =Insumos!C40 -> PETO O DELANTAL SOLDADOR | C80: =Insumos!D40 -> Un | D80: 1 | E80: =Insumos!E40 -> 60086 | F80: =ROUND(D80*E80, 2) -> 60086
B81: =Insumos!C36 -> MANGAS DE CARNAZA | C81: =Insumos!D36 -> Par | D81: 1 | E81: =Insumos!E36 -> 73377 | F81: =ROUND(D81*E81, 2) -> 73377
B82: =Insumos!C43 -> POLAINAS DE CARNAZA | C82: =Insumos!D43 -> Par | D82: 1 | E82: =Insumos!E43 -> 73377 | F82: =ROUND(D82*E82, 2) -> 73377
B83: =Insumos!C29 -> GORRO LEGIONARIO SOLDADOR | C83: =Insumos!D29 -> Un | D83: 1 | E83: =Insumos!E29 -> 54604 | F83: =ROUND(D83*E83, 2) -> 54604
B84: =Insumos!C32 -> GUANTES SOLDADOR DE CARNAZA | C84: =Insumos!D32 -> Par | D84: 1 | E84: =Insumos!E32 -> 56549 | F84: =ROUND(D84*E84, 2) -> 56549
B85: =Insumos!C20 -> CARETA PARA SOLDAR CON VISOR | C85: =Insumos!D20 -> Un | D85: 1 | E85: =Insumos!E20 -> 46051 | F85: =ROUND(D85*E85, 2) -> 46051
E86: Subtotal = | F86: =SUM(F80:F85) -> 364044
E88: VR UNITARIO = | F88: =ROUND(SUM(F79:F86)/2, 0) -> 364044
B91: AYUDANTE (Incl. prestaciones) | F91: UNIDAD: Día
B92: DESCRIPCIÓN | C92: UNIDAD | D92: CANT/ REND | E92: PRECIO UNITARIO | F92: VR PARCIAL
B93: =Insumos!C114 -> AYUDANTE | C93: =Insumos!D114 -> Mes | D93: 0.033333 | E93: =Insumos!E114 -> 1750905 | F93: =ROUND(D93*E93, 2) -> 58362.92
B94: =Insumos!C113 -> AUXILIO DE TRANSPORTE | C94: =Insumos!D113 -> Mes | D94: 0.033333 | E94: =Insumos!E113 -> 249095 | F94: =ROUND(D94*E94, 2) -> 8303.08
E95: Subtotal = | F95: =SUM(F93:F94) -> 66666
B96: SEGURIDAD SOCIAL:
B97: SALUD | C97: %S | D97: 12.5 | E97: =F93 -> 58362.92 | F97: =ROUND(D97*E97/100, 2) -> 7295.37
B98: PENSIÓN | C98: %S | D98: 16 | E98: =F93 -> 58362.92 | F98: =ROUND(D98*E98/100, 2) -> 9338.07
B99: RIESGOS PROFESIONALES | C99: %S | D99: 6.96 | E99: =F93 -> 58362.92 | F99: =ROUND(D99*E99/100, 2) -> 4062.06
E100: Subtotal = | F100: =SUM(F97:F99) -> 20695.5
B101: PRESTACIONES SOCIALES:
B102: CESANTÍAS | C102: % | D102: 8.3333 | E102: =F93+F94 -> 66666 | F102: =ROUND(D102*E102/100, 2) -> 5555.48
B103: INTERESES DE CESANTÍAS | C103: % | D103: 0.0333 | E103: =F102 -> 5555.48 | F103: =ROUND(D103*E103/100, 2) -> 1.85
B104: VACACIONES | C104: % | D104: 4.1667 | E104: =F93 -> 58362.92 | F104: =ROUND(D104*E104/100, 2) -> 2431.81
B105: PRIMA LEGAL | C105: % | D105: 8.3333 | E105: =F93+F94 -> 66666 | F105: =ROUND(D105*E105/100, 2) -> 5555.48
E106: Subtotal = | F106: =SUM(F102:F105) -> 13544.62
B107: APORTES PARAFISCALES:
B108: CAJA DE COMPENSACIÓN FAMILIAR | C108: %S | D108: 4 | E108: =F93 -> 58362.92 | F108: =ROUND(D108*E108/100, 2) -> 2334.52
B109: ICBF | C109: %S | D109: 3 | E109: =F93 -> 58362.92 | F109: =ROUND(D109*E109/100, 2) -> 1750.89
B110: SENA | C110: %S | D110: 2 | E110: =F93 -> 58362.92 | F110: =ROUND(D110*E110/100, 2) -> 1167.26
E111: Subtotal = | F111: =SUM(F108:F110) -> 5252.67
B112: OTROS:
B113: DOTACIÓN LABORAL | C113: Un | D113: 0.008333 | E113: =F60 -> 201550 | F113: =ROUND(D113*E113, 2) -> 1679.52
B114: SEGURIDAD INDUSTRIAL | C114: Un | D114: 0.008333 | E114: =F74 -> 103381 | F114: =ROUND(D114*E114, 2) -> 861.47
E115: Subtotal = | F115: =SUM(F113:F114) -> 2540.99
E117: VR UNITARIO = | F117: =ROUND(SUM(F93:F115)/2, 0) -> 108700
E119: TOTAL % P = | F119: =F117/F93-1 -> 0.86248392
B122: AYUDANTE PRÁCTICO (Incl. prestaciones) | F122: UNIDAD: Día
B123: DESCRIPCIÓN | C123: UNIDAD | D123: CANT/ REND | E123: PRECIO UNITARIO | F123: VR PARCIAL
B124: =Insumos!C115 -> AYUDANTE PRÁCTICO | C124: =Insumos!D115 -> Mes | D124: 0.033333 | E124: =Insumos!E115 -> 2163274 | F124: =ROUND(D124*E124, 2) -> 72108.41
...

Sheet Insumos
B2: PROYECTO: | C2: CONSTRUCCION OBRAS Y SUMINISTRO ASCENSOR DOS (2) PARADAS
B3: DESCRIPCIÓN: | C3: Suministro e instalación de ascensor de dos (2) paradas, incluyendo equipo completo, obras civiles,montaje, pruebas y puesta en funcionamiento conforme a normas vigentes.
B4: UBICACIÓN: | C4: Municipio de Aguachica, Dpto del Cesar.
B5: FECHA: | C5: Marzo de 2026
B7: LISTA DE MATERIALES, EQUIPO y HERRAMIENTAS, JORNALES
B8: TIPO | C8: DESCRIPCIÓN | D8: UNIDAD | E8: PRECIO UNITARIO | F8: CANTIDAD | G8: VR PARCIAL
B9: MATERIALES | C9: ACERO Fy= 420 MPa | D9: Kg | E9: 4380 | F9: 1123.2 | G9: =ROUND(E9*F9, 2) -> 4919615.8 | J9: https://www.homecenter.com.co/homecenter-co/product/43274/chipa-3-8-pulgadas-1-kilo/43274/
C10: ACERO PARA ESTRUCTURA METÁLICA | D10: Kg | E10: 7782 | F10: 4163.4598 | G10: =ROUND(E10*F10, 2) -> 32400044 | J10: https://www.homecenter.com.co/homecenter-co/product/3000728/perfil-c-g40-150-x-50-x-15mm-x-6m-galvanizado/3000728/
C11: ACPM | D11: Gal | E11: 11064 | F11: 0.033750001 | G11: =ROUND(E11*F11, 2) -> 373.41 | J11: Peso del perfil= 2.9 kg/m
C12: AGUA | D12: Lt | E12: 81 | F12: 2176.4883 | G12: =ROUND(E12*F12, 2) -> 176295.55
C13: ALAMBRE NEGRO Cal. 18 | D13: Kg | E13: 6500 | F13: 32.399999 | G13: =ROUND(E13*F13, 2) -> 210600
C14: ALUMOL (Pintura reflectiva de aluminio) | D14: Kg | E14: 61090 | F14: 0.41250001 | G14: =ROUND(E14*F14, 2) -> 25199.63
C15: ANTISOL BLANCO (Curador para concreto y mortero base agua) | D15: Kg | E15: 10481 | F15: 16.468 | G15: =ROUND(E15*F15, 2) -> 172601.11
C16: ARENA | D16: m3 | E16: =70000*1.19 -> 83300 | F16: 6.1815956 | G16: =ROUND(E16*F16, 2) -> 514926.91 | J16: PAVIMENTOS EL DORADO 2026
C17: BOTAS DE SEGURIDAD | D17: Par | E17: 111344 | F17: 4.3377671 | G17: =ROUND(E17*F17, 2) -> 482984.33
C18: CAMISA DE TRABAJO | D18: Un | E18: 27337 | F18: 4.3377671 | G18: =ROUND(E18*F18, 2) -> 118581.54
C19: CANAL 90 0.43 mm x 2.44 m | D19: Un | E19: 9560 | F19: 11.968 | G19: =ROUND(E19*F19, 2) -> 114414.08
C20: CARETA PARA SOLDAR CON VISOR | D20: Un | E20: 46051 | F20: 0.66084025 | G20: =ROUND(E20*F20, 2) -> 30432.35
C21: CASCO DE SEGURIDAD | D21: Un | E21: 42768 | F21: 3.6769268 | G21: =ROUND(E21*F21, 2) -> 157254.81
C22: CEMENTO GRIS | D22: Kg | E22: 652 | F22: 3825.5532 | G22: =ROUND(E22*F22, 2) -> 2494260.7 | J22: https://www.homecenter.com.co/homecenter-co/product/13846/cemento-argos-gris-50kg/13846/
C23: CHALECO REFLECTIVO | D23: Un | E23: 35331 | F23: 3.6769268 | G23: =ROUND(E23*F23, 2) -> 129909.5
C24: CHAZO CON TORNILLO 12-14 x 2" | D24: Un | E24: 788 | F24: 54 | G24: =ROUND(E24*F24, 2) -> 42552
C25: CINTA DE SEÑALIZACIÓN a=7 cm | D25: m | E25: 203 | F25: 13.5 | G25: =ROUND(E25*F25, 2) -> 2740.5
C26: DISOLVENTE | D26: Gal | E26: 65158 | F26: 3.9861252 | G26: =ROUND(E26*F26, 2) -> 259727.95
C27: DISTANCIADOR DE CONCRETO | D27: Un | E27: 736 | F27: 162.00001 | G27: =ROUND(E27*F27, 2) -> 119232
C28: GAFAS DE SEGURIDAD | D28: Un | E28: 8658 | F28: 3.6769268 | G28: =ROUND(E28*F28, 2) -> 31834.83
C29: GORRO LEGIONARIO SOLDADOR | D29: Un | E29: 54604 | F29: 0.66084025 | G29: =ROUND(E29*F29, 2) -> 36084.52
C30: GUADUA SOBRE BASA | D30: Un | E30: 6040 | F30: 0.20250001 | G30: =ROUND(E30*F30, 2) -> 1223.1
C31: GUANTES DE VINILO | D31: Par | E31: 955 | F31: 1.1895601 | G31: =ROUND(E31*F31, 2) -> 1136.03
C32: GUANTES SOLDADOR DE CARNAZA | D32: Par | E32: 56549 | F32: 0.66084025 | G32: =ROUND(E32*F32, 2) -> 37369.86
C33: GUANTES VAQUETA | D33: Par | E33: 13703 | F33: 3.6769268 | G33: =ROUND(E33*F33, 2) -> 50384.93
C34: LISTÓN 1" x 2" | D34: m | E34: 1482 | F34: 0.45225002 | G34: =ROUND(E34*F34, 2) -> 670.23
... C57: TORNILLO SUPERBOARD AVELLANADO PUNTA AGUDA 6x7/8" | D57: Un | E57: 289 | F57: 809.6 | G57: =ROUND(E57*F57, 2) -> 233974.4
C58: TRITURADO DE 3/4" | D58: m3 | E58: =95000*1.19 -> 113050 | F58: 5.8267893 | G58: =ROUND(E58*F58, 2) -> 658718.53 | J58: PAVIMENTOS EL DORADO 2026
C59: ASCENSOR Gen2 Regen-EXT S. - Capacidad 6 PERSONAS, 450 Kg (2 Paradas) | D59: Un | E59: 102600000 | F59: 1 | G59: =ROUND(E59*F59, 2) -> 102600000
C60: CINTA WATERBAR PVC O 22 PARA JUNTAS | D60: Ml | E60: 50000 | F60: 9.8948156 | G60: =ROUND(E60*F60, 2) -> 494740.78
C61: PLACA DE MARMOL CALIDAD JASPE NACIONAL A=0.60m, E=0.07m | D61: m2 | E61: 750000 | F61: 21.839999 | G61: =ROUND(E61*F61, 2) -> 16379999
C62: REFRAGUE CON CONCOLOR COLOR BLANCO | D62: m | E62: 3000 | F62: 10.4 | G62: =ROUND(E62*F62, 2) -> 31200
C63: VENTANA EN ALUMINIO CORREDIZA CON VIDRIO DE 10 mm | D63: Sub/m2 | E63: 700039 | F63: 54 | G63: =ROUND(E63*F63, 2) -> 37802106
C64: SIKA PISO DECOR gris | D64: Kg | E64: 9500 | F64: 0.45000002 | G64: =ROUND(E64*F64, 2) -> 4275
B65: EQUIPO y HERRAMIENTAS | C65: ALMADANA 4 lb | D65: Un | E65: 57954 | F65: 0.000135 | G65: =ROUND(E65*F65, 2) -> 7.82
C66: ANDAMIO CERTIFICADO | D66: Día | E66: 8827 | F66: 4.5108 | G66: =ROUND(E66*F66, 2) -> 39816.83
C67: ANTORCHA SOPLETE A GAS | D67: Hr | E67: 122150 | F67: 0.041249999 | G67: =ROUND(E67*F67, 2) -> 5038.69
C68: ATORNILLADOR ELÉCTRICO | D68: Un | E68: 625159 | F68: 0.063359999 | G68: =ROUND(E68*F68, 2) -> 39610.07
C69: BALDE CONSTRUCCIÓN | D69: Un | E69: 7292 | F69: 0.62755507 | G69: =ROUND(E69*F69, 2) -> 4576.13
C70: BROCHA 2" | D70: Un | E70: 9369 | F70: 0.000135 | G70: =ROUND(E70*F70, 2) -> 1.26
C71: CABLE PARA PORTA ELECTRODO x 10 m | D71: Día | E71: 7589 | F71: 79.303998 | G71: =ROUND(E71*F71, 2) -> 601838.04
C72: CANECA METÁLICA DE 55 Gal | D72: Un | E72: 59708 | F72: 0.018361105 | G72: =ROUND(E72*F72, 2) -> 1096.3
C73: CARETA VISOR POLICARBONATO Y RIBETE | D73: Un | E73: 60764 | F73: 0.79303998 | G73: =ROUND(E73*F73, 2) -> 48188.28
C74: CARRETA LLANTA NEUMÁTICA | D74: Un | E74: 364684 | F74: 0.136756 | G74: =ROUND(E74*F74, 2) -> 49872.72
C75: CINCEL 3/4" ACERO TEMPLADO | D75: Un | E75: 35824 | F75: 0.000135 | G75: =ROUND(E75*F75, 2) -> 4.84
C76: CINTA MÉTRICA x 5 m | D76: Un | E76: 22753 | F76: 0.000135 | G76: =ROUND(E76*F76, 2) -> 3.07
C77: CODAL DE ALUMINIO 3" x 1 1/2" x 3 m | D77: Un | E77: 46372 | F77: 0.015000001 | G77: =ROUND(E77*F77, 2) -> 695.58
... C109: VIBRADOR ELÉCTRICO PARA CONCRETO | D109: Día | E109: 46175 | F109: 0.895 | G109: =ROUND(E109*F109, 2) -> 41326.63
B110: TRANSPORTES | C110: CAMIÓN 350 | D110: Hr | E110: 66642 | F110: 14.9812 | G110: =ROUND(E110*F110, 2) -> 998377.14
C111: CAMIONETA | D111: Hr | E111: 41652 | F111: 5.8496001 | G111: =ROUND(E111*F111, 2) -> 243647.54
C112: VOLQUETA 7 m3 | D112: Hr | E112: 96839 | F112: 6.9913802 | G112: =ROUND(E112*F112, 2) -> 677038.27
B113: MANO de OBRA | C113: AUXILIO DE TRANSPORTE | D113: Mes | E113: 249095 | F113: 17.351588 | G113: =ROUND(E113*F113, 2) -> 4322193.8
C114: AYUDANTE | D114: Mes | E114: 1750905 | F114: 6.0572758 | G114: =ROUND(E114*F114, 2) -> 10605715
C115: AYUDANTE PRÁCTICO | D115: Mes | E115: 2163274 | F115: 3.2258877 | G115: =ROUND(E115*F115, 2) -> 6978479
C116: HERRERO | D116: Mes | E116: 2163274 | F116: 0.15119848 | G116: =ROUND(E116*F116, 2) -> 327083.74
C117: OFICIAL | D117: Mes | E117: 2593253 | F117: 4.6993382 | G117: =ROUND(E117*F117, 2) -> 12186573
C118: OPERARIO SOLDADOR | D118: Mes | E118: 2360703 | F118: 2.6434402 | G118: =ROUND(E118*F118, 2) -> 6240377.1
C119: PINTOR | D119: Mes | E119: 2163274 | F119: 0.57444761 | G119: =ROUND(E119*F119, 2) -> 1242687.6
B120: OTROS | C120: TARIFA ESCOMBRERA AUTORIZADA | D120: m3 | E120: 4500 | F120: 14 | G120: =ROUND(E120*F120, 2) -> 63000

Sheet G_Obra
B2: PROYECTO: | C2: CONSTRUCCION OBRAS Y SUMINISTRO ASCENSOR DOS (2) PARADAS
B3: DESCRIPCIÓN: | C3: Suministro e instalación de ascensor de dos (2) paradas, incluyendo equipo completo, obras civiles,montaje, pruebas y puesta en funcionamiento conforme a normas vigentes.
B4: UBICACIÓN: | C4: Municipio de Aguachica, Dpto del Cesar.
B5: FECHA: | C5: Marzo de 2026
B7: MEMORIA DE CANTIDADES
B9: 1.01 Corte de piso y/o andén con máquina; profundidad mínima 4.0 cm | J9: UNIDAD: m
B10: OBSERVACIONES | C10: NIVEL | D10: EJE | E10: TRAMO | F10: TIPO | G10: LARGO | H10: ANCHO | I10: ALTO | J10: PIEZAS | K10: CANTIDAD
B11: CORTE FOSO ASCENSOR | G11: 1.6 | J11: 4 | K11: =ROUND(G11*J11,2) -> 6.4
J13: TOTAL = | K13: =ROUND(SUM(K11:K11),2) -> 6.4
B24: 1.02 Demolición de piso y/o andén en concreto. espesor = 0.10 a 0.15m | J24: UNIDAD: m3
B25: OBSERVACIONES | C25: NIVEL | D25: EJE | E25: TRAMO | F25: TIPO | G25: LARGO | H25: ANCHO | I25: ALTO | J25: PIEZAS | K25: CANTIDAD
B26: EDIFICACION | G26: 1.6 | H26: 1.6 | J26: 1 | K26: =ROUND(G26*H26*J26,2) -> 2.56
J28: TOTAL = | K28: =ROUND(SUM(K26:K26),2) -> 2.56
B39: 1.03 Retiro sobrantes demoliciones | J39: UNIDAD: m3
B40: OBSERVACIONES | C40: NIVEL | D40: EJE | E40: TRAMO | F40: TIPO | G40: LARGO | H40: ANCHO | I40: ALTO | J40: PIEZAS | K40: CANTIDAD
B41: ESCOMBROS DE DEMOLICIÓN DE PISO EN CONCRETO | G41: 3 | H41: 3 | I41: 0.15 | K41: =ROUND(G41*H41*I41,2) -> 1.35
J43: TOTAL = | K43: =ROUND(SUM(K41:K41),2) -> 1.35
B54: 2.01 Excavacion manual en material común, profundida maxima 2.00 m | J54: UNIDAD: m3
B55: OBSERVACIONES | C55: NIVEL | D55: EJE | E55: TRAMO | F55: TIPO | G55: LARGO | H55: ANCHO | I55: ALTO | J55: PIEZAS | K55: CANTIDAD
B56: FOSO ASCENSOR | G56: 1.6 | H56: 1.6 | I56: 1.5 | J56: 1 | K56: =ROUND(G56*H56*I56*J56,2) -> 3.84
J58: TOTAL = | K58: =ROUND(SUM(K56:K56),2) -> 3.84
B69: 2.02 Retiro sobrantes. volumen compacto | J69: UNIDAD: m3
B70: OBSERVACIONES | C70: NIVEL | D70: EJE | E70: TRAMO | F70: TIPO | G70: LARGO | H70: ANCHO | I70: ALTO | J70: PIEZAS | K70: CANTIDAD
B71: EXCAVACIONES | G71: 1.6 | H71: 1.6 | I71: 1.5 | J71: 1 | K71: =ROUND(G71*H71*I71*J71,2) -> 3.84
J73: TOTAL = | K73: =ROUND(SUM(K71:K71),2) -> 3.84
B84: 3.01 Concreto para solados, f'c = 2.500 psi. | J84: UNIDAD: m3
B85: OBSERVACIONES | C85: NIVEL | D85: EJE | E85: TRAMO | F85: TIPO | G85: LARGO | H85: ANCHO | I85: ALTO | J85: PIEZAS | K85: CANTIDAD
B86: FOSO ASCENSOR | G86: 1.6 | H86: 1.6 | I86: 0.1 | J86: 1 | K86: =ROUND(G86*H86*I86*J86,2) -> 0.26
J88: TOTAL = | K88: =ROUND(SUM(K86:K86),2) -> 0.26
B99: 3.02 Losa foso del ascensor en concreto f'c = 4.000 psi impermeabilizado. inluye cinta waterbar pvc o 22 para junta, encofrado, vibrado y curado | J99: UNIDAD: m3
B100: OBSERVACIONES | C100: NIVEL | D100: EJE | E100: TRAMO | F100: TIPO | G100: LARGO | H100: ANCHO | I100: ALTO | J100: PIEZAS | K100: CANTIDAD
B101: PLACA INFERIOR | G101: 2.5 | H101: 2.5 | I101: 0.3 | J101: 1 | K101: =ROUND(G101*H101*I101*J101,2) -> 1.88
J103: TOTAL = | K103: =ROUND(SUM(K101:K101),2) -> 1.88
B114: 3.03 Muros y vigas foso del ascensor en concreto f'c = 4.000 psi impermeabilizado. incluye vibrado y curado. según diseños | J114: UNIDAD: m3
B115: OBSERVACIONES | C115: NIVEL | D115: EJE | E115: TRAMO | F115: TIPO | G115: LARGO | H115: ANCHO | I115: ALTO | J115: PIEZAS | K115: CANTIDAD
B116: MUROS PERIMETRALES 1 | G116: 1.6 | H116: 0.3 | I116: 1 | J116: 2 | K116: =ROUND(G116*H116*I116*J116,2) -> 0.96
B117: MUROS PERIMETRALES 2 | G117: 2.2 | H117: 0.3 | I117: 1 | J117: 2 | K117: =ROUND(G117*H117*I117*J117,2) -> 1.32
B118: VIGAS CORONA 1 | G118: 1.6 | H118: 0.3 | I118: 0.4 | J118: 2 | K118: =ROUND(G118*H118*I118*J118,2) -> 0.38
B119: VIGAS CORONA 2 | G119: 2.25 | H119: 0.3 | I119: 0.4 | J119: 2 | K119: =ROUND(G119*H119*I119*J119,2) -> 0.54
J121: TOTAL = | K121: =ROUND(SUM(K116:K119),2) -> 3.2
B132: 3.04 Losa monolitica de espesor e = 0.20 m, en concreto f'c = 4.000 psi impermeabilizado | J132: UNIDAD: m2
B133: OBSERVACIONES | C133: NIVEL | D133: EJE | E133: TRAMO | F133: TIPO | G133: LARGO | H133: ANCHO | I133: ALTO | J133: PIEZAS | K133: CANTIDAD
B134: PLACA DE CUBIERTA | G134: 1.6 | H134: 1.8 | J134: 1 | K134: =ROUND(G134*H134*J134,2) -> 2.88
J136: TOTAL = | K136: =ROUND(SUM(K134:K134),2) -> 2.88
B147: 3.05 Acero de refuerzo pdr-60; f'y = 420 Mpa para estructuras en concreto, verticales y horizontales | J147: UNIDAD: kg
B148: OBSERVACIONES | C148: NIVEL | D148: EJE | E148: TRAMO | F148: REF | G148: LONG | H148: CANT | I148: PESO | J148: PIEZAS | K148: CANTIDAD
B149: LOSA FOSO DEL ASCENSOR | G149: 1.8 | H149: 1.8 | I149: 150 | K149: =ROUND(G149*H149*I149,2) -> 486
B150: MUROS Y VIGAS FOSO DEL ASCENSOR | G150: 1 | H150: 3.8 | I150: 150 | K150: =ROUND(G150*H150*I150,2) -> 570
B151: LOSA MONOLITICA DE ESPESOR E=0.20m | G151: 0.2 | H151: 5.2 | I151: 150 | K151: =ROUND(G151*H151*I151,2) -> 156
J153: TOTAL = | K153: =ROUND(SUM(K149:K151),2) -> 1212
B164: 3.06 Suministro, fabricación, montaje y pintura de perfiler 150 x 150 x 6mm para soporte de la estructura del ascensor, incluye tornillería, soldadura electrica y acabado con anticorrosivo + esmalte, estructura a la vista, según diseño por el contratista | J164: UNIDAD: kg
B165: OBSERVACIONES | C165: NIVEL | D165: EJE | E165: TRAMO | F165: REF | G165: LONG | H165: CANT | I165: PESO | J165: PIEZAS | K165: CANTIDAD
B166: PERFIL CUADRADO - 150x150x6mm - COLUMNAS | I166: 26.71 | J166: 35 | K166: =ROUND(I166*J166,2) -> 934.85
B167: PERFIL CUADRADO - 150x150x6mm - VIGAS | I167: 26.71 | J167: 45 | K167: =ROUND(I167*J167,2) -> 1201.95
B168: PLATINAS DE 40x40cm - 5/8" | I168: 150 | J168: 0.8 | K168: =ROUND(I168*J168,2) -> 120
B169: PLATINAS DE 40x80cm - 5/8" | I169: 150 | J169: 1.6 | K169: =ROUND(I169*J169,2) -> 240
B170: TORNILLOS 3/4" - G8 | I170: 5 | J170: 80 | K170: =ROUND(I170*J170,2) -> 400
J172: TOTAL = | K172: =ROUND(SUM(K166:K170),2) -> 2896.8
B183: 4.01 Muro en superboard para definir accesos del ascensor, para recibir piedra en granito natural para evitar mantenimientos, incluye estructura metalica de soporte, tornillería, cinta y masilla multiusos | J183: UNIDAD: m2
B184: OBSERVACIONES | C184: NIVEL | D184: EJE | E184: TRAMO | F184: TIPO | G184: LARGO | H184: ANCHO | I184: ALTO | J184: PIEZAS | K184: CANTIDAD
B185: CERRAMIENTO TODA EL ÁREA | H185: 1 | I185: 6 | J185: 2 | K185: =ROUND(H185*I185*J185,2) -> 12
B186: FRONTONES | H186: 2.4 | I186: 1 | J186: 2 | K186: =ROUND(H186*I186*J186,2) -> 4.8
B187: PARTE SUPERIOR - PERIMETRAL | H187: 2.4 | I187: 1.5 | J187: 4 | K187: =ROUND(H187*I187*J187,2) -> 14.4
J189: TOTAL = | K189: =ROUND(SUM(K185:K187),2) -> 31.2
B200: 4.02 Suministro e instalación de cenefas en granito natural color beis-rosa y/o marrón caribe. incluye la arquitectura en sitio de la piedra + masillas + perforaciones sobre la pared de superboard | J200: UNIDAD: m2
B201: OBSERVACIONES | C201: NIVEL | D201: EJE | E201: TRAMO | F201: TIPO | G201: LARGO | H201: ANCHO | I201: ALTO | J201: PIEZAS | K201: CANTIDAD
B202: CERRAMIENTO TODA EL ÁREA | G202: 8 | I202: 1 | J202: 2 | K202: =ROUND(G202*I202*J202,2) -> 16
B203: FRONTONES | G203: 1 | I203: 2.4 | J203: 2 | K203: =ROUND(G203*I203*J203,2) -> 4.8
J205: TOTAL = | K205: =ROUND(SUM(K202:K203),2) -> 20.8
B216: 4.03 Sumnistro, transporte e instalacion de ventanería panorámica del ascensor, en vidrio templado 10 mm. incluye accesorios de anclaje para fachadas | J216: UNIDAD: m2
B217: OBSERVACIONES | C217: NIVEL | D217: EJE | E217: TRAMO | F217: TIPO | G217: LARGO | H217: ANCHO | I217: ALTO | J217: PIEZAS | K217: CANTIDAD
B218: FACHADA | H218: 1.8 | I218: 4 | J218: 1 | K218: =ROUND(H218*I218*J218,2) -> 7.2
J220: TOTAL = | K220: =ROUND(SUM(K218:K218),2) -> 7.2
B231: 5.01 Mortero de nivelacion 1:4 -e= 0.05 m. impermeabilizado | J231: UNIDAD: m2
B232: OBSERVACIONES | C232: NIVEL | D232: EJE | E232: TRAMO | F232: TIPO | G232: LARGO | H232: ANCHO | I232: ALTO | J232: PIEZAS | K232: CANTIDAD
B233: ÁREA | G233: 2.5 | H233: 2.5 | J233: 1 | K233: =ROUND(G233*H233*J233,2) -> 6.25
J235: TOTAL = | K235: =ROUND(SUM(K233:K233),2) -> 6.25
B246: 5.02 Media caña en mortero 1:4 | J246: UNIDAD: m
B247: OBSERVACIONES | C247: NIVEL | D247: EJE | E247: TRAMO | F247: TIPO | G247: LARGO | H247: ANCHO | I247: ALTO | J247: PIEZAS | K247: CANTIDAD
B248: FRONTONES | G248: 3 | J248: 1 | K248: =ROUND(G248*J248,2) -> 3
J250: TOTAL = | K250: =ROUND(SUM(K248:K248),2) -> 3
B261: 5.03 Impermeabilización de cubiertas en concreto, con manto edil 3.0 mm, incluye acabado con alumol y las herramientas y equipos necesarios para su ejecución | J261: UNIDAD: m2
B262: OBSERVACIONES | C262: NIVEL | D262: EJE | E262: TRAMO | F262: TIPO | G262: LARGO | H262: ANCHO | I262: ALTO | J262: PIEZAS | K262: CANTIDAD
B263: ÁREA | G263: 2 | H263: 2 | J263: 1 | K263: =ROUND(G263*H263*J263,2) -> 4
J265: TOTAL = | K265: =ROUND(SUM(K263:K263),2) -> 4
B276: 6.01 Ascensor hasta 6 pasajeros en acero inoxidable, Gen2 Regen-EXT Sin cuarto de máquinas, velocidad 1.0 m/seg, capacidad 450 kg. incluye estructura de soporte y protecciones laterales. Dos (2) paradas y recorrido cuatro (4.0) m | J276: UNIDAD: un
B277: OBSERVACIONES | C277: NIVEL | D277: EJE | E277: TRAMO | F277: TIPO | G277: LARGO | H277: ANCHO | I277: ALTO | J277: PIEZAS | K277: CANTIDAD
B278: Ascensor hasta 8 pasajero | J278: 1 | K278: =ROUND(J278,2) -> 1
J280: TOTAL = | K280: =ROUND(SUM(K278:K278),2) -> 1
