Workbook

Sheet APUS
B2: PROYECTO: | C2: CONSTRUCCION OBRAS Y SUMINISTRO ASCENSOR DOS (2) PARADAS
B3: DESCRIPCIÓN: | C3: Suministro e instalación de ascensor de dos (2) paradas, incluyendo equipo completo, obras civiles,montaje, pruebas y puesta en funcionamiento conforme a normas vigentes.
B4: UBICACIÓN: | C4: Municipio de Aguachica, Dpto del Cesar.
B5: FECHA: | C5: Marzo de 2026
B7: ANÁLISIS DE PRECIOS UNITARIOS
B8: 1.01 Corte de piso y/o andén con máquina; profundidad mínima 4.0 cm y demolición de muros requeridos | F8: UNIDAD: m
B9: DESCRIPCIÓN | C9: UNIDAD | D9: CANT/ REND | E9: PRECIO UNITARIO | F9: VR PARCIAL
B10: MATERIALES:
B11: =Insumos!C12 -> AGUA | C11: =Insumos!D12 -> Lt | D11: 20 | E11: =Insumos!E12 -> 81 | F11: =ROUND(D11*E11, 2) -> 1620
E12: Subtotal = | F12: =SUM(F11:F11) -> 1620
B13: EQUIPO y HERRAMIENTAS:
B14: HERRAMIENTA MENOR % | C14: %MO | D14: 3 | E14: =F22 -> 2628.42 | F14: =ROUND(D14*E14/100, 2) -> 78.85
B15: =Insumos!C81 -> CORTADORA DE PAVIMENTO | C15: =Insumos!D81 -> Día | D15: 0.02 | E15: =Insumos!E81 -> 442632 | F15: =ROUND(D15*E15, 2) -> 8852.64
E16: Subtotal = | F16: =SUM(F14:F15) -> 8931.49
B17: TRANSPORTES:
B18: =Insumos!C111 -> CAMIONETA | C18: =Insumos!D111 -> Hr | D18: 0.014 | E18: =Insumos!E111 -> 41652 | F18: =ROUND(D18*E18, 2) -> 583.13
E19: Subtotal = | F19: =SUM(F18:F18) -> 583.13
B20: MANO de OBRA:
B21: AYUDANTE PRÁCTICO (Incl. prestaciones) | C21: Día | D21: 0.02 | E21: =Básicos!F148 -> 131421 | F21: =ROUND(D21*E21, 2) -> 2628.42
E22: Subtotal = | F22: =SUM(F21:F21) -> 2628.42
E24: VR COSTO DIRECTO = | F24: =ROUND(SUM(F10:F22)/2, 0) -> 13763
B27: 1.02 Demolición de piso y/o andén en concreto. espesor = 0.10 a 0.15m y demolición de muros requeridos | F27: UNIDAD: m3
B28: DESCRIPCIÓN | C28: UNIDAD | D28: CANT/ REND | E28: PRECIO UNITARIO | F28: VR PARCIAL
B29: EQUIPO y HERRAMIENTAS:
B30: =Insumos!C79 -> COMPRESOR NEUMÁTICO 1 MARTILLO | C30: =Insumos!D79 -> Hr | D30: 0.23008 | E30: =Insumos!E79 -> 208272 | F30: =ROUND(D30*E30, 2) -> 47919.22
B31: HERRAMIENTA MENOR % | C31: %MO | D31: 3 | E31: =F35 -> 15444.1 | F31: =ROUND(D31*E31/100, 2) -> 463.32
E32: Subtotal = | F32: =SUM(F30:F31) -> 48382.54
B33: MANO de OBRA:
B34: CUADRILLA 2 Ay | C34: Día | D34: 0.07104 | E34: =Básicos!F323 -> 217400 | F34: =ROUND(D34*E34, 2) -> 15444.1
E35: Subtotal = | F35: =SUM(F34:F34) -> 15444.1
E37: VR COSTO DIRECTO = | F37: =ROUND(SUM(F29:F35)/2, 0) -> 63827
B40: 1.03 Retiro sobrantes demoliciones | F40: UNIDAD: m3
B41: DESCRIPCIÓN | C41: UNIDAD | D41: CANT/ REND | E41: PRECIO UNITARIO | F41: VR PARCIAL
B42: EQUIPO y HERRAMIENTAS:
B43: HERRAMIENTA MENOR % | C43: %MO | D43: 3 | E43: =F50 -> 12804.86 | F43: =ROUND(D43*E43/100, 2) -> 384.15
E44: Subtotal = | F44: =SUM(F43:F43) -> 384.15
B45: TRANSPORTES:
B46: =Insumos!C112 -> VOLQUETA 7 m3 | C46: =Insumos!D112 -> Hr | D46: 0.4708 | E46: =Insumos!E112 -> 96839 | F46: =ROUND(D46*E46, 2) -> 45591.8
E47: Subtotal = | F47: =SUM(F46:F46) -> 45591.8
B48: MANO de OBRA:
...

Sheet Básicos
B2: PROYECTO: | C2: CONSTRUCCION OBRAS Y SUMINISTRO ASCENSOR DOS (2) PARADAS
B3: DESCRIPCIÓN: | C3: Suministro e instalación de ascensor de dos (2) paradas, incluyendo equipo completo, obras civiles,montaje, pruebas y puesta en funcionamiento conforme a normas vigentes.
B4: UBICACIÓN: | C4: Municipio de Aguachica, Dpto del Cesar.
B5: FECHA: | C5: Marzo de 2026
B6: DISTANCIA CANTERA AL MUNICIPIO DE AGUACHICA: | C6: 0
B8: ANÁLISIS DE PRECIOS UNITARIOS - BÁSICOS
B9: ANDAMIO TUBULAR CON TIJERA 1.50x1.50 m | F9: UNIDAD: Día
B10: DESCRIPCIÓN | C10: UNIDAD | D10: CANT/ REND | E10: PRECIO UNITARIO | F10: VR PARCIAL
B11: EQUIPO y HERRAMIENTAS:
B12: =Insumos!C91 -> MARCO ANDAMIO DE TIJERA 1.50x1.50 m | C12: =Insumos!D91 -> Día | D12: 2 | E12: =Insumos!E91 -> 735 | F12: =ROUND(D12*E12, 2) -> 1470
B13: =Insumos!C108 -> TIJERA DE ANDAMIO | C13: =Insumos!D108 -> Día | D13: 2 | E13: =Insumos!E108 -> 197 | F13: =ROUND(D13*E13, 2) -> 394
B14: =Insumos!C100 -> PLATAFORMA METÁLICA PARA ANDAMIO | C14: =Insumos!D100 -> Día | D14: 1 | E14: =Insumos!E100 -> 3539 | F14: =ROUND(D14*E14, 2) -> 3539
E15: Subtotal = | F15: =SUM(F12:F14) -> 5403
E17: VR UNITARIO = | F17: =ROUND(SUM(F11:F15)/2, 0) -> 5403
B20: CARRETA BUGGIE, PALA, BALDES | F20: UNIDAD: Un
B21: DESCRIPCIÓN | C21: UNIDAD | D21: CANT/ REND | E21: PRECIO UNITARIO | F21: VR PARCIAL
B22: EQUIPO y HERRAMIENTAS:
B23: =Insumos!C74 -> CARRETA LLANTA NEUMÁTICA | C23: =Insumos!D74 -> Un | D23: 1 | E23: =Insumos!E74 -> 364684 | F23: =ROUND(D23*E23, 2) -> 364684
B24: =Insumos!C96 -> PALA REDONDA CON CABO | C24: =Insumos!D96 -> Un | D24: 1 | E24: =Insumos!E96 -> 40559 | F24: =ROUND(D24*E24, 2) -> 40559
B25: =Insumos!C69 -> BALDE CONSTRUCCIÓN | C25: =Insumos!D69 -> Un | D25: 2 | E25: =Insumos!E69 -> 7292 | F25: =ROUND(D25*E25, 2) -> 14584
E26: Subtotal = | F26: =SUM(F23:F25) -> 419827
E28: VR UNITARIO = | F28: =ROUND(SUM(F22:F26)/2, 0) -> 419827
B31: HERRAMIENTAS PARA ALBAÑIL | F31: UNIDAD: Un
B32: DESCRIPCIÓN | C32: UNIDAD | D32: CANT/ REND | E32: PRECIO UNITARIO | F32: VR PARCIAL
B33: EQUIPO y HERRAMIENTAS:
B34: =Insumos!C65 -> ALMADANA 4 lb | C34: =Insumos!D65 -> Un | D34: 1 | E34: =Insumos!E65 -> 57954 | F34: =ROUND(D34*E34, 2) -> 57954
B35: =Insumos!C75 -> CINCEL 3/4" ACERO TEMPLADO | C35: =Insumos!D75 -> Un | D35: 1 | E35: =Insumos!E75 -> 35824 | F35: =ROUND(D35*E35, 2) -> 35824
B36: =Insumos!C97 -> PALUSTRE | C36: =Insumos!D97 -> Un | D36: 1 | E36: =Insumos!E97 -> 16707 | F36: =ROUND(D36*E36, 2) -> 16707
B37: =Insumos!C76 -> CINTA MÉTRICA x 5 m | C37: =Insumos!D76 -> Un | D37: 1 | E37: =Insumos!E76 -> 22753 | F37: =ROUND(D37*E37, 2) -> 22753
B38: =Insumos!C95 -> NIVEL DE BURBUJA | C38: =Insumos!D95 -> Un | D38: 1 | E38: =Insumos!E95 -> 52700 | F38: =ROUND(D38*E38, 2) -> 52700
B39: =Insumos!C88 -> MANGUERA DE NIVEL x 10 m | C39: =Insumos!D88 -> Un | D39: 1 | E39: =Insumos!E88 -> 5863 | F39: =ROUND(D39*E39, 2) -> 5863
B40: =Insumos!C101 -> PLOMADA | C40: =Insumos!D101 -> Un | D40: 1 | E40: =Insumos!E101 -> 22171 | F40: =ROUND(D40*E40, 2) -> 22171
B41: =Insumos!C92 -> MARCO SEGUETA FIJO | C41: =Insumos!D92 -> Un | D41: 1 | E41: =Insumos!E92 -> 35467 | F41: =ROUND(D41*E41, 2) -> 35467
B42: =Insumos!C104 -> SERRUCHO | C42: =Insumos!D104 -> Un | D42: 1 | E42: =Insumos!E104 -> 44567 | F42: =ROUND(D42*E42, 2) -> 44567
B43: =Insumos!C93 -> MARTILLO | C43: =Insumos!D93 -> Un | D43: 1 | E43: =Insumos!E93 -> 41506 | F43: =ROUND(D43*E43, 2) -> 41506
B44: =Insumos!C86 -> LIMA PLANA PARA USO GENERAL CON MANGO 8" | C44: =Insumos!D86 -> Un | D44: 1 | E44: =Insumos!E86 -> 26639 | F44: =ROUND(D44*E44, 2) -> 26639
E45: Subtotal = | F45: =SUM(F34:F44) -> 362151
E47: VR UNITARIO = | F47: =ROUND(SUM(F33:F45)/2, 0) -> 362151
B50: DOTACIÓN LABORAL | F50: UNIDAD: Un
B51: DESCRIPCIÓN | C51: UNIDAD | D51: CANT/ REND | E51: PRECIO UNITARIO | F51: VR PARCIAL
...

Sheet Insumos
B2: PROYECTO: | C2: CONSTRUCCION OBRAS Y SUMINISTRO ASCENSOR DOS (2) PARADAS
B3: DESCRIPCIÓN: | C3: Suministro e instalación de ascensor de dos (2) paradas, incluyendo equipo completo, obras civiles,montaje, pruebas y puesta en funcionamiento conforme a normas vigentes.
B4: UBICACIÓN: | C4: Municipio de Aguachica, Dpto del Cesar.
B5: FECHA: | C5: Marzo de 2026
B7: LISTA DE MATERIALES, EQUIPO y HERRAMIENTAS, JORNALES
B8: TIPO | C8: DESCRIPCIÓN | D8: UNIDAD | E8: PRECIO UNITARIO | F8: CANTIDAD | G8: VR PARCIAL
B9: MATERIALES | C9: ACERO Fy= 420 MPa | D9: Kg | E9: 4380 | F9: 1123.2 | G9: =ROUND(E9*F9, 2) -> 4919615.8 | J9: https://www.homecenter.com.co/homecenter-co/product/43274/chipa-3-8-pulgadas-1-kilo/43274/
C10: ACERO PARA ESTRUCTURA METÁLICA | D10: Kg | E10: 7782 | F10: 4163.4598 | G10: =ROUND(E10*F10, 2) -> 32400044 | J10: https://www.homecenter.com.co/homecenter-co/product/3000728/perfil-c-g40-150-x-50-x-15mm-x-6m-galvanizado/3000728/
C11: ACPM | D11: Gal | E11: 11064 | F11: 0.033750001 | G11: =ROUND(E11*F11, 2) -> 373.41 | J11: Peso del perfil= 2.9 kg/m
C12: AGUA | D12: Lt | E12: 81 | F12: 2176.4883 | G12: =ROUND(E12*F12, 2) -> 176295.55
C13: ALAMBRE NEGRO Cal. 18 | D13: Kg | E13: 6500 | F13: 32.399999 | G13: =ROUND(E13*F13, 2) -> 210600
C14: ALUMOL (Pintura reflectiva de aluminio) | D14: Kg | E14: 61090 | F14: 0.41250001 | G14: =ROUND(E14*F14, 2) -> 25199.63
C15: ANTISOL BLANCO (Curador para concreto y mortero base agua) | D15: Kg | E15: 10481 | F15: 16.468 | G15: =ROUND(E15*F15, 2) -> 172601.11
C16: ARENA | D16: m3 | E16: =70000*1.19 -> 83300 | F16: 6.1815956 | G16: =ROUND(E16*F16, 2) -> 514926.91 | J16: PAVIMENTOS EL DORADO 2026
C17: BOTAS DE SEGURIDAD | D17: Par | E17: 111344 | F17: 4.3377671 | G17: =ROUND(E17*F17, 2) -> 482984.33
C18: CAMISA DE TRABAJO | D18: Un | E18: 27337 | F18: 4.3377671 | G18: =ROUND(E18*F18, 2) -> 118581.54
C19: CANAL 90 0.43 mm x 2.44 m | D19: Un | E19: 9560 | F19: 11.968 | G19: =ROUND(E19*F19, 2) -> 114414.08
C20: CARETA PARA SOLDAR CON VISOR | D20: Un | E20: 46051 | F20: 0.66084025 | G20: =ROUND(E20*F20, 2) -> 30432.35
C21: CASCO DE SEGURIDAD | D21: Un | E21: 42768 | F21: 3.6769268 | G21: =ROUND(E21*F21, 2) -> 157254.81
C22: CEMENTO GRIS | D22: Kg | E22: 652 | F22: 3825.5532 | G22: =ROUND(E22*F22, 2) -> 2494260.7 | J22: https://www.homecenter.com.co/homecenter-co/product/13846/cemento-argos-gris-50kg/13846/
C23: CHALECO REFLECTIVO | D23: Un | E23: 35331 | F23: 3.6769268 | G23: =ROUND(E23*F23, 2) -> 129909.5
C24: CHAZO CON TORNILLO 12-14 x 2" | D24: Un | E24: 788 | F24: 54 | G24: =ROUND(E24*F24, 2) -> 42552
C25: CINTA DE SEÑALIZACIÓN a=7 cm | D25: m | E25: 203 | F25: 13.5 | G25: =ROUND(E25*F25, 2) -> 2740.5
C26: DISOLVENTE | D26: Gal | E26: 65158 | F26: 3.9861252 | G26: =ROUND(E26*F26, 2) -> 259727.95
C27: DISTANCIADOR DE CONCRETO | D27: Un | E27: 736 | F27: 162.00001 | G27: =ROUND(E27*F27, 2) -> 119232
C28: GAFAS DE SEGURIDAD | D28: Un | E28: 8658 | F28: 3.6769268 | G28: =ROUND(E28*F28, 2) -> 31834.83
C29: GORRO LEGIONARIO SOLDADOR | D29: Un | E29: 54604 | F29: 0.66084025 | G29: =ROUND(E29*F29, 2) -> 36084.52
C30: GUADUA SOBRE BASA | D30: Un | E30: 6040 | F30: 0.20250001 | G30: =ROUND(E30*F30, 2) -> 1223.1
C31: GUANTES DE VINILO | D31: Par | E31: 955 | F31: 1.1895601 | G31: =ROUND(E31*F31, 2) -> 1136.03
C32: GUANTES SOLDADOR DE CARNAZA | D32: Par | E32: 56549 | F32: 0.66084025 | G32: =ROUND(E32*F32, 2) -> 37369.86
C33: GUANTES VAQUETA | D33: Par | E33: 13703 | F33: 3.6769268 | G33: =ROUND(E33*F33, 2) -> 50384.93
C34: LISTÓN 1" x 2" | D34: m | E34: 1482 | F34: 0.45225002 | G34: =ROUND(E34*F34, 2) -> 670.23
... C57: TORNILLO SUPERBOARD AVELLANADO PUNTA AGUDA 6x7/8" | D57: Un | E57: 289 | F57: 809.6 | G57: =ROUND(E57*F57, 2) -> 233974.4
C58: TRITURADO DE 3/4" | D58: m3 | E58: =95000*1.19 -> 113050 | F58: 5.8267893 | G58: =ROUND(E58*F58, 2) -> 658718.53 | J58: PAVIMENTOS EL DORADO 2026
C59: ASCENSOR Gen2 Regen-EXT S. - Capacidad 6 PERSONAS, 450 Kg (2 Paradas) | D59: Un | E59: 102600000 | F59: 1 | G59: =ROUND(E59*F59, 2) -> 102600000
C60: CINTA WATERBAR PVC O 22 PARA JUNTAS | D60: Ml | E60: 50000 | F60: 9.8948156 | G60: =ROUND(E60*F60, 2) -> 494740.78
C61: PLACA DE MARMOL CALIDAD JASPE NACIONAL A=0.60m, E=0.07m | D61: m2 | E61: 750000 | F61: 21.839999 | G61: =ROUND(E61*F61, 2) -> 16379999
C62: REFRAGUE CON CONCOLOR COLOR BLANCO | D62: m | E62: 3000 | F62: 10.4 | G62: =ROUND(E62*F62, 2) -> 31200
C63: VENTANA EN ALUMINIO CORREDIZA CON VIDRIO DE 10 mm | D63: Sub/m2 | E63: 700039 | F63: 54 | G63: =ROUND(E63*F63, 2) -> 37802106
C64: SIKA PISO DECOR gris | D64: Kg | E64: 9500 | F64: 0.45000002 | G64: =ROUND(E64*F64, 2) -> 4275
...

Sheet G_Obra
B2: PROYECTO: | C2: CONSTRUCCION OBRAS Y SUMINISTRO ASCENSOR DOS (2) PARADAS
B3: DESCRIPCIÓN: | C3: Suministro e instalación de ascensor de dos (2) paradas, incluyendo equipo completo, obras civiles,montaje, pruebas y puesta en funcionamiento conforme a normas vigentes.
B4: UBICACIÓN: | C4: Municipio de Aguachica, Dpto del Cesar.
B5: FECHA: | C5: Marzo de 2026
B7: MEMORIA DE CANTIDADES
B9: 1.01 Corte de piso y/o andén con máquina; profundidad mínima 4.0 cm | J9: UNIDAD: m
B10: OBSERVACIONES | C10: NIVEL | D10: EJE | E10: TRAMO | F10: TIPO | G10: LARGO | H10: ANCHO | I10: ALTO | J10: PIEZAS | K10: CANTIDAD
B11: CORTE FOSO ASCENSOR | G11: 1.6 | J11: 4 | K11: =ROUND(G11*J11,2) -> 6.4
J13: TOTAL = | K13: =ROUND(SUM(K11:K11),2) -> 6.4
B24: 1.02 Demolición de piso y/o andén en concreto. espesor = 0.10 a 0.15m | J24: UNIDAD: m3
B25: OBSERVACIONES | C25: NIVEL | D25: EJE | E25: TRAMO | F25: TIPO | G25: LARGO | H25: ANCHO | I25: ALTO | J25: PIEZAS | K25: CANTIDAD
B26: EDIFICACION | G26: 1.6 | H26: 1.6 | J26: 1 | K26: =ROUND(G26*H26*J26,2) -> 2.56
J28: TOTAL = | K28: =ROUND(SUM(K26:K26),2) -> 2.56
B39: 1.03 Retiro sobrantes demoliciones | J39: UNIDAD: m3
B40: OBSERVACIONES | C40: NIVEL | D40: EJE | E40: TRAMO | F40: TIPO | G40: LARGO | H40: ANCHO | I40: ALTO | J40: PIEZAS | K40: CANTIDAD
B41: ESCOMBROS DE DEMOLICIÓN DE PISO EN CONCRETO | G41: 3 | H41: 3 | I41: 0.15 | K41: =ROUND(G41*H41*I41,2) -> 1.35
J43: TOTAL = | K43: =ROUND(SUM(K41:K41),2) -> 1.35
B54: 2.01 Excavacion manual en material común, profundida maxima 2.00 m | J54: UNIDAD: m3
B55: OBSERVACIONES | C55: NIVEL | D55: EJE | E55: TRAMO | F55: TIPO | G55: LARGO | H55: ANCHO | I55: ALTO | J55: PIEZAS | K55: CANTIDAD
B56: FOSO ASCENSOR | G56: 1.6 | H56: 1.6 | I56: 1.5 | J56: 1 | K56: =ROUND(G56*H56*I56*J56,2) -> 3.84
J58: TOTAL = | K58: =ROUND(SUM(K56:K56),2) -> 3.84
B69: 2.02 Retiro sobrantes. volumen compacto | J69: UNIDAD: m3
B70: OBSERVACIONES | C70: NIVEL | D70: EJE | E70: TRAMO | F70: TIPO | G70: LARGO | H70: ANCHO | I70: ALTO | J70: PIEZAS | K70: CANTIDAD
B71: EXCAVACIONES | G71: 1.6 | H71: 1.6 | I71: 1.5 | J71: 1 | K71: =ROUND(G71*H71*I71*J71,2) -> 3.84
J73: TOTAL = | K73: =ROUND(SUM(K71:K71),2) -> 3.84
B84: 3.01 Concreto para solados, f'c = 2.500 psi. | J84: UNIDAD: m3
B85: OBSERVACIONES | C85: NIVEL | D85: EJE | E85: TRAMO | F85: TIPO | G85: LARGO | H85: ANCHO | I85: ALTO | J85: PIEZAS | K85: CANTIDAD
B86: FOSO ASCENSOR | G86: 1.6 | H86: 1.6 | I86: 0.1 | J86: 1 | K86: =ROUND(G86*H86*I86*J86,2) -> 0.26
J88: TOTAL = | K88: =ROUND(SUM(K86:K86),2) -> 0.26
B99: 3.02 Losa foso del ascensor en concreto f'c = 4.000 psi impermeabilizado. inluye cinta waterbar pvc o 22 para junta, encofrado, vibrado y curado | J99: UNIDAD: m3
B100: OBSERVACIONES | C100: NIVEL | D100: EJE | E100: TRAMO | F100: TIPO | G100: LARGO | H100: ANCHO | I100: ALTO | J100: PIEZAS | K100: CANTIDAD
B101: PLACA INFERIOR | G101: 2.5 | H101: 2.5 | I101: 0.3 | J101: 1 | K101: =ROUND(G101*H101*I101*J101,2) -> 1.88
J103: TOTAL = | K103: =ROUND(SUM(K101:K101),2) -> 1.88
B114: 3.03 Muros y vigas foso del ascensor en concreto f'c = 4.000 psi impermeabilizado. incluye vibrado y curado. según diseños | J114: UNIDAD: m3
B115: OBSERVACIONES | C115: NIVEL | D115: EJE | E115: TRAMO | F115: TIPO | G115: LARGO | H115: ANCHO | I115: ALTO | J115: PIEZAS | K115: CANTIDAD
B116: MUROS PERIMETRALES 1 | G116: 1.6 | H116: 0.3 | I116: 1 | J116: 2 | K116: =ROUND(G116*H116*I116*J116,2) -> 0.96
B117: MUROS PERIMETRALES 2 | G117: 2.2 | H117: 0.3 | I117: 1 | J117: 2 | K117: =ROUND(G117*H117*I117*J117,2) -> 1.32
B118: VIGAS CORONA 1 | G118: 1.6 | H118: 0.3 | I118: 0.4 | J118: 2 | K118: =ROUND(G118*H118*I118*J118,2) -> 0.38
B119: VIGAS CORONA 2 | G119: 2.25 | H119: 0.3 | I119: 0.4 | J119: 2 | K119: =ROUND(G119*H119*I119*J119,2) -> 0.54
J121: TOTAL = | K121: =ROUND(SUM(K116:K119),2) -> 3.2
...
