Workbook

Sheet Matriz de Riesgos Contratacion
G6: ANEXO 3 : MATRIZ DE IDENTIFICACIÓN, EVALUACIÓN Y TRATAMIENTO DE RIESGOS EN PROCESOS CONTRACTUALES
J7: TIPOLOGIA CONTRACTUAL: | P7: CONTRATO DE COMPRAVENTA
G10: OBJETO
G11: Adquirir e instalar mobiliario para el área del comedor del restaurante de las instalaciones de calle 72 de la Universidad Pedagógica Nacional
A17: IDENTIFICACIÓN | H17: EVALUACIÓN | P17: TRATAMIENTO
A18: 1. Número | B18: 2. Clase | C18: 3. Fuente | D18: 4. Etapa | E18: 5. Tipo | F18: 6. Descripción | H18: 7. Consecuencia de la ocurrencia del evento | J18: 8. Probabilidad | L18: 9. Impacto | N18: 10. Valoración | O18: 11. Categoría | P18: 12. ¿A quién se le asigna? | Q18: 13. Tratamiento / Control a ser implementado | S18: Impacto después del tratamiento | Y18: 18. ¿Afecta la ejecución del contrato? | Z18: 19. Responsable por implementar el tratamiento | AA18: 20. Fecha estimada en que se inicia el tratamiento | AB18: 21. Fecha estimada en que se completa el tratamiento | AC18: Monitoreo y revisión
S19: 14. Probabilidad | U19: 15. Impacto | W19: 16. Valoración | X19: 17. Categoría | AC19: 22. ¿Cómo se realiza el monitoreo? | AD19: 23. Periodicidad
A20: =+Hoja1!A2 -> 1 | B20: =+Hoja1!B2 -> Específico | C20: =+Hoja1!C2 -> Externo | D20: =+Hoja1!D2 -> Ejecución | E20: =+Hoja1!E2 -> Operacional | F20: =+Hoja1!F2 -> Incumplimiento en los tiempos de entrega e instalación del mobiliario | H20: =+Hoja1!G2 -> Retrasos en la puesta en funcionamiento del restaurante | J20: =+Hoja1!H2 -> 3 | K20: =IF(J20=1,"Raro (puede ocurrir excepcionalmente",IF(J20=2,"Improbable (puede ocurrir ocasionalmente)",IF(J20=3,"Posible (puede ocurrrir en cualquier momento)",IF(J20=4,"Probable (probablemente va a ocurrir","Casi cierto")))) -> Posible (puede ocurrrir en cualquier momento) | L20: =+Hoja1!I2 -> 4 | M20: =IF(L20=1,"INSIGNIFICANTE",IF(L20=2,"MENOR",IF(L20=3,"MODERADO",IF(L20=4,"MAYOR","CATASTRÓFICO")))) -> MAYOR | N20: =+J20+L20 -> 7 | O20: =IF(N20<=4,"Riesgo Bajo",IF(N20<=5,"Riesgo Medio",IF(N20<=7,"Riesgo Alto",IF(N20<=10,"Riesgo Extremo","No Disponible")))) -> Riesgo Alto | P20: =+Hoja1!L2 -> Contratista 100% | Q20: =+Hoja1!M2 -> Seguimiento mediante cronograma y control periódico de avances | S20: =+Hoja1!N2 -> 2 | T20: =IF(S20=1,"Raro (puede ocurrir excepcionalmente",IF(S20=2,"Improbable (puede ocurrir ocasionalmente)",IF(S20=3,"Posible (puede ocurrrir en cualquier momento)",IF(S20=4,"Probable (probablemente va a ocurrir","Casi cierto")))) -> Improbable (puede ocurrir ocasionalmente) | U20: =+Hoja1!O2 -> 2 | V20: =IF(U20=1,"INSIGNIFICANTE",IF(U20=2,"MENOR",IF(U20=3,"MODERADO",IF(U20=4,"MAYOR","CATASTRÓFICO")))) -> MENOR | W20: =+S20+U20 -> 4 | X20: =IF(W20<=4,"Riesgo Bajo",IF(W20<=5,"Riesgo Medio",IF(W20<=7,"Riesgo Alto",IF(W20<=10,"Riesgo Extremo","No Disponible")))) -> Riesgo Bajo | Y20: =+Hoja1!R2 -> Sí | Z20: =+Hoja1!S2 -> Contratista 100% | AA20: =+Hoja1!T2 -> Acta de inicio | AB20: =+Hoja1!U2 -> Terminación | AC20: =+Hoja1!T2 -> Acta de inicio | AD20: =+Hoja1!W2 -> Permanente
A21: =+Hoja1!A3 -> 2 | B21: =+Hoja1!B3 -> Específico | C21: =+Hoja1!C3 -> Externo | D21: =+Hoja1!D3 -> Ejecución | E21: =+Hoja1!E3 -> Técnico | F21: =+Hoja1!F3 -> Entrega de mobiliario que no cumpla las especificaciones técnicas | H21: =+Hoja1!G3 -> Rechazo de bienes y retrasos en la ejecución | J21: =+Hoja1!H3 -> 2 | K21: =IF(J21=1,"Raro (puede ocurrir excepcionalmente",IF(J21=2,"Improbable (puede ocurrir ocasionalmente)",IF(J21=3,"Posible (puede ocurrrir en cualquier momento)",IF(J21=4,"Probable (probablemente va a ocurrir","Casi cierto")))) -> Improbable (puede ocurrir ocasionalmente) | L21: =+Hoja1!I3 -> 4 | M21: =IF(L21=1,"INSIGNIFICANTE",IF(L21=2,"MENOR",IF(L21=3,"MODERADO",IF(L21=4,"MAYOR","CATASTRÓFICO")))) -> MAYOR | N21: =+J21+L21 -> 6 | O21: =IF(N21<=4,"Riesgo Bajo",IF(N21<=5,"Riesgo Medio",IF(N21<=7,"Riesgo Alto",IF(N21<=10,"Riesgo Extremo","No Disponible")))) -> Riesgo Alto | P21: =+Hoja1!L3 -> Contratista 100% | Q21: =+Hoja1!M3 -> Validación de fichas técnicas y verificación previa al recibo | S21: =+Hoja1!N3 -> 1 | T21: =IF(S21=1,"Raro (puede ocurrir excepcionalmente",IF(S21=2,"Improbable (puede ocurrir ocasionalmente)",IF(S21=3,"Posible (puede ocurrrir en cualquier momento)",IF(S21=4,"Probable (probablemente va a ocurrir","Casi cierto")))) -> Raro (puede ocurrir excepcionalmente | U21: =+Hoja1!O3 -> 2 | V21: =IF(U21=1,"INSIGNIFICANTE",IF(U21=2,"MENOR",IF(U21=3,"MODERADO",IF(U21=4,"MAYOR","CATASTRÓFICO")))) -> MENOR | W21: =+S21+U21 -> 3 | X21: =IF(W21<=4,"Riesgo Bajo",IF(W21<=5,"Riesgo Medio",IF(W21<=7,"Riesgo Alto",IF(W21<=10,"Riesgo Extremo","No Disponible")))) -> Riesgo Bajo | Y21: =+Hoja1!R3 -> Sí | Z21: =+Hoja1!S3 -> Contratista 100% | AA21: =+Hoja1!T3 -> Inicio suministro | AB21: =+Hoja1!U3 -> Recibo final | AC21: =+Hoja1!T3 -> Inicio suministro | AD21: =+Hoja1!W3 -> Permanente
A22: =+Hoja1!A4 -> 3 | B22: =+Hoja1!B4 -> Específico | C22: =+Hoja1!C4 -> Externo | D22: =+Hoja1!D4 -> Ejecución | E22: =+Hoja1!E4 -> Operacional | F22: =+Hoja1!F4 -> Daños al mobiliario durante transporte e instalación | H22: =+Hoja1!G4 -> Reposición de bienes y retrasos | J22: =+Hoja1!H4 -> 3 | K22: =IF(J22=1,"Raro (puede ocurrir excepcionalmente",IF(J22=2,"Improbable (puede ocurrir ocasionalmente)",IF(J22=3,"Posible (puede ocurrrir en cualquier momento)",IF(J22=4,"Probable (probablemente va a ocurrir","Casi cierto")))) -> Posible (puede ocurrrir en cualquier momento) | L22: =+Hoja1!I4 -> 3 | M22: =IF(L22=1,"INSIGNIFICANTE",IF(L22=2,"MENOR",IF(L22=3,"MODERADO",IF(L22=4,"MAYOR","CATASTRÓFICO")))) -> MODERADO | N22: =+J22+L22 -> 6 | O22: =IF(N22<=4,"Riesgo Bajo",IF(N22<=5,"Riesgo Medio",IF(N22<=7,"Riesgo Alto",IF(N22<=10,"Riesgo Extremo","No Disponible")))) -> Riesgo Alto | P22: =+Hoja1!L4 -> Contratista 100% | Q22: =+Hoja1!M4 -> Embalaje adecuado y transporte especializado | S22: =+Hoja1!N4 -> 1 | T22: =IF(S22=1,"Raro (puede ocurrir excepcionalmente",IF(S22=2,"Improbable (puede ocurrir ocasionalmente)",IF(S22=3,"Posible (puede ocurrrir en cualquier momento)",IF(S22=4,"Probable (probablemente va a ocurrir","Casi cierto")))) -> Raro (puede ocurrir excepcionalmente | U22: =+Hoja1!O4 -> 2 | V22: =IF(U22=1,"INSIGNIFICANTE",IF(U22=2,"MENOR",IF(U22=3,"MODERADO",IF(U22=4,"MAYOR","CATASTRÓFICO")))) -> MENOR | W22: =+S22+U22 -> 3 | X22: =IF(W22<=4,"Riesgo Bajo",IF(W22<=5,"Riesgo Medio",IF(W22<=7,"Riesgo Alto",IF(W22<=10,"Riesgo Extremo","No Disponible")))) -> Riesgo Bajo | Y22: =+Hoja1!R4 -> Sí | Z22: =+Hoja1!S4 -> Contratista 100% | AA22: =+Hoja1!T4 -> Inicio contrato | AB22: =+Hoja1!U4 -> Terminación | AC22: =+Hoja1!T4 -> Inicio contrato | AD22: =+Hoja1!W4 -> Permanente
A23: =+Hoja1!A5 -> 4 | B23: =+Hoja1!B5 -> Específico | C23: =+Hoja1!C5 -> Externo | D23: =+Hoja1!D5 -> Ejecución | E23: =+Hoja1!E5 -> Operacional | F23: =+Hoja1!F5 -> Retrasos por falta de materiales o insumos | H23: =+Hoja1!G5 -> Incumplimiento del cronograma | J23: =+Hoja1!H5 -> 3 | K23: =IF(J23=1,"Raro (puede ocurrir excepcionalmente",IF(J23=2,"Improbable (puede ocurrir ocasionalmente)",IF(J23=3,"Posible (puede ocurrrir en cualquier momento)",IF(J23=4,"Probable (probablemente va a ocurrir","Casi cierto")))) -> Posible (puede ocurrrir en cualquier momento) | L23: =+Hoja1!I5 -> 3 | M23: =IF(L23=1,"INSIGNIFICANTE",IF(L23=2,"MENOR",IF(L23=3,"MODERADO",IF(L23=4,"MAYOR","CATASTRÓFICO")))) -> MODERADO | N23: =+J23+L23 -> 6 | O23: =IF(N23<=4,"Riesgo Bajo",IF(N23<=5,"Riesgo Medio",IF(N23<=7,"Riesgo Alto",IF(N23<=10,"Riesgo Extremo","No Disponible")))) -> Riesgo Alto | P23: =+Hoja1!L5 -> Contratista 100% | Q23: =+Hoja1!M5 -> Planeación de compras y abastecimiento | S23: =+Hoja1!N5 -> 2 | T23: =IF(S23=1,"Raro (puede ocurrir excepcionalmente",IF(S23=2,"Improbable (puede ocurrir ocasionalmente)",IF(S23=3,"Posible (puede ocurrrir en cualquier momento)",IF(S23=4,"Probable (probablemente va a ocurrir","Casi cierto")))) -> Improbable (puede ocurrir ocasionalmente) | U23: =+Hoja1!O5 -> 2 | V23: =IF(U23=1,"INSIGNIFICANTE",IF(U23=2,"MENOR",IF(U23=3,"MODERADO",IF(U23=4,"MAYOR","CATASTRÓFICO")))) -> MENOR | W23: =+S23+U23 -> 4 | X23: =IF(W23<=4,"Riesgo Bajo",IF(W23<=5,"Riesgo Medio",IF(W23<=7,"Riesgo Alto",IF(W23<=10,"Riesgo Extremo","No Disponible")))) -> Riesgo Bajo | Y23: =+Hoja1!R5 -> Sí | Z23: =+Hoja1!S5 -> Contratista 100% | AA23: =+Hoja1!T5 -> Inicio contrato | AB23: =+Hoja1!U5 -> Terminación | AC23: =+Hoja1!T5 -> Inicio contrato | AD23: =+Hoja1!W5 -> Semanal
A24: =+Hoja1!A6 -> 5 | B24: =+Hoja1!B6 -> Específico | C24: =+Hoja1!C6 -> Externo | D24: =+Hoja1!D6 -> Ejecución | E24: =+Hoja1!E6 -> SST | F24: =+Hoja1!F6 -> Accidentes laborales durante la instalación | H24: =+Hoja1!G6 -> Suspensión de actividades y sanciones | J24: =+Hoja1!H6 -> 2 | K24: =IF(J24=1,"Raro (puede ocurrir excepcionalmente",IF(J24=2,"Improbable (puede ocurrir ocasionalmente)",IF(J24=3,"Posible (puede ocurrrir en cualquier momento)",IF(J24=4,"Probable (probablemente va a ocurrir","Casi cierto")))) -> Improbable (puede ocurrir ocasionalmente) | L24: =+Hoja1!I6 -> 5 | M24: =IF(L24=1,"INSIGNIFICANTE",IF(L24=2,"MENOR",IF(L24=3,"MODERADO",IF(L24=4,"MAYOR","CATASTRÓFICO")))) -> CATASTRÓFICO | N24: =+J24+L24 -> 7 | O24: =IF(N24<=4,"Riesgo Bajo",IF(N24<=5,"Riesgo Medio",IF(N24<=7,"Riesgo Alto",IF(N24<=10,"Riesgo Extremo","No Disponible")))) -> Riesgo Alto | P24: =+Hoja1!L6 -> Contratista 100% | Q24: =+Hoja1!M6 -> Implementación SG-SST y uso de EPP | S24: =+Hoja1!N6 -> 1 | T24: =IF(S24=1,"Raro (puede ocurrir excepcionalmente",IF(S24=2,"Improbable (puede ocurrir ocasionalmente)",IF(S24=3,"Posible (puede ocurrrir en cualquier momento)",IF(S24=4,"Probable (probablemente va a ocurrir","Casi cierto")))) -> Raro (puede ocurrir excepcionalmente | U24: =+Hoja1!O6 -> 2 | V24: =IF(U24=1,"INSIGNIFICANTE",IF(U24=2,"MENOR",IF(U24=3,"MODERADO",IF(U24=4,"MAYOR","CATASTRÓFICO")))) -> MENOR | W24: =+S24+U24 -> 3 | X24: =IF(W24<=4,"Riesgo Bajo",IF(W24<=5,"Riesgo Medio",IF(W24<=7,"Riesgo Alto",IF(W24<=10,"Riesgo Extremo","No Disponible")))) -> Riesgo Bajo | Y24: =+Hoja1!R6 -> Sí | Z24: =+Hoja1!S6 -> Contratista 100% | AA24: =+Hoja1!T6 -> Acta de inicio | AB24: =+Hoja1!U6 -> Terminación | AC24: =+Hoja1!T6 -> Acta de inicio | AD24: =+Hoja1!W6 -> Permanente
A25: =+Hoja1!A7 -> 6 | B25: =+Hoja1!B7 -> Específico | C25: =+Hoja1!C7 -> Compartido | D25: =+Hoja1!D7 -> Ejecución | E25: =+Hoja1!E7 -> Operacional | F25: =+Hoja1!F7 -> Afectación a actividades académicas y administrativas | H25: =+Hoja1!G7 -> Interrupciones en la operación de la Universidad | J25: =+Hoja1!H7 -> 2 | K25: =IF(J25=1,"Raro (puede ocurrir excepcionalmente",IF(J25=2,"Improbable (puede ocurrir ocasionalmente)",IF(J25=3,"Posible (puede ocurrrir en cualquier momento)",IF(J25=4,"Probable (probablemente va a ocurrir","Casi cierto")))) -> Improbable (puede ocurrir ocasionalmente) | L25: =+Hoja1!I7 -> 3 | M25: =IF(L25=1,"INSIGNIFICANTE",IF(L25=2,"MENOR",IF(L25=3,"MODERADO",IF(L25=4,"MAYOR","CATASTRÓFICO")))) -> MODERADO | N25: =+J25+L25 -> 5 | O25: =IF(N25<=4,"Riesgo Bajo",IF(N25<=5,"Riesgo Medio",IF(N25<=7,"Riesgo Alto",IF(N25<=10,"Riesgo Extremo","No Disponible")))) -> Riesgo Medio | P25: =+Hoja1!L7 -> Compartido 50%-50% | Q25: =+Hoja1!M7 -> Coordinación previa de horarios y áreas de trabajo | S25: =+Hoja1!N7 -> 1 | T25: =IF(S25=1,"Raro (puede ocurrir excepcionalmente",IF(S25=2,"Improbable (puede ocurrir ocasionalmente)",IF(S25=3,"Posible (puede ocurrrir en cualquier momento)",IF(S25=4,"Probable (probablemente va a ocurrir","Casi cierto")))) -> Raro (puede ocurrir excepcionalmente | U25: =+Hoja1!O7 -> 2 | V25: =IF(U25=1,"INSIGNIFICANTE",IF(U25=2,"MENOR",IF(U25=3,"MODERADO",IF(U25=4,"MAYOR","CATASTRÓFICO")))) -> MENOR | W25: =+S25+U25 -> 3 | X25: =IF(W25<=4,"Riesgo Bajo",IF(W25<=5,"Riesgo Medio",IF(W25<=7,"Riesgo Alto",IF(W25<=10,"Riesgo Extremo","No Disponible")))) -> Riesgo Bajo | Y25: =+Hoja1!R7 -> Sí | Z25: =+Hoja1!S7 -> Universidad y Contratista | AA25: =+Hoja1!T7 -> Inicio instalación | AB25: =+Hoja1!U7 -> Terminación | AC25: =+Hoja1!T7 -> Inicio instalación | AD25: =+Hoja1!W7 -> Permanente
A26: =+Hoja1!A8 -> 7 | B26: =+Hoja1!B8 -> Específico | C26: =+Hoja1!C8 -> Externo | D26: =+Hoja1!D8 -> Ejecución | E26: =+Hoja1!E8 -> Calidad | F26: =+Hoja1!F8 -> Deterioro prematuro del mobiliario por baja calidad | H26: =+Hoja1!G8 -> Afectación de la vida útil de los bienes | J26: =+Hoja1!H8 -> 2 | K26: =IF(J26=1,"Raro (puede ocurrir excepcionalmente",IF(J26=2,"Improbable (puede ocurrir ocasionalmente)",IF(J26=3,"Posible (puede ocurrrir en cualquier momento)",IF(J26=4,"Probable (probablemente va a ocurrir","Casi cierto")))) -> Improbable (puede ocurrir ocasionalmente) | L26: =+Hoja1!I8 -> 4 | M26: =IF(L26=1,"INSIGNIFICANTE",IF(L26=2,"MENOR",IF(L26=3,"MODERADO",IF(L26=4,"MAYOR","CATASTRÓFICO")))) -> MAYOR | N26: =+J26+L26 -> 6 | O26: =IF(N26<=4,"Riesgo Bajo",IF(N26<=5,"Riesgo Medio",IF(N26<=7,"Riesgo Alto",IF(N26<=10,"Riesgo Extremo","No Disponible")))) -> Riesgo Alto | P26: =+Hoja1!L8 -> Contratista 100% | Q26: =+Hoja1!M8 -> Exigir garantías y certificados de calidad | S26: =+Hoja1!N8 -> 1 | T26: =IF(S26=1,"Raro (puede ocurrir excepcionalmente",IF(S26=2,"Improbable (puede ocurrir ocasionalmente)",IF(S26=3,"Posible (puede ocurrrir en cualquier momento)",IF(S26=4,"Probable (probablemente va a ocurrir","Casi cierto")))) -> Raro (puede ocurrir excepcionalmente | U26: =+Hoja1!O8 -> 2 | V26: =IF(U26=1,"INSIGNIFICANTE",IF(U26=2,"MENOR",IF(U26=3,"MODERADO",IF(U26=4,"MAYOR","CATASTRÓFICO")))) -> MENOR | W26: =+S26+U26 -> 3 | X26: =IF(W26<=4,"Riesgo Bajo",IF(W26<=5,"Riesgo Medio",IF(W26<=7,"Riesgo Alto",IF(W26<=10,"Riesgo Extremo","No Disponible")))) -> Riesgo Bajo | Y26: =+Hoja1!R8 -> Sí | Z26: =+Hoja1!S8 -> Contratista 100% | AA26: =+Hoja1!T8 -> Recepción bienes | AB26: =+Hoja1!U8 -> Fin garantía | AC26: =+Hoja1!T8 -> Recepción bienes | AD26: =+Hoja1!W8 -> Trimestral
A27: =+Hoja1!A9 -> 8 | B27: =+Hoja1!B9 -> Específico | C27: =+Hoja1!C9 -> Externo | D27: =+Hoja1!D9 -> Ejecución | E27: =+Hoja1!E9 -> Operacional | F27: =+Hoja1!F9 -> Incumplimiento en entrega de garantías y documentación técnica | H27: =+Hoja1!G9 -> Dificultad para recibo y liquidación | J27: =+Hoja1!H9 -> 2 | K27: =IF(J27=1,"Raro (puede ocurrir excepcionalmente",IF(J27=2,"Improbable (puede ocurrir ocasionalmente)",IF(J27=3,"Posible (puede ocurrrir en cualquier momento)",IF(J27=4,"Probable (probablemente va a ocurrir","Casi cierto")))) -> Improbable (puede ocurrir ocasionalmente) | L27: =+Hoja1!I9 -> 3 | M27: =IF(L27=1,"INSIGNIFICANTE",IF(L27=2,"MENOR",IF(L27=3,"MODERADO",IF(L27=4,"MAYOR","CATASTRÓFICO")))) -> MODERADO | N27: =+J27+L27 -> 5 | O27: =IF(N27<=4,"Riesgo Bajo",IF(N27<=5,"Riesgo Medio",IF(N27<=7,"Riesgo Alto",IF(N27<=10,"Riesgo Extremo","No Disponible")))) -> Riesgo Medio | P27: =+Hoja1!L9 -> Contratista 100% | Q27: =+Hoja1!M9 -> Control documental previo al recibo final | S27: =+Hoja1!N9 -> 1 | T27: =IF(S27=1,"Raro (puede ocurrir excepcionalmente",IF(S27=2,"Improbable (puede ocurrir ocasionalmente)",IF(S27=3,"Posible (puede ocurrrir en cualquier momento)",IF(S27=4,"Probable (probablemente va a ocurrir","Casi cierto")))) -> Raro (puede ocurrir excepcionalmente | U27: =+Hoja1!O9 -> 2 | V27: =IF(U27=1,"INSIGNIFICANTE",IF(U27=2,"MENOR",IF(U27=3,"MODERADO",IF(U27=4,"MAYOR","CATASTRÓFICO")))) -> MENOR | W27: =+S27+U27 -> 3 | X27: =IF(W27<=4,"Riesgo Bajo",IF(W27<=5,"Riesgo Medio",IF(W27<=7,"Riesgo Alto",IF(W27<=10,"Riesgo Extremo","No Disponible")))) -> Riesgo Bajo | Y27: =+Hoja1!R9 -> Sí | Z27: =+Hoja1!S9 -> Contratista 100% | AA27: =+Hoja1!T9 -> Inicio contrato | AB27: =+Hoja1!U9 -> Liquidación | AC27: =+Hoja1!T9 -> Inicio contrato | AD27: =+Hoja1!W9 -> Permanente
A28: ANEXO DEL ESTUDIO PREVIO

Sheet Hoja1
A1: 1. Número | B1: 2. Clase | C1: 3. Fuente | D1: 4. Etapa | E1: 5. Tipo | F1: 6. Descripción | G1: 7. Consecuencia de la ocurrencia del evento | H1: 8. Probabilidad | I1: 9. Impacto | J1: 10. Valoración | K1: 11. Categoría | L1: 12. ¿A quién se le asigna? | M1: 13. Tratamiento / Control a ser implementado | N1: 14. Probabilidad | O1: 15. Impacto | P1: 16. Valoración | Q1: 17. Categoría | R1: 18. ¿Afecta la ejecución del contrato? | S1: 19. Responsable por implementar el tratamiento | T1: 20. Fecha estimada en que se inicia el tratamiento | U1: 21. Fecha estimada en que se completa el tratamiento | V1: 22. ¿Cómo se realiza el monitoreo? | W1: 23. Periodicidad
A2: 1 | B2: Específico | C2: Externo | D2: Ejecución | E2: Operacional | F2: Incumplimiento en los tiempos de entrega e instalación del mobiliario | G2: Retrasos en la puesta en funcionamiento del restaurante | H2: 3 | I2: 4 | J2: 7 | K2: Riesgo Alto | L2: Contratista 100% | M2: Seguimiento mediante cronograma y control periódico de avances | N2: 2 | O2: 2 | P2: 4 | Q2: Riesgo Bajo | R2: Sí | S2: Contratista 100% | T2: Acta de inicio | U2: Terminación | V2: Informes de supervisión | W2: Permanente
A3: 2 | B3: Específico | C3: Externo | D3: Ejecución | E3: Técnico | F3: Entrega de mobiliario que no cumpla las especificaciones técnicas | G3: Rechazo de bienes y retrasos en la ejecución | H3: 2 | I3: 4 | J3: 6 | K3: Riesgo Medio | L3: Contratista 100% | M3: Validación de fichas técnicas y verificación previa al recibo | N3: 1 | O3: 2 | P3: 3 | Q3: Riesgo Bajo | R3: Sí | S3: Contratista 100% | T3: Inicio suministro | U3: Recibo final | V3: Inspección técnica | W3: Permanente
A4: 3 | B4: Específico | C4: Externo | D4: Ejecución | E4: Operacional | F4: Daños al mobiliario durante transporte e instalación | G4: Reposición de bienes y retrasos | H4: 3 | I4: 3 | J4: 6 | K4: Riesgo Medio | L4: Contratista 100% | M4: Embalaje adecuado y transporte especializado | N4: 1 | O4: 2 | P4: 3 | Q4: Riesgo Bajo | R4: Sí | S4: Contratista 100% | T4: Inicio contrato | U4: Terminación | V4: Verificación física | W4: Permanente
A5: 4 | B5: Específico | C5: Externo | D5: Ejecución | E5: Operacional | F5: Retrasos por falta de materiales o insumos | G5: Incumplimiento del cronograma | H5: 3 | I5: 3 | J5: 6 | K5: Riesgo Medio | L5: Contratista 100% | M5: Planeación de compras y abastecimiento | N5: 2 | O5: 2 | P5: 4 | Q5: Riesgo Bajo | R5: Sí | S5: Contratista 100% | T5: Inicio contrato | U5: Terminación | V5: Seguimiento cronograma | W5: Semanal
A6: 5 | B6: Específico | C6: Externo | D6: Ejecución | E6: SST | F6: Accidentes laborales durante la instalación | G6: Suspensión de actividades y sanciones | H6: 2 | I6: 5 | J6: 7 | K6: Riesgo Alto | L6: Contratista 100% | M6: Implementación SG-SST y uso de EPP | N6: 1 | O6: 2 | P6: 3 | Q6: Riesgo Bajo | R6: Sí | S6: Contratista 100% | T6: Acta de inicio | U6: Terminación | V6: Verificación SST | W6: Permanente
A7: 6 | B7: Específico | C7: Compartido | D7: Ejecución | E7: Operacional | F7: Afectación a actividades académicas y administrativas | G7: Interrupciones en la operación de la Universidad | H7: 2 | I7: 3 | J7: 5 | K7: Riesgo Medio | L7: Compartido 50%-50% | M7: Coordinación previa de horarios y áreas de trabajo | N7: 1 | O7: 2 | P7: 3 | Q7: Riesgo Bajo | R7: Sí | S7: Universidad y Contratista | T7: Inicio instalación | U7: Terminación | V7: Actas de coordinación | W7: Permanente
A8: 7 | B8: Específico | C8: Externo | D8: Ejecución | E8: Calidad | F8: Deterioro prematuro del mobiliario por baja calidad | G8: Afectación de la vida útil de los bienes | H8: 2 | I8: 4 | J8: 6 | K8: Riesgo Medio | L8: Contratista 100% | M8: Exigir garantías y certificados de calidad | N8: 1 | O8: 2 | P8: 3 | Q8: Riesgo Bajo | R8: Sí | S8: Contratista 100% | T8: Recepción bienes | U8: Fin garantía | V8: Seguimiento garantía | W8: Trimestral
A9: 8 | B9: Específico | C9: Externo | D9: Ejecución | E9: Operacional | F9: Incumplimiento en entrega de garantías y documentación técnica | G9: Dificultad para recibo y liquidación | H9: 2 | I9: 3 | J9: 5 | K9: Riesgo Medio | L9: Contratista 100% | M9: Control documental previo al recibo final | N9: 1 | O9: 2 | P9: 3 | Q9: Riesgo Bajo | R9: Sí | S9: Contratista 100% | T9: Inicio contrato | U9: Liquidación | V9: Lista de chequeo | W9: Permanente
A10: 9 | B10: General | C10: Externo | D10: Ejecución | E10: Económico | F10: Variación de costos de fabricación, transporte o instalación | G10: Impacto financiero al contratista | H10: 2 | I10: 3 | J10: 5 | K10: Riesgo Medio | L10: Contratista 100% | M10: Asumir precios ofertados sin reajustes | N10: 1 | O10: 2 | P10: 3 | Q10: Riesgo Bajo | R10: Sí | S10: Contratista 100% | T10: Presentación oferta | U10: Terminación | V10: Seguimiento contractual | W10: Permanente
