Workbook
Name Acero: #REF!
Name Agregados: #REF!
Name Apar.Sanitarios: #REF!
Name Carp.Aluminio: #REF!
Name Carp.Metalica: #REF!
Name Cerrajeria: #REF!
Name Ciudades: #REF!
Name Combustible: #REF!
Name Concretos: #REF!
Name Cuadrillas: #REF!
Name Cubierta: #REF!
Name Drywall: #REF!
Name Equipos: #REF!
Name EquiposEspeciales: #REF!
Name Ferreteria: #REF!
Name Formaletas: #REF!
Name Geosinteticos: #REF!
Name Impermeabilizantes: #REF!
Name Inst.Electricas: #REF!
Name Inst.Hidrosanitarias: #REF!
Name INSUMOS: #REF!
Name Ladrillos: #REF!
Name Maderas: #REF!
Name Pinturas: #REF!
Name PisosEnchapes: #REF!
Name Prefabricados: #REF!
Name VariosAnalisis: #REF!

Sheet PRESUPUESTO OFICIAL (2)
C3: Formulario 1 - Propuesta económica - Documento tipo de licitación de obra pública de infraestructura de transporte - versión 4
C4: Código | D4: CCE-EICP-FM-14 | E4: Versión | F4: 4
B8: FORMULARIO 1
B9: PRESUPUESTO OFICIAL
B10: [La entidad puede utilizar este formulario de detalle del presupuesto oficial para determinar las condiciones bajo las cuales los proponentes analizarán y presentarán su propuesta económica de forma detallada, sin perjuicio que la entidad pueda modificarlo o establecer la presentación de la oferta económica con un formulario distinto al indicado.]
B12: Adicionalmente, cuando el proceso de contratación es estructurado por precios unitarios, la Entidad debe aplicar las notas 1, 2 y 3 del presente formulario y las casillas de "Descripción", "Porcentaje" de la Administración, Utilidad y total A.U. resaltadas en color amarillo. Tratándose de otras modalidades de precio, la Entidad puede o no configurar los mismos aspectos.
B13: Lote 1: “CONSTRUCCIÓN DE OBRAS DE ESTABILIDAD GEOTÉCNICA Y MANEJO DE AGUAS LLUVIAS EN SITIOS CON PROCESOS DE INESTABILIDAD Y REPARACIÓN DE ÁREAS CON TRATAMIENTO GEOTÉCNICO (ATG) EN LAS COMUNAS LA ESTACIÓN, TESORITO, UNIVERSITARIA, ECOTURÍSTICA CERRO DE ORO Y NUEVO HORIZONTE, EN EL ÁREA URBANA DEL MUNICIPIO DE MANIZALES – POR MONTO AGOTABLE”
B14: Nº | C14: ITEM DE PAGO | D14: DESCRIPCION | E14: UND. | F14: CANTIDAD | G14: VALOR UNITARIO | H14: VALOR TOTAL
B16: CAPÍTULO I TRABAJOS PRELIMINARES
B17: 1.1 | C17: ='A.P.U'!B5 -> 001.043 | D17: =+VLOOKUP($C17,'A.P.U'!$B$5:$K$23785,3,0) -> ROCERIA Y LIMPIEZA | E17: =+VLOOKUP($C17,'A.P.U'!$B$5:$K$23785,5,0) -> M2 | F17: 1 | G17: =+VLOOKUP($C17,'A.P.U'!$B$5:$K$23785,10,0) -> 2475 | H17: =ROUND((G17*F17),0) -> 2475
B18: 1.2 | C18: ='A.P.U'!B11 -> 001.049 | D18: =+VLOOKUP($C18,'A.P.U'!$B$5:$K$23785,3,0) -> SUMINISTRO, TRANSPORTE E INSTALACIÓN CERRAMIENTO EN YUTE H= 2 M | E18: =+VLOOKUP($C18,'A.P.U'!$B$5:$K$23785,5,0) -> ML | F18: 1 | G18: =+VLOOKUP($C18,'A.P.U'!$B$5:$K$23785,10,0) -> 21457 | H18: =ROUND((G18*F18),0) -> 21457
B19: 1.3 | C19: ='A.P.U'!B19 -> 001.059 | D19: =+VLOOKUP($C19,'A.P.U'!$B$5:$K$23785,3,0) -> SUMINISTRO, TRANSPORTE E INSTALACION TECHADO PROVISIONAL EN GUADUA Y PLÁSTICO | E19: =+VLOOKUP($C19,'A.P.U'!$B$5:$K$23785,5,0) -> M2 | F19: 1 | G19: =+VLOOKUP($C19,'A.P.U'!$B$5:$K$23785,10,0) -> 28867 | H19: =ROUND((G19*F19),0) -> 28867
B20: 1.4 | C20: ='A.P.U'!B29 -> 033.143 | D20: =+VLOOKUP($C20,'A.P.U'!$B$5:$K$23785,3,0) -> SUMINISTRO, TRANSPORTE E INSTALACION TRINCHOS PROVISIONALES EN GUADUA | E20: =+VLOOKUP($C20,'A.P.U'!$B$5:$K$23785,5,0) -> ML | F20: 1 | G20: =+VLOOKUP($C20,'A.P.U'!$B$5:$K$23785,10,0) -> 38499 | H20: =ROUND((G20*F20),0) -> 38499
B21: 1.5 | C21: 030.001 | D21: =+VLOOKUP($C21,'A.P.U'!$B$5:$K$23785,3,0) -> COMISIÓN TOPOGRÁFICA | E21: =+VLOOKUP($C21,'A.P.U'!$B$5:$K$23785,5,0) -> DIA | F21: 1 | G21: =+VLOOKUP($C21,'A.P.U'!$B$5:$K$23785,10,0) -> 983660 | H21: =ROUND((G21*F21),0) -> 983660
B22: Subtotal | H22: =SUM(H17:H21) -> 1074958
B23: CAPÍTULO II MOVIMIENTO DE TIERRAS
B24: 2.1. | D24: EXCAVACIONES
B25: 2.1.1 | C25: ='A.P.U'!B43 -> 002.001 | D25: =+VLOOKUP($C25,'A.P.U'!$B$5:$K$23785,3,0) -> EXCAVACIÓN EN ZANJA - MATERIAL COMÚN - 0.0 A 2.0 M | E25: =+VLOOKUP($C25,'A.P.U'!$B$5:$K$23785,5,0) -> M3 | F25: 1 | G25: =+VLOOKUP($C25,'A.P.U'!$B$5:$K$23785,10,0) -> 61207 | H25: =ROUND((G25*F25),0) -> 61207
B26: 2.1.2 | C26: ='A.P.U'!B50 -> 002.002 | D26: =+VLOOKUP($C26,'A.P.U'!$B$5:$K$23785,3,0) -> EXCAVACIÓN EN ZANJA - MATERIAL COMÚN - 2.01 A 4.00 M | E26: =+VLOOKUP($C26,'A.P.U'!$B$5:$K$23785,5,0) -> M3 | F26: 1 | G26: =+VLOOKUP($C26,'A.P.U'!$B$5:$K$23785,10,0) -> 68452 | H26: =ROUND((G26*F26),0) -> 68452
B27: 2.1.3 | C27: ='A.P.U'!B56 -> 002.004 | D27: =+VLOOKUP($C27,'A.P.U'!$B$5:$K$23785,3,0) -> EXCAVACIÓN EN ZANJA - CONGLOMERADO - 0.0 A 2.0 M | E27: =+VLOOKUP($C27,'A.P.U'!$B$5:$K$23785,5,0) -> M3 | F27: 1 | G27: =+VLOOKUP($C27,'A.P.U'!$B$5:$K$23785,10,0) -> 85485 | H27: =ROUND((G27*F27),0) -> 85485
B28: 2.1.4 | C28: ='A.P.U'!B63 -> 002.005 | D28: =+VLOOKUP($C28,'A.P.U'!$B$5:$K$23785,3,0) -> EXCAVACIÓN EN ZANJA - CONGLOMERADO - 2.01 A 4.00 M | E28: =+VLOOKUP($C28,'A.P.U'!$B$5:$K$23785,5,0) -> M3 | F28: 1 | G28: =+VLOOKUP($C28,'A.P.U'!$B$5:$K$23785,10,0) -> 113386 | H28: =ROUND((G28*F28),0) -> 113386
B29: 2.1.5 | C29: ='A.P.U'!B70 -> 002.010 | D29: =+VLOOKUP($C29,'A.P.U'!$B$5:$K$23785,3,0) -> EXCAVACIÓN PARA ESTRUCTURAS - MATERIAL COMÚN - 0.0 A 2.0 M | E29: =+VLOOKUP($C29,'A.P.U'!$B$5:$K$23785,5,0) -> M3 | F29: 1 | G29: =+VLOOKUP($C29,'A.P.U'!$B$5:$K$23785,10,0) -> 85485 | H29: =ROUND((G29*F29),0) -> 85485
B30: 2.1.6 | C30: ='A.P.U'!B77 -> 002.012 | D30: =+VLOOKUP($C30,'A.P.U'!$B$5:$K$23785,3,0) -> EXCAVACIÓN PARA ESTRUCTURAS - CONGLOMERADO - 0.0 A 2.0 M | E30: =+VLOOKUP($C30,'A.P.U'!$B$5:$K$23785,5,0) -> M3 | F30: 1 | G30: =+VLOOKUP($C30,'A.P.U'!$B$5:$K$23785,10,0) -> 108773 | H30: =ROUND((G30*F30),0) -> 108773
B31: 2.1.7 | C31: ='A.P.U'!B84 -> 002.016 | D31: =+VLOOKUP($C31,'A.P.U'!$B$5:$K$23785,3,0) -> EXCAVACIÓN A CIELO ABIERTO - MATERIAL COMÚN - 0.0 A 2.0 M | E31: =+VLOOKUP($C31,'A.P.U'!$B$5:$K$23785,5,0) -> M3 | F31: 1 | G31: =+VLOOKUP($C31,'A.P.U'!$B$5:$K$23785,10,0) -> 66336 | H31: =ROUND((G31*F31),0) -> 66336
B32: 2.1.8 | C32: ='A.P.U'!B91 -> 002.017 | D32: =+VLOOKUP($C32,'A.P.U'!$B$5:$K$23785,3,0) -> EXCAVACIÓN A CIELO ABIERTO - CONGLOMERADO - 0.0 A 2.0 M | E32: =+VLOOKUP($C32,'A.P.U'!$B$5:$K$23785,5,0) -> M3 | F32: 1 | G32: =+VLOOKUP($C32,'A.P.U'!$B$5:$K$23785,10,0) -> 94671 | H32: =ROUND((G32*F32),0) -> 94671
B33: 2.1.9 | C33: 032.083 | D33: =+VLOOKUP($C33,'A.P.U'!$B$5:$K$23785,3,0) -> EXCAVACION PARA PILOTES D=< a 45 cm (0-6)m | E33: =+VLOOKUP($C33,'A.P.U'!$B$5:$K$23785,5,0) -> ML | F33: 1 | G33: =+VLOOKUP($C33,'A.P.U'!$B$5:$K$23785,10,0) -> 104410 | H33: =ROUND((G33*F33),0) -> 104410
B34: 2.1.10 | C34: 033.090 | D34: =+VLOOKUP($C34,'A.P.U'!$B$5:$K$23785,3,0) -> CONFORMACION TALUDES SISTEMA MANUAL | E34: =+VLOOKUP($C34,'A.P.U'!$B$5:$K$23785,5,0) -> M3 | F34: 1 | G34: =+VLOOKUP($C34,'A.P.U'!$B$5:$K$23785,10,0) -> 65050 | H34: =ROUND((G34*F34),0) -> 65050
B35: 2.2. | D35: RELLENOS
B36: 2.2.1. | C36: 002.049 | D36: =+VLOOKUP($C36,'A.P.U'!$B$5:$K$23785,3,0) -> RELLENO EN MATERIAL SELECCIONADO PROVENIENTE DE LA EXCAVACION (APISONADO) | E36: =+VLOOKUP($C36,'A.P.U'!$B$5:$K$23785,5,0) -> M3 | F36: 1 | G36: =+VLOOKUP($C36,'A.P.U'!$B$5:$K$23785,10,0) -> 69678 | H36: =ROUND((G36*F36),0) -> 69678
B37: 2.2.2. | C37: 002.053 | D37: =+VLOOKUP($C37,'A.P.U'!$B$5:$K$23785,3,0) -> RELLENO COMPACTADO CON MATERIAL DE PRESTAMO | E37: =+VLOOKUP($C37,'A.P.U'!$B$5:$K$23785,5,0) -> M3 | F37: 1 | G37: =+VLOOKUP($C37,'A.P.U'!$B$5:$K$23785,10,0) -> 124403 | H37: =ROUND((G37*F37),0) -> 124403
B38: 2.2.3. | C38: ='A.P.U'!B124 -> 027.049 | D38: ='A.P.U'!D124 -> RELLENOS PARA CONFORMACIÓN DE TALUDES CON COSTALES DE FIBRA Y SUELO CON MATERIAL IN SITU | E38: M3 | F38: 1 | G38: =+VLOOKUP($C38,'A.P.U'!$B$5:$K$23785,10,0) -> 212880 | H38: =ROUND((G38*F38),0) -> 212880
B39: 2.2.4. | C39: 004.013 | D39: =+VLOOKUP($C39,'A.P.U'!$B$5:$K$23785,3,0) -> SUMINISTRO, TRANSPORTE E INSTALACION AFIRMADO COMPACTADO PARA ESTRUCTURAS | E39: =+VLOOKUP($C39,'A.P.U'!$B$5:$K$23785,5,0) -> M3 | F39: 1 | G39: =+VLOOKUP($C39,'A.P.U'!$B$5:$K$23785,10,0) -> 208734 | H39: =ROUND((G39*F39),0) -> 208734
B40: 2.2.5. | C40: 002.057 | D40: =+VLOOKUP($C40,'A.P.U'!$B$5:$K$23785,3,0) -> REPALEO MANUAL | E40: =+VLOOKUP($C40,'A.P.U'!$B$5:$K$23785,5,0) -> M3 | F40: 1 | G40: =+VLOOKUP($C40,'A.P.U'!$B$5:$K$23785,10,0) -> 17967 | H40: =ROUND((G40*F40),0) -> 17967
B41: 2.3. | D41: DEMOLICIONES Y PERFORACIONES
B42: 2.3.1. | C42: 029.001 | D42: =+VLOOKUP($C42,'A.P.U'!$B$5:$K$23774,3,0) -> DEMOLICIÓN MECÁNICA DE ESTRUCTURAS DE CONCRETO HIDRÁULICO - INCLUYE CARGUE, TRANSPORTE Y DISPOSICIÓN | E42: =+VLOOKUP($C42,'A.P.U'!$B$5:$K$23774,5,0) -> M3 | F42: 1 | G42: =+VLOOKUP($C42,'A.P.U'!$B$5:$K$23785,10,0) -> 224173 | H42: =ROUND((G42*F42),0) -> 224173
B43: 2.3.2. | C43: 002.087 | D43: =+VLOOKUP($C43,'A.P.U'!$B$5:$K$23774,3,0) -> PERFORACIÓN CON CUÑA HIDRÁULICA (Incluye operador, transporte y combustible) | E43: =+VLOOKUP($C43,'A.P.U'!$B$5:$K$23774,5,0) -> M3-Suelto | F43: 1 | G43: =+VLOOKUP($C43,'A.P.U'!$B$5:$K$23785,10,0) -> 103009 | H43: =ROUND((G43*F43),0) -> 103009
B44: 2.2.3. | C44: 033.161 | D44: =+VLOOKUP($C44,'A.P.U'!$B$5:$K$23774,3,0) -> DEMOLICIÓN MANUAL DE ELEMENTOS EN CONCRETO | E44: =+VLOOKUP($C44,'A.P.U'!$B$5:$K$23774,5,0) -> M3 | F44: 1 | G44: =+VLOOKUP($C44,'A.P.U'!$B$5:$K$23785,10,0) -> 386039 | H44: =ROUND((G44*F44),0) -> 386039
B45: 2.2.4. | C45: 002.088 | D45: =+VLOOKUP($C45,'A.P.U'!$B$5:$K$23774,3,0) -> DEMOLICIÓN MANUAL DE ROCA | E45: =+VLOOKUP($C45,'A.P.U'!$B$5:$K$23774,5,0) -> M3 | F45: 1 | G45: =+VLOOKUP($C45,'A.P.U'!$B$5:$K$23785,10,0) -> 406187 | H45: =ROUND((G45*F45),0) -> 406187
B46: Subtotal | H46: =SUM(H25:H45) -> 2606325
B47: CAPÍTULO III OBRAS EN CONCRETO
...

Sheet PRESUPUESTO OFICIAL
C3: Formulario 1 - Propuesta económica - Documento tipo de licitación de obra pública de infraestructura de transporte - versión 4
C4: Código | F4: CCE-EICP-FM-14 | G4: Versión | H4: 4
B8: FORMULARIO 1
B9: PRESUPUESTO OFICIAL
B10: [La entidad puede utilizar este formulario de detalle del presupuesto oficial para determinar las condiciones bajo las cuales los proponentes analizarán y presentarán su propuesta económica de forma detallada, sin perjuicio que la entidad pueda modificarlo o establecer la presentación de la oferta económica con un formulario distinto al indicado.]
B12: Adicionalmente, cuando el proceso de contratación es estructurado por precios unitarios, la Entidad debe aplicar las notas 1, 2 y 3 del presente formulario y las casillas de "Descripción", "Porcentaje" de la Administración, Utilidad y total A.U. resaltadas en color amarillo. Tratándose de otras modalidades de precio, la Entidad puede o no configurar los mismos aspectos.
B14: Nº | C14: ITEM DE PAGO | D14: ESPECIFICACIONES | F14: DESCRIPCION | G14: UND. | H14: CANTIDAD | I14: VALOR UNITARIO | J14: VALOR TOTAL
D15: GENERAL | E15: PARTICULAR
B16: CAPÍTULO I TRABAJOS PRELIMINARES
B17: 1.1 | C17: ='A.P.U'!B5 -> 001.043 | F17: =+VLOOKUP($C17,'A.P.U'!$B$5:$K$23785,3,0) -> ROCERIA Y LIMPIEZA | G17: =+VLOOKUP($C17,'A.P.U'!$B$5:$K$23785,5,0) -> M2 | H17: 1 | I17: =+VLOOKUP($C17,'A.P.U'!$B$5:$K$23785,10,0) -> 2475 | J17: =ROUND((I17*H17),0) -> 2475
B18: 1.2 | C18: ='A.P.U'!B11 -> 001.049 | F18: =+VLOOKUP($C18,'A.P.U'!$B$5:$K$23785,3,0) -> SUMINISTRO, TRANSPORTE E INSTALACIÓN CERRAMIENTO EN YUTE H= 2 M | G18: =+VLOOKUP($C18,'A.P.U'!$B$5:$K$23785,5,0) -> ML | H18: 1 | I18: =+VLOOKUP($C18,'A.P.U'!$B$5:$K$23785,10,0) -> 21457 | J18: =ROUND((I18*H18),0) -> 21457
B19: 1.3 | C19: ='A.P.U'!B19 -> 001.059 | F19: =+VLOOKUP($C19,'A.P.U'!$B$5:$K$23785,3,0) -> SUMINISTRO, TRANSPORTE E INSTALACION TECHADO PROVISIONAL EN GUADUA Y PLÁSTICO | G19: =+VLOOKUP($C19,'A.P.U'!$B$5:$K$23785,5,0) -> M2 | H19: 1 | I19: =+VLOOKUP($C19,'A.P.U'!$B$5:$K$23785,10,0) -> 28867 | J19: =ROUND((I19*H19),0) -> 28867
B20: 1.4 | C20: ='A.P.U'!B29 -> 033.143 | F20: =+VLOOKUP($C20,'A.P.U'!$B$5:$K$23785,3,0) -> SUMINISTRO, TRANSPORTE E INSTALACION TRINCHOS PROVISIONALES EN GUADUA | G20: =+VLOOKUP($C20,'A.P.U'!$B$5:$K$23785,5,0) -> ML | H20: 1 | I20: =+VLOOKUP($C20,'A.P.U'!$B$5:$K$23785,10,0) -> 38499 | J20: =ROUND((I20*H20),0) -> 38499
B21: 1.5 | C21: 030.001 | F21: =+VLOOKUP($C21,'A.P.U'!$B$5:$K$23785,3,0) -> COMISIÓN TOPOGRÁFICA | G21: =+VLOOKUP($C21,'A.P.U'!$B$5:$K$23785,5,0) -> DIA | H21: 1 | I21: =+VLOOKUP($C21,'A.P.U'!$B$5:$K$23785,10,0) -> 983660 | J21: =ROUND((I21*H21),0) -> 983660
B22: Subtotal | J22: =SUM(J17:J21) -> 1074958
B23: CAPÍTULO II MOVIMIENTO DE TIERRAS
B24: 2.1. | F24: EXCAVACIONES
B25: 2.1.1 | C25: ='A.P.U'!B43 -> 002.001 | F25: =+VLOOKUP($C25,'A.P.U'!$B$5:$K$23785,3,0) -> EXCAVACIÓN EN ZANJA - MATERIAL COMÚN - 0.0 A 2.0 M | G25: =+VLOOKUP($C25,'A.P.U'!$B$5:$K$23785,5,0) -> M3 | H25: 1 | I25: =+VLOOKUP($C25,'A.P.U'!$B$5:$K$23785,10,0) -> 61207 | J25: =ROUND((I25*H25),0) -> 61207
B26: 2.1.2 | C26: ='A.P.U'!B50 -> 002.002 | F26: =+VLOOKUP($C26,'A.P.U'!$B$5:$K$23785,3,0) -> EXCAVACIÓN EN ZANJA - MATERIAL COMÚN - 2.01 A 4.00 M | G26: =+VLOOKUP($C26,'A.P.U'!$B$5:$K$23785,5,0) -> M3 | H26: 1 | I26: =+VLOOKUP($C26,'A.P.U'!$B$5:$K$23785,10,0) -> 68452 | J26: =ROUND((I26*H26),0) -> 68452
B27: 2.1.3 | C27: ='A.P.U'!B56 -> 002.004 | F27: =+VLOOKUP($C27,'A.P.U'!$B$5:$K$23785,3,0) -> EXCAVACIÓN EN ZANJA - CONGLOMERADO - 0.0 A 2.0 M | G27: =+VLOOKUP($C27,'A.P.U'!$B$5:$K$23785,5,0) -> M3 | H27: 1 | I27: =+VLOOKUP($C27,'A.P.U'!$B$5:$K$23785,10,0) -> 85485 | J27: =ROUND((I27*H27),0) -> 85485
B28: 2.1.4 | C28: ='A.P.U'!B63 -> 002.005 | F28: =+VLOOKUP($C28,'A.P.U'!$B$5:$K$23785,3,0) -> EXCAVACIÓN EN ZANJA - CONGLOMERADO - 2.01 A 4.00 M | G28: =+VLOOKUP($C28,'A.P.U'!$B$5:$K$23785,5,0) -> M3 | H28: 1 | I28: =+VLOOKUP($C28,'A.P.U'!$B$5:$K$23785,10,0) -> 113386 | J28: =ROUND((I28*H28),0) -> 113386
B29: 2.1.5 | C29: ='A.P.U'!B70 -> 002.010 | F29: =+VLOOKUP($C29,'A.P.U'!$B$5:$K$23785,3,0) -> EXCAVACIÓN PARA ESTRUCTURAS - MATERIAL COMÚN - 0.0 A 2.0 M | G29: =+VLOOKUP($C29,'A.P.U'!$B$5:$K$23785,5,0) -> M3 | H29: 1 | I29: =+VLOOKUP($C29,'A.P.U'!$B$5:$K$23785,10,0) -> 85485 | J29: =ROUND((I29*H29),0) -> 85485
B30: 2.1.6 | C30: ='A.P.U'!B77 -> 002.012 | F30: =+VLOOKUP($C30,'A.P.U'!$B$5:$K$23785,3,0) -> EXCAVACIÓN PARA ESTRUCTURAS - CONGLOMERADO - 0.0 A 2.0 M | G30: =+VLOOKUP($C30,'A.P.U'!$B$5:$K$23785,5,0) -> M3 | H30: 1 | I30: =+VLOOKUP($C30,'A.P.U'!$B$5:$K$23785,10,0) -> 108773 | J30: =ROUND((I30*H30),0) -> 108773
B31: 2.1.7 | C31: ='A.P.U'!B84 -> 002.016 | F31: =+VLOOKUP($C31,'A.P.U'!$B$5:$K$23785,3,0) -> EXCAVACIÓN A CIELO ABIERTO - MATERIAL COMÚN - 0.0 A 2.0 M | G31: =+VLOOKUP($C31,'A.P.U'!$B$5:$K$23785,5,0) -> M3 | H31: 1 | I31: =+VLOOKUP($C31,'A.P.U'!$B$5:$K$23785,10,0) -> 66336 | J31: =ROUND((I31*H31),0) -> 66336
B32: 2.1.8 | C32: ='A.P.U'!B91 -> 002.017 | F32: =+VLOOKUP($C32,'A.P.U'!$B$5:$K$23785,3,0) -> EXCAVACIÓN A CIELO ABIERTO - CONGLOMERADO - 0.0 A 2.0 M | G32: =+VLOOKUP($C32,'A.P.U'!$B$5:$K$23785,5,0) -> M3 | H32: 1 | I32: =+VLOOKUP($C32,'A.P.U'!$B$5:$K$23785,10,0) -> 94671 | J32: =ROUND((I32*H32),0) -> 94671
B33: 2.1.9 | C33: 032.083 | F33: =+VLOOKUP($C33,'A.P.U'!$B$5:$K$23785,3,0) -> EXCAVACION PARA PILOTES D=< a 45 cm (0-6)m | G33: =+VLOOKUP($C33,'A.P.U'!$B$5:$K$23785,5,0) -> ML | H33: 1 | I33: =+VLOOKUP($C33,'A.P.U'!$B$5:$K$23785,10,0) -> 104410 | J33: =ROUND((I33*H33),0) -> 104410
B34: 2.1.10 | C34: 033.090 | F34: =+VLOOKUP($C34,'A.P.U'!$B$5:$K$23785,3,0) -> CONFORMACION TALUDES SISTEMA MANUAL | G34: =+VLOOKUP($C34,'A.P.U'!$B$5:$K$23785,5,0) -> M3 | H34: 1 | I34: =+VLOOKUP($C34,'A.P.U'!$B$5:$K$23785,10,0) -> 65050 | J34: =ROUND((I34*H34),0) -> 65050
B35: 2.2. | F35: RELLENOS
B36: 2.2.1. | C36: 002.049 | F36: =+VLOOKUP($C36,'A.P.U'!$B$5:$K$23785,3,0) -> RELLENO EN MATERIAL SELECCIONADO PROVENIENTE DE LA EXCAVACION (APISONADO) | G36: =+VLOOKUP($C36,'A.P.U'!$B$5:$K$23785,5,0) -> M3 | H36: 1 | I36: =+VLOOKUP($C36,'A.P.U'!$B$5:$K$23785,10,0) -> 69678 | J36: =ROUND((I36*H36),0) -> 69678
B37: 2.2.2. | C37: 002.053 | F37: =+VLOOKUP($C37,'A.P.U'!$B$5:$K$23785,3,0) -> RELLENO COMPACTADO CON MATERIAL DE PRESTAMO | G37: =+VLOOKUP($C37,'A.P.U'!$B$5:$K$23785,5,0) -> M3 | H37: 1 | I37: =+VLOOKUP($C37,'A.P.U'!$B$5:$K$23785,10,0) -> 124403 | J37: =ROUND((I37*H37),0) -> 124403
B38: 2.2.3. | C38: ='A.P.U'!B124 -> 027.049 | F38: ='A.P.U'!D124 -> RELLENOS PARA CONFORMACIÓN DE TALUDES CON COSTALES DE FIBRA Y SUELO CON MATERIAL IN SITU | G38: M3 | H38: 1 | I38: =+VLOOKUP($C38,'A.P.U'!$B$5:$K$23785,10,0) -> 212880 | J38: =ROUND((I38*H38),0) -> 212880
B39: 2.2.4. | C39: 004.013 | F39: =+VLOOKUP($C39,'A.P.U'!$B$5:$K$23785,3,0) -> SUMINISTRO, TRANSPORTE E INSTALACION AFIRMADO COMPACTADO PARA ESTRUCTURAS | G39: =+VLOOKUP($C39,'A.P.U'!$B$5:$K$23785,5,0) -> M3 | H39: 1 | I39: =+VLOOKUP($C39,'A.P.U'!$B$5:$K$23785,10,0) -> 208734 | J39: =ROUND((I39*H39),0) -> 208734
B40: 2.2.5. | C40: 002.057 | F40: =+VLOOKUP($C40,'A.P.U'!$B$5:$K$23785,3,0) -> REPALEO MANUAL | G40: =+VLOOKUP($C40,'A.P.U'!$B$5:$K$23785,5,0) -> M3 | H40: 1 | I40: =+VLOOKUP($C40,'A.P.U'!$B$5:$K$23785,10,0) -> 17967 | J40: =ROUND((I40*H40),0) -> 17967
B41: 2.3. | F41: DEMOLICIONES Y PERFORACIONES
B42: 2.3.1. | C42: 029.001 | F42: =+VLOOKUP($C42,'A.P.U'!$B$5:$K$23774,3,0) -> DEMOLICIÓN MECÁNICA DE ESTRUCTURAS DE CONCRETO HIDRÁULICO - INCLUYE CARGUE, TRANSPORTE Y DISPOSICIÓN | G42: =+VLOOKUP($C42,'A.P.U'!$B$5:$K$23774,5,0) -> M3 | H42: 1 | I42: =+VLOOKUP($C42,'A.P.U'!$B$5:$K$23785,10,0) -> 224173 | J42: =ROUND((I42*H42),0) -> 224173
B43: 2.3.2. | C43: 002.087 | F43: =+VLOOKUP($C43,'A.P.U'!$B$5:$K$23774,3,0) -> PERFORACIÓN CON CUÑA HIDRÁULICA (Incluye operador, transporte y combustible) | G43: =+VLOOKUP($C43,'A.P.U'!$B$5:$K$23774,5,0) -> M3-Suelto | H43: 1 | I43: =+VLOOKUP($C43,'A.P.U'!$B$5:$K$23785,10,0) -> 103009 | J43: =ROUND((I43*H43),0) -> 103009
B44: 2.2.3. | C44: 033.161 | F44: =+VLOOKUP($C44,'A.P.U'!$B$5:$K$23774,3,0) -> DEMOLICIÓN MANUAL DE ELEMENTOS EN CONCRETO | G44: =+VLOOKUP($C44,'A.P.U'!$B$5:$K$23774,5,0) -> M3 | H44: 1 | I44: =+VLOOKUP($C44,'A.P.U'!$B$5:$K$23785,10,0) -> 386039 | J44: =ROUND((I44*H44),0) -> 386039
B45: 2.2.4. | C45: 002.088 | F45: =+VLOOKUP($C45,'A.P.U'!$B$5:$K$23774,3,0) -> DEMOLICIÓN MANUAL DE ROCA | G45: =+VLOOKUP($C45,'A.P.U'!$B$5:$K$23774,5,0) -> M3 | H45: 1 | I45: =+VLOOKUP($C45,'A.P.U'!$B$5:$K$23785,10,0) -> 406187 | J45: =ROUND((I45*H45),0) -> 406187
B46: Subtotal | J46: =SUM(J25:J45) -> 2606325
B47: CAPÍTULO III OBRAS EN CONCRETO
...

Sheet A.P.U
B1: CODIGO | C1: COD INSUMO | D1: INSUMO | E1: TIPO | F1: UNIDAD | G1: REND | H1: VALOR UNITARIO | I1: VALOR TOTAL | J1: AIU | K1: VALOR TOTAL INCLUÍDO AIU
B2: ANÁLISIS DE PRECIOS UNITARIOS
B4: CODIGO | C4: COD INSUMO | D4: INSUMO | E4: TIPO | F4: UNIDAD | G4: REND | H4: VALOR UNITARIO | I4: VALOR TOTAL | J4: AIU | K4: VALOR TOTAL INCLUÍDO AIU
A5: 1 | B5: 001.043 | C5: - | D5: ROCERIA Y LIMPIEZA | E5: Actividad | F5: M2 | I5: =SUM(I6:I8) -> 1811 | J5: ='A.I.U'!$G$30 -> 1.3668 | K5: =ROUND(I5*J5,0) -> 2475 | L5: OK
B6: 001.043 | C6: C44 | D6: CUADRILLA AA (2 AYUDANTES) | E6: Cuadrilla | F6: HR | G6: 0.05 | H6: =VLOOKUP(C6,[1]Insumos!$A:$F,5,FALSE) -> 29124 | I6: =ROUND(H6*G6,0) -> 1456
B7: 001.043 | C7: H2 | D7: EQUIPO BASICO (HERRAMIENTA MENOR) | E7: Herramienta | F7: UND | G7: 0.07 | H7: =VLOOKUP(C7,[1]Insumos!$A:$F,5,FALSE) -> 3623 | I7: =ROUND(H7*G7,0) -> 254
B8: 001.043 | C8: I1565 | D8: ACARREO INTERNO | E8: Insumos | F8: UND | G8: 0.053 | H8: =VLOOKUP(C8,[1]Insumos!$A:$F,5,FALSE) -> 1897 | I8: =ROUND(H8*G8,0) -> 101
B10: CODIGO | C10: COD INSUMO | D10: INSUMO | E10: TIPO | F10: UNIDAD | G10: REND | H10: VALOR UNITARIO | I10: VALOR TOTAL | J10: AIU | K10: VALOR TOTAL INCLUÍDO AIU
A11: 2 | B11: 001.049 | C11: - | D11: SUMINISTRO, TRANSPORTE E INSTALACIÓN CERRAMIENTO EN YUTE H= 2 M | E11: Actividad | F11: ML | I11: =SUM(I12:I16) -> 15699 | J11: ='A.I.U'!$G$30 -> 1.3668 | K11: =ROUND(I11*J11,0) -> 21457 | L11: OK
B12: 001.049 | C12: C1 | D12: CUADRILLA AA TIPO 1 (1 OFICIAL + 1 AYUDANTE) (Albañileria) | E12: Cuadrilla | F12: HR | G12: 0.16 | H12: =VLOOKUP(C12,[1]Insumos!$A:$F,5,FALSE) -> 37863 | I12: =ROUND(H12*G12,0) -> 6058
B13: 001.049 | C13: H2 | D13: EQUIPO BASICO (HERRAMIENTA MENOR) | E13: Herramienta | F13: UND | G13: 0.16 | H13: =VLOOKUP(C13,[1]Insumos!$A:$F,5,FALSE) -> 3623 | I13: =ROUND(H13*G13,0) -> 580
B14: 001.049 | C14: I425 | D14: PUNTILLA CON CABEZA 2" | E14: Insumos | F14: LB | G14: 0.2 | H14: =VLOOKUP(C14,[1]Insumos!$A:$F,5,FALSE) -> 5304 | I14: =ROUND(H14*G14,0) -> 1061
B15: 001.049 | C15: I447 | D15: FIBRA PARA CERRAMIENTO PROVISIONAL H=2,1M | E15: Insumos | F15: M | G15: 1 | H15: =VLOOKUP(C15,[1]Insumos!$A:$F,5,FALSE) -> 4505 | I15: =ROUND(H15*G15,0) -> 4505
B16: 001.049 | C16: I986 | D16: GUADUA CEPA DE 5 VARAS x 4m | E16: Insumos | F16: UND | G16: 0.35 | H16: =VLOOKUP(C16,[1]Insumos!$A:$F,5,FALSE) -> 9987 | I16: =ROUND(H16*G16,0) -> 3495
B18: CODIGO | C18: COD INSUMO | D18: INSUMO | E18: TIPO | F18: UNIDAD | G18: REND | H18: VALOR UNITARIO | I18: VALOR TOTAL | J18: AIU | K18: VALOR TOTAL INCLUÍDO AIU | L18: OK
A19: 3 | B19: 001.059 | C19: - | D19: SUMINISTRO, TRANSPORTE E INSTALACION TECHADO PROVISIONAL EN GUADUA Y PLÁSTICO | E19: Actividad | F19: M2 | I19: =SUM(I20:I25) -> 21120 | J19: ='A.I.U'!$G$30 -> 1.3668 | K19: =ROUND(I19*J19,0) -> 28867
B20: 001.059 | C20: C15 | D20: CUADRILLA AA TIPO 3 (1 OFICIAL + 3 AYUDANTE) (Albañileria) | E20: Cuadrilla | F20: HR | G20: 0.15 | H20: =VLOOKUP(C20,[1]Insumos!$A:$F,5,FALSE) -> 66987 | I20: =ROUND(H20*G20,0) -> 10048
B21: 001.059 | C21: E12 | D21: EQUIPO DE TRANSPORTE | E21: Equipos | F21: DIA | G21: 0.00104 | H21: =VLOOKUP(C21,[1]Insumos!$A:$F,5,FALSE) -> 187426 | I21: =ROUND(H21*G21,0) -> 195
B22: 001.059 | C22: H2 | D22: EQUIPO BASICO (HERRAMIENTA MENOR) | E22: Herramienta | F22: UND | G22: 0.2 | H22: =VLOOKUP(C22,[1]Insumos!$A:$F,5,FALSE) -> 3623 | I22: =ROUND(H22*G22,0) -> 725
B23: 001.059 | C23: I1565 | D23: ACARREO INTERNO | E23: Insumos | F23: UND | G23: 0.213 | H23: =VLOOKUP(C23,[1]Insumos!$A:$F,5,FALSE) -> 1897 | I23: =ROUND(H23*G23,0) -> 404
B24: 001.059 | C24: I455 | D24: ESTRUCTURA EN GUADUA | E24: Insumos | F24: M2 | G24: 1.4 | H24: =VLOOKUP(C24,[1]Insumos!$A:$F,5,FALSE) -> 3277 | I24: =ROUND(H24*G24,0) -> 4588
B25: 001.059 | C25: I456 | D25: PLÁSTICO TRANSPARENTE CALIBRE 6 | E25: Insumos | F25: M2 | G25: 1.4 | H25: =VLOOKUP(C25,[1]Insumos!$A:$F,5,FALSE) -> 3686 | I25: =ROUND(H25*G25,0) -> 5160
B28: CODIGO | C28: COD INSUMO | D28: INSUMO | E28: TIPO | F28: UNIDAD | G28: REND | H28: VALOR UNITARIO | I28: VALOR TOTAL | J28: AIU | K28: VALOR TOTAL INCLUÍDO AIU
A29: 4 | B29: 033.143 | C29: - | D29: SUMINISTRO, TRANSPORTE E INSTALACION TRINCHOS PROVISIONALES EN GUADUA | E29: Actividad | F29: ML | I29: =SUM(I30:I36) -> 28167 | J29: ='A.I.U'!$G$30 -> 1.3668 | K29: =ROUND(I29*J29,0) -> 38499 | L29: OK
B30: 033.143 | C30: C22 | D30: CUADRILLA AA TIPO 4 (1 OFICIAL + 4 AYUDANTE) (Albañileria) | E30: Cuadrilla | F30: HR | G30: 0.08 | H30: =VLOOKUP(C30,[1]Insumos!$A:$F,5,FALSE) -> 81549 | I30: =ROUND(H30*G30,0) -> 6524
B31: 033.143 | C31: E12 | D31: EQUIPO DE TRANSPORTE | E31: Equipos | F31: DIA | G31: 0.00178 | H31: =VLOOKUP(C31,[1]Insumos!$A:$F,5,FALSE) -> 187426 | I31: =ROUND(H31*G31,0) -> 334
B32: 033.143 | C32: H2 | D32: EQUIPO BASICO (HERRAMIENTA MENOR) | E32: Herramienta | F32: UND | G32: 0.08 | H32: =VLOOKUP(C32,[1]Insumos!$A:$F,5,FALSE) -> 3623 | I32: =ROUND(H32*G32,0) -> 290
B33: 033.143 | C33: I1565 | D33: ACARREO INTERNO | E33: Insumos | F33: UND | G33: 1.7 | H33: =VLOOKUP(C33,[1]Insumos!$A:$F,5,FALSE) -> 1897 | I33: =ROUND(H33*G33,0) -> 3225
B34: 033.143 | C34: I243 | D34: ALAMBRE GALVANIZADO CAL 14 | E34: Insumos | F34: KG | G34: 0.5 | H34: =VLOOKUP(C34,[1]Insumos!$A:$F,5,FALSE) -> 9684 | I34: =ROUND(H34*G34,0) -> 4842
B35: 033.143 | C35: I986 | D35: GUADUA CEPA DE 5 VARAS x 4m | E35: Insumos | F35: UND | G35: 0.5 | H35: =VLOOKUP(C35,[1]Insumos!$A:$F,5,FALSE) -> 9987 | I35: =ROUND(H35*G35,0) -> 4994
B36: 033.143 | C36: I989 | D36: GUADUA SOBREBASA L= 1.50 MT. 3 USOS | E36: Insumos | F36: UND | G36: 1.2 | H36: =VLOOKUP(C36,[1]Insumos!$A:$F,5,FALSE) -> 6632 | I36: =ROUND(H36*G36,0) -> 7958
B38: CODIGO | C38: COD INSUMO | D38: INSUMO | E38: TIPO | F38: UNIDAD | G38: REND | H38: VALOR UNITARIO | I38: VALOR TOTAL | J38: AIU | K38: VALOR TOTAL INCLUÍDO AIU
A39: 5 | B39: 030.001 | C39: - | D39: COMISIÓN TOPOGRÁFICA | E39: Actividad | F39: DIA | I39: =SUM(I40:I40) -> 719681 | J39: ='A.I.U'!$G$30 -> 1.3668 | K39: =ROUND(I39*J39,0) -> 983660
B40: 033.143 | C40: I1562 | D40: COMISION TOPOGRAFICA (INCLUYE TOPOGRAFO, CADENERO Y EQUIPO TOPOGRAFÍA (ESTACIÓN Y NIVEL). | E40: Insumos | F40: DIA | G40: 1 | H40: =VLOOKUP(C40,[1]Insumos!$A:$F,5,FALSE) -> 719681 | I40: =ROUND(H40*G40,0) -> 719681
B42: CODIGO | C42: COD INSUMO | D42: INSUMO | E42: TIPO | F42: UNIDAD | G42: REND | H42: VALOR UNITARIO | I42: VALOR TOTAL | J42: AIU | K42: VALOR TOTAL INCLUÍDO AIU
A43: 6 | B43: 002.001 | C43: - | D43: EXCAVACIÓN EN ZANJA - MATERIAL COMÚN - 0.0 A 2.0 M | E43: Actividad | F43: M3 | I43: =SUM(I44:I47) -> 44781 | J43: ='A.I.U'!$G$30 -> 1.3668 | K43: =ROUND(I43*J43,0) -> 61207
B44: 002.001 | C44: C1 | D44: CUADRILLA AA TIPO 1 (1 OFICIAL + 1 AYUDANTE) (Albañileria) | E44: Cuadrilla | F44: HR | G44: 1.1 | H44: =VLOOKUP(C44,[1]Insumos!$A:$F,5,FALSE) -> 37863 | I44: =ROUND(H44*G44,0) -> 41649
B45: 002.001 | C45: I282 | D45: SUELO CEMENTO 10:1 | E45: Insumos | F45: M3 | G45: 0.01 | H45: =VLOOKUP(C45,[1]Insumos!$A:$F,5,FALSE) -> 202837 | I45: =ROUND(H45*G45,0) -> 2028
B46: 002.001 | C46: H2 | D46: EQUIPO BASICO (HERRAMIENTA MENOR) | E46: Herramienta | F46: UND | G46: 0.2 | H46: =VLOOKUP(C46,[1]Insumos!$A:$F,5,FALSE) -> 3623 | I46: =ROUND(H46*G46,0) -> 725
B47: 002.001 | C47: I1565 | D47: ACARREO INTERNO | E47: Insumos | F47: UND | G47: 0.2 | H47: =VLOOKUP(C47,[1]Insumos!$A:$F,5,FALSE) -> 1897 | I47: =ROUND(H47*G47,0) -> 379
...

Sheet A.I.U
A1: CALCULO DEL AU.
A2: PROYECTO:
N3: 1462500000
A4: Valor estimado de la Obra (Costo Directo). | D4: Valor | E4: 1.0700176e+09 | N4: 1316723970
A5: Plazo estimado de ejecución | D5: Meses | E5: 4
A7: CAPITULO | B7: TIPO DE GASTO | C7: UN | D7: CANTIDAD | E7: Destinación | F7: VALOR UNITARIO (mes) | G7: Factor Prestacional. | H7: VALOR TOTAL | I7: SUMA | J7: PORCENTAJE | N7: 1.0700176e+09 | O7: =+J51*N7 -> 3.9248244e+08
O8: =+N7+O7 -> 1.4625e+09
A9: 1 | B9: GASTOS GENERALES. | J9: =+J10 -> 0.1060236
A10: 1.1 | B10: MANO DE OBRA Y GASTOS DE OFICINA | I10: =SUM(H11:H22) -> 1.1344711e+08 | J10: =+I10/$E$4 -> 0.1060236
B11: Ingeniero(a) Director con prestaciones | C11: Un | D11: 1 | E11: 0.15 | F11: 6700000 | G11: 0.6556 | H11: =+D11*E11*$E$5*F11*(1+G11) -> 6655512 | J11: =+H11/$E$4 -> 0.0062200026
B12: Ingeniero(a) Residente con prestaciones | C12: Un | D12: 1 | E12: 1 | F12: 4450000 | G12: 0.6556 | H12: =+D12*E12*$E$5*F12*(1+G12) -> 29469680 | J12: =+H12/$E$4 -> 0.027541305
B13: Técnico constructor como Maestro de obra | C13: Un | D13: 1 | E13: 1 | F13: 3600000 | G13: 0.6556 | H13: =+D13*E13*$E$5*F13*(1+G13) -> 23840640 | J13: =+H13/$E$4 -> 0.022280606
B14: Profesional en Seguridad y Salud en el Trabajo | C14: Un | D14: 1 | E14: 1 | F14: 3600000 | G14: 0.6556 | H14: =+D14*E14*$E$5*F14*(1+G14) -> 23840640 | J14: =+H14/$E$4 -> 0.022280606
B15: Trabajador(a) social | C15: Un | D15: 1 | E15: 0.5 | F15: 3600000 | G15: 0.6556 | H15: =+D15*E15*$E$5*F15*(1+G15) -> 11920320 | J15: =+H15/$E$4 -> 0.011140303
B16: Ingeniero(a) Ambiental | C16: Un | D16: 1 | E16: 0.5 | F16: 3600000 | G16: 0.6556 | H16: =+D16*E16*$E$5*F16*(1+G16) -> 11920320 | J16: =+H16/$E$4 -> 0.011140303
B18: Oficina (Equipo de Oficina, Escritorio, pc, impresora, sillas, papeleria, consumo servicios publicos etc) | C18: Mes | D18: 1 | E18: 1 | F18: 800000 | H18: =+$E$5*E18*F18 -> 3200000 | J18: =+H18/$E$4 -> 0.0029906051
B19: Sistema de gestion ambiental | C19: Mes | D19: 1 | E19: 1 | F19: 500000 | H19: =+D19*E19*F19 -> 500000 | J19: =+H19/$E$4 -> 0.00046728205
B20: Sistema de gestion de calidad | C20: GL | D20: 1 | E20: 1 | F20: 600000 | H20: =+D20*E20*F20 -> 600000 | J20: =+H20/$E$4 -> 0.00056073846
B21: Plan de Manejo de tránsito | C21: GL | D21: 1 | E21: 1 | F21: 500000 | H21: =+D21*E21*F21 -> 500000 | J21: =+H21/$E$4 -> 0.00046728205
B22: Ensayos de laboratorio | C22: GL | D22: 1 | E22: 1 | F22: 1000000 | H22: =+D22*E22*F22 -> 1000000 | J22: =+H22/$E$4 -> 0.0009345641
A23: 2 | B23: GASTOS INDIRECTOS.
A24: 2.1 | B24: LEGALIZACION. | J24: =J26+J37+J33 -> 0.20078956
B25: AIU ITERACION | G25: 1.3668
A26: 2.2 | B26: POLIZAS | I26: =SUM(H27:H31) -> 5149602.7 | J26: =+I26/$E$4 -> 0.0048126339
B27: Anticipo | C27: % | D27: 0.0006 | F27: =+$E$4*E27 -> 0 | G27: =+$G$25 -> 1.3668 | H27: =+(((F27*G27*D27)/365)*($E$5*30+120))*1.19 -> 0 | J27: =+H27/$E$4 -> 0
B28: Cumplimiento | C28: % | D28: 0.0006 | F28: =+$E$4 -> 1.0700176e+09 | G28: =+$G$25 -> 1.3668 | H28: =+(((F28*G28*D28)/365)*($E$5*30+120))*1.19 -> 686613.7 | J28: =+H28/$E$4 -> 0.00064168452
B29: Estabilidad | C29: % | D29: 0.0009 | F29: =+$E$4 -> 1.0700176e+09 | G29: =+$G$25 -> 1.3668 | H29: =+(((F29*G29*D29)/365)*($E$5*30+120))*1.19 -> 1029920.5 | J29: =+H29/$E$4 -> 0.00096252677
B30: Prestaciones Sociales | C30: % | D30: 0.0005 | F30: =+$E$4 -> 1.0700176e+09 | G30: =+$G$25 -> 1.3668 | H30: =+(((F30*G30*D30)/365)*($E$5*30+120))*1.19 -> 572178.08 | J30: =+H30/$E$4 -> 0.0005347371
B31: Responsabilidad Civil | C31: % | D31: 0.0025 | F31: =+$E$4 -> 1.0700176e+09 | G31: =+$G$25 -> 1.3668 | H31: =+(((F31*G31*D31)/365)*($E$5*30+120))*1.19 -> 2860890.4 | J31: =+H31/$E$4 -> 0.0026736855
A33: 2.3 | B33: VALLAS Y SEÑALIZACION | I33: =SUM(H34:H35) -> 1000000 | J33: =+I33/$E$4 -> 0.0009345641
B34: Vallas | C34: GL | D34: 1 | E34: 1 | F34: 600000 | H34: =+F34*D34*E34 -> 600000 | J34: =+H34/$E$4 -> 0.00056073846
B35: Señalización de obra (señales verticales, demarcación, cintas, etc) | C35: GL | D35: 1 | E35: 1 | F35: 400000 | H35: =+F35*D35*E35 -> 400000 | J35: =+H35/$E$4 -> 0.00037382564
A37: 2.4 | B37: IMPUESTOS Y CONTRIBUCIONES | I37: =SUM(H38:H46) -> 2.0869875e+08 | J37: =+I37/$E$4 -> 0.19504236
B38: Impuesto de timbre (Decretp 0175 - 2025) | C38: % | F38: =+$E$4 -> 1.0700176e+09 | G38: =+$G$27 -> 1.3668 | H38: =+F38*D38*G38 -> 0 | J38: =+H38/$E$4 -> 0
B39: Contribuación Especial | C39: % | D39: 0.05 | F39: =+$E$4 -> 1.0700176e+09 | G39: =+$G$27 -> 1.3668 | H39: =+F39*D39*G39 -> 73125000 | J39: =+H39/$E$4 -> 0.06834
B40: Estampillas para el bienestar del adulto mayor | C40: % | D40: 0.02 | F40: =+$E$4 -> 1.0700176e+09 | G40: =+$G$27 -> 1.3668 | H40: =+F40*D40*G40 -> 29250000 | J40: =+H40/$E$4 -> 0.027336
B41: Estampillas Pro - Universidades. | C41: % | D41: 0.02 | F41: =+$E$4 -> 1.0700176e+09 | G41: =+$G$27 -> 1.3668 | H41: =+F41*D41*G41 -> 29250000 | J41: =+H41/$E$4 -> 0.027336
B42: Estampilla pro cultura | C42: % | D42: 0.02 | F42: =+$E$4 -> 1.0700176e+09 | G42: =+$G$27 -> 1.3668 | H42: =+F42*D42*G42 -> 29250000 | J42: =+H42/$E$4 -> 0.027336
B43: Estampilla pro justicia familiar | C43: % | D43: 0.02 | F43: =+$E$4 -> 1.0700176e+09 | G43: =+$G$27 -> 1.3668 | H43: =+F43*D43*G43 -> 29250000 | J43: =+H43/$E$4 -> 0.027336
B44: Gasto bancarios4x1000 y retiros | C44: % | D44: 0.004 | F44: =+$E$4 -> 1.0700176e+09 | G44: =+$G$27 -> 1.3668 | H44: =+F44*D44*G44 -> 5850000 | J44: =+H44/$E$4 -> 0.0054672
...
