Workbook
Name FECHA_FINAL: #REF!
Name FECHA_INICIO: #REF!
Name ID: #REF!

Sheet CONSOLIDADO PONDERACIÓN (2)
D1: SECRETARIA DE MOVILIDAD CONTEMPORÁNEA
E5: CONCURSO DE MÉRITOS SMC-CM-CS-152-2026 - PMTIC
E7: CONSOLIDADO PONDERACIÓN
E11: !D29 | F11: !D34 | G11: !J50 | H11: !B103 | I11: !B103 | J11: !B106 | K11: !B106
D12: PROPONENTE | F12: HABILITACIÓN | G12: EXPERIENCIA ADICIONAL DEL PROPONENTE | H12: FORMACIÓN ADICIONAL DEL PERSONAL MÍNIMO REQUERIDO HABILITANTE | J12: EXPERIENCIA ESPECÍFICA ADICIONAL DEL PERSONAL MÍNIMO REQUERIDO HABILITANTE | L12: APOYO A LA INDUSTRIA NACIONAL | M12: VINCULACIÓN DE PERSONAS CON DISCAPACIDAD | N12: EMPRENDIMIENTOS Y EMPRESAS DE MUJERES | O12: MIPYME | P12: REDUCCIÓN DE PUNTAJE (2%) | Q12: TOTAL PUNTAJE OBTENIDO
A13: EXPERIENCIA ADICIONAL | B13: DIRECTOR/A | C13: ESPECIALISTA | D13: CONSECUTIVO | E13: NOMBRE | G13: PUNTAJE (38.5) | H13: PUNTAJE DIRECTOR (12.5) | I13: PUNTAJE ESPECIALISTA (12.5) | J13: PUNTAJE DIRECTOR (12.5) | K13: PUNTAJE ESPECIALISTA (12.5) | L13: PUNTAJE (10) | M13: PUNTAJE (1) | N13: PUNTAJE(0.25) | O13: PUNTAJE (0.25)
A14: EP_1 | B14: DP_1 | C14: ET_1 | D14: 1 | E14: {=IFERROR(INDIRECT($B14&E$11),"")} -> Consorcio Consultor PMSS Cundinamarca | F14: {=IFERROR(INDIRECT($B14&F$11),"")} -> HABILITADO | G14: {=IFERROR(INDIRECT($A14&G$11),"")} -> 0 | H14: {=IFERROR(INDIRECT($B14&H$11),"")} -> 10 | I14: {=IFERROR(INDIRECT($C14&I$11),"")} -> 0 | J14: {=IFERROR(INDIRECT($B14&J$11),"")} -> 0 | K14: {=IFERROR(INDIRECT($C14&K$11),"")} -> 12.5 | L14: 0 | M14: 0 | N14: 0 | O14: 0 | P14: NO | Q14: =IF(F14="HABILITADO",SUM(G14:O14),IF(F14="NO HABILITADO","NO HABILITADO","")) -> 22.5
A15: EP_2 | B15: DP_2 | C15: ET_2 | D15: 2 | E15: {=IFERROR(INDIRECT($B15&E$11),"")} -> CONSORCIO IDOM-EPYPSA-IVARSSON ASOCIADOS | F15: {=IFERROR(INDIRECT($B15&F$11),"")} -> HABILITADO | G15: {=IFERROR(INDIRECT($A15&G$11),"")} -> 0 | H15: {=IFERROR(INDIRECT($B15&H$11),"")} -> 0 | I15: {=IFERROR(INDIRECT($C15&I$11),"")} -> 10 | J15: {=IFERROR(INDIRECT($B15&J$11),"")} -> 0 | K15: {=IFERROR(INDIRECT($C15&K$11),"")} -> 12.5 | L15: 0 | M15: 0 | N15: 0 | O15: 0 | P15: NO | Q15: =IF(F15="HABILITADO",SUM(G15,H15,I15,J15,K15,L15,M15,N15,O15),IF(F15="NO HABILITADO","NO HABILITADO","")) -> 22.5
A16: EP_3 | B16: DP_3 | C16: ET_3 | D16: 3 | E16: {=IFERROR(INDIRECT($B16&E$11),"")} -> CONSORCIO TRIMOVILIDAD CUNDINAMARCA | F16: {=IFERROR(INDIRECT($B16&F$11),"")} -> HABILITADO | G16: {=IFERROR(INDIRECT($A16&G$11),"")} -> 0 | H16: {=IFERROR(INDIRECT($B16&H$11),"")} -> 0 | I16: {=IFERROR(INDIRECT($C16&I$11),"")} -> 10 | J16: {=IFERROR(INDIRECT($B16&J$11),"")} -> 0 | K16: {=IFERROR(INDIRECT($C16&K$11),"")} -> 12.5 | L16: 0 | M16: 0 | N16: 0 | O16: 0 | P16: NO | Q16: =IF(F16="HABILITADO",SUM(G16,H16,I16,J16,K16,L16,M16,N16,O16),IF(F16="NO HABILITADO","NO HABILITADO","")) -> 22.5
A17: EP_4 | B17: DP_4 | C17: ET_4 | D17: 4 | E17: {=IFERROR(INDIRECT($B17&E$11),"")} -> CONSORCIO PMSS 2026 | F17: {=IFERROR(INDIRECT($B17&F$11),"")} -> HABILITADO | G17: {=IFERROR(INDIRECT($A17&G$11),"")} -> 0 | H17: {=IFERROR(INDIRECT($B17&H$11),"")} -> 0 | I17: {=IFERROR(INDIRECT($C17&I$11),"")} -> 10 | J17: {=IFERROR(INDIRECT($B17&J$11),"")} -> 0 | K17: {=IFERROR(INDIRECT($C17&K$11),"")} -> 0 | L17: 0 | M17: 0 | N17: 0 | O17: 0 | P17: NO | Q17: =IF(F17="HABILITADO",SUM(G17,H17,I17,J17,K17,L17,M17,N17,O17),IF(F17="NO HABILITADO","NO HABILITADO","")) -> 10
A18: EP_5 | B18: DP_5 | C18: ET_5 | D18: 5 | E18: {=IFERROR(INDIRECT($B18&E$11),"")} -> 0 | F18: {=IFERROR(INDIRECT($B18&F$11),"")} -> 0 | G18: {=IFERROR(INDIRECT($A18&G$11),"")} -> 0 | H18: {=IFERROR(INDIRECT($B18&H$11),"")} -> 0 | I18: {=IFERROR(INDIRECT($C18&I$11),"")} -> 0 | J18: {=IFERROR(INDIRECT($B18&J$11),"")} -> 0 | K18: {=IFERROR(INDIRECT($C18&K$11),"")} -> 0 | L18: 0 | M18: 0 | N18: 0 | O18: 0 | P18: NO | Q18: =IF(F18="HABILITADO",SUM(G18,H18,I18,J18,K18,L18,M18,N18,O18),IF(F18="NO HABILITADO","NO HABILITADO",""))
A19: EP_6 | B19: DP_6 | C19: ET_6 | D19: 6 | E19: {=IFERROR(INDIRECT($B19&E$11),"")} -> 0 | F19: RECHAZADO | G19: 0 | H19: {=IFERROR(INDIRECT($B19&H$11),"")} -> 0 | I19: {=IFERROR(INDIRECT($C19&I$11),"")} -> 0 | J19: {=IFERROR(INDIRECT($B19&J$11),"")} -> 0 | K19: {=IFERROR(INDIRECT($C19&K$11),"")} -> 0 | L19: 0 | M19: 0 | N19: 0 | O19: 0 | P19: NO | Q19: =IF(F19="HABILITADO",SUM(G19,H19,I19,J19,K19,L19,M19,N19,O19),IF(F19="NO HABILITADO","NO HABILITADO",IF(F19="RECHAZADO","RECHAZADO",""))) -> RECHAZADO
A20: EP_7 | B20: DP_7 | C20: ET_7 | D20: 7 | E20: {=IFERROR(INDIRECT($B20&E$11),"")} -> 0 | F20: {=IFERROR(INDIRECT($B20&F$11),"")} -> 0 | G20: {=IFERROR(INDIRECT($A20&G$11),"")} -> 0 | H20: {=IFERROR(INDIRECT($B20&H$11),"")} -> 0 | I20: {=IFERROR(INDIRECT($C20&I$11),"")} -> 0 | J20: {=IFERROR(INDIRECT($B20&J$11),"")} -> 0 | K20: {=IFERROR(INDIRECT($C20&K$11),"")} -> 0 | L20: 0 | M20: 0 | N20: 0 | O20: 0 | P20: NO | Q20: =IF(F20="HABILITADO",SUM(G20,H20,I20,J20,K20,L20,M20,N20,O20),IF(F20="NO HABILITADO","NO HABILITADO",""))
A21: EP_8 | B21: DP_8 | C21: ET_8 | D21: 8 | E21: {=IFERROR(INDIRECT($B21&E$11),"")} -> 0 | F21: {=IFERROR(INDIRECT($B21&F$11),"")} -> 0 | G21: {=IFERROR(INDIRECT($A21&G$11),"")} -> 0 | H21: {=IFERROR(INDIRECT($B21&H$11),"")} -> 0 | I21: {=IFERROR(INDIRECT($C21&I$11),"")} -> 0 | J21: {=IFERROR(INDIRECT($B21&J$11),"")} -> 0 | K21: {=IFERROR(INDIRECT($C21&K$11),"")} -> 0 | L21: 0 | M21: 0 | N21: 0 | O21: 0 | P21: NO | Q21: =IF(F21="HABILITADO",SUM(G21,H21,I21,J21,K21,L21,M21,N21,O21),IF(F21="NO HABILITADO","NO HABILITADO",""))
A22: EP_9 | B22: DP_9 | C22: ET_9 | D22: 9 | E22: {=IFERROR(INDIRECT($B22&E$11),"")} -> 0 | F22: {=IFERROR(INDIRECT($B22&F$11),"")} -> 0 | G22: {=IFERROR(INDIRECT($A22&G$11),"")} -> 0 | H22: {=IFERROR(INDIRECT($B22&H$11),"")} -> 0 | I22: {=IFERROR(INDIRECT($C22&I$11),"")} -> 0 | J22: {=IFERROR(INDIRECT($B22&J$11),"")} -> 0 | K22: {=IFERROR(INDIRECT($C22&K$11),"")} -> 0 | L22: 0 | M22: 0 | N22: 0 | O22: 0 | P22: NO | Q22: =IF(F22="HABILITADO",SUM(G22,H22,I22,J22,K22,L22,M22,N22,O22),IF(F22="NO HABILITADO","NO HABILITADO",""))
A23: EP_10 | B23: DP_10 | C23: ET_10 | D23: 10 | E23: {=IFERROR(INDIRECT($B23&E$11),"")} -> 0 | F23: RECHAZADO | G23: 0 | H23: 0 | I23: 0 | J23: 0 | K23: 0 | L23: 0 | M23: 0 | N23: 0 | O23: 0 | P23: NO | Q23: =IF(F23="HABILITADO",SUM(G23,H23,I23,J23,K23,L23,M23,N23,O23),IF(F23="NO HABILITADO","NO HABILITADO",IF(F23="RECHAZADO","RECHAZADO",""))) -> RECHAZADO
A24: EP_11 | B24: DP_11 | C24: ET_11 | D24: 11 | E24: {=IFERROR(INDIRECT($B24&E$11),"")} -> 0 | F24: RECHAZADO | G24: 0 | H24: 0 | I24: 0 | J24: 0 | K24: 0 | L24: 0 | M24: 0 | N24: 0 | O24: 0 | P24: NO | Q24: =IF(F24="HABILITADO",SUM(G24,H24,I24,J24,K24,L24,M24,N24,O24),IF(F24="NO HABILITADO","NO HABILITADO",IF(F24="RECHAZADO","RECHAZADO",""))) -> RECHAZADO
A25: EP_12 | B25: DP_12 | C25: ET_12 | D25: 12 | E25: {=IFERROR(INDIRECT($B25&E$11),"")} -> 0 | F25: {=IFERROR(INDIRECT($B25&F$11),"")} -> 0 | G25: 0 | H25: {=IFERROR(INDIRECT($B25&H$11),"")} -> 0 | I25: {=IFERROR(INDIRECT($C25&I$11),"")} -> 0 | J25: {=IFERROR(INDIRECT($B25&J$11),"")} -> 0 | K25: {=IFERROR(INDIRECT($C25&K$11),"")} -> 0 | L25: 0 | M25: 0 | N25: 0 | O25: 0 | P25: NO | Q25: =IF(F25="HABILITADO",SUM(G25:O25),IF(F25="NO HABILITADO","NO HABILITADO",""))
D26: NOTA 1: LOS PROPONENTES NO HABILITADOS PRESENTAN PUNTAJE DE 0, HASTA TANTO REALICEN LAS SUBSANACIONES Y/O ACLARACIONES PERTINENTES. NOTA 2: LOS PROPONENTES QUE SE ENCUENTRAN EN CAUSAL DE RECHAZO PRESENTAN PUNTAJE DE 0.

Sheet CONSOLIDADO PONDERACIÓN
D1: SECRETARIA DE MOVILIDAD CONTEMPORÁNEA
G5: CONCURSO DE MÉRITOS SMC-CM-CS-166-2026
G7: CONSOLIDADO PONDERACIÓN
G11: !D29 | H11: !D34 | I11: !J50 | N11: !D31 | O11: !B103 | P11: !D31 | Q11: !B103
D12: PROPONENTE | H12: ESTADO | I12: EXPERIENCIA ADICIONAL DEL PROPONENTE | L12: EXPERIENCIA ADICIONAL DISEÑO DE RUTAS URBANAS DE TRANSPORTE PÚBLICO | N12: FORMACIÓN ADICIONAL DEL PERSONAL MÍNIMO REQUERIDO HABILITANTE | R12: APOYO A LA INDUSTRIA NACIONAL | T12: VINCULACIÓN DE PERSONAS CON DISCAPACIDAD | V12: EMPRENDIMIENTOS Y EMPRESAS DE MUJERES | X12: MIPYME | Z12: REDUCCIÓN DE PUNTAJE (2%) | AA12: TOTAL PUNTAJE OBTENIDO
A13: EXPERIENCIA ADICIONAL | B13: DIRECTOR/A | C13: ESPECIALISTA | D13: ID | E13: CÓDIGO | G13: NOMBRE | I13: PUNTAJE PONERADO (OTRAS PESTAÑAS) | J13: IDENTIFICACIÓN MAYOR PUNTAJE PONDERADO | K13: PUNTAJE POR EXPERIENCIA ADICIONAL (MÁXIMO 42,5) | L13: PROYECTOS PRESENTADOS | M13: PUNTAJE EXPERIENCIA (25) | N13: NOMBRE DIRECTOR/A | O13: PUNTAJE (10) | P13: NOMBRE ESPECIALISTA | Q13: PUNTAJE (10) | R13: OBSERVACIONES | S13: PUNTAJE (10) | T13: OBSERVACIONES | U13: PUNTAJE (2) | V13: OBSERVACIONES | W13: PUNTAJE(0.25) | X13: OBSERVACIONES | Y13: PUNTAJE (0.25)
A14: EP_2 | B14: DP_1 | C14: ET_2 | D14: 1 | E14: DP_2 | F14: ET_2 | G14: =+EP_1!D10 -> Consorcio Consultor PMSS Cundinamarca | H14: {=IFERROR(IF(INDIRECT($B14&H$11)="NO HABILITADO","RECHAZADO",INDIRECT($B14&H$11)),"")} -> HABILITADO | I14: 0 | J14: =+MAX($I$14:$I$17) -> 6.1 | K14: 0 | L14: 0 | M14: 0 | N14: =+DP_1!D31 -> JUAN CARLOS OROBIO QUIÑONES | O14: 0 | P14: EDINSON ANTONIO TORRES SEGURA | Q14: =+ET_1!B103 -> 0 | R14: NO APLICA | S14: 0 | U14: 0 | V14: NO APLICA | W14: 0 | X14: NO APLICA | Y14: 0 | Z14: NO APLICA | AA14: =IF(H14="HABILITADO",SUM(K14,M14,O14,Q14,S14,U14,W14,Y14),IF(H14="RECHAZADO","RECHAZADO","")) -> 0
A15: EP_4 | B15: DP_2 | C15: ET_4 | D15: 2 | E15: DP_4 | F15: ET_4 | G15: =+EP_2!D10 -> CONSORCIO IDOM-EPYPSA-IVARSSON ASOCIADOS | H15: HABILITADO | I15: =+EP_2!Q38 -> 6.1 | K15: =+IF($J$14=I15,42.5,(42.5*I15/$J$14)) -> 42.5 | L15: =+COUNTIF(EP_2!C44:C49,"CUMPLE") -> 5 | M15: =+IF(L15=0,0,IF(L15=1,4.17,IF(L15=2,8.33,IF(L15=3,12.5,IF(L15=4,16.67,IF(L15=5,20.83,IF(L15=6,25,"ERROR"))))))) -> 20.83 | N15: =+DP_2!D31 -> NELSON EVELIO LÓPEZ GIL | O15: =+DP_2!B73 -> 10 | P15: CARLOS FELIPE SÁNCHEZ PINZÓN | Q15: 10 | R15: Cumple | S15: 10 | T15: No presentó documentación | U15: 0 | V15: La certificación laboral de LINDA XIOMARA CAÑAS ROZO indica que ella esta desde el 01/06/2025 | W15: 0 | X15: Cumple | Y15: 0.25 | Z15: NO APLICA | AA15: =IF(H15="HABILITADO",SUM(K15,M15,O15,Q15,S15,U15,W15,Y15),IF(H15="RECHAZADO","RECHAZADO","")) -> 93.58
A16: EP_5 | B16: DP_3 | C16: ET_5 | D16: 3 | E16: DP_5 | F16: ET_5 | G16: =+EP_3!D10 -> CONSORCIO TRIMOVILIDAD CUNDINAMARCA | H16: {=IFERROR(IF(INDIRECT($B16&H$11)="NO HABILITADO","RECHAZADO",INDIRECT($B16&H$11)),"")} -> HABILITADO | I16: =+EP_3!Q38 -> 4.4 | K16: =+IF($J$14=I16,42.5,(42.5*I16/$J$14)) -> 30.655738 | L16: =+COUNTIF(EP_3!C44:C49,"CUMPLE") -> 5 | M16: =+IF(L16=0,0,IF(L16=1,4.17,IF(L16=2,8.33,IF(L16=3,12.5,IF(L16=4,16.67,IF(L16=5,20.83,IF(L16=6,25,"ERROR"))))))) -> 20.83 | N16: =+DP_3!D31 -> ALVARO ENRIQUE PACHON MUÑOZ | O16: =+DP_3!B71 -> 10 | P16: OSCAR EMILIO ARBELAEZ ARENAS | Q16: =+ET_3!B103 -> 10 | R16: Cumple | S16: 10 | T16: Cumple | U16: 2 | V16: Cumple | W16: 0.25 | X16: Cumple | Y16: 0.25 | Z16: NO APLICA | AA16: =IF(H16="HABILITADO",SUM(K16,M16,O16,Q16,S16,U16,W16,Y16),IF(H16="RECHAZADO","RECHAZADO","")) -> 83.985738
A17: EP_7 | B17: DP_4 | C17: ET_7 | D17: 4 | E17: DP_7 | F17: ET_7 | G17: =+EP_4!D10 -> CONSORCIO PMSS 2026 | H17: {=IFERROR(IF(INDIRECT($B17&H$11)="NO HABILITADO","RECHAZADO",INDIRECT($B17&H$11)),"")} -> HABILITADO | I17: =+EP_4!Q38 -> 6.1 | K17: =+IF($J$14=I17,42.5,(42.5*I17/$J$14)) -> 42.5 | L17: =+COUNTIF(EP_4!C44:C49,"CUMPLE") -> 6 | M17: =+IF(L17=0,0,IF(L17=1,4.17,IF(L17=2,8.33,IF(L17=3,12.5,IF(L17=4,16.67,IF(L17=5,20.83,IF(L17=6,25,"ERROR"))))))) -> 25 | N17: =+DP_4!D31 -> MÓNICA VANEGAS BETANCOURT | O17: =+DP_4!B73 -> 10 | P17: CAMILO ALFREDO ARDILA PINZÓN | Q17: =+ET_4!B103 -> 10 | R17: Cumple | S17: 10 | T17: Cumple | U17: 2 | V17: Cumple | W17: 0.25 | X17: Cumple | Y17: 0.25 | Z17: NO APLICA | AA17: =IF(H17="HABILITADO",SUM(K17,M17,O17,Q17,S17,U17,W17,Y17),IF(H17="RECHAZADO","RECHAZADO","")) -> 100
D18: NOTA: LOS PROPONENTES QUE SE ENCUENTRAN EN CAUSAL DE RECHAZO PRESENTAN PUNTAJE DE 0.

Sheet EP_1
A1: SECRETARIA DE MOVILIDAD CONTEMPORÁNEA
B5: CONCURSO DE MÉRITOS SMC-CM-CS-152-2026 - PMTIC
A9: INFORMACIÓN PROPONENTE
A10: PROPONENTE | D10: Consorcio Consultor PMSS Cundinamarca | E10: TIPO | G10: Plural (Consorcio) | H10: NIT | I10: NO APLICA
A11: ¿ES MIPYME? | D11: SÍ | E11: ¿ES EMPRENDIMIENTO O EMPRESA DE MUJERES? | G11: SÍ | H11: FECHA EVALUACIÓN | I11: 46157
A12: SECCIÓN 4 – VERIFICACIÓN POR CONTRATO APORTADO (una fila por contrato – máx. 7)
A13: N° | B13: OBJETO DEL CONTRATO (resumen) | D13: CÓDIGO(S) UNSPSC | E13: CERTIFICADO/ACTA | F13: AÑO TERM. | G13: SMMLV (año term.) | H13: VALOR CONTRATO SEGÚN CERTIFICACION (COP) | I13: VALOR CONTRATO SEGÚN CERTIFICACION (SMLMV) | J13: CHEQUEO VALOR CONTRATO SEGÚN CERTIFICACION (SMLMV) | K13: PORCENTAJE DE PARTICIPACIÓN EN EL VALOR EJECUTADO - REPORTADO EN EL RUP (%) | L13: PORCENTAJE DEL VALOR EJECUTADO CONFORME AL OBJETO SOLICITADO (%) | M13: VALOR TOTAL FACTURADO RELACIONADO CON OBJETO DEL CONTRATO Y AFECTADO POR % DEL VALOR EJECUTADO CONFORME AL OBJETO SOLICITADO POR EL % DE PARTICIPACION DEL RUP (SMMLV) | N13: % SOBRE PRESUP. OFICIAL | O13: OBJETO ADMISIBLE (Sec.2)
A14: 1 | G14: Valor por definir | J14: =IF(G14="","Valor por definir",IFERROR(H14/G14,"Revisar datos")) -> Revisar datos | M14: =I14*K14*L14 -> 0 | N14: =M14/$G$21 -> 0
A15: 2 | G15: Valor por definir | J15: =IF(G15="","Valor por definir",IFERROR(H15/G15,"Revisar datos")) -> Revisar datos | M15: =I15*K15*L15 -> 0 | N15: =M15/$G$21 -> 0
A16: 3 | G16: Valor por definir | J16: =IF(G16="","Valor por definir",IFERROR(H16/G16,"Revisar datos")) -> Revisar datos | M16: =I16*K16*L16 -> 0 | N16: =M16/$G$21 -> 0
A17: 4 | G17: Valor por definir | J17: =IF(G17="","Valor por definir",IFERROR(H17/G17,"Revisar datos")) -> Revisar datos | M17: =I17*K17*L17 -> 0 | N17: =M17/$G$21 -> 0
A18: 5 | G18: Valor por definir | J18: =IF(G18="","Valor por definir",IFERROR(H18/G18,"Revisar datos")) -> Revisar datos | M18: =I18*K18*L18 -> 0 | N18: =M18/$G$21 -> 0
A19: 6 | G19: Valor por definir | J19: =IF(G19="","Valor por definir",IFERROR(H19/G19,"Revisar datos")) -> Revisar datos | M19: =I19*K19*L19 -> 0 | N19: =M19/$G$21 -> 0
A20: 7 | G20: Valor por definir | J20: =IF(G20="","Valor por definir",IFERROR(H20/G20,"Revisar datos")) -> Revisar datos | M20: =I20*K20*L20 -> 0 | N20: =M20/$G$21 -> 0
A21: Presupuesto oficial | D21: COP | E21: 3411038010 | F21: SMMLV | G21: =E21/1750905 -> 1948.1571 | H21: SUMATORIA TOTAL (% sobre presupuesto oficial en SMMLV) → | M21: =SUM(M14:M20) -> 0 | N21: =M21/$G$21 -> 0
A24: 1. VERIFICACIÓN DILIGENCIAMIENTO FORMATO
A25: FORMATO | E25: ¿CUMPLE? | F25: OBSERVACIONES
A26: FORMATO 8 - EXPERIENCIA PONDERABLE DEL PROPONENTE | E26: CUMPLE | F26: Formato suscrito por RL del consorcio
A28: 2. VERIFICACIÓN ESPECÍFICA POR CONTRATO DE PLANES MAESTROS
A29: N° | B29: NÚMERO CONSECUTIVO DEL REPORTE DEL CONTRATO EJECUTADO EN EL RUP *HACER UNA LÍNEA POR PLAN* | C29: VALIDACIÓN CON EXPERIENCIA HABILITANTE | D29: DESCRIPCIÓN DE LAS ACTIVIDADES EJECUTADAS Descripción del Plan de_x000D_Movilidad Sostenible y_x000D_segura o Plan Maestro de_x000D_Movilidad que se acredita_x000D_para puntuación a través_x000D_del contrato ejecutado | E29: ENTIDAD CONTRATANTE | F29: CONTRATO O RESOLUCION | H29: CÓDIGO(S) UNSPSC | I29: FORMA DE EJECUCIÓN | K29: INTEGRANTE QUE APORTA EXPERIENCIA | L29: FECHA DE INICIACIÓN [DIA-MES-AÑO] | M29: FECHA DE TERMINACIÓN [DIA-MES-AÑO] | N29: AÑO DE TERMINACIÓN | O29: VALOR TOTAL REPORTADO EN EL RUP
F30: NO. | G30: OBJETO | I30: I,C,UT, OTRA | J30: % | P30: POBLACIÓN DEL MUNICIPIO, DISTRITO O ÁREA METROPOLITANA (SEGÚN DANE) - EN LA FECHA DE INICIO DEL CONTRATO OJO: AREA METROPOLITANA | Q30: PUNTAJE PONDERADO POR PLAN | R30: ¿OBJETO, ACTIVIDADES Y/O OBLIGACIONES CONTRACTUALES CUMPLEN? | S30: ¿LA CERTIFICACIÓN LABORAL O DOCUMENTACIÓN EQUIVALENTE CUMPLE CON LA INFORMACIÓN MÍNIMA REQUERIDA? | AA30: ¿LA EXPERIENCIA ES ADQUIRIDA EN EL EXTERIOR? | AD30: ¿LA EXPERIENCIA DE LA PERSONA JURÍDICA ES ACREDITADA EN DEBIDA FORMA POR UN ACCIONISTA, SOCIO O CONSTITUYENTE? | AE30: ¿LA EXPERIENCIA CUMPLE CON LOS REQUISITOS DEL PLIEGO DE CONDICIONES? | AF30: OBSERVACIONES
S31: NOMBRE O RAZÓN SOCIAL DEL CONTRATANTE | T31: NOMBRE O RAZÓN SOCIAL DEL CONTRATISTA | U31: NÚMERO DEL CONTRATO (SI TIENE) | V31: OBJETO DEL CONTRATO Y/O CARGO DESEMPEÑADO | W31: ACTIVIDADES U OBLIGACIONES DEL CONTRATO | X31: NOMBRE, CARGO Y FIRMA DE QUIEN EXPIDE LA CERTIFICACIÓN | Y31: FECHA DE EXPEDICIÓN DE LA CERTIFICACIÓN | Z31: ¿CUMPLE? | AA31: ¿EL DOCUMENTO SE ENCUENTRA DEBIDAMENTE APOSTILLADO? | AB31: ¿LA TRADUCCIÓN SE ENCUENTRA DEBIDAMENTE REALIZADA? EN CASO DE NO REQUERIRSE APOSTILLAJE | AC31: ¿CUMPLE?
A32: 1 | B32: 36 | C32: CUMPLE | D32: Plan de movilidad sostenible y segura o planmaestro de movilidad para área o regiónmetropolitana legalmente constituida | E32: FONDATT | F32: BM-41-STI-_x000D_2004 | G32: Formulación del Plan Maestro de Movilidad para Bogotá D.C. que incluye ordenamiento de estacionamientos | H32: 801015 801016 811015 811022 | I32: CONSORCIO | J32: 0.5 | K32: CAL Y MAYOR COLOMBIA SAS | L32: 38364 | M32: 38788 | N32: 2006 | O32: 1.3363074e+09 | P32: 6710910 | Q32: 0 | R32: CUMPLE | S32: SI | T32: SI | U32: SI | V32: SI | W32: NO | X32: SI | Y32: SI | Z32: =IF(AND(OR(S32="SI",S32="NO APLICA"), OR(T32="SI",T32="NO APLICA"), OR(U32="SI",U32="NO APLICA"), OR(V32="SI",V32="NO APLICA"), OR(W32="SI",W32="NO APLICA"), OR(X32="SI",X32="NO APLICA"), OR(Y32="SI",Y32="NO APLICA")), "CUMPLE", "NO CUMPLE") -> NO CUMPLE | AA32: NO APLICA | AB32: NO APLICA | AC32: =IF(AND(OR(AA32="SI",AA32="NO APLICA"), OR(AB32="SI",AB32="NO APLICA")), "CUMPLE", "NO CUMPLE") -> CUMPLE | AD32: CUMPLE | AE32: =IF(AND(OR(R32="CUMPLE",R32="NO APLICA"), OR(Z32="CUMPLE",Z32="NO APLICA"), OR(AC32="CUMPLE",AC32="NO APLICA"), OR(AD32="CUMPLE",AD32="NO APLICA")), "CUMPLE", "NO CUMPLE") -> NO CUMPLE | AF32: La certificación no cuenta con la descripción de las actividades desarrolladas, de acuerdo con lo indicado en el pliego de condiciones.
A33: 2 | B33: 39 | C33: CUMPLE | D33: Plan de movilidadsostenible y segura o planmaestro de movilidadpara municipio odistrito de 150.000habitantes o más. | E33: lnstituto Municipal_x000D_de Planeación de_x000D_Chihuahua | F33: 235 BD | G33: Plan Sectorial de Movilidad Urbana Sustentable_x000D_de la Ciudad de Chihuahua | H33: 801015 801016 811015 811022 | I33: CONSORCIO | J33: 0.4 | K33: CAL Y MAYOR COLOMBIA SAS | L33: 38642 | M33: 38929 | N33: 2006 | O33: 2.0076739e+09 | P33: 759000 | Q33: =IF(P33="AREA METROPOLITANA", 1.3, IF(AND(P33>=100000, P33<150000), 1, IF(P33>=150000, 1.2, "NO APLICA RANGO"))) -> 1.2 | R33: CUMPLE | S33: SI | T33: SI | U33: SI | V33: SI | W33: SI | X33: SI | Y33: SI | Z33: =IF(AND(OR(S33="SI",S33="NO APLICA"), OR(T33="SI",T33="NO APLICA"), OR(U33="SI",U33="NO APLICA"), OR(V33="SI",V33="NO APLICA"), OR(W33="SI",W33="NO APLICA"), OR(X33="SI",X33="NO APLICA"), OR(Y33="SI",Y33="NO APLICA")), "CUMPLE", "NO CUMPLE") -> CUMPLE | AA33: SI | AB33: NO APLICA | AC33: =IF(AND(OR(AA33="SI",AA33="NO APLICA"), OR(AB33="SI",AB33="NO APLICA")), "CUMPLE", "NO CUMPLE") -> CUMPLE | AD33: CUMPLE | AE33: =IF(AND(OR(R33="CUMPLE",R33="NO APLICA"), OR(Z33="CUMPLE",Z33="NO APLICA"), OR(AC33="CUMPLE",AC33="NO APLICA"), OR(AD33="CUMPLE",AD33="NO APLICA")), "CUMPLE", "NO CUMPLE") -> CUMPLE
A34: 3 | B34: 116 | C34: CUMPLE | D34: Plan de movilidad_x000D_sostenible y segura o plan_x000D_maestro de movilidad_x000D_para área o región_x000D_metropolitana legalmente_x000D_constituida | E34: METRO DE PANAMA | F34: SMP-06-_x000D_2014 | G34: Formulación del Plan Integral de Movilidad Urbana Sustentable para el área Metropolitana dePanamá en su fase 1 | H34: 801015 801016 811015 811022 | I34: CONSORCIO | J34: 0.9 | K34: CAL Y MAYOR COLOMBIA SAS | L34: 41791 | M34: 42217 | N34: 2015 | O34: 1859729414 | P34: AREA METROPOLITANA | Q34: =IF(P34="AREA METROPOLITANA", 1.3, IF(AND(P34>=100000, P34<150000), 1, IF(P34>=150000, 1.2, "NO APLICA RANGO"))) -> 1.3 | R34: CUMPLE | S34: SI | T34: SI | U34: SI | V34: SI | W34: SI | X34: SI | Y34: SI | Z34: =IF(AND(OR(S34="SI",S34="NO APLICA"), OR(T34="SI",T34="NO APLICA"), OR(U34="SI",U34="NO APLICA"), OR(V34="SI",V34="NO APLICA"), OR(W34="SI",W34="NO APLICA"), OR(X34="SI",X34="NO APLICA"), OR(Y34="SI",Y34="NO APLICA")), "CUMPLE", "NO CUMPLE") -> CUMPLE | AA34: SI | AB34: NO APLICA | AC34: =IF(AND(OR(AA34="SI",AA34="NO APLICA"), OR(AB34="SI",AB34="NO APLICA")), "CUMPLE", "NO CUMPLE") -> CUMPLE | AD34: CUMPLE | AE34: =IF(AND(OR(R34="CUMPLE",R34="NO APLICA"), OR(Z34="CUMPLE",Z34="NO APLICA"), OR(AC34="CUMPLE",AC34="NO APLICA"), OR(AD34="CUMPLE",AD34="NO APLICA")), "CUMPLE", "NO CUMPLE") -> CUMPLE
A35: 4 | B35: 124 | C35: CUMPLE | D35: Plan de movilidad_x000D_sostenible y segura o plan_x000D_maestro de movilidad_x000D_para área o región_x000D_metropolitana legalmente_x000D_constituida | E35: METRO DE PANAMA | F35: SMP-025-_x000D_2015 | G35: Formulación del Plan Integral de Movilidad Urbana_x000D_Sustentable para el área Metropolitana de_x000D_Panamá en su fase 2 | H35: 801015 801016 811015 811022 | I35: CONSORCIO | J35: 0.9 | K35: CAL Y MAYOR COLOMBIA SAS | L35: 42370 | M35: 42583 | N35: 2016 | O35: 1510057500 | P35: AREA METROPOLITANA | Q35: 0 | R35: NO CUMPLE | S35: SI | T35: SI | U35: SI | V35: SI | W35: SI | X35: SI | Y35: SI | Z35: =IF(AND(OR(S35="SI",S35="NO APLICA"), OR(T35="SI",T35="NO APLICA"), OR(U35="SI",U35="NO APLICA"), OR(V35="SI",V35="NO APLICA"), OR(W35="SI",W35="NO APLICA"), OR(X35="SI",X35="NO APLICA"), OR(Y35="SI",Y35="NO APLICA")), "CUMPLE", "NO CUMPLE") -> CUMPLE | AA35: SI | AB35: NO APLICA | AC35: =IF(AND(OR(AA35="SI",AA35="NO APLICA"), OR(AB35="SI",AB35="NO APLICA")), "CUMPLE", "NO CUMPLE") -> CUMPLE | AD35: CUMPLE | AE35: =IF(AND(OR(R35="CUMPLE",R35="NO APLICA"), OR(Z35="CUMPLE",Z35="NO APLICA"), OR(AC35="CUMPLE",AC35="NO APLICA"), OR(AD35="CUMPLE",AD35="NO APLICA")), "CUMPLE", "NO CUMPLE") -> NO CUMPLE | AF35: El objeto de la certificación es el mismo del contrato 116. Las actividades obedecen a la segunda parte de la formulación del mismo PMSS de Panamá
A36: 5 | B36: 159 | C36: CUMPLE | D36: Plan de movilidad_x000D_sostenible y segura o plan_x000D_maestro de movilidad_x000D_para municipio o_x000D_distrito de 150.000_x000D_habitantes o más. | E36: FINDETER | F36: 005 DE 13 DE FEBRERO DE 2017 | G36: EL CONSULTOR se obliga para con FINDETER elaborar el Plan Maestro de Movilidad y EspacioPúblico del Municipio de Ibagué y, desarrollar eldiseño a detalle de las vías Calle 103 y Carrera13, conforme a lo indicado en la SolicitudEstándar de Propuestas, enviada el día 29 denoviembre de 2016, y a la propuesta presentadapor el CONSULTOR el día 19 de diciembre de2016, estos documentos hacen parte integral delpresente contrato. | H36: 801015 801016 811015 811022 | I36: CONSORCIO | J36: 0.5 | K36: CAL Y MAYOR COLOMBIA SAS | L36: 42795 | M36: 43284 | N36: 2018 | O36: 3600336373 | P36: 525076 | Q36: =IF(P36="AREA METROPOLITANA", 1.3, IF(AND(P36>=100000, P36<150000), 1, IF(P36>=150000, 1.2, "NO APLICA RANGO"))) -> 1.2 | R36: CUMPLE | S36: SI | T36: SI | U36: SI | V36: SI | W36: SI | X36: SI | Y36: SI | Z36: =IF(AND(OR(S36="SI",S36="NO APLICA"), OR(T36="SI",T36="NO APLICA"), OR(U36="SI",U36="NO APLICA"), OR(V36="SI",V36="NO APLICA"), OR(W36="SI",W36="NO APLICA"), OR(X36="SI",X36="NO APLICA"), OR(Y36="SI",Y36="NO APLICA")), "CUMPLE", "NO CUMPLE") -> CUMPLE | AA36: NO APLICA | AB36: NO APLICA | AC36: =IF(AND(OR(AA36="SI",AA36="NO APLICA"), OR(AB36="SI",AB36="NO APLICA")), "CUMPLE", "NO CUMPLE") -> CUMPLE | AD36: CUMPLE | AE36: =IF(AND(OR(R36="CUMPLE",R36="NO APLICA"), OR(Z36="CUMPLE",Z36="NO APLICA"), OR(AC36="CUMPLE",AC36="NO APLICA"), OR(AD36="CUMPLE",AD36="NO APLICA")), "CUMPLE", "NO CUMPLE") -> CUMPLE
A37: 6 | B37: 204 | C37: CUMPLE | D37: Plan de movilidad sostenible y segura o plan maestro de movilidad para municipio odistrito de 150.000habitantes o más. | E37: MUNICIPIO DE TUNJA | F37: 1051 DE_x000D_2021 | G37: FORMULAR Y ESTRUCTURAR EL PLAN MAESTRO DE MOVILIDAD Y ESPACIO PÚBLICO VISIÓN 2020-2040, Y REALIZAR LA ESTRUCTURACIÓN TÉCNICA, LEGAL Y FINANCIERA DEL SISTEMA ESTRATÉGICO DE TRANSPORTE PÚBLICO PARA EL MUNICIPIO DE TUNJA | H37: 801015 801016 811015 811022 | I37: CONSORCIO | J37: 0.75 | K37: CAL Y MAYOR COLOMBIA SAS | L37: 44496 | M37: 44925 | N37: 2022 | O37: 2699888588 | P37: 181676 | Q37: =IF(P37="AREA METROPOLITANA", 1.3, IF(AND(P37>=100000, P37<150000), 1, IF(P37>=150000, 1.2, "NO APLICA RANGO"))) -> 1.2 | R37: CUMPLE | S37: SI | T37: SI | U37: SI | V37: SI | W37: SI | X37: SI | Y37: SI | Z37: =IF(AND(OR(S37="SI",S37="NO APLICA"), OR(T37="SI",T37="NO APLICA"), OR(U37="SI",U37="NO APLICA"), OR(V37="SI",V37="NO APLICA"), OR(W37="SI",W37="NO APLICA"), OR(X37="SI",X37="NO APLICA"), OR(Y37="SI",Y37="NO APLICA")), "CUMPLE", "NO CUMPLE") -> CUMPLE | AA37: NO APLICA | AB37: NO APLICA | AC37: =IF(AND(OR(AA37="SI",AA37="NO APLICA"), OR(AB37="SI",AB37="NO APLICA")), "CUMPLE", "NO CUMPLE") -> CUMPLE | AD37: CUMPLE | AE37: =IF(AND(OR(R37="CUMPLE",R37="NO APLICA"), OR(Z37="CUMPLE",Z37="NO APLICA"), OR(AC37="CUMPLE",AC37="NO APLICA"), OR(AD37="CUMPLE",AD37="NO APLICA")), "CUMPLE", "NO CUMPLE") -> CUMPLE
A38: SUMATORIA TOTAL EXPRESADA EN SMMLV | Q38: =SUM(Q32:Q37) -> 4.9
A40: 3. VERIFICACIÓN RELACIONADA CON CONTRATOS DE DISEÑO DE RUTAS URBANAS
A41: N° | B41: NÚMERO CONSECUTIVO DEL REPORTE DEL CONTRATO EJECUTADO EN EL RUP | C41: VALIDACIÓN CON EXPERIENCIA HABILITANTE | D41: DESCRIPCIÓN DE LAS ACTIVIDADES EJECUTADAS | E41: ENTIDAD CONTRATANTE | F41: CONTRATO O RESOLUCION | H41: CÓDIGO(S) UNSPSC | I41: FORMA DE EJECUCIÓN | K41: INTEGRANTE QUE APORTA EXPERIENCIA | L41: FECHA DE INICIACIÓN [DIA-MES-AÑO] | M41: FECHA DE TERMINACIÓN [DIA-MES-AÑO] | N41: AÑO DE TERMINACIÓN | O41: VALOR TOTAL
F42: NO. | G42: OBJETO | I42: I,C,UT, OTRA | J42: % | P42: ¿OBJETO, ACTIVIDADES Y/O OBLIGACIONES CONTRACTUALES CUMPLEN? | Q42: ¿LA CERTIFICACIÓN LABORAL O DOCUMENTACIÓN EQUIVALENTE CUMPLE CON LA INFORMACIÓN MÍNIMA REQUERIDA? | Y42: ¿LA EXPERIENCIA ES ADQUIRIDA EN EL EXTERIOR? | AB42: ¿LA EXPERIENCIA DE LA PERSONA JURÍDICA ES ACREDITADA EN DEBIDA FORMA POR UN ACCIONISTA, SOCIO O CONSTITUYENTE? | AC42: ¿LA EXPERIENCIA CUMPLE CON LOS REQUISITOS DEL PLIEGO DE CONDICIONES? | AD42: OBSERVACIONES
Q43: NOMBRE O RAZÓN SOCIAL DEL CONTRATANTE | R43: NOMBRE O RAZÓN SOCIAL DEL CONTRATISTA | S43: NÚMERO DEL CONTRATO (SI TIENE) | T43: OBJETO DEL CONTRATO Y/O CARGO DESEMPEÑADO | U43: ACTIVIDADES U OBLIGACIONES DEL CONTRATO | V43: NOMBRE, CARGO Y FIRMA DE QUIEN EXPIDE LA CERTIFICACIÓN | W43: FECHA DE EXPEDICIÓN DE LA CERTIFICACIÓN | X43: ¿CUMPLE? | Y43: ¿EL DOCUMENTO SE ENCUENTRA DEBIDAMENTE APOSTILLADO? | Z43: ¿LA TRADUCCIÓN SE ENCUENTRA DEBIDAMENTE REALIZADA? EN CASO DE NO REQUERIRSE APOSTILLAJE | AA43: ¿CUMPLE?
A44: 1 | B44: CYMC 156 | C44: CUMPLE | D44: diseño de rutas urbanas o interurbanas de transporte público de pasajeros o el diseño a nivel de factibilidad o la estructuración técnica de sistemas de transporte público de pasajeros. | E44: SETP NEIVA | F44: 109 DE 2017 | G44: Elaboración de laestructuración técnica, legal y financiera dedetalle del SistemaEstratégicode Transporte (SETP) de la ciudad de Neiva | H44: 801015 801016 811015 811022 | I44: CONSORCIO | J44: 0.65 | K44: CAL Y MAYOR COLOMBIA SAS | L44: 43042 | M44: 43375 | N44: 2018 | O44: 965317150 | P44: CUMPLE | Q44: SI | R44: SI | S44: SI | T44: SI | U44: SI | V44: SI | W44: SI | X44: CUMPLE | Y44: NO APLICA | Z44: NO APLICA | AA44: =IF(AND(OR(Y44="SI",Y44="NO APLICA"), OR(Z44="SI",Z44="NO APLICA")), "CUMPLE", "NO CUMPLE") -> CUMPLE | AB44: CUMPLE | AC44: =IF(AND(OR(P44="CUMPLE",P44="NO APLICA"), OR(X44="CUMPLE",X44="NO APLICA"), OR(AA44="CUMPLE",AA44="NO APLICA"), OR(AB44="CUMPLE",AB44="NO APLICA")), "CUMPLE", "NO CUMPLE") -> CUMPLE
A45: 2 | B45: CYMC 205 CONARCON 16 | C45: CUMPLE | D45: diseño de rutas urbanas o interurbanas de transporte público de pasajeros o el diseño a nivel de factibilidad o la estructuración técnica de sistemas de transporte público de pasajeros. | E45: ÁREA METROPOLITAN A DEL CENTRO OCCIDENTE | F45: N/E | G45: Prestar servicios de consultoría al AMCO para realizar un estudio que permita la reestructuración técnica, tecnológica, legal y fiananciera para el Sitema Integrado Público SITP | H45: 801015 811022 | I45: CONSORCIO | J45: 1 | K45: CAL Y MAYOR COLOMBIA SAS (60%) CONARCON SAS (40%) | L45: 44757 | M45: 44982 | N45: 2023 | O45: 1199140848 | P45: CUMPLE | Q45: SI | R45: SI | S45: NO APLICA | T45: SI | U45: SI | V45: SI | W45: SI | X45: CUMPLE | Y45: NO APLICA | Z45: NO APLICA | AA45: =IF(AND(OR(Y45="SI",Y45="NO APLICA"), OR(Z45="SI",Z45="NO APLICA")), "CUMPLE", "NO CUMPLE") -> CUMPLE | AB45: CUMPLE | AC45: =IF(AND(OR(P45="CUMPLE",P45="NO APLICA"), OR(X45="CUMPLE",X45="NO APLICA"), OR(AA45="CUMPLE",AA45="NO APLICA"), OR(AB45="CUMPLE",AB45="NO APLICA")), "CUMPLE", "NO CUMPLE") -> CUMPLE
A46: 3 | B46: CYMC 162 | C46: CUMPLE | D46: diseño de rutas urbanas o interurbanas de transporte público de pasajeros o el diseño a nivel de factibilidad o la estructuración técnica de sistemas de transporte público de pasajeros. | E46: DOPPELMAYR MÉXICO | F46: N/E | G46: Estudios de factibilidad para el sistema de transportepublico tipo teleférico enelmunicipio de Naucalpan | H46: 801015 801016 811015 811022 | I46: INDIVIDUAL | J46: 1 | K46: CAL Y MAYOR COLOMBIA SAS | L46: 43166 | M46: 43306 | N46: 2018 | O46: 1.7783478e+09 | P46: CUMPLE | Q46: SI | R46: SI | S46: NO APLICA | T46: SI | U46: SI | V46: SI | W46: SI | X46: CUMPLE | Y46: SI | Z46: NO APLICA | AA46: =IF(AND(OR(Y46="SI",Y46="NO APLICA"), OR(Z46="SI",Z46="NO APLICA")), "CUMPLE", "NO CUMPLE") -> CUMPLE | AB46: CUMPLE | AC46: =IF(AND(OR(P46="CUMPLE",P46="NO APLICA"), OR(X46="CUMPLE",X46="NO APLICA"), OR(AA46="CUMPLE",AA46="NO APLICA"), OR(AB46="CUMPLE",AB46="NO APLICA")), "CUMPLE", "NO CUMPLE") -> CUMPLE
A47: 4 | B47: CONARCON 46 | C47: =+AC47 -> CUMPLE | D47: diseño de rutas urbanas o interurbanas de transporte público de pasajeros o el diseño a nivel de factibilidad o la estructuración técnica de sistemas de transporte público de pasajeros. | E47: Transconsult Sucursal Colombia | F47: N/E | G47: Modelación de alternativas de la Fase I del Sistema Acabus y ajuste de Rutas acorde a la solicitud de la coordinación por parte del Estado Guerrero. México. | H47: 801015 801016 811015 811022 | I47: INDIVIDUAL | J47: 1 | K47: CONARCON SAS | L47: 41284 | M47: 41363 | N47: 2013 | O47: 31880280 | P47: CUMPLE | Q47: SI | R47: SI | S47: NO APLICA | T47: SI | U47: SI | V47: SI | W47: SI | X47: CUMPLE | Y47: NO APLICA | Z47: NO APLICA | AA47: =IF(AND(OR(Y47="SI",Y47="NO APLICA"), OR(Z47="SI",Z47="NO APLICA")), "CUMPLE", "NO CUMPLE") -> CUMPLE | AB47: CUMPLE | AC47: =IF(AND(OR(P47="CUMPLE",P47="NO APLICA"), OR(X47="CUMPLE",X47="NO APLICA"), OR(AA47="CUMPLE",AA47="NO APLICA"), OR(AB47="CUMPLE",AB47="NO APLICA")), "CUMPLE", "NO CUMPLE") -> CUMPLE
A48: 5 | B48: CONARCON 47 | C48: CUMPLE | D48: diseño de rutas urbanas o interurbanas de transporte público de pasajeros o el diseño a nivel de factibilidad o la estructuración técnica de sistemas de transporte público de pasajeros. | E48: Transconsult Sucursal Colombia | F48: N/E | G48: Asesoría para el componente técnico-operacional de la Estructuración Técnica, Legal y Financiera del Sistema Integrado de Transporte Público del Área Metropolitana del Centro - Occidente - MEGABUS. Colombia. | H48: 801015 801016 811015 811022 | I48: INDIVIDUAL | J48: 1 | K48: CONARCON SAS | L48: 41153 | M48: 41516 | N48: 2013 | O48: 112696320 | P48: CUMPLE | Q48: SI | R48: SI | S48: NO APLICA | T48: SI | U48: SI | V48: SI | W48: SI | X48: CUMPLE | Y48: NO APLICA | Z48: NO APLICA | AA48: =IF(AND(OR(Y48="SI",Y48="NO APLICA"), OR(Z48="SI",Z48="NO APLICA")), "CUMPLE", "NO CUMPLE") -> CUMPLE | AB48: CUMPLE | AC48: =IF(AND(OR(P48="CUMPLE",P48="NO APLICA"), OR(X48="CUMPLE",X48="NO APLICA"), OR(AA48="CUMPLE",AA48="NO APLICA"), OR(AB48="CUMPLE",AB48="NO APLICA")), "CUMPLE", "NO CUMPLE") -> CUMPLE
A49: 6 | B49: CONARCON 66 | C49: CUMPLE | D49: diseño de rutas urbanas o interurbanas de transporte público de pasajeros o el diseño a nivel de factibilidad o la estructuración técnica de sistemas de transporte público de pasajeros. | E49: Transconsult Sucursal Colombia | F49: N/E | G49: Asesoría técnica para el estudio de factibilidad de alternativa de transporte público y una flota piloto de buses eléctricos para el área metropolitana de Asunción, Paraguay. | H49: 801015 801016 811015 811022 | I49: INDIVIDUAL | J49: 1 | K49: CONARCON SAS | L49: 30/05/2019 | M49: 43738 | N49: 2019 | O49: 31773525 | P49: CUMPLE | Q49: SI | R49: SI | S49: NO APLICA | T49: SI | U49: SI | V49: SI | W49: SI | X49: CUMPLE | Y49: NO APLICA | Z49: NO APLICA | AA49: =IF(AND(OR(Y49="SI",Y49="NO APLICA"), OR(Z49="SI",Z49="NO APLICA")), "CUMPLE", "NO CUMPLE") -> CUMPLE | AB49: CUMPLE | AC49: =IF(AND(OR(P49="CUMPLE",P49="NO APLICA"), OR(X49="CUMPLE",X49="NO APLICA"), OR(AA49="CUMPLE",AA49="NO APLICA"), OR(AB49="CUMPLE",AB49="NO APLICA")), "CUMPLE", "NO CUMPLE") -> CUMPLE

Sheet DP_1
A1: SECRETARIA DE MOVILIDAD CONTEMPORÁNEA
A5: CONCURSO DE MÉRITOS SMC-CM-CS-152-2026 - PMTIC
A9: PONDERACIÓN DE PERSONAL | AV9: No eliminar | LV9: celdas ocultas (AC - LA)
AB10: =A11&A13 | AK10: PERIODOS DE EXPERIENCIA Y PUNTAJES
AK11: Mayor o igual (>=) | AL11: =+[1]PERFILES!I13 -> 3 | AM11: =+[1]PERFILES!J13 -> 4 | AN11: =+[1]PERFILES!K13 -> 5 | AO11: =+[1]PERFILES!L13 -> 6 | AP11: =+[1]PERFILES!M13 -> 7 | AQ11: =+[1]PERFILES!N13 -> 8 | AR11: =+[1]PERFILES!O13 -> 9 | AS11: =+[1]PERFILES!P13 -> 10 | ... AU11: =+[1]PERFILES!R13 -> 12
AK12: Menor a (<) | AL12: =+[1]PERFILES!I14 -> 4 | AM12: =+[1]PERFILES!J14 -> 5 | AN12: =+[1]PERFILES!K14 -> 6 | AO12: =+[1]PERFILES!L14 -> 7 | AP12: =+[1]PERFILES!M14 -> 8 | AQ12: =+[1]PERFILES!N14 -> 9 | AR12: =+[1]PERFILES!O14 -> 10 | AS12: =+[1]PERFILES!P14 -> 11 | ... AU12: =+[1]PERFILES!R14 -> 100
AK13: Puntaje asignado | AL13: =+VLOOKUP($A$13,[1]PERFILES!$A$15:$R$24,9,FALSE) -> #N/A | AM13: =+VLOOKUP($A$13,[1]PERFILES!$A$15:$R$24,10,FALSE) -> #N/A | AN13: =+VLOOKUP($A$13,[1]PERFILES!$A$15:$R$24,11,FALSE) -> #N/A | AO13: =+VLOOKUP($A$13,[1]PERFILES!$A$15:$R$24,12,FALSE) -> #N/A | AP13: =+VLOOKUP($A$13,[1]PERFILES!$A$15:$R$24,13,FALSE) -> #N/A | AQ13: =+VLOOKUP($A$13,[1]PERFILES!$A$15:$R$24,14,FALSE) -> #N/A | AR13: =+VLOOKUP($A$13,[1]PERFILES!$A$15:$R$24,15,FALSE) -> #N/A | AS13: =+VLOOKUP($A$13,[1]PERFILES!$A$15:$R$24,16,FALSE) -> #N/A | AT13: =+VLOOKUP($A$13,[1]PERFILES!$A$15:$R$24,17,FALSE) -> #N/A | AU13: =+VLOOKUP($A$13,[1]PERFILES!$A$15:$R$24,18,FALSE) -> #N/A
AK14: Puntaje obtenido | AL14: =+IF(AND($C$111>=AL11,$C$111<AL12),AL13,0) -> 0 | AM14: =+IF(AND($C$111>=AM11,$C$111<AM12),AM13,0) -> 0 | AN14: =+IF(AND($C$111>=AN11,$C$111<AN12),AN13,0) -> 0 | AO14: =+IF(AND($C$111>=AO11,$C$111<AO12),AO13,0) -> 0 | AP14: =+IF(AND($C$111>=AP11,$C$111<AP12),AP13,0) -> 0 | AQ14: =+IF(AND($C$111>=AQ11,$C$111<AQ12),AQ13,0) -> 0 | AR14: =+IF(AND($C$111>=AR11,$C$111<AR12),AR13,0) -> 0 | AS14: =+IF(AND($C$111>=AS11,$C$111<AS12),AS13,0) -> 0 | ... AU14: =+IF(AND($C$111>=AU11,$C$111<AU12),AU13,0) -> 0
A25: HABILITACIÓN DEL PERSONAL MÍNIMO REQUERIDO
A28: INFORMACIÓN PROFESIONAL PROPUESTO
A29: PROPONENTE | D29: =+EP_1!D10 -> Consorcio Consultor PMSS Cundinamarca
A30: PERFIL APLICADO | D30: Director/a del proyecto
A31: NOMBRE | D31: JUAN CARLOS OROBIO QUIÑONES
A32: NRO. IDENTIFICACIÓN | D32: 76.314.131
A33: FECHA MÁXIMA PRESENTACIÓN OFERTAS | D33: 46155
A34: HABILITACIÓN | D34: HABILITADO
A36: 1. VERIFICACIÓN DILIGENCIAMIENTO FORMATO
A37: FORMATO | D37: ¿CUMPLE? | E37: OBSERVACIONES | I37: OBSERVACIONES
A38: FORMATO 12 – EXPERIENCIA Y FORMACIÓN ACADÉMICA ADICIONAL | D38: CUMPLE | I38: formato suscrito por el profesional y el RL del consorcio
A40: 2. POSGRADO ADICIONAL
A41: VERIFICACIÓN POSGRADO | E41: OBSERVACIONES
A42: TITULO OBTENIDO | B42: Especialista en Ingeniería de Vías Terrestres | E42: UNIVERSIDAD DEL CAUCA- 30/5/1997
A43: DOCUMENTACIÓN DE ACREDITACIÓN | B43: DIPLOMA DE GRADO CONSULTA SNIES | C43: ¿CUMPLE? | D43: CUMPLE
A44: NBC ACREDITADO | B44: Ingeniería civil y afines | C44: ¿CUMPLE? | D44: CUMPLE
A45: ¿FORMACIÓN ADQUIRIDA EN EL EXTERIOR? | B45: NO | C45: ¿CUMPLE CON ACREDTIACIÓN REQUERIDA EN CASO DE HABERSE ADQUIRIDO LA FORMACIÓN EN EL EXTERIOR? | D45: =IF(B45="SI",IF(AND(B47="SI",B48="SI"),"CUMPLE","NO CUMPLE"),"NO APLICA") -> NO APLICA
A46: DOCUMENTACIÓN DE ACREDITACIÓN PARA FORMACIÓN ADQUIRIDA EN EL EXTERIOR | B46: NO
A47: ¿LA FORMACIÓN SE ENCUENTRA HOMOLOGADA/CONVALIDADA? | B47: NO APLICA
A48: ¿EL DOCUMENTO SE ENCUENTRA DEBIDAMENTE APOSTILLADO O LEGALIZADO? | B48: NO APLICA
A52: 4. VERIFICACIÓN EXPERIENCIA ESPECÍFICA (AÑOS) NO APLICA PARA EL PRESENTE PROCESO | E52: OBSERVACIONES
A53: REQUERIDA | B53: 0 | CE53: =CE61 -> 0 | CF53: =CF61 -> 1 | CG53: =CG61 -> 1 | CH53: =CH61 -> 1 | CI53: =CI61 -> 1 | CJ53: =CJ61 -> 1 | CK53: =CK61 -> 1 | CL53: =CL61 -> 1 | ... LT53: =LT61 -> 1
A54: OBTENIDA | B54: =SUM(AI62:AI96)/365 -> 0 | CC54: =SUM($CE$54:$LT$54) -> 0 | CD54: Específica | CE54: {=MAX(IF($BB$62:$BB$96=1,CE62:CE96))} -> 0 | CF54: {=MAX(IF($BB$62:$BB$96=1,CF62:CF96))} -> 0 | CG54: {=MAX(IF($BB$62:$BB$96=1,CG62:CG96))} -> 0 | CH54: {=MAX(IF($BB$62:$BB$96=1,CH62:CH96))} -> 0 | CI54: {=MAX(IF($BB$62:$BB$96=1,CI62:CI96))} -> 0 | CJ54: {=MAX(IF($BB$62:$BB$96=1,CJ62:CJ96))} -> 0 | CK54: {=MAX(IF($BB$62:$BB$96=1,CK62:CK96))} -> 0 | CL54: {=MAX(IF($BB$62:$BB$96=1,CL62:CL96))} -> 0 | ... LT54: {=MAX(IF($BB$62:$BB$96=1,LT62:LT96))} -> 0
A55: ¿CUMPLE? | B55: =IF(B54>B53,"CUMPLE","NO CUMPLE") -> NO CUMPLE | CC55: =SUM($CE$55:$LT$55) -> 0 | CD55: General | CE55: =MAX(CE62:CE96) -> 0 | CF55: =MAX(CF62:CF96) -> 0 | CG55: =MAX(CG62:CG96) -> 0 | CH55: =MAX(CH62:CH96) -> 0 | CI55: =MAX(CI62:CI96) -> 0 | CJ55: =MAX(CJ62:CJ96) -> 0 | CK55: =MAX(CK62:CK96) -> 0 | CL55: =MAX(CL62:CL96) -> 0 | ... LT55: =MAX(LT62:LT96) -> 0
CE56: =COLUMN()-COLUMN($CE$61)+1 -> 1 | CF56: =COLUMN()-COLUMN($CE$61)+1 -> 2 | CG56: =COLUMN()-COLUMN($CE$61)+1 -> 3 | CH56: =COLUMN()-COLUMN($CE$61)+1 -> 4 | CI56: =COLUMN()-COLUMN($CE$61)+1 -> 5 | CJ56: =COLUMN()-COLUMN($CE$61)+1 -> 6 | CK56: =COLUMN()-COLUMN($CE$61)+1 -> 7 | CL56: =COLUMN()-COLUMN($CE$61)+1 -> 8 | ... LT56: =COLUMN()-COLUMN($CE$61)+1 -> 250
CD57: Orden con duplicados | CE57: =SMALL($AW$62:$AX$96,CE60) -> 1 | CF57: =SMALL($AW$62:$AX$96,CF60) -> 1 | CG57: =SMALL($AW$62:$AX$96,CG60) -> 1 | CH57: =SMALL($AW$62:$AX$96,CH60) -> 1 | CI57: =SMALL($AW$62:$AX$96,CI60) -> 1 | CJ57: =SMALL($AW$62:$AX$96,CJ60) -> 1 | CK57: =SMALL($AW$62:$AX$96,CK60) -> 1 | CL57: =SMALL($AW$62:$AX$96,CL60) -> 1 | ... LT57: =SMALL($AW$62:$AX$96,LT60) -> #NUM!
CD58: Orden sin duplicados | CE58: =IFERROR(IF(COUNTIF($CE57:CE57,CE57)=1,CE57,""),"") -> 1 | CF58: =IFERROR(IF(COUNTIF($CE57:CF57,CF57)=1,CF57,""),"") | CG58: =IFERROR(IF(COUNTIF($CE57:CG57,CG57)=1,CG57,""),"") | CH58: =IFERROR(IF(COUNTIF($CE57:CH57,CH57)=1,CH57,""),"") | CI58: =IFERROR(IF(COUNTIF($CE57:CI57,CI57)=1,CI57,""),"") | CJ58: =IFERROR(IF(COUNTIF($CE57:CJ57,CJ57)=1,CJ57,""),"") | CK58: =IFERROR(IF(COUNTIF($CE57:CK57,CK57)=1,CK57,""),"") | CL58: =IFERROR(IF(COUNTIF($CE57:CL57,CL57)=1,CL57,""),"") | ... LT58: =IFERROR(IF(COUNTIF($CE57:LT57,LT57)=1,LT57,""),"")
AD59: RELACIÓN DE LOS PERIODOS CONTABILIZADOS EN LA EXPERIENCIA SIN TRASLAPOS | CD59: Orden único | CE59: =SMALL($CE$58:$LT$58,CE60) -> 1 | CF59: =SMALL($CE$58:$LT$58,CF60) -> #NUM! | CG59: =SMALL($CE$58:$LT$58,CG60) -> #NUM! | CH59: =SMALL($CE$58:$LT$58,CH60) -> #NUM! | CI59: =SMALL($CE$58:$LT$58,CI60) -> #NUM! | CJ59: =SMALL($CE$58:$LT$58,CJ60) -> #NUM! | CK59: =SMALL($CE$58:$LT$58,CK60) -> #NUM! | CL59: =SMALL($CE$58:$LT$58,CL60) -> #NUM! | ... LT59: =SMALL($CE$58:$LT$58,LT60) -> #NUM!
A60: CONSECUTIVO | B60: ENTIDAD | C60: EXPERIENCIA (dd/mm/aaaa) | E60: FECHA AJUSTADA | G60: APLICA ESPECÍFICA | H60: VALIDACIÓN FECHAS | I60: ¿SE CUMPLE QUE LA EXPERIENCIA ADICIONAL ES DIFERENTE A LA REQUERIDA COMO HABILITANTE? | J60: ¿LA CERTIFICACIÓN LABORAL CUMPLE CON LA INFORMACIÓN MÍNIMA REQUERIDA? | R60: EL PROPONENTE O ALGUNO DE SUS MIEMBROS CERTIFICA LA EXPERIENCIA DEL PROFESIONAL | U60: UNA PERSONA JURÍDICA CERTIFICA LA EXPERIENCIA DE SU REPRESENTANTE LEGAL | W60: DOCUMENTACIÓN DE ACREDITACIÓN DE EXPERIENCIA ADQUIRIDA EN EL EXTERIOR | Z60: RESULTADO | AA60: OBSERVACIONES | AD60: GENERAL | AG60: ESPECÍFICA | BF60: GRAL | BQ60: ESP | CE60: 1 | CF60: 2 | CG60: 3 | CH60: 4 | CI60: 5 | CJ60: 6 | CK60: 7 | CL60: 8 | CM60: 9 | CN60: 10 | CO60: 11 | CP60: 12 | CQ60: 13 | CR60: 14 | CS60: 15 | CT60: 16 | CU60: 17 | CV60: 18 | CW60: 19 | CX60: 20 | CY60: 21 | CZ60: 22 | DA60: 23 | DB60: 24 | DC60: 25 | DD60: 26 | DE60: 27 | DF60: 28 | DG60: 29 | DH60: 30 | DI60: 31 | DJ60: 32 | DK60: 33 | DL60: 34 | DM60: 35 | DN60: 36 | DO60: 37 | DP60: 38 | DQ60: 39 | DR60: 40 | DS60: 41 | DT60: 42 | DU60: 43 | DV60: 44 | DW60: 45 | DX60: 46 | DY60: 47 | DZ60: 48 | EA60: 49 | EB60: 50 | EC60: 51 | ED60: 52 | EE60: 53 | EF60: 54 | EG60: 55 | EH60: 56 | EI60: 57 | EJ60: 58 | EK60: 59 | EL60: 60 | EM60: 61 | EN60: 62 | EO60: 63 | EP60: 64 | EQ60: 65 | ER60: 66 | ES60: 67 | ET60: 68 | EU60: 69 | EV60: 70 | EW60: 71 | EX60: 72 | EY60: 73 | EZ60: 74 | FA60: 75 | FB60: 76 | FC60: 77 | FD60: 78 | FE60: 79 | FF60: 80 | FG60: 81 | FH60: 82 | FI60: 83 | FJ60: 84 | FK60: 85 | FL60: 86 | FM60: 87 | FN60: 88 | FO60: 89 | FP60: 90 | FQ60: 91 | FR60: 92 | FS60: 93 | FT60: 94 | FU60: 95 | FV60: 96 | FW60: 97 | FX60: 98 | FY60: 99 | FZ60: 100 | GA60: 101 | GB60: 102 | GC60: 103 | GD60: 104 | GE60: 105 | GF60: 106 | GG60: 107 | GH60: 108 | GI60: 109 | GJ60: 110 | GK60: 111 | GL60: 112 | GM60: 113 | GN60: 114 | GO60: 115 | GP60: 116 | GQ60: 117 | GR60: 118 | GS60: 119 | GT60: 120 | GU60: 121 | GV60: 122 | GW60: 123 | GX60: 124 | GY60: 125 | GZ60: 126 | HA60: 127 | HB60: 128 | HC60: 129 | HD60: 130 | HE60: 131 | HF60: 132 | HG60: 133 | HH60: 134 | HI60: 135 | HJ60: 136 | HK60: 137 | HL60: 138 | HM60: 139 | HN60: 140 | HO60: 141 | HP60: 142 | HQ60: 143 | HR60: 144 | HS60: 145 | HT60: 146 | HU60: 147 | HV60: 148 | HW60: 149 | HX60: 150 | HY60: 151 | HZ60: 152 | IA60: 153 | IB60: 154 | IC60: 155 | ID60: 156 | IE60: 157 | IF60: 158 | IG60: 159 | IH60: 160 | II60: 161 | IJ60: 162 | IK60: 163 | IL60: 164 | IM60: 165 | IN60: 166 | IO60: 167 | IP60: 168 | IQ60: 169 | IR60: 170 | IS60: 171 | IT60: 172 | IU60: 173 | IV60: 174 | IW60: 175 | IX60: 176 | IY60: 177 | IZ60: 178 | JA60: 179 | JB60: 180 | JC60: 181 | JD60: 182 | JE60: 183 | JF60: 184 | JG60: 185 | JH60: 186 | JI60: 187 | JJ60: 188 | JK60: 189 | JL60: 190 | JM60: 191 | JN60: 192 | JO60: 193 | JP60: 194 | JQ60: 195 | JR60: 196 | JS60: 197 | JT60: 198 | JU60: 199 | JV60: 200 | JW60: 201 | JX60: 202 | JY60: 203 | JZ60: 204 | KA60: 205 | KB60: 206 | KC60: 207 | KD60: 208 | KE60: 209 | KF60: 210 | KG60: 211 | KH60: 212 | KI60: 213 | KJ60: 214 | KK60: 215 | KL60: 216 | KM60: 217 | KN60: 218 | KO60: 219 | KP60: 220 | KQ60: 221 | KR60: 222 | KS60: 223 | KT60: 224 | KU60: 225 | KV60: 226 | KW60: 227 | KX60: 228 | KY60: 229 | KZ60: 230 | LA60: 231 | LB60: 232 | LC60: 233 | LD60: 234 | LE60: 235 | LF60: 236 | LG60: 237 | LH60: 238 | LI60: 239 | LJ60: 240 | LK60: 241 | LL60: 242 | LM60: 243 | LN60: 244 | LO60: 245 | LP60: 246 | LQ60: 247 | LR60: 248 | LS60: 249 | LT60: 250 | LU60: 251
C61: INI | D61: FIN | E61: INI | F61: FIN | J61: NOMBRE O RAZÓN SOCIAL DEL CONTRATANTE | K61: NOMBRE O RAZÓN SOCIAL DEL CONTRATISTA | L61: NÚMERO DEL CONTRATO (SI TIENE) | M61: OBJETO DEL CONTRATO Y/O CARGO DESEMPEÑADO | N61: ACTIVIDADES Y/O OBLIGACIONES DEL CONTRATO | O61: NOMBRE, CARGO Y FIRMA DE QUIEN EXPIDE LA CERTIFICACIÓN | P61: FECHA DE EXPEDICIÓN DE LA CERTIFICACIÓN | Q61: ¿CUMPLE? | R61: ¿PRESENTA COPIA DE LA CERTIFICACIÓN DE LA ENTIDAD CONTRATANTE? | S61: ¿QUE DOCUMENTO SOPORTE ADICIONAL PRESENTA SEGÚN LITERAL N? | T61: ¿CUMPLE? | U61: ¿QUE DOCUMENTO SOPORTE PRESENTA DOCUMENTO SEGÚN LITERAL O? | V61: ¿CUMPLE? | W61: ¿EL DOCUMENTO SE ENCUENTRA DEBIDAMENTE APOSTILLADO? | X61: ¿LA TRADUCCIÓN SE ENCUENTRA DEBIDAMENTE REALIZADA? EN CASO DE NO REQUERIRSE APOSTILLAJE | Y61: ¿CUMPLE? | AD61: INI | AE61: FIN | AF61: DIAS | AG61: INI | AH61: FIN | AI61: DIAS | AW61: Pos Global FI | AX61: Pos Global FF | AY61: Num | AZ61: Fecha Ini | BA61: Fecha Fin | BB61: Específica | BC61: Consec | BD61: Fecha I Mat | BE61: Fecha F Mat | BN61: Fecha Ini | BO61: Fecha Fin | BP61: Días | BY61: Fecha Ini | BZ61: Fecha Fin | CA61: Días | CE61: =IFERROR(VLOOKUP(CE59,$AW$62:$AZ$96,4,FALSE),IFERROR(VLOOKUP(CE59,$AX$62:$BA$96,4,FALSE),DATE(1900,1,1))) -> 0 | CF61: =IFERROR(VLOOKUP(CF59,$AW$62:$AZ$96,4,FALSE),IFERROR(VLOOKUP(CF59,$AX$62:$BA$96,4,FALSE),DATE(1900,1,1))) -> 1 | CG61: =IFERROR(VLOOKUP(CG59,$AW$62:$AZ$96,4,FALSE),IFERROR(VLOOKUP(CG59,$AX$62:$BA$96,4,FALSE),DATE(1900,1,1))) -> 1 | CH61: =IFERROR(VLOOKUP(CH59,$AW$62:$AZ$96,4,FALSE),IFERROR(VLOOKUP(CH59,$AX$62:$BA$96,4,FALSE),DATE(1900,1,1))) -> 1 | CI61: =IFERROR(VLOOKUP(CI59,$AW$62:$AZ$96,4,FALSE),IFERROR(VLOOKUP(CI59,$AX$62:$BA$96,4,FALSE),DATE(1900,1,1))) -> 1 | CJ61: =IFERROR(VLOOKUP(CJ59,$AW$62:$AZ$96,4,FALSE),IFERROR(VLOOKUP(CJ59,$AX$62:$BA$96,4,FALSE),DATE(1900,1,1))) -> 1 | CK61: =IFERROR(VLOOKUP(CK59,$AW$62:$AZ$96,4,FALSE),IFERROR(VLOOKUP(CK59,$AX$62:$BA$96,4,FALSE),DATE(1900,1,1))) -> 1 | CL61: =IFERROR(VLOOKUP(CL59,$AW$62:$AZ$96,4,FALSE),IFERROR(VLOOKUP(CL59,$AX$62:$BA$96,4,FALSE),DATE(1900,1,1))) -> 1 | ... LU61: =IFERROR(VLOOKUP(LU59,$AW$62:$AZ$96,4,FALSE),IFERROR(VLOOKUP(LU59,$AX$62:$BA$96,4,FALSE),DATE(1900,1,1))) -> 1
A62: 1 | E62: =IF(F62="","",IF(C62="","",IF(C62<$H$17,$H$17,IF(C62>$D$33,"",C62)))) | F62: =IF(D62<$H$17,"",IF(C62>$D$33,"",IF(D62>$D$33,$D$33,D62))) -> 0 | G62: X | H62: =IF(OR(C62=0,D62=0),"Falta(n) Fecha(s)",IF(C62>D62,"Invertidas",IF(C62=D62,"INI = FIN",IF(OR(C62<$H$17,D62<$H$17),IF(D62<$H$17,"Fecha Fin < Fecha TP o G","Ajuste por fecha TP o G"),IF(OR(C62>$D$33,D62>$D$33),"Ajuste por fecha HV","Ok"))))) -> Falta(n) Fecha(s) | Y62: =IF(AND(W62="",X62=""), "", IF(AND(OR(W62="SI",W62="NO APLICA"), OR(X62="SI",X62="NO APLICA")), "CUMPLE", "NO CUMPLE")) | Z62: =IF(AND(I62="",Q62="",T62="",V62="",Y62=""),"", IF(COUNTIF(I62:Y62,"NO CUMPLE")>0,"NO CUMPLE","CUMPLE")) | AD62: =BN62 | AE62: =BO62 | AF62: =BP62 -> 0 | AG62: =BY62 | AH62: =BZ62 | AI62: =CA62 -> 0 | AW62: =IFERROR(_xlfn.RANK.EQ(AZ62,$AZ$62:$BA$96),"") | AX62: =IFERROR(_xlfn.RANK.EQ(BA62,$AZ$62:$BA$96),"") -> 1 | AY62: 1 | AZ62: =IF(E62="","",E62) | BA62: =IF(F62="","",IF(F62=E62,F62+0.0001,F62)) -> 0 | BB62: =IF(G62="","",IF(UPPER(G62)="X",1,0)) -> 1 | BC62: 1 | BD62: =HLOOKUP(BC62+1,$CE$60:$LU$61,2,FALSE) -> 1 | BE62: =HLOOKUP(BC62,$CE$60:$LU$61,2,FALSE) -> 0 | BF62: =HLOOKUP(BE62,$CE$53:$LT$55,3,FALSE) -> 0 | BG62: =BF62 -> 0 | BH62: =IF(BG62=0,"",$BC62) | BI62: =LARGE($BH$62:$BH$223,$BC62) -> #NUM! | BJ62: =IFERROR(IF(BM61=BL62,BJ61,BJ61+1),"") | BK62: =IFERROR(VLOOKUP(BI62,$BC$62:$BG$223,5,FALSE),0) -> 0 | BL62: =VLOOKUP(BI62,$BC$62:$BE$223,2,FALSE) -> #NUM! | BM62: =VLOOKUP(BI62,$BC$62:$BE$223,3,FALSE) -> #NUM! | BN62: =IFERROR(VLOOKUP($BC62,BJ$62:BL$223,3,FALSE),"") | BO62: =IFERROR(BN62+BP62-1,"") | BP62: =SUMIF($BJ$62:$BJ$223,$BC62,$BK$62:$BK$223) -> 0 | BQ62: =HLOOKUP(BE62,$CE$53:$LT$55,2,FALSE) -> 0 | BR62: =BQ62 -> 0 | BS62: =IF(BR62=0,"",$BC62) | BT62: =LARGE($BS$62:$BS$223,$BC62) -> #NUM! | BU62: =IF(BX61=BW62,BU61,BU61+1) -> #NUM! | BV62: =IFERROR(VLOOKUP(BT62,$BC$62:$BR$223,16,FALSE),0) -> 0 | BW62: =VLOOKUP(BT62,$BC$62:$BE$223,2,FALSE) -> #NUM! | BX62: =VLOOKUP(BT62,$BC$62:$BE$223,3,FALSE) -> #NUM! | BY62: =IFERROR(VLOOKUP($BC62,BU$62:BW$223,3,FALSE),"") | BZ62: =IFERROR(BY62+CA62-1,"") | CA62: =SUMIF($BU$62:$BU$223,$BC62,$BV$62:$BV$223) -> 0 | CE62: =IF(OR($AZ62="",$BA62=""),0,MAX(MIN(CE$61,$BA62)-MAX(CF$61,$AZ62)+1,0)) -> 0 | CF62: =IF(OR($AZ62="",$BA62=""),0,MAX(MIN(CF$61-1,$BA62)-MAX(CG$61,$AZ62)+1,0)) -> 0 | CG62: =IF(OR($AZ62="",$BA62=""),0,MAX(MIN(CG$61-1,$BA62)-MAX(CH$61,$AZ62)+1,0)) -> 0 | CH62: =IF(OR($AZ62="",$BA62=""),0,MAX(MIN(CH$61-1,$BA62)-MAX(CI$61,$AZ62)+1,0)) -> 0 | CI62: =IF(OR($AZ62="",$BA62=""),0,MAX(MIN(CI$61-1,$BA62)-MAX(CJ$61,$AZ62)+1,0)) -> 0 | CJ62: =IF(OR($AZ62="",$BA62=""),0,MAX(MIN(CJ$61-1,$BA62)-MAX(CK$61,$AZ62)+1,0)) -> 0 | CK62: =IF(OR($AZ62="",$BA62=""),0,MAX(MIN(CK$61-1,$BA62)-MAX(CL$61,$AZ62)+1,0)) -> 0 | CL62: =IF(OR($AZ62="",$BA62=""),0,MAX(MIN(CL$61-1,$BA62)-MAX(CM$61,$AZ62)+1,0)) -> 0 | CM62: =IF(OR($AZ62="",$BA62=""),0,MAX(MIN(CM$61-1,$BA62)-MAX(CN$61,$AZ62)+1,0)) -> 0 | ... LT62: =IF(OR($AZ62="",$BA62=""),0,MAX(MIN(LT$61-1,$BA62)-MAX(LU$61,$AZ62)+1,0)) -> 0
A63: 2 | E63: =IF(F63="","",IF(C63="","",IF(C63<$H$17,$H$17,IF(C63>$D$33,"",C63)))) | F63: =IF(D63<$H$17,"",IF(C63>$D$33,"",IF(D63>$D$33,$D$33,D63))) -> 0 | G63: X | H63: =IF(OR(C63=0,D63=0),"Falta(n) Fecha(s)",IF(C63>D63,"Invertidas",IF(C63=D63,"INI = FIN",IF(OR(C63<$H$17,D63<$H$17),IF(D63<$H$17,"Fecha Fin < Fecha TP o G","Ajuste por fecha TP o G"),IF(OR(C63>$D$33,D63>$D$33),"Ajuste por fecha HV","Ok"))))) -> Falta(n) Fecha(s) | Z63: =IF(AND(I63="",Q63="",T63="",V63="",Y63=""),"", IF(COUNTIF(I63:Y63,"NO CUMPLE")>0,"NO CUMPLE","CUMPLE")) | AD63: =BN63 | AE63: =BO63 | AF63: =BP63 -> 0 | AG63: =BY63 | AH63: =BZ63 | AI63: =CA63 -> 0 | AW63: =IFERROR(_xlfn.RANK.EQ(AZ63,$AZ$62:$BA$96),"") | AX63: =IFERROR(_xlfn.RANK.EQ(BA63,$AZ$62:$BA$96),"") -> 1 | AY63: 2 | AZ63: =IF(E63="","",E63) | BA63: =IF(F63="","",IF(F63=E63,F63+0.0001,F63)) -> 0 | BB63: =IF(G63="","",IF(UPPER(G63)="X",1,0)) -> 1 | BC63: 2 | BD63: =HLOOKUP(BC63+1,$CE$60:$LU$61,2,FALSE) -> 1 | BE63: =HLOOKUP(BC63,$CE$60:$LU$61,2,FALSE) -> 1 | BF63: =HLOOKUP(BE63,$CE$53:$LT$55,3,FALSE) -> 0 | BG63: =IF(OR(BD63=1,BE63=1),0,IF(AND(BF62=1,(BE62-BD62)<>1),BF63+1,IF(AND(BF63=1,(BE63-BD63<>1)),0,BF63))) -> 0 | BH63: =IF(BG63=0,"",$BC63) | BI63: =LARGE($BH$62:$BH$223,$BC63) -> #NUM! | BJ63: =IFERROR(IF(BM62=BL63,BJ62,BJ62+1),"") | BK63: =IFERROR(VLOOKUP(BI63,$BC$62:$BG$223,5,FALSE),0) -> 0 | BL63: =VLOOKUP(BI63,$BC$62:$BE$223,2,FALSE) -> #NUM! | BM63: =VLOOKUP(BI63,$BC$62:$BE$223,3,FALSE) -> #NUM! | BN63: =IFERROR(VLOOKUP($BC63,BJ$62:BL$223,3,FALSE),"") | BO63: =IFERROR(BN63+BP63-1,"") | BP63: =SUMIF($BJ$62:$BJ$223,$BC63,$BK$62:$BK$223) -> 0 | BQ63: =HLOOKUP(BE63,$CE$53:$LT$55,2,FALSE) -> 0 | BR63: =IF(OR(BD63=1,BE63=1),0,IF(AND(BQ62=1,(BE62-BD62)<>1),BQ63+1,IF(AND(BQ63=1,(BE63-BD63<>1)),0,BQ63))) -> 0 | BS63: =IF(BR63=0,"",$BC63) | BT63: =LARGE($BS$62:$BS$223,$BC63) -> #NUM! | BU63: =IF(BX62=BW63,BU62,BU62+1) -> #NUM! | BV63: =IFERROR(VLOOKUP(BT63,$BC$62:$BR$223,16,FALSE),0) -> 0 | BW63: =VLOOKUP(BT63,$BC$62:$BE$223,2,FALSE) -> #NUM! | BX63: =VLOOKUP(BT63,$BC$62:$BE$223,3,FALSE) -> #NUM! | BY63: =IFERROR(VLOOKUP($BC63,BU$62:BW$223,3,FALSE),"") | BZ63: =IFERROR(BY63+CA63-1,"") | CA63: =SUMIF($BU$62:$BU$223,$BC63,$BV$62:$BV$223) -> 0 | CE63: =IF(OR($AZ63="",$BA63=""),0,MAX(MIN(CE$61,$BA63)-MAX(CF$61,$AZ63)+1,0)) -> 0 | CF63: =IF(OR($AZ63="",$BA63=""),0,MAX(MIN(CF$61-1,$BA63)-MAX(CG$61,$AZ63)+1,0)) -> 0 | CG63: =IF(OR($AZ63="",$BA63=""),0,MAX(MIN(CG$61-1,$BA63)-MAX(CH$61,$AZ63)+1,0)) -> 0 | CH63: =IF(OR($AZ63="",$BA63=""),0,MAX(MIN(CH$61-1,$BA63)-MAX(CI$61,$AZ63)+1,0)) -> 0 | CI63: =IF(OR($AZ63="",$BA63=""),0,MAX(MIN(CI$61-1,$BA63)-MAX(CJ$61,$AZ63)+1,0)) -> 0 | CJ63: =IF(OR($AZ63="",$BA63=""),0,MAX(MIN(CJ$61-1,$BA63)-MAX(CK$61,$AZ63)+1,0)) -> 0 | CK63: =IF(OR($AZ63="",$BA63=""),0,MAX(MIN(CK$61-1,$BA63)-MAX(CL$61,$AZ63)+1,0)) -> 0 | CL63: =IF(OR($AZ63="",$BA63=""),0,MAX(MIN(CL$61-1,$BA63)-MAX(CM$61,$AZ63)+1,0)) -> 0 | CM63: =IF(OR($AZ63="",$BA63=""),0,MAX(MIN(CM$61-1,$BA63)-MAX(CN$61,$AZ63)+1,0)) -> 0 | ... LT63: =IF(OR($AZ63="",$BA63=""),0,MAX(MIN(LT$61-1,$BA63)-MAX(LU$61,$AZ63)+1,0)) -> 0
...

Sheet ET_1
A1: SECRETARIA DE MOVILIDAD CONTEMPORÁNEA
A5: CONCURSO DE MÉRITOS SMC-CM-CS-152-2026 - PMTIC
A9: PONDERACIÓN DE PERSONAL | AV9: No eliminar | LV9: celdas ocultas (AC - LA)
AB10: =A11&A13 | AK10: PERIODOS DE EXPERIENCIA Y PUNTAJES
AK11: Mayor o igual (>=) | AL11: =+[1]PERFILES!I13 -> 3 | AM11: =+[1]PERFILES!J13 -> 4 | AN11: =+[1]PERFILES!K13 -> 5 | AO11: =+[1]PERFILES!L13 -> 6 | AP11: =+[1]PERFILES!M13 -> 7 | AQ11: =+[1]PERFILES!N13 -> 8 | AR11: =+[1]PERFILES!O13 -> 9 | AS11: =+[1]PERFILES!P13 -> 10 | ... AU11: =+[1]PERFILES!R13 -> 12
AK12: Menor a (<) | AL12: =+[1]PERFILES!I14 -> 4 | AM12: =+[1]PERFILES!J14 -> 5 | AN12: =+[1]PERFILES!K14 -> 6 | AO12: =+[1]PERFILES!L14 -> 7 | AP12: =+[1]PERFILES!M14 -> 8 | AQ12: =+[1]PERFILES!N14 -> 9 | AR12: =+[1]PERFILES!O14 -> 10 | AS12: =+[1]PERFILES!P14 -> 11 | ... AU12: =+[1]PERFILES!R14 -> 100
AK13: Puntaje asignado | AL13: =+VLOOKUP($A$13,[1]PERFILES!$A$15:$R$24,9,FALSE) -> #N/A | AM13: =+VLOOKUP($A$13,[1]PERFILES!$A$15:$R$24,10,FALSE) -> #N/A | AN13: =+VLOOKUP($A$13,[1]PERFILES!$A$15:$R$24,11,FALSE) -> #N/A | AO13: =+VLOOKUP($A$13,[1]PERFILES!$A$15:$R$24,12,FALSE) -> #N/A | AP13: =+VLOOKUP($A$13,[1]PERFILES!$A$15:$R$24,13,FALSE) -> #N/A | AQ13: =+VLOOKUP($A$13,[1]PERFILES!$A$15:$R$24,14,FALSE) -> #N/A | AR13: =+VLOOKUP($A$13,[1]PERFILES!$A$15:$R$24,15,FALSE) -> #N/A | AS13: =+VLOOKUP($A$13,[1]PERFILES!$A$15:$R$24,16,FALSE) -> #N/A | AT13: =+VLOOKUP($A$13,[1]PERFILES!$A$15:$R$24,17,FALSE) -> #N/A | AU13: =+VLOOKUP($A$13,[1]PERFILES!$A$15:$R$24,18,FALSE) -> #N/A
AK14: Puntaje obtenido | AL14: =+IF(AND($C$111>=AL11,$C$111<AL12),AL13,0) -> 0 | AM14: =+IF(AND($C$111>=AM11,$C$111<AM12),AM13,0) -> 0 | AN14: =+IF(AND($C$111>=AN11,$C$111<AN12),AN13,0) -> 0 | AO14: =+IF(AND($C$111>=AO11,$C$111<AO12),AO13,0) -> 0 | AP14: =+IF(AND($C$111>=AP11,$C$111<AP12),AP13,0) -> 0 | AQ14: =+IF(AND($C$111>=AQ11,$C$111<AQ12),AQ13,0) -> 0 | AR14: =+IF(AND($C$111>=AR11,$C$111<AR12),AR13,0) -> 0 | AS14: =+IF(AND($C$111>=AS11,$C$111<AS12),AS13,0) -> 0 | ... AU14: =+IF(AND($C$111>=AU11,$C$111<AU12),AU13,0) -> 0
A25: HABILITACIÓN DEL PERSONAL MÍNIMO REQUERIDO
A28: INFORMACIÓN PROFESIONAL PROPUESTO
A29: PROPONENTE | D29: =+EP_1!D10 -> Consorcio Consultor PMSS Cundinamarca
A30: PERFIL APLICADO | D30: Especialista en Movilidad y Transporte
A31: NOMBRE | D31: EDINSON ANTONIO TORRES SEGURA
A32: NRO. IDENTIFICACIÓN | D32: 1.049.617.463
A33: FECHA MÁXIMA PRESENTACIÓN OFERTAS | D33: 46155
A34: HABILITACIÓN | D34: HABILITADO
A36: 1. VERIFICACIÓN DILIGENCIAMIENTO FORMATO
A37: FORMATO | D37: ¿CUMPLE? | E37: OBSERVACIONES | I37: OBSERVACIONES
A38: FORMATO 12 – EXPERIENCIA Y FORMACIÓN ACADÉMICA ADICIONAL | D38: CUMPLE
A40: 2. POSGRADO ADICIONAL
A41: VERIFICACIÓN POSGRADO | E41: OBSERVACIONES
A42: TITULO OBTENIDO | B42: Especialista en infraestructura vial
A43: DOCUMENTACIÓN DE ACREDITACIÓN | B43: DIPLOMA | C43: ¿CUMPLE? | D43: CUMPLE
A44: NBC ACREDITADO | B44: INGENIERIA CIVIL Y AFINES | C44: ¿CUMPLE? | D44: CUMPLE
A45: ¿FORMACIÓN ADQUIRIDA EN EL EXTERIOR? | B45: NO | C45: ¿CUMPLE CON ACREDTIACIÓN REQUERIDA EN CASO DE HABERSE ADQUIRIDO LA FORMACIÓN EN EL EXTERIOR? | D45: =IF(B45="SI",IF(AND(B47="SI",B48="SI"),"CUMPLE","NO CUMPLE"),"NO APLICA") -> NO APLICA
A46: DOCUMENTACIÓN DE ACREDITACIÓN PARA FORMACIÓN ADQUIRIDA EN EL EXTERIOR | B46: NO APLICA
A47: ¿LA FORMACIÓN SE ENCUENTRA HOMOLOGADA/CONVALIDADA? | B47: NO APLICA
A48: ¿EL DOCUMENTO SE ENCUENTRA DEBIDAMENTE APOSTILLADO O LEGALIZADO? | B48: NO APLICA
A52: 4. VERIFICACIÓN EXPERIENCIA ESPECÍFICA (AÑOS) | E52: OBSERVACIONES
A53: REQUERIDA | B53: =IF(D30="Director/a del proyecto",2, IF(D30="Especialista en Movilidad y Transporte",1, "")) -> 1 | CE53: =CE61 -> 44840 | CF53: =CF61 -> 44350 | CG53: =CG61 -> 0 | CH53: =CH61 -> 1 | CI53: =CI61 -> 1 | CJ53: =CJ61 -> 1 | CK53: =CK61 -> 1 | CL53: =CL61 -> 1 | ... LT53: =LT61 -> 1
A54: OBTENIDA | B54: =SUM(AI62:AI96)/365 -> 1.3452055 | CC54: =SUM($CE$54:$LT$54) -> 491 | CD54: Específica | CE54: {=MAX(IF($BB$62:$BB$96=1,CE62:CE96))} -> 491 | CF54: {=MAX(IF($BB$62:$BB$96=1,CF62:CF96))} -> 0 | CG54: {=MAX(IF($BB$62:$BB$96=1,CG62:CG96))} -> 0 | CH54: {=MAX(IF($BB$62:$BB$96=1,CH62:CH96))} -> 0 | CI54: {=MAX(IF($BB$62:$BB$96=1,CI62:CI96))} -> 0 | CJ54: {=MAX(IF($BB$62:$BB$96=1,CJ62:CJ96))} -> 0 | CK54: {=MAX(IF($BB$62:$BB$96=1,CK62:CK96))} -> 0 | CL54: {=MAX(IF($BB$62:$BB$96=1,CL62:CL96))} -> 0 | ... LT54: {=MAX(IF($BB$62:$BB$96=1,LT62:LT96))} -> 0
A55: ¿CUMPLE? | B55: =IF(B54>B53,"CUMPLE","NO CUMPLE") -> CUMPLE | CC55: =SUM($CE$55:$LT$55) -> 491 | CD55: General | CE55: =MAX(CE62:CE96) -> 491 | CF55: =MAX(CF62:CF96) -> 0 | CG55: =MAX(CG62:CG96) -> 0 | CH55: =MAX(CH62:CH96) -> 0 | CI55: =MAX(CI62:CI96) -> 0 | CJ55: =MAX(CJ62:CJ96) -> 0 | CK55: =MAX(CK62:CK96) -> 0 | CL55: =MAX(CL62:CL96) -> 0 | ... LT55: =MAX(LT62:LT96) -> 0
CE56: =COLUMN()-COLUMN($CE$61)+1 -> 1 | CF56: =COLUMN()-COLUMN($CE$61)+1 -> 2 | CG56: =COLUMN()-COLUMN($CE$61)+1 -> 3 | CH56: =COLUMN()-COLUMN($CE$61)+1 -> 4 | CI56: =COLUMN()-COLUMN($CE$61)+1 -> 5 | CJ56: =COLUMN()-COLUMN($CE$61)+1 -> 6 | CK56: =COLUMN()-COLUMN($CE$61)+1 -> 7 | CL56: =COLUMN()-COLUMN($CE$61)+1 -> 8 | ... LT56: =COLUMN()-COLUMN($CE$61)+1 -> 250
CD57: Orden con duplicados | CE57: =SMALL($AW$62:$AX$96,CE60) -> 1 | CF57: =SMALL($AW$62:$AX$96,CF60) -> 2 | CG57: =SMALL($AW$62:$AX$96,CG60) -> 3 | CH57: =SMALL($AW$62:$AX$96,CH60) -> 3 | CI57: =SMALL($AW$62:$AX$96,CI60) -> 3 | CJ57: =SMALL($AW$62:$AX$96,CJ60) -> 3 | CK57: =SMALL($AW$62:$AX$96,CK60) -> 3 | CL57: =SMALL($AW$62:$AX$96,CL60) -> 3 | ... LT57: =SMALL($AW$62:$AX$96,LT60) -> #NUM!
CD58: Orden sin duplicados | CE58: =IFERROR(IF(COUNTIF($CE57:CE57,CE57)=1,CE57,""),"") -> 1 | CF58: =IFERROR(IF(COUNTIF($CE57:CF57,CF57)=1,CF57,""),"") -> 2 | CG58: =IFERROR(IF(COUNTIF($CE57:CG57,CG57)=1,CG57,""),"") -> 3 | CH58: =IFERROR(IF(COUNTIF($CE57:CH57,CH57)=1,CH57,""),"") | CI58: =IFERROR(IF(COUNTIF($CE57:CI57,CI57)=1,CI57,""),"") | CJ58: =IFERROR(IF(COUNTIF($CE57:CJ57,CJ57)=1,CJ57,""),"") | CK58: =IFERROR(IF(COUNTIF($CE57:CK57,CK57)=1,CK57,""),"") | CL58: =IFERROR(IF(COUNTIF($CE57:CL57,CL57)=1,CL57,""),"") | ... LT58: =IFERROR(IF(COUNTIF($CE57:LT57,LT57)=1,LT57,""),"")
AD59: RELACIÓN DE LOS PERIODOS CONTABILIZADOS EN LA EXPERIENCIA SIN TRASLAPOS | CD59: Orden único | CE59: =SMALL($CE$58:$LT$58,CE60) -> 1 | CF59: =SMALL($CE$58:$LT$58,CF60) -> 2 | CG59: =SMALL($CE$58:$LT$58,CG60) -> 3 | CH59: =SMALL($CE$58:$LT$58,CH60) -> #NUM! | CI59: =SMALL($CE$58:$LT$58,CI60) -> #NUM! | CJ59: =SMALL($CE$58:$LT$58,CJ60) -> #NUM! | CK59: =SMALL($CE$58:$LT$58,CK60) -> #NUM! | CL59: =SMALL($CE$58:$LT$58,CL60) -> #NUM! | ... LT59: =SMALL($CE$58:$LT$58,LT60) -> #NUM!
