Workbook
Name FECHA_FINAL: #REF!
Name FECHA_INICIO: #REF!
Name ID: #REF!

Sheet CONSOLIDADO PONDERACIÓN (2)
D1: SECRETARIA DE MOVILIDAD CONTEMPORÁNEA
E5: CONCURSO DE MÉRITOS SMC-CM-CS-152-2026 - PMTIC
E7: CONSOLIDADO PONDERACIÓN
E11: !D29 | F11: !D34 | G11: !J50 | H11: !B103 | I11: !B103 | J11: !B106 | K11: !B106
D12: PROPONENTE | F12: HABILITACIÓN | G12: EXPERIENCIA ADICIONAL DEL PROPONENTE | H12: FORMACIÓN ADICIONAL DEL PERSONAL MÍNIMO REQUERIDO HABILITANTE | J12: EXPERIENCIA ESPECÍFICA ADICIONAL DEL PERSONAL MÍNIMO REQUERIDO HABILITANTE | L12: APOYO A LA INDUSTRIA NACIONAL | M12: VINCULACIÓN DE PERSONAS CON DISCAPACIDAD | N12: EMPRENDIMIENTOS Y EMPRESAS DE MUJERES | O12: MIPYME | P12: REDUCCIÓN DE PUNTAJE (2%) | Q12: TOTAL PUNTAJE OBTENIDO
A13: EXPERIENCIA ADICIONAL | B13: DIRECTOR/A | C13: ESPECIALISTA | D13: CONSECUTIVO | E13: NOMBRE | G13: PUNTAJE (38.5) | H13: PUNTAJE DIRECTOR (12.5) | I13: PUNTAJE ESPECIALISTA (12.5) | J13: PUNTAJE DIRECTOR (12.5) | K13: PUNTAJE ESPECIALISTA (12.5) | L13: PUNTAJE (10) | M13: PUNTAJE (1) | N13: PUNTAJE(0.25) | O13: PUNTAJE (0.25)
A14: EP_1 | B14: DP_1 | C14: ET_1 | D14: 1 | E14: {=IFERROR(INDIRECT($B14&E$11),"")} -> Consorcio Consultor PMSS Cundinamarca | F14: {=IFERROR(INDIRECT($B14&F$11),"")} -> HABILITADO | G14: {=IFERROR(INDIRECT($A14&G$11),"")} -> 0 | H14: {=IFERROR(INDIRECT($B14&H$11),"")} -> 10 | I14: {=IFERROR(INDIRECT($C14&I$11),"")} -> 0 | J14: {=IFERROR(INDIRECT($B14&J$11),"")} -> 0 | K14: {=IFERROR(INDIRECT($C14&K$11),"")} -> 12.5 | L14: 0 | M14: 0 | N14: 0 | O14: 0 | P14: NO | Q14: =IF(F14="HABILITADO",SUM(G14:O14),IF(F14="NO HABILITADO","NO HABILITADO","")) -> 22.5
A15: EP_2 | B15: DP_2 | C15: ET_2 | D15: 2 | E15: {=IFERROR(INDIRECT($B15&E$11),"")} -> CONSORCIO IDOM-EPYPSA-IVARSSON ASOCIADOS | F15: {=IFERROR(INDIRECT($B15&F$11),"")} -> HABILITADO | G15: {=IFERROR(INDIRECT($A15&G$11),"")} -> 0 | H15: {=IFERROR(INDIRECT($B15&H$11),"")} -> 0 | I15: {=IFERROR(INDIRECT($C15&I$11),"")} -> 10 | J15: {=IFERROR(INDIRECT($B15&J$11),"")} -> 0 | K15: {=IFERROR(INDIRECT($C15&K$11),"")} -> 12.5 | L15: 0 | M15: 0 | N15: 0 | O15: 0 | P15: NO | Q15: =IF(F15="HABILITADO",SUM(G15,H15,I15,J15,K15,L15,M15,N15,O15),IF(F15="NO HABILITADO","NO HABILITADO","")) -> 22.5
A16: EP_3 | B16: DP_3 | C16: ET_3 | D16: 3 | E16: {=IFERROR(INDIRECT($B16&E$11),"")} -> CONSORCIO TRIMOVILIDAD CUNDINAMARCA | F16: {=IFERROR(INDIRECT($B16&F$11),"")} -> HABILITADO | G16: {=IFERROR(INDIRECT($A16&G$11),"")} -> 0 | H16: {=IFERROR(INDIRECT($B16&H$11),"")} -> 0 | I16: {=IFERROR(INDIRECT($C16&I$11),"")} -> 10 | J16: {=IFERROR(INDIRECT($B16&J$11),"")} -> 0 | K16: {=IFERROR(INDIRECT($C16&K$11),"")} -> 12.5 | L16: 0 | M16: 0 | N16: 0 | O16: 0 | P16: NO | Q16: =IF(F16="HABILITADO",SUM(G16,H16,I16,J16,K16,L16,M16,N16,O16),IF(F16="NO HABILITADO","NO HABILITADO","")) -> 22.5
A17: EP_4 | B17: DP_4 | C17: ET_4 | D17: 4 | E17: {=IFERROR(INDIRECT($B17&E$11),"")} -> CONSORCIO PMSS 2026 | F17: {=IFERROR(INDIRECT($B17&F$11),"")} -> HABILITADO | G17: {=IFERROR(INDIRECT($A17&G$11),"")} -> 0 | H17: {=IFERROR(INDIRECT($B17&H$11),"")} -> 0 | I17: {=IFERROR(INDIRECT($C17&I$11),"")} -> 10 | J17: {=IFERROR(INDIRECT($B17&J$11),"")} -> 0 | K17: {=IFERROR(INDIRECT($C17&K$11),"")} -> 0 | L17: 0 | M17: 0 | N17: 0 | O17: 0 | P17: NO | Q17: =IF(F17="HABILITADO",SUM(G17,H17,I17,J17,K17,L17,M17,N17,O17),IF(F17="NO HABILITADO","NO HABILITADO","")) -> 10
A18: EP_5 | B18: DP_5 | C18: ET_5 | D18: 5 | E18: {=IFERROR(INDIRECT($B18&E$11),"")} -> 0 | F18: {=IFERROR(INDIRECT($B18&F$11),"")} -> 0 | G18: {=IFERROR(INDIRECT($A18&G$11),"")} -> 0 | H18: {=IFERROR(INDIRECT($B18&H$11),"")} -> 0 | I18: {=IFERROR(INDIRECT($C18&I$11),"")} -> 0 | J18: {=IFERROR(INDIRECT($B18&J$11),"")} -> 0 | K18: {=IFERROR(INDIRECT($C18&K$11),"")} -> 0 | L18: 0 | M18: 0 | N18: 0 | O18: 0 | P18: NO | Q18: =IF(F18="HABILITADO",SUM(G18,H18,I18,J18,K18,L18,M18,N18,O18),IF(F18="NO HABILITADO","NO HABILITADO",""))
A19: EP_6 | B19: DP_6 | C19: ET_6 | D19: 6 | E19: {=IFERROR(INDIRECT($B19&E$11),"")} -> 0 | F19: RECHAZADO | G19: 0 | H19: {=IFERROR(INDIRECT($B19&H$11),"")} -> 0 | I19: {=IFERROR(INDIRECT($C19&I$11),"")} -> 0 | J19: {=IFERROR(INDIRECT($B19&J$11),"")} -> 0 | K19: {=IFERROR(INDIRECT($C19&K$11),"")} -> 0 | L19: 0 | M19: 0 | N19: 0 | O19: 0 | P19: NO | Q19: =IF(F19="HABILITADO",SUM(G19,H19,I19,J19,K19,L19,M19,N19,O19),IF(F19="NO HABILITADO","NO HABILITADO",IF(F19="RECHAZADO","RECHAZADO",""))) -> RECHAZADO
A20: EP_7 | B20: DP_7 | C20: ET_7 | D20: 7 | E20: {=IFERROR(INDIRECT($B20&E$11),"")} -> 0 | F20: {=IFERROR(INDIRECT($B20&F$11),"")} -> 0 | G20: {=IFERROR(INDIRECT($A20&G$11),"")} -> 0 | H20: {=IFERROR(INDIRECT($B20&H$11),"")} -> 0 | I20: {=IFERROR(INDIRECT($C20&I$11),"")} -> 0 | J20: {=IFERROR(INDIRECT($B20&J$11),"")} -> 0 | K20: {=IFERROR(INDIRECT($C20&K$11),"")} -> 0 | L20: 0 | M20: 0 | N20: 0 | O20: 0 | P20: NO | Q20: =IF(F20="HABILITADO",SUM(G20,H20,I20,J20,K20,L20,M20,N20,O20),IF(F20="NO HABILITADO","NO HABILITADO",""))
A21: EP_8 | B21: DP_8 | C21: ET_8 | D21: 8 | E21: {=IFERROR(INDIRECT($B21&E$11),"")} -> 0 | F21: {=IFERROR(INDIRECT($B21&F$11),"")} -> 0 | G21: {=IFERROR(INDIRECT($A21&G$11),"")} -> 0 | H21: {=IFERROR(INDIRECT($B21&H$11),"")} -> 0 | I21: {=IFERROR(INDIRECT($C21&I$11),"")} -> 0 | J21: {=IFERROR(INDIRECT($B21&J$11),"")} -> 0 | K21: {=IFERROR(INDIRECT($C21&K$11),"")} -> 0 | L21: 0 | M21: 0 | N21: 0 | O21: 0 | P21: NO | Q21: =IF(F21="HABILITADO",SUM(G21,H21,I21,J21,K21,L21,M21,N21,O21),IF(F21="NO HABILITADO","NO HABILITADO",""))
A22: EP_9 | B22: DP_9 | C22: ET_9 | D22: 9 | E22: {=IFERROR(INDIRECT($B22&E$11),"")} -> 0 | F22: {=IFERROR(INDIRECT($B22&F$11),"")} -> 0 | G22: {=IFERROR(INDIRECT($A22&G$11),"")} -> 0 | H22: {=IFERROR(INDIRECT($B22&H$11),"")} -> 0 | I22: {=IFERROR(INDIRECT($C22&I$11),"")} -> 0 | J22: {=IFERROR(INDIRECT($B22&J$11),"")} -> 0 | K22: {=IFERROR(INDIRECT($C22&K$11),"")} -> 0 | L22: 0 | M22: 0 | N22: 0 | O22: 0 | P22: NO | Q22: =IF(F22="HABILITADO",SUM(G22,H22,I22,J22,K22,L22,M22,N22,O22),IF(F22="NO HABILITADO","NO HABILITADO",""))
A23: EP_10 | B23: DP_10 | C23: ET_10 | D23: 10 | E23: {=IFERROR(INDIRECT($B23&E$11),"")} -> 0 | F23: RECHAZADO | G23: 0 | H23: 0 | I23: 0 | J23: 0 | K23: 0 | L23: 0 | M23: 0 | N23: 0 | O23: 0 | P23: NO | Q23: =IF(F23="HABILITADO",SUM(G23,H23,I23,J23,K23,L23,M23,N23,O23),IF(F23="NO HABILITADO","NO HABILITADO",IF(F23="RECHAZADO","RECHAZADO",""))) -> RECHAZADO
A24: EP_11 | B24: DP_11 | C24: ET_11 | D24: 11 | E24: {=IFERROR(INDIRECT($B24&E$11),"")} -> 0 | F24: RECHAZADO | G24: 0 | H24: 0 | I24: 0 | J24: 0 | K24: 0 | L24: 0 | M24: 0 | N24: 0 | O24: 0 | P24: NO | Q24: =IF(F24="HABILITADO",SUM(G24,H24,I24,J24,K24,L24,M24,N24,O24),IF(F24="NO HABILITADO","NO HABILITADO",IF(F24="RECHAZADO","RECHAZADO",""))) -> RECHAZADO
A25: EP_12 | B25: DP_12 | C25: ET_12 | D25: 12 | E25: {=IFERROR(INDIRECT($B25&E$11),"")} -> 0 | F25: {=IFERROR(INDIRECT($B25&F$11),"")} -> 0 | G25: 0 | H25: {=IFERROR(INDIRECT($B25&H$11),"")} -> 0 | I25: {=IFERROR(INDIRECT($C25&I$11),"")} -> 0 | J25: {=IFERROR(INDIRECT($B25&J$11),"")} -> 0 | K25: {=IFERROR(INDIRECT($C25&K$11),"")} -> 0 | L25: 0 | M25: 0 | N25: 0 | O25: 0 | P25: NO | Q25: =IF(F25="HABILITADO",SUM(G25:O25),IF(F25="NO HABILITADO","NO HABILITADO",""))
D26: NOTA 1: LOS PROPONENTES NO HABILITADOS PRESENTAN PUNTAJE DE 0, HASTA TANTO REALICEN LAS SUBSANACIONES Y/O ACLARACIONES PERTINENTES. NOTA 2: LOS PROPONENTES QUE SE ENCUENTRAN EN CAUSAL DE RECHAZO PRESENTAN PUNTAJE DE 0.

Sheet CONSOLIDADO PONDERACIÓN
D1: SECRETARIA DE MOVILIDAD CONTEMPORÁNEA
G5: CONCURSO DE MÉRITOS SMC-CM-CS-166-2026
G7: CONSOLIDADO PONDERACIÓN
G11: !D29 | H11: !D34 | I11: !J50 | N11: !D31 | O11: !B103 | P11: !D31 | Q11: !B103
D12: PROPONENTE | H12: ESTADO | I12: EXPERIENCIA ADICIONAL DEL PROPONENTE | L12: EXPERIENCIA ADICIONAL DISEÑO DE RUTAS URBANAS DE TRANSPORTE PÚBLICO | N12: FORMACIÓN ADICIONAL DEL PERSONAL MÍNIMO REQUERIDO HABILITANTE | R12: APOYO A LA INDUSTRIA NACIONAL | T12: VINCULACIÓN DE PERSONAS CON DISCAPACIDAD | V12: EMPRENDIMIENTOS Y EMPRESAS DE MUJERES | X12: MIPYME | Z12: REDUCCIÓN DE PUNTAJE (2%) | AA12: TOTAL PUNTAJE OBTENIDO
A13: EXPERIENCIA ADICIONAL | B13: DIRECTOR/A | C13: ESPECIALISTA | D13: ID | E13: CÓDIGO | G13: NOMBRE | I13: PUNTAJE PONERADO (OTRAS PESTAÑAS) | J13: IDENTIFICACIÓN MAYOR PUNTAJE PONDERADO | K13: PUNTAJE POR EXPERIENCIA ADICIONAL (MÁXIMO 42,5) | L13: PROYECTOS PRESENTADOS | M13: PUNTAJE EXPERIENCIA (25) | N13: NOMBRE DIRECTOR/A | O13: PUNTAJE (10) | P13: NOMBRE ESPECIALISTA | Q13: PUNTAJE (10) | R13: OBSERVACIONES | S13: PUNTAJE (10) | T13: OBSERVACIONES | U13: PUNTAJE (2) | V13: OBSERVACIONES | W13: PUNTAJE(0.25) | X13: OBSERVACIONES | Y13: PUNTAJE (0.25)
A14: EP_2 | B14: DP_1 | C14: ET_2 | D14: 1 | E14: DP_2 | F14: ET_2 | G14: =+EP_1!D10 -> Consorcio Consultor PMSS Cundinamarca | H14: {=IFERROR(IF(INDIRECT($B14&H$11)="NO HABILITADO","RECHAZADO",INDIRECT($B14&H$11)),"")} -> HABILITADO | I14: 0 | J14: =+MAX($I$14:$I$17) -> 6.1 | K14: 0 | L14: 0 | M14: 0 | N14: =+DP_1!D31 -> JUAN CARLOS OROBIO QUIÑONES | O14: 0 | P14: EDINSON ANTONIO TORRES SEGURA | Q14: =+ET_1!B103 -> 0 | R14: NO APLICA | S14: 0 | U14: 0 | V14: NO APLICA | W14: 0 | X14: NO APLICA | Y14: 0 | Z14: NO APLICA | AA14: =IF(H14="HABILITADO",SUM(K14,M14,O14,Q14,S14,U14,W14,Y14),IF(H14="RECHAZADO","RECHAZADO","")) -> 0
A15: EP_4 | B15: DP_2 | C15: ET_4 | D15: 2 | E15: DP_4 | F15: ET_4 | G15: =+EP_2!D10 -> CONSORCIO IDOM-EPYPSA-IVARSSON ASOCIADOS | H15: HABILITADO | I15: =+EP_2!Q38 -> 6.1 | K15: =+IF($J$14=I15,42.5,(42.5*I15/$J$14)) -> 42.5 | L15: =+COUNTIF(EP_2!C44:C49,"CUMPLE") -> 5 | M15: =+IF(L15=0,0,IF(L15=1,4.17,IF(L15=2,8.33,IF(L15=3,12.5,IF(L15=4,16.67,IF(L15=5,20.83,IF(L15=6,25,"ERROR"))))))) -> 20.83 | N15: =+DP_2!D31 -> NELSON EVELIO LÓPEZ GIL | O15: =+DP_2!B73 -> 10 | P15: CARLOS FELIPE SÁNCHEZ PINZÓN | Q15: 10 | R15: Cumple | S15: 10 | T15: No presentó documentación | U15: 0 | V15: La certificación laboral de LINDA XIOMARA CAÑAS ROZO indica que ella esta desde el 01/06/2025 | W15: 0 | X15: Cumple | Y15: 0.25 | Z15: NO APLICA | AA15: =IF(H15="HABILITADO",SUM(K15,M15,O15,Q15,S15,U15,W15,Y15),IF(H15="RECHAZADO","RECHAZADO","")) -> 93.58
A16: EP_5 | B16: DP_3 | C16: ET_5 | D16: 3 | E16: DP_5 | F16: ET_5 | G16: =+EP_3!D10 -> CONSORCIO TRIMOVILIDAD CUNDINAMARCA | H16: {=IFERROR(IF(INDIRECT($B16&H$11)="NO HABILITADO","RECHAZADO",INDIRECT($B16&H$11)),"")} -> HABILITADO | I16: =+EP_3!Q38 -> 4.4 | K16: =+IF($J$14=I16,42.5,(42.5*I16/$J$14)) -> 30.655738 | L16: =+COUNTIF(EP_3!C44:C49,"CUMPLE") -> 5 | M16: =+IF(L16=0,0,IF(L16=1,4.17,IF(L16=2,8.33,IF(L16=3,12.5,IF(L16=4,16.67,IF(L16=5,20.83,IF(L16=6,25,"ERROR"))))))) -> 20.83 | N16: =+DP_3!D31 -> ALVARO ENRIQUE PACHON MUÑOZ | O16: =+DP_3!B71 -> 10 | P16: OSCAR EMILIO ARBELAEZ ARENAS | Q16: =+ET_3!B103 -> 10 | R16: Cumple | S16: 10 | T16: Cumple | U16: 2 | V16: Cumple | W16: 0.25 | X16: Cumple | Y16: 0.25 | Z16: NO APLICA | AA16: =IF(H16="HABILITADO",SUM(K16,M16,O16,Q16,S16,U16,W16,Y16),IF(H16="RECHAZADO","RECHAZADO","")) -> 83.985738
A17: EP_7 | B17: DP_4 | C17: ET_7 | D17: 4 | E17: DP_7 | F17: ET_7 | G17: =+EP_4!D10 -> CONSORCIO PMSS 2026 | H17: {=IFERROR(IF(INDIRECT($B17&H$11)="NO HABILITADO","RECHAZADO",INDIRECT($B17&H$11)),"")} -> HABILITADO | I17: =+EP_4!Q38 -> 6.1 | K17: =+IF($J$14=I17,42.5,(42.5*I17/$J$14)) -> 42.5 | L17: =+COUNTIF(EP_4!C44:C49,"CUMPLE") -> 6 | M17: =+IF(L17=0,0,IF(L17=1,4.17,IF(L17=2,8.33,IF(L17=3,12.5,IF(L17=4,16.67,IF(L17=5,20.83,IF(L17=6,25,"ERROR"))))))) -> 25 | N17: =+DP_4!D31 -> MÓNICA VANEGAS BETANCOURT | O17: =+DP_4!B73 -> 10 | P17: CAMILO ALFREDO ARDILA PINZÓN | Q17: =+ET_4!B103 -> 10 | R17: Cumple | S17: 10 | T17: Cumple | U17: 2 | V17: Cumple | W17: 0.25 | X17: Cumple | Y17: 0.25 | Z17: NO APLICA | AA17: =IF(H17="HABILITADO",SUM(K17,M17,O17,Q17,S17,U17,W17,Y17),IF(H17="RECHAZADO","RECHAZADO","")) -> 100
D18: NOTA: LOS PROPONENTES QUE SE ENCUENTRAN EN CAUSAL DE RECHAZO PRESENTAN PUNTAJE DE 0.

Sheet EP_1
A1: SECRETARIA DE MOVILIDAD CONTEMPORÁNEA
B5: CONCURSO DE MÉRITOS SMC-CM-CS-152-2026 - PMTIC
A9: INFORMACIÓN PROPONENTE
A10: PROPONENTE | D10: Consorcio Consultor PMSS Cundinamarca | E10: TIPO | G10: Plural (Consorcio) | H10: NIT | I10: NO APLICA
A11: ¿ES MIPYME? | D11: SÍ | E11: ¿ES EMPRENDIMIENTO O EMPRESA DE MUJERES? | G11: SÍ | H11: FECHA EVALUACIÓN | I11: 46157
A12: SECCIÓN 4 – VERIFICACIÓN POR CONTRATO APORTADO (una fila por contrato – máx. 7)
A13: N° | B13: OBJETO DEL CONTRATO (resumen) | D13: CÓDIGO(S) UNSPSC | E13: CERTIFICADO/ACTA | F13: AÑO TERM. | G13: SMMLV (año term.) | H13: VALOR CONTRATO SEGÚN CERTIFICACION (COP) | I13: VALOR CONTRATO SEGÚN CERTIFICACION (SMLMV) | J13: CHEQUEO VALOR CONTRATO SEGÚN CERTIFICACION (SMLMV) | K13: PORCENTAJE DE PARTICIPACIÓN EN EL VALOR EJECUTADO - REPORTADO EN EL RUP (%) | L13: PORCENTAJE DEL VALOR EJECUTADO CONFORME AL OBJETO SOLICITADO (%) | M13: VALOR TOTAL FACTURADO RELACIONADO CON OBJETO DEL CONTRATO Y AFECTADO POR % DEL VALOR EJECUTADO CONFORME AL OBJETO SOLICITADO POR EL % DE PARTICIPACION DEL RUP (SMMLV) | N13: % SOBRE PRESUP. OFICIAL | O13: OBJETO ADMISIBLE (Sec.2)
A14: 1 | G14: Valor por definir | J14: =IF(G14="","Valor por definir",IFERROR(H14/G14,"Revisar datos")) -> Revisar datos | M14: =I14*K14*L14 -> 0 | N14: =M14/$G$21 -> 0
A15: 2 | G15: Valor por definir | J15: =IF(G15="","Valor por definir",IFERROR(H15/G15,"Revisar datos")) -> Revisar datos | M15: =I15*K15*L15 -> 0 | N15: =M15/$G$21 -> 0
A16: 3 | G16: Valor por definir | J16: =IF(G16="","Valor por definir",IFERROR(H16/G16,"Revisar datos")) -> Revisar datos | M16: =I16*K16*L16 -> 0 | N16: =M16/$G$21 -> 0
A17: 4 | G17: Valor por definir | J17: =IF(G17="","Valor por definir",IFERROR(H17/G17,"Revisar datos")) -> Revisar datos | M17: =I17*K17*L17 -> 0 | N17: =M17/$G$21 -> 0
A18: 5 | G18: Valor por definir | J18: =IF(G18="","Valor por definir",IFERROR(H18/G18,"Revisar datos")) -> Revisar datos | M18: =I18*K18*L18 -> 0 | N18: =M18/$G$21 -> 0
A19: 6 | G19: Valor por definir | J19: =IF(G19="","Valor por definir",IFERROR(H19/G19,"Revisar datos")) -> Revisar datos | M19: =I19*K19*L19 -> 0 | N19: =M19/$G$21 -> 0
A20: 7 | G20: Valor por definir | J20: =IF(G20="","Valor por definir",IFERROR(H20/G20,"Revisar datos")) -> Revisar datos | M20: =I20*K20*L20 -> 0 | N20: =M20/$G$21 -> 0
A21: Presupuesto oficial | D21: COP | E21: 3411038010 | F21: SMMLV | G21: =E21/1750905 -> 1948.1571 | H21: SUMATORIA TOTAL (% sobre presupuesto oficial en SMMLV) → | M21: =SUM(M14:M20) -> 0 | N21: =M21/$G$21 -> 0
A24: 1. VERIFICACIÓN DILIGENCIAMIENTO FORMATO
A25: FORMATO | E25: ¿CUMPLE? | F25: OBSERVACIONES
A26: FORMATO 8 - EXPERIENCIA PONDERABLE DEL PROPONENTE | E26: CUMPLE | F26: Formato suscrito por RL del consorcio
A28: 2. VERIFICACIÓN ESPECÍFICA POR CONTRATO DE PLANES MAESTROS
A29: N° | B29: NÚMERO CONSECUTIVO DEL REPORTE DEL CONTRATO EJECUTADO EN EL RUP *HACER UNA LÍNEA POR PLAN* | C29: VALIDACIÓN CON EXPERIENCIA HABILITANTE | D29: DESCRIPCIÓN DE LAS ACTIVIDADES EJECUTADAS Descripción del Plan de_x000D_Movilidad Sostenible y_x000D_segura o Plan Maestro de_x000D_Movilidad que se acredita_x000D_para puntuación a través_x000D_del contrato ejecutado | E29: ENTIDAD CONTRATANTE | F29: CONTRATO O RESOLUCION | H29: CÓDIGO(S) UNSPSC | I29: FORMA DE EJECUCIÓN | K29: INTEGRANTE QUE APORTA EXPERIENCIA | L29: FECHA DE INICIACIÓN [DIA-MES-AÑO] | M29: FECHA DE TERMINACIÓN [DIA-MES-AÑO] | N29: AÑO DE TERMINACIÓN | O29: VALOR TOTAL REPORTADO EN EL RUP
F30: NO. | G30: OBJETO | I30: I,C,UT, OTRA | J30: % | P30: POBLACIÓN DEL MUNICIPIO, DISTRITO O ÁREA METROPOLITANA (SEGÚN DANE) - EN LA FECHA DE INICIO DEL CONTRATO OJO: AREA METROPOLITANA | Q30: PUNTAJE PONDERADO POR PLAN | R30: ¿OBJETO, ACTIVIDADES Y/O OBLIGACIONES CONTRACTUALES CUMPLEN? | S30: ¿LA CERTIFICACIÓN LABORAL O DOCUMENTACIÓN EQUIVALENTE CUMPLE CON LA INFORMACIÓN MÍNIMA REQUERIDA? | AA30: ¿LA EXPERIENCIA ES ADQUIRIDA EN EL EXTERIOR? | AD30: ¿LA EXPERIENCIA DE LA PERSONA JURÍDICA ES ACREDITADA EN DEBIDA FORMA POR UN ACCIONISTA, SOCIO O CONSTITUYENTE? | AE30: ¿LA EXPERIENCIA CUMPLE CON LOS REQUISITOS DEL PLIEGO DE CONDICIONES? | AF30: OBSERVACIONES
S31: NOMBRE O RAZÓN SOCIAL DEL CONTRATANTE | T31: NOMBRE O RAZÓN SOCIAL DEL CONTRATISTA | U31: NÚMERO DEL CONTRATO (SI TIENE) | V31: OBJETO DEL CONTRATO Y/O CARGO DESEMPEÑADO | W31: ACTIVIDADES U OBLIGACIONES DEL CONTRATO | X31: NOMBRE, CARGO Y FIRMA DE QUIEN EXPIDE LA CERTIFICACIÓN | Y31: FECHA DE EXPEDICIÓN DE LA CERTIFICACIÓN | Z31: ¿CUMPLE? | AA31: ¿EL DOCUMENTO SE ENCUENTRA DEBIDAMENTE APOSTILLADO? | AB31: ¿LA TRADUCCIÓN SE ENCUENTRA DEBIDAMENTE REALIZADA? EN CASO DE NO REQUERIRSE APOSTILLAJE | AC31: ¿CUMPLE?
A32: 1 | B32: 36 | C32: CUMPLE | D32: Plan de movilidad sostenible y segura o planmaestro de movilidad para área o regiónmetropolitana legalmente constituida | E32: FONDATT | F32: BM-41-STI-_x000D_2004 | G32: Formulación del Plan Maestro de Movilidad para Bogotá D.C. que incluye ordenamiento de estacionamientos | H32: 801015 801016 811015 811022 | I32: CONSORCIO | J32: 0.5 | K32: CAL Y MAYOR COLOMBIA SAS | L32: 38364 | M32: 38788 | N32: 2006 | O32: 1.3363074e+09 | P32: 6710910 | Q32: 0 | R32: CUMPLE | S32: SI | T32: SI | U32: SI | V32: SI | W32: NO | X32: SI | Y32: SI | Z32: =IF(AND(OR(S32="SI",S32="NO APLICA"), OR(T32="SI",T32="NO APLICA"), OR(U32="SI",U32="NO APLICA"), OR(V32="SI",V32="NO APLICA"), OR(W32="SI",W32="NO APLICA"), OR(X32="SI",X32="NO APLICA"), OR(Y32="SI",Y32="NO APLICA")), "CUMPLE", "NO CUMPLE") -> NO CUMPLE | AA32: NO APLICA | AB32: NO APLICA | AC32: =IF(AND(OR(AA32="SI",AA32="NO APLICA"), OR(AB32="SI",AB32="NO APLICA")), "CUMPLE", "NO CUMPLE") -> CUMPLE | AD32: CUMPLE | AE32: =IF(AND(OR(R32="CUMPLE",R32="NO APLICA"), OR(Z32="CUMPLE",Z32="NO APLICA"), OR(AC32="CUMPLE",AC32="NO APLICA"), OR(AD32="CUMPLE",AD32="NO APLICA")), "CUMPLE", "NO CUMPLE") -> NO CUMPLE | AF32: La certificación no cuenta con la descripción de las actividades desarrolladas, de acuerdo con lo indicado en el pliego de condiciones.
A33: 2 | B33: 39 | C33: CUMPLE | D33: Plan de movilidadsostenible y segura o planmaestro de movilidadpara municipio odistrito de 150.000habitantes o más. | E33: lnstituto Municipal_x000D_de Planeación de_x000D_Chihuahua | F33: 235 BD | G33: Plan Sectorial de Movilidad Urbana Sustentable_x000D_de la Ciudad de Chihuahua | H33: 801015 801016 811015 811022 | I33: CONSORCIO | J33: 0.4 | K33: CAL Y MAYOR COLOMBIA SAS | L33: 38642 | M33: 38929 | N33: 2006 | O33: 2.0076739e+09 | P33: 759000 | Q33: =IF(P33="AREA METROPOLITANA", 1.3, IF(AND(P33>=100000, P33<150000), 1, IF(P33>=150000, 1.2, "NO APLICA RANGO"))) -> 1.2 | R33: CUMPLE | S33: SI | T33: SI | U33: SI | V33: SI | W33: SI | X33: SI | Y33: SI | Z33: =IF(AND(OR(S33="SI",S33="NO APLICA"), OR(T33="SI",T33="NO APLICA"), OR(U33="SI",U33="NO APLICA"), OR(V33="SI",V33="NO APLICA"), OR(W33="SI",W33="NO APLICA"), OR(X33="SI",X33="NO APLICA"), OR(Y33="SI",Y33="NO APLICA")), "CUMPLE", "NO CUMPLE") -> CUMPLE | AA33: SI | AB33: NO APLICA | AC33: =IF(AND(OR(AA33="SI",AA33="NO APLICA"), OR(AB33="SI",AB33="NO APLICA")), "CUMPLE", "NO CUMPLE") -> CUMPLE | AD33: CUMPLE | AE33: =IF(AND(OR(R33="CUMPLE",R33="NO APLICA"), OR(Z33="CUMPLE",Z33="NO APLICA"), OR(AC33="CUMPLE",AC33="NO APLICA"), OR(AD33="CUMPLE",AD33="NO APLICA")), "CUMPLE", "NO CUMPLE") -> CUMPLE
A34: 3 | B34: 116 | C34: CUMPLE | D34: Plan de movilidad_x000D_sostenible y segura o plan_x000D_maestro de movilidad_x000D_para área o región_x000D_metropolitana legalmente_x000D_constituida | E34: METRO DE PANAMA | F34: SMP-06-_x000D_2014 | G34: Formulación del Plan Integral de Movilidad Urbana Sustentable para el área Metropolitana dePanamá en su fase 1 | H34: 801015 801016 811015 811022 | I34: CONSORCIO | J34: 0.9 | K34: CAL Y MAYOR COLOMBIA SAS | L34: 41791 | M34: 42217 | N34: 2015 | O34: 1859729414 | P34: AREA METROPOLITANA | Q34: =IF(P34="AREA METROPOLITANA", 1.3, IF(AND(P34>=100000, P34<150000), 1, IF(P34>=150000, 1.2, "NO APLICA RANGO"))) -> 1.3 | R34: CUMPLE | S34: SI | T34: SI | U34: SI | V34: SI | W34: SI | X34: SI | Y34: SI | Z34: =IF(AND(OR(S34="SI",S34="NO APLICA"), OR(T34="SI",T34="NO APLICA"), OR(U34="SI",U34="NO APLICA"), OR(V34="SI",V34="NO APLICA"), OR(W34="SI",W34="NO APLICA"), OR(X34="SI",X34="NO APLICA"), OR(Y34="SI",Y34="NO APLICA")), "CUMPLE", "NO CUMPLE") -> CUMPLE | AA34: SI | AB34: NO APLICA | AC34: =IF(AND(OR(AA34="SI",AA34="NO APLICA"), OR(AB34="SI",AB34="NO APLICA")), "CUMPLE", "NO CUMPLE") -> CUMPLE | AD34: CUMPLE | AE34: =IF(AND(OR(R34="CUMPLE",R34="NO APLICA"), OR(Z34="CUMPLE",Z34="NO APLICA"), OR(AC34="CUMPLE",AC34="NO APLICA"), OR(AD34="CUMPLE",AD34="NO APLICA")), "CUMPLE", "NO CUMPLE") -> CUMPLE
A35: 4 | B35: 124 | C35: CUMPLE | D35: Plan de movilidad_x000D_sostenible y segura o plan_x000D_maestro de movilidad_x000D_para área o región_x000D_metropolitana legalmente_x000D_constituida | E35: METRO DE PANAMA | F35: SMP-025-_x000D_2015 | G35: Formulación del Plan Integral de Movilidad Urbana_x000D_Sustentable para el área Metropolitana de_x000D_Panamá en su fase 2 | H35: 801015 801016 811015 811022 | I35: CONSORCIO | J35: 0.9 | K35: CAL Y MAYOR COLOMBIA SAS | L35: 42370 | M35: 42583 | N35: 2016 | O35: 1510057500 | P35: AREA METROPOLITANA | Q35: 0 | R35: NO CUMPLE | S35: SI | T35: SI | U35: SI | V35: SI | W35: SI | X35: SI | Y35: SI | Z35: =IF(AND(OR(S35="SI",S35="NO APLICA"), OR(T35="SI",T35="NO APLICA"), OR(U35="SI",U35="NO APLICA"), OR(V35="SI",V35="NO APLICA"), OR(W35="SI",W35="NO APLICA"), OR(X35="SI",X35="NO APLICA"), OR(Y35="SI",Y35="NO APLICA")), "CUMPLE", "NO CUMPLE") -> CUMPLE | AA35: SI | AB35: NO APLICA | AC35: =IF(AND(OR(AA35="SI",AA35="NO APLICA"), OR(AB35="SI",AB35="NO APLICA")), "CUMPLE", "NO CUMPLE") -> CUMPLE | AD35: CUMPLE | AE35: =IF(AND(OR(R35="CUMPLE",R35="NO APLICA"), OR(Z35="CUMPLE",Z35="NO APLICA"), OR(AC35="CUMPLE",AC35="NO APLICA"), OR(AD35="CUMPLE",AD35="NO APLICA")), "CUMPLE", "NO CUMPLE") -> NO CUMPLE | AF35: El objeto de la certificación es el mismo del contrato 116. Las actividades obedecen a la segunda parte de la formulación del mismo PMSS de Panamá
A36: 5 | B36: 159 | C36: CUMPLE | D36: Plan de movilidad_x000D_sostenible y segura o plan_x000D_maestro de movilidad_x000D_para municipio o_x000D_distrito de 150.000_x000D_habitantes o más. | E36: FINDETER | F36: 005 DE 13 DE FEBRERO DE 2017 | G36: EL CONSULTOR se obliga para con FINDETER elaborar el Plan Maestro de Movilidad y EspacioPúblico del Municipio de Ibagué y, desarrollar eldiseño a detalle de las vías Calle 103 y Carrera13, conforme a lo indicado en la SolicitudEstándar de Propuestas, enviada el día 29 denoviembre de 2016, y a la propuesta presentadapor el CONSULTOR el día 19 de diciembre de2016, estos documentos hacen parte integral delpresente contrato. | H36: 801015 801016 811015 811022 | I36: CONSORCIO | J36: 0.5 | K36: CAL Y MAYOR COLOMBIA SAS | L36: 42795 | M36: 43284 | N36: 2018 | O36: 3600336373 | P36: 525076 | Q36: =IF(P36="AREA METROPOLITANA", 1.3, IF(AND(P36>=100000, P36<150000), 1, IF(P36>=150000, 1.2, "NO APLICA RANGO"))) -> 1.2 | R36: CUMPLE | S36: SI | T36: SI | U36: SI | V36: SI | W36: SI | X36: SI | Y36: SI | Z36: =IF(AND(OR(S36="SI",S36="NO APLICA"), OR(T36="SI",T36="NO APLICA"), OR(U36="SI",U36="NO APLICA"), OR(V36="SI",V36="NO APLICA"), OR(W36="SI",W36="NO APLICA"), OR(X36="SI",X36="NO APLICA"), OR(Y36="SI",Y36="NO APLICA")), "CUMPLE", "NO CUMPLE") -> CUMPLE | AA36: NO APLICA | AB36: NO APLICA | AC36: =IF(AND(OR(AA36="SI",AA36="NO APLICA"), OR(AB36="SI",AB36="NO APLICA")), "CUMPLE", "NO CUMPLE") -> CUMPLE | AD36: CUMPLE | AE36: =IF(AND(OR(R36="CUMPLE",R36="NO APLICA"), OR(Z36="CUMPLE",Z36="NO APLICA"), OR(AC36="CUMPLE",AC36="NO APLICA"), OR(AD36="CUMPLE",AD36="NO APLICA")), "CUMPLE", "NO CUMPLE") -> CUMPLE
A37: 6 | B37: 204 | C37: CUMPLE | D37: Plan de movilidad sostenible y segura o plan maestro de movilidad para municipio odistrito de 150.000habitantes o más. | E37: MUNICIPIO DE TUNJA | F37: 1051 DE_x000D_2021 | G37: FORMULAR Y ESTRUCTURAR EL PLAN MAESTRO DE MOVILIDAD Y ESPACIO PÚBLICO VISIÓN 2020-2040, Y REALIZAR LA ESTRUCTURACIÓN TÉCNICA, LEGAL Y FINANCIERA DEL SISTEMA ESTRATÉGICO DE TRANSPORTE PÚBLICO PARA EL MUNICIPIO DE TUNJA | H37: 801015 801016 811015 811022 | I37: CONSORCIO | J37: 0.75 | K37: CAL Y MAYOR COLOMBIA SAS | L37: 44496 | M37: 44925 | N37: 2022 | O37: 2699888588 | P37: 181676 | Q37: =IF(P37="AREA METROPOLITANA", 1.3, IF(AND(P37>=100000, P37<150000), 1, IF(P37>=150000, 1.2, "NO APLICA RANGO"))) -> 1.2 | R37: CUMPLE | S37: SI | T37: SI | U37: SI | V37: SI | W37: SI | X37: SI | Y37: SI | Z37: =IF(AND(OR(S37="SI",S37="NO APLICA"), OR(T37="SI",T37="NO APLICA"), OR(U37="SI",U37="NO APLICA"), OR(V37="SI",V37="NO APLICA"), OR(W37="SI",W37="NO APLICA"), OR(X37="SI",X37="NO APLICA"), OR(Y37="SI",Y37="NO APLICA")), "CUMPLE", "NO CUMPLE") -> CUMPLE | AA37: NO APLICA | AB37: NO APLICA | AC37: =IF(AND(OR(AA37="SI",AA37="NO APLICA"), OR(AB37="SI",AB37="NO APLICA")), "CUMPLE", "NO CUMPLE") -> CUMPLE | AD37: CUMPLE | AE37: =IF(AND(OR(R37="CUMPLE",R37="NO APLICA"), OR(Z37="CUMPLE",Z37="NO APLICA"), OR(AC37="CUMPLE",AC37="NO APLICA"), OR(AD37="CUMPLE",AD37="NO APLICA")), "CUMPLE", "NO CUMPLE") -> CUMPLE
A38: SUMATORIA TOTAL EXPRESADA EN SMMLV | Q38: =SUM(Q32:Q37) -> 4.9
A40: 3. VERIFICACIÓN RELACIONADA CON CONTRATOS DE DISEÑO DE RUTAS URBANAS
A41: N° | B41: NÚMERO CONSECUTIVO DEL REPORTE DEL CONTRATO EJECUTADO EN EL RUP | C41: VALIDACIÓN CON EXPERIENCIA HABILITANTE | D41: DESCRIPCIÓN DE LAS ACTIVIDADES EJECUTADAS | E41: ENTIDAD CONTRATANTE | F41: CONTRATO O RESOLUCION | H41: CÓDIGO(S) UNSPSC | I41: FORMA DE EJECUCIÓN | K41: INTEGRANTE QUE APORTA EXPERIENCIA | L41: FECHA DE INICIACIÓN [DIA-MES-AÑO] | M41: FECHA DE TERMINACIÓN [DIA-MES-AÑO] | N41: AÑO DE TERMINACIÓN | O41: VALOR TOTAL
F42: NO. | G42: OBJETO | I42: I,C,UT, OTRA | J42: % | P42: ¿OBJETO, ACTIVIDADES Y/O OBLIGACIONES CONTRACTUALES CUMPLEN? | Q42: ¿LA CERTIFICACIÓN LABORAL O DOCUMENTACIÓN EQUIVALENTE CUMPLE CON LA INFORMACIÓN MÍNIMA REQUERIDA? | Y42: ¿LA EXPERIENCIA ES ADQUIRIDA EN EL EXTERIOR? | AB42: ¿LA EXPERIENCIA DE LA PERSONA JURÍDICA ES ACREDITADA EN DEBIDA FORMA POR UN ACCIONISTA, SOCIO O CONSTITUYENTE? | AC42: ¿LA EXPERIENCIA CUMPLE CON LOS REQUISITOS DEL PLIEGO DE CONDICIONES? | AD42: OBSERVACIONES
Q43: NOMBRE O RAZÓN SOCIAL DEL CONTRATANTE | R43: NOMBRE O RAZÓN SOCIAL DEL CONTRATISTA | S43: NÚMERO DEL CONTRATO (SI TIENE) | T43: OBJETO DEL CONTRATO Y/O CARGO DESEMPEÑADO | U43: ACTIVIDADES U OBLIGACIONES DEL CONTRATO | V43: NOMBRE, CARGO Y FIRMA DE QUIEN EXPIDE LA CERTIFICACIÓN | W43: FECHA DE EXPEDICIÓN DE LA CERTIFICACIÓN | X43: ¿CUMPLE? | Y43: ¿EL DOCUMENTO SE ENCUENTRA DEBIDAMENTE APOSTILLADO? | Z43: ¿LA TRADUCCIÓN SE ENCUENTRA DEBIDAMENTE REALIZADA? EN CASO DE NO REQUERIRSE APOSTILLAJE | AA43: ¿CUMPLE?
A44: 1 | B44: CYMC 156 | C44: CUMPLE | D44: diseño de rutas urbanas o interurbanas de transporte público de pasajeros o el diseño a nivel de factibilidad o la estructuración técnica de sistemas de transporte público de pasajeros. | E44: SETP NEIVA | F44: 109 DE 2017 | G44: Elaboración de laestructuración técnica, legal y financiera dedetalle del SistemaEstratégicode Transporte (SETP) de la ciudad de Neiva | H44: 801015 801016 811015 811022 | I44: CONSORCIO | J44: 0.65 | K44: CAL Y MAYOR COLOMBIA SAS | L44: 43042 | M44: 43375 | N44: 2018 | O44: 965317150 | P44: CUMPLE | Q44: SI | R44: SI | S44: SI | T44: SI | U44: SI | V44: SI | W44: SI | X44: CUMPLE | Y44: NO APLICA | Z44: NO APLICA | AA44: =IF(AND(OR(Y44="SI",Y44="NO APLICA"), OR(Z44="SI",Z44="NO APLICA")), "CUMPLE", "NO CUMPLE") -> CUMPLE | AB44: CUMPLE | AC44: =IF(AND(OR(P44="CUMPLE",P44="NO APLICA"), OR(X44="CUMPLE",X44="NO APLICA"), OR(AA44="CUMPLE",AA44="NO APLICA"), OR(AB44="CUMPLE",AB44="NO APLICA")), "CUMPLE", "NO CUMPLE") -> CUMPLE
A45: 2 | B45: CYMC 205 CONARCON 16 | C45: CUMPLE | D45: diseño de rutas urbanas o interurbanas de transporte público de pasajeros o el diseño a nivel de factibilidad o la estructuración técnica de sistemas de transporte público de pasajeros. | E45: ÁREA METROPOLITAN A DEL CENTRO OCCIDENTE | F45: N/E | G45: Prestar servicios de consultoría al AMCO para realizar un estudio que permita la reestructuración técnica, tecnológica, legal y fiananciera para el Sitema Integrado Público SITP | H45: 801015 811022 | I45: CONSORCIO | J45: 1 | K45: CAL Y MAYOR COLOMBIA SAS (60%) CONARCON SAS (40%) | L45: 44757 | M45: 44982 | N45: 2023 | O45: 1199140848 | P45: CUMPLE | Q45: SI | R45: SI | S45: NO APLICA | T45: SI | U45: SI | V45: SI | W45: SI | X45: CUMPLE | Y45: NO APLICA | Z45: NO APLICA | AA45: =IF(AND(OR(Y45="SI",Y45="NO APLICA"), OR(Z45="SI",Z45="NO APLICA")), "CUMPLE", "NO CUMPLE") -> CUMPLE | AB45: CUMPLE | AC45: =IF(AND(OR(P45="CUMPLE",P45="NO APLICA"), OR(X45="CUMPLE",X45="NO APLICA"), OR(AA45="CUMPLE",AA45="NO APLICA"), OR(AB45="CUMPLE",AB45="NO APLICA")), "CUMPLE", "NO CUMPLE") -> CUMPLE
A46: 3 | B46: CYMC 162 | C46: CUMPLE | D46: diseño de rutas urbanas o interurbanas de transporte público de pasajeros o el diseño a nivel de factibilidad o la estructuración técnica de sistemas de transporte público de pasajeros. | E46: DOPPELMAYR MÉXICO | F46: N/E | G46: Estudios de factibilidad para el sistema de transportepublico tipo teleférico enelmunicipio de Naucalpan | H46: 801015 801016 811015 811022 | I46: INDIVIDUAL | J46: 1 | K46: CAL Y MAYOR COLOMBIA SAS | L46: 43166 | M46: 43306 | N46: 2018 | O46: 1.7783478e+09 | P46: CUMPLE | Q46: SI | R46: SI | S46: NO APLICA | T46: SI | U46: SI | V46: SI | W46: SI | X46: CUMPLE | Y46: SI | Z46: NO APLICA | AA46: =IF(AND(OR(Y46="SI",Y46="NO APLICA"), OR(Z46="SI",Z46="NO APLICA")), "CUMPLE", "NO CUMPLE") -> CUMPLE | AB46: CUMPLE | AC46: =IF(AND(OR(P46="CUMPLE",P46="NO APLICA"), OR(X46="CUMPLE",X46="NO APLICA"), OR(AA46="CUMPLE",AA46="NO APLICA"), OR(AB46="CUMPLE",AB46="NO APLICA")), "CUMPLE", "NO CUMPLE") -> CUMPLE
A47: 4 | B47: CONARCON 46 | C47: =+AC47 -> CUMPLE | D47: diseño de rutas urbanas o interurbanas de transporte público de pasajeros o el diseño a nivel de factibilidad o la estructuración técnica de sistemas de transporte público de pasajeros. | E47: Transconsult Sucursal Colombia | F47: N/E | G47: Modelación de alternativas de la Fase I del Sistema Acabus y ajuste de Rutas acorde a la solicitud de la coordinación por parte del Estado Guerrero. México. | H47: 801015 801016 811015 811022 | I47: INDIVIDUAL | J47: 1 | K47: CONARCON SAS | L47: 41284 | M47: 41363 | N47: 2013 | O47: 31880280 | P47: CUMPLE | Q47: SI | R47: SI | S47: NO APLICA | T47: SI | U47: SI | V47: SI | W47: SI | X47: CUMPLE | Y47: NO APLICA | Z47: NO APLICA | AA47: =IF(AND(OR(Y47="SI",Y47="NO APLICA"), OR(Z47="SI",Z47="NO APLICA")), "CUMPLE", "NO CUMPLE") -> CUMPLE | AB47: CUMPLE | AC47: =IF(AND(OR(P47="CUMPLE",P47="NO APLICA"), OR(X47="CUMPLE",X47="NO APLICA"), OR(AA47="CUMPLE",AA47="NO APLICA"), OR(AB47="CUMPLE",AB47="NO APLICA")), "CUMPLE", "NO CUMPLE") -> CUMPLE
A48: 5 | B48: CONARCON 47 | C48: CUMPLE | D48: diseño de rutas urbanas o interurbanas de transporte público de pasajeros o el diseño a nivel de factibilidad o la estructuración técnica de sistemas de transporte público de pasajeros. | E48: Transconsult Sucursal Colombia | F48: N/E | G48: Asesoría para el componente técnico-operacional de la Estructuración Técnica, Legal y Financiera del Sistema Integrado de Transporte Público del Área Metropolitana del Centro - Occidente - MEGABUS. Colombia. | H48: 801015 801016 811015 811022 | I48: INDIVIDUAL | J48: 1 | K48: CONARCON SAS | L48: 41153 | M48: 41516 | N48: 2013 | O48: 112696320 | P48: CUMPLE | Q48: SI | R48: SI | S48: NO APLICA | T48: SI | U48: SI | V48: SI | W48: SI | X48: CUMPLE | Y48: NO APLICA | Z48: NO APLICA | AA48: =IF(AND(OR(Y48="SI",Y48="NO APLICA"), OR(Z48="SI",Z48="NO APLICA")), "CUMPLE", "NO CUMPLE") -> CUMPLE | AB48: CUMPLE | AC48: =IF(AND(OR(P48="CUMPLE",P48="NO APLICA"), OR(X48="CUMPLE",X48="NO APLICA"), OR(AA48="CUMPLE",AA48="NO APLICA"), OR(AB48="CUMPLE",AB48="NO APLICA")), "CUMPLE", "NO CUMPLE") -> CUMPLE
A49: 6 | B49: CONARCON 66 | C49: CUMPLE | D49: diseño de rutas urbanas o interurbanas de transporte público de pasajeros o el diseño a nivel de factibilidad o la estructuración técnica de sistemas de transporte público de pasajeros. | E49: Transconsult Sucursal Colombia | F49: N/E | G49: Asesoría técnica para el estudio de factibilidad de alternativa de transporte público y una flota piloto de buses eléctricos para el área metropolitana de Asunción, Paraguay. | H49: 801015 801016 811015 811022 | I49: INDIVIDUAL | J49: 1 | K49: CONARCON SAS | L49: 30/05/2019 | M49: 43738 | N49: 2019 | O49: 31773525 | P49: CUMPLE | Q49: SI | R49: SI | S49: NO APLICA | T49: SI | U49: SI | V49: SI | W49: SI | X49: CUMPLE | Y49: NO APLICA | Z49: NO APLICA | AA49: =IF(AND(OR(Y49="SI",Y49="NO APLICA"), OR(Z49="SI",Z49="NO APLICA")), "CUMPLE", "NO CUMPLE") -> CUMPLE | AB49: CUMPLE | AC49: =IF(AND(OR(P49="CUMPLE",P49="NO APLICA"), OR(X49="CUMPLE",X49="NO APLICA"), OR(AA49="CUMPLE",AA49="NO APLICA"), OR(AB49="CUMPLE",AB49="NO APLICA")), "CUMPLE", "NO CUMPLE") -> CUMPLE

Sheet DP_1
A1: SECRETARIA DE MOVILIDAD CONTEMPORÁNEA
A5: CONCURSO DE MÉRITOS SMC-CM-CS-152-2026 - PMTIC
A9: PONDERACIÓN DE PERSONAL | AV9: No eliminar | LV9: celdas ocultas (AC - LA)
AB10: =A11&A13 | AK10: PERIODOS DE EXPERIENCIA Y PUNTAJES
AK11: Mayor o igual (>=) | AL11: =+[1]PERFILES!I13 -> 3 | AM11: =+[1]PERFILES!J13 -> 4 | AN11: =+[1]PERFILES!K13 -> 5 | AO11: =+[1]PERFILES!L13 -> 6 | AP11: =+[1]PERFILES!M13 -> 7 | AQ11: =+[1]PERFILES!N13 -> 8 | AR11: =+[1]PERFILES!O13 -> 9 | AS11: =+[1]PERFILES!P13 -> 10 | ... AU11: =+[1]PERFILES!R13 -> 12
AK12: Menor a (<) | AL12: =+[1]PERFILES!I14 -> 4 | AM12: =+[1]PERFILES!J14 -> 5 | AN12: =+[1]PERFILES!K14 -> 6 | AO12: =+[1]PERFILES!L14 -> 7 | AP12: =+[1]PERFILES!M14 -> 8 | AQ12: =+[1]PERFILES!N14 -> 9 | AR12: =+[1]PERFILES!O14 -> 10 | AS12: =+[1]PERFILES!P14 -> 11 | ... AU12: =+[1]PERFILES!R14 -> 100
AK13: Puntaje asignado | AL13: =+VLOOKUP($A$13,[1]PERFILES!$A$15:$R$24,9,FALSE) -> #N/A | AM13: =+VLOOKUP($A$13,[1]PERFILES!$A$15:$R$24,10,FALSE) -> #N/A | AN13: =+VLOOKUP($A$13,[1]PERFILES!$A$15:$R$24,11,FALSE) -> #N/A | AO13: =+VLOOKUP($A$13,[1]PERFILES!$A$15:$R$24,12,FALSE) -> #N/A | AP13: =+VLOOKUP($A$13,[1]PERFILES!$A$15:$R$24,13,FALSE) -> #N/A | AQ13: =+VLOOKUP($A$13,[1]PERFILES!$A$15:$R$24,14,FALSE) -> #N/A | AR13: =+VLOOKUP($A$13,[1]PERFILES!$A$15:$R$24,15,FALSE) -> #N/A | AS13: =+VLOOKUP($A$13,[1]PERFILES!$A$15:$R$24,16,FALSE) -> #N/A | AT13: =+VLOOKUP($A$13,[1]PERFILES!$A$15:$R$24,17,FALSE) -> #N/A | AU13: =+VLOOKUP($A$13,[1]PERFILES!$A$15:$R$24,18,FALSE) -> #N/A
AK14: Puntaje obtenido | AL14: =+IF(AND($C$111>=AL11,$C$111<AL12),AL13,0) -> 0 | AM14: =+IF(AND($C$111>=AM11,$C$111<AM12),AM13,0) -> 0 | AN14: =+IF(AND($C$111>=AN11,$C$111<AN12),AN13,0) -> 0 | AO14: =+IF(AND($C$111>=AO11,$C$111<AO12),AO13,0) -> 0 | AP14: =+IF(AND($C$111>=AP11,$C$111<AP12),AP13,0) -> 0 | AQ14: =+IF(AND($C$111>=AQ11,$C$111<AQ12),AQ13,0) -> 0 | AR14: =+IF(AND($C$111>=AR11,$C$111<AR12),AR13,0) -> 0 | AS14: =+IF(AND($C$111>=AS11,$C$111<AS12),AS13,0) -> 0 | ... AU14: =+IF(AND($C$111>=AU11,$C$111<AU12),AU13,0) -> 0
A25: HABILITACIÓN DEL PERSONAL MÍNIMO REQUERIDO
A28: INFORMACIÓN PROFESIONAL PROPUESTO
A29: PROPONENTE | D29: =+EP_1!D10 -> Consorcio Consultor PMSS Cundinamarca
A30: PERFIL APLICADO | D30: Director/a del proyecto
A31: NOMBRE | D31: JUAN CARLOS OROBIO QUIÑONES
A32: NRO. IDENTIFICACIÓN | D32: 76.314.131
A33: FECHA MÁXIMA PRESENTACIÓN OFERTAS | D33: 46155
A34: HABILITACIÓN | D34: HABILITADO
A36: 1. VERIFICACIÓN DILIGENCIAMIENTO FORMATO
A37: FORMATO | D37: ¿CUMPLE? | E37: OBSERVACIONES | I37: OBSERVACIONES
A38: FORMATO 12 – EXPERIENCIA Y FORMACIÓN ACADÉMICA ADICIONAL | D38: CUMPLE | I38: formato suscrito por el profesional y el RL del consorcio
A40: 2. POSGRADO ADICIONAL
A41: VERIFICACIÓN POSGRADO | E41: OBSERVACIONES
A42: TITULO OBTENIDO | B42: Especialista en Ingeniería de Vías Terrestres | E42: UNIVERSIDAD DEL CAUCA- 30/5/1997
A43: DOCUMENTACIÓN DE ACREDITACIÓN | B43: DIPLOMA DE GRADO CONSULTA SNIES | C43: ¿CUMPLE? | D43: CUMPLE
A44: NBC ACREDITADO | B44: Ingeniería civil y afines | C44: ¿CUMPLE? | D44: CUMPLE
A45: ¿FORMACIÓN ADQUIRIDA EN EL EXTERIOR? | B45: NO | C45: ¿CUMPLE CON ACREDTIACIÓN REQUERIDA EN CASO DE HABERSE ADQUIRIDO LA FORMACIÓN EN EL EXTERIOR? | D45: =IF(B45="SI",IF(AND(B47="SI",B48="SI"),"CUMPLE","NO CUMPLE"),"NO APLICA") -> NO APLICA
A46: DOCUMENTACIÓN DE ACREDITACIÓN PARA FORMACIÓN ADQUIRIDA EN EL EXTERIOR | B46: NO
A47: ¿LA FORMACIÓN SE ENCUENTRA HOMOLOGADA/CONVALIDADA? | B47: NO APLICA
A48: ¿EL DOCUMENTO SE ENCUENTRA DEBIDAMENTE APOSTILLADO O LEGALIZADO? | B48: NO APLICA
A52: 4. VERIFICACIÓN EXPERIENCIA ESPECÍFICA (AÑOS) NO APLICA PARA EL PRESENTE PROCESO | E52: OBSERVACIONES
A53: REQUERIDA | B53: 0 | CE53: =CE61 -> 0 | CF53: =CF61 -> 1 | CG53: =CG61 -> 1 | CH53: =CH61 -> 1 | CI53: =CI61 -> 1 | CJ53: =CJ61 -> 1 | CK53: =CK61 -> 1 | CL53: =CL61 -> 1 | ... LT53: =LT61 -> 1
A54: OBTENIDA | B54: =SUM(AI62:AI96)/365 -> 0 | CC54: =SUM($CE$54:$LT$54) -> 0 | CD54: Específica | CE54: {=MAX(IF($BB$62:$BB$96=1,CE62:CE96))} -> 0 | CF54: {=MAX(IF($BB$62:$BB$96=1,CF62:CF96))} -> 0 | CG54: {=MAX(IF($BB$62:$BB$96=1,CG62:CG96))} -> 0 | CH54: {=MAX(IF($BB$62:$BB$96=1,CH62:CH96))} -> 0 | CI54: {=MAX(IF($BB$62:$BB$96=1,CI62:CI96))} -> 0 | CJ54: {=MAX(IF($BB$62:$BB$96=1,CJ62:CJ96))} -> 0 | CK54: {=MAX(IF($BB$62:$BB$96=1,CK62:CK96))} -> 0 | CL54: {=MAX(IF($BB$62:$BB$96=1,CL62:CL96))} -> 0 | ... LT54: {=MAX(IF($BB$62:$BB$96=1,LT62:LT96))} -> 0
A55: ¿CUMPLE? | B55: =IF(B54>B53,"CUMPLE","NO CUMPLE") -> NO CUMPLE | CC55: =SUM($CE$55:$LT$55) -> 0 | CD55: General | CE55: =MAX(CE62:CE96) -> 0 | CF55: =MAX(CF62:CF96) -> 0 | CG55: =MAX(CG62:CG96) -> 0 | CH55: =MAX(CH62:CH96) -> 0 | CI55: =MAX(CI62:CI96) -> 0 | CJ55: =MAX(CJ62:CJ96) -> 0 | CK55: =MAX(CK62:CK96) -> 0 | CL55: =MAX(CL62:CL96) -> 0 | ... LT55: =MAX(LT62:LT96) -> 0
CE56: =COLUMN()-COLUMN($CE$61)+1 -> 1 | CF56: =COLUMN()-COLUMN($CE$61)+1 -> 2 | CG56: =COLUMN()-COLUMN($CE$61)+1 -> 3 | CH56: =COLUMN()-COLUMN($CE$61)+1 -> 4 | CI56: =COLUMN()-COLUMN($CE$61)+1 -> 5 | CJ56: =COLUMN()-COLUMN($CE$61)+1 -> 6 | CK56: =COLUMN()-COLUMN($CE$61)+1 -> 7 | CL56: =COLUMN()-COLUMN($CE$61)+1 -> 8 | ... LT56: =COLUMN()-COLUMN($CE$61)+1 -> 250
CD57: Orden con duplicados | CE57: =SMALL($AW$62:$AX$96,CE60) -> 1 | CF57: =SMALL($AW$62:$AX$96,CF60) -> 1 | CG57: =SMALL($AW$62:$AX$96,CG60) -> 1 | CH57: =SMALL($AW$62:$AX$96,CH60) -> 1 | CI57: =SMALL($AW$62:$AX$96,CI60) -> 1 | CJ57: =SMALL($AW$62:$AX$96,CJ60) -> 1 | CK57: =SMALL($AW$62:$AX$96,CK60) -> 1 | CL57: =SMALL($AW$62:$AX$96,CL60) -> 1 | ... LT57: =SMALL($AW$62:$AX$96,LT60) -> #NUM!
CD58: Orden sin duplicados | CE58: =IFERROR(IF(COUNTIF($CE57:CE57,CE57)=1,CE57,""),"") -> 1 | CF58: =IFERROR(IF(COUNTIF($CE57:CF57,CF57)=1,CF57,""),"") | CG58: =IFERROR(IF(COUNTIF($CE57:CG57,CG57)=1,CG57,""),"") | CH58: =IFERROR(IF(COUNTIF($CE57:CH57,CH57)=1,CH57,""),"") | CI58: =IFERROR(IF(COUNTIF($CE57:CI57,CI57)=1,CI57,""),"") | CJ58: =IFERROR(IF(COUNTIF($CE57:CJ57,CJ57)=1,CJ57,""),"") | CK58: =IFERROR(IF(COUNTIF($CE57:CK57,CK57)=1,CK57,""),"") | CL58: =IFERROR(IF(COUNTIF($CE57:CL57,CL57)=1,CL57,""),"") | ... LT58: =IFERROR(IF(COUNTIF($CE57:LT57,LT57)=1,LT57,""),"")
AD59: RELACIÓN DE LOS PERIODOS CONTABILIZADOS EN LA EXPERIENCIA SIN TRASLAPOS | CD59: Orden único | CE59: =SMALL($CE$58:$LT$58,CE60) -> 1 | CF59: =SMALL($CE$58:$LT$58,CF60) -> #NUM! | CG59: =SMALL($CE$58:$LT$58,CG60) -> #NUM! | CH59: =SMALL($CE$58:$LT$58,CH60) -> #NUM! | CI59: =SMALL($CE$58:$LT$58,CI60) -> #NUM! | CJ59: =SMALL($CE$58:$LT$58,CJ60) -> #NUM! | CK59: =SMALL($CE$58:$LT$58,CK60) -> #NUM! | CL59: =SMALL($CE$58:$LT$58,CL60) -> #NUM! | ... LT59: =SMALL($CE$58:$LT$58,LT60) -> #NUM!
A60: CONSECUTIVO | B60: ENTIDAD | C60: EXPERIENCIA (dd/mm/aaaa) | E60: FECHA AJUSTADA | G60: APLICA ESPECÍFICA | H60: VALIDACIÓN FECHAS | I60: ¿SE CUMPLE QUE LA EXPERIENCIA ADICIONAL ES DIFERENTE A LA REQUERIDA COMO HABILITANTE? | J60: ¿LA CERTIFICACIÓN LABORAL CUMPLE CON LA INFORMACIÓN MÍNIMA REQUERIDA? | R60: EL PROPONENTE O ALGUNO DE SUS MIEMBROS CERTIFICA LA EXPERIENCIA DEL PROFESIONAL | U60: UNA PERSONA JURÍDICA CERTIFICA LA EXPERIENCIA DE SU REPRESENTANTE LEGAL | W60: DOCUMENTACIÓN DE ACREDITACIÓN DE EXPERIENCIA ADQUIRIDA EN EL EXTERIOR | Z60: RESULTADO | AA60: OBSERVACIONES | AD60: GENERAL | AG60: ESPECÍFICA | BF60: GRAL | BQ60: ESP | CE60: 1 | CF60: 2 | CG60: 3 | CH60: 4 | CI60: 5 | CJ60: 6 | CK60: 7 | CL60: 8 | CM60: 9 | CN60: 10 | CO60: 11 | CP60: 12 | CQ60: 13 | CR60: 14 | CS60: 15 | CT60: 16 | CU60: 17 | CV60: 18 | CW60: 19 | CX60: 20 | CY60: 21 | CZ60: 22 | DA60: 23 | DB60: 24 | DC60: 25 | DD60: 26 | DE60: 27 | DF60: 28 | DG60: 29 | DH60: 30 | DI60: 31 | DJ60: 32 | DK60: 33 | DL60: 34 | DM60: 35 | DN60: 36 | DO60: 37 | DP60: 38 | DQ60: 39 | DR60: 40 | DS60: 41 | DT60: 42 | DU60: 43 | DV60: 44 | DW60: 45 | DX60: 46 | DY60: 47 | DZ60: 48 | EA60: 49 | EB60: 50 | EC60: 51 | ED60: 52 | EE60: 53 | EF60: 54 | EG60: 55 | EH60: 56 | EI60: 57 | EJ60: 58 | EK60: 59 | EL60: 60 | EM60: 61 | EN60: 62 | EO60: 63 | EP60: 64 | EQ60: 65 | ER60: 66 | ES60: 67 | ET60: 68 | EU60: 69 | EV60: 70 | EW60: 71 | EX60: 72 | EY60: 73 | EZ60: 74 | FA60: 75 | FB60: 76 | FC60: 77 | FD60: 78 | FE60: 79 | FF60: 80 | FG60: 81 | FH60: 82 | FI60: 83 | FJ60: 84 | FK60: 85 | FL60: 86 | FM60: 87 | FN60: 88 | FO60: 89 | FP60: 90 | FQ60: 91 | FR60: 92 | FS60: 93 | FT60: 94 | FU60: 95 | FV60: 96 | FW60: 97 | FX60: 98 | FY60: 99 | FZ60: 100 | GA60: 101 | GB60: 102 | GC60: 103 | GD60: 104 | GE60: 105 | GF60: 106 | GG60: 107 | GH60: 108 | GI60: 109 | GJ60: 110 | GK60: 111 | GL60: 112 | GM60: 113 | GN60: 114 | GO60: 115 | GP60: 116 | GQ60: 117 | GR60: 118 | GS60: 119 | GT60: 120 | GU60: 121 | GV60: 122 | GW60: 123 | GX60: 124 | GY60: 125 | GZ60: 126 | HA60: 127 | HB60: 128 | HC60: 129 | HD60: 130 | HE60: 131 | HF60: 132 | HG60: 133 | HH60: 134 | HI60: 135 | HJ60: 136 | HK60: 137 | HL60: 138 | HM60: 139 | HN60: 140 | HO60: 141 | HP60: 142 | HQ60: 143 | HR60: 144 | HS60: 145 | HT60: 146 | HU60: 147 | HV60: 148 | HW60: 149 | HX60: 150 | HY60: 151 | HZ60: 152 | IA60: 153 | IB60: 154 | IC60: 155 | ID60: 156 | IE60: 157 | IF60: 158 | IG60: 159 | IH60: 160 | II60: 161 | IJ60: 162 | IK60: 163 | IL60: 164 | IM60: 165 | IN60: 166 | IO60: 167 | IP60: 168 | IQ60: 169 | IR60: 170 | IS60: 171 | IT60: 172 | IU60: 173 | IV60: 174 | IW60: 175 | IX60: 176 | IY60: 177 | IZ60: 178 | JA60: 179 | JB60: 180 | JC60: 181 | JD60: 182 | JE60: 183 | JF60: 184 | JG60: 185 | JH60: 186 | JI60: 187 | JJ60: 188 | JK60: 189 | JL60: 190 | JM60: 191 | JN60: 192 | JO60: 193 | JP60: 194 | JQ60: 195 | JR60: 196 | JS60: 197 | JT60: 198 | JU60: 199 | JV60: 200 | JW60: 201 | JX60: 202 | JY60: 203 | JZ60: 204 | KA60: 205 | KB60: 206 | KC60: 207 | KD60: 208 | KE60: 209 | KF60: 210 | KG60: 211 | KH60: 212 | KI60: 213 | KJ60: 214 | KK60: 215 | KL60: 216 | KM60: 217 | KN60: 218 | KO60: 219 | KP60: 220 | KQ60: 221 | KR60: 222 | KS60: 223 | KT60: 224 | KU60: 225 | KV60: 226 | KW60: 227 | KX60: 228 | KY60: 229 | KZ60: 230 | LA60: 231 | LB60: 232 | LC60: 233 | LD60: 234 | LE60: 235 | LF60: 236 | LG60: 237 | LH60: 238 | LI60: 239 | LJ60: 240 | LK60: 241 | LL60: 242 | LM60: 243 | LN60: 244 | LO60: 245 | LP60: 246 | LQ60: 247 | LR60: 248 | LS60: 249 | LT60: 250 | LU60: 251
C61: INI | D61: FIN | E61: INI | F61: FIN | J61: NOMBRE O RAZÓN SOCIAL DEL CONTRATANTE | K61: NOMBRE O RAZÓN SOCIAL DEL CONTRATISTA | L61: NÚMERO DEL CONTRATO (SI TIENE) | M61: OBJETO DEL CONTRATO Y/O CARGO DESEMPEÑADO | N61: ACTIVIDADES Y/O OBLIGACIONES DEL CONTRATO | O61: NOMBRE, CARGO Y FIRMA DE QUIEN EXPIDE LA CERTIFICACIÓN | P61: FECHA DE EXPEDICIÓN DE LA CERTIFICACIÓN | Q61: ¿CUMPLE? | R61: ¿PRESENTA COPIA DE LA CERTIFICACIÓN DE LA ENTIDAD CONTRATANTE? | S61: ¿QUE DOCUMENTO SOPORTE ADICIONAL PRESENTA SEGÚN LITERAL N? | T61: ¿CUMPLE? | U61: ¿QUE DOCUMENTO SOPORTE PRESENTA DOCUMENTO SEGÚN LITERAL O? | V61: ¿CUMPLE? | W61: ¿EL DOCUMENTO SE ENCUENTRA DEBIDAMENTE APOSTILLADO? | X61: ¿LA TRADUCCIÓN SE ENCUENTRA DEBIDAMENTE REALIZADA? EN CASO DE NO REQUERIRSE APOSTILLAJE | Y61: ¿CUMPLE? | AD61: INI | AE61: FIN | AF61: DIAS | AG61: INI | AH61: FIN | AI61: DIAS | AW61: Pos Global FI | AX61: Pos Global FF | AY61: Num | AZ61: Fecha Ini | BA61: Fecha Fin | BB61: Específica | BC61: Consec | BD61: Fecha I Mat | BE61: Fecha F Mat | BN61: Fecha Ini | BO61: Fecha Fin | BP61: Días | BY61: Fecha Ini | BZ61: Fecha Fin | CA61: Días | CE61: =IFERROR(VLOOKUP(CE59,$AW$62:$AZ$96,4,FALSE),IFERROR(VLOOKUP(CE59,$AX$62:$BA$96,4,FALSE),DATE(1900,1,1))) -> 0 | CF61: =IFERROR(VLOOKUP(CF59,$AW$62:$AZ$96,4,FALSE),IFERROR(VLOOKUP(CF59,$AX$62:$BA$96,4,FALSE),DATE(1900,1,1))) -> 1 | CG61: =IFERROR(VLOOKUP(CG59,$AW$62:$AZ$96,4,FALSE),IFERROR(VLOOKUP(CG59,$AX$62:$BA$96,4,FALSE),DATE(1900,1,1))) -> 1 | CH61: =IFERROR(VLOOKUP(CH59,$AW$62:$AZ$96,4,FALSE),IFERROR(VLOOKUP(CH59,$AX$62:$BA$96,4,FALSE),DATE(1900,1,1))) -> 1 | CI61: =IFERROR(VLOOKUP(CI59,$AW$62:$AZ$96,4,FALSE),IFERROR(VLOOKUP(CI59,$AX$62:$BA$96,4,FALSE),DATE(1900,1,1))) -> 1 | CJ61: =IFERROR(VLOOKUP(CJ59,$AW$62:$AZ$96,4,FALSE),IFERROR(VLOOKUP(CJ59,$AX$62:$BA$96,4,FALSE),DATE(1900,1,1))) -> 1 | CK61: =IFERROR(VLOOKUP(CK59,$AW$62:$AZ$96,4,FALSE),IFERROR(VLOOKUP(CK59,$AX$62:$BA$96,4,FALSE),DATE(1900,1,1))) -> 1 | CL61: =IFERROR(VLOOKUP(CL59,$AW$62:$AZ$96,4,FALSE),IFERROR(VLOOKUP(CL59,$AX$62:$BA$96,4,FALSE),DATE(1900,1,1))) -> 1 | ... LU61: =IFERROR(VLOOKUP(LU59,$AW$62:$AZ$96,4,FALSE),IFERROR(VLOOKUP(LU59,$AX$62:$BA$96,4,FALSE),DATE(1900,1,1))) -> 1
A62: 1 | E62: =IF(F62="","",IF(C62="","",IF(C62<$H$17,$H$17,IF(C62>$D$33,"",C62)))) | F62: =IF(D62<$H$17,"",IF(C62>$D$33,"",IF(D62>$D$33,$D$33,D62))) -> 0 | G62: X | H62: =IF(OR(C62=0,D62=0),"Falta(n) Fecha(s)",IF(C62>D62,"Invertidas",IF(C62=D62,"INI = FIN",IF(OR(C62<$H$17,D62<$H$17),IF(D62<$H$17,"Fecha Fin < Fecha TP o G","Ajuste por fecha TP o G"),IF(OR(C62>$D$33,D62>$D$33),"Ajuste por fecha HV","Ok"))))) -> Falta(n) Fecha(s) | Y62: =IF(AND(W62="",X62=""), "", IF(AND(OR(W62="SI",W62="NO APLICA"), OR(X62="SI",X62="NO APLICA")), "CUMPLE", "NO CUMPLE")) | Z62: =IF(AND(I62="",Q62="",T62="",V62="",Y62=""),"", IF(COUNTIF(I62:Y62,"NO CUMPLE")>0,"NO CUMPLE","CUMPLE")) | AD62: =BN62 | AE62: =BO62 | AF62: =BP62 -> 0 | AG62: =BY62 | AH62: =BZ62 | AI62: =CA62 -> 0 | AW62: =IFERROR(_xlfn.RANK.EQ(AZ62,$AZ$62:$BA$96),"") | AX62: =IFERROR(_xlfn.RANK.EQ(BA62,$AZ$62:$BA$96),"") -> 1 | AY62: 1 | AZ62: =IF(E62="","",E62) | BA62: =IF(F62="","",IF(F62=E62,F62+0.0001,F62)) -> 0 | BB62: =IF(G62="","",IF(UPPER(G62)="X",1,0)) -> 1 | BC62: 1 | BD62: =HLOOKUP(BC62+1,$CE$60:$LU$61,2,FALSE) -> 1 | BE62: =HLOOKUP(BC62,$CE$60:$LU$61,2,FALSE) -> 0 | BF62: =HLOOKUP(BE62,$CE$53:$LT$55,3,FALSE) -> 0 | BG62: =BF62 -> 0 | BH62: =IF(BG62=0,"",$BC62) | BI62: =LARGE($BH$62:$BH$223,$BC62) -> #NUM! | BJ62: =IFERROR(IF(BM61=BL62,BJ61,BJ61+1),"") | BK62: =IFERROR(VLOOKUP(BI62,$BC$62:$BG$223,5,FALSE),0) -> 0 | BL62: =VLOOKUP(BI62,$BC$62:$BE$223,2,FALSE) -> #NUM! | BM62: =VLOOKUP(BI62,$BC$62:$BE$223,3,FALSE) -> #NUM! | BN62: =IFERROR(VLOOKUP($BC62,BJ$62:BL$223,3,FALSE),"") | BO62: =IFERROR(BN62+BP62-1,"") | BP62: =SUMIF($BJ$62:$BJ$223,$BC62,$BK$62:$BK$223) -> 0 | BQ62: =HLOOKUP(BE62,$CE$53:$LT$55,2,FALSE) -> 0 | BR62: =BQ62 -> 0 | BS62: =IF(BR62=0,"",$BC62) | BT62: =LARGE($BS$62:$BS$223,$BC62) -> #NUM! | BU62: =IF(BX61=BW62,BU61,BU61+1) -> #NUM! | BV62: =IFERROR(VLOOKUP(BT62,$BC$62:$BR$223,16,FALSE),0) -> 0 | BW62: =VLOOKUP(BT62,$BC$62:$BE$223,2,FALSE) -> #NUM! | BX62: =VLOOKUP(BT62,$BC$62:$BE$223,3,FALSE) -> #NUM! | BY62: =IFERROR(VLOOKUP($BC62,BU$62:BW$223,3,FALSE),"") | BZ62: =IFERROR(BY62+CA62-1,"") | CA62: =SUMIF($BU$62:$BU$223,$BC62,$BV$62:$BV$223) -> 0 | CE62: =IF(OR($AZ62="",$BA62=""),0,MAX(MIN(CE$61,$BA62)-MAX(CF$61,$AZ62)+1,0)) -> 0 | CF62: =IF(OR($AZ62="",$BA62=""),0,MAX(MIN(CF$61-1,$BA62)-MAX(CG$61,$AZ62)+1,0)) -> 0 | CG62: =IF(OR($AZ62="",$BA62=""),0,MAX(MIN(CG$61-1,$BA62)-MAX(CH$61,$AZ62)+1,0)) -> 0 | CH62: =IF(OR($AZ62="",$BA62=""),0,MAX(MIN(CH$61-1,$BA62)-MAX(CI$61,$AZ62)+1,0)) -> 0 | CI62: =IF(OR($AZ62="",$BA62=""),0,MAX(MIN(CI$61-1,$BA62)-MAX(CJ$61,$AZ62)+1,0)) -> 0 | CJ62: =IF(OR($AZ62="",$BA62=""),0,MAX(MIN(CJ$61-1,$BA62)-MAX(CK$61,$AZ62)+1,0)) -> 0 | CK62: =IF(OR($AZ62="",$BA62=""),0,MAX(MIN(CK$61-1,$BA62)-MAX(CL$61,$AZ62)+1,0)) -> 0 | CL62: =IF(OR($AZ62="",$BA62=""),0,MAX(MIN(CL$61-1,$BA62)-MAX(CM$61,$AZ62)+1,0)) -> 0 | CM62: =IF(OR($AZ62="",$BA62=""),0,MAX(MIN(CM$61-1,$BA62)-MAX(CN$61,$AZ62)+1,0)) -> 0 | ... LT62: =IF(OR($AZ62="",$BA62=""),0,MAX(MIN(LT$61-1,$BA62)-MAX(LU$61,$AZ62)+1,0)) -> 0
A63: 2 | E63: =IF(F63="","",IF(C63="","",IF(C63<$H$17,$H$17,IF(C63>$D$33,"",C63)))) | F63: =IF(D63<$H$17,"",IF(C63>$D$33,"",IF(D63>$D$33,$D$33,D63))) -> 0 | G63: X | H63: =IF(OR(C63=0,D63=0),"Falta(n) Fecha(s)",IF(C63>D63,"Invertidas",IF(C63=D63,"INI = FIN",IF(OR(C63<$H$17,D63<$H$17),IF(D63<$H$17,"Fecha Fin < Fecha TP o G","Ajuste por fecha TP o G"),IF(OR(C63>$D$33,D63>$D$33),"Ajuste por fecha HV","Ok"))))) -> Falta(n) Fecha(s) | Z63: =IF(AND(I63="",Q63="",T63="",V63="",Y63=""),"", IF(COUNTIF(I63:Y63,"NO CUMPLE")>0,"NO CUMPLE","CUMPLE")) | AD63: =BN63 | AE63: =BO63 | AF63: =BP63 -> 0 | AG63: =BY63 | AH63: =BZ63 | AI63: =CA63 -> 0 | AW63: =IFERROR(_xlfn.RANK.EQ(AZ63,$AZ$62:$BA$96),"") | AX63: =IFERROR(_xlfn.RANK.EQ(BA63,$AZ$62:$BA$96),"") -> 1 | AY63: 2 | AZ63: =IF(E63="","",E63) | BA63: =IF(F63="","",IF(F63=E63,F63+0.0001,F63)) -> 0 | BB63: =IF(G63="","",IF(UPPER(G63)="X",1,0)) -> 1 | BC63: 2 | BD63: =HLOOKUP(BC63+1,$CE$60:$LU$61,2,FALSE) -> 1 | BE63: =HLOOKUP(BC63,$CE$60:$LU$61,2,FALSE) -> 1 | BF63: =HLOOKUP(BE63,$CE$53:$LT$55,3,FALSE) -> 0 | BG63: =IF(OR(BD63=1,BE63=1),0,IF(AND(BF62=1,(BE62-BD62)<>1),BF63+1,IF(AND(BF63=1,(BE63-BD63<>1)),0,BF63))) -> 0 | BH63: =IF(BG63=0,"",$BC63) | BI63: =LARGE($BH$62:$BH$223,$BC63) -> #NUM! | BJ63: =IFERROR(IF(BM62=BL63,BJ62,BJ62+1),"") | BK63: =IFERROR(VLOOKUP(BI63,$BC$62:$BG$223,5,FALSE),0) -> 0 | BL63: =VLOOKUP(BI63,$BC$62:$BE$223,2,FALSE) -> #NUM! | BM63: =VLOOKUP(BI63,$BC$62:$BE$223,3,FALSE) -> #NUM! | BN63: =IFERROR(VLOOKUP($BC63,BJ$62:BL$223,3,FALSE),"") | BO63: =IFERROR(BN63+BP63-1,"") | BP63: =SUMIF($BJ$62:$BJ$223,$BC63,$BK$62:$BK$223) -> 0 | BQ63: =HLOOKUP(BE63,$CE$53:$LT$55,2,FALSE) -> 0 | BR63: =IF(OR(BD63=1,BE63=1),0,IF(AND(BQ62=1,(BE62-BD62)<>1),BQ63+1,IF(AND(BQ63=1,(BE63-BD63<>1)),0,BQ63))) -> 0 | BS63: =IF(BR63=0,"",$BC63) | BT63: =LARGE($BS$62:$BS$223,$BC63) -> #NUM! | BU63: =IF(BX62=BW63,BU62,BU62+1) -> #NUM! | BV63: =IFERROR(VLOOKUP(BT63,$BC$62:$BR$223,16,FALSE),0) -> 0 | BW63: =VLOOKUP(BT63,$BC$62:$BE$223,2,FALSE) -> #NUM! | BX63: =VLOOKUP(BT63,$BC$62:$BE$223,3,FALSE) -> #NUM! | BY63: =IFERROR(VLOOKUP($BC63,BU$62:BW$223,3,FALSE),"") | BZ63: =IFERROR(BY63+CA63-1,"") | CA63: =SUMIF($BU$62:$BU$223,$BC63,$BV$62:$BV$223) -> 0 | CE63: =IF(OR($AZ63="",$BA63=""),0,MAX(MIN(CE$61,$BA63)-MAX(CF$61,$AZ63)+1,0)) -> 0 | CF63: =IF(OR($AZ63="",$BA63=""),0,MAX(MIN(CF$61-1,$BA63)-MAX(CG$61,$AZ63)+1,0)) -> 0 | CG63: =IF(OR($AZ63="",$BA63=""),0,MAX(MIN(CG$61-1,$BA63)-MAX(CH$61,$AZ63)+1,0)) -> 0 | CH63: =IF(OR($AZ63="",$BA63=""),0,MAX(MIN(CH$61-1,$BA63)-MAX(CI$61,$AZ63)+1,0)) -> 0 | CI63: =IF(OR($AZ63="",$BA63=""),0,MAX(MIN(CI$61-1,$BA63)-MAX(CJ$61,$AZ63)+1,0)) -> 0 | CJ63: =IF(OR($AZ63="",$BA63=""),0,MAX(MIN(CJ$61-1,$BA63)-MAX(CK$61,$AZ63)+1,0)) -> 0 | CK63: =IF(OR($AZ63="",$BA63=""),0,MAX(MIN(CK$61-1,$BA63)-MAX(CL$61,$AZ63)+1,0)) -> 0 | CL63: =IF(OR($AZ63="",$BA63=""),0,MAX(MIN(CL$61-1,$BA63)-MAX(CM$61,$AZ63)+1,0)) -> 0 | CM63: =IF(OR($AZ63="",$BA63=""),0,MAX(MIN(CM$61-1,$BA63)-MAX(CN$61,$AZ63)+1,0)) -> 0 | ... LT63: =IF(OR($AZ63="",$BA63=""),0,MAX(MIN(LT$61-1,$BA63)-MAX(LU$61,$AZ63)+1,0)) -> 0
A64: 3 | E64: =IF(F64="","",IF(C64="","",IF(C64<$H$17,$H$17,IF(C64>$D$33,"",C64)))) | F64: =IF(D64<$H$17,"",IF(C64>$D$33,"",IF(D64>$D$33,$D$33,D64))) -> 0 | G64: X | H64: =IF(OR(C64=0,D64=0),"Falta(n) Fecha(s)",IF(C64>D64,"Invertidas",IF(C64=D64,"INI = FIN",IF(OR(C64<$H$17,D64<$H$17),IF(D64<$H$17,"Fecha Fin < Fecha TP o G","Ajuste por fecha TP o G"),IF(OR(C64>$D$33,D64>$D$33),"Ajuste por fecha HV","Ok"))))) -> Falta(n) Fecha(s) | Q64: {=IF(SUM(COUNTIF(J64:P64,{"SI","NO APLICA"}))=0, "", IF(SUM(COUNTIF(J64:P64,{"SI","NO APLICA"}))=COLUMNS(J64:P64), "CUMPLE", "NO CUMPLE"))} | Y64: =IF(AND(W64="",X64=""), "", IF(AND(OR(W64="SI",W64="NO APLICA"), OR(X64="SI",X64="NO APLICA")), "CUMPLE", "NO CUMPLE")) | Z64: =IF(AND(I64="",Q64="",T64="",V64="",Y64=""),"", IF(COUNTIF(I64:Y64,"NO CUMPLE")>0,"NO CUMPLE","CUMPLE")) | AD64: =BN64 | AE64: =BO64 | AF64: =BP64 -> 0 | AG64: =BY64 | AH64: =BZ64 | AI64: =CA64 -> 0 | AW64: =IFERROR(_xlfn.RANK.EQ(AZ64,$AZ$62:$BA$96),"") | AX64: =IFERROR(_xlfn.RANK.EQ(BA64,$AZ$62:$BA$96),"") -> 1 | AY64: 3 | AZ64: =IF(E64="","",E64) | BA64: =IF(F64="","",IF(F64=E64,F64+0.0001,F64)) -> 0 | BB64: =IF(G64="","",IF(UPPER(G64)="X",1,0)) -> 1 | BC64: 3 | BD64: =HLOOKUP(BC64+1,$CE$60:$LU$61,2,FALSE) -> 1 | BE64: =HLOOKUP(BC64,$CE$60:$LU$61,2,FALSE) -> 1 | BF64: =HLOOKUP(BE64,$CE$53:$LT$55,3,FALSE) -> 0 | BG64: =IF(OR(BD64=1,BE64=1),0,IF(AND(BF63=1,(BE63-BD63)<>1),BF64+1,IF(AND(BF64=1,(BE64-BD64<>1)),0,BF64))) -> 0 | BH64: =IF(BG64=0,"",$BC64) | BI64: =LARGE($BH$62:$BH$223,$BC64) -> #NUM! | BJ64: =IFERROR(IF(BM63=BL64,BJ63,BJ63+1),"") | BK64: =IFERROR(VLOOKUP(BI64,$BC$62:$BG$223,5,FALSE),0) -> 0 | BL64: =VLOOKUP(BI64,$BC$62:$BE$223,2,FALSE) -> #NUM! | BM64: =VLOOKUP(BI64,$BC$62:$BE$223,3,FALSE) -> #NUM! | BN64: =IFERROR(VLOOKUP($BC64,BJ$62:BL$223,3,FALSE),"") | BO64: =IFERROR(BN64+BP64-1,"") | BP64: =SUMIF($BJ$62:$BJ$223,$BC64,$BK$62:$BK$223) -> 0 | BQ64: =HLOOKUP(BE64,$CE$53:$LT$55,2,FALSE) -> 0 | BR64: =IF(OR(BD64=1,BE64=1),0,IF(AND(BQ63=1,(BE63-BD63)<>1),BQ64+1,IF(AND(BQ64=1,(BE64-BD64<>1)),0,BQ64))) -> 0 | BS64: =IF(BR64=0,"",$BC64) | BT64: =LARGE($BS$62:$BS$223,$BC64) -> #NUM! | BU64: =IF(BX63=BW64,BU63,BU63+1) -> #NUM! | BV64: =IFERROR(VLOOKUP(BT64,$BC$62:$BR$223,16,FALSE),0) -> 0 | BW64: =VLOOKUP(BT64,$BC$62:$BE$223,2,FALSE) -> #NUM! | BX64: =VLOOKUP(BT64,$BC$62:$BE$223,3,FALSE) -> #NUM! | BY64: =IFERROR(VLOOKUP($BC64,BU$62:BW$223,3,FALSE),"") | BZ64: =IFERROR(BY64+CA64-1,"") | CA64: =SUMIF($BU$62:$BU$223,$BC64,$BV$62:$BV$223) -> 0 | CE64: =IF(OR($AZ64="",$BA64=""),0,MAX(MIN(CE$61,$BA64)-MAX(CF$61,$AZ64)+1,0)) -> 0 | CF64: =IF(OR($AZ64="",$BA64=""),0,MAX(MIN(CF$61-1,$BA64)-MAX(CG$61,$AZ64)+1,0)) -> 0 | CG64: =IF(OR($AZ64="",$BA64=""),0,MAX(MIN(CG$61-1,$BA64)-MAX(CH$61,$AZ64)+1,0)) -> 0 | CH64: =IF(OR($AZ64="",$BA64=""),0,MAX(MIN(CH$61-1,$BA64)-MAX(CI$61,$AZ64)+1,0)) -> 0 | CI64: =IF(OR($AZ64="",$BA64=""),0,MAX(MIN(CI$61-1,$BA64)-MAX(CJ$61,$AZ64)+1,0)) -> 0 | CJ64: =IF(OR($AZ64="",$BA64=""),0,MAX(MIN(CJ$61-1,$BA64)-MAX(CK$61,$AZ64)+1,0)) -> 0 | CK64: =IF(OR($AZ64="",$BA64=""),0,MAX(MIN(CK$61-1,$BA64)-MAX(CL$61,$AZ64)+1,0)) -> 0 | CL64: =IF(OR($AZ64="",$BA64=""),0,MAX(MIN(CL$61-1,$BA64)-MAX(CM$61,$AZ64)+1,0)) -> 0 | CM64: =IF(OR($AZ64="",$BA64=""),0,MAX(MIN(CM$61-1,$BA64)-MAX(CN$61,$AZ64)+1,0)) -> 0 | ... LT64: =IF(OR($AZ64="",$BA64=""),0,MAX(MIN(LT$61-1,$BA64)-MAX(LU$61,$AZ64)+1,0)) -> 0
A65: 4 | E65: =IF(F65="","",IF(C65="","",IF(C65<$H$17,$H$17,IF(C65>$D$33,"",C65)))) | F65: =IF(D65<$H$17,"",IF(C65>$D$33,"",IF(D65>$D$33,$D$33,D65))) -> 0 | H65: =IF(OR(C65=0,D65=0),"Falta(n) Fecha(s)",IF(C65>D65,"Invertidas",IF(C65=D65,"INI = FIN",IF(OR(C65<$H$17,D65<$H$17),IF(D65<$H$17,"Fecha Fin < Fecha TP o G","Ajuste por fecha TP o G"),IF(OR(C65>$D$33,D65>$D$33),"Ajuste por fecha HV","Ok"))))) -> Falta(n) Fecha(s) | Q65: {=IF(SUM(COUNTIF(J65:P65,{"SI","NO APLICA"}))=0, "", IF(SUM(COUNTIF(J65:P65,{"SI","NO APLICA"}))=COLUMNS(J65:P65), "CUMPLE", "NO CUMPLE"))} | Y65: =IF(AND(W65="",X65=""), "", IF(AND(OR(W65="SI",W65="NO APLICA"), OR(X65="SI",X65="NO APLICA")), "CUMPLE", "NO CUMPLE")) | Z65: =IF(AND(I65="",Q65="",T65="",V65="",Y65=""),"", IF(COUNTIF(I65:Y65,"NO CUMPLE")>0,"NO CUMPLE","CUMPLE")) | AD65: =BN65 | AE65: =BO65 | AF65: =BP65 -> 0 | AG65: =BY65 | AH65: =BZ65 | AI65: =CA65 -> 0 | AW65: =IFERROR(_xlfn.RANK.EQ(AZ65,$AZ$62:$BA$96),"") | AX65: =IFERROR(_xlfn.RANK.EQ(BA65,$AZ$62:$BA$96),"") -> 1 | AY65: 4 | AZ65: =IF(E65="","",E65) | BA65: =IF(F65="","",IF(F65=E65,F65+0.0001,F65)) -> 0 | BB65: =IF(G65="","",IF(UPPER(G65)="X",1,0)) | BC65: 4 | BD65: =HLOOKUP(BC65+1,$CE$60:$LU$61,2,FALSE) -> 1 | BE65: =HLOOKUP(BC65,$CE$60:$LU$61,2,FALSE) -> 1 | BF65: =HLOOKUP(BE65,$CE$53:$LT$55,3,FALSE) -> 0 | BG65: =IF(OR(BD65=1,BE65=1),0,IF(AND(BF64=1,(BE64-BD64)<>1),BF65+1,IF(AND(BF65=1,(BE65-BD65<>1)),0,BF65))) -> 0 | BH65: =IF(BG65=0,"",$BC65) | BI65: =LARGE($BH$62:$BH$223,$BC65) -> #NUM! | BJ65: =IFERROR(IF(BM64=BL65,BJ64,BJ64+1),"") | BK65: =IFERROR(VLOOKUP(BI65,$BC$62:$BG$223,5,FALSE),0) -> 0 | BL65: =VLOOKUP(BI65,$BC$62:$BE$223,2,FALSE) -> #NUM! | BM65: =VLOOKUP(BI65,$BC$62:$BE$223,3,FALSE) -> #NUM! | BN65: =IFERROR(VLOOKUP($BC65,BJ$62:BL$223,3,FALSE),"") | BO65: =IFERROR(BN65+BP65-1,"") | BP65: =SUMIF($BJ$62:$BJ$223,$BC65,$BK$62:$BK$223) -> 0 | BQ65: =HLOOKUP(BE65,$CE$53:$LT$55,2,FALSE) -> 0 | BR65: =IF(OR(BD65=1,BE65=1),0,IF(AND(BQ64=1,(BE64-BD64)<>1),BQ65+1,IF(AND(BQ65=1,(BE65-BD65<>1)),0,BQ65))) -> 0 | BS65: =IF(BR65=0,"",$BC65) | BT65: =LARGE($BS$62:$BS$223,$BC65) -> #NUM! | BU65: =IF(BX64=BW65,BU64,BU64+1) -> #NUM! | BV65: =IFERROR(VLOOKUP(BT65,$BC$62:$BR$223,16,FALSE),0) -> 0 | BW65: =VLOOKUP(BT65,$BC$62:$BE$223,2,FALSE) -> #NUM! | BX65: =VLOOKUP(BT65,$BC$62:$BE$223,3,FALSE) -> #NUM! | BY65: =IFERROR(VLOOKUP($BC65,BU$62:BW$223,3,FALSE),"") | BZ65: =IFERROR(BY65+CA65-1,"") | CA65: =SUMIF($BU$62:$BU$223,$BC65,$BV$62:$BV$223) -> 0 | CE65: =IF(OR($AZ65="",$BA65=""),0,MAX(MIN(CE$61,$BA65)-MAX(CF$61,$AZ65)+1,0)) -> 0 | CF65: =IF(OR($AZ65="",$BA65=""),0,MAX(MIN(CF$61-1,$BA65)-MAX(CG$61,$AZ65)+1,0)) -> 0 | CG65: =IF(OR($AZ65="",$BA65=""),0,MAX(MIN(CG$61-1,$BA65)-MAX(CH$61,$AZ65)+1,0)) -> 0 | CH65: =IF(OR($AZ65="",$BA65=""),0,MAX(MIN(CH$61-1,$BA65)-MAX(CI$61,$AZ65)+1,0)) -> 0 | CI65: =IF(OR($AZ65="",$BA65=""),0,MAX(MIN(CI$61-1,$BA65)-MAX(CJ$61,$AZ65)+1,0)) -> 0 | CJ65: =IF(OR($AZ65="",$BA65=""),0,MAX(MIN(CJ$61-1,$BA65)-MAX(CK$61,$AZ65)+1,0)) -> 0 | CK65: =IF(OR($AZ65="",$BA65=""),0,MAX(MIN(CK$61-1,$BA65)-MAX(CL$61,$AZ65)+1,0)) -> 0 | CL65: =IF(OR($AZ65="",$BA65=""),0,MAX(MIN(CL$61-1,$BA65)-MAX(CM$61,$AZ65)+1,0)) -> 0 | CM65: =IF(OR($AZ65="",$BA65=""),0,MAX(MIN(CM$61-1,$BA65)-MAX(CN$61,$AZ65)+1,0)) -> 0 | ... LT65: =IF(OR($AZ65="",$BA65=""),0,MAX(MIN(LT$61-1,$BA65)-MAX(LU$61,$AZ65)+1,0)) -> 0
A66: 5 | E66: =IF(F66="","",IF(C66="","",IF(C66<$H$17,$H$17,IF(C66>$D$33,"",C66)))) | F66: =IF(D66<$H$17,"",IF(C66>$D$33,"",IF(D66>$D$33,$D$33,D66))) -> 0 | H66: =IF(OR(C66=0,D66=0),"Falta(n) Fecha(s)",IF(C66>D66,"Invertidas",IF(C66=D66,"INI = FIN",IF(OR(C66<$H$17,D66<$H$17),IF(D66<$H$17,"Fecha Fin < Fecha TP o G","Ajuste por fecha TP o G"),IF(OR(C66>$D$33,D66>$D$33),"Ajuste por fecha HV","Ok"))))) -> Falta(n) Fecha(s) | Q66: {=IF(SUM(COUNTIF(J66:P66,{"SI","NO APLICA"}))=0, "", IF(SUM(COUNTIF(J66:P66,{"SI","NO APLICA"}))=COLUMNS(J66:P66), "CUMPLE", "NO CUMPLE"))} | Y66: =IF(AND(W66="",X66=""), "", IF(AND(OR(W66="SI",W66="NO APLICA"), OR(X66="SI",X66="NO APLICA")), "CUMPLE", "NO CUMPLE")) | Z66: =IF(AND(I66="",Q66="",T66="",V66="",Y66=""),"", IF(COUNTIF(I66:Y66,"NO CUMPLE")>0,"NO CUMPLE","CUMPLE")) | AD66: =BN66 | AE66: =BO66 | AF66: =BP66 -> 0 | AG66: =BY66 | AH66: =BZ66 | AI66: =CA66 -> 0 | AW66: =IFERROR(_xlfn.RANK.EQ(AZ66,$AZ$62:$BA$96),"") | AX66: =IFERROR(_xlfn.RANK.EQ(BA66,$AZ$62:$BA$96),"") -> 1 | AY66: 5 | AZ66: =IF(E66="","",E66) | BA66: =IF(F66="","",IF(F66=E66,F66+0.0001,F66)) -> 0 | BB66: =IF(G66="","",IF(UPPER(G66)="X",1,0)) | BC66: 5 | BD66: =HLOOKUP(BC66+1,$CE$60:$LU$61,2,FALSE) -> 1 | BE66: =HLOOKUP(BC66,$CE$60:$LU$61,2,FALSE) -> 1 | BF66: =HLOOKUP(BE66,$CE$53:$LT$55,3,FALSE) -> 0 | BG66: =IF(OR(BD66=1,BE66=1),0,IF(AND(BF65=1,(BE65-BD65)<>1),BF66+1,IF(AND(BF66=1,(BE66-BD66<>1)),0,BF66))) -> 0 | BH66: =IF(BG66=0,"",$BC66) | BI66: =LARGE($BH$62:$BH$223,$BC66) -> #NUM! | BJ66: =IFERROR(IF(BM65=BL66,BJ65,BJ65+1),"") | BK66: =IFERROR(VLOOKUP(BI66,$BC$62:$BG$223,5,FALSE),0) -> 0 | BL66: =VLOOKUP(BI66,$BC$62:$BE$223,2,FALSE) -> #NUM! | BM66: =VLOOKUP(BI66,$BC$62:$BE$223,3,FALSE) -> #NUM! | BN66: =IFERROR(VLOOKUP($BC66,BJ$62:BL$223,3,FALSE),"") | BO66: =IFERROR(BN66+BP66-1,"") | BP66: =SUMIF($BJ$62:$BJ$223,$BC66,$BK$62:$BK$223) -> 0 | BQ66: =HLOOKUP(BE66,$CE$53:$LT$55,2,FALSE) -> 0 | BR66: =IF(OR(BD66=1,BE66=1),0,IF(AND(BQ65=1,(BE65-BD65)<>1),BQ66+1,IF(AND(BQ66=1,(BE66-BD66<>1)),0,BQ66))) -> 0 | BS66: =IF(BR66=0,"",$BC66) | BT66: =LARGE($BS$62:$BS$223,$BC66) -> #NUM! | BU66: =IF(BX65=BW66,BU65,BU65+1) -> #NUM! | BV66: =IFERROR(VLOOKUP(BT66,$BC$62:$BR$223,16,FALSE),0) -> 0 | BW66: =VLOOKUP(BT66,$BC$62:$BE$223,2,FALSE) -> #NUM! | BX66: =VLOOKUP(BT66,$BC$62:$BE$223,3,FALSE) -> #NUM! | BY66: =IFERROR(VLOOKUP($BC66,BU$62:BW$223,3,FALSE),"") | BZ66: =IFERROR(BY66+CA66-1,"") | CA66: =SUMIF($BU$62:$BU$223,$BC66,$BV$62:$BV$223) -> 0 | CE66: =IF(OR($AZ66="",$BA66=""),0,MAX(MIN(CE$61,$BA66)-MAX(CF$61,$AZ66)+1,0)) -> 0 | CF66: =IF(OR($AZ66="",$BA66=""),0,MAX(MIN(CF$61-1,$BA66)-MAX(CG$61,$AZ66)+1,0)) -> 0 | CG66: =IF(OR($AZ66="",$BA66=""),0,MAX(MIN(CG$61-1,$BA66)-MAX(CH$61,$AZ66)+1,0)) -> 0 | CH66: =IF(OR($AZ66="",$BA66=""),0,MAX(MIN(CH$61-1,$BA66)-MAX(CI$61,$AZ66)+1,0)) -> 0 | CI66: =IF(OR($AZ66="",$BA66=""),0,MAX(MIN(CI$61-1,$BA66)-MAX(CJ$61,$AZ66)+1,0)) -> 0 | CJ66: =IF(OR($AZ66="",$BA66=""),0,MAX(MIN(CJ$61-1,$BA66)-MAX(CK$61,$AZ66)+1,0)) -> 0 | CK66: =IF(OR($AZ66="",$BA66=""),0,MAX(MIN(CK$61-1,$BA66)-MAX(CL$61,$AZ66)+1,0)) -> 0 | CL66: =IF(OR($AZ66="",$BA66=""),0,MAX(MIN(CL$61-1,$BA66)-MAX(CM$61,$AZ66)+1,0)) -> 0 | CM66: =IF(OR($AZ66="",$BA66=""),0,MAX(MIN(CM$61-1,$BA66)-MAX(CN$61,$AZ66)+1,0)) -> 0 | ... LT66: =IF(OR($AZ66="",$BA66=""),0,MAX(MIN(LT$61-1,$BA66)-MAX(LU$61,$AZ66)+1,0)) -> 0
A67: 6 | E67: =IF(F67="","",IF(C67="","",IF(C67<$H$17,$H$17,IF(C67>$D$33,"",C67)))) | F67: =IF(D67<$H$17,"",IF(C67>$D$33,"",IF(D67>$D$33,$D$33,D67))) -> 0 | H67: =IF(OR(C67=0,D67=0),"Falta(n) Fecha(s)",IF(C67>D67,"Invertidas",IF(C67=D67,"INI = FIN",IF(OR(C67<$H$17,D67<$H$17),IF(D67<$H$17,"Fecha Fin < Fecha TP o G","Ajuste por fecha TP o G"),IF(OR(C67>$D$33,D67>$D$33),"Ajuste por fecha HV","Ok"))))) -> Falta(n) Fecha(s) | Q67: {=IF(SUM(COUNTIF(J67:P67,{"SI","NO APLICA"}))=0, "", IF(SUM(COUNTIF(J67:P67,{"SI","NO APLICA"}))=COLUMNS(J67:P67), "CUMPLE", "NO CUMPLE"))} | Y67: =IF(AND(W67="",X67=""), "", IF(AND(OR(W67="SI",W67="NO APLICA"), OR(X67="SI",X67="NO APLICA")), "CUMPLE", "NO CUMPLE")) | Z67: =IF(AND(I67="",Q67="",T67="",V67="",Y67=""),"", IF(COUNTIF(I67:Y67,"NO CUMPLE")>0,"NO CUMPLE","CUMPLE")) | AD67: =BN67 | AE67: =BO67 | AF67: =BP67 -> 0 | AG67: =BY67 | AH67: =BZ67 | AI67: =CA67 -> 0 | AW67: =IFERROR(_xlfn.RANK.EQ(AZ67,$AZ$62:$BA$96),"") | AX67: =IFERROR(_xlfn.RANK.EQ(BA67,$AZ$62:$BA$96),"") -> 1 | AY67: 6 | AZ67: =IF(E67="","",E67) | BA67: =IF(F67="","",IF(F67=E67,F67+0.0001,F67)) -> 0 | BB67: =IF(G67="","",IF(UPPER(G67)="X",1,0)) | BC67: 6 | BD67: =HLOOKUP(BC67+1,$CE$60:$LU$61,2,FALSE) -> 1 | BE67: =HLOOKUP(BC67,$CE$60:$LU$61,2,FALSE) -> 1 | BF67: =HLOOKUP(BE67,$CE$53:$LT$55,3,FALSE) -> 0 | BG67: =IF(OR(BD67=1,BE67=1),0,IF(AND(BF66=1,(BE66-BD66)<>1),BF67+1,IF(AND(BF67=1,(BE67-BD67<>1)),0,BF67))) -> 0 | BH67: =IF(BG67=0,"",$BC67) | BI67: =LARGE($BH$62:$BH$223,$BC67) -> #NUM! | BJ67: =IFERROR(IF(BM66=BL67,BJ66,BJ66+1),"") | BK67: =IFERROR(VLOOKUP(BI67,$BC$62:$BG$223,5,FALSE),0) -> 0 | BL67: =VLOOKUP(BI67,$BC$62:$BE$223,2,FALSE) -> #NUM! | BM67: =VLOOKUP(BI67,$BC$62:$BE$223,3,FALSE) -> #NUM! | BN67: =IFERROR(VLOOKUP($BC67,BJ$62:BL$223,3,FALSE),"") | BO67: =IFERROR(BN67+BP67-1,"") | BP67: =SUMIF($BJ$62:$BJ$223,$BC67,$BK$62:$BK$223) -> 0 | BQ67: =HLOOKUP(BE67,$CE$53:$LT$55,2,FALSE) -> 0 | BR67: =IF(OR(BD67=1,BE67=1),0,IF(AND(BQ66=1,(BE66-BD66)<>1),BQ67+1,IF(AND(BQ67=1,(BE67-BD67<>1)),0,BQ67))) -> 0 | BS67: =IF(BR67=0,"",$BC67) | BT67: =LARGE($BS$62:$BS$223,$BC67) -> #NUM! | BU67: =IF(BX66=BW67,BU66,BU66+1) -> #NUM! | BV67: =IFERROR(VLOOKUP(BT67,$BC$62:$BR$223,16,FALSE),0) -> 0 | BW67: =VLOOKUP(BT67,$BC$62:$BE$223,2,FALSE) -> #NUM! | BX67: =VLOOKUP(BT67,$BC$62:$BE$223,3,FALSE) -> #NUM! | BY67: =IFERROR(VLOOKUP($BC67,BU$62:BW$223,3,FALSE),"") | BZ67: =IFERROR(BY67+CA67-1,"") | CA67: =SUMIF($BU$62:$BU$223,$BC67,$BV$62:$BV$223) -> 0 | CE67: =IF(OR($AZ67="",$BA67=""),0,MAX(MIN(CE$61,$BA67)-MAX(CF$61,$AZ67)+1,0)) -> 0 | CF67: =IF(OR($AZ67="",$BA67=""),0,MAX(MIN(CF$61-1,$BA67)-MAX(CG$61,$AZ67)+1,0)) -> 0 | CG67: =IF(OR($AZ67="",$BA67=""),0,MAX(MIN(CG$61-1,$BA67)-MAX(CH$61,$AZ67)+1,0)) -> 0 | CH67: =IF(OR($AZ67="",$BA67=""),0,MAX(MIN(CH$61-1,$BA67)-MAX(CI$61,$AZ67)+1,0)) -> 0 | CI67: =IF(OR($AZ67="",$BA67=""),0,MAX(MIN(CI$61-1,$BA67)-MAX(CJ$61,$AZ67)+1,0)) -> 0 | CJ67: =IF(OR($AZ67="",$BA67=""),0,MAX(MIN(CJ$61-1,$BA67)-MAX(CK$61,$AZ67)+1,0)) -> 0 | CK67: =IF(OR($AZ67="",$BA67=""),0,MAX(MIN(CK$61-1,$BA67)-MAX(CL$61,$AZ67)+1,0)) -> 0 | CL67: =IF(OR($AZ67="",$BA67=""),0,MAX(MIN(CL$61-1,$BA67)-MAX(CM$61,$AZ67)+1,0)) -> 0 | CM67: =IF(OR($AZ67="",$BA67=""),0,MAX(MIN(CM$61-1,$BA67)-MAX(CN$61,$AZ67)+1,0)) -> 0 | ... LT67: =IF(OR($AZ67="",$BA67=""),0,MAX(MIN(LT$61-1,$BA67)-MAX(LU$61,$AZ67)+1,0)) -> 0
A68: 7 | E68: =IF(F68="","",IF(C68="","",IF(C68<$H$17,$H$17,IF(C68>$D$33,"",C68)))) | F68: =IF(D68<$H$17,"",IF(C68>$D$33,"",IF(D68>$D$33,$D$33,D68))) -> 0 | H68: =IF(OR(C68=0,D68=0),"Falta(n) Fecha(s)",IF(C68>D68,"Invertidas",IF(C68=D68,"INI = FIN",IF(OR(C68<$H$17,D68<$H$17),IF(D68<$H$17,"Fecha Fin < Fecha TP o G","Ajuste por fecha TP o G"),IF(OR(C68>$D$33,D68>$D$33),"Ajuste por fecha HV","Ok"))))) -> Falta(n) Fecha(s) | Q68: {=IF(SUM(COUNTIF(J68:P68,{"SI","NO APLICA"}))=0, "", IF(SUM(COUNTIF(J68:P68,{"SI","NO APLICA"}))=COLUMNS(J68:P68), "CUMPLE", "NO CUMPLE"))} | Y68: =IF(AND(W68="",X68=""), "", IF(AND(OR(W68="SI",W68="NO APLICA"), OR(X68="SI",X68="NO APLICA")), "CUMPLE", "NO CUMPLE")) | Z68: =IF(AND(I68="",Q68="",T68="",V68="",Y68=""),"", IF(COUNTIF(I68:Y68,"NO CUMPLE")>0,"NO CUMPLE","CUMPLE")) | AD68: =BN68 | AE68: =BO68 | AF68: =BP68 -> 0 | AG68: =BY68 | AH68: =BZ68 | AI68: =CA68 -> 0 | AW68: =IFERROR(_xlfn.RANK.EQ(AZ68,$AZ$62:$BA$96),"") | AX68: =IFERROR(_xlfn.RANK.EQ(BA68,$AZ$62:$BA$96),"") -> 1 | AY68: 7 | AZ68: =IF(E68="","",E68) | BA68: =IF(F68="","",IF(F68=E68,F68+0.0001,F68)) -> 0 | BB68: =IF(G68="","",IF(UPPER(G68)="X",1,0)) | BC68: 7 | BD68: =HLOOKUP(BC68+1,$CE$60:$LU$61,2,FALSE) -> 1 | BE68: =HLOOKUP(BC68,$CE$60:$LU$61,2,FALSE) -> 1 | BF68: =HLOOKUP(BE68,$CE$53:$LT$55,3,FALSE) -> 0 | BG68: =IF(OR(BD68=1,BE68=1),0,IF(AND(BF67=1,(BE67-BD67)<>1),BF68+1,IF(AND(BF68=1,(BE68-BD68<>1)),0,BF68))) -> 0 | BH68: =IF(BG68=0,"",$BC68) | BI68: =LARGE($BH$62:$BH$223,$BC68) -> #NUM! | BJ68: =IFERROR(IF(BM67=BL68,BJ67,BJ67+1),"") | BK68: =IFERROR(VLOOKUP(BI68,$BC$62:$BG$223,5,FALSE),0) -> 0 | BL68: =VLOOKUP(BI68,$BC$62:$BE$223,2,FALSE) -> #NUM! | BM68: =VLOOKUP(BI68,$BC$62:$BE$223,3,FALSE) -> #NUM! | BN68: =IFERROR(VLOOKUP($BC68,BJ$62:BL$223,3,FALSE),"") | BO68: =IFERROR(BN68+BP68-1,"") | BP68: =SUMIF($BJ$62:$BJ$223,$BC68,$BK$62:$BK$223) -> 0 | BQ68: =HLOOKUP(BE68,$CE$53:$LT$55,2,FALSE) -> 0 | BR68: =IF(OR(BD68=1,BE68=1),0,IF(AND(BQ67=1,(BE67-BD67)<>1),BQ68+1,IF(AND(BQ68=1,(BE68-BD68<>1)),0,BQ68))) -> 0 | BS68: =IF(BR68=0,"",$BC68) | BT68: =LARGE($BS$62:$BS$223,$BC68) -> #NUM! | BU68: =IF(BX67=BW68,BU67,BU67+1) -> #NUM! | BV68: =IFERROR(VLOOKUP(BT68,$BC$62:$BR$223,16,FALSE),0) -> 0 | BW68: =VLOOKUP(BT68,$BC$62:$BE$223,2,FALSE) -> #NUM! | BX68: =VLOOKUP(BT68,$BC$62:$BE$223,3,FALSE) -> #NUM! | BY68: =IFERROR(VLOOKUP($BC68,BU$62:BW$223,3,FALSE),"") | BZ68: =IFERROR(BY68+CA68-1,"") | CA68: =SUMIF($BU$62:$BU$223,$BC68,$BV$62:$BV$223) -> 0 | CE68: =IF(OR($AZ68="",$BA68=""),0,MAX(MIN(CE$61,$BA68)-MAX(CF$61,$AZ68)+1,0)) -> 0 | CF68: =IF(OR($AZ68="",$BA68=""),0,MAX(MIN(CF$61-1,$BA68)-MAX(CG$61,$AZ68)+1,0)) -> 0 | CG68: =IF(OR($AZ68="",$BA68=""),0,MAX(MIN(CG$61-1,$BA68)-MAX(CH$61,$AZ68)+1,0)) -> 0 | CH68: =IF(OR($AZ68="",$BA68=""),0,MAX(MIN(CH$61-1,$BA68)-MAX(CI$61,$AZ68)+1,0)) -> 0 | CI68: =IF(OR($AZ68="",$BA68=""),0,MAX(MIN(CI$61-1,$BA68)-MAX(CJ$61,$AZ68)+1,0)) -> 0 | CJ68: =IF(OR($AZ68="",$BA68=""),0,MAX(MIN(CJ$61-1,$BA68)-MAX(CK$61,$AZ68)+1,0)) -> 0 | CK68: =IF(OR($AZ68="",$BA68=""),0,MAX(MIN(CK$61-1,$BA68)-MAX(CL$61,$AZ68)+1,0)) -> 0 | CL68: =IF(OR($AZ68="",$BA68=""),0,MAX(MIN(CL$61-1,$BA68)-MAX(CM$61,$AZ68)+1,0)) -> 0 | CM68: =IF(OR($AZ68="",$BA68=""),0,MAX(MIN(CM$61-1,$BA68)-MAX(CN$61,$AZ68)+1,0)) -> 0 | ... LT68: =IF(OR($AZ68="",$BA68=""),0,MAX(MIN(LT$61-1,$BA68)-MAX(LU$61,$AZ68)+1,0)) -> 0
A69: 8 | E69: =IF(F69="","",IF(C69="","",IF(C69<$H$17,$H$17,IF(C69>$D$33,"",C69)))) | F69: =IF(D69<$H$17,"",IF(C69>$D$33,"",IF(D69>$D$33,$D$33,D69))) -> 0 | H69: =IF(OR(C69=0,D69=0),"Falta(n) Fecha(s)",IF(C69>D69,"Invertidas",IF(C69=D69,"INI = FIN",IF(OR(C69<$H$17,D69<$H$17),IF(D69<$H$17,"Fecha Fin < Fecha TP o G","Ajuste por fecha TP o G"),IF(OR(C69>$D$33,D69>$D$33),"Ajuste por fecha HV","Ok"))))) -> Falta(n) Fecha(s) | Q69: {=IF(SUM(COUNTIF(J69:P69,{"SI","NO APLICA"}))=0, "", IF(SUM(COUNTIF(J69:P69,{"SI","NO APLICA"}))=COLUMNS(J69:P69), "CUMPLE", "NO CUMPLE"))} | Y69: =IF(AND(W69="",X69=""), "", IF(AND(OR(W69="SI",W69="NO APLICA"), OR(X69="SI",X69="NO APLICA")), "CUMPLE", "NO CUMPLE")) | Z69: =IF(AND(I69="",Q69="",T69="",V69="",Y69=""),"", IF(COUNTIF(I69:Y69,"NO CUMPLE")>0,"NO CUMPLE","CUMPLE")) | AD69: =BN69 | AE69: =BO69 | AF69: =BP69 -> 0 | AG69: =BY69 | AH69: =BZ69 | AI69: =CA69 -> 0 | AW69: =IFERROR(_xlfn.RANK.EQ(AZ69,$AZ$62:$BA$96),"") | AX69: =IFERROR(_xlfn.RANK.EQ(BA69,$AZ$62:$BA$96),"") -> 1 | AY69: 8 | AZ69: =IF(E69="","",E69) | BA69: =IF(F69="","",IF(F69=E69,F69+0.0001,F69)) -> 0 | BB69: =IF(G69="","",IF(UPPER(G69)="X",1,0)) | BC69: 8 | BD69: =HLOOKUP(BC69+1,$CE$60:$LU$61,2,FALSE) -> 1 | BE69: =HLOOKUP(BC69,$CE$60:$LU$61,2,FALSE) -> 1 | BF69: =HLOOKUP(BE69,$CE$53:$LT$55,3,FALSE) -> 0 | BG69: =IF(OR(BD69=1,BE69=1),0,IF(AND(BF68=1,(BE68-BD68)<>1),BF69+1,IF(AND(BF69=1,(BE69-BD69<>1)),0,BF69))) -> 0 | BH69: =IF(BG69=0,"",$BC69) | BI69: =LARGE($BH$62:$BH$223,$BC69) -> #NUM! | BJ69: =IFERROR(IF(BM68=BL69,BJ68,BJ68+1),"") | BK69: =IFERROR(VLOOKUP(BI69,$BC$62:$BG$223,5,FALSE),0) -> 0 | BL69: =VLOOKUP(BI69,$BC$62:$BE$223,2,FALSE) -> #NUM! | BM69: =VLOOKUP(BI69,$BC$62:$BE$223,3,FALSE) -> #NUM! | BN69: =IFERROR(VLOOKUP($BC69,BJ$62:BL$223,3,FALSE),"") | BO69: =IFERROR(BN69+BP69-1,"") | BP69: =SUMIF($BJ$62:$BJ$223,$BC69,$BK$62:$BK$223) -> 0 | BQ69: =HLOOKUP(BE69,$CE$53:$LT$55,2,FALSE) -> 0 | BR69: =IF(OR(BD69=1,BE69=1),0,IF(AND(BQ68=1,(BE68-BD68)<>1),BQ69+1,IF(AND(BQ69=1,(BE69-BD69<>1)),0,BQ69))) -> 0 | BS69: =IF(BR69=0,"",$BC69) | BT69: =LARGE($BS$62:$BS$223,$BC69) -> #NUM! | BU69: =IF(BX68=BW69,BU68,BU68+1) -> #NUM! | BV69: =IFERROR(VLOOKUP(BT69,$BC$62:$BR$223,16,FALSE),0) -> 0 | BW69: =VLOOKUP(BT69,$BC$62:$BE$223,2,FALSE) -> #NUM! | BX69: =VLOOKUP(BT69,$BC$62:$BE$223,3,FALSE) -> #NUM! | BY69: =IFERROR(VLOOKUP($BC69,BU$62:BW$223,3,FALSE),"") | BZ69: =IFERROR(BY69+CA69-1,"") | CA69: =SUMIF($BU$62:$BU$223,$BC69,$BV$62:$BV$223) -> 0 | CE69: =IF(OR($AZ69="",$BA69=""),0,MAX(MIN(CE$61,$BA69)-MAX(CF$61,$AZ69)+1,0)) -> 0 | CF69: =IF(OR($AZ69="",$BA69=""),0,MAX(MIN(CF$61-1,$BA69)-MAX(CG$61,$AZ69)+1,0)) -> 0 | CG69: =IF(OR($AZ69="",$BA69=""),0,MAX(MIN(CG$61-1,$BA69)-MAX(CH$61,$AZ69)+1,0)) -> 0 | CH69: =IF(OR($AZ69="",$BA69=""),0,MAX(MIN(CH$61-1,$BA69)-MAX(CI$61,$AZ69)+1,0)) -> 0 | CI69: =IF(OR($AZ69="",$BA69=""),0,MAX(MIN(CI$61-1,$BA69)-MAX(CJ$61,$AZ69)+1,0)) -> 0 | CJ69: =IF(OR($AZ69="",$BA69=""),0,MAX(MIN(CJ$61-1,$BA69)-MAX(CK$61,$AZ69)+1,0)) -> 0 | CK69: =IF(OR($AZ69="",$BA69=""),0,MAX(MIN(CK$61-1,$BA69)-MAX(CL$61,$AZ69)+1,0)) -> 0 | CL69: =IF(OR($AZ69="",$BA69=""),0,MAX(MIN(CL$61-1,$BA69)-MAX(CM$61,$AZ69)+1,0)) -> 0 | CM69: =IF(OR($AZ69="",$BA69=""),0,MAX(MIN(CM$61-1,$BA69)-MAX(CN$61,$AZ69)+1,0)) -> 0 | ... LT69: =IF(OR($AZ69="",$BA69=""),0,MAX(MIN(LT$61-1,$BA69)-MAX(LU$61,$AZ69)+1,0)) -> 0
A70: 9 | E70: =IF(F70="","",IF(C70="","",IF(C70<$H$17,$H$17,IF(C70>$D$33,"",C70)))) | F70: =IF(D70<$H$17,"",IF(C70>$D$33,"",IF(D70>$D$33,$D$33,D70))) -> 0 | H70: =IF(OR(C70=0,D70=0),"Falta(n) Fecha(s)",IF(C70>D70,"Invertidas",IF(C70=D70,"INI = FIN",IF(OR(C70<$H$17,D70<$H$17),IF(D70<$H$17,"Fecha Fin < Fecha TP o G","Ajuste por fecha TP o G"),IF(OR(C70>$D$33,D70>$D$33),"Ajuste por fecha HV","Ok"))))) -> Falta(n) Fecha(s) | Q70: {=IF(SUM(COUNTIF(J70:P70,{"SI","NO APLICA"}))=0, "", IF(SUM(COUNTIF(J70:P70,{"SI","NO APLICA"}))=COLUMNS(J70:P70), "CUMPLE", "NO CUMPLE"))} | Y70: =IF(AND(W70="",X70=""), "", IF(AND(OR(W70="SI",W70="NO APLICA"), OR(X70="SI",X70="NO APLICA")), "CUMPLE", "NO CUMPLE")) | Z70: =IF(AND(I70="",Q70="",T70="",V70="",Y70=""),"", IF(COUNTIF(I70:Y70,"NO CUMPLE")>0,"NO CUMPLE","CUMPLE")) | AD70: =BN70 | AE70: =BO70 | AF70: =BP70 -> 0 | AG70: =BY70 | AH70: =BZ70 | AI70: =CA70 -> 0 | AW70: =IFERROR(_xlfn.RANK.EQ(AZ70,$AZ$62:$BA$96),"") | AX70: =IFERROR(_xlfn.RANK.EQ(BA70,$AZ$62:$BA$96),"") -> 1 | AY70: 9 | AZ70: =IF(E70="","",E70) | BA70: =IF(F70="","",IF(F70=E70,F70+0.0001,F70)) -> 0 | BB70: =IF(G70="","",IF(UPPER(G70)="X",1,0)) | BC70: 9 | BD70: =HLOOKUP(BC70+1,$CE$60:$LU$61,2,FALSE) -> 1 | BE70: =HLOOKUP(BC70,$CE$60:$LU$61,2,FALSE) -> 1 | BF70: =HLOOKUP(BE70,$CE$53:$LT$55,3,FALSE) -> 0 | BG70: =IF(OR(BD70=1,BE70=1),0,IF(AND(BF69=1,(BE69-BD69)<>1),BF70+1,IF(AND(BF70=1,(BE70-BD70<>1)),0,BF70))) -> 0 | BH70: =IF(BG70=0,"",$BC70) | BI70: =LARGE($BH$62:$BH$223,$BC70) -> #NUM! | BJ70: =IFERROR(IF(BM69=BL70,BJ69,BJ69+1),"") | BK70: =IFERROR(VLOOKUP(BI70,$BC$62:$BG$223,5,FALSE),0) -> 0 | BL70: =VLOOKUP(BI70,$BC$62:$BE$223,2,FALSE) -> #NUM! | BM70: =VLOOKUP(BI70,$BC$62:$BE$223,3,FALSE) -> #NUM! | BN70: =IFERROR(VLOOKUP($BC70,BJ$62:BL$223,3,FALSE),"") | BO70: =IFERROR(BN70+BP70-1,"") | BP70: =SUMIF($BJ$62:$BJ$223,$BC70,$BK$62:$BK$223) -> 0 | BQ70: =HLOOKUP(BE70,$CE$53:$LT$55,2,FALSE) -> 0 | BR70: =IF(OR(BD70=1,BE70=1),0,IF(AND(BQ69=1,(BE69-BD69)<>1),BQ70+1,IF(AND(BQ70=1,(BE70-BD70<>1)),0,BQ70))) -> 0 | BS70: =IF(BR70=0,"",$BC70) | BT70: =LARGE($BS$62:$BS$223,$BC70) -> #NUM! | BU70: =IF(BX69=BW70,BU69,BU69+1) -> #NUM! | BV70: =IFERROR(VLOOKUP(BT70,$BC$62:$BR$223,16,FALSE),0) -> 0 | BW70: =VLOOKUP(BT70,$BC$62:$BE$223,2,FALSE) -> #NUM! | BX70: =VLOOKUP(BT70,$BC$62:$BE$223,3,FALSE) -> #NUM! | BY70: =IFERROR(VLOOKUP($BC70,BU$62:BW$223,3,FALSE),"") | BZ70: =IFERROR(BY70+CA70-1,"") | CA70: =SUMIF($BU$62:$BU$223,$BC70,$BV$62:$BV$223) -> 0 | CE70: =IF(OR($AZ70="",$BA70=""),0,MAX(MIN(CE$61,$BA70)-MAX(CF$61,$AZ70)+1,0)) -> 0 | CF70: =IF(OR($AZ70="",$BA70=""),0,MAX(MIN(CF$61-1,$BA70)-MAX(CG$61,$AZ70)+1,0)) -> 0 | CG70: =IF(OR($AZ70="",$BA70=""),0,MAX(MIN(CG$61-1,$BA70)-MAX(CH$61,$AZ70)+1,0)) -> 0 | CH70: =IF(OR($AZ70="",$BA70=""),0,MAX(MIN(CH$61-1,$BA70)-MAX(CI$61,$AZ70)+1,0)) -> 0 | CI70: =IF(OR($AZ70="",$BA70=""),0,MAX(MIN(CI$61-1,$BA70)-MAX(CJ$61,$AZ70)+1,0)) -> 0 | CJ70: =IF(OR($AZ70="",$BA70=""),0,MAX(MIN(CJ$61-1,$BA70)-MAX(CK$61,$AZ70)+1,0)) -> 0 | CK70: =IF(OR($AZ70="",$BA70=""),0,MAX(MIN(CK$61-1,$BA70)-MAX(CL$61,$AZ70)+1,0)) -> 0 | CL70: =IF(OR($AZ70="",$BA70=""),0,MAX(MIN(CL$61-1,$BA70)-MAX(CM$61,$AZ70)+1,0)) -> 0 | CM70: =IF(OR($AZ70="",$BA70=""),0,MAX(MIN(CM$61-1,$BA70)-MAX(CN$61,$AZ70)+1,0)) -> 0 | ... LT70: =IF(OR($AZ70="",$BA70=""),0,MAX(MIN(LT$61-1,$BA70)-MAX(LU$61,$AZ70)+1,0)) -> 0
A71: 10 | E71: =IF(F71="","",IF(C71="","",IF(C71<$H$17,$H$17,IF(C71>$D$33,"",C71)))) | F71: =IF(D71<$H$17,"",IF(C71>$D$33,"",IF(D71>$D$33,$D$33,D71))) -> 0 | H71: =IF(OR(C71=0,D71=0),"Falta(n) Fecha(s)",IF(C71>D71,"Invertidas",IF(C71=D71,"INI = FIN",IF(OR(C71<$H$17,D71<$H$17),IF(D71<$H$17,"Fecha Fin < Fecha TP o G","Ajuste por fecha TP o G"),IF(OR(C71>$D$33,D71>$D$33),"Ajuste por fecha HV","Ok"))))) -> Falta(n) Fecha(s) | Q71: {=IF(SUM(COUNTIF(J71:P71,{"SI","NO APLICA"}))=0, "", IF(SUM(COUNTIF(J71:P71,{"SI","NO APLICA"}))=COLUMNS(J71:P71), "CUMPLE", "NO CUMPLE"))} | Y71: =IF(AND(W71="",X71=""), "", IF(AND(OR(W71="SI",W71="NO APLICA"), OR(X71="SI",X71="NO APLICA")), "CUMPLE", "NO CUMPLE")) | Z71: =IF(AND(I71="",Q71="",T71="",V71="",Y71=""),"", IF(COUNTIF(I71:Y71,"NO CUMPLE")>0,"NO CUMPLE","CUMPLE")) | AD71: =BN71 | AE71: =BO71 | AF71: =BP71 -> 0 | AG71: =BY71 | AH71: =BZ71 | AI71: =CA71 -> 0 | AW71: =IFERROR(_xlfn.RANK.EQ(AZ71,$AZ$62:$BA$96),"") | AX71: =IFERROR(_xlfn.RANK.EQ(BA71,$AZ$62:$BA$96),"") -> 1 | AY71: 10 | AZ71: =IF(E71="","",E71) | BA71: =IF(F71="","",IF(F71=E71,F71+0.0001,F71)) -> 0 | BB71: =IF(G71="","",IF(UPPER(G71)="X",1,0)) | BC71: 10 | BD71: =HLOOKUP(BC71+1,$CE$60:$LU$61,2,FALSE) -> 1 | BE71: =HLOOKUP(BC71,$CE$60:$LU$61,2,FALSE) -> 1 | BF71: =HLOOKUP(BE71,$CE$53:$LT$55,3,FALSE) -> 0 | BG71: =IF(OR(BD71=1,BE71=1),0,IF(AND(BF70=1,(BE70-BD70)<>1),BF71+1,IF(AND(BF71=1,(BE71-BD71<>1)),0,BF71))) -> 0 | BH71: =IF(BG71=0,"",$BC71) | BI71: =LARGE($BH$62:$BH$223,$BC71) -> #NUM! | BJ71: =IFERROR(IF(BM70=BL71,BJ70,BJ70+1),"") | BK71: =IFERROR(VLOOKUP(BI71,$BC$62:$BG$223,5,FALSE),0) -> 0 | BL71: =VLOOKUP(BI71,$BC$62:$BE$223,2,FALSE) -> #NUM! | BM71: =VLOOKUP(BI71,$BC$62:$BE$223,3,FALSE) -> #NUM! | BN71: =IFERROR(VLOOKUP($BC71,BJ$62:BL$223,3,FALSE),"") | BO71: =IFERROR(BN71+BP71-1,"") | BP71: =SUMIF($BJ$62:$BJ$223,$BC71,$BK$62:$BK$223) -> 0 | BQ71: =HLOOKUP(BE71,$CE$53:$LT$55,2,FALSE) -> 0 | BR71: =IF(OR(BD71=1,BE71=1),0,IF(AND(BQ70=1,(BE70-BD70)<>1),BQ71+1,IF(AND(BQ71=1,(BE71-BD71<>1)),0,BQ71))) -> 0 | BS71: =IF(BR71=0,"",$BC71) | BT71: =LARGE($BS$62:$BS$223,$BC71) -> #NUM! | BU71: =IF(BX70=BW71,BU70,BU70+1) -> #NUM! | BV71: =IFERROR(VLOOKUP(BT71,$BC$62:$BR$223,16,FALSE),0) -> 0 | BW71: =VLOOKUP(BT71,$BC$62:$BE$223,2,FALSE) -> #NUM! | BX71: =VLOOKUP(BT71,$BC$62:$BE$223,3,FALSE) -> #NUM! | BY71: =IFERROR(VLOOKUP($BC71,BU$62:BW$223,3,FALSE),"") | BZ71: =IFERROR(BY71+CA71-1,"") | CA71: =SUMIF($BU$62:$BU$223,$BC71,$BV$62:$BV$223) -> 0 | CE71: =IF(OR($AZ71="",$BA71=""),0,MAX(MIN(CE$61,$BA71)-MAX(CF$61,$AZ71)+1,0)) -> 0 | CF71: =IF(OR($AZ71="",$BA71=""),0,MAX(MIN(CF$61-1,$BA71)-MAX(CG$61,$AZ71)+1,0)) -> 0 | CG71: =IF(OR($AZ71="",$BA71=""),0,MAX(MIN(CG$61-1,$BA71)-MAX(CH$61,$AZ71)+1,0)) -> 0 | CH71: =IF(OR($AZ71="",$BA71=""),0,MAX(MIN(CH$61-1,$BA71)-MAX(CI$61,$AZ71)+1,0)) -> 0 | CI71: =IF(OR($AZ71="",$BA71=""),0,MAX(MIN(CI$61-1,$BA71)-MAX(CJ$61,$AZ71)+1,0)) -> 0 | CJ71: =IF(OR($AZ71="",$BA71=""),0,MAX(MIN(CJ$61-1,$BA71)-MAX(CK$61,$AZ71)+1,0)) -> 0 | CK71: =IF(OR($AZ71="",$BA71=""),0,MAX(MIN(CK$61-1,$BA71)-MAX(CL$61,$AZ71)+1,0)) -> 0 | CL71: =IF(OR($AZ71="",$BA71=""),0,MAX(MIN(CL$61-1,$BA71)-MAX(CM$61,$AZ71)+1,0)) -> 0 | CM71: =IF(OR($AZ71="",$BA71=""),0,MAX(MIN(CM$61-1,$BA71)-MAX(CN$61,$AZ71)+1,0)) -> 0 | ... LT71: =IF(OR($AZ71="",$BA71=""),0,MAX(MIN(LT$61-1,$BA71)-MAX(LU$61,$AZ71)+1,0)) -> 0
A72: 11 | E72: =IF(F72="","",IF(C72="","",IF(C72<$H$17,$H$17,IF(C72>$D$33,"",C72)))) | F72: =IF(D72<$H$17,"",IF(C72>$D$33,"",IF(D72>$D$33,$D$33,D72))) -> 0 | H72: =IF(OR(C72=0,D72=0),"Falta(n) Fecha(s)",IF(C72>D72,"Invertidas",IF(C72=D72,"INI = FIN",IF(OR(C72<$H$17,D72<$H$17),IF(D72<$H$17,"Fecha Fin < Fecha TP o G","Ajuste por fecha TP o G"),IF(OR(C72>$D$33,D72>$D$33),"Ajuste por fecha HV","Ok"))))) -> Falta(n) Fecha(s) | Q72: {=IF(SUM(COUNTIF(J72:P72,{"SI","NO APLICA"}))=0, "", IF(SUM(COUNTIF(J72:P72,{"SI","NO APLICA"}))=COLUMNS(J72:P72), "CUMPLE", "NO CUMPLE"))} | Y72: =IF(AND(W72="",X72=""), "", IF(AND(OR(W72="SI",W72="NO APLICA"), OR(X72="SI",X72="NO APLICA")), "CUMPLE", "NO CUMPLE")) | Z72: =IF(AND(I72="",Q72="",T72="",V72="",Y72=""),"", IF(COUNTIF(I72:Y72,"NO CUMPLE")>0,"NO CUMPLE","CUMPLE")) | AD72: =BN72 | AE72: =BO72 | AF72: =BP72 -> 0 | AG72: =BY72 | AH72: =BZ72 | AI72: =CA72 -> 0 | AW72: =IFERROR(_xlfn.RANK.EQ(AZ72,$AZ$62:$BA$96),"") | AX72: =IFERROR(_xlfn.RANK.EQ(BA72,$AZ$62:$BA$96),"") -> 1 | AY72: 11 | AZ72: =IF(E72="","",E72) | BA72: =IF(F72="","",IF(F72=E72,F72+0.0001,F72)) -> 0 | BB72: =IF(G72="","",IF(UPPER(G72)="X",1,0)) | BC72: 11 | BD72: =HLOOKUP(BC72+1,$CE$60:$LU$61,2,FALSE) -> 1 | BE72: =HLOOKUP(BC72,$CE$60:$LU$61,2,FALSE) -> 1 | BF72: =HLOOKUP(BE72,$CE$53:$LT$55,3,FALSE) -> 0 | BG72: =IF(OR(BD72=1,BE72=1),0,IF(AND(BF71=1,(BE71-BD71)<>1),BF72+1,IF(AND(BF72=1,(BE72-BD72<>1)),0,BF72))) -> 0 | BH72: =IF(BG72=0,"",$BC72) | BI72: =LARGE($BH$62:$BH$223,$BC72) -> #NUM! | BJ72: =IFERROR(IF(BM71=BL72,BJ71,BJ71+1),"") | BK72: =IFERROR(VLOOKUP(BI72,$BC$62:$BG$223,5,FALSE),0) -> 0 | BL72: =VLOOKUP(BI72,$BC$62:$BE$223,2,FALSE) -> #NUM! | BM72: =VLOOKUP(BI72,$BC$62:$BE$223,3,FALSE) -> #NUM! | BN72: =IFERROR(VLOOKUP($BC72,BJ$62:BL$223,3,FALSE),"") | BO72: =IFERROR(BN72+BP72-1,"") | BP72: =SUMIF($BJ$62:$BJ$223,$BC72,$BK$62:$BK$223) -> 0 | BQ72: =HLOOKUP(BE72,$CE$53:$LT$55,2,FALSE) -> 0 | BR72: =IF(OR(BD72=1,BE72=1),0,IF(AND(BQ71=1,(BE71-BD71)<>1),BQ72+1,IF(AND(BQ72=1,(BE72-BD72<>1)),0,BQ72))) -> 0 | BS72: =IF(BR72=0,"",$BC72) | BT72: =LARGE($BS$62:$BS$223,$BC72) -> #NUM! | BU72: =IF(BX71=BW72,BU71,BU71+1) -> #NUM! | BV72: =IFERROR(VLOOKUP(BT72,$BC$62:$BR$223,16,FALSE),0) -> 0 | BW72: =VLOOKUP(BT72,$BC$62:$BE$223,2,FALSE) -> #NUM! | BX72: =VLOOKUP(BT72,$BC$62:$BE$223,3,FALSE) -> #NUM! | BY72: =IFERROR(VLOOKUP($BC72,BU$62:BW$223,3,FALSE),"") | BZ72: =IFERROR(BY72+CA72-1,"") | CA72: =SUMIF($BU$62:$BU$223,$BC72,$BV$62:$BV$223) -> 0 | CE72: =IF(OR($AZ72="",$BA72=""),0,MAX(MIN(CE$61,$BA72)-MAX(CF$61,$AZ72)+1,0)) -> 0 | CF72: =IF(OR($AZ72="",$BA72=""),0,MAX(MIN(CF$61-1,$BA72)-MAX(CG$61,$AZ72)+1,0)) -> 0 | CG72: =IF(OR($AZ72="",$BA72=""),0,MAX(MIN(CG$61-1,$BA72)-MAX(CH$61,$AZ72)+1,0)) -> 0 | CH72: =IF(OR($AZ72="",$BA72=""),0,MAX(MIN(CH$61-1,$BA72)-MAX(CI$61,$AZ72)+1,0)) -> 0 | CI72: =IF(OR($AZ72="",$BA72=""),0,MAX(MIN(CI$61-1,$BA72)-MAX(CJ$61,$AZ72)+1,0)) -> 0 | CJ72: =IF(OR($AZ72="",$BA72=""),0,MAX(MIN(CJ$61-1,$BA72)-MAX(CK$61,$AZ72)+1,0)) -> 0 | CK72: =IF(OR($AZ72="",$BA72=""),0,MAX(MIN(CK$61-1,$BA72)-MAX(CL$61,$AZ72)+1,0)) -> 0 | CL72: =IF(OR($AZ72="",$BA72=""),0,MAX(MIN(CL$61-1,$BA72)-MAX(CM$61,$AZ72)+1,0)) -> 0 | CM72: =IF(OR($AZ72="",$BA72=""),0,MAX(MIN(CM$61-1,$BA72)-MAX(CN$61,$AZ72)+1,0)) -> 0 | ... LT72: =IF(OR($AZ72="",$BA72=""),0,MAX(MIN(LT$61-1,$BA72)-MAX(LU$61,$AZ72)+1,0)) -> 0
A73: 12 | E73: =IF(F73="","",IF(C73="","",IF(C73<$H$17,$H$17,IF(C73>$D$33,"",C73)))) | F73: =IF(D73<$H$17,"",IF(C73>$D$33,"",IF(D73>$D$33,$D$33,D73))) -> 0 | H73: =IF(OR(C73=0,D73=0),"Falta(n) Fecha(s)",IF(C73>D73,"Invertidas",IF(C73=D73,"INI = FIN",IF(OR(C73<$H$17,D73<$H$17),IF(D73<$H$17,"Fecha Fin < Fecha TP o G","Ajuste por fecha TP o G"),IF(OR(C73>$D$33,D73>$D$33),"Ajuste por fecha HV","Ok"))))) -> Falta(n) Fecha(s) | Q73: {=IF(SUM(COUNTIF(J73:P73,{"SI","NO APLICA"}))=0, "", IF(SUM(COUNTIF(J73:P73,{"SI","NO APLICA"}))=COLUMNS(J73:P73), "CUMPLE", "NO CUMPLE"))} | Y73: =IF(AND(W73="",X73=""), "", IF(AND(OR(W73="SI",W73="NO APLICA"), OR(X73="SI",X73="NO APLICA")), "CUMPLE", "NO CUMPLE")) | Z73: =IF(AND(I73="",Q73="",T73="",V73="",Y73=""),"", IF(COUNTIF(I73:Y73,"NO CUMPLE")>0,"NO CUMPLE","CUMPLE")) | AD73: =BN73 | AE73: =BO73 | AF73: =BP73 -> 0 | AG73: =BY73 | AH73: =BZ73 | AI73: =CA73 -> 0 | AW73: =IFERROR(_xlfn.RANK.EQ(AZ73,$AZ$62:$BA$96),"") | AX73: =IFERROR(_xlfn.RANK.EQ(BA73,$AZ$62:$BA$96),"") -> 1 | AY73: 12 | AZ73: =IF(E73="","",E73) | BA73: =IF(F73="","",IF(F73=E73,F73+0.0001,F73)) -> 0 | BB73: =IF(G73="","",IF(UPPER(G73)="X",1,0)) | BC73: 12 | BD73: =HLOOKUP(BC73+1,$CE$60:$LU$61,2,FALSE) -> 1 | BE73: =HLOOKUP(BC73,$CE$60:$LU$61,2,FALSE) -> 1 | BF73: =HLOOKUP(BE73,$CE$53:$LT$55,3,FALSE) -> 0 | BG73: =IF(OR(BD73=1,BE73=1),0,IF(AND(BF72=1,(BE72-BD72)<>1),BF73+1,IF(AND(BF73=1,(BE73-BD73<>1)),0,BF73))) -> 0 | BH73: =IF(BG73=0,"",$BC73) | BI73: =LARGE($BH$62:$BH$223,$BC73) -> #NUM! | BJ73: =IFERROR(IF(BM72=BL73,BJ72,BJ72+1),"") | BK73: =IFERROR(VLOOKUP(BI73,$BC$62:$BG$223,5,FALSE),0) -> 0 | BL73: =VLOOKUP(BI73,$BC$62:$BE$223,2,FALSE) -> #NUM! | BM73: =VLOOKUP(BI73,$BC$62:$BE$223,3,FALSE) -> #NUM! | BN73: =IFERROR(VLOOKUP($BC73,BJ$62:BL$223,3,FALSE),"") | BO73: =IFERROR(BN73+BP73-1,"") | BP73: =SUMIF($BJ$62:$BJ$223,$BC73,$BK$62:$BK$223) -> 0 | BQ73: =HLOOKUP(BE73,$CE$53:$LT$55,2,FALSE) -> 0 | BR73: =IF(OR(BD73=1,BE73=1),0,IF(AND(BQ72=1,(BE72-BD72)<>1),BQ73+1,IF(AND(BQ73=1,(BE73-BD73<>1)),0,BQ73))) -> 0 | BS73: =IF(BR73=0,"",$BC73) | BT73: =LARGE($BS$62:$BS$223,$BC73) -> #NUM! | BU73: =IF(BX72=BW73,BU72,BU72+1) -> #NUM! | BV73: =IFERROR(VLOOKUP(BT73,$BC$62:$BR$223,16,FALSE),0) -> 0 | BW73: =VLOOKUP(BT73,$BC$62:$BE$223,2,FALSE) -> #NUM! | BX73: =VLOOKUP(BT73,$BC$62:$BE$223,3,FALSE) -> #NUM! | BY73: =IFERROR(VLOOKUP($BC73,BU$62:BW$223,3,FALSE),"") | BZ73: =IFERROR(BY73+CA73-1,"") | CA73: =SUMIF($BU$62:$BU$223,$BC73,$BV$62:$BV$223) -> 0 | CE73: =IF(OR($AZ73="",$BA73=""),0,MAX(MIN(CE$61,$BA73)-MAX(CF$61,$AZ73)+1,0)) -> 0 | CF73: =IF(OR($AZ73="",$BA73=""),0,MAX(MIN(CF$61-1,$BA73)-MAX(CG$61,$AZ73)+1,0)) -> 0 | CG73: =IF(OR($AZ73="",$BA73=""),0,MAX(MIN(CG$61-1,$BA73)-MAX(CH$61,$AZ73)+1,0)) -> 0 | CH73: =IF(OR($AZ73="",$BA73=""),0,MAX(MIN(CH$61-1,$BA73)-MAX(CI$61,$AZ73)+1,0)) -> 0 | CI73: =IF(OR($AZ73="",$BA73=""),0,MAX(MIN(CI$61-1,$BA73)-MAX(CJ$61,$AZ73)+1,0)) -> 0 | CJ73: =IF(OR($AZ73="",$BA73=""),0,MAX(MIN(CJ$61-1,$BA73)-MAX(CK$61,$AZ73)+1,0)) -> 0 | CK73: =IF(OR($AZ73="",$BA73=""),0,MAX(MIN(CK$61-1,$BA73)-MAX(CL$61,$AZ73)+1,0)) -> 0 | CL73: =IF(OR($AZ73="",$BA73=""),0,MAX(MIN(CL$61-1,$BA73)-MAX(CM$61,$AZ73)+1,0)) -> 0 | CM73: =IF(OR($AZ73="",$BA73=""),0,MAX(MIN(CM$61-1,$BA73)-MAX(CN$61,$AZ73)+1,0)) -> 0 | ... LT73: =IF(OR($AZ73="",$BA73=""),0,MAX(MIN(LT$61-1,$BA73)-MAX(LU$61,$AZ73)+1,0)) -> 0
A74: 13 | E74: =IF(F74="","",IF(C74="","",IF(C74<$H$17,$H$17,IF(C74>$D$33,"",C74)))) | F74: =IF(D74<$H$17,"",IF(C74>$D$33,"",IF(D74>$D$33,$D$33,D74))) -> 0 | H74: =IF(OR(C74=0,D74=0),"Falta(n) Fecha(s)",IF(C74>D74,"Invertidas",IF(C74=D74,"INI = FIN",IF(OR(C74<$H$17,D74<$H$17),IF(D74<$H$17,"Fecha Fin < Fecha TP o G","Ajuste por fecha TP o G"),IF(OR(C74>$D$33,D74>$D$33),"Ajuste por fecha HV","Ok"))))) -> Falta(n) Fecha(s) | Q74: {=IF(SUM(COUNTIF(J74:P74,{"SI","NO APLICA"}))=0, "", IF(SUM(COUNTIF(J74:P74,{"SI","NO APLICA"}))=COLUMNS(J74:P74), "CUMPLE", "NO CUMPLE"))} | Y74: =IF(AND(W74="",X74=""), "", IF(AND(OR(W74="SI",W74="NO APLICA"), OR(X74="SI",X74="NO APLICA")), "CUMPLE", "NO CUMPLE")) | Z74: =IF(AND(I74="",Q74="",T74="",V74="",Y74=""),"", IF(COUNTIF(I74:Y74,"NO CUMPLE")>0,"NO CUMPLE","CUMPLE")) | AD74: =BN74 | AE74: =BO74 | AF74: =BP74 -> 0 | AG74: =BY74 | AH74: =BZ74 | AI74: =CA74 -> 0 | AW74: =IFERROR(_xlfn.RANK.EQ(AZ74,$AZ$62:$BA$96),"") | AX74: =IFERROR(_xlfn.RANK.EQ(BA74,$AZ$62:$BA$96),"") -> 1 | AY74: 13 | AZ74: =IF(E74="","",E74) | BA74: =IF(F74="","",IF(F74=E74,F74+0.0001,F74)) -> 0 | BB74: =IF(G74="","",IF(UPPER(G74)="X",1,0)) | BC74: 13 | BD74: =HLOOKUP(BC74+1,$CE$60:$LU$61,2,FALSE) -> 1 | BE74: =HLOOKUP(BC74,$CE$60:$LU$61,2,FALSE) -> 1 | BF74: =HLOOKUP(BE74,$CE$53:$LT$55,3,FALSE) -> 0 | BG74: =IF(OR(BD74=1,BE74=1),0,IF(AND(BF73=1,(BE73-BD73)<>1),BF74+1,IF(AND(BF74=1,(BE74-BD74<>1)),0,BF74))) -> 0 | BH74: =IF(BG74=0,"",$BC74) | BI74: =LARGE($BH$62:$BH$223,$BC74) -> #NUM! | BJ74: =IFERROR(IF(BM73=BL74,BJ73,BJ73+1),"") | BK74: =IFERROR(VLOOKUP(BI74,$BC$62:$BG$223,5,FALSE),0) -> 0 | BL74: =VLOOKUP(BI74,$BC$62:$BE$223,2,FALSE) -> #NUM! | BM74: =VLOOKUP(BI74,$BC$62:$BE$223,3,FALSE) -> #NUM! | BN74: =IFERROR(VLOOKUP($BC74,BJ$62:BL$223,3,FALSE),"") | BO74: =IFERROR(BN74+BP74-1,"") | BP74: =SUMIF($BJ$62:$BJ$223,$BC74,$BK$62:$BK$223) -> 0 | BQ74: =HLOOKUP(BE74,$CE$53:$LT$55,2,FALSE) -> 0 | BR74: =IF(OR(BD74=1,BE74=1),0,IF(AND(BQ73=1,(BE73-BD73)<>1),BQ74+1,IF(AND(BQ74=1,(BE74-BD74<>1)),0,BQ74))) -> 0 | BS74: =IF(BR74=0,"",$BC74) | BT74: =LARGE($BS$62:$BS$223,$BC74) -> #NUM! | BU74: =IF(BX73=BW74,BU73,BU73+1) -> #NUM! | BV74: =IFERROR(VLOOKUP(BT74,$BC$62:$BR$223,16,FALSE),0) -> 0 | BW74: =VLOOKUP(BT74,$BC$62:$BE$223,2,FALSE) -> #NUM! | BX74: =VLOOKUP(BT74,$BC$62:$BE$223,3,FALSE) -> #NUM! | BY74: =IFERROR(VLOOKUP($BC74,BU$62:BW$223,3,FALSE),"") | BZ74: =IFERROR(BY74+CA74-1,"") | CA74: =SUMIF($BU$62:$BU$223,$BC74,$BV$62:$BV$223) -> 0 | CE74: =IF(OR($AZ74="",$BA74=""),0,MAX(MIN(CE$61,$BA74)-MAX(CF$61,$AZ74)+1,0)) -> 0 | CF74: =IF(OR($AZ74="",$BA74=""),0,MAX(MIN(CF$61-1,$BA74)-MAX(CG$61,$AZ74)+1,0)) -> 0 | CG74: =IF(OR($AZ74="",$BA74=""),0,MAX(MIN(CG$61-1,$BA74)-MAX(CH$61,$AZ74)+1,0)) -> 0 | CH74: =IF(OR($AZ74="",$BA74=""),0,MAX(MIN(CH$61-1,$BA74)-MAX(CI$61,$AZ74)+1,0)) -> 0 | CI74: =IF(OR($AZ74="",$BA74=""),0,MAX(MIN(CI$61-1,$BA74)-MAX(CJ$61,$AZ74)+1,0)) -> 0 | CJ74: =IF(OR($AZ74="",$BA74=""),0,MAX(MIN(CJ$61-1,$BA74)-MAX(CK$61,$AZ74)+1,0)) -> 0 | CK74: =IF(OR($AZ74="",$BA74=""),0,MAX(MIN(CK$61-1,$BA74)-MAX(CL$61,$AZ74)+1,0)) -> 0 | CL74: =IF(OR($AZ74="",$BA74=""),0,MAX(MIN(CL$61-1,$BA74)-MAX(CM$61,$AZ74)+1,0)) -> 0 | CM74: =IF(OR($AZ74="",$BA74=""),0,MAX(MIN(CM$61-1,$BA74)-MAX(CN$61,$AZ74)+1,0)) -> 0 | ... LT74: =IF(OR($AZ74="",$BA74=""),0,MAX(MIN(LT$61-1,$BA74)-MAX(LU$61,$AZ74)+1,0)) -> 0
A75: 14 | E75: =IF(F75="","",IF(C75="","",IF(C75<$H$17,$H$17,IF(C75>$D$33,"",C75)))) | F75: =IF(D75<$H$17,"",IF(C75>$D$33,"",IF(D75>$D$33,$D$33,D75))) -> 0 | H75: =IF(OR(C75=0,D75=0),"Falta(n) Fecha(s)",IF(C75>D75,"Invertidas",IF(C75=D75,"INI = FIN",IF(OR(C75<$H$17,D75<$H$17),IF(D75<$H$17,"Fecha Fin < Fecha TP o G","Ajuste por fecha TP o G"),IF(OR(C75>$D$33,D75>$D$33),"Ajuste por fecha HV","Ok"))))) -> Falta(n) Fecha(s) | Q75: {=IF(SUM(COUNTIF(J75:P75,{"SI","NO APLICA"}))=0, "", IF(SUM(COUNTIF(J75:P75,{"SI","NO APLICA"}))=COLUMNS(J75:P75), "CUMPLE", "NO CUMPLE"))} | Y75: =IF(AND(W75="",X75=""), "", IF(AND(OR(W75="SI",W75="NO APLICA"), OR(X75="SI",X75="NO APLICA")), "CUMPLE", "NO CUMPLE")) | Z75: =IF(AND(I75="",Q75="",T75="",V75="",Y75=""),"", IF(COUNTIF(I75:Y75,"NO CUMPLE")>0,"NO CUMPLE","CUMPLE")) | AD75: =BN75 | AE75: =BO75 | AF75: =BP75 -> 0 | AG75: =BY75 | AH75: =BZ75 | AI75: =CA75 -> 0 | AW75: =IFERROR(_xlfn.RANK.EQ(AZ75,$AZ$62:$BA$96),"") | AX75: =IFERROR(_xlfn.RANK.EQ(BA75,$AZ$62:$BA$96),"") -> 1 | AY75: 14 | AZ75: =IF(E75="","",E75) | BA75: =IF(F75="","",IF(F75=E75,F75+0.0001,F75)) -> 0 | BB75: =IF(G75="","",IF(UPPER(G75)="X",1,0)) | BC75: 14 | BD75: =HLOOKUP(BC75+1,$CE$60:$LU$61,2,FALSE) -> 1 | BE75: =HLOOKUP(BC75,$CE$60:$LU$61,2,FALSE) -> 1 | BF75: =HLOOKUP(BE75,$CE$53:$LT$55,3,FALSE) -> 0 | BG75: =IF(OR(BD75=1,BE75=1),0,IF(AND(BF74=1,(BE74-BD74)<>1),BF75+1,IF(AND(BF75=1,(BE75-BD75<>1)),0,BF75))) -> 0 | BH75: =IF(BG75=0,"",$BC75) | BI75: =LARGE($BH$62:$BH$223,$BC75) -> #NUM! | BJ75: =IFERROR(IF(BM74=BL75,BJ74,BJ74+1),"") | BK75: =IFERROR(VLOOKUP(BI75,$BC$62:$BG$223,5,FALSE),0) -> 0 | BL75: =VLOOKUP(BI75,$BC$62:$BE$223,2,FALSE) -> #NUM! | BM75: =VLOOKUP(BI75,$BC$62:$BE$223,3,FALSE) -> #NUM! | BN75: =IFERROR(VLOOKUP($BC75,BJ$62:BL$223,3,FALSE),"") | BO75: =IFERROR(BN75+BP75-1,"") | BP75: =SUMIF($BJ$62:$BJ$223,$BC75,$BK$62:$BK$223) -> 0 | BQ75: =HLOOKUP(BE75,$CE$53:$LT$55,2,FALSE) -> 0 | BR75: =IF(OR(BD75=1,BE75=1),0,IF(AND(BQ74=1,(BE74-BD74)<>1),BQ75+1,IF(AND(BQ75=1,(BE75-BD75<>1)),0,BQ75))) -> 0 | BS75: =IF(BR75=0,"",$BC75) | BT75: =LARGE($BS$62:$BS$223,$BC75) -> #NUM! | BU75: =IF(BX74=BW75,BU74,BU74+1) -> #NUM! | BV75: =IFERROR(VLOOKUP(BT75,$BC$62:$BR$223,16,FALSE),0) -> 0 | BW75: =VLOOKUP(BT75,$BC$62:$BE$223,2,FALSE) -> #NUM! | BX75: =VLOOKUP(BT75,$BC$62:$BE$223,3,FALSE) -> #NUM! | BY75: =IFERROR(VLOOKUP($BC75,BU$62:BW$223,3,FALSE),"") | BZ75: =IFERROR(BY75+CA75-1,"") | CA75: =SUMIF($BU$62:$BU$223,$BC75,$BV$62:$BV$223) -> 0 | CE75: =IF(OR($AZ75="",$BA75=""),0,MAX(MIN(CE$61,$BA75)-MAX(CF$61,$AZ75)+1,0)) -> 0 | CF75: =IF(OR($AZ75="",$BA75=""),0,MAX(MIN(CF$61-1,$BA75)-MAX(CG$61,$AZ75)+1,0)) -> 0 | CG75: =IF(OR($AZ75="",$BA75=""),0,MAX(MIN(CG$61-1,$BA75)-MAX(CH$61,$AZ75)+1,0)) -> 0 | CH75: =IF(OR($AZ75="",$BA75=""),0,MAX(MIN(CH$61-1,$BA75)-MAX(CI$61,$AZ75)+1,0)) -> 0 | CI75: =IF(OR($AZ75="",$BA75=""),0,MAX(MIN(CI$61-1,$BA75)-MAX(CJ$61,$AZ75)+1,0)) -> 0 | CJ75: =IF(OR($AZ75="",$BA75=""),0,MAX(MIN(CJ$61-1,$BA75)-MAX(CK$61,$AZ75)+1,0)) -> 0 | CK75: =IF(OR($AZ75="",$BA75=""),0,MAX(MIN(CK$61-1,$BA75)-MAX(CL$61,$AZ75)+1,0)) -> 0 | CL75: =IF(OR($AZ75="",$BA75=""),0,MAX(MIN(CL$61-1,$BA75)-MAX(CM$61,$AZ75)+1,0)) -> 0 | CM75: =IF(OR($AZ75="",$BA75=""),0,MAX(MIN(CM$61-1,$BA75)-MAX(CN$61,$AZ75)+1,0)) -> 0 | ... LT75: =IF(OR($AZ75="",$BA75=""),0,MAX(MIN(LT$61-1,$BA75)-MAX(LU$61,$AZ75)+1,0)) -> 0
A76: 15 | E76: =IF(F76="","",IF(C76="","",IF(C76<$H$17,$H$17,IF(C76>$D$33,"",C76)))) | F76: =IF(D76<$H$17,"",IF(C76>$D$33,"",IF(D76>$D$33,$D$33,D76))) -> 0 | H76: =IF(OR(C76=0,D76=0),"Falta(n) Fecha(s)",IF(C76>D76,"Invertidas",IF(C76=D76,"INI = FIN",IF(OR(C76<$H$17,D76<$H$17),IF(D76<$H$17,"Fecha Fin < Fecha TP o G","Ajuste por fecha TP o G"),IF(OR(C76>$D$33,D76>$D$33),"Ajuste por fecha HV","Ok"))))) -> Falta(n) Fecha(s) | Q76: {=IF(SUM(COUNTIF(J76:P76,{"SI","NO APLICA"}))=0, "", IF(SUM(COUNTIF(J76:P76,{"SI","NO APLICA"}))=COLUMNS(J76:P76), "CUMPLE", "NO CUMPLE"))} | Y76: =IF(AND(W76="",X76=""), "", IF(AND(OR(W76="SI",W76="NO APLICA"), OR(X76="SI",X76="NO APLICA")), "CUMPLE", "NO CUMPLE")) | Z76: =IF(AND(I76="",Q76="",T76="",V76="",Y76=""),"", IF(COUNTIF(I76:Y76,"NO CUMPLE")>0,"NO CUMPLE","CUMPLE")) | AD76: =BN76 | AE76: =BO76 | AF76: =BP76 -> 0 | AG76: =BY76 | AH76: =BZ76 | AI76: =CA76 -> 0 | AW76: =IFERROR(_xlfn.RANK.EQ(AZ76,$AZ$62:$BA$96),"") | AX76: =IFERROR(_xlfn.RANK.EQ(BA76,$AZ$62:$BA$96),"") -> 1 | AY76: 15 | AZ76: =IF(E76="","",E76) | BA76: =IF(F76="","",IF(F76=E76,F76+0.0001,F76)) -> 0 | BB76: =IF(G76="","",IF(UPPER(G76)="X",1,0)) | BC76: 15 | BD76: =HLOOKUP(BC76+1,$CE$60:$LU$61,2,FALSE) -> 1 | BE76: =HLOOKUP(BC76,$CE$60:$LU$61,2,FALSE) -> 1 | BF76: =HLOOKUP(BE76,$CE$53:$LT$55,3,FALSE) -> 0 | BG76: =IF(OR(BD76=1,BE76=1),0,IF(AND(BF75=1,(BE75-BD75)<>1),BF76+1,IF(AND(BF76=1,(BE76-BD76<>1)),0,BF76))) -> 0 | BH76: =IF(BG76=0,"",$BC76) | BI76: =LARGE($BH$62:$BH$223,$BC76) -> #NUM! | BJ76: =IFERROR(IF(BM75=BL76,BJ75,BJ75+1),"") | BK76: =IFERROR(VLOOKUP(BI76,$BC$62:$BG$223,5,FALSE),0) -> 0 | BL76: =VLOOKUP(BI76,$BC$62:$BE$223,2,FALSE) -> #NUM! | BM76: =VLOOKUP(BI76,$BC$62:$BE$223,3,FALSE) -> #NUM! | BN76: =IFERROR(VLOOKUP($BC76,BJ$62:BL$223,3,FALSE),"") | BO76: =IFERROR(BN76+BP76-1,"") | BP76: =SUMIF($BJ$62:$BJ$223,$BC76,$BK$62:$BK$223) -> 0 | BQ76: =HLOOKUP(BE76,$CE$53:$LT$55,2,FALSE) -> 0 | BR76: =IF(OR(BD76=1,BE76=1),0,IF(AND(BQ75=1,(BE75-BD75)<>1),BQ76+1,IF(AND(BQ76=1,(BE76-BD76<>1)),0,BQ76))) -> 0 | BS76: =IF(BR76=0,"",$BC76) | BT76: =LARGE($BS$62:$BS$223,$BC76) -> #NUM! | BU76: =IF(BX75=BW76,BU75,BU75+1) -> #NUM! | BV76: =IFERROR(VLOOKUP(BT76,$BC$62:$BR$223,16,FALSE),0) -> 0 | BW76: =VLOOKUP(BT76,$BC$62:$BE$223,2,FALSE) -> #NUM! | BX76: =VLOOKUP(BT76,$BC$62:$BE$223,3,FALSE) -> #NUM! | BY76: =IFERROR(VLOOKUP($BC76,BU$62:BW$223,3,FALSE),"") | BZ76: =IFERROR(BY76+CA76-1,"") | CA76: =SUMIF($BU$62:$BU$223,$BC76,$BV$62:$BV$223) -> 0 | CE76: =IF(OR($AZ76="",$BA76=""),0,MAX(MIN(CE$61,$BA76)-MAX(CF$61,$AZ76)+1,0)) -> 0 | CF76: =IF(OR($AZ76="",$BA76=""),0,MAX(MIN(CF$61-1,$BA76)-MAX(CG$61,$AZ76)+1,0)) -> 0 | CG76: =IF(OR($AZ76="",$BA76=""),0,MAX(MIN(CG$61-1,$BA76)-MAX(CH$61,$AZ76)+1,0)) -> 0 | CH76: =IF(OR($AZ76="",$BA76=""),0,MAX(MIN(CH$61-1,$BA76)-MAX(CI$61,$AZ76)+1,0)) -> 0 | CI76: =IF(OR($AZ76="",$BA76=""),0,MAX(MIN(CI$61-1,$BA76)-MAX(CJ$61,$AZ76)+1,0)) -> 0 | CJ76: =IF(OR($AZ76="",$BA76=""),0,MAX(MIN(CJ$61-1,$BA76)-MAX(CK$61,$AZ76)+1,0)) -> 0 | CK76: =IF(OR($AZ76="",$BA76=""),0,MAX(MIN(CK$61-1,$BA76)-MAX(CL$61,$AZ76)+1,0)) -> 0 | CL76: =IF(OR($AZ76="",$BA76=""),0,MAX(MIN(CL$61-1,$BA76)-MAX(CM$61,$AZ76)+1,0)) -> 0 | CM76: =IF(OR($AZ76="",$BA76=""),0,MAX(MIN(CM$61-1,$BA76)-MAX(CN$61,$AZ76)+1,0)) -> 0 | ... LT76: =IF(OR($AZ76="",$BA76=""),0,MAX(MIN(LT$61-1,$BA76)-MAX(LU$61,$AZ76)+1,0)) -> 0
... A96: 35 | E96: =IF(F96="","",IF(C96="","",IF(C96<$H$17,$H$17,IF(C96>$D$33,"",C96)))) | F96: =IF(D96<$H$17,"",IF(C96>$D$33,"",IF(D96>$D$33,$D$33,D96))) -> 0 | H96: =IF(OR(C96=0,D96=0),"Falta(n) Fecha(s)",IF(C96>D96,"Invertidas",IF(C96=D96,"INI = FIN",IF(OR(C96<$H$17,D96<$H$17),IF(D96<$H$17,"Fecha Fin < Fecha TP o G","Ajuste por fecha TP o G"),IF(OR(C96>$D$33,D96>$D$33),"Ajuste por fecha HV","Ok"))))) -> Falta(n) Fecha(s) | Q96: {=IF(SUM(COUNTIF(J96:P96,{"SI","NO APLICA"}))=0, "", IF(SUM(COUNTIF(J96:P96,{"SI","NO APLICA"}))=COLUMNS(J96:P96), "CUMPLE", "NO CUMPLE"))} | Y96: =IF(AND(W96="",X96=""), "", IF(AND(OR(W96="SI",W96="NO APLICA"), OR(X96="SI",X96="NO APLICA")), "CUMPLE", "NO CUMPLE")) | Z96: =IF(AND(I96="",Q96="",T96="",V96="",Y96=""),"", IF(COUNTIF(I96:Y96,"NO CUMPLE")>0,"NO CUMPLE","CUMPLE")) | AD96: =BN96 | AE96: =BO96 | AF96: =BP96 -> 0 | AG96: =BY96 | AH96: =BZ96 | AI96: =CA96 -> 0 | AW96: =IFERROR(_xlfn.RANK.EQ(AZ96,$AZ$62:$BA$96),"") | AX96: =IFERROR(_xlfn.RANK.EQ(BA96,$AZ$62:$BA$96),"") -> 1 | AY96: 35 | AZ96: =IF(E96="","",E96) | BA96: =IF(F96="","",IF(F96=E96,F96+0.0001,F96)) -> 0 | BB96: =IF(G96="","",IF(UPPER(G96)="X",1,0)) | BC96: 35 | BD96: =HLOOKUP(BC96+1,$CE$60:$LU$61,2,FALSE) -> 1 | BE96: =HLOOKUP(BC96,$CE$60:$LU$61,2,FALSE) -> 1 | BF96: =HLOOKUP(BE96,$CE$53:$LT$55,3,FALSE) -> 0 | BG96: =IF(OR(BD96=1,BE96=1),0,IF(AND(BF95=1,(BE95-BD95)<>1),BF96+1,IF(AND(BF96=1,(BE96-BD96<>1)),0,BF96))) -> 0 | BH96: =IF(BG96=0,"",$BC96) | BI96: =LARGE($BH$62:$BH$223,$BC96) -> #NUM! | BJ96: =IFERROR(IF(BM95=BL96,BJ95,BJ95+1),"") | BK96: =IFERROR(VLOOKUP(BI96,$BC$62:$BG$223,5,FALSE),0) -> 0 | BL96: =VLOOKUP(BI96,$BC$62:$BE$223,2,FALSE) -> #NUM! | BM96: =VLOOKUP(BI96,$BC$62:$BE$223,3,FALSE) -> #NUM! | BN96: =IFERROR(VLOOKUP($BC96,BJ$62:BL$223,3,FALSE),"") | BO96: =IFERROR(BN96+BP96-1,"") | BP96: =SUMIF($BJ$62:$BJ$223,$BC96,$BK$62:$BK$223) -> 0 | BQ96: =HLOOKUP(BE96,$CE$53:$LT$55,2,FALSE) -> 0 | BR96: =IF(OR(BD96=1,BE96=1),0,IF(AND(BQ95=1,(BE95-BD95)<>1),BQ96+1,IF(AND(BQ96=1,(BE96-BD96<>1)),0,BQ96))) -> 0 | BS96: =IF(BR96=0,"",$BC96) | BT96: =LARGE($BS$62:$BS$223,$BC96) -> #NUM! | BU96: =IF(BX95=BW96,BU95,BU95+1) -> #NUM! | BV96: =IFERROR(VLOOKUP(BT96,$BC$62:$BR$223,16,FALSE),0) -> 0 | BW96: =VLOOKUP(BT96,$BC$62:$BE$223,2,FALSE) -> #NUM! | BX96: =VLOOKUP(BT96,$BC$62:$BE$223,3,FALSE) -> #NUM! | BY96: =IFERROR(VLOOKUP($BC96,BU$62:BW$223,3,FALSE),"") | BZ96: =IFERROR(BY96+CA96-1,"") | CA96: =SUMIF($BU$62:$BU$223,$BC96,$BV$62:$BV$223) -> 0 | CE96: =IF(OR($AZ96="",$BA96=""),0,MAX(MIN(CE$61,$BA96)-MAX(CF$61,$AZ96)+1,0)) -> 0 | CF96: =IF(OR($AZ96="",$BA96=""),0,MAX(MIN(CF$61-1,$BA96)-MAX(CG$61,$AZ96)+1,0)) -> 0 | CG96: =IF(OR($AZ96="",$BA96=""),0,MAX(MIN(CG$61-1,$BA96)-MAX(CH$61,$AZ96)+1,0)) -> 0 | CH96: =IF(OR($AZ96="",$BA96=""),0,MAX(MIN(CH$61-1,$BA96)-MAX(CI$61,$AZ96)+1,0)) -> 0 | CI96: =IF(OR($AZ96="",$BA96=""),0,MAX(MIN(CI$61-1,$BA96)-MAX(CJ$61,$AZ96)+1,0)) -> 0 | CJ96: =IF(OR($AZ96="",$BA96=""),0,MAX(MIN(CJ$61-1,$BA96)-MAX(CK$61,$AZ96)+1,0)) -> 0 | CK96: =IF(OR($AZ96="",$BA96=""),0,MAX(MIN(CK$61-1,$BA96)-MAX(CL$61,$AZ96)+1,0)) -> 0 | CL96: =IF(OR($AZ96="",$BA96=""),0,MAX(MIN(CL$61-1,$BA96)-MAX(CM$61,$AZ96)+1,0)) -> 0 | CM96: =IF(OR($AZ96="",$BA96=""),0,MAX(MIN(CM$61-1,$BA96)-MAX(CN$61,$AZ96)+1,0)) -> 0 | ... LT96: =IF(OR($AZ96="",$BA96=""),0,MAX(MIN(LT$61-1,$BA96)-MAX(LU$61,$AZ96)+1,0)) -> 0
BC97: 126 | BD97: =HLOOKUP(BC97+1,$CE$60:$LU$61,2,FALSE) -> 1 | BE97: =HLOOKUP(BC97,$CE$60:$LU$61,2,FALSE) -> 1 | BF97: =HLOOKUP(BE97,$CE$53:$LT$55,3,FALSE) -> 0 | BG97: =IF(OR(BD97=1,BE97=1),0,IF(AND(#REF!=1,(#REF!-#REF!)<>1),BF97+1,IF(AND(BF97=1,(BE97-BD97<>1)),0,BF97))) -> 0 | BH97: =IF(BG97=0,"",$BC97) | BI97: =LARGE($BH$62:$BH$223,$BC97) -> #NUM! | BJ97: =IFERROR(IF(#REF!=BL97,#REF!,#REF!+1),"") | BK97: =IFERROR(VLOOKUP(BI97,$BC$62:$BG$223,5,FALSE),0) -> 0 | BL97: =VLOOKUP(BI97,$BC$62:$BE$223,2,FALSE) -> #NUM! | BM97: =VLOOKUP(BI97,$BC$62:$BE$223,3,FALSE) -> #NUM! | BN97: =IFERROR(VLOOKUP($BC97,BJ$62:BL$223,3,FALSE),"") | BO97: =IFERROR(BN97+BP97-1,"") | BP97: =SUMIF($BJ$62:$BJ$223,$BC97,$BK$62:$BK$223) -> 0 | BQ97: =HLOOKUP(BE97,$CE$53:$LT$55,2,FALSE) -> 0 | BR97: =IF(OR(BD97=1,BE97=1),0,IF(AND(#REF!=1,(#REF!-#REF!)<>1),BQ97+1,IF(AND(BQ97=1,(BE97-BD97<>1)),0,BQ97))) -> 0 | BS97: =IF(BR97=0,"",$BC97) | BT97: =LARGE($BS$62:$BS$223,$BC97) -> #NUM! | BU97: =IF(#REF!=BW97,#REF!,#REF!+1) -> #REF! | BV97: =IFERROR(VLOOKUP(BT97,$BC$62:$BR$223,16,FALSE),0) -> 0 | BW97: =VLOOKUP(BT97,$BC$62:$BE$223,2,FALSE) -> #NUM! | BX97: =VLOOKUP(BT97,$BC$62:$BE$223,3,FALSE) -> #NUM! | BY97: =IFERROR(VLOOKUP($BC97,BU$62:BW$223,3,FALSE),"") | BZ97: =IFERROR(BY97+CA97-1,"") | CA97: =SUMIF($BU$62:$BU$223,$BC97,$BV$62:$BV$223) -> 0 | CE97: =COUNTIF(CE62:CE96,">1") -> 0 | CF97: =COUNTIF(CF62:CF96,">1") -> 0 | CG97: =COUNTIF(CG62:CG96,">1") -> 0 | CH97: =COUNTIF(CH62:CH96,">1") -> 0 | CI97: =COUNTIF(CI62:CI96,">1") -> 0 | CJ97: =COUNTIF(CJ62:CJ96,">1") -> 0 | CK97: =COUNTIF(CK62:CK96,">1") -> 0 | CL97: =COUNTIF(CL62:CL96,">1") -> 0 | ... LT97: =COUNTIF(LT62:LT96,">1") -> 0
BC98: 127 | BD98: =HLOOKUP(BC98+1,$CE$60:$LU$61,2,FALSE) -> 1 | BE98: =HLOOKUP(BC98,$CE$60:$LU$61,2,FALSE) -> 1 | BF98: =HLOOKUP(BE98,$CE$53:$LT$55,3,FALSE) -> 0 | BG98: =IF(OR(BD98=1,BE98=1),0,IF(AND(BF97=1,(BE97-BD97)<>1),BF98+1,IF(AND(BF98=1,(BE98-BD98<>1)),0,BF98))) -> 0 | BH98: =IF(BG98=0,"",$BC98) | BI98: =LARGE($BH$62:$BH$223,$BC98) -> #NUM! | BJ98: =IFERROR(IF(BM97=BL98,BJ97,BJ97+1),"") | BK98: =IFERROR(VLOOKUP(BI98,$BC$62:$BG$223,5,FALSE),0) -> 0 | BL98: =VLOOKUP(BI98,$BC$62:$BE$223,2,FALSE) -> #NUM! | BM98: =VLOOKUP(BI98,$BC$62:$BE$223,3,FALSE) -> #NUM! | BN98: =IFERROR(VLOOKUP($BC98,BJ$62:BL$223,3,FALSE),"") | BO98: =IFERROR(BN98+BP98-1,"") | BP98: =SUMIF($BJ$62:$BJ$223,$BC98,$BK$62:$BK$223) -> 0 | BQ98: =HLOOKUP(BE98,$CE$53:$LT$55,2,FALSE) -> 0 | BR98: =IF(OR(BD98=1,BE98=1),0,IF(AND(BQ97=1,(BE97-BD97)<>1),BQ98+1,IF(AND(BQ98=1,(BE98-BD98<>1)),0,BQ98))) -> 0 | BS98: =IF(BR98=0,"",$BC98) | BT98: =LARGE($BS$62:$BS$223,$BC98) -> #NUM! | BU98: =IF(BX97=BW98,BU97,BU97+1) -> #NUM! | BV98: =IFERROR(VLOOKUP(BT98,$BC$62:$BR$223,16,FALSE),0) -> 0 | BW98: =VLOOKUP(BT98,$BC$62:$BE$223,2,FALSE) -> #NUM! | BX98: =VLOOKUP(BT98,$BC$62:$BE$223,3,FALSE) -> #NUM! | BY98: =IFERROR(VLOOKUP($BC98,BU$62:BW$223,3,FALSE),"") | BZ98: =IFERROR(BY98+CA98-1,"") | CA98: =SUMIF($BU$62:$BU$223,$BC98,$BV$62:$BV$223) -> 0
A99: RESUMEN PERFIL | BC99: 128 | BD99: =HLOOKUP(BC99+1,$CE$60:$LU$61,2,FALSE) -> 1 | BE99: =HLOOKUP(BC99,$CE$60:$LU$61,2,FALSE) -> 1 | BF99: =HLOOKUP(BE99,$CE$53:$LT$55,3,FALSE) -> 0 | BG99: =IF(OR(BD99=1,BE99=1),0,IF(AND(BF98=1,(BE98-BD98)<>1),BF99+1,IF(AND(BF99=1,(BE99-BD99<>1)),0,BF99))) -> 0 | BH99: =IF(BG99=0,"",$BC99) | BI99: =LARGE($BH$62:$BH$223,$BC99) -> #NUM! | BJ99: =IFERROR(IF(BM98=BL99,BJ98,BJ98+1),"") | BK99: =IFERROR(VLOOKUP(BI99,$BC$62:$BG$223,5,FALSE),0) -> 0 | BL99: =VLOOKUP(BI99,$BC$62:$BE$223,2,FALSE) -> #NUM! | BM99: =VLOOKUP(BI99,$BC$62:$BE$223,3,FALSE) -> #NUM! | BN99: =IFERROR(VLOOKUP($BC99,BJ$62:BL$223,3,FALSE),"") | BO99: =IFERROR(BN99+BP99-1,"") | BP99: =SUMIF($BJ$62:$BJ$223,$BC99,$BK$62:$BK$223) -> 0 | BQ99: =HLOOKUP(BE99,$CE$53:$LT$55,2,FALSE) -> 0 | BR99: =IF(OR(BD99=1,BE99=1),0,IF(AND(BQ98=1,(BE98-BD98)<>1),BQ99+1,IF(AND(BQ99=1,(BE99-BD99<>1)),0,BQ99))) -> 0 | BS99: =IF(BR99=0,"",$BC99) | BT99: =LARGE($BS$62:$BS$223,$BC99) -> #NUM! | BU99: =IF(BX98=BW99,BU98,BU98+1) -> #NUM! | BV99: =IFERROR(VLOOKUP(BT99,$BC$62:$BR$223,16,FALSE),0) -> 0 | BW99: =VLOOKUP(BT99,$BC$62:$BE$223,2,FALSE) -> #NUM! | BX99: =VLOOKUP(BT99,$BC$62:$BE$223,3,FALSE) -> #NUM! | BY99: =IFERROR(VLOOKUP($BC99,BU$62:BW$223,3,FALSE),"") | BZ99: =IFERROR(BY99+CA99-1,"") | CA99: =SUMIF($BU$62:$BU$223,$BC99,$BV$62:$BV$223) -> 0
A100: CUMPLE DILIGENCIAMIENTO FORMATO | B100: =IF(D38="CUMPLE","CUMPLE","NO CUMPLE") -> CUMPLE
A101: FORMACIÓN ADICIONAL | BC101: 129 | BD101: =HLOOKUP(BC101+1,$CE$60:$LU$61,2,FALSE) -> 1 | BE101: =HLOOKUP(BC101,$CE$60:$LU$61,2,FALSE) -> 1 | BF101: =HLOOKUP(BE101,$CE$53:$LT$55,3,FALSE) -> 0 | BG101: =IF(OR(BD101=1,BE101=1),0,IF(AND(BF99=1,(BE99-BD99)<>1),BF101+1,IF(AND(BF101=1,(BE101-BD101<>1)),0,BF101))) -> 0 | BH101: =IF(BG101=0,"",$BC101) | BI101: =LARGE($BH$62:$BH$223,$BC101) -> #NUM! | BJ101: =IFERROR(IF(BM99=BL101,BJ99,BJ99+1),"") | BK101: =IFERROR(VLOOKUP(BI101,$BC$62:$BG$223,5,FALSE),0) -> 0 | BL101: =VLOOKUP(BI101,$BC$62:$BE$223,2,FALSE) -> #NUM! | BM101: =VLOOKUP(BI101,$BC$62:$BE$223,3,FALSE) -> #NUM! | BN101: =IFERROR(VLOOKUP($BC101,BJ$62:BL$223,3,FALSE),"") | BO101: =IFERROR(BN101+BP101-1,"") | BP101: =SUMIF($BJ$62:$BJ$223,$BC101,$BK$62:$BK$223) -> 0 | BQ101: =HLOOKUP(BE101,$CE$53:$LT$55,2,FALSE) -> 0 | BR101: =IF(OR(BD101=1,BE101=1),0,IF(AND(BQ99=1,(BE99-BD99)<>1),BQ101+1,IF(AND(BQ101=1,(BE101-BD101<>1)),0,BQ101))) -> 0 | BS101: =IF(BR101=0,"",$BC101) | BT101: =LARGE($BS$62:$BS$223,$BC101) -> #NUM! | BU101: =IF(BX99=BW101,BU99,BU99+1) -> #NUM! | BV101: =IFERROR(VLOOKUP(BT101,$BC$62:$BR$223,16,FALSE),0) -> 0 | BW101: =VLOOKUP(BT101,$BC$62:$BE$223,2,FALSE) -> #NUM! | BX101: =VLOOKUP(BT101,$BC$62:$BE$223,3,FALSE) -> #NUM! | BY101: =IFERROR(VLOOKUP($BC101,BU$62:BW$223,3,FALSE),"") | BZ101: =IFERROR(BY101+CA101-1,"") | CA101: =SUMIF($BU$62:$BU$223,$BC101,$BV$62:$BV$223) -> 0
A102: CUMPLE FORMACIÓN ACADÉMICA POSGRADO | B102: =IF(B45="SI",IF(AND(D43="CUMPLE",D44="CUMPLE",D45="CUMPLE"),"CUMPLE","NO CUMPLE"),IF(AND(D43="CUMPLE",D44="CUMPLE"),"CUMPLE","NO CUMPLE")) -> CUMPLE
A103: PUNTAJE ASIGNADO | B103: =IF(D34="NO HABILITADO",0,IF(B100="CUMPLE",IF(B102="CUMPLE",10,0),0)) -> 10 | BC103: 130 | BD103: =HLOOKUP(BC103+1,$CE$60:$LU$61,2,FALSE) -> 1 | BE103: =HLOOKUP(BC103,$CE$60:$LU$61,2,FALSE) -> 1 | BF103: =HLOOKUP(BE103,$CE$53:$LT$55,3,FALSE) -> 0 | BG103: =IF(OR(BD103=1,BE103=1),0,IF(AND(BF101=1,(BE101-BD101)<>1),BF103+1,IF(AND(BF103=1,(BE103-BD103<>1)),0,BF103))) -> 0 | BH103: =IF(BG103=0,"",$BC103) | BI103: =LARGE($BH$62:$BH$223,$BC103) -> #NUM! | BJ103: =IFERROR(IF(BM101=BL103,BJ101,BJ101+1),"") | BK103: =IFERROR(VLOOKUP(BI103,$BC$62:$BG$223,5,FALSE),0) -> 0 | BL103: =VLOOKUP(BI103,$BC$62:$BE$223,2,FALSE) -> #NUM! | BM103: =VLOOKUP(BI103,$BC$62:$BE$223,3,FALSE) -> #NUM! | BN103: =IFERROR(VLOOKUP($BC103,BJ$62:BL$223,3,FALSE),"") | BO103: =IFERROR(BN103+BP103-1,"") | BP103: =SUMIF($BJ$62:$BJ$223,$BC103,$BK$62:$BK$223) -> 0 | BQ103: =HLOOKUP(BE103,$CE$53:$LT$55,2,FALSE) -> 0 | BR103: =IF(OR(BD103=1,BE103=1),0,IF(AND(BQ101=1,(BE101-BD101)<>1),BQ103+1,IF(AND(BQ103=1,(BE103-BD103<>1)),0,BQ103))) -> 0 | BS103: =IF(BR103=0,"",$BC103) | BT103: =LARGE($BS$62:$BS$223,$BC103) -> #NUM! | BU103: =IF(BX101=BW103,BU101,BU101+1) -> #NUM! | BV103: =IFERROR(VLOOKUP(BT103,$BC$62:$BR$223,16,FALSE),0) -> 0 | BW103: =VLOOKUP(BT103,$BC$62:$BE$223,2,FALSE) -> #NUM! | BX103: =VLOOKUP(BT103,$BC$62:$BE$223,3,FALSE) -> #NUM! | BY103: =IFERROR(VLOOKUP($BC103,BU$62:BW$223,3,FALSE),"") | BZ103: =IFERROR(BY103+CA103-1,"") | CA103: =SUMIF($BU$62:$BU$223,$BC103,$BV$62:$BV$223) -> 0
A104: EXPERIENCIA ESPECÍFICA ADICIONAL | BC104: 131 | BD104: =HLOOKUP(BC104+1,$CE$60:$LU$61,2,FALSE) -> 1 | BE104: =HLOOKUP(BC104,$CE$60:$LU$61,2,FALSE) -> 1 | BF104: =HLOOKUP(BE104,$CE$53:$LT$55,3,FALSE) -> 0 | BG104: =IF(OR(BD104=1,BE104=1),0,IF(AND(BF103=1,(BE103-BD103)<>1),BF104+1,IF(AND(BF104=1,(BE104-BD104<>1)),0,BF104))) -> 0 | BH104: =IF(BG104=0,"",$BC104) | BI104: =LARGE($BH$62:$BH$223,$BC104) -> #NUM! | BJ104: =IFERROR(IF(BM103=BL104,BJ103,BJ103+1),"") | BK104: =IFERROR(VLOOKUP(BI104,$BC$62:$BG$223,5,FALSE),0) -> 0 | BL104: =VLOOKUP(BI104,$BC$62:$BE$223,2,FALSE) -> #NUM! | BM104: =VLOOKUP(BI104,$BC$62:$BE$223,3,FALSE) -> #NUM! | BN104: =IFERROR(VLOOKUP($BC104,BJ$62:BL$223,3,FALSE),"") | BO104: =IFERROR(BN104+BP104-1,"") | BP104: =SUMIF($BJ$62:$BJ$223,$BC104,$BK$62:$BK$223) -> 0 | BQ104: =HLOOKUP(BE104,$CE$53:$LT$55,2,FALSE) -> 0 | BR104: =IF(OR(BD104=1,BE104=1),0,IF(AND(BQ103=1,(BE103-BD103)<>1),BQ104+1,IF(AND(BQ104=1,(BE104-BD104<>1)),0,BQ104))) -> 0 | BS104: =IF(BR104=0,"",$BC104) | BT104: =LARGE($BS$62:$BS$223,$BC104) -> #NUM! | BU104: =IF(BX103=BW104,BU103,BU103+1) -> #NUM! | BV104: =IFERROR(VLOOKUP(BT104,$BC$62:$BR$223,16,FALSE),0) -> 0 | BW104: =VLOOKUP(BT104,$BC$62:$BE$223,2,FALSE) -> #NUM! | BX104: =VLOOKUP(BT104,$BC$62:$BE$223,3,FALSE) -> #NUM! | BY104: =IFERROR(VLOOKUP($BC104,BU$62:BW$223,3,FALSE),"") | BZ104: =IFERROR(BY104+CA104-1,"") | CA104: =SUMIF($BU$62:$BU$223,$BC104,$BV$62:$BV$223) -> 0
A105: CUMPLE EXPERIENCIA ESPECÍFICA | B105: NO APLICA | BC105: 132 | BD105: =HLOOKUP(BC105+1,$CE$60:$LU$61,2,FALSE) -> 1 | BE105: =HLOOKUP(BC105,$CE$60:$LU$61,2,FALSE) -> 1 | BF105: =HLOOKUP(BE105,$CE$53:$LT$55,3,FALSE) -> 0 | BG105: =IF(OR(BD105=1,BE105=1),0,IF(AND(BF104=1,(BE104-BD104)<>1),BF105+1,IF(AND(BF105=1,(BE105-BD105<>1)),0,BF105))) -> 0 | BH105: =IF(BG105=0,"",$BC105) | BI105: =LARGE($BH$62:$BH$223,$BC105) -> #NUM! | BJ105: =IFERROR(IF(BM104=BL105,BJ104,BJ104+1),"") | BK105: =IFERROR(VLOOKUP(BI105,$BC$62:$BG$223,5,FALSE),0) -> 0 | BL105: =VLOOKUP(BI105,$BC$62:$BE$223,2,FALSE) -> #NUM! | BM105: =VLOOKUP(BI105,$BC$62:$BE$223,3,FALSE) -> #NUM! | BN105: =IFERROR(VLOOKUP($BC105,BJ$62:BL$223,3,FALSE),"") | BO105: =IFERROR(BN105+BP105-1,"") | BP105: =SUMIF($BJ$62:$BJ$223,$BC105,$BK$62:$BK$223) -> 0 | BQ105: =HLOOKUP(BE105,$CE$53:$LT$55,2,FALSE) -> 0 | BR105: =IF(OR(BD105=1,BE105=1),0,IF(AND(BQ104=1,(BE104-BD104)<>1),BQ105+1,IF(AND(BQ105=1,(BE105-BD105<>1)),0,BQ105))) -> 0 | BS105: =IF(BR105=0,"",$BC105) | BT105: =LARGE($BS$62:$BS$223,$BC105) -> #NUM! | BU105: =IF(BX104=BW105,BU104,BU104+1) -> #NUM! | BV105: =IFERROR(VLOOKUP(BT105,$BC$62:$BR$223,16,FALSE),0) -> 0 | BW105: =VLOOKUP(BT105,$BC$62:$BE$223,2,FALSE) -> #NUM! | BX105: =VLOOKUP(BT105,$BC$62:$BE$223,3,FALSE) -> #NUM! | BY105: =IFERROR(VLOOKUP($BC105,BU$62:BW$223,3,FALSE),"") | BZ105: =IFERROR(BY105+CA105-1,"") | CA105: =SUMIF($BU$62:$BU$223,$BC105,$BV$62:$BV$223) -> 0
A106: PUNTAJE ASIGNADO | B106: =IF(D34="NO HABILITADO",0,IF(B105="CUMPLE",12.5,0)) -> 0 | BC106: 133 | BD106: =HLOOKUP(BC106+1,$CE$60:$LU$61,2,FALSE) -> 1 | BE106: =HLOOKUP(BC106,$CE$60:$LU$61,2,FALSE) -> 1 | BF106: =HLOOKUP(BE106,$CE$53:$LT$55,3,FALSE) -> 0 | BG106: =IF(OR(BD106=1,BE106=1),0,IF(AND(BF105=1,(BE105-BD105)<>1),BF106+1,IF(AND(BF106=1,(BE106-BD106<>1)),0,BF106))) -> 0 | BH106: =IF(BG106=0,"",$BC106) | BI106: =LARGE($BH$62:$BH$223,$BC106) -> #NUM! | BJ106: =IFERROR(IF(BM105=BL106,BJ105,BJ105+1),"") | BK106: =IFERROR(VLOOKUP(BI106,$BC$62:$BG$223,5,FALSE),0) -> 0 | BL106: =VLOOKUP(BI106,$BC$62:$BE$223,2,FALSE) -> #NUM! | BM106: =VLOOKUP(BI106,$BC$62:$BE$223,3,FALSE) -> #NUM! | BN106: =IFERROR(VLOOKUP($BC106,BJ$62:BL$223,3,FALSE),"") | BO106: =IFERROR(BN106+BP106-1,"") | BP106: =SUMIF($BJ$62:$BJ$223,$BC106,$BK$62:$BK$223) -> 0 | BQ106: =HLOOKUP(BE106,$CE$53:$LT$55,2,FALSE) -> 0 | BR106: =IF(OR(BD106=1,BE106=1),0,IF(AND(BQ105=1,(BE105-BD105)<>1),BQ106+1,IF(AND(BQ106=1,(BE106-BD106<>1)),0,BQ106))) -> 0 | BS106: =IF(BR106=0,"",$BC106) | BT106: =LARGE($BS$62:$BS$223,$BC106) -> #NUM! | BU106: =IF(BX105=BW106,BU105,BU105+1) -> #NUM! | BV106: =IFERROR(VLOOKUP(BT106,$BC$62:$BR$223,16,FALSE),0) -> 0 | BW106: =VLOOKUP(BT106,$BC$62:$BE$223,2,FALSE) -> #NUM! | BX106: =VLOOKUP(BT106,$BC$62:$BE$223,3,FALSE) -> #NUM! | BY106: =IFERROR(VLOOKUP($BC106,BU$62:BW$223,3,FALSE),"") | BZ106: =IFERROR(BY106+CA106-1,"") | CA106: =SUMIF($BU$62:$BU$223,$BC106,$BV$62:$BV$223) -> 0
BC107: 134 | BD107: =HLOOKUP(BC107+1,$CE$60:$LU$61,2,FALSE) -> 1 | BE107: =HLOOKUP(BC107,$CE$60:$LU$61,2,FALSE) -> 1 | BF107: =HLOOKUP(BE107,$CE$53:$LT$55,3,FALSE) -> 0 | BG107: =IF(OR(BD107=1,BE107=1),0,IF(AND(BF106=1,(BE106-BD106)<>1),BF107+1,IF(AND(BF107=1,(BE107-BD107<>1)),0,BF107))) -> 0 | BH107: =IF(BG107=0,"",$BC107) | BI107: =LARGE($BH$62:$BH$223,$BC107) -> #NUM! | BJ107: =IFERROR(IF(BM106=BL107,BJ106,BJ106+1),"") | BK107: =IFERROR(VLOOKUP(BI107,$BC$62:$BG$223,5,FALSE),0) -> 0 | BL107: =VLOOKUP(BI107,$BC$62:$BE$223,2,FALSE) -> #NUM! | BM107: =VLOOKUP(BI107,$BC$62:$BE$223,3,FALSE) -> #NUM! | BN107: =IFERROR(VLOOKUP($BC107,BJ$62:BL$223,3,FALSE),"") | BO107: =IFERROR(BN107+BP107-1,"") | BP107: =SUMIF($BJ$62:$BJ$223,$BC107,$BK$62:$BK$223) -> 0 | BQ107: =HLOOKUP(BE107,$CE$53:$LT$55,2,FALSE) -> 0 | BR107: =IF(OR(BD107=1,BE107=1),0,IF(AND(BQ106=1,(BE106-BD106)<>1),BQ107+1,IF(AND(BQ107=1,(BE107-BD107<>1)),0,BQ107))) -> 0 | BS107: =IF(BR107=0,"",$BC107) | BT107: =LARGE($BS$62:$BS$223,$BC107) -> #NUM! | BU107: =IF(BX106=BW107,BU106,BU106+1) -> #NUM! | BV107: =IFERROR(VLOOKUP(BT107,$BC$62:$BR$223,16,FALSE),0) -> 0 | BW107: =VLOOKUP(BT107,$BC$62:$BE$223,2,FALSE) -> #NUM! | BX107: =VLOOKUP(BT107,$BC$62:$BE$223,3,FALSE) -> #NUM! | BY107: =IFERROR(VLOOKUP($BC107,BU$62:BW$223,3,FALSE),"") | BZ107: =IFERROR(BY107+CA107-1,"") | CA107: =SUMIF($BU$62:$BU$223,$BC107,$BV$62:$BV$223) -> 0
BC108: 135 | BD108: =HLOOKUP(BC108+1,$CE$60:$LU$61,2,FALSE) -> 1 | BE108: =HLOOKUP(BC108,$CE$60:$LU$61,2,FALSE) -> 1 | BF108: =HLOOKUP(BE108,$CE$53:$LT$55,3,FALSE) -> 0 | BG108: =IF(OR(BD108=1,BE108=1),0,IF(AND(BF107=1,(BE107-BD107)<>1),BF108+1,IF(AND(BF108=1,(BE108-BD108<>1)),0,BF108))) -> 0 | BH108: =IF(BG108=0,"",$BC108) | BI108: =LARGE($BH$62:$BH$223,$BC108) -> #NUM! | BJ108: =IFERROR(IF(BM107=BL108,BJ107,BJ107+1),"") | BK108: =IFERROR(VLOOKUP(BI108,$BC$62:$BG$223,5,FALSE),0) -> 0 | BL108: =VLOOKUP(BI108,$BC$62:$BE$223,2,FALSE) -> #NUM! | BM108: =VLOOKUP(BI108,$BC$62:$BE$223,3,FALSE) -> #NUM! | BN108: =IFERROR(VLOOKUP($BC108,BJ$62:BL$223,3,FALSE),"") | BO108: =IFERROR(BN108+BP108-1,"") | BP108: =SUMIF($BJ$62:$BJ$223,$BC108,$BK$62:$BK$223) -> 0 | BQ108: =HLOOKUP(BE108,$CE$53:$LT$55,2,FALSE) -> 0 | BR108: =IF(OR(BD108=1,BE108=1),0,IF(AND(BQ107=1,(BE107-BD107)<>1),BQ108+1,IF(AND(BQ108=1,(BE108-BD108<>1)),0,BQ108))) -> 0 | BS108: =IF(BR108=0,"",$BC108) | BT108: =LARGE($BS$62:$BS$223,$BC108) -> #NUM! | BU108: =IF(BX107=BW108,BU107,BU107+1) -> #NUM! | BV108: =IFERROR(VLOOKUP(BT108,$BC$62:$BR$223,16,FALSE),0) -> 0 | BW108: =VLOOKUP(BT108,$BC$62:$BE$223,2,FALSE) -> #NUM! | BX108: =VLOOKUP(BT108,$BC$62:$BE$223,3,FALSE) -> #NUM! | BY108: =IFERROR(VLOOKUP($BC108,BU$62:BW$223,3,FALSE),"") | BZ108: =IFERROR(BY108+CA108-1,"") | CA108: =SUMIF($BU$62:$BU$223,$BC108,$BV$62:$BV$223) -> 0
BC109: 136 | BD109: =HLOOKUP(BC109+1,$CE$60:$LU$61,2,FALSE) -> 1 | BE109: =HLOOKUP(BC109,$CE$60:$LU$61,2,FALSE) -> 1 | BF109: =HLOOKUP(BE109,$CE$53:$LT$55,3,FALSE) -> 0 | BG109: =IF(OR(BD109=1,BE109=1),0,IF(AND(BF108=1,(BE108-BD108)<>1),BF109+1,IF(AND(BF109=1,(BE109-BD109<>1)),0,BF109))) -> 0 | BH109: =IF(BG109=0,"",$BC109) | BI109: =LARGE($BH$62:$BH$223,$BC109) -> #NUM! | BJ109: =IFERROR(IF(BM108=BL109,BJ108,BJ108+1),"") | BK109: =IFERROR(VLOOKUP(BI109,$BC$62:$BG$223,5,FALSE),0) -> 0 | BL109: =VLOOKUP(BI109,$BC$62:$BE$223,2,FALSE) -> #NUM! | BM109: =VLOOKUP(BI109,$BC$62:$BE$223,3,FALSE) -> #NUM! | BN109: =IFERROR(VLOOKUP($BC109,BJ$62:BL$223,3,FALSE),"") | BO109: =IFERROR(BN109+BP109-1,"") | BP109: =SUMIF($BJ$62:$BJ$223,$BC109,$BK$62:$BK$223) -> 0 | BQ109: =HLOOKUP(BE109,$CE$53:$LT$55,2,FALSE) -> 0 | BR109: =IF(OR(BD109=1,BE109=1),0,IF(AND(BQ108=1,(BE108-BD108)<>1),BQ109+1,IF(AND(BQ109=1,(BE109-BD109<>1)),0,BQ109))) -> 0 | BS109: =IF(BR109=0,"",$BC109) | BT109: =LARGE($BS$62:$BS$223,$BC109) -> #NUM! | BU109: =IF(BX108=BW109,BU108,BU108+1) -> #NUM! | BV109: =IFERROR(VLOOKUP(BT109,$BC$62:$BR$223,16,FALSE),0) -> 0 | BW109: =VLOOKUP(BT109,$BC$62:$BE$223,2,FALSE) -> #NUM! | BX109: =VLOOKUP(BT109,$BC$62:$BE$223,3,FALSE) -> #NUM! | BY109: =IFERROR(VLOOKUP($BC109,BU$62:BW$223,3,FALSE),"") | BZ109: =IFERROR(BY109+CA109-1,"") | CA109: =SUMIF($BU$62:$BU$223,$BC109,$BV$62:$BV$223) -> 0
BC110: 137 | BD110: =HLOOKUP(BC110+1,$CE$60:$LU$61,2,FALSE) -> 1 | BE110: =HLOOKUP(BC110,$CE$60:$LU$61,2,FALSE) -> 1 | BF110: =HLOOKUP(BE110,$CE$53:$LT$55,3,FALSE) -> 0 | BG110: =IF(OR(BD110=1,BE110=1),0,IF(AND(BF109=1,(BE109-BD109)<>1),BF110+1,IF(AND(BF110=1,(BE110-BD110<>1)),0,BF110))) -> 0 | BH110: =IF(BG110=0,"",$BC110) | BI110: =LARGE($BH$62:$BH$223,$BC110) -> #NUM! | BJ110: =IFERROR(IF(BM109=BL110,BJ109,BJ109+1),"") | BK110: =IFERROR(VLOOKUP(BI110,$BC$62:$BG$223,5,FALSE),0) -> 0 | BL110: =VLOOKUP(BI110,$BC$62:$BE$223,2,FALSE) -> #NUM! | BM110: =VLOOKUP(BI110,$BC$62:$BE$223,3,FALSE) -> #NUM! | BN110: =IFERROR(VLOOKUP($BC110,BJ$62:BL$223,3,FALSE),"") | BO110: =IFERROR(BN110+BP110-1,"") | BP110: =SUMIF($BJ$62:$BJ$223,$BC110,$BK$62:$BK$223) -> 0 | BQ110: =HLOOKUP(BE110,$CE$53:$LT$55,2,FALSE) -> 0 | BR110: =IF(OR(BD110=1,BE110=1),0,IF(AND(BQ109=1,(BE109-BD109)<>1),BQ110+1,IF(AND(BQ110=1,(BE110-BD110<>1)),0,BQ110))) -> 0 | BS110: =IF(BR110=0,"",$BC110) | BT110: =LARGE($BS$62:$BS$223,$BC110) -> #NUM! | BU110: =IF(BX109=BW110,BU109,BU109+1) -> #NUM! | BV110: =IFERROR(VLOOKUP(BT110,$BC$62:$BR$223,16,FALSE),0) -> 0 | BW110: =VLOOKUP(BT110,$BC$62:$BE$223,2,FALSE) -> #NUM! | BX110: =VLOOKUP(BT110,$BC$62:$BE$223,3,FALSE) -> #NUM! | BY110: =IFERROR(VLOOKUP($BC110,BU$62:BW$223,3,FALSE),"") | BZ110: =IFERROR(BY110+CA110-1,"") | CA110: =SUMIF($BU$62:$BU$223,$BC110,$BV$62:$BV$223) -> 0
BC111: 138 | BD111: =HLOOKUP(BC111+1,$CE$60:$LU$61,2,FALSE) -> 1 | BE111: =HLOOKUP(BC111,$CE$60:$LU$61,2,FALSE) -> 1 | BF111: =HLOOKUP(BE111,$CE$53:$LT$55,3,FALSE) -> 0 | BG111: =IF(OR(BD111=1,BE111=1),0,IF(AND(BF110=1,(BE110-BD110)<>1),BF111+1,IF(AND(BF111=1,(BE111-BD111<>1)),0,BF111))) -> 0 | BH111: =IF(BG111=0,"",$BC111) | BI111: =LARGE($BH$62:$BH$223,$BC111) -> #NUM! | BJ111: =IFERROR(IF(BM110=BL111,BJ110,BJ110+1),"") | BK111: =IFERROR(VLOOKUP(BI111,$BC$62:$BG$223,5,FALSE),0) -> 0 | BL111: =VLOOKUP(BI111,$BC$62:$BE$223,2,FALSE) -> #NUM! | BM111: =VLOOKUP(BI111,$BC$62:$BE$223,3,FALSE) -> #NUM! | BN111: =IFERROR(VLOOKUP($BC111,BJ$62:BL$223,3,FALSE),"") | BO111: =IFERROR(BN111+BP111-1,"") | BP111: =SUMIF($BJ$62:$BJ$223,$BC111,$BK$62:$BK$223) -> 0 | BQ111: =HLOOKUP(BE111,$CE$53:$LT$55,2,FALSE) -> 0 | BR111: =IF(OR(BD111=1,BE111=1),0,IF(AND(BQ110=1,(BE110-BD110)<>1),BQ111+1,IF(AND(BQ111=1,(BE111-BD111<>1)),0,BQ111))) -> 0 | BS111: =IF(BR111=0,"",$BC111) | BT111: =LARGE($BS$62:$BS$223,$BC111) -> #NUM! | BU111: =IF(BX110=BW111,BU110,BU110+1) -> #NUM! | BV111: =IFERROR(VLOOKUP(BT111,$BC$62:$BR$223,16,FALSE),0) -> 0 | BW111: =VLOOKUP(BT111,$BC$62:$BE$223,2,FALSE) -> #NUM! | BX111: =VLOOKUP(BT111,$BC$62:$BE$223,3,FALSE) -> #NUM! | BY111: =IFERROR(VLOOKUP($BC111,BU$62:BW$223,3,FALSE),"") | BZ111: =IFERROR(BY111+CA111-1,"") | CA111: =SUMIF($BU$62:$BU$223,$BC111,$BV$62:$BV$223) -> 0
BC112: 139 | BD112: =HLOOKUP(BC112+1,$CE$60:$LU$61,2,FALSE) -> 1 | BE112: =HLOOKUP(BC112,$CE$60:$LU$61,2,FALSE) -> 1 | BF112: =HLOOKUP(BE112,$CE$53:$LT$55,3,FALSE) -> 0 | BG112: =IF(OR(BD112=1,BE112=1),0,IF(AND(BF111=1,(BE111-BD111)<>1),BF112+1,IF(AND(BF112=1,(BE112-BD112<>1)),0,BF112))) -> 0 | BH112: =IF(BG112=0,"",$BC112) | BI112: =LARGE($BH$62:$BH$223,$BC112) -> #NUM! | BJ112: =IFERROR(IF(BM111=BL112,BJ111,BJ111+1),"") | BK112: =IFERROR(VLOOKUP(BI112,$BC$62:$BG$223,5,FALSE),0) -> 0 | BL112: =VLOOKUP(BI112,$BC$62:$BE$223,2,FALSE) -> #NUM! | BM112: =VLOOKUP(BI112,$BC$62:$BE$223,3,FALSE) -> #NUM! | BN112: =IFERROR(VLOOKUP($BC112,BJ$62:BL$223,3,FALSE),"") | BO112: =IFERROR(BN112+BP112-1,"") | BP112: =SUMIF($BJ$62:$BJ$223,$BC112,$BK$62:$BK$223) -> 0 | BQ112: =HLOOKUP(BE112,$CE$53:$LT$55,2,FALSE) -> 0 | BR112: =IF(OR(BD112=1,BE112=1),0,IF(AND(BQ111=1,(BE111-BD111)<>1),BQ112+1,IF(AND(BQ112=1,(BE112-BD112<>1)),0,BQ112))) -> 0 | BS112: =IF(BR112=0,"",$BC112) | BT112: =LARGE($BS$62:$BS$223,$BC112) -> #NUM! | BU112: =IF(BX111=BW112,BU111,BU111+1) -> #NUM! | BV112: =IFERROR(VLOOKUP(BT112,$BC$62:$BR$223,16,FALSE),0) -> 0 | BW112: =VLOOKUP(BT112,$BC$62:$BE$223,2,FALSE) -> #NUM! | BX112: =VLOOKUP(BT112,$BC$62:$BE$223,3,FALSE) -> #NUM! | BY112: =IFERROR(VLOOKUP($BC112,BU$62:BW$223,3,FALSE),"") | BZ112: =IFERROR(BY112+CA112-1,"") | CA112: =SUMIF($BU$62:$BU$223,$BC112,$BV$62:$BV$223) -> 0
BC113: 140 | BD113: =HLOOKUP(BC113+1,$CE$60:$LU$61,2,FALSE) -> 1 | BE113: =HLOOKUP(BC113,$CE$60:$LU$61,2,FALSE) -> 1 | BF113: =HLOOKUP(BE113,$CE$53:$LT$55,3,FALSE) -> 0 | BG113: =IF(OR(BD113=1,BE113=1),0,IF(AND(BF112=1,(BE112-BD112)<>1),BF113+1,IF(AND(BF113=1,(BE113-BD113<>1)),0,BF113))) -> 0 | BH113: =IF(BG113=0,"",$BC113) | BI113: =LARGE($BH$62:$BH$223,$BC113) -> #NUM! | BJ113: =IFERROR(IF(BM112=BL113,BJ112,BJ112+1),"") | BK113: =IFERROR(VLOOKUP(BI113,$BC$62:$BG$223,5,FALSE),0) -> 0 | BL113: =VLOOKUP(BI113,$BC$62:$BE$223,2,FALSE) -> #NUM! | BM113: =VLOOKUP(BI113,$BC$62:$BE$223,3,FALSE) -> #NUM! | BN113: =IFERROR(VLOOKUP($BC113,BJ$62:BL$223,3,FALSE),"") | BO113: =IFERROR(BN113+BP113-1,"") | BP113: =SUMIF($BJ$62:$BJ$223,$BC113,$BK$62:$BK$223) -> 0 | BQ113: =HLOOKUP(BE113,$CE$53:$LT$55,2,FALSE) -> 0 | BR113: =IF(OR(BD113=1,BE113=1),0,IF(AND(BQ112=1,(BE112-BD112)<>1),BQ113+1,IF(AND(BQ113=1,(BE113-BD113<>1)),0,BQ113))) -> 0 | BS113: =IF(BR113=0,"",$BC113) | BT113: =LARGE($BS$62:$BS$223,$BC113) -> #NUM! | BU113: =IF(BX112=BW113,BU112,BU112+1) -> #NUM! | BV113: =IFERROR(VLOOKUP(BT113,$BC$62:$BR$223,16,FALSE),0) -> 0 | BW113: =VLOOKUP(BT113,$BC$62:$BE$223,2,FALSE) -> #NUM! | BX113: =VLOOKUP(BT113,$BC$62:$BE$223,3,FALSE) -> #NUM! | BY113: =IFERROR(VLOOKUP($BC113,BU$62:BW$223,3,FALSE),"") | BZ113: =IFERROR(BY113+CA113-1,"") | CA113: =SUMIF($BU$62:$BU$223,$BC113,$BV$62:$BV$223) -> 0
BC114: 141 | BD114: =HLOOKUP(BC114+1,$CE$60:$LU$61,2,FALSE) -> 1 | BE114: =HLOOKUP(BC114,$CE$60:$LU$61,2,FALSE) -> 1 | BF114: =HLOOKUP(BE114,$CE$53:$LT$55,3,FALSE) -> 0 | BG114: =IF(OR(BD114=1,BE114=1),0,IF(AND(BF113=1,(BE113-BD113)<>1),BF114+1,IF(AND(BF114=1,(BE114-BD114<>1)),0,BF114))) -> 0 | BH114: =IF(BG114=0,"",$BC114) | BI114: =LARGE($BH$62:$BH$223,$BC114) -> #NUM! | BJ114: =IFERROR(IF(BM113=BL114,BJ113,BJ113+1),"") | BK114: =IFERROR(VLOOKUP(BI114,$BC$62:$BG$223,5,FALSE),0) -> 0 | BL114: =VLOOKUP(BI114,$BC$62:$BE$223,2,FALSE) -> #NUM! | BM114: =VLOOKUP(BI114,$BC$62:$BE$223,3,FALSE) -> #NUM! | BN114: =IFERROR(VLOOKUP($BC114,BJ$62:BL$223,3,FALSE),"") | BO114: =IFERROR(BN114+BP114-1,"") | BP114: =SUMIF($BJ$62:$BJ$223,$BC114,$BK$62:$BK$223) -> 0 | BQ114: =HLOOKUP(BE114,$CE$53:$LT$55,2,FALSE) -> 0 | BR114: =IF(OR(BD114=1,BE114=1),0,IF(AND(BQ113=1,(BE113-BD113)<>1),BQ114+1,IF(AND(BQ114=1,(BE114-BD114<>1)),0,BQ114))) -> 0 | BS114: =IF(BR114=0,"",$BC114) | BT114: =LARGE($BS$62:$BS$223,$BC114) -> #NUM! | BU114: =IF(BX113=BW114,BU113,BU113+1) -> #NUM! | BV114: =IFERROR(VLOOKUP(BT114,$BC$62:$BR$223,16,FALSE),0) -> 0 | BW114: =VLOOKUP(BT114,$BC$62:$BE$223,2,FALSE) -> #NUM! | BX114: =VLOOKUP(BT114,$BC$62:$BE$223,3,FALSE) -> #NUM! | BY114: =IFERROR(VLOOKUP($BC114,BU$62:BW$223,3,FALSE),"") | BZ114: =IFERROR(BY114+CA114-1,"") | CA114: =SUMIF($BU$62:$BU$223,$BC114,$BV$62:$BV$223) -> 0
BC115: 142 | BD115: =HLOOKUP(BC115+1,$CE$60:$LU$61,2,FALSE) -> 1 | BE115: =HLOOKUP(BC115,$CE$60:$LU$61,2,FALSE) -> 1 | BF115: =HLOOKUP(BE115,$CE$53:$LT$55,3,FALSE) -> 0 | BG115: =IF(OR(BD115=1,BE115=1),0,IF(AND(BF114=1,(BE114-BD114)<>1),BF115+1,IF(AND(BF115=1,(BE115-BD115<>1)),0,BF115))) -> 0 | BH115: =IF(BG115=0,"",$BC115) | BI115: =LARGE($BH$62:$BH$223,$BC115) -> #NUM! | BJ115: =IFERROR(IF(BM114=BL115,BJ114,BJ114+1),"") | BK115: =IFERROR(VLOOKUP(BI115,$BC$62:$BG$223,5,FALSE),0) -> 0 | BL115: =VLOOKUP(BI115,$BC$62:$BE$223,2,FALSE) -> #NUM! | BM115: =VLOOKUP(BI115,$BC$62:$BE$223,3,FALSE) -> #NUM! | BN115: =IFERROR(VLOOKUP($BC115,BJ$62:BL$223,3,FALSE),"") | BO115: =IFERROR(BN115+BP115-1,"") | BP115: =SUMIF($BJ$62:$BJ$223,$BC115,$BK$62:$BK$223) -> 0 | BQ115: =HLOOKUP(BE115,$CE$53:$LT$55,2,FALSE) -> 0 | BR115: =IF(OR(BD115=1,BE115=1),0,IF(AND(BQ114=1,(BE114-BD114)<>1),BQ115+1,IF(AND(BQ115=1,(BE115-BD115<>1)),0,BQ115))) -> 0 | BS115: =IF(BR115=0,"",$BC115) | BT115: =LARGE($BS$62:$BS$223,$BC115) -> #NUM! | BU115: =IF(BX114=BW115,BU114,BU114+1) -> #NUM! | BV115: =IFERROR(VLOOKUP(BT115,$BC$62:$BR$223,16,FALSE),0) -> 0 | BW115: =VLOOKUP(BT115,$BC$62:$BE$223,2,FALSE) -> #NUM! | BX115: =VLOOKUP(BT115,$BC$62:$BE$223,3,FALSE) -> #NUM! | BY115: =IFERROR(VLOOKUP($BC115,BU$62:BW$223,3,FALSE),"") | BZ115: =IFERROR(BY115+CA115-1,"") | CA115: =SUMIF($BU$62:$BU$223,$BC115,$BV$62:$BV$223) -> 0
BC116: 143 | BD116: =HLOOKUP(BC116+1,$CE$60:$LU$61,2,FALSE) -> 1 | BE116: =HLOOKUP(BC116,$CE$60:$LU$61,2,FALSE) -> 1 | BF116: =HLOOKUP(BE116,$CE$53:$LT$55,3,FALSE) -> 0 | BG116: =IF(OR(BD116=1,BE116=1),0,IF(AND(BF115=1,(BE115-BD115)<>1),BF116+1,IF(AND(BF116=1,(BE116-BD116<>1)),0,BF116))) -> 0 | BH116: =IF(BG116=0,"",$BC116) | BI116: =LARGE($BH$62:$BH$223,$BC116) -> #NUM! | BJ116: =IFERROR(IF(BM115=BL116,BJ115,BJ115+1),"") | BK116: =IFERROR(VLOOKUP(BI116,$BC$62:$BG$223,5,FALSE),0) -> 0 | BL116: =VLOOKUP(BI116,$BC$62:$BE$223,2,FALSE) -> #NUM! | BM116: =VLOOKUP(BI116,$BC$62:$BE$223,3,FALSE) -> #NUM! | BN116: =IFERROR(VLOOKUP($BC116,BJ$62:BL$223,3,FALSE),"") | BO116: =IFERROR(BN116+BP116-1,"") | BP116: =SUMIF($BJ$62:$BJ$223,$BC116,$BK$62:$BK$223) -> 0 | BQ116: =HLOOKUP(BE116,$CE$53:$LT$55,2,FALSE) -> 0 | BR116: =IF(OR(BD116=1,BE116=1),0,IF(AND(BQ115=1,(BE115-BD115)<>1),BQ116+1,IF(AND(BQ116=1,(BE116-BD116<>1)),0,BQ116))) -> 0 | BS116: =IF(BR116=0,"",$BC116) | BT116: =LARGE($BS$62:$BS$223,$BC116) -> #NUM! | BU116: =IF(BX115=BW116,BU115,BU115+1) -> #NUM! | BV116: =IFERROR(VLOOKUP(BT116,$BC$62:$BR$223,16,FALSE),0) -> 0 | BW116: =VLOOKUP(BT116,$BC$62:$BE$223,2,FALSE) -> #NUM! | BX116: =VLOOKUP(BT116,$BC$62:$BE$223,3,FALSE) -> #NUM! | BY116: =IFERROR(VLOOKUP($BC116,BU$62:BW$223,3,FALSE),"") | BZ116: =IFERROR(BY116+CA116-1,"") | CA116: =SUMIF($BU$62:$BU$223,$BC116,$BV$62:$BV$223) -> 0
BC117: 144 | BD117: =HLOOKUP(BC117+1,$CE$60:$LU$61,2,FALSE) -> 1 | BE117: =HLOOKUP(BC117,$CE$60:$LU$61,2,FALSE) -> 1 | BF117: =HLOOKUP(BE117,$CE$53:$LT$55,3,FALSE) -> 0 | BG117: =IF(OR(BD117=1,BE117=1),0,IF(AND(BF116=1,(BE116-BD116)<>1),BF117+1,IF(AND(BF117=1,(BE117-BD117<>1)),0,BF117))) -> 0 | BH117: =IF(BG117=0,"",$BC117) | BI117: =LARGE($BH$62:$BH$223,$BC117) -> #NUM! | BJ117: =IFERROR(IF(BM116=BL117,BJ116,BJ116+1),"") | BK117: =IFERROR(VLOOKUP(BI117,$BC$62:$BG$223,5,FALSE),0) -> 0 | BL117: =VLOOKUP(BI117,$BC$62:$BE$223,2,FALSE) -> #NUM! | BM117: =VLOOKUP(BI117,$BC$62:$BE$223,3,FALSE) -> #NUM! | BN117: =IFERROR(VLOOKUP($BC117,BJ$62:BL$223,3,FALSE),"") | BO117: =IFERROR(BN117+BP117-1,"") | BP117: =SUMIF($BJ$62:$BJ$223,$BC117,$BK$62:$BK$223) -> 0 | BQ117: =HLOOKUP(BE117,$CE$53:$LT$55,2,FALSE) -> 0 | BR117: =IF(OR(BD117=1,BE117=1),0,IF(AND(BQ116=1,(BE116-BD116)<>1),BQ117+1,IF(AND(BQ117=1,(BE117-BD117<>1)),0,BQ117))) -> 0 | BS117: =IF(BR117=0,"",$BC117) | BT117: =LARGE($BS$62:$BS$223,$BC117) -> #NUM! | BU117: =IF(BX116=BW117,BU116,BU116+1) -> #NUM! | BV117: =IFERROR(VLOOKUP(BT117,$BC$62:$BR$223,16,FALSE),0) -> 0 | BW117: =VLOOKUP(BT117,$BC$62:$BE$223,2,FALSE) -> #NUM! | BX117: =VLOOKUP(BT117,$BC$62:$BE$223,3,FALSE) -> #NUM! | BY117: =IFERROR(VLOOKUP($BC117,BU$62:BW$223,3,FALSE),"") | BZ117: =IFERROR(BY117+CA117-1,"") | CA117: =SUMIF($BU$62:$BU$223,$BC117,$BV$62:$BV$223) -> 0
BC118: 145 | BD118: =HLOOKUP(BC118+1,$CE$60:$LU$61,2,FALSE) -> 1 | BE118: =HLOOKUP(BC118,$CE$60:$LU$61,2,FALSE) -> 1 | BF118: =HLOOKUP(BE118,$CE$53:$LT$55,3,FALSE) -> 0 | BG118: =IF(OR(BD118=1,BE118=1),0,IF(AND(BF117=1,(BE117-BD117)<>1),BF118+1,IF(AND(BF118=1,(BE118-BD118<>1)),0,BF118))) -> 0 | BH118: =IF(BG118=0,"",$BC118) | BI118: =LARGE($BH$62:$BH$223,$BC118) -> #NUM! | BJ118: =IFERROR(IF(BM117=BL118,BJ117,BJ117+1),"") | BK118: =IFERROR(VLOOKUP(BI118,$BC$62:$BG$223,5,FALSE),0) -> 0 | BL118: =VLOOKUP(BI118,$BC$62:$BE$223,2,FALSE) -> #NUM! | BM118: =VLOOKUP(BI118,$BC$62:$BE$223,3,FALSE) -> #NUM! | BN118: =IFERROR(VLOOKUP($BC118,BJ$62:BL$223,3,FALSE),"") | BO118: =IFERROR(BN118+BP118-1,"") | BP118: =SUMIF($BJ$62:$BJ$223,$BC118,$BK$62:$BK$223) -> 0 | BQ118: =HLOOKUP(BE118,$CE$53:$LT$55,2,FALSE) -> 0 | BR118: =IF(OR(BD118=1,BE118=1),0,IF(AND(BQ117=1,(BE117-BD117)<>1),BQ118+1,IF(AND(BQ118=1,(BE118-BD118<>1)),0,BQ118))) -> 0 | BS118: =IF(BR118=0,"",$BC118) | BT118: =LARGE($BS$62:$BS$223,$BC118) -> #NUM! | BU118: =IF(BX117=BW118,BU117,BU117+1) -> #NUM! | BV118: =IFERROR(VLOOKUP(BT118,$BC$62:$BR$223,16,FALSE),0) -> 0 | BW118: =VLOOKUP(BT118,$BC$62:$BE$223,2,FALSE) -> #NUM! | BX118: =VLOOKUP(BT118,$BC$62:$BE$223,3,FALSE) -> #NUM! | BY118: =IFERROR(VLOOKUP($BC118,BU$62:BW$223,3,FALSE),"") | BZ118: =IFERROR(BY118+CA118-1,"") | CA118: =SUMIF($BU$62:$BU$223,$BC118,$BV$62:$BV$223) -> 0
... BC223: 250 | BD223: =HLOOKUP(BC223+1,$CE$60:$LU$61,2,FALSE) -> 1 | BE223: =HLOOKUP(BC223,$CE$60:$LU$61,2,FALSE) -> 1 | BF223: =HLOOKUP(BE223,$CE$53:$LT$55,3,FALSE) -> 0 | BG223: =IF(OR(BD223=1,BE223=1),0,IF(AND(BF222=1,(BE222-BD222)<>1),BF223+1,IF(AND(BF223=1,(BE223-BD223<>1)),0,BF223))) -> 0 | BH223: =IF(BG223=0,"",$BC223) | BI223: =LARGE($BH$62:$BH$223,$BC223) -> #NUM! | BJ223: =IFERROR(IF(BM222=BL223,BJ222,BJ222+1),"") | BK223: =IFERROR(VLOOKUP(BI223,$BC$62:$BG$223,5,FALSE),0) -> 0 | BL223: =VLOOKUP(BI223,$BC$62:$BE$223,2,FALSE) -> #NUM! | BM223: =VLOOKUP(BI223,$BC$62:$BE$223,3,FALSE) -> #NUM! | BN223: =IFERROR(VLOOKUP($BC223,BJ$62:BL$223,3,FALSE),"") | BO223: =IFERROR(BN223+BP223-1,"") | BP223: =SUMIF($BJ$62:$BJ$223,$BC223,$BK$62:$BK$223) -> 0 | BQ223: =HLOOKUP(BE223,$CE$53:$LT$55,2,FALSE) -> 0 | BR223: =IF(OR(BD223=1,BE223=1),0,IF(AND(BQ222=1,(BE222-BD222)<>1),BQ223+1,IF(AND(BQ223=1,(BE223-BD223<>1)),0,BQ223))) -> 0 | BS223: =IF(BR223=0,"",$BC223) | BT223: =LARGE($BS$62:$BS$223,$BC223) -> #NUM! | BU223: =IF(BX222=BW223,BU222,BU222+1) -> #NUM! | BV223: =IFERROR(VLOOKUP(BT223,$BC$62:$BR$223,16,FALSE),0) -> 0 | BW223: =VLOOKUP(BT223,$BC$62:$BE$223,2,FALSE) -> #NUM! | BX223: =VLOOKUP(BT223,$BC$62:$BE$223,3,FALSE) -> #NUM! | BY223: =IFERROR(VLOOKUP($BC223,BU$62:BW$223,3,FALSE),"") | BZ223: =IFERROR(BY223+CA223-1,"") | CA223: =SUMIF($BU$62:$BU$223,$BC223,$BV$62:$BV$223) -> 0

Sheet ET_1
A1: SECRETARIA DE MOVILIDAD CONTEMPORÁNEA
A5: CONCURSO DE MÉRITOS SMC-CM-CS-152-2026 - PMTIC
A9: PONDERACIÓN DE PERSONAL | AV9: No eliminar | LV9: celdas ocultas (AC - LA)
AB10: =A11&A13 | AK10: PERIODOS DE EXPERIENCIA Y PUNTAJES
AK11: Mayor o igual (>=) | AL11: =+[1]PERFILES!I13 -> 3 | AM11: =+[1]PERFILES!J13 -> 4 | AN11: =+[1]PERFILES!K13 -> 5 | AO11: =+[1]PERFILES!L13 -> 6 | AP11: =+[1]PERFILES!M13 -> 7 | AQ11: =+[1]PERFILES!N13 -> 8 | AR11: =+[1]PERFILES!O13 -> 9 | AS11: =+[1]PERFILES!P13 -> 10 | ... AU11: =+[1]PERFILES!R13 -> 12
AK12: Menor a (<) | AL12: =+[1]PERFILES!I14 -> 4 | AM12: =+[1]PERFILES!J14 -> 5 | AN12: =+[1]PERFILES!K14 -> 6 | AO12: =+[1]PERFILES!L14 -> 7 | AP12: =+[1]PERFILES!M14 -> 8 | AQ12: =+[1]PERFILES!N14 -> 9 | AR12: =+[1]PERFILES!O14 -> 10 | AS12: =+[1]PERFILES!P14 -> 11 | ... AU12: =+[1]PERFILES!R14 -> 100
AK13: Puntaje asignado | AL13: =+VLOOKUP($A$13,[1]PERFILES!$A$15:$R$24,9,FALSE) -> #N/A | AM13: =+VLOOKUP($A$13,[1]PERFILES!$A$15:$R$24,10,FALSE) -> #N/A | AN13: =+VLOOKUP($A$13,[1]PERFILES!$A$15:$R$24,11,FALSE) -> #N/A | AO13: =+VLOOKUP($A$13,[1]PERFILES!$A$15:$R$24,12,FALSE) -> #N/A | AP13: =+VLOOKUP($A$13,[1]PERFILES!$A$15:$R$24,13,FALSE) -> #N/A | AQ13: =+VLOOKUP($A$13,[1]PERFILES!$A$15:$R$24,14,FALSE) -> #N/A | AR13: =+VLOOKUP($A$13,[1]PERFILES!$A$15:$R$24,15,FALSE) -> #N/A | AS13: =+VLOOKUP($A$13,[1]PERFILES!$A$15:$R$24,16,FALSE) -> #N/A | AT13: =+VLOOKUP($A$13,[1]PERFILES!$A$15:$R$24,17,FALSE) -> #N/A | AU13: =+VLOOKUP($A$13,[1]PERFILES!$A$15:$R$24,18,FALSE) -> #N/A
AK14: Puntaje obtenido | AL14: =+IF(AND($C$111>=AL11,$C$111<AL12),AL13,0) -> 0 | AM14: =+IF(AND($C$111>=AM11,$C$111<AM12),AM13,0) -> 0 | AN14: =+IF(AND($C$111>=AN11,$C$111<AN12),AN13,0) -> 0 | AO14: =+IF(AND($C$111>=AO11,$C$111<AO12),AO13,0) -> 0 | AP14: =+IF(AND($C$111>=AP11,$C$111<AP12),AP13,0) -> 0 | AQ14: =+IF(AND($C$111>=AQ11,$C$111<AQ12),AQ13,0) -> 0 | AR14: =+IF(AND($C$111>=AR11,$C$111<AR12),AR13,0) -> 0 | AS14: =+IF(AND($C$111>=AS11,$C$111<AS12),AS13,0) -> 0 | ... AU14: =+IF(AND($C$111>=AU11,$C$111<AU12),AU13,0) -> 0
A25: HABILITACIÓN DEL PERSONAL MÍNIMO REQUERIDO
A28: INFORMACIÓN PROFESIONAL PROPUESTO
A29: PROPONENTE | D29: =+EP_1!D10 -> Consorcio Consultor PMSS Cundinamarca
A30: PERFIL APLICADO | D30: Especialista en Movilidad y Transporte
A31: NOMBRE | D31: EDINSON ANTONIO TORRES SEGURA
A32: NRO. IDENTIFICACIÓN | D32: 1.049.617.463
A33: FECHA MÁXIMA PRESENTACIÓN OFERTAS | D33: 46155
A34: HABILITACIÓN | D34: HABILITADO
A36: 1. VERIFICACIÓN DILIGENCIAMIENTO FORMATO
A37: FORMATO | D37: ¿CUMPLE? | E37: OBSERVACIONES | I37: OBSERVACIONES
A38: FORMATO 12 – EXPERIENCIA Y FORMACIÓN ACADÉMICA ADICIONAL | D38: CUMPLE
A40: 2. POSGRADO ADICIONAL
A41: VERIFICACIÓN POSGRADO | E41: OBSERVACIONES
A42: TITULO OBTENIDO | B42: Especialista en infraestructura vial
A43: DOCUMENTACIÓN DE ACREDITACIÓN | B43: DIPLOMA | C43: ¿CUMPLE? | D43: CUMPLE
A44: NBC ACREDITADO | B44: INGENIERIA CIVIL Y AFINES | C44: ¿CUMPLE? | D44: CUMPLE
A45: ¿FORMACIÓN ADQUIRIDA EN EL EXTERIOR? | B45: NO | C45: ¿CUMPLE CON ACREDTIACIÓN REQUERIDA EN CASO DE HABERSE ADQUIRIDO LA FORMACIÓN EN EL EXTERIOR? | D45: =IF(B45="SI",IF(AND(B47="SI",B48="SI"),"CUMPLE","NO CUMPLE"),"NO APLICA") -> NO APLICA
A46: DOCUMENTACIÓN DE ACREDITACIÓN PARA FORMACIÓN ADQUIRIDA EN EL EXTERIOR | B46: NO APLICA
A47: ¿LA FORMACIÓN SE ENCUENTRA HOMOLOGADA/CONVALIDADA? | B47: NO APLICA
A48: ¿EL DOCUMENTO SE ENCUENTRA DEBIDAMENTE APOSTILLADO O LEGALIZADO? | B48: NO APLICA
A52: 4. VERIFICACIÓN EXPERIENCIA ESPECÍFICA (AÑOS) | E52: OBSERVACIONES
A53: REQUERIDA | B53: =IF(D30="Director/a del proyecto",2, IF(D30="Especialista en Movilidad y Transporte",1, "")) -> 1 | CE53: =CE61 -> 44840 | CF53: =CF61 -> 44350 | CG53: =CG61 -> 0 | CH53: =CH61 -> 1 | CI53: =CI61 -> 1 | CJ53: =CJ61 -> 1 | CK53: =CK61 -> 1 | CL53: =CL61 -> 1 | ... LT53: =LT61 -> 1
A54: OBTENIDA | B54: =SUM(AI62:AI96)/365 -> 1.3452055 | CC54: =SUM($CE$54:$LT$54) -> 491 | CD54: Específica | CE54: {=MAX(IF($BB$62:$BB$96=1,CE62:CE96))} -> 491 | CF54: {=MAX(IF($BB$62:$BB$96=1,CF62:CF96))} -> 0 | CG54: {=MAX(IF($BB$62:$BB$96=1,CG62:CG96))} -> 0 | CH54: {=MAX(IF($BB$62:$BB$96=1,CH62:CH96))} -> 0 | CI54: {=MAX(IF($BB$62:$BB$96=1,CI62:CI96))} -> 0 | CJ54: {=MAX(IF($BB$62:$BB$96=1,CJ62:CJ96))} -> 0 | CK54: {=MAX(IF($BB$62:$BB$96=1,CK62:CK96))} -> 0 | CL54: {=MAX(IF($BB$62:$BB$96=1,CL62:CL96))} -> 0 | ... LT54: {=MAX(IF($BB$62:$BB$96=1,LT62:LT96))} -> 0
A55: ¿CUMPLE? | B55: =IF(B54>B53,"CUMPLE","NO CUMPLE") -> CUMPLE | CC55: =SUM($CE$55:$LT$55) -> 491 | CD55: General | CE55: =MAX(CE62:CE96) -> 491 | CF55: =MAX(CF62:CF96) -> 0 | CG55: =MAX(CG62:CG96) -> 0 | CH55: =MAX(CH62:CH96) -> 0 | CI55: =MAX(CI62:CI96) -> 0 | CJ55: =MAX(CJ62:CJ96) -> 0 | CK55: =MAX(CK62:CK96) -> 0 | CL55: =MAX(CL62:CL96) -> 0 | ... LT55: =MAX(LT62:LT96) -> 0
CE56: =COLUMN()-COLUMN($CE$61)+1 -> 1 | CF56: =COLUMN()-COLUMN($CE$61)+1 -> 2 | CG56: =COLUMN()-COLUMN($CE$61)+1 -> 3 | CH56: =COLUMN()-COLUMN($CE$61)+1 -> 4 | CI56: =COLUMN()-COLUMN($CE$61)+1 -> 5 | CJ56: =COLUMN()-COLUMN($CE$61)+1 -> 6 | CK56: =COLUMN()-COLUMN($CE$61)+1 -> 7 | CL56: =COLUMN()-COLUMN($CE$61)+1 -> 8 | ... LT56: =COLUMN()-COLUMN($CE$61)+1 -> 250
CD57: Orden con duplicados | CE57: =SMALL($AW$62:$AX$96,CE60) -> 1 | CF57: =SMALL($AW$62:$AX$96,CF60) -> 2 | CG57: =SMALL($AW$62:$AX$96,CG60) -> 3 | CH57: =SMALL($AW$62:$AX$96,CH60) -> 3 | CI57: =SMALL($AW$62:$AX$96,CI60) -> 3 | CJ57: =SMALL($AW$62:$AX$96,CJ60) -> 3 | CK57: =SMALL($AW$62:$AX$96,CK60) -> 3 | CL57: =SMALL($AW$62:$AX$96,CL60) -> 3 | ... LT57: =SMALL($AW$62:$AX$96,LT60) -> #NUM!
CD58: Orden sin duplicados | CE58: =IFERROR(IF(COUNTIF($CE57:CE57,CE57)=1,CE57,""),"") -> 1 | CF58: =IFERROR(IF(COUNTIF($CE57:CF57,CF57)=1,CF57,""),"") -> 2 | CG58: =IFERROR(IF(COUNTIF($CE57:CG57,CG57)=1,CG57,""),"") -> 3 | CH58: =IFERROR(IF(COUNTIF($CE57:CH57,CH57)=1,CH57,""),"") | CI58: =IFERROR(IF(COUNTIF($CE57:CI57,CI57)=1,CI57,""),"") | CJ58: =IFERROR(IF(COUNTIF($CE57:CJ57,CJ57)=1,CJ57,""),"") | CK58: =IFERROR(IF(COUNTIF($CE57:CK57,CK57)=1,CK57,""),"") | CL58: =IFERROR(IF(COUNTIF($CE57:CL57,CL57)=1,CL57,""),"") | ... LT58: =IFERROR(IF(COUNTIF($CE57:LT57,LT57)=1,LT57,""),"")
AD59: RELACIÓN DE LOS PERIODOS CONTABILIZADOS EN LA EXPERIENCIA SIN TRASLAPOS | CD59: Orden único | CE59: =SMALL($CE$58:$LT$58,CE60) -> 1 | CF59: =SMALL($CE$58:$LT$58,CF60) -> 2 | CG59: =SMALL($CE$58:$LT$58,CG60) -> 3 | CH59: =SMALL($CE$58:$LT$58,CH60) -> #NUM! | CI59: =SMALL($CE$58:$LT$58,CI60) -> #NUM! | CJ59: =SMALL($CE$58:$LT$58,CJ60) -> #NUM! | CK59: =SMALL($CE$58:$LT$58,CK60) -> #NUM! | CL59: =SMALL($CE$58:$LT$58,CL60) -> #NUM! | ... LT59: =SMALL($CE$58:$LT$58,LT60) -> #NUM!
A60: CONSECUTIVO | B60: ENTIDAD | C60: EXPERIENCIA (dd/mm/aaaa) | E60: FECHA AJUSTADA | G60: APLICA ESPECÍFICA | H60: VALIDACIÓN FECHAS | I60: ¿SE CUMPLE QUE LA EXPERIENCIA ADICIONAL ES DIFERENTE A LA REQUERIDA COMO HABILITANTE? | J60: ¿LA CERTIFICACIÓN LABORAL CUMPLE CON LA INFORMACIÓN MÍNIMA REQUERIDA? | R60: EL PROPONENTE O ALGUNO DE SUS MIEMBROS CERTIFICA LA EXPERIENCIA DEL PROFESIONAL | U60: UNA PERSONA JURÍDICA CERTIFICA LA EXPERIENCIA DE SU REPRESENTANTE LEGAL | W60: DOCUMENTACIÓN DE ACREDITACIÓN DE EXPERIENCIA ADQUIRIDA EN EL EXTERIOR | Z60: RESULTADO | AA60: OBSERVACIONES | AD60: GENERAL | AG60: ESPECÍFICA | BF60: GRAL | BQ60: ESP | CE60: 1 | CF60: 2 | CG60: 3 | CH60: 4 | CI60: 5 | CJ60: 6 | CK60: 7 | CL60: 8 | CM60: 9 | CN60: 10 | CO60: 11 | CP60: 12 | CQ60: 13 | CR60: 14 | CS60: 15 | CT60: 16 | CU60: 17 | CV60: 18 | CW60: 19 | CX60: 20 | CY60: 21 | CZ60: 22 | DA60: 23 | DB60: 24 | DC60: 25 | DD60: 26 | DE60: 27 | DF60: 28 | DG60: 29 | DH60: 30 | DI60: 31 | DJ60: 32 | DK60: 33 | DL60: 34 | DM60: 35 | DN60: 36 | DO60: 37 | DP60: 38 | DQ60: 39 | DR60: 40 | DS60: 41 | DT60: 42 | DU60: 43 | DV60: 44 | DW60: 45 | DX60: 46 | DY60: 47 | DZ60: 48 | EA60: 49 | EB60: 50 | EC60: 51 | ED60: 52 | EE60: 53 | EF60: 54 | EG60: 55 | EH60: 56 | EI60: 57 | EJ60: 58 | EK60: 59 | EL60: 60 | EM60: 61 | EN60: 62 | EO60: 63 | EP60: 64 | EQ60: 65 | ER60: 66 | ES60: 67 | ET60: 68 | EU60: 69 | EV60: 70 | EW60: 71 | EX60: 72 | EY60: 73 | EZ60: 74 | FA60: 75 | FB60: 76 | FC60: 77 | FD60: 78 | FE60: 79 | FF60: 80 | FG60: 81 | FH60: 82 | FI60: 83 | FJ60: 84 | FK60: 85 | FL60: 86 | FM60: 87 | FN60: 88 | FO60: 89 | FP60: 90 | FQ60: 91 | FR60: 92 | FS60: 93 | FT60: 94 | FU60: 95 | FV60: 96 | FW60: 97 | FX60: 98 | FY60: 99 | FZ60: 100 | GA60: 101 | GB60: 102 | GC60: 103 | GD60: 104 | GE60: 105 | GF60: 106 | GG60: 107 | GH60: 108 | GI60: 109 | GJ60: 110 | GK60: 111 | GL60: 112 | GM60: 113 | GN60: 114 | GO60: 115 | GP60: 116 | GQ60: 117 | GR60: 118 | GS60: 119 | GT60: 120 | GU60: 121 | GV60: 122 | GW60: 123 | GX60: 124 | GY60: 125 | GZ60: 126 | HA60: 127 | HB60: 128 | HC60: 129 | HD60: 130 | HE60: 131 | HF60: 132 | HG60: 133 | HH60: 134 | HI60: 135 | HJ60: 136 | HK60: 137 | HL60: 138 | HM60: 139 | HN60: 140 | HO60: 141 | HP60: 142 | HQ60: 143 | HR60: 144 | HS60: 145 | HT60: 146 | HU60: 147 | HV60: 148 | HW60: 149 | HX60: 150 | HY60: 151 | HZ60: 152 | IA60: 153 | IB60: 154 | IC60: 155 | ID60: 156 | IE60: 157 | IF60: 158 | IG60: 159 | IH60: 160 | II60: 161 | IJ60: 162 | IK60: 163 | IL60: 164 | IM60: 165 | IN60: 166 | IO60: 167 | IP60: 168 | IQ60: 169 | IR60: 170 | IS60: 171 | IT60: 172 | IU60: 173 | IV60: 174 | IW60: 175 | IX60: 176 | IY60: 177 | IZ60: 178 | JA60: 179 | JB60: 180 | JC60: 181 | JD60: 182 | JE60: 183 | JF60: 184 | JG60: 185 | JH60: 186 | JI60: 187 | JJ60: 188 | JK60: 189 | JL60: 190 | JM60: 191 | JN60: 192 | JO60: 193 | JP60: 194 | JQ60: 195 | JR60: 196 | JS60: 197 | JT60: 198 | JU60: 199 | JV60: 200 | JW60: 201 | JX60: 202 | JY60: 203 | JZ60: 204 | KA60: 205 | KB60: 206 | KC60: 207 | KD60: 208 | KE60: 209 | KF60: 210 | KG60: 211 | KH60: 212 | KI60: 213 | KJ60: 214 | KK60: 215 | KL60: 216 | KM60: 217 | KN60: 218 | KO60: 219 | KP60: 220 | KQ60: 221 | KR60: 222 | KS60: 223 | KT60: 224 | KU60: 225 | KV60: 226 | KW60: 227 | KX60: 228 | KY60: 229 | KZ60: 230 | LA60: 231 | LB60: 232 | LC60: 233 | LD60: 234 | LE60: 235 | LF60: 236 | LG60: 237 | LH60: 238 | LI60: 239 | LJ60: 240 | LK60: 241 | LL60: 242 | LM60: 243 | LN60: 244 | LO60: 245 | LP60: 246 | LQ60: 247 | LR60: 248 | LS60: 249 | LT60: 250 | LU60: 251
C61: INI | D61: FIN | E61: INI | F61: FIN | J61: NOMBRE O RAZÓN SOCIAL DEL CONTRATANTE | K61: NOMBRE O RAZÓN SOCIAL DEL CONTRATISTA | L61: NÚMERO DEL CONTRATO (SI TIENE) | M61: OBJETO DEL CONTRATO Y/O CARGO DESEMPEÑADO | N61: ACTIVIDADES Y/O OBLIGACIONES DEL CONTRATO | O61: NOMBRE, CARGO Y FIRMA DE QUIEN EXPIDE LA CERTIFICACIÓN | P61: FECHA DE EXPEDICIÓN DE LA CERTIFICACIÓN | Q61: ¿CUMPLE? | R61: ¿PRESENTA COPIA DE LA CERTIFICACIÓN DE LA ENTIDAD CONTRATANTE? | S61: ¿QUE DOCUMENTO SOPORTE ADICIONAL PRESENTA SEGÚN LITERAL N? | T61: ¿CUMPLE? | U61: ¿QUE DOCUMENTO SOPORTE PRESENTA DOCUMENTO SEGÚN LITERAL O? | V61: ¿CUMPLE? | W61: ¿EL DOCUMENTO SE ENCUENTRA DEBIDAMENTE APOSTILLADO? | X61: ¿LA TRADUCCIÓN SE ENCUENTRA DEBIDAMENTE REALIZADA? EN CASO DE NO REQUERIRSE APOSTILLAJE | Y61: ¿CUMPLE? | AD61: INI | AE61: FIN | AF61: DIAS | AG61: INI | AH61: FIN | AI61: DIAS | AW61: Pos Global FI | AX61: Pos Global FF | AY61: Num | AZ61: Fecha Ini | BA61: Fecha Fin | BB61: Específica | BC61: Consec | BD61: Fecha I Mat | BE61: Fecha F Mat | BN61: Fecha Ini | BO61: Fecha Fin | BP61: Días | BY61: Fecha Ini | BZ61: Fecha Fin | CA61: Días | CE61: =IFERROR(VLOOKUP(CE59,$AW$62:$AZ$96,4,FALSE),IFERROR(VLOOKUP(CE59,$AX$62:$BA$96,4,FALSE),DATE(1900,1,1))) -> 44840 | CF61: =IFERROR(VLOOKUP(CF59,$AW$62:$AZ$96,4,FALSE),IFERROR(VLOOKUP(CF59,$AX$62:$BA$96,4,FALSE),DATE(1900,1,1))) -> 44350 | CG61: =IFERROR(VLOOKUP(CG59,$AW$62:$AZ$96,4,FALSE),IFERROR(VLOOKUP(CG59,$AX$62:$BA$96,4,FALSE),DATE(1900,1,1))) -> 0 | CH61: =IFERROR(VLOOKUP(CH59,$AW$62:$AZ$96,4,FALSE),IFERROR(VLOOKUP(CH59,$AX$62:$BA$96,4,FALSE),DATE(1900,1,1))) -> 1 | CI61: =IFERROR(VLOOKUP(CI59,$AW$62:$AZ$96,4,FALSE),IFERROR(VLOOKUP(CI59,$AX$62:$BA$96,4,FALSE),DATE(1900,1,1))) -> 1 | CJ61: =IFERROR(VLOOKUP(CJ59,$AW$62:$AZ$96,4,FALSE),IFERROR(VLOOKUP(CJ59,$AX$62:$BA$96,4,FALSE),DATE(1900,1,1))) -> 1 | CK61: =IFERROR(VLOOKUP(CK59,$AW$62:$AZ$96,4,FALSE),IFERROR(VLOOKUP(CK59,$AX$62:$BA$96,4,FALSE),DATE(1900,1,1))) -> 1 | CL61: =IFERROR(VLOOKUP(CL59,$AW$62:$AZ$96,4,FALSE),IFERROR(VLOOKUP(CL59,$AX$62:$BA$96,4,FALSE),DATE(1900,1,1))) -> 1 | ... LU61: =IFERROR(VLOOKUP(LU59,$AW$62:$AZ$96,4,FALSE),IFERROR(VLOOKUP(LU59,$AX$62:$BA$96,4,FALSE),DATE(1900,1,1))) -> 1
A62: 1 | B62: INTERVALO INGENIERÍA S.A.S | C62: 44350 | D62: 44840 | E62: =IF(F62="","",IF(C62="","",IF(C62<$H$17,$H$17,IF(C62>$D$33,"",C62)))) -> 44350 | F62: =IF(D62<$H$17,"",IF(C62>$D$33,"",IF(D62>$D$33,$D$33,D62))) -> 44840 | G62: X | H62: =IF(OR(C62=0,D62=0),"Falta(n) Fecha(s)",IF(C62>D62,"Invertidas",IF(C62=D62,"INI = FIN",IF(OR(C62<$H$17,D62<$H$17),IF(D62<$H$17,"Fecha Fin < Fecha TP o G","Ajuste por fecha TP o G"),IF(OR(C62>$D$33,D62>$D$33),"Ajuste por fecha HV","Ok"))))) -> Ok | I62: CUMPLE | J62: SI | K62: SI | L62: NO APLICA | M62: SI | N62: SI | O62: SI | P62: SI | Q62: {=IF(SUM(COUNTIF(J62:P62,{"SI","NO APLICA"}))=0, "", IF(SUM(COUNTIF(J62:P62,{"SI","NO APLICA"}))=COLUMNS(J62:P62), "CUMPLE", "NO CUMPLE"))} -> CUMPLE | R62: NO APLICA | S62: NO APLICA | T62: NO APLICA | U62: NO APLICA | V62: NO APLICA | W62: NO APLICA | X62: NO APLICA | Y62: =IF(AND(W62="",X62=""), "", IF(AND(OR(W62="SI",W62="NO APLICA"), OR(X62="SI",X62="NO APLICA")), "CUMPLE", "NO CUMPLE")) -> CUMPLE | Z62: =IF(AND(I62="",Q62="",T62="",V62="",Y62=""),"", IF(COUNTIF(I62:Y62,"NO CUMPLE")>0,"NO CUMPLE","CUMPLE")) -> CUMPLE | AD62: =BN62 -> 44350 | AE62: =BO62 -> 44840 | AF62: =BP62 -> 491 | AG62: =BY62 -> 44350 | AH62: =BZ62 -> 44840 | AI62: =CA62 -> 491 | AW62: =IFERROR(_xlfn.RANK.EQ(AZ62,$AZ$62:$BA$96),"") -> 2 | AX62: =IFERROR(_xlfn.RANK.EQ(BA62,$AZ$62:$BA$96),"") -> 1 | AY62: 1 | AZ62: =IF(E62="","",E62) -> 44350 | BA62: =IF(F62="","",IF(F62=E62,F62+0.0001,F62)) -> 44840 | BB62: =IF(G62="","",IF(UPPER(G62)="X",1,0)) -> 1 | BC62: 1 | BD62: =HLOOKUP(BC62+1,$CE$60:$LU$61,2,FALSE) -> 44350 | BE62: =HLOOKUP(BC62,$CE$60:$LU$61,2,FALSE) -> 44840 | BF62: =HLOOKUP(BE62,$CE$53:$LT$55,3,FALSE) -> 491 | BG62: =BF62 -> 491 | BH62: =IF(BG62=0,"",$BC62) -> 1 | BI62: =LARGE($BH$62:$BH$223,$BC62) -> 1 | BJ62: =IFERROR(IF(BM61=BL62,BJ61,BJ61+1),"") -> 1 | BK62: =IFERROR(VLOOKUP(BI62,$BC$62:$BG$223,5,FALSE),0) -> 491 | BL62: =VLOOKUP(BI62,$BC$62:$BE$223,2,FALSE) -> 44350 | BM62: =VLOOKUP(BI62,$BC$62:$BE$223,3,FALSE) -> 44840 | BN62: =IFERROR(VLOOKUP($BC62,BJ$62:BL$223,3,FALSE),"") -> 44350 | BO62: =IFERROR(BN62+BP62-1,"") -> 44840 | BP62: =SUMIF($BJ$62:$BJ$223,$BC62,$BK$62:$BK$223) -> 491 | BQ62: =HLOOKUP(BE62,$CE$53:$LT$55,2,FALSE) -> 491 | BR62: =BQ62 -> 491 | BS62: =IF(BR62=0,"",$BC62) -> 1 | BT62: =LARGE($BS$62:$BS$223,$BC62) -> 1 | BU62: =IF(BX61=BW62,BU61,BU61+1) -> 1 | BV62: =IFERROR(VLOOKUP(BT62,$BC$62:$BR$223,16,FALSE),0) -> 491 | BW62: =VLOOKUP(BT62,$BC$62:$BE$223,2,FALSE) -> 44350 | BX62: =VLOOKUP(BT62,$BC$62:$BE$223,3,FALSE) -> 44840 | BY62: =IFERROR(VLOOKUP($BC62,BU$62:BW$223,3,FALSE),"") -> 44350 | BZ62: =IFERROR(BY62+CA62-1,"") -> 44840 | CA62: =SUMIF($BU$62:$BU$223,$BC62,$BV$62:$BV$223) -> 491 | CE62: =IF(OR($AZ62="",$BA62=""),0,MAX(MIN(CE$61,$BA62)-MAX(CF$61,$AZ62)+1,0)) -> 491 | CF62: =IF(OR($AZ62="",$BA62=""),0,MAX(MIN(CF$61-1,$BA62)-MAX(CG$61,$AZ62)+1,0)) -> 0 | CG62: =IF(OR($AZ62="",$BA62=""),0,MAX(MIN(CG$61-1,$BA62)-MAX(CH$61,$AZ62)+1,0)) -> 0 | CH62: =IF(OR($AZ62="",$BA62=""),0,MAX(MIN(CH$61-1,$BA62)-MAX(CI$61,$AZ62)+1,0)) -> 0 | CI62: =IF(OR($AZ62="",$BA62=""),0,MAX(MIN(CI$61-1,$BA62)-MAX(CJ$61,$AZ62)+1,0)) -> 0 | CJ62: =IF(OR($AZ62="",$BA62=""),0,MAX(MIN(CJ$61-1,$BA62)-MAX(CK$61,$AZ62)+1,0)) -> 0 | CK62: =IF(OR($AZ62="",$BA62=""),0,MAX(MIN(CK$61-1,$BA62)-MAX(CL$61,$AZ62)+1,0)) -> 0 | CL62: =IF(OR($AZ62="",$BA62=""),0,MAX(MIN(CL$61-1,$BA62)-MAX(CM$61,$AZ62)+1,0)) -> 0 | CM62: =IF(OR($AZ62="",$BA62=""),0,MAX(MIN(CM$61-1,$BA62)-MAX(CN$61,$AZ62)+1,0)) -> 0 | ... LT62: =IF(OR($AZ62="",$BA62=""),0,MAX(MIN(LT$61-1,$BA62)-MAX(LU$61,$AZ62)+1,0)) -> 0
A63: 2 | E63: =IF(F63="","",IF(C63="","",IF(C63<$H$17,$H$17,IF(C63>$D$33,"",C63)))) | F63: =IF(D63<$H$17,"",IF(C63>$D$33,"",IF(D63>$D$33,$D$33,D63))) -> 0 | G63: X | H63: =IF(OR(C63=0,D63=0),"Falta(n) Fecha(s)",IF(C63>D63,"Invertidas",IF(C63=D63,"INI = FIN",IF(OR(C63<$H$17,D63<$H$17),IF(D63<$H$17,"Fecha Fin < Fecha TP o G","Ajuste por fecha TP o G"),IF(OR(C63>$D$33,D63>$D$33),"Ajuste por fecha HV","Ok"))))) -> Falta(n) Fecha(s) | Q63: {=IF(SUM(COUNTIF(J63:P63,{"SI","NO APLICA"}))=0, "", IF(SUM(COUNTIF(J63:P63,{"SI","NO APLICA"}))=COLUMNS(J63:P63), "CUMPLE", "NO CUMPLE"))} | Y63: =IF(AND(W63="",X63=""), "", IF(AND(OR(W63="SI",W63="NO APLICA"), OR(X63="SI",X63="NO APLICA")), "CUMPLE", "NO CUMPLE")) | Z63: =IF(AND(I63="",Q63="",T63="",V63="",Y63=""),"", IF(COUNTIF(I63:Y63,"NO CUMPLE")>0,"NO CUMPLE","CUMPLE")) | AD63: =BN63 | AE63: =BO63 | AF63: =BP63 -> 0 | AG63: =BY63 | AH63: =BZ63 | AI63: =CA63 -> 0 | AW63: =IFERROR(_xlfn.RANK.EQ(AZ63,$AZ$62:$BA$96),"") | AX63: =IFERROR(_xlfn.RANK.EQ(BA63,$AZ$62:$BA$96),"") -> 3 | AY63: 2 | AZ63: =IF(E63="","",E63) | BA63: =IF(F63="","",IF(F63=E63,F63+0.0001,F63)) -> 0 | BB63: =IF(G63="","",IF(UPPER(G63)="X",1,0)) -> 1 | BC63: 2 | BD63: =HLOOKUP(BC63+1,$CE$60:$LU$61,2,FALSE) -> 0 | BE63: =HLOOKUP(BC63,$CE$60:$LU$61,2,FALSE) -> 44350 | BF63: =HLOOKUP(BE63,$CE$53:$LT$55,3,FALSE) -> 0 | BG63: =IF(OR(BD63=1,BE63=1),0,IF(AND(BF62=1,(BE62-BD62)<>1),BF63+1,IF(AND(BF63=1,(BE63-BD63<>1)),0,BF63))) -> 0 | BH63: =IF(BG63=0,"",$BC63) | BI63: =LARGE($BH$62:$BH$223,$BC63) -> #NUM! | BJ63: =IFERROR(IF(BM62=BL63,BJ62,BJ62+1),"") | BK63: =IFERROR(VLOOKUP(BI63,$BC$62:$BG$223,5,FALSE),0) -> 0 | BL63: =VLOOKUP(BI63,$BC$62:$BE$223,2,FALSE) -> #NUM! | BM63: =VLOOKUP(BI63,$BC$62:$BE$223,3,FALSE) -> #NUM! | BN63: =IFERROR(VLOOKUP($BC63,BJ$62:BL$223,3,FALSE),"") | BO63: =IFERROR(BN63+BP63-1,"") | BP63: =SUMIF($BJ$62:$BJ$223,$BC63,$BK$62:$BK$223) -> 0 | BQ63: =HLOOKUP(BE63,$CE$53:$LT$55,2,FALSE) -> 0 | BR63: =IF(OR(BD63=1,BE63=1),0,IF(AND(BQ62=1,(BE62-BD62)<>1),BQ63+1,IF(AND(BQ63=1,(BE63-BD63<>1)),0,BQ63))) -> 0 | BS63: =IF(BR63=0,"",$BC63) | BT63: =LARGE($BS$62:$BS$223,$BC63) -> #NUM! | BU63: =IF(BX62=BW63,BU62,BU62+1) -> #NUM! | BV63: =IFERROR(VLOOKUP(BT63,$BC$62:$BR$223,16,FALSE),0) -> 0 | BW63: =VLOOKUP(BT63,$BC$62:$BE$223,2,FALSE) -> #NUM! | BX63: =VLOOKUP(BT63,$BC$62:$BE$223,3,FALSE) -> #NUM! | BY63: =IFERROR(VLOOKUP($BC63,BU$62:BW$223,3,FALSE),"") | BZ63: =IFERROR(BY63+CA63-1,"") | CA63: =SUMIF($BU$62:$BU$223,$BC63,$BV$62:$BV$223) -> 0 | CE63: =IF(OR($AZ63="",$BA63=""),0,MAX(MIN(CE$61,$BA63)-MAX(CF$61,$AZ63)+1,0)) -> 0 | CF63: =IF(OR($AZ63="",$BA63=""),0,MAX(MIN(CF$61-1,$BA63)-MAX(CG$61,$AZ63)+1,0)) -> 0 | CG63: =IF(OR($AZ63="",$BA63=""),0,MAX(MIN(CG$61-1,$BA63)-MAX(CH$61,$AZ63)+1,0)) -> 0 | CH63: =IF(OR($AZ63="",$BA63=""),0,MAX(MIN(CH$61-1,$BA63)-MAX(CI$61,$AZ63)+1,0)) -> 0 | CI63: =IF(OR($AZ63="",$BA63=""),0,MAX(MIN(CI$61-1,$BA63)-MAX(CJ$61,$AZ63)+1,0)) -> 0 | CJ63: =IF(OR($AZ63="",$BA63=""),0,MAX(MIN(CJ$61-1,$BA63)-MAX(CK$61,$AZ63)+1,0)) -> 0 | CK63: =IF(OR($AZ63="",$BA63=""),0,MAX(MIN(CK$61-1,$BA63)-MAX(CL$61,$AZ63)+1,0)) -> 0 | CL63: =IF(OR($AZ63="",$BA63=""),0,MAX(MIN(CL$61-1,$BA63)-MAX(CM$61,$AZ63)+1,0)) -> 0 | CM63: =IF(OR($AZ63="",$BA63=""),0,MAX(MIN(CM$61-1,$BA63)-MAX(CN$61,$AZ63)+1,0)) -> 0 | ... LT63: =IF(OR($AZ63="",$BA63=""),0,MAX(MIN(LT$61-1,$BA63)-MAX(LU$61,$AZ63)+1,0)) -> 0
A64: 3 | E64: =IF(F64="","",IF(C64="","",IF(C64<$H$17,$H$17,IF(C64>$D$33,"",C64)))) | F64: =IF(D64<$H$17,"",IF(C64>$D$33,"",IF(D64>$D$33,$D$33,D64))) -> 0 | G64: X | H64: =IF(OR(C64=0,D64=0),"Falta(n) Fecha(s)",IF(C64>D64,"Invertidas",IF(C64=D64,"INI = FIN",IF(OR(C64<$H$17,D64<$H$17),IF(D64<$H$17,"Fecha Fin < Fecha TP o G","Ajuste por fecha TP o G"),IF(OR(C64>$D$33,D64>$D$33),"Ajuste por fecha HV","Ok"))))) -> Falta(n) Fecha(s) | Q64: {=IF(SUM(COUNTIF(J64:P64,{"SI","NO APLICA"}))=0, "", IF(SUM(COUNTIF(J64:P64,{"SI","NO APLICA"}))=COLUMNS(J64:P64), "CUMPLE", "NO CUMPLE"))} | Y64: =IF(AND(W64="",X64=""), "", IF(AND(OR(W64="SI",W64="NO APLICA"), OR(X64="SI",X64="NO APLICA")), "CUMPLE", "NO CUMPLE")) | Z64: =IF(AND(I64="",Q64="",T64="",V64="",Y64=""),"", IF(COUNTIF(I64:Y64,"NO CUMPLE")>0,"NO CUMPLE","CUMPLE")) | AD64: =BN64 | AE64: =BO64 | AF64: =BP64 -> 0 | AG64: =BY64 | AH64: =BZ64 | AI64: =CA64 -> 0 | AW64: =IFERROR(_xlfn.RANK.EQ(AZ64,$AZ$62:$BA$96),"") | AX64: =IFERROR(_xlfn.RANK.EQ(BA64,$AZ$62:$BA$96),"") -> 3 | AY64: 3 | AZ64: =IF(E64="","",E64) | BA64: =IF(F64="","",IF(F64=E64,F64+0.0001,F64)) -> 0 | BB64: =IF(G64="","",IF(UPPER(G64)="X",1,0)) -> 1 | BC64: 3 | BD64: =HLOOKUP(BC64+1,$CE$60:$LU$61,2,FALSE) -> 1 | BE64: =HLOOKUP(BC64,$CE$60:$LU$61,2,FALSE) -> 0 | BF64: =HLOOKUP(BE64,$CE$53:$LT$55,3,FALSE) -> 0 | BG64: =IF(OR(BD64=1,BE64=1),0,IF(AND(BF63=1,(BE63-BD63)<>1),BF64+1,IF(AND(BF64=1,(BE64-BD64<>1)),0,BF64))) -> 0 | BH64: =IF(BG64=0,"",$BC64) | BI64: =LARGE($BH$62:$BH$223,$BC64) -> #NUM! | BJ64: =IFERROR(IF(BM63=BL64,BJ63,BJ63+1),"") | BK64: =IFERROR(VLOOKUP(BI64,$BC$62:$BG$223,5,FALSE),0) -> 0 | BL64: =VLOOKUP(BI64,$BC$62:$BE$223,2,FALSE) -> #NUM! | BM64: =VLOOKUP(BI64,$BC$62:$BE$223,3,FALSE) -> #NUM! | BN64: =IFERROR(VLOOKUP($BC64,BJ$62:BL$223,3,FALSE),"") | BO64: =IFERROR(BN64+BP64-1,"") | BP64: =SUMIF($BJ$62:$BJ$223,$BC64,$BK$62:$BK$223) -> 0 | BQ64: =HLOOKUP(BE64,$CE$53:$LT$55,2,FALSE) -> 0 | BR64: =IF(OR(BD64=1,BE64=1),0,IF(AND(BQ63=1,(BE63-BD63)<>1),BQ64+1,IF(AND(BQ64=1,(BE64-BD64<>1)),0,BQ64))) -> 0 | BS64: =IF(BR64=0,"",$BC64) | BT64: =LARGE($BS$62:$BS$223,$BC64) -> #NUM! | BU64: =IF(BX63=BW64,BU63,BU63+1) -> #NUM! | BV64: =IFERROR(VLOOKUP(BT64,$BC$62:$BR$223,16,FALSE),0) -> 0 | BW64: =VLOOKUP(BT64,$BC$62:$BE$223,2,FALSE) -> #NUM! | BX64: =VLOOKUP(BT64,$BC$62:$BE$223,3,FALSE) -> #NUM! | BY64: =IFERROR(VLOOKUP($BC64,BU$62:BW$223,3,FALSE),"") | BZ64: =IFERROR(BY64+CA64-1,"") | CA64: =SUMIF($BU$62:$BU$223,$BC64,$BV$62:$BV$223) -> 0 | CE64: =IF(OR($AZ64="",$BA64=""),0,MAX(MIN(CE$61,$BA64)-MAX(CF$61,$AZ64)+1,0)) -> 0 | CF64: =IF(OR($AZ64="",$BA64=""),0,MAX(MIN(CF$61-1,$BA64)-MAX(CG$61,$AZ64)+1,0)) -> 0 | CG64: =IF(OR($AZ64="",$BA64=""),0,MAX(MIN(CG$61-1,$BA64)-MAX(CH$61,$AZ64)+1,0)) -> 0 | CH64: =IF(OR($AZ64="",$BA64=""),0,MAX(MIN(CH$61-1,$BA64)-MAX(CI$61,$AZ64)+1,0)) -> 0 | CI64: =IF(OR($AZ64="",$BA64=""),0,MAX(MIN(CI$61-1,$BA64)-MAX(CJ$61,$AZ64)+1,0)) -> 0 | CJ64: =IF(OR($AZ64="",$BA64=""),0,MAX(MIN(CJ$61-1,$BA64)-MAX(CK$61,$AZ64)+1,0)) -> 0 | CK64: =IF(OR($AZ64="",$BA64=""),0,MAX(MIN(CK$61-1,$BA64)-MAX(CL$61,$AZ64)+1,0)) -> 0 | CL64: =IF(OR($AZ64="",$BA64=""),0,MAX(MIN(CL$61-1,$BA64)-MAX(CM$61,$AZ64)+1,0)) -> 0 | CM64: =IF(OR($AZ64="",$BA64=""),0,MAX(MIN(CM$61-1,$BA64)-MAX(CN$61,$AZ64)+1,0)) -> 0 | ... LT64: =IF(OR($AZ64="",$BA64=""),0,MAX(MIN(LT$61-1,$BA64)-MAX(LU$61,$AZ64)+1,0)) -> 0
A65: 4 | E65: =IF(F65="","",IF(C65="","",IF(C65<$H$17,$H$17,IF(C65>$D$33,"",C65)))) | F65: =IF(D65<$H$17,"",IF(C65>$D$33,"",IF(D65>$D$33,$D$33,D65))) -> 0 | H65: =IF(OR(C65=0,D65=0),"Falta(n) Fecha(s)",IF(C65>D65,"Invertidas",IF(C65=D65,"INI = FIN",IF(OR(C65<$H$17,D65<$H$17),IF(D65<$H$17,"Fecha Fin < Fecha TP o G","Ajuste por fecha TP o G"),IF(OR(C65>$D$33,D65>$D$33),"Ajuste por fecha HV","Ok"))))) -> Falta(n) Fecha(s) | Q65: {=IF(SUM(COUNTIF(J65:P65,{"SI","NO APLICA"}))=0, "", IF(SUM(COUNTIF(J65:P65,{"SI","NO APLICA"}))=COLUMNS(J65:P65), "CUMPLE", "NO CUMPLE"))} | Y65: =IF(AND(W65="",X65=""), "", IF(AND(OR(W65="SI",W65="NO APLICA"), OR(X65="SI",X65="NO APLICA")), "CUMPLE", "NO CUMPLE")) | Z65: =IF(AND(I65="",Q65="",T65="",V65="",Y65=""),"", IF(COUNTIF(I65:Y65,"NO CUMPLE")>0,"NO CUMPLE","CUMPLE")) | AD65: =BN65 | AE65: =BO65 | AF65: =BP65 -> 0 | AG65: =BY65 | AH65: =BZ65 | AI65: =CA65 -> 0 | AW65: =IFERROR(_xlfn.RANK.EQ(AZ65,$AZ$62:$BA$96),"") | AX65: =IFERROR(_xlfn.RANK.EQ(BA65,$AZ$62:$BA$96),"") -> 3 | AY65: 4 | AZ65: =IF(E65="","",E65) | BA65: =IF(F65="","",IF(F65=E65,F65+0.0001,F65)) -> 0 | BB65: =IF(G65="","",IF(UPPER(G65)="X",1,0)) | BC65: 4 | BD65: =HLOOKUP(BC65+1,$CE$60:$LU$61,2,FALSE) -> 1 | BE65: =HLOOKUP(BC65,$CE$60:$LU$61,2,FALSE) -> 1 | BF65: =HLOOKUP(BE65,$CE$53:$LT$55,3,FALSE) -> 0 | BG65: =IF(OR(BD65=1,BE65=1),0,IF(AND(BF64=1,(BE64-BD64)<>1),BF65+1,IF(AND(BF65=1,(BE65-BD65<>1)),0,BF65))) -> 0 | BH65: =IF(BG65=0,"",$BC65) | BI65: =LARGE($BH$62:$BH$223,$BC65) -> #NUM! | BJ65: =IFERROR(IF(BM64=BL65,BJ64,BJ64+1),"") | BK65: =IFERROR(VLOOKUP(BI65,$BC$62:$BG$223,5,FALSE),0) -> 0 | BL65: =VLOOKUP(BI65,$BC$62:$BE$223,2,FALSE) -> #NUM! | BM65: =VLOOKUP(BI65,$BC$62:$BE$223,3,FALSE) -> #NUM! | BN65: =IFERROR(VLOOKUP($BC65,BJ$62:BL$223,3,FALSE),"") | BO65: =IFERROR(BN65+BP65-1,"") | BP65: =SUMIF($BJ$62:$BJ$223,$BC65,$BK$62:$BK$223) -> 0 | BQ65: =HLOOKUP(BE65,$CE$53:$LT$55,2,FALSE) -> 0 | BR65: =IF(OR(BD65=1,BE65=1),0,IF(AND(BQ64=1,(BE64-BD64)<>1),BQ65+1,IF(AND(BQ65=1,(BE65-BD65<>1)),0,BQ65))) -> 0 | BS65: =IF(BR65=0,"",$BC65) | BT65: =LARGE($BS$62:$BS$223,$BC65) -> #NUM! | BU65: =IF(BX64=BW65,BU64,BU64+1) -> #NUM! | BV65: =IFERROR(VLOOKUP(BT65,$BC$62:$BR$223,16,FALSE),0) -> 0 | BW65: =VLOOKUP(BT65,$BC$62:$BE$223,2,FALSE) -> #NUM! | BX65: =VLOOKUP(BT65,$BC$62:$BE$223,3,FALSE) -> #NUM! | BY65: =IFERROR(VLOOKUP($BC65,BU$62:BW$223,3,FALSE),"") | BZ65: =IFERROR(BY65+CA65-1,"") | CA65: =SUMIF($BU$62:$BU$223,$BC65,$BV$62:$BV$223) -> 0 | CE65: =IF(OR($AZ65="",$BA65=""),0,MAX(MIN(CE$61,$BA65)-MAX(CF$61,$AZ65)+1,0)) -> 0 | CF65: =IF(OR($AZ65="",$BA65=""),0,MAX(MIN(CF$61-1,$BA65)-MAX(CG$61,$AZ65)+1,0)) -> 0 | CG65: =IF(OR($AZ65="",$BA65=""),0,MAX(MIN(CG$61-1,$BA65)-MAX(CH$61,$AZ65)+1,0)) -> 0 | CH65: =IF(OR($AZ65="",$BA65=""),0,MAX(MIN(CH$61-1,$BA65)-MAX(CI$61,$AZ65)+1,0)) -> 0 | CI65: =IF(OR($AZ65="",$BA65=""),0,MAX(MIN(CI$61-1,$BA65)-MAX(CJ$61,$AZ65)+1,0)) -> 0 | CJ65: =IF(OR($AZ65="",$BA65=""),0,MAX(MIN(CJ$61-1,$BA65)-MAX(CK$61,$AZ65)+1,0)) -> 0 | CK65: =IF(OR($AZ65="",$BA65=""),0,MAX(MIN(CK$61-1,$BA65)-MAX(CL$61,$AZ65)+1,0)) -> 0 | CL65: =IF(OR($AZ65="",$BA65=""),0,MAX(MIN(CL$61-1,$BA65)-MAX(CM$61,$AZ65)+1,0)) -> 0 | CM65: =IF(OR($AZ65="",$BA65=""),0,MAX(MIN(CM$61-1,$BA65)-MAX(CN$61,$AZ65)+1,0)) -> 0 | ... LT65: =IF(OR($AZ65="",$BA65=""),0,MAX(MIN(LT$61-1,$BA65)-MAX(LU$61,$AZ65)+1,0)) -> 0
A66: 5 | E66: =IF(F66="","",IF(C66="","",IF(C66<$H$17,$H$17,IF(C66>$D$33,"",C66)))) | F66: =IF(D66<$H$17,"",IF(C66>$D$33,"",IF(D66>$D$33,$D$33,D66))) -> 0 | H66: =IF(OR(C66=0,D66=0),"Falta(n) Fecha(s)",IF(C66>D66,"Invertidas",IF(C66=D66,"INI = FIN",IF(OR(C66<$H$17,D66<$H$17),IF(D66<$H$17,"Fecha Fin < Fecha TP o G","Ajuste por fecha TP o G"),IF(OR(C66>$D$33,D66>$D$33),"Ajuste por fecha HV","Ok"))))) -> Falta(n) Fecha(s) | Q66: {=IF(SUM(COUNTIF(J66:P66,{"SI","NO APLICA"}))=0, "", IF(SUM(COUNTIF(J66:P66,{"SI","NO APLICA"}))=COLUMNS(J66:P66), "CUMPLE", "NO CUMPLE"))} | Y66: =IF(AND(W66="",X66=""), "", IF(AND(OR(W66="SI",W66="NO APLICA"), OR(X66="SI",X66="NO APLICA")), "CUMPLE", "NO CUMPLE")) | Z66: =IF(AND(I66="",Q66="",T66="",V66="",Y66=""),"", IF(COUNTIF(I66:Y66,"NO CUMPLE")>0,"NO CUMPLE","CUMPLE")) | AD66: =BN66 | AE66: =BO66 | AF66: =BP66 -> 0 | AG66: =BY66 | AH66: =BZ66 | AI66: =CA66 -> 0 | AW66: =IFERROR(_xlfn.RANK.EQ(AZ66,$AZ$62:$BA$96),"") | AX66: =IFERROR(_xlfn.RANK.EQ(BA66,$AZ$62:$BA$96),"") -> 3 | AY66: 5 | AZ66: =IF(E66="","",E66) | BA66: =IF(F66="","",IF(F66=E66,F66+0.0001,F66)) -> 0 | BB66: =IF(G66="","",IF(UPPER(G66)="X",1,0)) | BC66: 5 | BD66: =HLOOKUP(BC66+1,$CE$60:$LU$61,2,FALSE) -> 1 | BE66: =HLOOKUP(BC66,$CE$60:$LU$61,2,FALSE) -> 1 | BF66: =HLOOKUP(BE66,$CE$53:$LT$55,3,FALSE) -> 0 | BG66: =IF(OR(BD66=1,BE66=1),0,IF(AND(BF65=1,(BE65-BD65)<>1),BF66+1,IF(AND(BF66=1,(BE66-BD66<>1)),0,BF66))) -> 0 | BH66: =IF(BG66=0,"",$BC66) | BI66: =LARGE($BH$62:$BH$223,$BC66) -> #NUM! | BJ66: =IFERROR(IF(BM65=BL66,BJ65,BJ65+1),"") | BK66: =IFERROR(VLOOKUP(BI66,$BC$62:$BG$223,5,FALSE),0) -> 0 | BL66: =VLOOKUP(BI66,$BC$62:$BE$223,2,FALSE) -> #NUM! | BM66: =VLOOKUP(BI66,$BC$62:$BE$223,3,FALSE) -> #NUM! | BN66: =IFERROR(VLOOKUP($BC66,BJ$62:BL$223,3,FALSE),"") | BO66: =IFERROR(BN66+BP66-1,"") | BP66: =SUMIF($BJ$62:$BJ$223,$BC66,$BK$62:$BK$223) -> 0 | BQ66: =HLOOKUP(BE66,$CE$53:$LT$55,2,FALSE) -> 0 | BR66: =IF(OR(BD66=1,BE66=1),0,IF(AND(BQ65=1,(BE65-BD65)<>1),BQ66+1,IF(AND(BQ66=1,(BE66-BD66<>1)),0,BQ66))) -> 0 | BS66: =IF(BR66=0,"",$BC66) | BT66: =LARGE($BS$62:$BS$223,$BC66) -> #NUM! | BU66: =IF(BX65=BW66,BU65,BU65+1) -> #NUM! | BV66: =IFERROR(VLOOKUP(BT66,$BC$62:$BR$223,16,FALSE),0) -> 0 | BW66: =VLOOKUP(BT66,$BC$62:$BE$223,2,FALSE) -> #NUM! | BX66: =VLOOKUP(BT66,$BC$62:$BE$223,3,FALSE) -> #NUM! | BY66: =IFERROR(VLOOKUP($BC66,BU$62:BW$223,3,FALSE),"") | BZ66: =IFERROR(BY66+CA66-1,"") | CA66: =SUMIF($BU$62:$BU$223,$BC66,$BV$62:$BV$223) -> 0 | CE66: =IF(OR($AZ66="",$BA66=""),0,MAX(MIN(CE$61,$BA66)-MAX(CF$61,$AZ66)+1,0)) -> 0 | CF66: =IF(OR($AZ66="",$BA66=""),0,MAX(MIN(CF$61-1,$BA66)-MAX(CG$61,$AZ66)+1,0)) -> 0 | CG66: =IF(OR($AZ66="",$BA66=""),0,MAX(MIN(CG$61-1,$BA66)-MAX(CH$61,$AZ66)+1,0)) -> 0 | CH66: =IF(OR($AZ66="",$BA66=""),0,MAX(MIN(CH$61-1,$BA66)-MAX(CI$61,$AZ66)+1,0)) -> 0 | CI66: =IF(OR($AZ66="",$BA66=""),0,MAX(MIN(CI$61-1,$BA66)-MAX(CJ$61,$AZ66)+1,0)) -> 0 | CJ66: =IF(OR($AZ66="",$BA66=""),0,MAX(MIN(CJ$61-1,$BA66)-MAX(CK$61,$AZ66)+1,0)) -> 0 | CK66: =IF(OR($AZ66="",$BA66=""),0,MAX(MIN(CK$61-1,$BA66)-MAX(CL$61,$AZ66)+1,0)) -> 0 | CL66: =IF(OR($AZ66="",$BA66=""),0,MAX(MIN(CL$61-1,$BA66)-MAX(CM$61,$AZ66)+1,0)) -> 0 | CM66: =IF(OR($AZ66="",$BA66=""),0,MAX(MIN(CM$61-1,$BA66)-MAX(CN$61,$AZ66)+1,0)) -> 0 | ... LT66: =IF(OR($AZ66="",$BA66=""),0,MAX(MIN(LT$61-1,$BA66)-MAX(LU$61,$AZ66)+1,0)) -> 0
A67: 6 | E67: =IF(F67="","",IF(C67="","",IF(C67<$H$17,$H$17,IF(C67>$D$33,"",C67)))) | F67: =IF(D67<$H$17,"",IF(C67>$D$33,"",IF(D67>$D$33,$D$33,D67))) -> 0 | H67: =IF(OR(C67=0,D67=0),"Falta(n) Fecha(s)",IF(C67>D67,"Invertidas",IF(C67=D67,"INI = FIN",IF(OR(C67<$H$17,D67<$H$17),IF(D67<$H$17,"Fecha Fin < Fecha TP o G","Ajuste por fecha TP o G"),IF(OR(C67>$D$33,D67>$D$33),"Ajuste por fecha HV","Ok"))))) -> Falta(n) Fecha(s) | Q67: {=IF(SUM(COUNTIF(J67:P67,{"SI","NO APLICA"}))=0, "", IF(SUM(COUNTIF(J67:P67,{"SI","NO APLICA"}))=COLUMNS(J67:P67), "CUMPLE", "NO CUMPLE"))} | Y67: =IF(AND(W67="",X67=""), "", IF(AND(OR(W67="SI",W67="NO APLICA"), OR(X67="SI",X67="NO APLICA")), "CUMPLE", "NO CUMPLE")) | Z67: =IF(AND(I67="",Q67="",T67="",V67="",Y67=""),"", IF(COUNTIF(I67:Y67,"NO CUMPLE")>0,"NO CUMPLE","CUMPLE")) | AD67: =BN67 | AE67: =BO67 | AF67: =BP67 -> 0 | AG67: =BY67 | AH67: =BZ67 | AI67: =CA67 -> 0 | AW67: =IFERROR(_xlfn.RANK.EQ(AZ67,$AZ$62:$BA$96),"") | AX67: =IFERROR(_xlfn.RANK.EQ(BA67,$AZ$62:$BA$96),"") -> 3 | AY67: 6 | AZ67: =IF(E67="","",E67) | BA67: =IF(F67="","",IF(F67=E67,F67+0.0001,F67)) -> 0 | BB67: =IF(G67="","",IF(UPPER(G67)="X",1,0)) | BC67: 6 | BD67: =HLOOKUP(BC67+1,$CE$60:$LU$61,2,FALSE) -> 1 | BE67: =HLOOKUP(BC67,$CE$60:$LU$61,2,FALSE) -> 1 | BF67: =HLOOKUP(BE67,$CE$53:$LT$55,3,FALSE) -> 0 | BG67: =IF(OR(BD67=1,BE67=1),0,IF(AND(BF66=1,(BE66-BD66)<>1),BF67+1,IF(AND(BF67=1,(BE67-BD67<>1)),0,BF67))) -> 0 | BH67: =IF(BG67=0,"",$BC67) | BI67: =LARGE($BH$62:$BH$223,$BC67) -> #NUM! | BJ67: =IFERROR(IF(BM66=BL67,BJ66,BJ66+1),"") | BK67: =IFERROR(VLOOKUP(BI67,$BC$62:$BG$223,5,FALSE),0) -> 0 | BL67: =VLOOKUP(BI67,$BC$62:$BE$223,2,FALSE) -> #NUM! | BM67: =VLOOKUP(BI67,$BC$62:$BE$223,3,FALSE) -> #NUM! | BN67: =IFERROR(VLOOKUP($BC67,BJ$62:BL$223,3,FALSE),"") | BO67: =IFERROR(BN67+BP67-1,"") | BP67: =SUMIF($BJ$62:$BJ$223,$BC67,$BK$62:$BK$223) -> 0 | BQ67: =HLOOKUP(BE67,$CE$53:$LT$55,2,FALSE) -> 0 | BR67: =IF(OR(BD67=1,BE67=1),0,IF(AND(BQ66=1,(BE66-BD66)<>1),BQ67+1,IF(AND(BQ67=1,(BE67-BD67<>1)),0,BQ67))) -> 0 | BS67: =IF(BR67=0,"",$BC67) | BT67: =LARGE($BS$62:$BS$223,$BC67) -> #NUM! | BU67: =IF(BX66=BW67,BU66,BU66+1) -> #NUM! | BV67: =IFERROR(VLOOKUP(BT67,$BC$62:$BR$223,16,FALSE),0) -> 0 | BW67: =VLOOKUP(BT67,$BC$62:$BE$223,2,FALSE) -> #NUM! | BX67: =VLOOKUP(BT67,$BC$62:$BE$223,3,FALSE) -> #NUM! | BY67: =IFERROR(VLOOKUP($BC67,BU$62:BW$223,3,FALSE),"") | BZ67: =IFERROR(BY67+CA67-1,"") | CA67: =SUMIF($BU$62:$BU$223,$BC67,$BV$62:$BV$223) -> 0 | CE67: =IF(OR($AZ67="",$BA67=""),0,MAX(MIN(CE$61,$BA67)-MAX(CF$61,$AZ67)+1,0)) -> 0 | CF67: =IF(OR($AZ67="",$BA67=""),0,MAX(MIN(CF$61-1,$BA67)-MAX(CG$61,$AZ67)+1,0)) -> 0 | CG67: =IF(OR($AZ67="",$BA67=""),0,MAX(MIN(CG$61-1,$BA67)-MAX(CH$61,$AZ67)+1,0)) -> 0 | CH67: =IF(OR($AZ67="",$BA67=""),0,MAX(MIN(CH$61-1,$BA67)-MAX(CI$61,$AZ67)+1,0)) -> 0 | CI67: =IF(OR($AZ67="",$BA67=""),0,MAX(MIN(CI$61-1,$BA67)-MAX(CJ$61,$AZ67)+1,0)) -> 0 | CJ67: =IF(OR($AZ67="",$BA67=""),0,MAX(MIN(CJ$61-1,$BA67)-MAX(CK$61,$AZ67)+1,0)) -> 0 | CK67: =IF(OR($AZ67="",$BA67=""),0,MAX(MIN(CK$61-1,$BA67)-MAX(CL$61,$AZ67)+1,0)) -> 0 | CL67: =IF(OR($AZ67="",$BA67=""),0,MAX(MIN(CL$61-1,$BA67)-MAX(CM$61,$AZ67)+1,0)) -> 0 | CM67: =IF(OR($AZ67="",$BA67=""),0,MAX(MIN(CM$61-1,$BA67)-MAX(CN$61,$AZ67)+1,0)) -> 0 | ... LT67: =IF(OR($AZ67="",$BA67=""),0,MAX(MIN(LT$61-1,$BA67)-MAX(LU$61,$AZ67)+1,0)) -> 0
A68: 7 | E68: =IF(F68="","",IF(C68="","",IF(C68<$H$17,$H$17,IF(C68>$D$33,"",C68)))) | F68: =IF(D68<$H$17,"",IF(C68>$D$33,"",IF(D68>$D$33,$D$33,D68))) -> 0 | H68: =IF(OR(C68=0,D68=0),"Falta(n) Fecha(s)",IF(C68>D68,"Invertidas",IF(C68=D68,"INI = FIN",IF(OR(C68<$H$17,D68<$H$17),IF(D68<$H$17,"Fecha Fin < Fecha TP o G","Ajuste por fecha TP o G"),IF(OR(C68>$D$33,D68>$D$33),"Ajuste por fecha HV","Ok"))))) -> Falta(n) Fecha(s) | Q68: {=IF(SUM(COUNTIF(J68:P68,{"SI","NO APLICA"}))=0, "", IF(SUM(COUNTIF(J68:P68,{"SI","NO APLICA"}))=COLUMNS(J68:P68), "CUMPLE", "NO CUMPLE"))} | Y68: =IF(AND(W68="",X68=""), "", IF(AND(OR(W68="SI",W68="NO APLICA"), OR(X68="SI",X68="NO APLICA")), "CUMPLE", "NO CUMPLE")) | Z68: =IF(AND(I68="",Q68="",T68="",V68="",Y68=""),"", IF(COUNTIF(I68:Y68,"NO CUMPLE")>0,"NO CUMPLE","CUMPLE")) | AD68: =BN68 | AE68: =BO68 | AF68: =BP68 -> 0 | AG68: =BY68 | AH68: =BZ68 | AI68: =CA68 -> 0 | AW68: =IFERROR(_xlfn.RANK.EQ(AZ68,$AZ$62:$BA$96),"") | AX68: =IFERROR(_xlfn.RANK.EQ(BA68,$AZ$62:$BA$96),"") -> 3 | AY68: 7 | AZ68: =IF(E68="","",E68) | BA68: =IF(F68="","",IF(F68=E68,F68+0.0001,F68)) -> 0 | BB68: =IF(G68="","",IF(UPPER(G68)="X",1,0)) | BC68: 7 | BD68: =HLOOKUP(BC68+1,$CE$60:$LU$61,2,FALSE) -> 1 | BE68: =HLOOKUP(BC68,$CE$60:$LU$61,2,FALSE) -> 1 | BF68: =HLOOKUP(BE68,$CE$53:$LT$55,3,FALSE) -> 0 | BG68: =IF(OR(BD68=1,BE68=1),0,IF(AND(BF67=1,(BE67-BD67)<>1),BF68+1,IF(AND(BF68=1,(BE68-BD68<>1)),0,BF68))) -> 0 | BH68: =IF(BG68=0,"",$BC68) | BI68: =LARGE($BH$62:$BH$223,$BC68) -> #NUM! | BJ68: =IFERROR(IF(BM67=BL68,BJ67,BJ67+1),"") | BK68: =IFERROR(VLOOKUP(BI68,$BC$62:$BG$223,5,FALSE),0) -> 0 | BL68: =VLOOKUP(BI68,$BC$62:$BE$223,2,FALSE) -> #NUM! | BM68: =VLOOKUP(BI68,$BC$62:$BE$223,3,FALSE) -> #NUM! | BN68: =IFERROR(VLOOKUP($BC68,BJ$62:BL$223,3,FALSE),"") | BO68: =IFERROR(BN68+BP68-1,"") | BP68: =SUMIF($BJ$62:$BJ$223,$BC68,$BK$62:$BK$223) -> 0 | BQ68: =HLOOKUP(BE68,$CE$53:$LT$55,2,FALSE) -> 0 | BR68: =IF(OR(BD68=1,BE68=1),0,IF(AND(BQ67=1,(BE67-BD67)<>1),BQ68+1,IF(AND(BQ68=1,(BE68-BD68<>1)),0,BQ68))) -> 0 | BS68: =IF(BR68=0,"",$BC68) | BT68: =LARGE($BS$62:$BS$223,$BC68) -> #NUM! | BU68: =IF(BX67=BW68,BU67,BU67+1) -> #NUM! | BV68: =IFERROR(VLOOKUP(BT68,$BC$62:$BR$223,16,FALSE),0) -> 0 | BW68: =VLOOKUP(BT68,$BC$62:$BE$223,2,FALSE) -> #NUM! | BX68: =VLOOKUP(BT68,$BC$62:$BE$223,3,FALSE) -> #NUM! | BY68: =IFERROR(VLOOKUP($BC68,BU$62:BW$223,3,FALSE),"") | BZ68: =IFERROR(BY68+CA68-1,"") | CA68: =SUMIF($BU$62:$BU$223,$BC68,$BV$62:$BV$223) -> 0 | CE68: =IF(OR($AZ68="",$BA68=""),0,MAX(MIN(CE$61,$BA68)-MAX(CF$61,$AZ68)+1,0)) -> 0 | CF68: =IF(OR($AZ68="",$BA68=""),0,MAX(MIN(CF$61-1,$BA68)-MAX(CG$61,$AZ68)+1,0)) -> 0 | CG68: =IF(OR($AZ68="",$BA68=""),0,MAX(MIN(CG$61-1,$BA68)-MAX(CH$61,$AZ68)+1,0)) -> 0 | CH68: =IF(OR($AZ68="",$BA68=""),0,MAX(MIN(CH$61-1,$BA68)-MAX(CI$61,$AZ68)+1,0)) -> 0 | CI68: =IF(OR($AZ68="",$BA68=""),0,MAX(MIN(CI$61-1,$BA68)-MAX(CJ$61,$AZ68)+1,0)) -> 0 | CJ68: =IF(OR($AZ68="",$BA68=""),0,MAX(MIN(CJ$61-1,$BA68)-MAX(CK$61,$AZ68)+1,0)) -> 0 | CK68: =IF(OR($AZ68="",$BA68=""),0,MAX(MIN(CK$61-1,$BA68)-MAX(CL$61,$AZ68)+1,0)) -> 0 | CL68: =IF(OR($AZ68="",$BA68=""),0,MAX(MIN(CL$61-1,$BA68)-MAX(CM$61,$AZ68)+1,0)) -> 0 | CM68: =IF(OR($AZ68="",$BA68=""),0,MAX(MIN(CM$61-1,$BA68)-MAX(CN$61,$AZ68)+1,0)) -> 0 | ... LT68: =IF(OR($AZ68="",$BA68=""),0,MAX(MIN(LT$61-1,$BA68)-MAX(LU$61,$AZ68)+1,0)) -> 0
A69: 8 | E69: =IF(F69="","",IF(C69="","",IF(C69<$H$17,$H$17,IF(C69>$D$33,"",C69)))) | F69: =IF(D69<$H$17,"",IF(C69>$D$33,"",IF(D69>$D$33,$D$33,D69))) -> 0 | H69: =IF(OR(C69=0,D69=0),"Falta(n) Fecha(s)",IF(C69>D69,"Invertidas",IF(C69=D69,"INI = FIN",IF(OR(C69<$H$17,D69<$H$17),IF(D69<$H$17,"Fecha Fin < Fecha TP o G","Ajuste por fecha TP o G"),IF(OR(C69>$D$33,D69>$D$33),"Ajuste por fecha HV","Ok"))))) -> Falta(n) Fecha(s) | Q69: {=IF(SUM(COUNTIF(J69:P69,{"SI","NO APLICA"}))=0, "", IF(SUM(COUNTIF(J69:P69,{"SI","NO APLICA"}))=COLUMNS(J69:P69), "CUMPLE", "NO CUMPLE"))} | Y69: =IF(AND(W69="",X69=""), "", IF(AND(OR(W69="SI",W69="NO APLICA"), OR(X69="SI",X69="NO APLICA")), "CUMPLE", "NO CUMPLE")) | Z69: =IF(AND(I69="",Q69="",T69="",V69="",Y69=""),"", IF(COUNTIF(I69:Y69,"NO CUMPLE")>0,"NO CUMPLE","CUMPLE")) | AD69: =BN69 | AE69: =BO69 | AF69: =BP69 -> 0 | AG69: =BY69 | AH69: =BZ69 | AI69: =CA69 -> 0 | AW69: =IFERROR(_xlfn.RANK.EQ(AZ69,$AZ$62:$BA$96),"") | AX69: =IFERROR(_xlfn.RANK.EQ(BA69,$AZ$62:$BA$96),"") -> 3 | AY69: 8 | AZ69: =IF(E69="","",E69) | BA69: =IF(F69="","",IF(F69=E69,F69+0.0001,F69)) -> 0 | BB69: =IF(G69="","",IF(UPPER(G69)="X",1,0)) | BC69: 8 | BD69: =HLOOKUP(BC69+1,$CE$60:$LU$61,2,FALSE) -> 1 | BE69: =HLOOKUP(BC69,$CE$60:$LU$61,2,FALSE) -> 1 | BF69: =HLOOKUP(BE69,$CE$53:$LT$55,3,FALSE) -> 0 | BG69: =IF(OR(BD69=1,BE69=1),0,IF(AND(BF68=1,(BE68-BD68)<>1),BF69+1,IF(AND(BF69=1,(BE69-BD69<>1)),0,BF69))) -> 0 | BH69: =IF(BG69=0,"",$BC69) | BI69: =LARGE($BH$62:$BH$223,$BC69) -> #NUM! | BJ69: =IFERROR(IF(BM68=BL69,BJ68,BJ68+1),"") | BK69: =IFERROR(VLOOKUP(BI69,$BC$62:$BG$223,5,FALSE),0) -> 0 | BL69: =VLOOKUP(BI69,$BC$62:$BE$223,2,FALSE) -> #NUM! | BM69: =VLOOKUP(BI69,$BC$62:$BE$223,3,FALSE) -> #NUM! | BN69: =IFERROR(VLOOKUP($BC69,BJ$62:BL$223,3,FALSE),"") | BO69: =IFERROR(BN69+BP69-1,"") | BP69: =SUMIF($BJ$62:$BJ$223,$BC69,$BK$62:$BK$223) -> 0 | BQ69: =HLOOKUP(BE69,$CE$53:$LT$55,2,FALSE) -> 0 | BR69: =IF(OR(BD69=1,BE69=1),0,IF(AND(BQ68=1,(BE68-BD68)<>1),BQ69+1,IF(AND(BQ69=1,(BE69-BD69<>1)),0,BQ69))) -> 0 | BS69: =IF(BR69=0,"",$BC69) | BT69: =LARGE($BS$62:$BS$223,$BC69) -> #NUM! | BU69: =IF(BX68=BW69,BU68,BU68+1) -> #NUM! | BV69: =IFERROR(VLOOKUP(BT69,$BC$62:$BR$223,16,FALSE),0) -> 0 | BW69: =VLOOKUP(BT69,$BC$62:$BE$223,2,FALSE) -> #NUM! | BX69: =VLOOKUP(BT69,$BC$62:$BE$223,3,FALSE) -> #NUM! | BY69: =IFERROR(VLOOKUP($BC69,BU$62:BW$223,3,FALSE),"") | BZ69: =IFERROR(BY69+CA69-1,"") | CA69: =SUMIF($BU$62:$BU$223,$BC69,$BV$62:$BV$223) -> 0 | CE69: =IF(OR($AZ69="",$BA69=""),0,MAX(MIN(CE$61,$BA69)-MAX(CF$61,$AZ69)+1,0)) -> 0 | CF69: =IF(OR($AZ69="",$BA69=""),0,MAX(MIN(CF$61-1,$BA69)-MAX(CG$61,$AZ69)+1,0)) -> 0 | CG69: =IF(OR($AZ69="",$BA69=""),0,MAX(MIN(CG$61-1,$BA69)-MAX(CH$61,$AZ69)+1,0)) -> 0 | CH69: =IF(OR($AZ69="",$BA69=""),0,MAX(MIN(CH$61-1,$BA69)-MAX(CI$61,$AZ69)+1,0)) -> 0 | CI69: =IF(OR($AZ69="",$BA69=""),0,MAX(MIN(CI$61-1,$BA69)-MAX(CJ$61,$AZ69)+1,0)) -> 0 | CJ69: =IF(OR($AZ69="",$BA69=""),0,MAX(MIN(CJ$61-1,$BA69)-MAX(CK$61,$AZ69)+1,0)) -> 0 | CK69: =IF(OR($AZ69="",$BA69=""),0,MAX(MIN(CK$61-1,$BA69)-MAX(CL$61,$AZ69)+1,0)) -> 0 | CL69: =IF(OR($AZ69="",$BA69=""),0,MAX(MIN(CL$61-1,$BA69)-MAX(CM$61,$AZ69)+1,0)) -> 0 | CM69: =IF(OR($AZ69="",$BA69=""),0,MAX(MIN(CM$61-1,$BA69)-MAX(CN$61,$AZ69)+1,0)) -> 0 | ... LT69: =IF(OR($AZ69="",$BA69=""),0,MAX(MIN(LT$61-1,$BA69)-MAX(LU$61,$AZ69)+1,0)) -> 0
A70: 9 | E70: =IF(F70="","",IF(C70="","",IF(C70<$H$17,$H$17,IF(C70>$D$33,"",C70)))) | F70: =IF(D70<$H$17,"",IF(C70>$D$33,"",IF(D70>$D$33,$D$33,D70))) -> 0 | H70: =IF(OR(C70=0,D70=0),"Falta(n) Fecha(s)",IF(C70>D70,"Invertidas",IF(C70=D70,"INI = FIN",IF(OR(C70<$H$17,D70<$H$17),IF(D70<$H$17,"Fecha Fin < Fecha TP o G","Ajuste por fecha TP o G"),IF(OR(C70>$D$33,D70>$D$33),"Ajuste por fecha HV","Ok"))))) -> Falta(n) Fecha(s) | Q70: {=IF(SUM(COUNTIF(J70:P70,{"SI","NO APLICA"}))=0, "", IF(SUM(COUNTIF(J70:P70,{"SI","NO APLICA"}))=COLUMNS(J70:P70), "CUMPLE", "NO CUMPLE"))} | Y70: =IF(AND(W70="",X70=""), "", IF(AND(OR(W70="SI",W70="NO APLICA"), OR(X70="SI",X70="NO APLICA")), "CUMPLE", "NO CUMPLE")) | Z70: =IF(AND(I70="",Q70="",T70="",V70="",Y70=""),"", IF(COUNTIF(I70:Y70,"NO CUMPLE")>0,"NO CUMPLE","CUMPLE")) | AD70: =BN70 | AE70: =BO70 | AF70: =BP70 -> 0 | AG70: =BY70 | AH70: =BZ70 | AI70: =CA70 -> 0 | AW70: =IFERROR(_xlfn.RANK.EQ(AZ70,$AZ$62:$BA$96),"") | AX70: =IFERROR(_xlfn.RANK.EQ(BA70,$AZ$62:$BA$96),"") -> 3 | AY70: 9 | AZ70: =IF(E70="","",E70) | BA70: =IF(F70="","",IF(F70=E70,F70+0.0001,F70)) -> 0 | BB70: =IF(G70="","",IF(UPPER(G70)="X",1,0)) | BC70: 9 | BD70: =HLOOKUP(BC70+1,$CE$60:$LU$61,2,FALSE) -> 1 | BE70: =HLOOKUP(BC70,$CE$60:$LU$61,2,FALSE) -> 1 | BF70: =HLOOKUP(BE70,$CE$53:$LT$55,3,FALSE) -> 0 | BG70: =IF(OR(BD70=1,BE70=1),0,IF(AND(BF69=1,(BE69-BD69)<>1),BF70+1,IF(AND(BF70=1,(BE70-BD70<>1)),0,BF70))) -> 0 | BH70: =IF(BG70=0,"",$BC70) | BI70: =LARGE($BH$62:$BH$223,$BC70) -> #NUM! | BJ70: =IFERROR(IF(BM69=BL70,BJ69,BJ69+1),"") | BK70: =IFERROR(VLOOKUP(BI70,$BC$62:$BG$223,5,FALSE),0) -> 0 | BL70: =VLOOKUP(BI70,$BC$62:$BE$223,2,FALSE) -> #NUM! | BM70: =VLOOKUP(BI70,$BC$62:$BE$223,3,FALSE) -> #NUM! | BN70: =IFERROR(VLOOKUP($BC70,BJ$62:BL$223,3,FALSE),"") | BO70: =IFERROR(BN70+BP70-1,"") | BP70: =SUMIF($BJ$62:$BJ$223,$BC70,$BK$62:$BK$223) -> 0 | BQ70: =HLOOKUP(BE70,$CE$53:$LT$55,2,FALSE) -> 0 | BR70: =IF(OR(BD70=1,BE70=1),0,IF(AND(BQ69=1,(BE69-BD69)<>1),BQ70+1,IF(AND(BQ70=1,(BE70-BD70<>1)),0,BQ70))) -> 0 | BS70: =IF(BR70=0,"",$BC70) | BT70: =LARGE($BS$62:$BS$223,$BC70) -> #NUM! | BU70: =IF(BX69=BW70,BU69,BU69+1) -> #NUM! | BV70: =IFERROR(VLOOKUP(BT70,$BC$62:$BR$223,16,FALSE),0) -> 0 | BW70: =VLOOKUP(BT70,$BC$62:$BE$223,2,FALSE) -> #NUM! | BX70: =VLOOKUP(BT70,$BC$62:$BE$223,3,FALSE) -> #NUM! | BY70: =IFERROR(VLOOKUP($BC70,BU$62:BW$223,3,FALSE),"") | BZ70: =IFERROR(BY70+CA70-1,"") | CA70: =SUMIF($BU$62:$BU$223,$BC70,$BV$62:$BV$223) -> 0 | CE70: =IF(OR($AZ70="",$BA70=""),0,MAX(MIN(CE$61,$BA70)-MAX(CF$61,$AZ70)+1,0)) -> 0 | CF70: =IF(OR($AZ70="",$BA70=""),0,MAX(MIN(CF$61-1,$BA70)-MAX(CG$61,$AZ70)+1,0)) -> 0 | CG70: =IF(OR($AZ70="",$BA70=""),0,MAX(MIN(CG$61-1,$BA70)-MAX(CH$61,$AZ70)+1,0)) -> 0 | CH70: =IF(OR($AZ70="",$BA70=""),0,MAX(MIN(CH$61-1,$BA70)-MAX(CI$61,$AZ70)+1,0)) -> 0 | CI70: =IF(OR($AZ70="",$BA70=""),0,MAX(MIN(CI$61-1,$BA70)-MAX(CJ$61,$AZ70)+1,0)) -> 0 | CJ70: =IF(OR($AZ70="",$BA70=""),0,MAX(MIN(CJ$61-1,$BA70)-MAX(CK$61,$AZ70)+1,0)) -> 0 | CK70: =IF(OR($AZ70="",$BA70=""),0,MAX(MIN(CK$61-1,$BA70)-MAX(CL$61,$AZ70)+1,0)) -> 0 | CL70: =IF(OR($AZ70="",$BA70=""),0,MAX(MIN(CL$61-1,$BA70)-MAX(CM$61,$AZ70)+1,0)) -> 0 | CM70: =IF(OR($AZ70="",$BA70=""),0,MAX(MIN(CM$61-1,$BA70)-MAX(CN$61,$AZ70)+1,0)) -> 0 | ... LT70: =IF(OR($AZ70="",$BA70=""),0,MAX(MIN(LT$61-1,$BA70)-MAX(LU$61,$AZ70)+1,0)) -> 0
A71: 10 | E71: =IF(F71="","",IF(C71="","",IF(C71<$H$17,$H$17,IF(C71>$D$33,"",C71)))) | F71: =IF(D71<$H$17,"",IF(C71>$D$33,"",IF(D71>$D$33,$D$33,D71))) -> 0 | H71: =IF(OR(C71=0,D71=0),"Falta(n) Fecha(s)",IF(C71>D71,"Invertidas",IF(C71=D71,"INI = FIN",IF(OR(C71<$H$17,D71<$H$17),IF(D71<$H$17,"Fecha Fin < Fecha TP o G","Ajuste por fecha TP o G"),IF(OR(C71>$D$33,D71>$D$33),"Ajuste por fecha HV","Ok"))))) -> Falta(n) Fecha(s) | Q71: {=IF(SUM(COUNTIF(J71:P71,{"SI","NO APLICA"}))=0, "", IF(SUM(COUNTIF(J71:P71,{"SI","NO APLICA"}))=COLUMNS(J71:P71), "CUMPLE", "NO CUMPLE"))} | Y71: =IF(AND(W71="",X71=""), "", IF(AND(OR(W71="SI",W71="NO APLICA"), OR(X71="SI",X71="NO APLICA")), "CUMPLE", "NO CUMPLE")) | Z71: =IF(AND(I71="",Q71="",T71="",V71="",Y71=""),"", IF(COUNTIF(I71:Y71,"NO CUMPLE")>0,"NO CUMPLE","CUMPLE")) | AD71: =BN71 | AE71: =BO71 | AF71: =BP71 -> 0 | AG71: =BY71 | AH71: =BZ71 | AI71: =CA71 -> 0 | AW71: =IFERROR(_xlfn.RANK.EQ(AZ71,$AZ$62:$BA$96),"") | AX71: =IFERROR(_xlfn.RANK.EQ(BA71,$AZ$62:$BA$96),"") -> 3 | AY71: 10 | AZ71: =IF(E71="","",E71) | BA71: =IF(F71="","",IF(F71=E71,F71+0.0001,F71)) -> 0 | BB71: =IF(G71="","",IF(UPPER(G71)="X",1,0)) | BC71: 10 | BD71: =HLOOKUP(BC71+1,$CE$60:$LU$61,2,FALSE) -> 1 | BE71: =HLOOKUP(BC71,$CE$60:$LU$61,2,FALSE) -> 1 | BF71: =HLOOKUP(BE71,$CE$53:$LT$55,3,FALSE) -> 0 | BG71: =IF(OR(BD71=1,BE71=1),0,IF(AND(BF70=1,(BE70-BD70)<>1),BF71+1,IF(AND(BF71=1,(BE71-BD71<>1)),0,BF71))) -> 0 | BH71: =IF(BG71=0,"",$BC71) | BI71: =LARGE($BH$62:$BH$223,$BC71) -> #NUM! | BJ71: =IFERROR(IF(BM70=BL71,BJ70,BJ70+1),"") | BK71: =IFERROR(VLOOKUP(BI71,$BC$62:$BG$223,5,FALSE),0) -> 0 | BL71: =VLOOKUP(BI71,$BC$62:$BE$223,2,FALSE) -> #NUM! | BM71: =VLOOKUP(BI71,$BC$62:$BE$223,3,FALSE) -> #NUM! | BN71: =IFERROR(VLOOKUP($BC71,BJ$62:BL$223,3,FALSE),"") | BO71: =IFERROR(BN71+BP71-1,"") | BP71: =SUMIF($BJ$62:$BJ$223,$BC71,$BK$62:$BK$223) -> 0 | BQ71: =HLOOKUP(BE71,$CE$53:$LT$55,2,FALSE) -> 0 | BR71: =IF(OR(BD71=1,BE71=1),0,IF(AND(BQ70=1,(BE70-BD70)<>1),BQ71+1,IF(AND(BQ71=1,(BE71-BD71<>1)),0,BQ71))) -> 0 | BS71: =IF(BR71=0,"",$BC71) | BT71: =LARGE($BS$62:$BS$223,$BC71) -> #NUM! | BU71: =IF(BX70=BW71,BU70,BU70+1) -> #NUM! | BV71: =IFERROR(VLOOKUP(BT71,$BC$62:$BR$223,16,FALSE),0) -> 0 | BW71: =VLOOKUP(BT71,$BC$62:$BE$223,2,FALSE) -> #NUM! | BX71: =VLOOKUP(BT71,$BC$62:$BE$223,3,FALSE) -> #NUM! | BY71: =IFERROR(VLOOKUP($BC71,BU$62:BW$223,3,FALSE),"") | BZ71: =IFERROR(BY71+CA71-1,"") | CA71: =SUMIF($BU$62:$BU$223,$BC71,$BV$62:$BV$223) -> 0 | CE71: =IF(OR($AZ71="",$BA71=""),0,MAX(MIN(CE$61,$BA71)-MAX(CF$61,$AZ71)+1,0)) -> 0 | CF71: =IF(OR($AZ71="",$BA71=""),0,MAX(MIN(CF$61-1,$BA71)-MAX(CG$61,$AZ71)+1,0)) -> 0 | CG71: =IF(OR($AZ71="",$BA71=""),0,MAX(MIN(CG$61-1,$BA71)-MAX(CH$61,$AZ71)+1,0)) -> 0 | CH71: =IF(OR($AZ71="",$BA71=""),0,MAX(MIN(CH$61-1,$BA71)-MAX(CI$61,$AZ71)+1,0)) -> 0 | CI71: =IF(OR($AZ71="",$BA71=""),0,MAX(MIN(CI$61-1,$BA71)-MAX(CJ$61,$AZ71)+1,0)) -> 0 | CJ71: =IF(OR($AZ71="",$BA71=""),0,MAX(MIN(CJ$61-1,$BA71)-MAX(CK$61,$AZ71)+1,0)) -> 0 | CK71: =IF(OR($AZ71="",$BA71=""),0,MAX(MIN(CK$61-1,$BA71)-MAX(CL$61,$AZ71)+1,0)) -> 0 | CL71: =IF(OR($AZ71="",$BA71=""),0,MAX(MIN(CL$61-1,$BA71)-MAX(CM$61,$AZ71)+1,0)) -> 0 | CM71: =IF(OR($AZ71="",$BA71=""),0,MAX(MIN(CM$61-1,$BA71)-MAX(CN$61,$AZ71)+1,0)) -> 0 | ... LT71: =IF(OR($AZ71="",$BA71=""),0,MAX(MIN(LT$61-1,$BA71)-MAX(LU$61,$AZ71)+1,0)) -> 0
A72: 11 | E72: =IF(F72="","",IF(C72="","",IF(C72<$H$17,$H$17,IF(C72>$D$33,"",C72)))) | F72: =IF(D72<$H$17,"",IF(C72>$D$33,"",IF(D72>$D$33,$D$33,D72))) -> 0 | H72: =IF(OR(C72=0,D72=0),"Falta(n) Fecha(s)",IF(C72>D72,"Invertidas",IF(C72=D72,"INI = FIN",IF(OR(C72<$H$17,D72<$H$17),IF(D72<$H$17,"Fecha Fin < Fecha TP o G","Ajuste por fecha TP o G"),IF(OR(C72>$D$33,D72>$D$33),"Ajuste por fecha HV","Ok"))))) -> Falta(n) Fecha(s) | Q72: {=IF(SUM(COUNTIF(J72:P72,{"SI","NO APLICA"}))=0, "", IF(SUM(COUNTIF(J72:P72,{"SI","NO APLICA"}))=COLUMNS(J72:P72), "CUMPLE", "NO CUMPLE"))} | Y72: =IF(AND(W72="",X72=""), "", IF(AND(OR(W72="SI",W72="NO APLICA"), OR(X72="SI",X72="NO APLICA")), "CUMPLE", "NO CUMPLE")) | Z72: =IF(AND(I72="",Q72="",T72="",V72="",Y72=""),"", IF(COUNTIF(I72:Y72,"NO CUMPLE")>0,"NO CUMPLE","CUMPLE")) | AD72: =BN72 | AE72: =BO72 | AF72: =BP72 -> 0 | AG72: =BY72 | AH72: =BZ72 | AI72: =CA72 -> 0 | AW72: =IFERROR(_xlfn.RANK.EQ(AZ72,$AZ$62:$BA$96),"") | AX72: =IFERROR(_xlfn.RANK.EQ(BA72,$AZ$62:$BA$96),"") -> 3 | AY72: 11 | AZ72: =IF(E72="","",E72) | BA72: =IF(F72="","",IF(F72=E72,F72+0.0001,F72)) -> 0 | BB72: =IF(G72="","",IF(UPPER(G72)="X",1,0)) | BC72: 11 | BD72: =HLOOKUP(BC72+1,$CE$60:$LU$61,2,FALSE) -> 1 | BE72: =HLOOKUP(BC72,$CE$60:$LU$61,2,FALSE) -> 1 | BF72: =HLOOKUP(BE72,$CE$53:$LT$55,3,FALSE) -> 0 | BG72: =IF(OR(BD72=1,BE72=1),0,IF(AND(BF71=1,(BE71-BD71)<>1),BF72+1,IF(AND(BF72=1,(BE72-BD72<>1)),0,BF72))) -> 0 | BH72: =IF(BG72=0,"",$BC72) | BI72: =LARGE($BH$62:$BH$223,$BC72) -> #NUM! | BJ72: =IFERROR(IF(BM71=BL72,BJ71,BJ71+1),"") | BK72: =IFERROR(VLOOKUP(BI72,$BC$62:$BG$223,5,FALSE),0) -> 0 | BL72: =VLOOKUP(BI72,$BC$62:$BE$223,2,FALSE) -> #NUM! | BM72: =VLOOKUP(BI72,$BC$62:$BE$223,3,FALSE) -> #NUM! | BN72: =IFERROR(VLOOKUP($BC72,BJ$62:BL$223,3,FALSE),"") | BO72: =IFERROR(BN72+BP72-1,"") | BP72: =SUMIF($BJ$62:$BJ$223,$BC72,$BK$62:$BK$223) -> 0 | BQ72: =HLOOKUP(BE72,$CE$53:$LT$55,2,FALSE) -> 0 | BR72: =IF(OR(BD72=1,BE72=1),0,IF(AND(BQ71=1,(BE71-BD71)<>1),BQ72+1,IF(AND(BQ72=1,(BE72-BD72<>1)),0,BQ72))) -> 0 | BS72: =IF(BR72=0,"",$BC72) | BT72: =LARGE($BS$62:$BS$223,$BC72) -> #NUM! | BU72: =IF(BX71=BW72,BU71,BU71+1) -> #NUM! | BV72: =IFERROR(VLOOKUP(BT72,$BC$62:$BR$223,16,FALSE),0) -> 0 | BW72: =VLOOKUP(BT72,$BC$62:$BE$223,2,FALSE) -> #NUM! | BX72: =VLOOKUP(BT72,$BC$62:$BE$223,3,FALSE) -> #NUM! | BY72: =IFERROR(VLOOKUP($BC72,BU$62:BW$223,3,FALSE),"") | BZ72: =IFERROR(BY72+CA72-1,"") | CA72: =SUMIF($BU$62:$BU$223,$BC72,$BV$62:$BV$223) -> 0 | CE72: =IF(OR($AZ72="",$BA72=""),0,MAX(MIN(CE$61,$BA72)-MAX(CF$61,$AZ72)+1,0)) -> 0 | CF72: =IF(OR($AZ72="",$BA72=""),0,MAX(MIN(CF$61-1,$BA72)-MAX(CG$61,$AZ72)+1,0)) -> 0 | CG72: =IF(OR($AZ72="",$BA72=""),0,MAX(MIN(CG$61-1,$BA72)-MAX(CH$61,$AZ72)+1,0)) -> 0 | CH72: =IF(OR($AZ72="",$BA72=""),0,MAX(MIN(CH$61-1,$BA72)-MAX(CI$61,$AZ72)+1,0)) -> 0 | CI72: =IF(OR($AZ72="",$BA72=""),0,MAX(MIN(CI$61-1,$BA72)-MAX(CJ$61,$AZ72)+1,0)) -> 0 | CJ72: =IF(OR($AZ72="",$BA72=""),0,MAX(MIN(CJ$61-1,$BA72)-MAX(CK$61,$AZ72)+1,0)) -> 0 | CK72: =IF(OR($AZ72="",$BA72=""),0,MAX(MIN(CK$61-1,$BA72)-MAX(CL$61,$AZ72)+1,0)) -> 0 | CL72: =IF(OR($AZ72="",$BA72=""),0,MAX(MIN(CL$61-1,$BA72)-MAX(CM$61,$AZ72)+1,0)) -> 0 | CM72: =IF(OR($AZ72="",$BA72=""),0,MAX(MIN(CM$61-1,$BA72)-MAX(CN$61,$AZ72)+1,0)) -> 0 | ... LT72: =IF(OR($AZ72="",$BA72=""),0,MAX(MIN(LT$61-1,$BA72)-MAX(LU$61,$AZ72)+1,0)) -> 0
A73: 12 | E73: =IF(F73="","",IF(C73="","",IF(C73<$H$17,$H$17,IF(C73>$D$33,"",C73)))) | F73: =IF(D73<$H$17,"",IF(C73>$D$33,"",IF(D73>$D$33,$D$33,D73))) -> 0 | H73: =IF(OR(C73=0,D73=0),"Falta(n) Fecha(s)",IF(C73>D73,"Invertidas",IF(C73=D73,"INI = FIN",IF(OR(C73<$H$17,D73<$H$17),IF(D73<$H$17,"Fecha Fin < Fecha TP o G","Ajuste por fecha TP o G"),IF(OR(C73>$D$33,D73>$D$33),"Ajuste por fecha HV","Ok"))))) -> Falta(n) Fecha(s) | Q73: {=IF(SUM(COUNTIF(J73:P73,{"SI","NO APLICA"}))=0, "", IF(SUM(COUNTIF(J73:P73,{"SI","NO APLICA"}))=COLUMNS(J73:P73), "CUMPLE", "NO CUMPLE"))} | Y73: =IF(AND(W73="",X73=""), "", IF(AND(OR(W73="SI",W73="NO APLICA"), OR(X73="SI",X73="NO APLICA")), "CUMPLE", "NO CUMPLE")) | Z73: =IF(AND(I73="",Q73="",T73="",V73="",Y73=""),"", IF(COUNTIF(I73:Y73,"NO CUMPLE")>0,"NO CUMPLE","CUMPLE")) | AD73: =BN73 | AE73: =BO73 | AF73: =BP73 -> 0 | AG73: =BY73 | AH73: =BZ73 | AI73: =CA73 -> 0 | AW73: =IFERROR(_xlfn.RANK.EQ(AZ73,$AZ$62:$BA$96),"") | AX73: =IFERROR(_xlfn.RANK.EQ(BA73,$AZ$62:$BA$96),"") -> 3 | AY73: 12 | AZ73: =IF(E73="","",E73) | BA73: =IF(F73="","",IF(F73=E73,F73+0.0001,F73)) -> 0 | BB73: =IF(G73="","",IF(UPPER(G73)="X",1,0)) | BC73: 12 | BD73: =HLOOKUP(BC73+1,$CE$60:$LU$61,2,FALSE) -> 1 | BE73: =HLOOKUP(BC73,$CE$60:$LU$61,2,FALSE) -> 1 | BF73: =HLOOKUP(BE73,$CE$53:$LT$55,3,FALSE) -> 0 | BG73: =IF(OR(BD73=1,BE73=1),0,IF(AND(BF72=1,(BE72-BD72)<>1),BF73+1,IF(AND(BF73=1,(BE73-BD73<>1)),0,BF73))) -> 0 | BH73: =IF(BG73=0,"",$BC73) | BI73: =LARGE($BH$62:$BH$223,$BC73) -> #NUM! | BJ73: =IFERROR(IF(BM72=BL73,BJ72,BJ72+1),"") | BK73: =IFERROR(VLOOKUP(BI73,$BC$62:$BG$223,5,FALSE),0) -> 0 | BL73: =VLOOKUP(BI73,$BC$62:$BE$223,2,FALSE) -> #NUM! | BM73: =VLOOKUP(BI73,$BC$62:$BE$223,3,FALSE) -> #NUM! | BN73: =IFERROR(VLOOKUP($BC73,BJ$62:BL$223,3,FALSE),"") | BO73: =IFERROR(BN73+BP73-1,"") | BP73: =SUMIF($BJ$62:$BJ$223,$BC73,$BK$62:$BK$223) -> 0 | BQ73: =HLOOKUP(BE73,$CE$53:$LT$55,2,FALSE) -> 0 | BR73: =IF(OR(BD73=1,BE73=1),0,IF(AND(BQ72=1,(BE72-BD72)<>1),BQ73+1,IF(AND(BQ73=1,(BE73-BD73<>1)),0,BQ73))) -> 0 | BS73: =IF(BR73=0,"",$BC73) | BT73: =LARGE($BS$62:$BS$223,$BC73) -> #NUM! | BU73: =IF(BX72=BW73,BU72,BU72+1) -> #NUM! | BV73: =IFERROR(VLOOKUP(BT73,$BC$62:$BR$223,16,FALSE),0) -> 0 | BW73: =VLOOKUP(BT73,$BC$62:$BE$223,2,FALSE) -> #NUM! | BX73: =VLOOKUP(BT73,$BC$62:$BE$223,3,FALSE) -> #NUM! | BY73: =IFERROR(VLOOKUP($BC73,BU$62:BW$223,3,FALSE),"") | BZ73: =IFERROR(BY73+CA73-1,"") | CA73: =SUMIF($BU$62:$BU$223,$BC73,$BV$62:$BV$223) -> 0 | CE73: =IF(OR($AZ73="",$BA73=""),0,MAX(MIN(CE$61,$BA73)-MAX(CF$61,$AZ73)+1,0)) -> 0 | CF73: =IF(OR($AZ73="",$BA73=""),0,MAX(MIN(CF$61-1,$BA73)-MAX(CG$61,$AZ73)+1,0)) -> 0 | CG73: =IF(OR($AZ73="",$BA73=""),0,MAX(MIN(CG$61-1,$BA73)-MAX(CH$61,$AZ73)+1,0)) -> 0 | CH73: =IF(OR($AZ73="",$BA73=""),0,MAX(MIN(CH$61-1,$BA73)-MAX(CI$61,$AZ73)+1,0)) -> 0 | CI73: =IF(OR($AZ73="",$BA73=""),0,MAX(MIN(CI$61-1,$BA73)-MAX(CJ$61,$AZ73)+1,0)) -> 0 | CJ73: =IF(OR($AZ73="",$BA73=""),0,MAX(MIN(CJ$61-1,$BA73)-MAX(CK$61,$AZ73)+1,0)) -> 0 | CK73: =IF(OR($AZ73="",$BA73=""),0,MAX(MIN(CK$61-1,$BA73)-MAX(CL$61,$AZ73)+1,0)) -> 0 | CL73: =IF(OR($AZ73="",$BA73=""),0,MAX(MIN(CL$61-1,$BA73)-MAX(CM$61,$AZ73)+1,0)) -> 0 | CM73: =IF(OR($AZ73="",$BA73=""),0,MAX(MIN(CM$61-1,$BA73)-MAX(CN$61,$AZ73)+1,0)) -> 0 | ... LT73: =IF(OR($AZ73="",$BA73=""),0,MAX(MIN(LT$61-1,$BA73)-MAX(LU$61,$AZ73)+1,0)) -> 0
A74: 13 | E74: =IF(F74="","",IF(C74="","",IF(C74<$H$17,$H$17,IF(C74>$D$33,"",C74)))) | F74: =IF(D74<$H$17,"",IF(C74>$D$33,"",IF(D74>$D$33,$D$33,D74))) -> 0 | H74: =IF(OR(C74=0,D74=0),"Falta(n) Fecha(s)",IF(C74>D74,"Invertidas",IF(C74=D74,"INI = FIN",IF(OR(C74<$H$17,D74<$H$17),IF(D74<$H$17,"Fecha Fin < Fecha TP o G","Ajuste por fecha TP o G"),IF(OR(C74>$D$33,D74>$D$33),"Ajuste por fecha HV","Ok"))))) -> Falta(n) Fecha(s) | Q74: {=IF(SUM(COUNTIF(J74:P74,{"SI","NO APLICA"}))=0, "", IF(SUM(COUNTIF(J74:P74,{"SI","NO APLICA"}))=COLUMNS(J74:P74), "CUMPLE", "NO CUMPLE"))} | Y74: =IF(AND(W74="",X74=""), "", IF(AND(OR(W74="SI",W74="NO APLICA"), OR(X74="SI",X74="NO APLICA")), "CUMPLE", "NO CUMPLE")) | Z74: =IF(AND(I74="",Q74="",T74="",V74="",Y74=""),"", IF(COUNTIF(I74:Y74,"NO CUMPLE")>0,"NO CUMPLE","CUMPLE")) | AD74: =BN74 | AE74: =BO74 | AF74: =BP74 -> 0 | AG74: =BY74 | AH74: =BZ74 | AI74: =CA74 -> 0 | AW74: =IFERROR(_xlfn.RANK.EQ(AZ74,$AZ$62:$BA$96),"") | AX74: =IFERROR(_xlfn.RANK.EQ(BA74,$AZ$62:$BA$96),"") -> 3 | AY74: 13 | AZ74: =IF(E74="","",E74) | BA74: =IF(F74="","",IF(F74=E74,F74+0.0001,F74)) -> 0 | BB74: =IF(G74="","",IF(UPPER(G74)="X",1,0)) | BC74: 13 | BD74: =HLOOKUP(BC74+1,$CE$60:$LU$61,2,FALSE) -> 1 | BE74: =HLOOKUP(BC74,$CE$60:$LU$61,2,FALSE) -> 1 | BF74: =HLOOKUP(BE74,$CE$53:$LT$55,3,FALSE) -> 0 | BG74: =IF(OR(BD74=1,BE74=1),0,IF(AND(BF73=1,(BE73-BD73)<>1),BF74+1,IF(AND(BF74=1,(BE74-BD74<>1)),0,BF74))) -> 0 | BH74: =IF(BG74=0,"",$BC74) | BI74: =LARGE($BH$62:$BH$223,$BC74) -> #NUM! | BJ74: =IFERROR(IF(BM73=BL74,BJ73,BJ73+1),"") | BK74: =IFERROR(VLOOKUP(BI74,$BC$62:$BG$223,5,FALSE),0) -> 0 | BL74: =VLOOKUP(BI74,$BC$62:$BE$223,2,FALSE) -> #NUM! | BM74: =VLOOKUP(BI74,$BC$62:$BE$223,3,FALSE) -> #NUM! | BN74: =IFERROR(VLOOKUP($BC74,BJ$62:BL$223,3,FALSE),"") | BO74: =IFERROR(BN74+BP74-1,"") | BP74: =SUMIF($BJ$62:$BJ$223,$BC74,$BK$62:$BK$223) -> 0 | BQ74: =HLOOKUP(BE74,$CE$53:$LT$55,2,FALSE) -> 0 | BR74: =IF(OR(BD74=1,BE74=1),0,IF(AND(BQ73=1,(BE73-BD73)<>1),BQ74+1,IF(AND(BQ74=1,(BE74-BD74<>1)),0,BQ74))) -> 0 | BS74: =IF(BR74=0,"",$BC74) | BT74: =LARGE($BS$62:$BS$223,$BC74) -> #NUM! | BU74: =IF(BX73=BW74,BU73,BU73+1) -> #NUM! | BV74: =IFERROR(VLOOKUP(BT74,$BC$62:$BR$223,16,FALSE),0) -> 0 | BW74: =VLOOKUP(BT74,$BC$62:$BE$223,2,FALSE) -> #NUM! | BX74: =VLOOKUP(BT74,$BC$62:$BE$223,3,FALSE) -> #NUM! | BY74: =IFERROR(VLOOKUP($BC74,BU$62:BW$223,3,FALSE),"") | BZ74: =IFERROR(BY74+CA74-1,"") | CA74: =SUMIF($BU$62:$BU$223,$BC74,$BV$62:$BV$223) -> 0 | CE74: =IF(OR($AZ74="",$BA74=""),0,MAX(MIN(CE$61,$BA74)-MAX(CF$61,$AZ74)+1,0)) -> 0 | CF74: =IF(OR($AZ74="",$BA74=""),0,MAX(MIN(CF$61-1,$BA74)-MAX(CG$61,$AZ74)+1,0)) -> 0 | CG74: =IF(OR($AZ74="",$BA74=""),0,MAX(MIN(CG$61-1,$BA74)-MAX(CH$61,$AZ74)+1,0)) -> 0 | CH74: =IF(OR($AZ74="",$BA74=""),0,MAX(MIN(CH$61-1,$BA74)-MAX(CI$61,$AZ74)+1,0)) -> 0 | CI74: =IF(OR($AZ74="",$BA74=""),0,MAX(MIN(CI$61-1,$BA74)-MAX(CJ$61,$AZ74)+1,0)) -> 0 | CJ74: =IF(OR($AZ74="",$BA74=""),0,MAX(MIN(CJ$61-1,$BA74)-MAX(CK$61,$AZ74)+1,0)) -> 0 | CK74: =IF(OR($AZ74="",$BA74=""),0,MAX(MIN(CK$61-1,$BA74)-MAX(CL$61,$AZ74)+1,0)) -> 0 | CL74: =IF(OR($AZ74="",$BA74=""),0,MAX(MIN(CL$61-1,$BA74)-MAX(CM$61,$AZ74)+1,0)) -> 0 | CM74: =IF(OR($AZ74="",$BA74=""),0,MAX(MIN(CM$61-1,$BA74)-MAX(CN$61,$AZ74)+1,0)) -> 0 | ... LT74: =IF(OR($AZ74="",$BA74=""),0,MAX(MIN(LT$61-1,$BA74)-MAX(LU$61,$AZ74)+1,0)) -> 0
A75: 14 | E75: =IF(F75="","",IF(C75="","",IF(C75<$H$17,$H$17,IF(C75>$D$33,"",C75)))) | F75: =IF(D75<$H$17,"",IF(C75>$D$33,"",IF(D75>$D$33,$D$33,D75))) -> 0 | H75: =IF(OR(C75=0,D75=0),"Falta(n) Fecha(s)",IF(C75>D75,"Invertidas",IF(C75=D75,"INI = FIN",IF(OR(C75<$H$17,D75<$H$17),IF(D75<$H$17,"Fecha Fin < Fecha TP o G","Ajuste por fecha TP o G"),IF(OR(C75>$D$33,D75>$D$33),"Ajuste por fecha HV","Ok"))))) -> Falta(n) Fecha(s) | Q75: {=IF(SUM(COUNTIF(J75:P75,{"SI","NO APLICA"}))=0, "", IF(SUM(COUNTIF(J75:P75,{"SI","NO APLICA"}))=COLUMNS(J75:P75), "CUMPLE", "NO CUMPLE"))} | Y75: =IF(AND(W75="",X75=""), "", IF(AND(OR(W75="SI",W75="NO APLICA"), OR(X75="SI",X75="NO APLICA")), "CUMPLE", "NO CUMPLE")) | Z75: =IF(AND(I75="",Q75="",T75="",V75="",Y75=""),"", IF(COUNTIF(I75:Y75,"NO CUMPLE")>0,"NO CUMPLE","CUMPLE")) | AD75: =BN75 | AE75: =BO75 | AF75: =BP75 -> 0 | AG75: =BY75 | AH75: =BZ75 | AI75: =CA75 -> 0 | AW75: =IFERROR(_xlfn.RANK.EQ(AZ75,$AZ$62:$BA$96),"") | AX75: =IFERROR(_xlfn.RANK.EQ(BA75,$AZ$62:$BA$96),"") -> 3 | AY75: 14 | AZ75: =IF(E75="","",E75) | BA75: =IF(F75="","",IF(F75=E75,F75+0.0001,F75)) -> 0 | BB75: =IF(G75="","",IF(UPPER(G75)="X",1,0)) | BC75: 14 | BD75: =HLOOKUP(BC75+1,$CE$60:$LU$61,2,FALSE) -> 1 | BE75: =HLOOKUP(BC75,$CE$60:$LU$61,2,FALSE) -> 1 | BF75: =HLOOKUP(BE75,$CE$53:$LT$55,3,FALSE) -> 0 | BG75: =IF(OR(BD75=1,BE75=1),0,IF(AND(BF74=1,(BE74-BD74)<>1),BF75+1,IF(AND(BF75=1,(BE75-BD75<>1)),0,BF75))) -> 0 | BH75: =IF(BG75=0,"",$BC75) | BI75: =LARGE($BH$62:$BH$223,$BC75) -> #NUM! | BJ75: =IFERROR(IF(BM74=BL75,BJ74,BJ74+1),"") | BK75: =IFERROR(VLOOKUP(BI75,$BC$62:$BG$223,5,FALSE),0) -> 0 | BL75: =VLOOKUP(BI75,$BC$62:$BE$223,2,FALSE) -> #NUM! | BM75: =VLOOKUP(BI75,$BC$62:$BE$223,3,FALSE) -> #NUM! | BN75: =IFERROR(VLOOKUP($BC75,BJ$62:BL$223,3,FALSE),"") | BO75: =IFERROR(BN75+BP75-1,"") | BP75: =SUMIF($BJ$62:$BJ$223,$BC75,$BK$62:$BK$223) -> 0 | BQ75: =HLOOKUP(BE75,$CE$53:$LT$55,2,FALSE) -> 0 | BR75: =IF(OR(BD75=1,BE75=1),0,IF(AND(BQ74=1,(BE74-BD74)<>1),BQ75+1,IF(AND(BQ75=1,(BE75-BD75<>1)),0,BQ75))) -> 0 | BS75: =IF(BR75=0,"",$BC75) | BT75: =LARGE($BS$62:$BS$223,$BC75) -> #NUM! | BU75: =IF(BX74=BW75,BU74,BU74+1) -> #NUM! | BV75: =IFERROR(VLOOKUP(BT75,$BC$62:$BR$223,16,FALSE),0) -> 0 | BW75: =VLOOKUP(BT75,$BC$62:$BE$223,2,FALSE) -> #NUM! | BX75: =VLOOKUP(BT75,$BC$62:$BE$223,3,FALSE) -> #NUM! | BY75: =IFERROR(VLOOKUP($BC75,BU$62:BW$223,3,FALSE),"") | BZ75: =IFERROR(BY75+CA75-1,"") | CA75: =SUMIF($BU$62:$BU$223,$BC75,$BV$62:$BV$223) -> 0 | CE75: =IF(OR($AZ75="",$BA75=""),0,MAX(MIN(CE$61,$BA75)-MAX(CF$61,$AZ75)+1,0)) -> 0 | CF75: =IF(OR($AZ75="",$BA75=""),0,MAX(MIN(CF$61-1,$BA75)-MAX(CG$61,$AZ75)+1,0)) -> 0 | CG75: =IF(OR($AZ75="",$BA75=""),0,MAX(MIN(CG$61-1,$BA75)-MAX(CH$61,$AZ75)+1,0)) -> 0 | CH75: =IF(OR($AZ75="",$BA75=""),0,MAX(MIN(CH$61-1,$BA75)-MAX(CI$61,$AZ75)+1,0)) -> 0 | CI75: =IF(OR($AZ75="",$BA75=""),0,MAX(MIN(CI$61-1,$BA75)-MAX(CJ$61,$AZ75)+1,0)) -> 0 | CJ75: =IF(OR($AZ75="",$BA75=""),0,MAX(MIN(CJ$61-1,$BA75)-MAX(CK$61,$AZ75)+1,0)) -> 0 | CK75: =IF(OR($AZ75="",$BA75=""),0,MAX(MIN(CK$61-1,$BA75)-MAX(CL$61,$AZ75)+1,0)) -> 0 | CL75: =IF(OR($AZ75="",$BA75=""),0,MAX(MIN(CL$61-1,$BA75)-MAX(CM$61,$AZ75)+1,0)) -> 0 | CM75: =IF(OR($AZ75="",$BA75=""),0,MAX(MIN(CM$61-1,$BA75)-MAX(CN$61,$AZ75)+1,0)) -> 0 | ... LT75: =IF(OR($AZ75="",$BA75=""),0,MAX(MIN(LT$61-1,$BA75)-MAX(LU$61,$AZ75)+1,0)) -> 0
A76: 15 | E76: =IF(F76="","",IF(C76="","",IF(C76<$H$17,$H$17,IF(C76>$D$33,"",C76)))) | F76: =IF(D76<$H$17,"",IF(C76>$D$33,"",IF(D76>$D$33,$D$33,D76))) -> 0 | H76: =IF(OR(C76=0,D76=0),"Falta(n) Fecha(s)",IF(C76>D76,"Invertidas",IF(C76=D76,"INI = FIN",IF(OR(C76<$H$17,D76<$H$17),IF(D76<$H$17,"Fecha Fin < Fecha TP o G","Ajuste por fecha TP o G"),IF(OR(C76>$D$33,D76>$D$33),"Ajuste por fecha HV","Ok"))))) -> Falta(n) Fecha(s) | Q76: {=IF(SUM(COUNTIF(J76:P76,{"SI","NO APLICA"}))=0, "", IF(SUM(COUNTIF(J76:P76,{"SI","NO APLICA"}))=COLUMNS(J76:P76), "CUMPLE", "NO CUMPLE"))} | Y76: =IF(AND(W76="",X76=""), "", IF(AND(OR(W76="SI",W76="NO APLICA"), OR(X76="SI",X76="NO APLICA")), "CUMPLE", "NO CUMPLE")) | Z76: =IF(AND(I76="",Q76="",T76="",V76="",Y76=""),"", IF(COUNTIF(I76:Y76,"NO CUMPLE")>0,"NO CUMPLE","CUMPLE")) | AD76: =BN76 | AE76: =BO76 | AF76: =BP76 -> 0 | AG76: =BY76 | AH76: =BZ76 | AI76: =CA76 -> 0 | AW76: =IFERROR(_xlfn.RANK.EQ(AZ76,$AZ$62:$BA$96),"") | AX76: =IFERROR(_xlfn.RANK.EQ(BA76,$AZ$62:$BA$96),"") -> 3 | AY76: 15 | AZ76: =IF(E76="","",E76) | BA76: =IF(F76="","",IF(F76=E76,F76+0.0001,F76)) -> 0 | BB76: =IF(G76="","",IF(UPPER(G76)="X",1,0)) | BC76: 15 | BD76: =HLOOKUP(BC76+1,$CE$60:$LU$61,2,FALSE) -> 1 | BE76: =HLOOKUP(BC76,$CE$60:$LU$61,2,FALSE) -> 1 | BF76: =HLOOKUP(BE76,$CE$53:$LT$55,3,FALSE) -> 0 | BG76: =IF(OR(BD76=1,BE76=1),0,IF(AND(BF75=1,(BE75-BD75)<>1),BF76+1,IF(AND(BF76=1,(BE76-BD76<>1)),0,BF76))) -> 0 | BH76: =IF(BG76=0,"",$BC76) | BI76: =LARGE($BH$62:$BH$223,$BC76) -> #NUM! | BJ76: =IFERROR(IF(BM75=BL76,BJ75,BJ75+1),"") | BK76: =IFERROR(VLOOKUP(BI76,$BC$62:$BG$223,5,FALSE),0) -> 0 | BL76: =VLOOKUP(BI76,$BC$62:$BE$223,2,FALSE) -> #NUM! | BM76: =VLOOKUP(BI76,$BC$62:$BE$223,3,FALSE) -> #NUM! | BN76: =IFERROR(VLOOKUP($BC76,BJ$62:BL$223,3,FALSE),"") | BO76: =IFERROR(BN76+BP76-1,"") | BP76: =SUMIF($BJ$62:$BJ$223,$BC76,$BK$62:$BK$223) -> 0 | BQ76: =HLOOKUP(BE76,$CE$53:$LT$55,2,FALSE) -> 0 | BR76: =IF(OR(BD76=1,BE76=1),0,IF(AND(BQ75=1,(BE75-BD75)<>1),BQ76+1,IF(AND(BQ76=1,(BE76-BD76<>1)),0,BQ76))) -> 0 | BS76: =IF(BR76=0,"",$BC76) | BT76: =LARGE($BS$62:$BS$223,$BC76) -> #NUM! | BU76: =IF(BX75=BW76,BU75,BU75+1) -> #NUM! | BV76: =IFERROR(VLOOKUP(BT76,$BC$62:$BR$223,16,FALSE),0) -> 0 | BW76: =VLOOKUP(BT76,$BC$62:$BE$223,2,FALSE) -> #NUM! | BX76: =VLOOKUP(BT76,$BC$62:$BE$223,3,FALSE) -> #NUM! | BY76: =IFERROR(VLOOKUP($BC76,BU$62:BW$223,3,FALSE),"") | BZ76: =IFERROR(BY76+CA76-1,"") | CA76: =SUMIF($BU$62:$BU$223,$BC76,$BV$62:$BV$223) -> 0 | CE76: =IF(OR($AZ76="",$BA76=""),0,MAX(MIN(CE$61,$BA76)-MAX(CF$61,$AZ76)+1,0)) -> 0 | CF76: =IF(OR($AZ76="",$BA76=""),0,MAX(MIN(CF$61-1,$BA76)-MAX(CG$61,$AZ76)+1,0)) -> 0 | CG76: =IF(OR($AZ76="",$BA76=""),0,MAX(MIN(CG$61-1,$BA76)-MAX(CH$61,$AZ76)+1,0)) -> 0 | CH76: =IF(OR($AZ76="",$BA76=""),0,MAX(MIN(CH$61-1,$BA76)-MAX(CI$61,$AZ76)+1,0)) -> 0 | CI76: =IF(OR($AZ76="",$BA76=""),0,MAX(MIN(CI$61-1,$BA76)-MAX(CJ$61,$AZ76)+1,0)) -> 0 | CJ76: =IF(OR($AZ76="",$BA76=""),0,MAX(MIN(CJ$61-1,$BA76)-MAX(CK$61,$AZ76)+1,0)) -> 0 | CK76: =IF(OR($AZ76="",$BA76=""),0,MAX(MIN(CK$61-1,$BA76)-MAX(CL$61,$AZ76)+1,0)) -> 0 | CL76: =IF(OR($AZ76="",$BA76=""),0,MAX(MIN(CL$61-1,$BA76)-MAX(CM$61,$AZ76)+1,0)) -> 0 | CM76: =IF(OR($AZ76="",$BA76=""),0,MAX(MIN(CM$61-1,$BA76)-MAX(CN$61,$AZ76)+1,0)) -> 0 | ... LT76: =IF(OR($AZ76="",$BA76=""),0,MAX(MIN(LT$61-1,$BA76)-MAX(LU$61,$AZ76)+1,0)) -> 0
... A96: 35 | E96: =IF(F96="","",IF(C96="","",IF(C96<$H$17,$H$17,IF(C96>$D$33,"",C96)))) | F96: =IF(D96<$H$17,"",IF(C96>$D$33,"",IF(D96>$D$33,$D$33,D96))) -> 0 | H96: =IF(OR(C96=0,D96=0),"Falta(n) Fecha(s)",IF(C96>D96,"Invertidas",IF(C96=D96,"INI = FIN",IF(OR(C96<$H$17,D96<$H$17),IF(D96<$H$17,"Fecha Fin < Fecha TP o G","Ajuste por fecha TP o G"),IF(OR(C96>$D$33,D96>$D$33),"Ajuste por fecha HV","Ok"))))) -> Falta(n) Fecha(s) | Q96: {=IF(SUM(COUNTIF(J96:P96,{"SI","NO APLICA"}))=0, "", IF(SUM(COUNTIF(J96:P96,{"SI","NO APLICA"}))=COLUMNS(J96:P96), "CUMPLE", "NO CUMPLE"))} | Y96: =IF(AND(W96="",X96=""), "", IF(AND(OR(W96="SI",W96="NO APLICA"), OR(X96="SI",X96="NO APLICA")), "CUMPLE", "NO CUMPLE")) | Z96: =IF(AND(I96="",Q96="",T96="",V96="",Y96=""),"", IF(COUNTIF(I96:Y96,"NO CUMPLE")>0,"NO CUMPLE","CUMPLE")) | AD96: =BN96 | AE96: =BO96 | AF96: =BP96 -> 0 | AG96: =BY96 | AH96: =BZ96 | AI96: =CA96 -> 0 | AW96: =IFERROR(_xlfn.RANK.EQ(AZ96,$AZ$62:$BA$96),"") | AX96: =IFERROR(_xlfn.RANK.EQ(BA96,$AZ$62:$BA$96),"") -> 3 | AY96: 35 | AZ96: =IF(E96="","",E96) | BA96: =IF(F96="","",IF(F96=E96,F96+0.0001,F96)) -> 0 | BB96: =IF(G96="","",IF(UPPER(G96)="X",1,0)) | BC96: 35 | BD96: =HLOOKUP(BC96+1,$CE$60:$LU$61,2,FALSE) -> 1 | BE96: =HLOOKUP(BC96,$CE$60:$LU$61,2,FALSE) -> 1 | BF96: =HLOOKUP(BE96,$CE$53:$LT$55,3,FALSE) -> 0 | BG96: =IF(OR(BD96=1,BE96=1),0,IF(AND(BF95=1,(BE95-BD95)<>1),BF96+1,IF(AND(BF96=1,(BE96-BD96<>1)),0,BF96))) -> 0 | BH96: =IF(BG96=0,"",$BC96) | BI96: =LARGE($BH$62:$BH$223,$BC96) -> #NUM! | BJ96: =IFERROR(IF(BM95=BL96,BJ95,BJ95+1),"") | BK96: =IFERROR(VLOOKUP(BI96,$BC$62:$BG$223,5,FALSE),0) -> 0 | BL96: =VLOOKUP(BI96,$BC$62:$BE$223,2,FALSE) -> #NUM! | BM96: =VLOOKUP(BI96,$BC$62:$BE$223,3,FALSE) -> #NUM! | BN96: =IFERROR(VLOOKUP($BC96,BJ$62:BL$223,3,FALSE),"") | BO96: =IFERROR(BN96+BP96-1,"") | BP96: =SUMIF($BJ$62:$BJ$223,$BC96,$BK$62:$BK$223) -> 0 | BQ96: =HLOOKUP(BE96,$CE$53:$LT$55,2,FALSE) -> 0 | BR96: =IF(OR(BD96=1,BE96=1),0,IF(AND(BQ95=1,(BE95-BD95)<>1),BQ96+1,IF(AND(BQ96=1,(BE96-BD96<>1)),0,BQ96))) -> 0 | BS96: =IF(BR96=0,"",$BC96) | BT96: =LARGE($BS$62:$BS$223,$BC96) -> #NUM! | BU96: =IF(BX95=BW96,BU95,BU95+1) -> #NUM! | BV96: =IFERROR(VLOOKUP(BT96,$BC$62:$BR$223,16,FALSE),0) -> 0 | BW96: =VLOOKUP(BT96,$BC$62:$BE$223,2,FALSE) -> #NUM! | BX96: =VLOOKUP(BT96,$BC$62:$BE$223,3,FALSE) -> #NUM! | BY96: =IFERROR(VLOOKUP($BC96,BU$62:BW$223,3,FALSE),"") | BZ96: =IFERROR(BY96+CA96-1,"") | CA96: =SUMIF($BU$62:$BU$223,$BC96,$BV$62:$BV$223) -> 0 | CE96: =IF(OR($AZ96="",$BA96=""),0,MAX(MIN(CE$61,$BA96)-MAX(CF$61,$AZ96)+1,0)) -> 0 | CF96: =IF(OR($AZ96="",$BA96=""),0,MAX(MIN(CF$61-1,$BA96)-MAX(CG$61,$AZ96)+1,0)) -> 0 | CG96: =IF(OR($AZ96="",$BA96=""),0,MAX(MIN(CG$61-1,$BA96)-MAX(CH$61,$AZ96)+1,0)) -> 0 | CH96: =IF(OR($AZ96="",$BA96=""),0,MAX(MIN(CH$61-1,$BA96)-MAX(CI$61,$AZ96)+1,0)) -> 0 | CI96: =IF(OR($AZ96="",$BA96=""),0,MAX(MIN(CI$61-1,$BA96)-MAX(CJ$61,$AZ96)+1,0)) -> 0 | CJ96: =IF(OR($AZ96="",$BA96=""),0,MAX(MIN(CJ$61-1,$BA96)-MAX(CK$61,$AZ96)+1,0)) -> 0 | CK96: =IF(OR($AZ96="",$BA96=""),0,MAX(MIN(CK$61-1,$BA96)-MAX(CL$61,$AZ96)+1,0)) -> 0 | CL96: =IF(OR($AZ96="",$BA96=""),0,MAX(MIN(CL$61-1,$BA96)-MAX(CM$61,$AZ96)+1,0)) -> 0 | CM96: =IF(OR($AZ96="",$BA96=""),0,MAX(MIN(CM$61-1,$BA96)-MAX(CN$61,$AZ96)+1,0)) -> 0 | ... LT96: =IF(OR($AZ96="",$BA96=""),0,MAX(MIN(LT$61-1,$BA96)-MAX(LU$61,$AZ96)+1,0)) -> 0
BC97: 126 | BD97: =HLOOKUP(BC97+1,$CE$60:$LU$61,2,FALSE) -> 1 | BE97: =HLOOKUP(BC97,$CE$60:$LU$61,2,FALSE) -> 1 | BF97: =HLOOKUP(BE97,$CE$53:$LT$55,3,FALSE) -> 0 | BG97: =IF(OR(BD97=1,BE97=1),0,IF(AND(#REF!=1,(#REF!-#REF!)<>1),BF97+1,IF(AND(BF97=1,(BE97-BD97<>1)),0,BF97))) -> 0 | BH97: =IF(BG97=0,"",$BC97) | BI97: =LARGE($BH$62:$BH$223,$BC97) -> #NUM! | BJ97: =IFERROR(IF(#REF!=BL97,#REF!,#REF!+1),"") | BK97: =IFERROR(VLOOKUP(BI97,$BC$62:$BG$223,5,FALSE),0) -> 0 | BL97: =VLOOKUP(BI97,$BC$62:$BE$223,2,FALSE) -> #NUM! | BM97: =VLOOKUP(BI97,$BC$62:$BE$223,3,FALSE) -> #NUM! | BN97: =IFERROR(VLOOKUP($BC97,BJ$62:BL$223,3,FALSE),"") | BO97: =IFERROR(BN97+BP97-1,"") | BP97: =SUMIF($BJ$62:$BJ$223,$BC97,$BK$62:$BK$223) -> 0 | BQ97: =HLOOKUP(BE97,$CE$53:$LT$55,2,FALSE) -> 0 | BR97: =IF(OR(BD97=1,BE97=1),0,IF(AND(#REF!=1,(#REF!-#REF!)<>1),BQ97+1,IF(AND(BQ97=1,(BE97-BD97<>1)),0,BQ97))) -> 0 | BS97: =IF(BR97=0,"",$BC97) | BT97: =LARGE($BS$62:$BS$223,$BC97) -> #NUM! | BU97: =IF(#REF!=BW97,#REF!,#REF!+1) -> #REF! | BV97: =IFERROR(VLOOKUP(BT97,$BC$62:$BR$223,16,FALSE),0) -> 0 | BW97: =VLOOKUP(BT97,$BC$62:$BE$223,2,FALSE) -> #NUM! | BX97: =VLOOKUP(BT97,$BC$62:$BE$223,3,FALSE) -> #NUM! | BY97: =IFERROR(VLOOKUP($BC97,BU$62:BW$223,3,FALSE),"") | BZ97: =IFERROR(BY97+CA97-1,"") | CA97: =SUMIF($BU$62:$BU$223,$BC97,$BV$62:$BV$223) -> 0 | CE97: =COUNTIF(CE62:CE96,">1") -> 1 | CF97: =COUNTIF(CF62:CF96,">1") -> 0 | CG97: =COUNTIF(CG62:CG96,">1") -> 0 | CH97: =COUNTIF(CH62:CH96,">1") -> 0 | CI97: =COUNTIF(CI62:CI96,">1") -> 0 | CJ97: =COUNTIF(CJ62:CJ96,">1") -> 0 | CK97: =COUNTIF(CK62:CK96,">1") -> 0 | CL97: =COUNTIF(CL62:CL96,">1") -> 0 | ... LT97: =COUNTIF(LT62:LT96,">1") -> 0
BC98: 127 | BD98: =HLOOKUP(BC98+1,$CE$60:$LU$61,2,FALSE) -> 1 | BE98: =HLOOKUP(BC98,$CE$60:$LU$61,2,FALSE) -> 1 | BF98: =HLOOKUP(BE98,$CE$53:$LT$55,3,FALSE) -> 0 | BG98: =IF(OR(BD98=1,BE98=1),0,IF(AND(BF97=1,(BE97-BD97)<>1),BF98+1,IF(AND(BF98=1,(BE98-BD98<>1)),0,BF98))) -> 0 | BH98: =IF(BG98=0,"",$BC98) | BI98: =LARGE($BH$62:$BH$223,$BC98) -> #NUM! | BJ98: =IFERROR(IF(BM97=BL98,BJ97,BJ97+1),"") | BK98: =IFERROR(VLOOKUP(BI98,$BC$62:$BG$223,5,FALSE),0) -> 0 | BL98: =VLOOKUP(BI98,$BC$62:$BE$223,2,FALSE) -> #NUM! | BM98: =VLOOKUP(BI98,$BC$62:$BE$223,3,FALSE) -> #NUM! | BN98: =IFERROR(VLOOKUP($BC98,BJ$62:BL$223,3,FALSE),"") | BO98: =IFERROR(BN98+BP98-1,"") | BP98: =SUMIF($BJ$62:$BJ$223,$BC98,$BK$62:$BK$223) -> 0 | BQ98: =HLOOKUP(BE98,$CE$53:$LT$55,2,FALSE) -> 0 | BR98: =IF(OR(BD98=1,BE98=1),0,IF(AND(BQ97=1,(BE97-BD97)<>1),BQ98+1,IF(AND(BQ98=1,(BE98-BD98<>1)),0,BQ98))) -> 0 | BS98: =IF(BR98=0,"",$BC98) | BT98: =LARGE($BS$62:$BS$223,$BC98) -> #NUM! | BU98: =IF(BX97=BW98,BU97,BU97+1) -> #NUM! | BV98: =IFERROR(VLOOKUP(BT98,$BC$62:$BR$223,16,FALSE),0) -> 0 | BW98: =VLOOKUP(BT98,$BC$62:$BE$223,2,FALSE) -> #NUM! | BX98: =VLOOKUP(BT98,$BC$62:$BE$223,3,FALSE) -> #NUM! | BY98: =IFERROR(VLOOKUP($BC98,BU$62:BW$223,3,FALSE),"") | BZ98: =IFERROR(BY98+CA98-1,"") | CA98: =SUMIF($BU$62:$BU$223,$BC98,$BV$62:$BV$223) -> 0
A99: RESUMEN PERFIL | BC99: 128 | BD99: =HLOOKUP(BC99+1,$CE$60:$LU$61,2,FALSE) -> 1 | BE99: =HLOOKUP(BC99,$CE$60:$LU$61,2,FALSE) -> 1 | BF99: =HLOOKUP(BE99,$CE$53:$LT$55,3,FALSE) -> 0 | BG99: =IF(OR(BD99=1,BE99=1),0,IF(AND(BF98=1,(BE98-BD98)<>1),BF99+1,IF(AND(BF99=1,(BE99-BD99<>1)),0,BF99))) -> 0 | BH99: =IF(BG99=0,"",$BC99) | BI99: =LARGE($BH$62:$BH$223,$BC99) -> #NUM! | BJ99: =IFERROR(IF(BM98=BL99,BJ98,BJ98+1),"") | BK99: =IFERROR(VLOOKUP(BI99,$BC$62:$BG$223,5,FALSE),0) -> 0 | BL99: =VLOOKUP(BI99,$BC$62:$BE$223,2,FALSE) -> #NUM! | BM99: =VLOOKUP(BI99,$BC$62:$BE$223,3,FALSE) -> #NUM! | BN99: =IFERROR(VLOOKUP($BC99,BJ$62:BL$223,3,FALSE),"") | BO99: =IFERROR(BN99+BP99-1,"") | BP99: =SUMIF($BJ$62:$BJ$223,$BC99,$BK$62:$BK$223) -> 0 | BQ99: =HLOOKUP(BE99,$CE$53:$LT$55,2,FALSE) -> 0 | BR99: =IF(OR(BD99=1,BE99=1),0,IF(AND(BQ98=1,(BE98-BD98)<>1),BQ99+1,IF(AND(BQ99=1,(BE99-BD99<>1)),0,BQ99))) -> 0 | BS99: =IF(BR99=0,"",$BC99) | BT99: =LARGE($BS$62:$BS$223,$BC99) -> #NUM! | BU99: =IF(BX98=BW99,BU98,BU98+1) -> #NUM! | BV99: =IFERROR(VLOOKUP(BT99,$BC$62:$BR$223,16,FALSE),0) -> 0 | BW99: =VLOOKUP(BT99,$BC$62:$BE$223,2,FALSE) -> #NUM! | BX99: =VLOOKUP(BT99,$BC$62:$BE$223,3,FALSE) -> #NUM! | BY99: =IFERROR(VLOOKUP($BC99,BU$62:BW$223,3,FALSE),"") | BZ99: =IFERROR(BY99+CA99-1,"") | CA99: =SUMIF($BU$62:$BU$223,$BC99,$BV$62:$BV$223) -> 0
A100: CUMPLE DILIGENCIAMIENTO FORMATO | B100: =IF(D38="CUMPLE","CUMPLE","NO CUMPLE") -> CUMPLE
