Workbook

Sheet ESTUDIO MERCADO VEHICULOS
A1: ESTUDIO DE MERCADO
A2: OBJETO: CONTRATAR EL SERVICIO DE MANTENIMIENTO PREVENTIVO Y CORRECTIVO INCLUIDO REPUESTOS PARA EL PARQUE AUTOMOTOR
A3: DESCRIPCIÓN | B3: CATEGORIA A ( 0 - 5 AÑOS DE ANTIGÜEDAD) TOTAL PROPUESTA INCLUIDO MANO DE OBRA, REPUESTOS E IMPUESTOS | G3: CATEGORÍA B ( 6 - 10 AÑOS DE ANTIGÜEDAD) TOTAL PROPUESTA INCLUIDO MANO DE OBRA, REPUESTOS E IMPUESTOS | L3: CATEGORÍA C ( >11 AÑOS DE ANTIGÜEDAD) TOTAL PROPUESTA INCLUIDO MANO DE OBRA, REPUESTOS E IMPUESTOS
A4: DESCRIPCION DE REPUESTOS INCLUYENDO MANO DE OBRA ( A TODO COSTO) | B4: REPUESTOS | D4: MANO DE OBRA | F4: VALOR TOTAL REPUESTOS MAS MANO DE OBRA | G4: REPUESTOS | I4: MANO DE OBRA | K4: VALOR TOTAL REPUESTOS MAS MANO DE OBRA | L4: REPUESTOS | N4: MANO DE OBRA | P4: VALOR TOTAL REPUESTOS MAS MANO DE OBRA
B5: REFERENCIA | C5: VALOR UNIT | D5: TEMPARIO (tiempo total estimado) | E5: VALOR TOTAL MANO DE OBRA | G5: REFERENCIA | H5: VALOR UNIT | I5: TEMPARIO (tiempo total estimado) | J5: VALOR TOTAL MANO DE OBRA | L5: REFERENCIA | M5: VALOR UNIT | N5: TEMPARIO (tiempo total estimado) | O5: VALOR TOTAL MANO DE OBRA
A6: AUTOMÓVIL
A7: BATERÍA 12V X1 | F7: =+'AUT-CAT. A (0-5 AÑOS)'!N2 -> 1109000 | K7: =+'AUT-CAT. B (6-10 AÑOS)'!N2 -> 1124193 | P7: =+'AUT-CAT. C (>11 AÑOS)'!O2 -> 943497
A8: ACEITE MOTOR (EXCEPTO IVA) | F8: =+'AUT-CAT. A (0-5 AÑOS)'!N3 -> 103872 | K8: =+'AUT-CAT. B (6-10 AÑOS)'!N3 -> 105295 | P8: =+'AUT-CAT. C (>11 AÑOS)'!O3 -> 119453
A9: MONTAJE LLANTA X 1 | B9: N/A | C9: N/A | F9: =+'AUT-CAT. A (0-5 AÑOS)'!N4 -> 90000 | K9: =+'AUT-CAT. B (6-10 AÑOS)'!N4 -> 93000 | P9: =+'AUT-CAT. C (>11 AÑOS)'!O4 -> 93000
A10: ALINEACIÓN DIRECCIÓN X2 LLANTAS | B10: N/A | C10: N/A | F10: =+'AUT-CAT. A (0-5 AÑOS)'!N5 -> 180000 | K10: =+'AUT-CAT. B (6-10 AÑOS)'!N5 -> 186000 | P10: =+'AUT-CAT. C (>11 AÑOS)'!O5 -> 186000
A11: BALANCEO LLANTAS X1 LLANTA | F11: =+'AUT-CAT. A (0-5 AÑOS)'!N6 -> 113000 | K11: =+'AUT-CAT. B (6-10 AÑOS)'!N6 -> 114548 | P11: =+'AUT-CAT. C (>11 AÑOS)'!O6 -> 44495
A12: PASTILLAS DE FRENO DELANTERAS | F12: =+'AUT-CAT. A (0-5 AÑOS)'!N7 -> 585000 | K12: =+'AUT-CAT. B (6-10 AÑOS)'!N7 -> 593015 | P12: =+'AUT-CAT. C (>11 AÑOS)'!O7 -> 335000
A13: RECTIFICADORA DE DISCO X UNIDAD | F13: =+'AUT-CAT. A (0-5 AÑOS)'!N8 -> 289000 | K13: =+'AUT-CAT. B (6-10 AÑOS)'!N8 -> 292959 | P13: =+'AUT-CAT. C (>11 AÑOS)'!O8 -> 80000
A14: MUÑECOS DE SUSPENSIÓN X 1 | F14: =+'AUT-CAT. A (0-5 AÑOS)'!N9 -> 240000 | K14: =+'AUT-CAT. B (6-10 AÑOS)'!N9 -> 243288 | P14: =+'AUT-CAT. C (>11 AÑOS)'!O9 -> 270000
A15: BRAZO AXIAL X1 | F15: =+'AUT-CAT. A (0-5 AÑOS)'!N10 -> 450000 | K15: =+'AUT-CAT. B (6-10 AÑOS)'!N10 -> 456165 | P15: =+'AUT-CAT. C (>11 AÑOS)'!O10 -> 260000
A16: FILTRO DE AIRE MOTOR | F16: =+'AUT-CAT. A (0-5 AÑOS)'!N11 -> 144000 | K16: =+'AUT-CAT. B (6-10 AÑOS)'!N11 -> 145973 | P16: =+'AUT-CAT. C (>11 AÑOS)'!O11 -> 165600
A17: FILTRO DE COMBUSTIBLE | F17: =+'AUT-CAT. A (0-5 AÑOS)'!N12 -> 203000 | K17: =+'AUT-CAT. B (6-10 AÑOS)'!N12 -> 205781 | P17: =+'AUT-CAT. C (>11 AÑOS)'!O12 -> 233450
A18: FILTRO DE ACEITE | F18: =+'AUT-CAT. A (0-5 AÑOS)'!N13 -> 116000 | K18: =+'AUT-CAT. B (6-10 AÑOS)'!N13 -> 117589 | P18: =+'AUT-CAT. C (>11 AÑOS)'!O13 -> 133400
A19: FILTRO DE HABITÁCULO | F19: =+'AUT-CAT. A (0-5 AÑOS)'!N14 -> 150000 | K19: =+'AUT-CAT. B (6-10 AÑOS)'!N14 -> 152055 | P19: =+'AUT-CAT. C (>11 AÑOS)'!O14 -> 160000
A20: DESPINCHE LLANTA CON TACO X1 | F20: =+'AUT-CAT. A (0-5 AÑOS)'!N15 -> 70000 | K20: =+'AUT-CAT. B (6-10 AÑOS)'!N15 -> 70959 | P20: =+'AUT-CAT. C (>11 AÑOS)'!O15 -> 70000
A21: DESPINCHE CON PARCHE CON TACO X1 | F21: =+'AUT-CAT. A (0-5 AÑOS)'!N16 -> 75000 | K21: =+'AUT-CAT. B (6-10 AÑOS)'!N16 -> 76028 | P21: =+'AUT-CAT. C (>11 AÑOS)'!O16 -> 50000
A22: RECTIFICACIÓN DE DISCOS DE FRENO X1 | F22: =+'AUT-CAT. A (0-5 AÑOS)'!N17 -> 282000 | K22: =+'AUT-CAT. B (6-10 AÑOS)'!N17 -> 285863 | P22: =+'AUT-CAT. C (>11 AÑOS)'!O17 -> 80000
... A60: PULIDA DE FAROLAS | F60: =+'AUT-CAT. A (0-5 AÑOS)'!N55 -> 468000 | K60: =+'AUT-CAT. B (6-10 AÑOS)'!N55 -> 474412 | P60: =+'AUT-CAT. C (>11 AÑOS)'!O55 -> 350000
A61: BUSETA
A62: BATERÍA 12V X1 | F62: =+'BUSETA-CAT. A (0-6 AÑOS)'!N2 -> 1175540 | K62: =+'BUSETA-CAT. B (6-10 AÑOS)'!O2 -> 1166871.2 | P62: =+'BUSETA-CAT. C (>11 AÑOS)'!N2 -> 1351871
A63: ACEITE MOTOR (EXCEPTO IVA) | F63: =+'BUSETA-CAT. A (0-6 AÑOS)'!N3 -> 110104.32 | K63: =+'BUSETA-CAT. B (6-10 AÑOS)'!O3 -> 111613 | P63: =+'BUSETA-CAT. C (>11 AÑOS)'!N3 -> 126620
A64: MONTAJE LLANTA X 1 | B64: N/A | C64: N/A | F64: =+'BUSETA-CAT. A (0-6 AÑOS)'!N4 -> 90000 | K64: =+'BUSETA-CAT. B (6-10 AÑOS)'!O4 -> 93000 | P64: =+'BUSETA-CAT. C (>11 AÑOS)'!N4 -> 93000
A65: ALINEACIÓN DIRECCIÓN X2 LLANTAS | B65: N/A | C65: N/A | F65: =+'BUSETA-CAT. A (0-6 AÑOS)'!N5 -> 180000 | K65: =+'BUSETA-CAT. B (6-10 AÑOS)'!O5 -> 186000 | P65: =+'BUSETA-CAT. C (>11 AÑOS)'!N5 -> 186000
A66: BALANCEO LLANTAS X1 LLANTA | F66: =+'BUSETA-CAT. A (0-6 AÑOS)'!N6 -> 119780 | K66: =+'BUSETA-CAT. B (6-10 AÑOS)'!O6 -> 55618.75 | P66: =+'BUSETA-CAT. C (>11 AÑOS)'!N6 -> 137747
A67: PASTILLAS DE FRENO DELANTERAS | F67: =+'BUSETA-CAT. A (0-6 AÑOS)'!N7 -> 620100 | K67: =+'BUSETA-CAT. B (6-10 AÑOS)'!O7 -> 401250 | P67: =+'BUSETA-CAT. C (>11 AÑOS)'!N7 -> 713115
A68: RECTIFICADORA DE DISCO X UNIDAD | F68: =+'BUSETA-CAT. A (0-6 AÑOS)'!N8 -> 306340 | K68: =+'BUSETA-CAT. B (6-10 AÑOS)'!O8 -> 100000 | P68: =+'BUSETA-CAT. C (>11 AÑOS)'!N8 -> 352291
A69: MUÑECOS DE SUSPENSIÓN X 1 | F69: =+'BUSETA-CAT. A (0-6 AÑOS)'!N9 -> 254400 | K69: =+'BUSETA-CAT. B (6-10 AÑOS)'!O9 -> 257885 | P69: =+'BUSETA-CAT. C (>11 AÑOS)'!N9 -> 292560
A70: BRAZO AXIAL X1 | F70: =+'BUSETA-CAT. A (0-6 AÑOS)'!N10 -> 477000 | K70: =+'BUSETA-CAT. B (6-10 AÑOS)'!O10 -> 325000 | P70: =+'BUSETA-CAT. C (>11 AÑOS)'!N10 -> 548550
A71: FILTRO DE AIRE MOTOR | F71: =+'BUSETA-CAT. A (0-6 AÑOS)'!N11 -> 152640 | K71: =+'BUSETA-CAT. B (6-10 AÑOS)'!O11 -> 154732 | P71: =+'BUSETA-CAT. C (>11 AÑOS)'!N11 -> 175536
A72: FILTRO DE COMBUSTIBLE | F72: =+'BUSETA-CAT. A (0-6 AÑOS)'!N12 -> 215180 | K72: =+'BUSETA-CAT. B (6-10 AÑOS)'!O12 -> 218128 | P72: =+'BUSETA-CAT. C (>11 AÑOS)'!N12 -> 247457
A73: FILTRO DE ACEITE | F73: =+'BUSETA-CAT. A (0-6 AÑOS)'!N13 -> 122960 | K73: =+'BUSETA-CAT. B (6-10 AÑOS)'!O13 -> 124644 | P73: =+'BUSETA-CAT. C (>11 AÑOS)'!N13 -> 141404
A74: FILTRO DE HABITÁCULO | F74: =+'BUSETA-CAT. A (0-6 AÑOS)'!N14 -> 159000 | K74: =+'BUSETA-CAT. B (6-10 AÑOS)'!O14 -> 161178 | P74: =+'BUSETA-CAT. C (>11 AÑOS)'!N14 -> 182850
A75: DESPINCHE LLANTA CON TACO X1 | F75: =+'BUSETA-CAT. A (0-6 AÑOS)'!N15 -> 74200 | K75: =+'BUSETA-CAT. B (6-10 AÑOS)'!O15 -> 75217 | P75: =+'BUSETA-CAT. C (>11 AÑOS)'!N15 -> 85330
A76: DESPINCHE CON PARCHE CON TACO X1 | F76: =+'BUSETA-CAT. A (0-6 AÑOS)'!N16 -> 79500 | K76: =+'BUSETA-CAT. B (6-10 AÑOS)'!O16 -> 62500 | P76: =+'BUSETA-CAT. C (>11 AÑOS)'!N16 -> 91425
A77: RECTIFICACIÓN DE DISCOS DE FRENO X1 | F77: =+'BUSETA-CAT. A (0-6 AÑOS)'!N17 -> 298920 | K77: =+'BUSETA-CAT. B (6-10 AÑOS)'!O17 -> 100000 | P77: =+'BUSETA-CAT. C (>11 AÑOS)'!N17 -> 343758
...

Sheet ESTUDIO MERCADO MOTOS Y CUATR.
A1: ESTUDIO DE MERCADO SERVICIOS AUTOLLANOS
A2: OBJETO: CONTRATAR EL SERVICIO DE MANTENIMIENTO PREVENTIVO Y CORRECTIVO INCLUIDO REPUESTOS PARA EL PARQUE AUTOMOTOR
A3: DESCRIPCIÓN | B3: CATEGORIA A ( 0 - 5 AÑOS DE ANTIGÜEDAD) TOTAL PROPUESTA INCLUIDO MANO DE OBRA, REPUESTOS E IMPUESTOS | G3: CATEGORÍA B ( 6 - 10 AÑOS DE ANTIGÜEDAD) TOTAL PROPUESTA INCLUIDO MANO DE OBRA, REPUESTOS E IMPUESTOS | L3: CATEGORÍA C ( >11 AÑOS DE ANTIGÜEDAD) TOTAL PROPUESTA INCLUIDO MANO DE OBRA, REPUESTOS E IMPUESTOS
A4: DESCRIPCION DE REPUESTOS INCLUYENDO MANO DE OBRA ( A TODO COSTO) | B4: REPUESTOS | D4: MANO DE OBRA | F4: VALOR TOTAL REPUESTOS MAS MANO DE OBRA | G4: REPUESTOS | I4: MANO DE OBRA | K4: VALOR TOTAL REPUESTOS MAS MANO DE OBRA | L4: REPUESTOS | N4: MANO DE OBRA | P4: VALOR TOTAL REPUESTOS MAS MANO DE OBRA
B5: REFERENCIA | C5: VALOR UNIT | D5: TEMPARIO (tiempo total estimado) | E5: VALOR TOTAL MANO DE OBRA | G5: REFERENCIA | H5: VALOR UNIT | I5: TEMPARIO (tiempo total estimado) | J5: VALOR TOTAL MANO DE OBRA | L5: REFERENCIA | M5: VALOR UNIT | N5: TEMPARIO (tiempo total estimado) | O5: VALOR TOTAL MANO DE OBRA
A6: ACEITE MOTOR (EXCENTO IVA) | F6: =+'MOTOS.CUATR-CAT. A (0-5 AÑOS)'!N2 -> 68350 | K6: =+'MOTOS.CUATR-CAT. B (6-10 AÑOS)'!N2 -> 73012 | M6: 90000 | O6: 25000 | P6: =+'MOTOS.CUATR-CAT. C (>11 AÑOS)'!O2 -> 78603
A7: FILTRO ACEITE | F7: =+'MOTOS.CUATR-CAT. A (0-5 AÑOS)'!N3 -> 73729 | K7: =+'MOTOS.CUATR-CAT. B (6-10 AÑOS)'!N3 -> 78758 | M7: 60000 | O7: 20000 | P7: =+'MOTOS.CUATR-CAT. C (>11 AÑOS)'!O3 -> 80000
A8: FILTRO AIRE | F8: =+'MOTOS.CUATR-CAT. A (0-5 AÑOS)'!N4 -> 73224 | K8: =+'MOTOS.CUATR-CAT. B (6-10 AÑOS)'!N4 -> 78218 | M8: 50000 | O8: 20000 | P8: =+'MOTOS.CUATR-CAT. C (>11 AÑOS)'!O4 -> 70000
A9: FILTRO GASOLINA | F9: =+'MOTOS.CUATR-CAT. A (0-5 AÑOS)'!N5 -> 65147 | K9: =+'MOTOS.CUATR-CAT. B (6-10 AÑOS)'!N5 -> 69590 | M9: 65000 | O9: 20000 | P9: =+'MOTOS.CUATR-CAT. C (>11 AÑOS)'!O5 -> 74919
A10: EMPAQUE TAPON | F10: =+'MOTOS.CUATR-CAT. A (0-5 AÑOS)'!N6 -> 28826 | K10: =+'MOTOS.CUATR-CAT. B (6-10 AÑOS)'!N6 -> 30792 | M10: 30000 | O10: 20000 | P10: =+'MOTOS.CUATR-CAT. C (>11 AÑOS)'!O6 -> 33150
A11: DISCO DE FRENO DELANTERO | F11: =+'MOTOS.CUATR-CAT. A (0-5 AÑOS)'!N7 -> 223993 | K11: =+'MOTOS.CUATR-CAT. B (6-10 AÑOS)'!N7 -> 239269 | M11: 240000 | O11: 80000 | P11: =+'MOTOS.CUATR-CAT. C (>11 AÑOS)'!O7 -> 257592
A12: DISCO DE FRENO DELANTERO | F12: =+'MOTOS.CUATR-CAT. A (0-5 AÑOS)'!N8 -> 223993 | K12: =+'MOTOS.CUATR-CAT. B (6-10 AÑOS)'!N8 -> 239269 | M12: 260000 | O12: 80000 | P12: =+'MOTOS.CUATR-CAT. C (>11 AÑOS)'!O8 -> 257592
A13: CAMPANA DE FRENO TRASERO | F13: =+'MOTOS.CUATR-CAT. A (0-5 AÑOS)'!N9 -> 329672 | K13: =+'MOTOS.CUATR-CAT. B (6-10 AÑOS)'!N9 -> 352155 | M13: 180000 | O13: 60000 | P13: =+'MOTOS.CUATR-CAT. C (>11 AÑOS)'!O9 -> 240000
A14: PASTILLAS DE FRENO DELANTERAS | F14: =+'MOTOS.CUATR-CAT. A (0-5 AÑOS)'!N10 -> 311272 | K14: =+'MOTOS.CUATR-CAT. B (6-10 AÑOS)'!N10 -> 332500 | M14: 190000 | O14: 60000 | P14: =+'MOTOS.CUATR-CAT. C (>11 AÑOS)'!O10 -> 250000
A15: BANDAS FRENO TRASERO | F15: =+'MOTOS.CUATR-CAT. A (0-5 AÑOS)'!N11 -> 345033 | K15: =+'MOTOS.CUATR-CAT. B (6-10 AÑOS)'!N11 -> 368564 | M15: 160000 | O15: 40000 | P15: =+'MOTOS.CUATR-CAT. C (>11 AÑOS)'!O11 -> 200000
A16: GUAYA FRENO | F16: =+'MOTOS.CUATR-CAT. A (0-5 AÑOS)'!N12 -> 198252 | K16: =+'MOTOS.CUATR-CAT. B (6-10 AÑOS)'!N12 -> 211773 | M16: 220000 | O16: 60000 | P16: =+'MOTOS.CUATR-CAT. C (>11 AÑOS)'!O12 -> 227990
A17: GUAYA EMBRAGUE | F17: =+'MOTOS.CUATR-CAT. A (0-5 AÑOS)'!N13 -> 198252 | K17: =+'MOTOS.CUATR-CAT. B (6-10 AÑOS)'!N13 -> 211773 | M17: 380000 | O17: 190000 | P17: =+'MOTOS.CUATR-CAT. C (>11 AÑOS)'!O13 -> 227990
... A24: BOMBILLO DIRECCIONAL | F24: =+'MOTOS.CUATR-CAT. A (0-5 AÑOS)'!N20 -> 55332 | K24: =+'MOTOS.CUATR-CAT. B (6-10 AÑOS)'!N20 -> 59106 | M24: 25000 | O24: 10000 | P24: =+'MOTOS.CUATR-CAT. C (>11 AÑOS)'!O20 -> 35000
A25: SINCRONIZACION | F25: =+'MOTOS.CUATR-CAT. A (0-5 AÑOS)'!N21 -> 291023 | K25: =+'MOTOS.CUATR-CAT. B (6-10 AÑOS)'!N21 -> 310871 | M25: 360000 | P25: =+'MOTOS.CUATR-CAT. C (>11 AÑOS)'!O21 -> 334676
A26: BUJIA | F26: =+'MOTOS.CUATR-CAT. A (0-5 AÑOS)'!N22 -> 107006 | K26: =+'MOTOS.CUATR-CAT. B (6-10 AÑOS)'!N22 -> 114304 | M26: 90000 | O26: 30000 | P26: =+'MOTOS.CUATR-CAT. C (>11 AÑOS)'!O22 -> 120000
A27: REVISION SISTEMA ELECTRICO | F27: =+'MOTOS.CUATR-CAT. A (0-5 AÑOS)'!N23 -> 238945 | K27: =+'MOTOS.CUATR-CAT. B (6-10 AÑOS)'!N23 -> 255241 | M27: 80000 | P27: =+'MOTOS.CUATR-CAT. C (>11 AÑOS)'!O23 -> 80000
A28: ENGRASE Y TENSION CADENA | F28: =+'MOTOS.CUATR-CAT. A (0-5 AÑOS)'!N24 -> 263092 | K28: =+'MOTOS.CUATR-CAT. B (6-10 AÑOS)'!N24 -> 281035 | M28: 60000 | P28: =+'MOTOS.CUATR-CAT. C (>11 AÑOS)'!O24 -> 60000
A29: DESPINCHE CON TACO | F29: =+'MOTOS.CUATR-CAT. A (0-5 AÑOS)'!N25 -> 113780 | K29: =+'MOTOS.CUATR-CAT. B (6-10 AÑOS)'!N25 -> 121540 | M29: 35000 | P29: =+'MOTOS.CUATR-CAT. C (>11 AÑOS)'!O25 -> 35000
A30: REVISION CUNAS DIRECCION | F30: =+'MOTOS.CUATR-CAT. A (0-5 AÑOS)'!N26 -> 194471 | K30: =+'MOTOS.CUATR-CAT. B (6-10 AÑOS)'!N26 -> 207734 | M30: 60000 | P30: =+'MOTOS.CUATR-CAT. C (>11 AÑOS)'!O26 -> 60000
A31: REVISION RODAMIENTOS RUEDAS | F31: =+'MOTOS.CUATR-CAT. A (0-5 AÑOS)'!N27 -> 243843 | K31: =+'MOTOS.CUATR-CAT. B (6-10 AÑOS)'!N27 -> 260473 | M31: 60000 | P31: =+'MOTOS.CUATR-CAT. C (>11 AÑOS)'!O27 -> 60000
A32: REVISION PITO | F32: =+'MOTOS.CUATR-CAT. A (0-5 AÑOS)'!N28 -> 110882 | K32: =+'MOTOS.CUATR-CAT. B (6-10 AÑOS)'!N28 -> 118444 | M32: 40000 | P32: =+'MOTOS.CUATR-CAT. C (>11 AÑOS)'!O28 -> 40000
A33: TOTAL | B33: =SUM(B6:B32) -> 0 | C33: =SUM(C6:C32) -> 0 | D33: =SUM(D6:D32) -> 0 | E33: =SUM(E6:E32) -> 0 | F33: =SUM(F6:F32) -> 5653402 | G33: =SUM(G6:G32) -> 0 | H33: =SUM(H6:H32) -> 0 | I33: =SUM(I6:I32) -> 0 | ... P33: =SUM(P6:P32) -> 4236539
A35: Nota: El valor del servicio de la revisión técnico-mecánica, deberá ser cobrado de acuerdo a lo establecido en la Resolución No. 20213040063835 del Ministerio de Transporte, “Por la cual se modifica el artículo 1 de la Resolución 3318 de 2015, que establece las condiciones, características de seguridad y rangos de precios al usuario para los servicios prestados por los Centros de Diagnóstico Automotor”. En dicha resolución se modifica el artículo 1 de la Resolución 3318 de 2015, quedando de la siguiente manera: Artículo 1. Rango de precios al usuario de los Centros de Diagnóstico Automotor. Los Centros de Diagnóstico Automotor ofrecerán sus servicios a los usuarios dentro del rango de precios expresado en Unidades de Valor Tributario (UVT). Adicionalmente, se precisa que no podrá superarse el valor máximo estipulado en la citada resolución.

Sheet AUT-CAT. A (0-5 AÑOS)
A1: ITEM | B1: DESCRIPCION | E1: Cotización 1 JAKO IMPORTACIONES | F1: Cotización 2 VOLTACAR | I1: MÍNIMOS | J1: MÁXIMOS | K1: MEDIA GEOMÉTRICA | L1: MEDIANA | M1: PROMEDIO | N1: Precio Comercial 2026 | P1: Desviación Estandar | Q1: Interpretación en Análisis de Mercado | R1: Coeficiente de variación | S1: Interpretación Clave en Precios
A2: 1 | B2: BATERÍA 12V X1 | E2: 1109000 | F2: 1153360 | I2: =+MIN(E2,F2) -> 1109000 | J2: =+MAX(E2,F2) -> 1153360 | K2: =+GEOMEAN(F2,E2) -> 1130962.5 | L2: =+MEDIAN(F2,E2) -> 1131180 | M2: =+AVERAGE(F2,E2) -> 1131180 | N2: =+I2 -> 1109000 | P2: =+_xlfn.STDEV.S(E2,F2) -> 31367.257 | Q2: =+IF(P2<20000,"Los precios son similares, sugiriendo un mercado estable y competitivo.","Existe gran diferencia, indicando alta volatilidad o falta de consenso en el valor. ") -> Existe gran diferencia, indicando alta volatilidad o falta de consenso en el valor. | R2: =+_xlfn.STDEV.P(E2,F2)/M2 -> 0.019607843 | S2: =+IF(R2<30%,"Los precios son homogéneos. Hay poca dispersión, indicando un mercado estable donde la mayoría de los productos se venden a precios cercanos al promedio","Existe una gran dispersión de precios, lo que indica alta volatilidad o falta de uniformidad en el mercado. La media pierde representatividad") -> Los precios son homogéneos. Hay poca dispersión, indicando un mercado estable donde la mayoría de los productos se venden a precios cercanos al promedio
A3: 2 | B3: ACEITE MOTOR (EXCEPTO IVA) | E3: 103872 | F3: 108027 | I3: =+MIN(E3,F3) -> 103872 | J3: =+MAX(E3,F3) -> 108027 | K3: =+GEOMEAN(F3,E3) -> 105929.13 | L3: =+MEDIAN(F3,E3) -> 105949.5 | M3: =+AVERAGE(F3,E3) -> 105949.5 | N3: =+I3 -> 103872 | P3: =+_xlfn.STDEV.S(E3,F3) -> 2938.0287 | Q3: =+IF(P3<20000,"Los precios son similares, sugiriendo un mercado estable y competitivo.","Existe gran diferencia, indicando alta volatilidad o falta de consenso en el valor. ") -> Los precios son similares, sugiriendo un mercado estable y competitivo. | R3: =+_xlfn.STDEV.P(E3,F3)/M3 -> 0.019608398 | S3: =+IF(R3<30%,"Los precios son homogéneos. Hay poca dispersión, indicando un mercado estable donde la mayoría de los productos se venden a precios cercanos al promedio","Existe una gran dispersión de precios, lo que indica alta volatilidad o falta de uniformidad en el mercado. La media pierde representatividad") -> Los precios son homogéneos. Hay poca dispersión, indicando un mercado estable donde la mayoría de los productos se venden a precios cercanos al promedio
A4: 3 | B4: MONTAJE LLANTA X 1 | E4: 90000 | F4: 93000 | I4: =+MIN(E4,F4) -> 90000 | J4: =+MAX(E4,F4) -> 93000 | K4: =+GEOMEAN(F4,E4) -> 91487.704 | L4: =+MEDIAN(F4,E4) -> 91500 | M4: =+AVERAGE(F4,E4) -> 91500 | N4: =+I4 -> 90000 | P4: =+_xlfn.STDEV.S(E4,F4) -> 2121.3203 | Q4: =+IF(P4<20000,"Los precios son similares, sugiriendo un mercado estable y competitivo.","Existe gran diferencia, indicando alta volatilidad o falta de consenso en el valor. ") -> Los precios son similares, sugiriendo un mercado estable y competitivo. | R4: =+_xlfn.STDEV.P(E4,F4)/M4 -> 0.016393443 | S4: =+IF(R4<30%,"Los precios son homogéneos. Hay poca dispersión, indicando un mercado estable donde la mayoría de los productos se venden a precios cercanos al promedio","Existe una gran dispersión de precios, lo que indica alta volatilidad o falta de uniformidad en el mercado. La media pierde representatividad") -> Los precios son homogéneos. Hay poca dispersión, indicando un mercado estable donde la mayoría de los productos se venden a precios cercanos al promedio
A5: 4 | B5: ALINEACIÓN DIRECCIÓN X2 LLANTAS | E5: 180000 | F5: 186000 | I5: =+MIN(E5,F5) -> 180000 | J5: =+MAX(E5,F5) -> 186000 | K5: =+GEOMEAN(F5,E5) -> 182975.41 | L5: =+MEDIAN(F5,E5) -> 183000 | M5: =+AVERAGE(F5,E5) -> 183000 | N5: =+I5 -> 180000 | P5: =+_xlfn.STDEV.S(E5,F5) -> 4242.6407 | Q5: =+IF(P5<20000,"Los precios son similares, sugiriendo un mercado estable y competitivo.","Existe gran diferencia, indicando alta volatilidad o falta de consenso en el valor. ") -> Los precios son similares, sugiriendo un mercado estable y competitivo. | R5: =+_xlfn.STDEV.P(E5,F5)/M5 -> 0.016393443 | S5: =+IF(R5<30%,"Los precios son homogéneos. Hay poca dispersión, indicando un mercado estable donde la mayoría de los productos se venden a precios cercanos al promedio","Existe una gran dispersión de precios, lo que indica alta volatilidad o falta de uniformidad en el mercado. La media pierde representatividad") -> Los precios son homogéneos. Hay poca dispersión, indicando un mercado estable donde la mayoría de los productos se venden a precios cercanos al promedio
A6: 5 | B6: BALANCEO LLANTAS X1 LLANTA | E6: 113000 | F6: 117520 | I6: =+MIN(E6,F6) -> 113000 | J6: =+MAX(E6,F6) -> 117520 | K6: =+GEOMEAN(F6,E6) -> 115237.84 | L6: =+MEDIAN(F6,E6) -> 115260 | M6: =+AVERAGE(F6,E6) -> 115260 | N6: =+I6 -> 113000 | P6: =+_xlfn.STDEV.S(E6,F6) -> 3196.1227 | Q6: =+IF(P6<20000,"Los precios son similares, sugiriendo un mercado estable y competitivo.","Existe gran diferencia, indicando alta volatilidad o falta de consenso en el valor. ") -> Los precios son similares, sugiriendo un mercado estable y competitivo. | R6: =+_xlfn.STDEV.P(E6,F6)/M6 -> 0.019607843 | S6: =+IF(R6<30%,"Los precios son homogéneos. Hay poca dispersión, indicando un mercado estable donde la mayoría de los productos se venden a precios cercanos al promedio","Existe una gran dispersión de precios, lo que indica alta volatilidad o falta de uniformidad en el mercado. La media pierde representatividad") -> Los precios son homogéneos. Hay poca dispersión, indicando un mercado estable donde la mayoría de los productos se venden a precios cercanos al promedio
A7: 6 | B7: PASTILLAS DE FRENO DELANTERAS | E7: 585000 | F7: 608400 | I7: =+MIN(E7,F7) -> 585000 | J7: =+MAX(E7,F7) -> 608400 | K7: =+GEOMEAN(F7,E7) -> 596585.28 | L7: =+MEDIAN(F7,E7) -> 596700 | M7: =+AVERAGE(F7,E7) -> 596700 | N7: =+I7 -> 585000 | P7: =+_xlfn.STDEV.S(E7,F7) -> 16546.299 | Q7: =+IF(P7<20000,"Los precios son similares, sugiriendo un mercado estable y competitivo.","Existe gran diferencia, indicando alta volatilidad o falta de consenso en el valor. ") -> Los precios son similares, sugiriendo un mercado estable y competitivo. | R7: =+_xlfn.STDEV.P(E7,F7)/M7 -> 0.019607843 | S7: =+IF(R7<30%,"Los precios son homogéneos. Hay poca dispersión, indicando un mercado estable donde la mayoría de los productos se venden a precios cercanos al promedio","Existe una gran dispersión de precios, lo que indica alta volatilidad o falta de uniformidad en el mercado. La media pierde representatividad") -> Los precios son homogéneos. Hay poca dispersión, indicando un mercado estable donde la mayoría de los productos se venden a precios cercanos al promedio
A8: 7 | B8: RECTIFICADORA DE DISCO X UNIDAD | E8: 289000 | F8: 300560 | I8: =+MIN(E8,F8) -> 289000 | J8: =+MAX(E8,F8) -> 300560 | K8: =+GEOMEAN(F8,E8) -> 294723.33 | L8: =+MEDIAN(F8,E8) -> 294780 | M8: =+AVERAGE(F8,E8) -> 294780 | N8: =+I8 -> 289000 | P8: =+_xlfn.STDEV.S(E8,F8) -> 8174.1544 | Q8: =+IF(P8<20000,"Los precios son similares, sugiriendo un mercado estable y competitivo.","Existe gran diferencia, indicando alta volatilidad o falta de consenso en el valor. ") -> Los precios son similares, sugiriendo un mercado estable y competitivo. | R8: =+_xlfn.STDEV.P(E8,F8)/M8 -> 0.019607843 | S8: =+IF(R8<30%,"Los precios son homogéneos. Hay poca dispersión, indicando un mercado estable donde la mayoría de los productos se venden a precios cercanos al promedio","Existe una gran dispersión de precios, lo que indica alta volatilidad o falta de uniformidad en el mercado. La media pierde representatividad") -> Los precios son homogéneos. Hay poca dispersión, indicando un mercado estable donde la mayoría de los productos se venden a precios cercanos al promedio
A9: 8 | B9: MUÑECOS DE SUSPENSIÓN X 1 | E9: 240000 | F9: 249600 | I9: =+MIN(E9,F9) -> 240000 | J9: =+MAX(E9,F9) -> 249600 | K9: =+GEOMEAN(F9,E9) -> 244752.94 | L9: =+MEDIAN(F9,E9) -> 244800 | M9: =+AVERAGE(F9,E9) -> 244800 | N9: =+I9 -> 240000 | P9: =+_xlfn.STDEV.S(E9,F9) -> 6788.2251 | Q9: =+IF(P9<20000,"Los precios son similares, sugiriendo un mercado estable y competitivo.","Existe gran diferencia, indicando alta volatilidad o falta de consenso en el valor. ") -> Los precios son similares, sugiriendo un mercado estable y competitivo. | R9: =+_xlfn.STDEV.P(E9,F9)/M9 -> 0.019607843 | S9: =+IF(R9<30%,"Los precios son homogéneos. Hay poca dispersión, indicando un mercado estable donde la mayoría de los productos se venden a precios cercanos al promedio","Existe una gran dispersión de precios, lo que indica alta volatilidad o falta de uniformidad en el mercado. La media pierde representatividad") -> Los precios son homogéneos. Hay poca dispersión, indicando un mercado estable donde la mayoría de los productos se venden a precios cercanos al promedio
A10: 9 | B10: BRAZO AXIAL X1 | E10: 450000 | F10: 468000 | I10: =+MIN(E10,F10) -> 450000 | J10: =+MAX(E10,F10) -> 468000 | K10: =+GEOMEAN(F10,E10) -> 458911.76 | L10: =+MEDIAN(F10,E10) -> 459000 | M10: =+AVERAGE(F10,E10) -> 459000 | N10: =+I10 -> 450000 | P10: =+_xlfn.STDEV.S(E10,F10) -> 12727.922 | Q10: =+IF(P10<20000,"Los precios son similares, sugiriendo un mercado estable y competitivo.","Existe gran diferencia, indicando alta volatilidad o falta de consenso en el valor. ") -> Los precios son similares, sugiriendo un mercado estable y competitivo. | R10: =+_xlfn.STDEV.P(E10,F10)/M10 -> 0.019607843 | S10: =+IF(R10<30%,"Los precios son homogéneos. Hay poca dispersión, indicando un mercado estable donde la mayoría de los productos se venden a precios cercanos al promedio","Existe una gran dispersión de precios, lo que indica alta volatilidad o falta de uniformidad en el mercado. La media pierde representatividad") -> Los precios son homogéneos. Hay poca dispersión, indicando un mercado estable donde la mayoría de los productos se venden a precios cercanos al promedio
A11: 10 | B11: FILTRO DE AIRE MOTOR | E11: 144000 | F11: 149760 | I11: =+MIN(E11,F11) -> 144000 | J11: =+MAX(E11,F11) -> 149760 | K11: =+GEOMEAN(F11,E11) -> 146851.76 | L11: =+MEDIAN(F11,E11) -> 146880 | M11: =+AVERAGE(F11,E11) -> 146880 | N11: =+I11 -> 144000 | P11: =+_xlfn.STDEV.S(E11,F11) -> 4072.9351 | Q11: =+IF(P11<20000,"Los precios son similares, sugiriendo un mercado estable y competitivo.","Existe gran diferencia, indicando alta volatilidad o falta de consenso en el valor. ") -> Los precios son similares, sugiriendo un mercado estable y competitivo. | R11: =+_xlfn.STDEV.P(E11,F11)/M11 -> 0.019607843 | S11: =+IF(R11<30%,"Los precios son homogéneos. Hay poca dispersión, indicando un mercado estable donde la mayoría de los productos se venden a precios cercanos al promedio","Existe una gran dispersión de precios, lo que indica alta volatilidad o falta de uniformidad en el mercado. La media pierde representatividad") -> Los precios son homogéneos. Hay poca dispersión, indicando un mercado estable donde la mayoría de los productos se venden a precios cercanos al promedio
A12: 11 | B12: FILTRO DE COMBUSTIBLE | E12: 203000 | F12: 211120 | I12: =+MIN(E12,F12) -> 203000 | J12: =+MAX(E12,F12) -> 211120 | K12: =+GEOMEAN(F12,E12) -> 207020.19 | L12: =+MEDIAN(F12,E12) -> 207060 | M12: =+AVERAGE(F12,E12) -> 207060 | N12: =+I12 -> 203000 | P12: =+_xlfn.STDEV.S(E12,F12) -> 5741.7071 | Q12: =+IF(P12<20000,"Los precios son similares, sugiriendo un mercado estable y competitivo.","Existe gran diferencia, indicando alta volatilidad o falta de consenso en el valor. ") -> Los precios son similares, sugiriendo un mercado estable y competitivo. | R12: =+_xlfn.STDEV.P(E12,F12)/M12 -> 0.019607843 | S12: =+IF(R12<30%,"Los precios son homogéneos. Hay poca dispersión, indicando un mercado estable donde la mayoría de los productos se venden a precios cercanos al promedio","Existe una gran dispersión de precios, lo que indica alta volatilidad o falta de uniformidad en el mercado. La media pierde representatividad") -> Los precios son homogéneos. Hay poca dispersión, indicando un mercado estable donde la mayoría de los productos se venden a precios cercanos al promedio
A13: 12 | B13: FILTRO DE ACEITE | E13: 116000 | F13: 120640 | I13: =+MIN(E13,F13) -> 116000 | J13: =+MAX(E13,F13) -> 120640 | K13: =+GEOMEAN(F13,E13) -> 118297.25 | L13: =+MEDIAN(F13,E13) -> 118320 | M13: =+AVERAGE(F13,E13) -> 118320 | N13: =+I13 -> 116000 | P13: =+_xlfn.STDEV.S(E13,F13) -> 3280.9755 | Q13: =+IF(P13<20000,"Los precios son similares, sugiriendo un mercado estable y competitivo.","Existe gran diferencia, indicando alta volatilidad o falta de consenso en el valor. ") -> Los precios son similares, sugiriendo un mercado estable y competitivo. | R13: =+_xlfn.STDEV.P(E13,F13)/M13 -> 0.019607843 | S13: =+IF(R13<30%,"Los precios son homogéneos. Hay poca dispersión, indicando un mercado estable donde la mayoría de los productos se venden a precios cercanos al promedio","Existe una gran dispersión de precios, lo que indica alta volatilidad o falta de uniformidad en el mercado. La media pierde representatividad") -> Los precios son homogéneos. Hay poca dispersión, indicando un mercado estable donde la mayoría de los productos se venden a precios cercanos al promedio
... A55: 54 | B55: PULIDA DE FAROLAS | E55: 468000 | F55: 486720 | I55: =+MIN(E55,F55) -> 468000 | J55: =+MAX(E55,F55) -> 486720 | K55: =+GEOMEAN(F55,E55) -> 477268.23 | L55: =+MEDIAN(F55,E55) -> 477360 | M55: =+AVERAGE(F55,E55) -> 477360 | N55: =+I55 -> 468000 | P55: =+_xlfn.STDEV.S(E55,F55) -> 13237.039 | Q55: =+IF(P55<20000,"Los precios son similares, sugiriendo un mercado estable y competitivo.","Existe gran diferencia, indicando alta volatilidad o falta de consenso en el valor. ") -> Los precios son similares, sugiriendo un mercado estable y competitivo. | R55: =+_xlfn.STDEV.P(E55,F55)/M55 -> 0.019607843 | S55: =+IF(R55<30%,"Los precios son homogéneos. Hay poca dispersión, indicando un mercado estable donde la mayoría de los productos se venden a precios cercanos al promedio","Existe una gran dispersión de precios, lo que indica alta volatilidad o falta de uniformidad en el mercado. La media pierde representatividad") -> Los precios son homogéneos. Hay poca dispersión, indicando un mercado estable donde la mayoría de los productos se venden a precios cercanos al promedio

Sheet AUT-CAT. B (6-10 AÑOS)
A1: ITEM | B1: DESCRIPCION | E1: Cotización 1 JAKO IMPORTACIONES | F1: Cotización 2 VOLTACAR | I1: MÍNIMOS | J1: MÁXIMOS | K1: MEDIA GEOMÉTRICA | L1: MEDIANA | M1: PROMEDIO | N1: Precio Comercial 2026 | P1: Desviación Estandar | Q1: Interpretación en Análisis de Mercado | R1: Coeficiente de variación | S1: Interpretación Clave en Precios
A2: 1 | B2: BATERÍA 12V X1 | E2: 1208810 | F2: 1124193 | I2: =+MIN(E2,F2) -> 1124193 | J2: =+MAX(E2,F2) -> 1208810 | K2: =+GEOMEAN(F2,E2) -> 1165734 | L2: =+MEDIAN(F2,E2) -> 1166501.5 | M2: =+AVERAGE(F2,E2) -> 1166501.5 | N2: =+I2 -> 1124193 | P2: =+_xlfn.STDEV.S(E2,F2) -> 59833.255 | Q2: =+IF(P2<20000,"Los precios son similares, sugiriendo un mercado estable y competitivo.","Existe gran diferencia, indicando alta volatilidad o falta de consenso en el valor. ") -> Existe gran diferencia, indicando alta volatilidad o falta de consenso en el valor. | R2: =+_xlfn.STDEV.P(E2,F2)/M2 -> 0.036269563 | S2: =+IF(R2<30%,"Los precios son homogéneos. Hay poca dispersión, indicando un mercado estable donde la mayoría de los productos se venden a precios cercanos al promedio","Existe una gran dispersión de precios, lo que indica alta volatilidad o falta de uniformidad en el mercado. La media pierde representatividad") -> Los precios son homogéneos. Hay poca dispersión, indicando un mercado estable donde la mayoría de los productos se venden a precios cercanos al promedio
A3: 2 | B3: ACEITE MOTOR (EXCEPTO IVA) | E3: 113220 | F3: 105295 | I3: =+MIN(E3,F3) -> 105295 | J3: =+MAX(E3,F3) -> 113220 | K3: =+GEOMEAN(F3,E3) -> 109185.62 | L3: =+MEDIAN(F3,E3) -> 109257.5 | M3: =+AVERAGE(F3,E3) -> 109257.5 | N3: =+I3 -> 105295 | P3: =+_xlfn.STDEV.S(E3,F3) -> 5603.8212 | Q3: =+IF(P3<20000,"Los precios son similares, sugiriendo un mercado estable y competitivo.","Existe gran diferencia, indicando alta volatilidad o falta de consenso en el valor. ") -> Los precios son similares, sugiriendo un mercado estable y competitivo. | R3: =+_xlfn.STDEV.P(E3,F3)/M3 -> 0.036267533 | S3: =+IF(R3<30%,"Los precios son homogéneos. Hay poca dispersión, indicando un mercado estable donde la mayoría de los productos se venden a precios cercanos al promedio","Existe una gran dispersión de precios, lo que indica alta volatilidad o falta de uniformidad en el mercado. La media pierde representatividad") -> Los precios son homogéneos. Hay poca dispersión, indicando un mercado estable donde la mayoría de los productos se venden a precios cercanos al promedio
A4: 3 | B4: MONTAJE LLANTA X 1 | E4: 98100 | F4: 93000 | I4: =+MIN(E4,F4) -> 93000 | J4: =+MAX(E4,F4) -> 98100 | K4: =+GEOMEAN(F4,E4) -> 95515.967 | L4: =+MEDIAN(F4,E4) -> 95550 | M4: =+AVERAGE(F4,E4) -> 95550 | N4: =+I4 -> 93000 | P4: =+_xlfn.STDEV.S(E4,F4) -> 3606.2446 | Q4: =+IF(P4<20000,"Los precios son similares, sugiriendo un mercado estable y competitivo.","Existe gran diferencia, indicando alta volatilidad o falta de consenso en el valor. ") -> Los precios son similares, sugiriendo un mercado estable y competitivo. | R4: =+_xlfn.STDEV.P(E4,F4)/M4 -> 0.026687598 | S4: =+IF(R4<30%,"Los precios son homogéneos. Hay poca dispersión, indicando un mercado estable donde la mayoría de los productos se venden a precios cercanos al promedio","Existe una gran dispersión de precios, lo que indica alta volatilidad o falta de uniformidad en el mercado. La media pierde representatividad") -> Los precios son homogéneos. Hay poca dispersión, indicando un mercado estable donde la mayoría de los productos se venden a precios cercanos al promedio
A5: 4 | B5: ALINEACIÓN DIRECCIÓN X2 LLANTAS | E5: 196200 | F5: 186000 | I5: =+MIN(E5,F5) -> 186000 | J5: =+MAX(E5,F5) -> 196200 | K5: =+GEOMEAN(F5,E5) -> 191031.93 | L5: =+MEDIAN(F5,E5) -> 191100 | M5: =+AVERAGE(F5,E5) -> 191100 | N5: =+I5 -> 186000 | P5: =+_xlfn.STDEV.S(E5,F5) -> 7212.4892 | Q5: =+IF(P5<20000,"Los precios son similares, sugiriendo un mercado estable y competitivo.","Existe gran diferencia, indicando alta volatilidad o falta de consenso en el valor. ") -> Los precios son similares, sugiriendo un mercado estable y competitivo. | R5: =+_xlfn.STDEV.P(E5,F5)/M5 -> 0.026687598 | S5: =+IF(R5<30%,"Los precios son homogéneos. Hay poca dispersión, indicando un mercado estable donde la mayoría de los productos se venden a precios cercanos al promedio","Existe una gran dispersión de precios, lo que indica alta volatilidad o falta de uniformidad en el mercado. La media pierde representatividad") -> Los precios son homogéneos. Hay poca dispersión, indicando un mercado estable donde la mayoría de los productos se venden a precios cercanos al promedio
A6: 5 | B6: BALANCEO LLANTAS X1 LLANTA | E6: 123170 | F6: 114548 | I6: =+MIN(E6,F6) -> 114548 | J6: =+MAX(E6,F6) -> 123170 | K6: =+GEOMEAN(F6,E6) -> 118780.79 | L6: =+MEDIAN(F6,E6) -> 118859 | M6: =+AVERAGE(F6,E6) -> 118859 | N6: =+I6 -> 114548 | P6: =+_xlfn.STDEV.S(E6,F6) -> 6096.6747 | Q6: =+IF(P6<20000,"Los precios son similares, sugiriendo un mercado estable y competitivo.","Existe gran diferencia, indicando alta volatilidad o falta de consenso en el valor. ") -> Los precios son similares, sugiriendo un mercado estable y competitivo. | R6: =+_xlfn.STDEV.P(E6,F6)/M6 -> 0.036269866 | S6: =+IF(R6<30%,"Los precios son homogéneos. Hay poca dispersión, indicando un mercado estable donde la mayoría de los productos se venden a precios cercanos al promedio","Existe una gran dispersión de precios, lo que indica alta volatilidad o falta de uniformidad en el mercado. La media pierde representatividad") -> Los precios son homogéneos. Hay poca dispersión, indicando un mercado estable donde la mayoría de los productos se venden a precios cercanos al promedio
A7: 6 | B7: PASTILLAS DE FRENO DELANTERAS | E7: 637650 | F7: 593015 | I7: =+MIN(E7,F7) -> 593015 | J7: =+MAX(E7,F7) -> 637650 | K7: =+GEOMEAN(F7,E7) -> 614927.65 | L7: =+MEDIAN(F7,E7) -> 615332.5 | M7: =+AVERAGE(F7,E7) -> 615332.5 | N7: =+I7 -> 593015 | P7: =+_xlfn.STDEV.S(E7,F7) -> 31561.711 | Q7: =+IF(P7<20000,"Los precios son similares, sugiriendo un mercado estable y competitivo.","Existe gran diferencia, indicando alta volatilidad o falta de consenso en el valor. ") -> Existe gran diferencia, indicando alta volatilidad o falta de consenso en el valor. | R7: =+_xlfn.STDEV.P(E7,F7)/M7 -> 0.036269009 | S7: =+IF(R7<30%,"Los precios son homogéneos. Hay poca dispersión, indicando un mercado estable donde la mayoría de los productos se venden a precios cercanos al promedio","Existe una gran dispersión de precios, lo que indica alta volatilidad o falta de uniformidad en el mercado. La media pierde representatividad") -> Los precios son homogéneos. Hay poca dispersión, indicando un mercado estable donde la mayoría de los productos se venden a precios cercanos al promedio
A8: 7 | B8: RECTIFICADORA DE DISCO X UNIDAD | E8: 315010 | F8: 292959 | I8: =+MIN(E8,F8) -> 292959 | J8: =+MAX(E8,F8) -> 315010 | K8: =+GEOMEAN(F8,E8) -> 303784.49 | L8: =+MEDIAN(F8,E8) -> 303984.5 | M8: =+AVERAGE(F8,E8) -> 303984.5 | N8: =+I8 -> 292959 | P8: =+_xlfn.STDEV.S(E8,F8) -> 15592.412 | Q8: =+IF(P8<20000,"Los precios son similares, sugiriendo un mercado estable y competitivo.","Existe gran diferencia, indicando alta volatilidad o falta de consenso en el valor. ") -> Los precios son similares, sugiriendo un mercado estable y competitivo. | R8: =+_xlfn.STDEV.P(E8,F8)/M8 -> 0.036269941 | S8: =+IF(R8<30%,"Los precios son homogéneos. Hay poca dispersión, indicando un mercado estable donde la mayoría de los productos se venden a precios cercanos al promedio","Existe una gran dispersión de precios, lo que indica alta volatilidad o falta de uniformidad en el mercado. La media pierde representatividad") -> Los precios son homogéneos. Hay poca dispersión, indicando un mercado estable donde la mayoría de los productos se venden a precios cercanos al promedio
A9: 8 | B9: MUÑECOS DE SUSPENSIÓN X 1 | E9: 261600 | F9: 243288 | I9: =+MIN(E9,F9) -> 243288 | J9: =+MAX(E9,F9) -> 261600 | K9: =+GEOMEAN(F9,E9) -> 252277.9 | L9: =+MEDIAN(F9,E9) -> 252444 | M9: =+AVERAGE(F9,E9) -> 252444 | N9: =+I9 -> 243288 | P9: =+_xlfn.STDEV.S(E9,F9) -> 12948.539 | Q9: =+IF(P9<20000,"Los precios son similares, sugiriendo un mercado estable y competitivo.","Existe gran diferencia, indicando alta volatilidad o falta de consenso en el valor. ") -> Los precios son similares, sugiriendo un mercado estable y competitivo. | R9: =+_xlfn.STDEV.P(E9,F9)/M9 -> 0.03626943 | S9: =+IF(R9<30%,"Los precios son homogéneos. Hay poca dispersión, indicando un mercado estable donde la mayoría de los productos se venden a precios cercanos al promedio","Existe una gran dispersión de precios, lo que indica alta volatilidad o falta de uniformidad en el mercado. La media pierde representatividad") -> Los precios son homogéneos. Hay poca dispersión, indicando un mercado estable donde la mayoría de los productos se venden a precios cercanos al promedio
A10: 9 | B10: BRAZO AXIAL X1 | E10: 490500 | F10: 456165 | I10: =+MIN(E10,F10) -> 456165 | J10: =+MAX(E10,F10) -> 490500 | K10: =+GEOMEAN(F10,E10) -> 473021.07 | L10: =+MEDIAN(F10,E10) -> 473332.5 | M10: =+AVERAGE(F10,E10) -> 473332.5 | N10: =+I10 -> 456165 | P10: =+_xlfn.STDEV.S(E10,F10) -> 24278.511 | Q10: =+IF(P10<20000,"Los precios son similares, sugiriendo un mercado estable y competitivo.","Existe gran diferencia, indicando alta volatilidad o falta de consenso en el valor. ") -> Existe gran diferencia, indicando alta volatilidad o falta de consenso en el valor. | R10: =+_xlfn.STDEV.P(E10,F10)/M10 -> 0.03626943 | S10: =+IF(R10<30%,"Los precios son homogéneos. Hay poca dispersión, indicando un mercado estable donde la mayoría de los productos se venden a precios cercanos al promedio","Existe una gran dispersión de precios, lo que indica alta volatilidad o falta de uniformidad en el mercado. La media pierde representatividad") -> Los precios son homogéneos. Hay poca dispersión, indicando un mercado estable donde la mayoría de los productos se venden a precios cercanos al promedio
A11: 10 | B11: FILTRO DE AIRE MOTOR | E11: 156960 | F11: 145973 | I11: =+MIN(E11,F11) -> 145973 | J11: =+MAX(E11,F11) -> 156960 | K11: =+GEOMEAN(F11,E11) -> 151366.85 | L11: =+MEDIAN(F11,E11) -> 151466.5 | M11: =+AVERAGE(F11,E11) -> 151466.5 | N11: =+I11 -> 145973 | P11: =+_xlfn.STDEV.S(E11,F11) -> 7768.9822 | Q11: =+IF(P11<20000,"Los precios son similares, sugiriendo un mercado estable y competitivo.","Existe gran diferencia, indicando alta volatilidad o falta de consenso en el valor. ") -> Los precios son similares, sugiriendo un mercado estable y competitivo. | R11: =+_xlfn.STDEV.P(E11,F11)/M11 -> 0.036268746 | S11: =+IF(R11<30%,"Los precios son homogéneos. Hay poca dispersión, indicando un mercado estable donde la mayoría de los productos se venden a precios cercanos al promedio","Existe una gran dispersión de precios, lo que indica alta volatilidad o falta de uniformidad en el mercado. La media pierde representatividad") -> Los precios son homogéneos. Hay poca dispersión, indicando un mercado estable donde la mayoría de los productos se venden a precios cercanos al promedio
A12: 11 | B12: FILTRO DE COMBUSTIBLE | E12: 221270 | F12: 205781 | I12: =+MIN(E12,F12) -> 205781 | J12: =+MAX(E12,F12) -> 221270 | K12: =+GEOMEAN(F12,E12) -> 213385.01 | L12: =+MEDIAN(F12,E12) -> 213525.5 | M12: =+AVERAGE(F12,E12) -> 213525.5 | N12: =+I12 -> 205781 | P12: =+_xlfn.STDEV.S(E12,F12) -> 10952.377 | Q12: =+IF(P12<20000,"Los precios son similares, sugiriendo un mercado estable y competitivo.","Existe gran diferencia, indicando alta volatilidad o falta de consenso en el valor. ") -> Los precios son similares, sugiriendo un mercado estable y competitivo. | R12: =+_xlfn.STDEV.P(E12,F12)/M12 -> 0.036269673 | S12: =+IF(R12<30%,"Los precios son homogéneos. Hay poca dispersión, indicando un mercado estable donde la mayoría de los productos se venden a precios cercanos al promedio","Existe una gran dispersión de precios, lo que indica alta volatilidad o falta de uniformidad en el mercado. La media pierde representatividad") -> Los precios son homogéneos. Hay poca dispersión, indicando un mercado estable donde la mayoría de los productos se venden a precios cercanos al promedio
A13: 12 | B13: FILTRO DE ACEITE | E13: 126440 | F13: 117589 | I13: =+MIN(E13,F13) -> 117589 | J13: =+MAX(E13,F13) -> 126440 | K13: =+GEOMEAN(F13,E13) -> 121934.22 | L13: =+MEDIAN(F13,E13) -> 122014.5 | M13: =+AVERAGE(F13,E13) -> 122014.5 | N13: =+I13 -> 117589 | P13: =+_xlfn.STDEV.S(E13,F13) -> 6258.6021 | Q13: =+IF(P13<20000,"Los precios son similares, sugiriendo un mercado estable y competitivo.","Existe gran diferencia, indicando alta volatilidad o falta de consenso en el valor. ") -> Los precios son similares, sugiriendo un mercado estable y competitivo. | R13: =+_xlfn.STDEV.P(E13,F13)/M13 -> 0.036270279 | S13: =+IF(R13<30%,"Los precios son homogéneos. Hay poca dispersión, indicando un mercado estable donde la mayoría de los productos se venden a precios cercanos al promedio","Existe una gran dispersión de precios, lo que indica alta volatilidad o falta de uniformidad en el mercado. La media pierde representatividad") -> Los precios son homogéneos. Hay poca dispersión, indicando un mercado estable donde la mayoría de los productos se venden a precios cercanos al promedio
... A55: 54 | B55: PULIDA DE FAROLAS | E55: 510120 | F55: 474412 | I55: =+MIN(E55,F55) -> 474412 | J55: =+MAX(E55,F55) -> 510120 | K55: =+GEOMEAN(F55,E55) -> 491942.12 | L55: =+MEDIAN(F55,E55) -> 492266 | M55: =+AVERAGE(F55,E55) -> 492266 | N55: =+I55 -> 474412 | P55: =+_xlfn.STDEV.S(E55,F55) -> 25249.369 | Q55: =+IF(P55<20000,"Los precios son similares, sugiriendo un mercado estable y competitivo.","Existe gran diferencia, indicando alta volatilidad o falta de consenso en el valor. ") -> Existe gran diferencia, indicando alta volatilidad o falta de consenso en el valor. | R55: =+_xlfn.STDEV.P(E55,F55)/M55 -> 0.036269009 | S55: =+IF(R55<30%,"Los precios son homogéneos. Hay poca dispersión, indicando un mercado estable donde la mayoría de los productos se venden a precios cercanos al promedio","Existe una gran dispersión de precios, lo que indica alta volatilidad o falta de uniformidad en el mercado. La media pierde representatividad") -> Los precios son homogéneos. Hay poca dispersión, indicando un mercado estable donde la mayoría de los productos se venden a precios cercanos al promedio

Sheet AUT-CAT. C (>11 AÑOS)
A1: ITEM | B1: DESCRIPCION | E1: Cotización 1 AUTOLLANOS | F1: Cotización 2 MERCADO ARLOS | G1: Cotización 3 JAKO IMPORTACIONES | H1: Cotización 4 VOLTACAR | J1: MÍNIMOS | K1: MÁXIMOS | L1: MEDIA GEOMÉTRICA | M1: MEDIANA | N1: PROMEDIO | O1: Precio Comercial 2026 | Q1: Desviación Estandar | R1: Interpretación en Análisis de Mercado | S1: Coeficiente de variación | T1: Interpretación Clave en Precios
A2: 1 | B2: BATERÍA 12V X1 | E2: 943497 | F2: 991171.85 | G2: 1275350 | H2: 1339118 | J2: =+MIN(E2,F2,G2,H2) -> 943497 | K2: =+MAX(E2,F2,G2,H2) -> 1339118 | L2: =+GEOMEAN(F2,E2,G2,H2) -> 1124176.3 | M2: =+MEDIAN(F2,E2,G2,H2) -> 1133260.9 | N2: =+AVERAGE(F2,E2,G2,H2) -> 1137284.2 | O2: =+J2 -> 943497 | Q2: =+_xlfn.STDEV.S(E2,F2,G2,H2) -> 198914.84 | R2: =+IF(Q2<20000,"Los precios son similares, sugiriendo un mercado estable y competitivo.","Existe gran diferencia, indicando alta volatilidad o falta de consenso en el valor. ") -> Existe gran diferencia, indicando alta volatilidad o falta de consenso en el valor. | S2: =+_xlfn.STDEV.P(E2,F2,G2,H2)/N2 -> 0.15147076 | T2: =+IF(S2<30%,"Los precios son homogéneos. Hay poca dispersión, indicando un mercado estable donde la mayoría de los productos se venden a precios cercanos al promedio","Existe una gran dispersión de precios, lo que indica alta volatilidad o falta de uniformidad en el mercado. La media pierde representatividad") -> Los precios son homogéneos. Hay poca dispersión, indicando un mercado estable donde la mayoría de los productos se venden a precios cercanos al promedio
A3: 2 | B3: ACEITE MOTOR (EXCEPTO IVA) | E3: 640000 | F3: 672600 | G3: 119453 | H3: 125426 | J3: =+MIN(E3,F3,G3,H3) -> 119453 | K3: =+MAX(E3,F3,G3,H3) -> 672600 | L3: =+GEOMEAN(F3,E3,G3,H3) -> 283387.29 | M3: =+MEDIAN(F3,E3,G3,H3) -> 382713 | N3: =+AVERAGE(F3,E3,G3,H3) -> 389369.75 | O3: =+J3 -> 119453 | Q3: =+_xlfn.STDEV.S(E3,F3,G3,H3) -> 308521.34 | R3: =+IF(Q3<20000,"Los precios son similares, sugiriendo un mercado estable y competitivo.","Existe gran diferencia, indicando alta volatilidad o falta de consenso en el valor. ") -> Existe gran diferencia, indicando alta volatilidad o falta de consenso en el valor. | S3: =+_xlfn.STDEV.P(E3,F3,G3,H3)/N3 -> 0.68620461 | T3: =+IF(S3<30%,"Los precios son homogéneos. Hay poca dispersión, indicando un mercado estable donde la mayoría de los productos se venden a precios cercanos al promedio","Existe una gran dispersión de precios, lo que indica alta volatilidad o falta de uniformidad en el mercado. La media pierde representatividad") -> Existe una gran dispersión de precios, lo que indica alta volatilidad o falta de uniformidad en el mercado. La media pierde representatividad
A4: 3 | B4: MONTAJE LLANTA X 1 | G4: 105000 | H4: 93000 | J4: =+MIN(E4,F4,G4,H4) -> 93000 | K4: =+MAX(E4,F4,G4,H4) -> 105000 | L4: =+GEOMEAN(F4,E4,G4,H4) -> 98818.015 | M4: =+MEDIAN(F4,E4,G4,H4) -> 99000 | N4: =+AVERAGE(F4,E4,G4,H4) -> 99000 | O4: =+J4 -> 93000 | Q4: =+_xlfn.STDEV.S(E4,F4,G4,H4) -> 8485.2814 | R4: =+IF(Q4<20000,"Los precios son similares, sugiriendo un mercado estable y competitivo.","Existe gran diferencia, indicando alta volatilidad o falta de consenso en el valor. ") -> Los precios son similares, sugiriendo un mercado estable y competitivo. | S4: =+_xlfn.STDEV.P(E4,F4,G4,H4)/N4 -> 0.060606061 | T4: =+IF(S4<30%,"Los precios son homogéneos. Hay poca dispersión, indicando un mercado estable donde la mayoría de los productos se venden a precios cercanos al promedio","Existe una gran dispersión de precios, lo que indica alta volatilidad o falta de uniformidad en el mercado. La media pierde representatividad") -> Los precios son homogéneos. Hay poca dispersión, indicando un mercado estable donde la mayoría de los productos se venden a precios cercanos al promedio
A5: 4 | B5: ALINEACIÓN DIRECCIÓN X2 LLANTAS | G5: 210000 | H5: 186000 | J5: =+MIN(E5,F5,G5,H5) -> 186000 | K5: =+MAX(E5,F5,G5,H5) -> 210000 | L5: =+GEOMEAN(F5,E5,G5,H5) -> 197636.03 | M5: =+MEDIAN(F5,E5,G5,H5) -> 198000 | N5: =+AVERAGE(F5,E5,G5,H5) -> 198000 | O5: =+J5 -> 186000 | Q5: =+_xlfn.STDEV.S(E5,F5,G5,H5) -> 16970.563 | R5: =+IF(Q5<20000,"Los precios son similares, sugiriendo un mercado estable y competitivo.","Existe gran diferencia, indicando alta volatilidad o falta de consenso en el valor. ") -> Los precios son similares, sugiriendo un mercado estable y competitivo. | S5: =+_xlfn.STDEV.P(E5,F5,G5,H5)/N5 -> 0.060606061 | T5: =+IF(S5<30%,"Los precios son homogéneos. Hay poca dispersión, indicando un mercado estable donde la mayoría de los productos se venden a precios cercanos al promedio","Existe una gran dispersión de precios, lo que indica alta volatilidad o falta de uniformidad en el mercado. La media pierde representatividad") -> Los precios son homogéneos. Hay poca dispersión, indicando un mercado estable donde la mayoría de los productos se venden a precios cercanos al promedio
A6: 5 | B6: BALANCEO LLANTAS X1 LLANTA | E6: 44495 | F6: 46719.75 | G6: 129950 | H6: 136448 | J6: =+MIN(E6,F6,G6,H6) -> 44495 | K6: =+MAX(E6,F6,G6,H6) -> 136448 | L6: =+GEOMEAN(F6,E6,G6,H6) -> 77918.179 | M6: =+MEDIAN(F6,E6,G6,H6) -> 88334.875 | N6: =+AVERAGE(F6,E6,G6,H6) -> 89403.188 | O6: =+J6 -> 44495 | Q6: =+_xlfn.STDEV.S(E6,F6,G6,H6) -> 50648.723 | R6: =+IF(Q6<20000,"Los precios son similares, sugiriendo un mercado estable y competitivo.","Existe gran diferencia, indicando alta volatilidad o falta de consenso en el valor. ") -> Existe gran diferencia, indicando alta volatilidad o falta de consenso en el valor. | S6: =+_xlfn.STDEV.P(E6,F6,G6,H6)/N6 -> 0.490621 | T6: =+IF(S6<30%,"Los precios son homogéneos. Hay poca dispersión, indicando un mercado estable donde la mayoría de los productos se venden a precios cercanos al promedio","Existe una gran dispersión de precios, lo que indica alta volatilidad o falta de uniformidad en el mercado. La media pierde representatividad") -> Existe una gran dispersión de precios, lo que indica alta volatilidad o falta de uniformidad en el mercado. La media pierde representatividad
A7: 6 | B7: PASTILLAS DE FRENO DELANTERAS | E7: 335000 | F7: 352450 | G7: 672750 | H7: 706388 | J7: =+MIN(E7,F7,G7,H7) -> 335000 | K7: =+MAX(E7,F7,G7,H7) -> 706388 | L7: =+GEOMEAN(F7,E7,G7,H7) -> 486698.31 | M7: =+MEDIAN(F7,E7,G7,H7) -> 512600 | N7: =+AVERAGE(F7,E7,G7,H7) -> 516647 | O7: =+J7 -> 335000 | Q7: =+_xlfn.STDEV.S(E7,F7,G7,H7) -> 200271.55 | R7: =+IF(Q7<20000,"Los precios son similares, sugiriendo un mercado estable y competitivo.","Existe gran diferencia, indicando alta volatilidad o falta de consenso en el valor. ") -> Existe gran diferencia, indicando alta volatilidad o falta de consenso en el valor. | S7: =+_xlfn.STDEV.P(E7,F7,G7,H7)/N7 -> 0.33570358 | T7: =+IF(S7<30%,"Los precios son homogéneos. Hay poca dispersión, indicando un mercado estable donde la mayoría de los productos se venden a precios cercanos al promedio","Existe una gran dispersión de precios, lo que indica alta volatilidad o falta de uniformidad en el mercado. La media pierde representatividad") -> Existe una gran dispersión de precios, lo que indica alta volatilidad o falta de uniformidad en el mercado. La media pierde representatividad
A8: 7 | B8: RECTIFICADORA DE DISCO X UNIDAD | E8: 80000 | F8: 84000 | G8: 332350 | H8: 348968 | J8: =+MIN(E8,F8,G8,H8) -> 80000 | K8: =+MAX(E8,F8,G8,H8) -> 348968 | L8: =+GEOMEAN(F8,E8,G8,H8) -> 167085.07 | M8: =+MEDIAN(F8,E8,G8,H8) -> 208175 | N8: =+AVERAGE(F8,E8,G8,H8) -> 211329.5 | O8: =+J8 -> 80000 | Q8: =+_xlfn.STDEV.S(E8,F8,G8,H8) -> 149499.79 | R8: =+IF(Q8<20000,"Los precios son similares, sugiriendo un mercado estable y competitivo.","Existe gran diferencia, indicando alta volatilidad o falta de consenso en el valor. ") -> Existe gran diferencia, indicando alta volatilidad o falta de consenso en el valor. | S8: =+_xlfn.STDEV.P(E8,F8,G8,H8)/N8 -> 0.61264808 | T8: =+IF(S8<30%,"Los precios son homogéneos. Hay poca dispersión, indicando un mercado estable donde la mayoría de los productos se venden a precios cercanos al promedio","Existe una gran dispersión de precios, lo que indica alta volatilidad o falta de uniformidad en el mercado. La media pierde representatividad") -> Existe una gran dispersión de precios, lo que indica alta volatilidad o falta de uniformidad en el mercado. La media pierde representatividad
A9: 8 | B9: MUÑECOS DE SUSPENSIÓN X 1 | E9: 270000 | F9: 284100 | G9: 276000 | H9: 289800 | J9: =+MIN(E9,F9,G9,H9) -> 270000 | K9: =+MAX(E9,F9,G9,H9) -> 289800 | L9: =+GEOMEAN(F9,E9,G9,H9) -> 279872.75 | M9: =+MEDIAN(F9,E9,G9,H9) -> 280050 | N9: =+AVERAGE(F9,E9,G9,H9) -> 279975 | O9: =+J9 -> 270000 | Q9: =+_xlfn.STDEV.S(E9,F9,G9,H9) -> 8733.9853 | R9: =+IF(Q9<20000,"Los precios son similares, sugiriendo un mercado estable y competitivo.","Existe gran diferencia, indicando alta volatilidad o falta de consenso en el valor. ") -> Los precios son similares, sugiriendo un mercado estable y competitivo. | S9: =+_xlfn.STDEV.P(E9,F9,G9,H9)/N9 -> 0.027016174 | T9: =+IF(S9<30%,"Los precios son homogéneos. Hay poca dispersión, indicando un mercado estable donde la mayoría de los productos se venden a precios cercanos al promedio","Existe una gran dispersión de precios, lo que indica alta volatilidad o falta de uniformidad en el mercado. La media pierde representatividad") -> Los precios son homogéneos. Hay poca dispersión, indicando un mercado estable donde la mayoría de los productos se venden a precios cercanos al promedio
A10: 9 | B10: BRAZO AXIAL X1 | E10: 260000 | F10: 273000 | G10: 517500 | H10: 543375 | J10: =+MIN(E10,F10,G10,H10) -> 260000 | K10: =+MAX(E10,F10,G10,H10) -> 543375 | L10: =+GEOMEAN(F10,E10,G10,H10) -> 375868.99 | M10: =+MEDIAN(F10,E10,G10,H10) -> 395250 | N10: =+AVERAGE(F10,E10,G10,H10) -> 398468.75 | O10: =+J10 -> 260000 | Q10: =+_xlfn.STDEV.S(E10,F10,G10,H10) -> 152842.25 | R10: =+IF(Q10<20000,"Los precios son similares, sugiriendo un mercado estable y competitivo.","Existe gran diferencia, indicando alta volatilidad o falta de consenso en el valor. ") -> Existe gran diferencia, indicando alta volatilidad o falta de consenso en el valor. | S10: =+_xlfn.STDEV.P(E10,F10,G10,H10)/N10 -> 0.33218483 | T10: =+IF(S10<30%,"Los precios son homogéneos. Hay poca dispersión, indicando un mercado estable donde la mayoría de los productos se venden a precios cercanos al promedio","Existe una gran dispersión de precios, lo que indica alta volatilidad o falta de uniformidad en el mercado. La media pierde representatividad") -> Existe una gran dispersión de precios, lo que indica alta volatilidad o falta de uniformidad en el mercado. La media pierde representatividad
A11: 10 | B11: FILTRO DE AIRE MOTOR | E11: 250000 | F11: 262800 | G11: 165600 | H11: 173880 | J11: =+MIN(E11,F11,G11,H11) -> 165600 | K11: =+MAX(E11,F11,G11,H11) -> 262800 | L11: =+GEOMEAN(F11,E11,G11,H11) -> 208554.15 | M11: =+MEDIAN(F11,E11,G11,H11) -> 211940 | N11: =+AVERAGE(F11,E11,G11,H11) -> 213070 | O11: =+J11 -> 165600 | Q11: =+_xlfn.STDEV.S(E11,F11,G11,H11) -> 50418.762 | R11: =+IF(Q11<20000,"Los precios son similares, sugiriendo un mercado estable y competitivo.","Existe gran diferencia, indicando alta volatilidad o falta de consenso en el valor. ") -> Existe gran diferencia, indicando alta volatilidad o falta de consenso en el valor. | S11: =+_xlfn.STDEV.P(E11,F11,G11,H11)/N11 -> 0.20492762 | T11: =+IF(S11<30%,"Los precios son homogéneos. Hay poca dispersión, indicando un mercado estable donde la mayoría de los productos se venden a precios cercanos al promedio","Existe una gran dispersión de precios, lo que indica alta volatilidad o falta de uniformidad en el mercado. La media pierde representatividad") -> Los precios son homogéneos. Hay poca dispersión, indicando un mercado estable donde la mayoría de los productos se venden a precios cercanos al promedio
A12: 11 | B12: FILTRO DE COMBUSTIBLE | G12: 233450 | H12: 245123 | J12: =+MIN(E12,F12,G12,H12) -> 233450 | K12: =+MAX(E12,F12,G12,H12) -> 245123 | L12: =+GEOMEAN(F12,E12,G12,H12) -> 239215.31 | M12: =+MEDIAN(F12,E12,G12,H12) -> 239286.5 | N12: =+AVERAGE(F12,E12,G12,H12) -> 239286.5 | O12: =+J12 -> 233450 | Q12: =+_xlfn.STDEV.S(E12,F12,G12,H12) -> 8254.0575 | R12: =+IF(Q12<20000,"Los precios son similares, sugiriendo un mercado estable y competitivo.","Existe gran diferencia, indicando alta volatilidad o falta de consenso en el valor. ") -> Los precios son similares, sugiriendo un mercado estable y competitivo. | S12: =+_xlfn.STDEV.P(E12,F12,G12,H12)/N12 -> 0.024391263 | T12: =+IF(S12<30%,"Los precios son homogéneos. Hay poca dispersión, indicando un mercado estable donde la mayoría de los productos se venden a precios cercanos al promedio","Existe una gran dispersión de precios, lo que indica alta volatilidad o falta de uniformidad en el mercado. La media pierde representatividad") -> Los precios son homogéneos. Hay poca dispersión, indicando un mercado estable donde la mayoría de los productos se venden a precios cercanos al promedio
A13: 12 | B13: FILTRO DE ACEITE | E13: 210000 | F13: 220800 | G13: 133400 | H13: 140070 | J13: =+MIN(E13,F13,G13,H13) -> 133400 | K13: =+MAX(E13,F13,G13,H13) -> 220800 | L13: =+GEOMEAN(F13,E13,G13,H13) -> 171565.45 | M13: =+MEDIAN(F13,E13,G13,H13) -> 175035 | N13: =+AVERAGE(F13,E13,G13,H13) -> 176067.5 | O13: =+J13 -> 133400 | Q13: =+_xlfn.STDEV.S(E13,F13,G13,H13) -> 45711.948 | R13: =+IF(Q13<20000,"Los precios son similares, sugiriendo un mercado estable y competitivo.","Existe gran diferencia, indicando alta volatilidad o falta de consenso en el valor. ") -> Existe gran diferencia, indicando alta volatilidad o falta de consenso en el valor. | S13: =+_xlfn.STDEV.P(E13,F13,G13,H13)/N13 -> 0.22484393 | T13: =+IF(S13<30%,"Los precios son homogéneos. Hay poca dispersión, indicando un mercado estable donde la mayoría de los productos se venden a precios cercanos al promedio","Existe una gran dispersión de precios, lo que indica alta volatilidad o falta de uniformidad en el mercado. La media pierde representatividad") -> Los precios son homogéneos. Hay poca dispersión, indicando un mercado estable donde la mayoría de los productos se venden a precios cercanos al promedio
A14: 13 | B14: FILTRO DE HABITÁCULO | E14: 160000 | F14: 168000 | G14: 172500 | H14: 181125 | J14: =+MIN(E14,F14,G14,H14) -> 160000 | K14: =+MAX(E14,F14,G14,H14) -> 181125 | L14: =+GEOMEAN(F14,E14,G14,H14) -> 170235.13 | M14: =+MEDIAN(F14,E14,G14,H14) -> 170250 | N14: =+AVERAGE(F14,E14,G14,H14) -> 170406.25 | O14: =+J14 -> 160000 | Q14: =+_xlfn.STDEV.S(E14,F14,G14,H14) -> 8819.5893 | R14: =+IF(Q14<20000,"Los precios son similares, sugiriendo un mercado estable y competitivo.","Existe gran diferencia, indicando alta volatilidad o falta de consenso en el valor. ") -> Los precios son similares, sugiriendo un mercado estable y competitivo. | S14: =+_xlfn.STDEV.P(E14,F14,G14,H14)/N14 -> 0.044822232 | T14: =+IF(S14<30%,"Los precios son homogéneos. Hay poca dispersión, indicando un mercado estable donde la mayoría de los productos se venden a precios cercanos al promedio","Existe una gran dispersión de precios, lo que indica alta volatilidad o falta de uniformidad en el mercado. La media pierde representatividad") -> Los precios son homogéneos. Hay poca dispersión, indicando un mercado estable donde la mayoría de los productos se venden a precios cercanos al promedio
A15: 14 | B15: DESPINCHE LLANTA CON TACO X1 | E15: 70000 | F15: 73500 | G15: 80500 | H15: 84525 | J15: =+MIN(E15,F15,G15,H15) -> 70000 | K15: =+MAX(E15,F15,G15,H15) -> 84525 | L15: =+GEOMEAN(F15,E15,G15,H15) -> 76920.413 | M15: =+MEDIAN(F15,E15,G15,H15) -> 77000 | N15: =+AVERAGE(F15,E15,G15,H15) -> 77131.25 | O15: =+J15 -> 70000 | Q15: =+_xlfn.STDEV.S(E15,F15,G15,H15) -> 6584.2418 | R15: =+IF(Q15<20000,"Los precios son similares, sugiriendo un mercado estable y competitivo.","Existe gran diferencia, indicando alta volatilidad o falta de consenso en el valor. ") -> Los precios son similares, sugiriendo un mercado estable y competitivo. | S15: =+_xlfn.STDEV.P(E15,F15,G15,H15)/N15 -> 0.073927502 | T15: =+IF(S15<30%,"Los precios son homogéneos. Hay poca dispersión, indicando un mercado estable donde la mayoría de los productos se venden a precios cercanos al promedio","Existe una gran dispersión de precios, lo que indica alta volatilidad o falta de uniformidad en el mercado. La media pierde representatividad") -> Los precios son homogéneos. Hay poca dispersión, indicando un mercado estable donde la mayoría de los productos se venden a precios cercanos al promedio
