Workbook

Sheet ESTUDIO MERCADO VEHICULOS
A1: ESTUDIO DE MERCADO
A2: OBJETO: CONTRATAR EL SERVICIO DE MANTENIMIENTO PREVENTIVO Y CORRECTIVO INCLUIDO REPUESTOS PARA EL PARQUE AUTOMOTOR
A3: DESCRIPCIÓN | B3: CATEGORIA A ( 0 - 5 AÑOS DE ANTIGÜEDAD) TOTAL PROPUESTA INCLUIDO MANO DE OBRA, REPUESTOS E IMPUESTOS | G3: CATEGORÍA B ( 6 - 10 AÑOS DE ANTIGÜEDAD) TOTAL PROPUESTA INCLUIDO MANO DE OBRA, REPUESTOS E IMPUESTOS | L3: CATEGORÍA C ( >11 AÑOS DE ANTIGÜEDAD) TOTAL PROPUESTA INCLUIDO MANO DE OBRA, REPUESTOS E IMPUESTOS
A4: DESCRIPCION DE REPUESTOS INCLUYENDO MANO DE OBRA ( A TODO COSTO) | B4: REPUESTOS | D4: MANO DE OBRA | F4: VALOR TOTAL REPUESTOS MAS MANO DE OBRA | G4: REPUESTOS | I4: MANO DE OBRA | K4: VALOR TOTAL REPUESTOS MAS MANO DE OBRA | L4: REPUESTOS | N4: MANO DE OBRA | P4: VALOR TOTAL REPUESTOS MAS MANO DE OBRA
B5: REFERENCIA | C5: VALOR UNIT | D5: TEMPARIO (tiempo total estimado) | E5: VALOR TOTAL MANO DE OBRA | G5: REFERENCIA | H5: VALOR UNIT | I5: TEMPARIO (tiempo total estimado) | J5: VALOR TOTAL MANO DE OBRA | L5: REFERENCIA | M5: VALOR UNIT | N5: TEMPARIO (tiempo total estimado) | O5: VALOR TOTAL MANO DE OBRA
A6: AUTOMÓVIL
A7: BATERÍA 12V X1 | F7: =+'AUT-CAT. A (0-5 AÑOS)'!N2 -> 1109000 | K7: =+'AUT-CAT. B (6-10 AÑOS)'!N2 -> 1124193 | P7: =+'AUT-CAT. C (>11 AÑOS)'!O2 -> 943497
A8: ACEITE MOTOR (EXCEPTO IVA) | F8: =+'AUT-CAT. A (0-5 AÑOS)'!N3 -> 103872 | K8: =+'AUT-CAT. B (6-10 AÑOS)'!N3 -> 105295 | P8: =+'AUT-CAT. C (>11 AÑOS)'!O3 -> 119453
A9: MONTAJE LLANTA X 1 | B9: N/A | C9: N/A | F9: =+'AUT-CAT. A (0-5 AÑOS)'!N4 -> 90000 | K9: =+'AUT-CAT. B (6-10 AÑOS)'!N4 -> 93000 | P9: =+'AUT-CAT. C (>11 AÑOS)'!O4 -> 93000
A10: ALINEACIÓN DIRECCIÓN X2 LLANTAS | B10: N/A | C10: N/A | F10: =+'AUT-CAT. A (0-5 AÑOS)'!N5 -> 180000 | K10: =+'AUT-CAT. B (6-10 AÑOS)'!N5 -> 186000 | P10: =+'AUT-CAT. C (>11 AÑOS)'!O5 -> 186000
A11: BALANCEO LLANTAS X1 LLANTA | F11: =+'AUT-CAT. A (0-5 AÑOS)'!N6 -> 113000 | K11: =+'AUT-CAT. B (6-10 AÑOS)'!N6 -> 114548 | P11: =+'AUT-CAT. C (>11 AÑOS)'!O6 -> 44495
A12: PASTILLAS DE FRENO DELANTERAS | F12: =+'AUT-CAT. A (0-5 AÑOS)'!N7 -> 585000 | K12: =+'AUT-CAT. B (6-10 AÑOS)'!N7 -> 593015 | P12: =+'AUT-CAT. C (>11 AÑOS)'!O7 -> 335000
A13: RECTIFICADORA DE DISCO X UNIDAD | F13: =+'AUT-CAT. A (0-5 AÑOS)'!N8 -> 289000 | K13: =+'AUT-CAT. B (6-10 AÑOS)'!N8 -> 292959 | P13: =+'AUT-CAT. C (>11 AÑOS)'!O8 -> 80000
A14: MUÑECOS DE SUSPENSIÓN X 1 | F14: =+'AUT-CAT. A (0-5 AÑOS)'!N9 -> 240000 | K14: =+'AUT-CAT. B (6-10 AÑOS)'!N9 -> 243288 | P14: =+'AUT-CAT. C (>11 AÑOS)'!O9 -> 270000
A15: BRAZO AXIAL X1 | F15: =+'AUT-CAT. A (0-5 AÑOS)'!N10 -> 450000 | K15: =+'AUT-CAT. B (6-10 AÑOS)'!N10 -> 456165 | P15: =+'AUT-CAT. C (>11 AÑOS)'!O10 -> 260000
A16: FILTRO DE AIRE MOTOR | F16: =+'AUT-CAT. A (0-5 AÑOS)'!N11 -> 144000 | K16: =+'AUT-CAT. B (6-10 AÑOS)'!N11 -> 145973 | P16: =+'AUT-CAT. C (>11 AÑOS)'!O11 -> 165600
A17: FILTRO DE COMBUSTIBLE | F17: =+'AUT-CAT. A (0-5 AÑOS)'!N12 -> 203000 | K17: =+'AUT-CAT. B (6-10 AÑOS)'!N12 -> 205781 | P17: =+'AUT-CAT. C (>11 AÑOS)'!O12 -> 233450
A18: FILTRO DE ACEITE | F18: =+'AUT-CAT. A (0-5 AÑOS)'!N13 -> 116000 | K18: =+'AUT-CAT. B (6-10 AÑOS)'!N13 -> 117589 | P18: =+'AUT-CAT. C (>11 AÑOS)'!O13 -> 133400
A19: FILTRO DE HABITÁCULO | F19: =+'AUT-CAT. A (0-5 AÑOS)'!N14 -> 150000 | K19: =+'AUT-CAT. B (6-10 AÑOS)'!N14 -> 152055 | P19: =+'AUT-CAT. C (>11 AÑOS)'!O14 -> 160000
A20: DESPINCHE LLANTA CON TACO X1 | F20: =+'AUT-CAT. A (0-5 AÑOS)'!N15 -> 70000 | K20: =+'AUT-CAT. B (6-10 AÑOS)'!N15 -> 70959 | P20: =+'AUT-CAT. C (>11 AÑOS)'!O15 -> 70000
A21: DESPINCHE CON PARCHE CON TACO X1 | F21: =+'AUT-CAT. A (0-5 AÑOS)'!N16 -> 75000 | K21: =+'AUT-CAT. B (6-10 AÑOS)'!N16 -> 76028 | P21: =+'AUT-CAT. C (>11 AÑOS)'!O16 -> 50000
A22: RECTIFICACIÓN DE DISCOS DE FRENO X1 | F22: =+'AUT-CAT. A (0-5 AÑOS)'!N17 -> 282000 | K22: =+'AUT-CAT. B (6-10 AÑOS)'!N17 -> 285863 | P22: =+'AUT-CAT. C (>11 AÑOS)'!O17 -> 80000
... A60: PULIDA DE FAROLAS | F60: =+'AUT-CAT. A (0-5 AÑOS)'!N55 -> 468000 | K60: =+'AUT-CAT. B (6-10 AÑOS)'!N55 -> 474412 | P60: =+'AUT-CAT. C (>11 AÑOS)'!O55 -> 350000
A61: BUSETA
A62: BATERÍA 12V X1 | F62: =+'BUSETA-CAT. A (0-6 AÑOS)'!N2 -> 1175540 | K62: =+'BUSETA-CAT. B (6-10 AÑOS)'!O2 -> 1166871.2 | P62: =+'BUSETA-CAT. C (>11 AÑOS)'!N2 -> 1351871
A63: ACEITE MOTOR (EXCEPTO IVA) | F63: =+'BUSETA-CAT. A (0-6 AÑOS)'!N3 -> 110104.32 | K63: =+'BUSETA-CAT. B (6-10 AÑOS)'!O3 -> 111613 | P63: =+'BUSETA-CAT. C (>11 AÑOS)'!N3 -> 126620
A64: MONTAJE LLANTA X 1 | B64: N/A | C64: N/A | F64: =+'BUSETA-CAT. A (0-6 AÑOS)'!N4 -> 90000 | K64: =+'BUSETA-CAT. B (6-10 AÑOS)'!O4 -> 93000 | P64: =+'BUSETA-CAT. C (>11 AÑOS)'!N4 -> 93000
A65: ALINEACIÓN DIRECCIÓN X2 LLANTAS | B65: N/A | C65: N/A | F65: =+'BUSETA-CAT. A (0-6 AÑOS)'!N5 -> 180000 | K65: =+'BUSETA-CAT. B (6-10 AÑOS)'!O5 -> 186000 | P65: =+'BUSETA-CAT. C (>11 AÑOS)'!N5 -> 186000
A66: BALANCEO LLANTAS X1 LLANTA | F66: =+'BUSETA-CAT. A (0-6 AÑOS)'!N6 -> 119780 | K66: =+'BUSETA-CAT. B (6-10 AÑOS)'!O6 -> 55618.75 | P66: =+'BUSETA-CAT. C (>11 AÑOS)'!N6 -> 137747
A67: PASTILLAS DE FRENO DELANTERAS | F67: =+'BUSETA-CAT. A (0-6 AÑOS)'!N7 -> 620100 | K67: =+'BUSETA-CAT. B (6-10 AÑOS)'!O7 -> 401250 | P67: =+'BUSETA-CAT. C (>11 AÑOS)'!N7 -> 713115
A68: RECTIFICADORA DE DISCO X UNIDAD | F68: =+'BUSETA-CAT. A (0-6 AÑOS)'!N8 -> 306340 | K68: =+'BUSETA-CAT. B (6-10 AÑOS)'!O8 -> 100000 | P68: =+'BUSETA-CAT. C (>11 AÑOS)'!N8 -> 352291
A69: MUÑECOS DE SUSPENSIÓN X 1 | F69: =+'BUSETA-CAT. A (0-6 AÑOS)'!N9 -> 254400 | K69: =+'BUSETA-CAT. B (6-10 AÑOS)'!O9 -> 257885 | P69: =+'BUSETA-CAT. C (>11 AÑOS)'!N9 -> 292560
A70: BRAZO AXIAL X1 | F70: =+'BUSETA-CAT. A (0-6 AÑOS)'!N10 -> 477000 | K70: =+'BUSETA-CAT. B (6-10 AÑOS)'!O10 -> 325000 | P70: =+'BUSETA-CAT. C (>11 AÑOS)'!N10 -> 548550
A71: FILTRO DE AIRE MOTOR | F71: =+'BUSETA-CAT. A (0-6 AÑOS)'!N11 -> 152640 | K71: =+'BUSETA-CAT. B (6-10 AÑOS)'!O11 -> 154732 | P71: =+'BUSETA-CAT. C (>11 AÑOS)'!N11 -> 175536
A72: FILTRO DE COMBUSTIBLE | F72: =+'BUSETA-CAT. A (0-6 AÑOS)'!N12 -> 215180 | K72: =+'BUSETA-CAT. B (6-10 AÑOS)'!O12 -> 218128 | P72: =+'BUSETA-CAT. C (>11 AÑOS)'!N12 -> 247457
A73: FILTRO DE ACEITE | F73: =+'BUSETA-CAT. A (0-6 AÑOS)'!N13 -> 122960 | K73: =+'BUSETA-CAT. B (6-10 AÑOS)'!O13 -> 124644 | P73: =+'BUSETA-CAT. C (>11 AÑOS)'!N13 -> 141404
A74: FILTRO DE HABITÁCULO | F74: =+'BUSETA-CAT. A (0-6 AÑOS)'!N14 -> 159000 | K74: =+'BUSETA-CAT. B (6-10 AÑOS)'!O14 -> 161178 | P74: =+'BUSETA-CAT. C (>11 AÑOS)'!N14 -> 182850
A75: DESPINCHE LLANTA CON TACO X1 | F75: =+'BUSETA-CAT. A (0-6 AÑOS)'!N15 -> 74200 | K75: =+'BUSETA-CAT. B (6-10 AÑOS)'!O15 -> 75217 | P75: =+'BUSETA-CAT. C (>11 AÑOS)'!N15 -> 85330
A76: DESPINCHE CON PARCHE CON TACO X1 | F76: =+'BUSETA-CAT. A (0-6 AÑOS)'!N16 -> 79500 | K76: =+'BUSETA-CAT. B (6-10 AÑOS)'!O16 -> 62500 | P76: =+'BUSETA-CAT. C (>11 AÑOS)'!N16 -> 91425
A77: RECTIFICACIÓN DE DISCOS DE FRENO X1 | F77: =+'BUSETA-CAT. A (0-6 AÑOS)'!N17 -> 298920 | K77: =+'BUSETA-CAT. B (6-10 AÑOS)'!O17 -> 100000 | P77: =+'BUSETA-CAT. C (>11 AÑOS)'!N17 -> 343758
... A115: PULIDA DE FAROLAS | F115: =+'BUSETA-CAT. A (0-6 AÑOS)'!N55 -> 496080 | K115: =+'BUSETA-CAT. B (6-10 AÑOS)'!O55 -> 437500 | P115: =+'BUSETA-CAT. C (>11 AÑOS)'!N55 -> 570492
A116: CAMIONETA
A117: BATERÍA 12V X1 | C117: 1049859 | E117: 48500 | F117: =+'CAMIONETA-CAT. A (0-5 AÑOS)'!P2 -> 1098359 | K117: =+'CAMIONETA-CAT. B (6-10 AÑOS)'!Q2 -> 1093421.8 | P117: =+'CAMIONETA-CAT. C (>11 AÑOS)'!P2 -> 1053401.7
A118: ACEITE MOTOR (EXCEPTO IVA) | C118: 681500 | E118: 58200 | F118: =+'CAMIONETA-CAT. A (0-5 AÑOS)'!P3 -> 112181.76 | K118: =+'CAMIONETA-CAT. B (6-10 AÑOS)'!Q3 -> 113719 | P118: =+'CAMIONETA-CAT. C (>11 AÑOS)'!P3 -> 129009
A119: MONTAJE LLANTA X 1 | B119: N/A | C119: N/A | E119: N/A | F119: =+'CAMIONETA-CAT. A (0-5 AÑOS)'!P4 -> 90000 | K119: =+'CAMIONETA-CAT. B (6-10 AÑOS)'!Q4 -> 64400 | P119: =+'CAMIONETA-CAT. C (>11 AÑOS)'!P4 -> 38572.219
A120: ALINEACIÓN DIRECCIÓN X2 LLANTAS | B120: N/A | C120: N/A | E120: N/A | F120: =+'CAMIONETA-CAT. A (0-5 AÑOS)'!P5 -> 180000 | K120: =+'CAMIONETA-CAT. B (6-10 AÑOS)'!Q5 -> 154730.02 | P120: =+'CAMIONETA-CAT. C (>11 AÑOS)'!P5 -> 186000
A121: BALANCEO LLANTAS X1 LLANTA | C121: 52281.625 | E121: N/A | F121: =+'CAMIONETA-CAT. A (0-5 AÑOS)'!P6 -> 122040 | K121: =+'CAMIONETA-CAT. B (6-10 AÑOS)'!Q6 -> 53697.364 | P121: =+'CAMIONETA-CAT. C (>11 AÑOS)'!P6 -> 35410.823
A122: PASTILLAS DE FRENO DELANTERAS | C122: 311375 | E122: 67900 | F122: =+'CAMIONETA-CAT. A (0-5 AÑOS)'!P7 -> 379275 | K122: =+'CAMIONETA-CAT. B (6-10 AÑOS)'!Q7 -> 401250 | P122: =+'CAMIONETA-CAT. C (>11 AÑOS)'!P7 -> 381957.5
A123: RECTIFICADORA DE DISCO X UNIDAD | C123: 94000 | E123: N/A | F123: =+'CAMIONETA-CAT. A (0-5 AÑOS)'!P8 -> 312120 | K123: =+'CAMIONETA-CAT. B (6-10 AÑOS)'!Q8 -> 100000 | P123: =+'CAMIONETA-CAT. C (>11 AÑOS)'!P8 -> 95000
A124: MUÑECOS DE SUSPENSIÓN X 1 | C124: 246750 | E124: 58200 | F124: =+'CAMIONETA-CAT. A (0-5 AÑOS)'!P9 -> 259200 | K124: =+'CAMIONETA-CAT. B (6-10 AÑOS)'!Q9 -> 231840 | P124: =+'CAMIONETA-CAT. C (>11 AÑOS)'!P9 -> 298080
A125: BRAZO AXIAL X1 | C125: 305500 | E125: N/A | F125: =+'CAMIONETA-CAT. A (0-5 AÑOS)'!P10 -> 142752 | K125: =+'CAMIONETA-CAT. B (6-10 AÑOS)'!Q10 -> 137954 | P125: =+'CAMIONETA-CAT. C (>11 AÑOS)'!P10 -> 308750
A126: FILTRO DE AIRE MOTOR | C126: 258500 | E126: 29100 | F126: =+'CAMIONETA-CAT. A (0-5 AÑOS)'!P11 -> 121505 | K126: =+'CAMIONETA-CAT. B (6-10 AÑOS)'!Q11 -> 116508 | P126: =+'CAMIONETA-CAT. C (>11 AÑOS)'!P11 -> 178848
A127: FILTRO DE COMBUSTIBLE | C127: 230000 | E127: N/A | F127: =+'CAMIONETA-CAT. A (0-5 AÑOS)'!P12 -> 79190 | K127: =+'CAMIONETA-CAT. B (6-10 AÑOS)'!Q12 -> 76528 | P127: =+'CAMIONETA-CAT. C (>11 AÑOS)'!P12 -> 200710.97
A128: FILTRO DE ACEITE | C128: 211500 | E128: 29100 | F128: =+'CAMIONETA-CAT. A (0-5 AÑOS)'!P13 -> 80859 | K128: =+'CAMIONETA-CAT. B (6-10 AÑOS)'!Q13 -> 126996 | P128: =+'CAMIONETA-CAT. C (>11 AÑOS)'!P13 -> 58593.696
A129: FILTRO DE HABITÁCULO | C129: 188000 | E129: N/A | F129: =+'CAMIONETA-CAT. A (0-5 AÑOS)'!P14 -> 78792 | K129: =+'CAMIONETA-CAT. B (6-10 AÑOS)'!Q14 -> 76475 | P129: =+'CAMIONETA-CAT. C (>11 AÑOS)'!P14 -> 175782.38
A130: DESPINCHE LLANTA CON TACO X1 | C130: 82250 | E130: N/A | F130: =+'CAMIONETA-CAT. A (0-5 AÑOS)'!P15 -> 75600 | K130: =+'CAMIONETA-CAT. B (6-10 AÑOS)'!Q15 -> 64400 | P130: =+'CAMIONETA-CAT. C (>11 AÑOS)'!P15 -> 48207.264
A131: DESPINCHE CON PARCHE CON TACO X1 | C131: 58750 | E131: N/A | F131: =+'CAMIONETA-CAT. A (0-5 AÑOS)'!P16 -> 81000 | K131: =+'CAMIONETA-CAT. B (6-10 AÑOS)'!Q16 -> 62500 | P131: =+'CAMIONETA-CAT. C (>11 AÑOS)'!P16 -> 48207.264
A132: RECTIFICACIÓN DE DISCOS DE FRENO X1 | C132: 94000 | E132: N/A | F132: =+'CAMIONETA-CAT. A (0-5 AÑOS)'!P17 -> 247896 | K132: =+'CAMIONETA-CAT. B (6-10 AÑOS)'!Q17 -> 100000 | P132: =+'CAMIONETA-CAT. C (>11 AÑOS)'!P17 -> 95000
A133: RECTIFICACIÓN DE CAMPANAS X1 | C133: 94000 | E133: N/A | F133: =+'CAMIONETA-CAT. A (0-5 AÑOS)'!P18 -> 135602 | K133: =+'CAMIONETA-CAT. B (6-10 AÑOS)'!Q18 -> 100000 | P133: =+'CAMIONETA-CAT. C (>11 AÑOS)'!P18 -> 95000
A134: EMPAQUE TAPÓN | C134: 41125 | E134: 19400 | F134: =+'CAMIONETA-CAT. A (0-5 AÑOS)'!P19 -> 60525 | K134: =+'CAMIONETA-CAT. B (6-10 AÑOS)'!Q19 -> 43945.272 | P134: =+'CAMIONETA-CAT. C (>11 AÑOS)'!P19 -> 60782.5
A135: ACEITE PARA CAJA (EXCEPTO IVA) | C135: 681500 | E135: 252200 | F135: =+'CAMIONETA-CAT. A (0-5 AÑOS)'!P20 -> 110160 | K135: =+'CAMIONETA-CAT. B (6-10 AÑOS)'!Q20 -> 111669 | P135: =+'CAMIONETA-CAT. C (>11 AÑOS)'!P20 -> 126684
A136: ACEITE TRANSMISIÓN (EXECENTO IVA) | C136: 681500 | E136: 252200 | F136: =+'CAMIONETA-CAT. A (0-5 AÑOS)'!P21 -> 109080 | K136: =+'CAMIONETA-CAT. B (6-10 AÑOS)'!Q21 -> 110574 | P136: =+'CAMIONETA-CAT. C (>11 AÑOS)'!P21 -> 125442
A137: DISCO DE FRENO DELANTERO X2 | C137: 564000 | E137: 87300 | F137: =+'CAMIONETA-CAT. A (0-5 AÑOS)'!P22 -> 651300 | K137: =+'CAMIONETA-CAT. B (6-10 AÑOS)'!Q22 -> 502475.85 | P137: =+'CAMIONETA-CAT. C (>11 AÑOS)'!P22 -> 656490
A138: CAMPANA DE FRENO TRASERO X2 | C138: 493500 | E138: 87300 | F138: =+'CAMIONETA-CAT. A (0-5 AÑOS)'!P23 -> 580800 | K138: =+'CAMIONETA-CAT. B (6-10 AÑOS)'!Q23 -> 615000 | P138: =+'CAMIONETA-CAT. C (>11 AÑOS)'!P23 -> 585240
A139: PASTILLAS DE FRENO DELANTERAS | C139: 681500 | E139: 116400 | F139: =+'CAMIONETA-CAT. A (0-5 AÑOS)'!P24 -> 626559 | K139: =+'CAMIONETA-CAT. B (6-10 AÑOS)'!Q24 -> 566399 | P139: =+'CAMIONETA-CAT. C (>11 AÑOS)'!P24 -> 439459.16
A140: PASTILLAS TRASERAS | C140: 658000 | E140: 116400 | F140: =+'CAMIONETA-CAT. A (0-5 AÑOS)'!P25 -> 252929 | K140: =+'CAMIONETA-CAT. B (6-10 AÑOS)'!Q25 -> 245089 | P140: =+'CAMIONETA-CAT. C (>11 AÑOS)'!P25 -> 439459.16
A141: BANDAS DE FRENO | C141: 446500 | E141: 116400 | F141: =+'CAMIONETA-CAT. A (0-5 AÑOS)'!P26 -> 562900 | K141: =+'CAMIONETA-CAT. B (6-10 AÑOS)'!Q26 -> 595000 | P141: =+'CAMIONETA-CAT. C (>11 AÑOS)'!P26 -> 566570
A142: GUAYA FRENO DE MANO | C142: 564000 | E142: 135800 | F142: =+'CAMIONETA-CAT. A (0-5 AÑOS)'!P27 -> 487080 | K142: =+'CAMIONETA-CAT. B (6-10 AÑOS)'!Q27 -> 493753 | P142: =+'CAMIONETA-CAT. C (>11 AÑOS)'!P27 -> 429372.19
A143: LIQUIDO FRENO X1 PINTA | C143: 76375 | E143: 19400 | F143: =+'CAMIONETA-CAT. A (0-5 AÑOS)'!P28 -> 95775 | K143: =+'CAMIONETA-CAT. B (6-10 AÑOS)'!Q28 -> 101250 | P143: =+'CAMIONETA-CAT. C (>11 AÑOS)'!P28 -> 43945.272
A144: BOMBA DE FRENOS | C144: 1586250 | E144: 135800 | F144: =+'CAMIONETA-CAT. A (0-5 AÑOS)'!P29 -> 994314 | K144: =+'CAMIONETA-CAT. B (6-10 AÑOS)'!Q29 -> 950405 | P144: =+'CAMIONETA-CAT. C (>11 AÑOS)'!P29 -> 1629880.3
A145: KIT EMBRAGUE (PRENSA-DISCO-BALINERA) | C145: 2761250 | E145: 436500 | F145: =+'CAMIONETA-CAT. A (0-5 AÑOS)'!P30 -> 1802520 | K145: =+'CAMIONETA-CAT. B (6-10 AÑOS)'!Q30 -> 1827215 | P145: =+'CAMIONETA-CAT. C (>11 AÑOS)'!P30 -> 2072898
... A150: BUJÍAS JUEGO | C150: 423000 | E150: 87300 | F150: =+'CAMIONETA-CAT. A (0-5 AÑOS)'!P35 -> 409422 | K150: =+'CAMIONETA-CAT. B (6-10 AÑOS)'!Q35 -> 493507.5 | P150: =+'CAMIONETA-CAT. C (>11 AÑOS)'!P35 -> 503021.96
A151: LIMPIADOR CUERPO ACELERACIÓN | C151: 70500 | E151: N/A | F151: =+'CAMIONETA-CAT. A (0-5 AÑOS)'!P36 -> 92880 | K151: =+'CAMIONETA-CAT. B (6-10 AÑOS)'!Q36 -> 75000 | P151: =+'CAMIONETA-CAT. C (>11 AÑOS)'!P36 -> 53439.12
A152: AMORTIGUADOR DELANTERO X1 | C152: 528750 | E152: 87300 | F152: =+'CAMIONETA-CAT. A (0-5 AÑOS)'!P37 -> 616050 | K152: =+'CAMIONETA-CAT. B (6-10 AÑOS)'!Q37 -> 652500 | P152: =+'CAMIONETA-CAT. C (>11 AÑOS)'!P37 -> 620865
A153: AMORTIGUADOR TRASERO X1 | C153: 458250 | E153: 87300 | F153: =+'CAMIONETA-CAT. A (0-5 AÑOS)'!P38 -> 545550 | K153: =+'CAMIONETA-CAT. B (6-10 AÑOS)'!Q38 -> 577500 | P153: =+'CAMIONETA-CAT. C (>11 AÑOS)'!P38 -> 549615
A154: RODAMIENTO DELANTERO X1 | C154: 493500 | E154: 77600 | F154: =+'CAMIONETA-CAT. A (0-5 AÑOS)'!P39 -> 571100 | K154: =+'CAMIONETA-CAT. B (6-10 AÑOS)'!Q39 -> 539876.79 | P154: =+'CAMIONETA-CAT. C (>11 AÑOS)'!P39 -> 566914.49
A155: RODAMIENTO TRASERO X1 | C155: 493500 | E155: 77600 | F155: =+'CAMIONETA-CAT. A (0-5 AÑOS)'!P40 -> 571100 | K155: =+'CAMIONETA-CAT. B (6-10 AÑOS)'!Q40 -> 539876.79 | P155: =+'CAMIONETA-CAT. C (>11 AÑOS)'!P40 -> 566914.49
A156: REPARACIÓN CAJA DIRECCIÓN CON REPUESTOS | C156: 1410000 | E156: N/A | F156: =+'CAMIONETA-CAT. A (0-5 AÑOS)'!P41 -> 437992 | K156: =+'CAMIONETA-CAT. B (6-10 AÑOS)'!Q41 -> 413606 | P156: =+'CAMIONETA-CAT. C (>11 AÑOS)'!P41 -> 1425000
A157: REPARACIÓN BOMBA DIRECCIÓN CON REPUESTOS | C157: 1151500 | E157: N/A | F157: =+'CAMIONETA-CAT. A (0-5 AÑOS)'!P42 -> 222209 | K157: =+'CAMIONETA-CAT. B (6-10 AÑOS)'!Q42 -> 213975 | P157: =+'CAMIONETA-CAT. C (>11 AÑOS)'!P42 -> 1163750
A158: RADIADOR CON MANGUERAS | C158: 1938750 | E158: 271600 | F158: =+'CAMIONETA-CAT. A (0-5 AÑOS)'!P43 -> 491687 | K158: =+'CAMIONETA-CAT. B (6-10 AÑOS)'!Q43 -> 475159 | P158: =+'CAMIONETA-CAT. C (>11 AÑOS)'!P43 -> 1787238
A159: TERMOSTATO | C159: 763750 | E159: 58200 | F159: =+'CAMIONETA-CAT. A (0-5 AÑOS)'!P44 -> 205653 | K159: =+'CAMIONETA-CAT. B (6-10 AÑOS)'!Q44 -> 198741 | P159: =+'CAMIONETA-CAT. C (>11 AÑOS)'!P44 -> 205080.51
A160: LIQUIDO REFRIGERANTE (GALÓN) | C160: 998750 | E160: 58200 | F160: =+'CAMIONETA-CAT. A (0-5 AÑOS)'!P45 -> 217560 | K160: =+'CAMIONETA-CAT. B (6-10 AÑOS)'!Q45 -> 269320 | P160: =+'CAMIONETA-CAT. C (>11 AÑOS)'!P45 -> 305532
A161: PLUMILLAS DELANTERAS X2 | C161: 188000 | E161: 19400 | F161: =+'CAMIONETA-CAT. A (0-5 AÑOS)'!P46 -> 207400 | K161: =+'CAMIONETA-CAT. B (6-10 AÑOS)'!Q46 -> 154735.17 | P161: =+'CAMIONETA-CAT. C (>11 AÑOS)'!P46 -> 133658.34
A162: PLUMILLA TRASERA X1 | C162: 164500 | E162: 19400 | F162: =+'CAMIONETA-CAT. A (0-5 AÑOS)'!P47 -> 169560 | K162: =+'CAMIONETA-CAT. B (6-10 AÑOS)'!Q47 -> 154735.17 | P162: =+'CAMIONETA-CAT. C (>11 AÑOS)'!P47 -> 133658.34
A163: COMPRESOR A/A Y MANGUERAS | C163: 3113750 | E163: 630500 | F163: =+'CAMIONETA-CAT. A (0-5 AÑOS)'!P48 -> 2180520 | K163: =+'CAMIONETA-CAT. B (6-10 AÑOS)'!Q48 -> 2210393 | P163: =+'CAMIONETA-CAT. C (>11 AÑOS)'!P48 -> 2507598
A164: RADIADOR A/A | C164: 5698750 | E164: 368600 | F164: =+'CAMIONETA-CAT. A (0-5 AÑOS)'!P49 -> 883440 | K164: =+'CAMIONETA-CAT. B (6-10 AÑOS)'!Q49 -> 895544 | P164: =+'CAMIONETA-CAT. C (>11 AÑOS)'!P49 -> 1015956
A165: FILTRO A/A | C165: 188000 | E165: 29100 | F165: =+'CAMIONETA-CAT. A (0-5 AÑOS)'!P50 -> 126809 | K165: =+'CAMIONETA-CAT. B (6-10 AÑOS)'!Q50 -> 122360 | P165: =+'CAMIONETA-CAT. C (>11 AÑOS)'!P50 -> 190432.09
A166: RECARGA A/A CON GAS | C166: 564000 | E166: N/A | F166: =+'CAMIONETA-CAT. A (0-5 AÑOS)'!P51 -> 664200 | K166: =+'CAMIONETA-CAT. B (6-10 AÑOS)'!Q51 -> 175782.38 | P166: =+'CAMIONETA-CAT. C (>11 AÑOS)'!P51 -> 502475.85
A167: BOMBA DE COMBUSTIBLE | C167: 1116250 | E167: 242500 | F167: =+'CAMIONETA-CAT. A (0-5 AÑOS)'!P52 -> 330926 | K167: =+'CAMIONETA-CAT. B (6-10 AÑOS)'!Q52 -> 319802 | P167: =+'CAMIONETA-CAT. C (>11 AÑOS)'!P52 -> 1362474
A168: VULCANIZADO LLANTA X1 | C168: 94000 | E168: N/A | F168: =+'CAMIONETA-CAT. A (0-5 AÑOS)'!P53 -> 123949 | K168: =+'CAMIONETA-CAT. B (6-10 AÑOS)'!Q53 -> 53001.2 | P168: =+'CAMIONETA-CAT. C (>11 AÑOS)'!P53 -> 63578.9
A169: CATALIZADOR SEGÚN TIPO DE COMBUSTIBLE | C169: 3348750 | E169: 436500 | F169: =+'CAMIONETA-CAT. A (0-5 AÑOS)'!P54 -> 126067 | K169: =+'CAMIONETA-CAT. B (6-10 AÑOS)'!Q54 -> 122360 | P169: =+'CAMIONETA-CAT. C (>11 AÑOS)'!P54 -> 2353590
A170: PULIDA DE FAROLAS | C170: 411250 | E170: N/A | F170: =+'CAMIONETA-CAT. A (0-5 AÑOS)'!P55 -> 325364 | K170: =+'CAMIONETA-CAT. B (6-10 AÑOS)'!Q55 -> 175782.38 | P170: =+'CAMIONETA-CAT. C (>11 AÑOS)'!P55 -> 175782.38
A171: CAMPERO
A172: BATERÍA 12V X1 | F172: ='CAMPERO-CAT. A (0-5 AÑOS)'!O2 -> 1219900 | K172: =+'CAMPERO-CAT. B (6-10 AÑOS)'!P2 -> 1166871.2 | P172: =+'CAMPERO-CAT. C (>11 AÑOS)'!P2 -> 1109077.7
A173: ACEITE MOTOR (EXCEPTO IVA) | F173: ='CAMPERO-CAT. A (0-5 AÑOS)'!O3 -> 114259.2 | K173: =+'CAMPERO-CAT. B (6-10 AÑOS)'!P3 -> 115825 | P173: =+'CAMPERO-CAT. C (>11 AÑOS)'!P3 -> 131398
A174: MONTAJE LLANTA X 1 | B174: N/A | C174: N/A | F174: ='CAMPERO-CAT. A (0-5 AÑOS)'!O4 -> 90000 | K174: =+'CAMPERO-CAT. B (6-10 AÑOS)'!P4 -> 93000 | P174: =+'CAMPERO-CAT. C (>11 AÑOS)'!P4 -> 93000
A175: ALINEACIÓN DIRECCIÓN X2 LLANTAS | B175: N/A | C175: N/A | F175: ='CAMPERO-CAT. A (0-5 AÑOS)'!O5 -> 180000 | K175: =+'CAMPERO-CAT. B (6-10 AÑOS)'!P5 -> 186000 | P175: =+'CAMPERO-CAT. C (>11 AÑOS)'!P5 -> 186000
A176: BALANCEO LLANTAS X1 LLANTA | F176: ='CAMPERO-CAT. A (0-5 AÑOS)'!O6 -> 124300 | K176: =+'CAMPERO-CAT. B (6-10 AÑOS)'!P6 -> 55618.75 | P176: =+'CAMPERO-CAT. C (>11 AÑOS)'!P6 -> 52837.812
A177: PASTILLAS DE FRENO DELANTERAS | F177: ='CAMPERO-CAT. A (0-5 AÑOS)'!O7 -> 514541 | K177: =+'CAMPERO-CAT. B (6-10 AÑOS)'!P7 -> 401250 | P177: =+'CAMPERO-CAT. C (>11 AÑOS)'!P7 -> 381957.5
A178: RECTIFICADORA DE DISCO X UNIDAD | F178: ='CAMPERO-CAT. A (0-5 AÑOS)'!O8 -> 247896 | K178: =+'CAMPERO-CAT. B (6-10 AÑOS)'!P8 -> 100000 | P178: =+'CAMPERO-CAT. C (>11 AÑOS)'!P8 -> 95000
...

Sheet ESTUDIO MERCADO MOTOS Y CUATR.
A1: ESTUDIO DE MERCADO SERVICIOS AUTOLLANOS
A2: OBJETO: CONTRATAR EL SERVICIO DE MANTENIMIENTO PREVENTIVO Y CORRECTIVO INCLUIDO REPUESTOS PARA EL PARQUE AUTOMOTOR
A3: DESCRIPCIÓN | B3: CATEGORIA A ( 0 - 5 AÑOS DE ANTIGÜEDAD) TOTAL PROPUESTA INCLUIDO MANO DE OBRA, REPUESTOS E IMPUESTOS | G3: CATEGORÍA B ( 6 - 10 AÑOS DE ANTIGÜEDAD) TOTAL PROPUESTA INCLUIDO MANO DE OBRA, REPUESTOS E IMPUESTOS | L3: CATEGORÍA C ( >11 AÑOS DE ANTIGÜEDAD) TOTAL PROPUESTA INCLUIDO MANO DE OBRA, REPUESTOS E IMPUESTOS
A4: DESCRIPCION DE REPUESTOS INCLUYENDO MANO DE OBRA ( A TODO COSTO) | B4: REPUESTOS | D4: MANO DE OBRA | F4: VALOR TOTAL REPUESTOS MAS MANO DE OBRA | G4: REPUESTOS | I4: MANO DE OBRA | K4: VALOR TOTAL REPUESTOS MAS MANO DE OBRA | L4: REPUESTOS | N4: MANO DE OBRA | P4: VALOR TOTAL REPUESTOS MAS MANO DE OBRA
B5: REFERENCIA | C5: VALOR UNIT | D5: TEMPARIO (tiempo total estimado) | E5: VALOR TOTAL MANO DE OBRA | G5: REFERENCIA | H5: VALOR UNIT | I5: TEMPARIO (tiempo total estimado) | J5: VALOR TOTAL MANO DE OBRA | L5: REFERENCIA | M5: VALOR UNIT | N5: TEMPARIO (tiempo total estimado) | O5: VALOR TOTAL MANO DE OBRA
A6: ACEITE MOTOR (EXCENTO IVA) | F6: =+'MOTOS.CUATR-CAT. A (0-5 AÑOS)'!N2 -> 68350 | K6: =+'MOTOS.CUATR-CAT. B (6-10 AÑOS)'!N2 -> 73012 | M6: 90000 | O6: 25000 | P6: =+'MOTOS.CUATR-CAT. C (>11 AÑOS)'!O2 -> 78603
A7: FILTRO ACEITE | F7: =+'MOTOS.CUATR-CAT. A (0-5 AÑOS)'!N3 -> 73729 | K7: =+'MOTOS.CUATR-CAT. B (6-10 AÑOS)'!N3 -> 78758 | M7: 60000 | O7: 20000 | P7: =+'MOTOS.CUATR-CAT. C (>11 AÑOS)'!O3 -> 80000
A8: FILTRO AIRE | F8: =+'MOTOS.CUATR-CAT. A (0-5 AÑOS)'!N4 -> 73224 | K8: =+'MOTOS.CUATR-CAT. B (6-10 AÑOS)'!N4 -> 78218 | M8: 50000 | O8: 20000 | P8: =+'MOTOS.CUATR-CAT. C (>11 AÑOS)'!O4 -> 70000
A9: FILTRO GASOLINA | F9: =+'MOTOS.CUATR-CAT. A (0-5 AÑOS)'!N5 -> 65147 | K9: =+'MOTOS.CUATR-CAT. B (6-10 AÑOS)'!N5 -> 69590 | M9: 65000 | O9: 20000 | P9: =+'MOTOS.CUATR-CAT. C (>11 AÑOS)'!O5 -> 74919
A10: EMPAQUE TAPON | F10: =+'MOTOS.CUATR-CAT. A (0-5 AÑOS)'!N6 -> 28826 | K10: =+'MOTOS.CUATR-CAT. B (6-10 AÑOS)'!N6 -> 30792 | M10: 30000 | O10: 20000 | P10: =+'MOTOS.CUATR-CAT. C (>11 AÑOS)'!O6 -> 33150
A11: DISCO DE FRENO DELANTERO | F11: =+'MOTOS.CUATR-CAT. A (0-5 AÑOS)'!N7 -> 223993 | K11: =+'MOTOS.CUATR-CAT. B (6-10 AÑOS)'!N7 -> 239269 | M11: 240000 | O11: 80000 | P11: =+'MOTOS.CUATR-CAT. C (>11 AÑOS)'!O7 -> 257592
A12: DISCO DE FRENO DELANTERO | F12: =+'MOTOS.CUATR-CAT. A (0-5 AÑOS)'!N8 -> 223993 | K12: =+'MOTOS.CUATR-CAT. B (6-10 AÑOS)'!N8 -> 239269 | M12: 260000 | O12: 80000 | P12: =+'MOTOS.CUATR-CAT. C (>11 AÑOS)'!O8 -> 257592
A13: CAMPANA DE FRENO TRASERO | F13: =+'MOTOS.CUATR-CAT. A (0-5 AÑOS)'!N9 -> 329672 | K13: =+'MOTOS.CUATR-CAT. B (6-10 AÑOS)'!N9 -> 352155 | M13: 180000 | O13: 60000 | P13: =+'MOTOS.CUATR-CAT. C (>11 AÑOS)'!O9 -> 240000
A14: PASTILLAS DE FRENO DELANTERAS | F14: =+'MOTOS.CUATR-CAT. A (0-5 AÑOS)'!N10 -> 311272 | K14: =+'MOTOS.CUATR-CAT. B (6-10 AÑOS)'!N10 -> 332500 | M14: 190000 | O14: 60000 | P14: =+'MOTOS.CUATR-CAT. C (>11 AÑOS)'!O10 -> 250000
A15: BANDAS FRENO TRASERO | F15: =+'MOTOS.CUATR-CAT. A (0-5 AÑOS)'!N11 -> 345033 | K15: =+'MOTOS.CUATR-CAT. B (6-10 AÑOS)'!N11 -> 368564 | M15: 160000 | O15: 40000 | P15: =+'MOTOS.CUATR-CAT. C (>11 AÑOS)'!O11 -> 200000
A16: GUAYA FRENO | F16: =+'MOTOS.CUATR-CAT. A (0-5 AÑOS)'!N12 -> 198252 | K16: =+'MOTOS.CUATR-CAT. B (6-10 AÑOS)'!N12 -> 211773 | M16: 220000 | O16: 60000 | P16: =+'MOTOS.CUATR-CAT. C (>11 AÑOS)'!O12 -> 227990
A17: GUAYA EMBRAGUE | F17: =+'MOTOS.CUATR-CAT. A (0-5 AÑOS)'!N13 -> 198252 | K17: =+'MOTOS.CUATR-CAT. B (6-10 AÑOS)'!N13 -> 211773 | M17: 380000 | O17: 190000 | P17: =+'MOTOS.CUATR-CAT. C (>11 AÑOS)'!O13 -> 227990
... A24: BOMBILLO DIRECCIONAL | F24: =+'MOTOS.CUATR-CAT. A (0-5 AÑOS)'!N20 -> 55332 | K24: =+'MOTOS.CUATR-CAT. B (6-10 AÑOS)'!N20 -> 59106 | M24: 25000 | O24: 10000 | P24: =+'MOTOS.CUATR-CAT. C (>11 AÑOS)'!O20 -> 35000
A25: SINCRONIZACION | F25: =+'MOTOS.CUATR-CAT. A (0-5 AÑOS)'!N21 -> 291023 | K25: =+'MOTOS.CUATR-CAT. B (6-10 AÑOS)'!N21 -> 310871 | M25: 360000 | P25: =+'MOTOS.CUATR-CAT. C (>11 AÑOS)'!O21 -> 334676
A26: BUJIA | F26: =+'MOTOS.CUATR-CAT. A (0-5 AÑOS)'!N22 -> 107006 | K26: =+'MOTOS.CUATR-CAT. B (6-10 AÑOS)'!N22 -> 114304 | M26: 90000 | O26: 30000 | P26: =+'MOTOS.CUATR-CAT. C (>11 AÑOS)'!O22 -> 120000
A27: REVISION SISTEMA ELECTRICO | F27: =+'MOTOS.CUATR-CAT. A (0-5 AÑOS)'!N23 -> 238945 | K27: =+'MOTOS.CUATR-CAT. B (6-10 AÑOS)'!N23 -> 255241 | M27: 80000 | P27: =+'MOTOS.CUATR-CAT. C (>11 AÑOS)'!O23 -> 80000
A28: ENGRASE Y TENSION CADENA | F28: =+'MOTOS.CUATR-CAT. A (0-5 AÑOS)'!N24 -> 263092 | K28: =+'MOTOS.CUATR-CAT. B (6-10 AÑOS)'!N24 -> 281035 | M28: 60000 | P28: =+'MOTOS.CUATR-CAT. C (>11 AÑOS)'!O24 -> 60000
A29: DESPINCHE CON TACO | F29: =+'MOTOS.CUATR-CAT. A (0-5 AÑOS)'!N25 -> 113780 | K29: =+'MOTOS.CUATR-CAT. B (6-10 AÑOS)'!N25 -> 121540 | M29: 35000 | P29: =+'MOTOS.CUATR-CAT. C (>11 AÑOS)'!O25 -> 35000
A30: REVISION CUNAS DIRECCION | F30: =+'MOTOS.CUATR-CAT. A (0-5 AÑOS)'!N26 -> 194471 | K30: =+'MOTOS.CUATR-CAT. B (6-10 AÑOS)'!N26 -> 207734 | M30: 60000 | P30: =+'MOTOS.CUATR-CAT. C (>11 AÑOS)'!O26 -> 60000
A31: REVISION RODAMIENTOS RUEDAS | F31: =+'MOTOS.CUATR-CAT. A (0-5 AÑOS)'!N27 -> 243843 | K31: =+'MOTOS.CUATR-CAT. B (6-10 AÑOS)'!N27 -> 260473 | M31: 60000 | P31: =+'MOTOS.CUATR-CAT. C (>11 AÑOS)'!O27 -> 60000
A32: REVISION PITO | F32: =+'MOTOS.CUATR-CAT. A (0-5 AÑOS)'!N28 -> 110882 | K32: =+'MOTOS.CUATR-CAT. B (6-10 AÑOS)'!N28 -> 118444 | M32: 40000 | P32: =+'MOTOS.CUATR-CAT. C (>11 AÑOS)'!O28 -> 40000
A33: TOTAL | B33: =SUM(B6:B32) -> 0 | C33: =SUM(C6:C32) -> 0 | D33: =SUM(D6:D32) -> 0 | E33: =SUM(E6:E32) -> 0 | F33: =SUM(F6:F32) -> 5653402 | G33: =SUM(G6:G32) -> 0 | H33: =SUM(H6:H32) -> 0 | I33: =SUM(I6:I32) -> 0 | ... P33: =SUM(P6:P32) -> 4236539
A35: Nota: El valor del servicio de la revisión técnico-mecánica, deberá ser cobrado de acuerdo a lo establecido en la Resolución No. 20213040063835 del Ministerio de Transporte, “Por la cual se modifica el artículo 1 de la Resolución 3318 de 2015, que establece las condiciones, características de seguridad y rangos de precios al usuario para los servicios prestados por los Centros de Diagnóstico Automotor”. En dicha resolución se modifica el artículo 1 de la Resolución 3318 de 2015, quedando de la siguiente manera: Artículo 1. Rango de precios al usuario de los Centros de Diagnóstico Automotor. Los Centros de Diagnóstico Automotor ofrecerán sus servicios a los usuarios dentro del rango de precios expresado en Unidades de Valor Tributario (UVT). Adicionalmente, se precisa que no podrá superarse el valor máximo estipulado en la citada resolución.

Sheet AUT-CAT. A (0-5 AÑOS)
A1: ITEM | B1: DESCRIPCION | E1: Cotización 1 JAKO IMPORTACIONES | F1: Cotización 2 VOLTACAR | I1: MÍNIMOS | J1: MÁXIMOS | K1: MEDIA GEOMÉTRICA | L1: MEDIANA | M1: PROMEDIO | N1: Precio Comercial 2026 | P1: Desviación Estandar | Q1: Interpretación en Análisis de Mercado | R1: Coeficiente de variación | S1: Interpretación Clave en Precios
A2: 1 | B2: BATERÍA 12V X1 | E2: 1109000 | F2: 1153360 | I2: =+MIN(E2,F2) -> 1109000 | J2: =+MAX(E2,F2) -> 1153360 | K2: =+GEOMEAN(F2,E2) -> 1130962.5 | L2: =+MEDIAN(F2,E2) -> 1131180 | M2: =+AVERAGE(F2,E2) -> 1131180 | N2: =+I2 -> 1109000 | P2: =+_xlfn.STDEV.S(E2,F2) -> 31367.257 | Q2: =+IF(P2<20000,"Los precios son similares, sugiriendo un mercado estable y competitivo.","Existe gran diferencia, indicando alta volatilidad o falta de consenso en el valor. ") -> Existe gran diferencia, indicando alta volatilidad o falta de consenso en el valor. | R2: =+_xlfn.STDEV.P(E2,F2)/M2 -> 0.019607843 | S2: =+IF(R2<30%,"Los precios son homogéneos. Hay poca dispersión, indicando un mercado estable donde la mayoría de los productos se venden a precios cercanos al promedio","Existe una gran dispersión de precios, lo que indica alta volatilidad o falta de uniformidad en el mercado. La media pierde representatividad") -> Los precios son homogéneos. Hay poca dispersión, indicando un mercado estable donde la mayoría de los productos se venden a precios cercanos al promedio
A3: 2 | B3: ACEITE MOTOR (EXCEPTO IVA) | E3: 103872 | F3: 108027 | I3: =+MIN(E3,F3) -> 103872 | J3: =+MAX(E3,F3) -> 108027 | K3: =+GEOMEAN(F3,E3) -> 105929.13 | L3: =+MEDIAN(F3,E3) -> 105949.5 | M3: =+AVERAGE(F3,E3) -> 105949.5 | N3: =+I3 -> 103872 | P3: =+_xlfn.STDEV.S(E3,F3) -> 2938.0287 | Q3: =+IF(P3<20000,"Los precios son similares, sugiriendo un mercado estable y competitivo.","Existe gran diferencia, indicando alta volatilidad o falta de consenso en el valor. ") -> Los precios son similares, sugiriendo un mercado estable y competitivo. | R3: =+_xlfn.STDEV.P(E3,F3)/M3 -> 0.019608398 | S3: =+IF(R3<30%,"Los precios son homogéneos. Hay poca dispersión, indicando un mercado estable donde la mayoría de los productos se venden a precios cercanos al promedio","Existe una gran dispersión de precios, lo que indica alta volatilidad o falta de uniformidad en el mercado. La media pierde representatividad") -> Los precios son homogéneos. Hay poca dispersión, indicando un mercado estable donde la mayoría de los productos se venden a precios cercanos al promedio
A4: 3 | B4: MONTAJE LLANTA X 1 | E4: 90000 | F4: 93000 | I4: =+MIN(E4,F4) -> 90000 | J4: =+MAX(E4,F4) -> 93000 | K4: =+GEOMEAN(F4,E4) -> 91487.704 | L4: =+MEDIAN(F4,E4) -> 91500 | M4: =+AVERAGE(F4,E4) -> 91500 | N4: =+I4 -> 90000 | P4: =+_xlfn.STDEV.S(E4,F4) -> 2121.3203 | Q4: =+IF(P4<20000,"Los precios son similares, sugiriendo un mercado estable y competitivo.","Existe gran diferencia, indicando alta volatilidad o falta de consenso en el valor. ") -> Los precios son similares, sugiriendo un mercado estable y competitivo. | R4: =+_xlfn.STDEV.P(E4,F4)/M4 -> 0.016393443 | S4: =+IF(R4<30%,"Los precios son homogéneos. Hay poca dispersión, indicando un mercado estable donde la mayoría de los productos se venden a precios cercanos al promedio","Existe una gran dispersión de precios, lo que indica alta volatilidad o falta de uniformidad en el mercado. La media pierde representatividad") -> Los precios son homogéneos. Hay poca dispersión, indicando un mercado estable donde la mayoría de los productos se venden a precios cercanos al promedio
A5: 4 | B5: ALINEACIÓN DIRECCIÓN X2 LLANTAS | E5: 180000 | F5: 186000 | I5: =+MIN(E5,F5) -> 180000 | J5: =+MAX(E5,F5) -> 186000 | K5: =+GEOMEAN(F5,E5) -> 182975.41 | L5: =+MEDIAN(F5,E5) -> 183000 | M5: =+AVERAGE(F5,E5) -> 183000 | N5: =+I5 -> 180000 | P5: =+_xlfn.STDEV.S(E5,F5) -> 4242.6407 | Q5: =+IF(P5<20000,"Los precios son similares, sugiriendo un mercado estable y competitivo.","Existe gran diferencia, indicando alta volatilidad o falta de consenso en el valor. ") -> Los precios son similares, sugiriendo un mercado estable y competitivo. | R5: =+_xlfn.STDEV.P(E5,F5)/M5 -> 0.016393443 | S5: =+IF(R5<30%,"Los precios son homogéneos. Hay poca dispersión, indicando un mercado estable donde la mayoría de los productos se venden a precios cercanos al promedio","Existe una gran dispersión de precios, lo que indica alta volatilidad o falta de uniformidad en el mercado. La media pierde representatividad") -> Los precios son homogéneos. Hay poca dispersión, indicando un mercado estable donde la mayoría de los productos se venden a precios cercanos al promedio
A6: 5 | B6: BALANCEO LLANTAS X1 LLANTA | E6: 113000 | F6: 117520 | I6: =+MIN(E6,F6) -> 113000 | J6: =+MAX(E6,F6) -> 117520 | K6: =+GEOMEAN(F6,E6) -> 115237.84 | L6: =+MEDIAN(F6,E6) -> 115260 | M6: =+AVERAGE(F6,E6) -> 115260 | N6: =+I6 -> 113000 | P6: =+_xlfn.STDEV.S(E6,F6) -> 3196.1227 | Q6: =+IF(P6<20000,"Los precios son similares, sugiriendo un mercado estable y competitivo.","Existe gran diferencia, indicando alta volatilidad o falta de consenso en el valor. ") -> Los precios son similares, sugiriendo un mercado estable y competitivo. | R6: =+_xlfn.STDEV.P(E6,F6)/M6 -> 0.019607843 | S6: =+IF(R6<30%,"Los precios son homogéneos. Hay poca dispersión, indicando un mercado estable donde la mayoría de los productos se venden a precios cercanos al promedio","Existe una gran dispersión de precios, lo que indica alta volatilidad o falta de uniformidad en el mercado. La media pierde representatividad") -> Los precios son homogéneos. Hay poca dispersión, indicando un mercado estable donde la mayoría de los productos se venden a precios cercanos al promedio
A7: 6 | B7: PASTILLAS DE FRENO DELANTERAS | E7: 585000 | F7: 608400 | I7: =+MIN(E7,F7) -> 585000 | J7: =+MAX(E7,F7) -> 608400 | K7: =+GEOMEAN(F7,E7) -> 596585.28 | L7: =+MEDIAN(F7,E7) -> 596700 | M7: =+AVERAGE(F7,E7) -> 596700 | N7: =+I7 -> 585000 | P7: =+_xlfn.STDEV.S(E7,F7) -> 16546.299 | Q7: =+IF(P7<20000,"Los precios son similares, sugiriendo un mercado estable y competitivo.","Existe gran diferencia, indicando alta volatilidad o falta de consenso en el valor. ") -> Los precios son similares, sugiriendo un mercado estable y competitivo. | R7: =+_xlfn.STDEV.P(E7,F7)/M7 -> 0.019607843 | S7: =+IF(R7<30%,"Los precios son homogéneos. Hay poca dispersión, indicando un mercado estable donde la mayoría de los productos se venden a precios cercanos al promedio","Existe una gran dispersión de precios, lo que indica alta volatilidad o falta de uniformidad en el mercado. La media pierde representatividad") -> Los precios son homogéneos. Hay poca dispersión, indicando un mercado estable donde la mayoría de los productos se venden a precios cercanos al promedio
A8: 7 | B8: RECTIFICADORA DE DISCO X UNIDAD | E8: 289000 | F8: 300560 | I8: =+MIN(E8,F8) -> 289000 | J8: =+MAX(E8,F8) -> 300560 | K8: =+GEOMEAN(F8,E8) -> 294723.33 | L8: =+MEDIAN(F8,E8) -> 294780 | M8: =+AVERAGE(F8,E8) -> 294780 | N8: =+I8 -> 289000 | P8: =+_xlfn.STDEV.S(E8,F8) -> 8174.1544 | Q8: =+IF(P8<20000,"Los precios son similares, sugiriendo un mercado estable y competitivo.","Existe gran diferencia, indicando alta volatilidad o falta de consenso en el valor. ") -> Los precios son similares, sugiriendo un mercado estable y competitivo. | R8: =+_xlfn.STDEV.P(E8,F8)/M8 -> 0.019607843 | S8: =+IF(R8<30%,"Los precios son homogéneos. Hay poca dispersión, indicando un mercado estable donde la mayoría de los productos se venden a precios cercanos al promedio","Existe una gran dispersión de precios, lo que indica alta volatilidad o falta de uniformidad en el mercado. La media pierde representatividad") -> Los precios son homogéneos. Hay poca dispersión, indicando un mercado estable donde la mayoría de los productos se venden a precios cercanos al promedio
A9: 8 | B9: MUÑECOS DE SUSPENSIÓN X 1 | E9: 240000 | F9: 249600 | I9: =+MIN(E9,F9) -> 240000 | J9: =+MAX(E9,F9) -> 249600 | K9: =+GEOMEAN(F9,E9) -> 244752.94 | L9: =+MEDIAN(F9,E9) -> 244800 | M9: =+AVERAGE(F9,E9) -> 244800 | N9: =+I9 -> 240000 | P9: =+_xlfn.STDEV.S(E9,F9) -> 6788.2251 | Q9: =+IF(P9<20000,"Los precios son similares, sugiriendo un mercado estable y competitivo.","Existe gran diferencia, indicando alta volatilidad o falta de consenso en el valor. ") -> Los precios son similares, sugiriendo un mercado estable y competitivo. | R9: =+_xlfn.STDEV.P(E9,F9)/M9 -> 0.019607843 | S9: =+IF(R9<30%,"Los precios son homogéneos. Hay poca dispersión, indicando un mercado estable donde la mayoría de los productos se venden a precios cercanos al promedio","Existe una gran dispersión de precios, lo que indica alta volatilidad o falta de uniformidad en el mercado. La media pierde representatividad") -> Los precios son homogéneos. Hay poca dispersión, indicando un mercado estable donde la mayoría de los productos se venden a precios cercanos al promedio
A10: 9 | B10: BRAZO AXIAL X1 | E10: 450000 | F10: 468000 | I10: =+MIN(E10,F10) -> 450000 | J10: =+MAX(E10,F10) -> 468000 | K10: =+GEOMEAN(F10,E10) -> 458911.76 | L10: =+MEDIAN(F10,E10) -> 459000 | M10: =+AVERAGE(F10,E10) -> 459000 | N10: =+I10 -> 450000 | P10: =+_xlfn.STDEV.S(E10,F10) -> 12727.922 | Q10: =+IF(P10<20000,"Los precios son similares, sugiriendo un mercado estable y competitivo.","Existe gran diferencia, indicando alta volatilidad o falta de consenso en el valor. ") -> Los precios son similares, sugiriendo un mercado estable y competitivo. | R10: =+_xlfn.STDEV.P(E10,F10)/M10 -> 0.019607843 | S10: =+IF(R10<30%,"Los precios son homogéneos. Hay poca dispersión, indicando un mercado estable donde la mayoría de los productos se venden a precios cercanos al promedio","Existe una gran dispersión de precios, lo que indica alta volatilidad o falta de uniformidad en el mercado. La media pierde representatividad") -> Los precios son homogéneos. Hay poca dispersión, indicando un mercado estable donde la mayoría de los productos se venden a precios cercanos al promedio
A11: 10 | B11: FILTRO DE AIRE MOTOR | E11: 144000 | F11: 149760 | I11: =+MIN(E11,F11) -> 144000 | J11: =+MAX(E11,F11) -> 149760 | K11: =+GEOMEAN(F11,E11) -> 146851.76 | L11: =+MEDIAN(F11,E11) -> 146880 | M11: =+AVERAGE(F11,E11) -> 146880 | N11: =+I11 -> 144000 | P11: =+_xlfn.STDEV.S(E11,F11) -> 4072.9351 | Q11: =+IF(P11<20000,"Los precios son similares, sugiriendo un mercado estable y competitivo.","Existe gran diferencia, indicando alta volatilidad o falta de consenso en el valor. ") -> Los precios son similares, sugiriendo un mercado estable y competitivo. | R11: =+_xlfn.STDEV.P(E11,F11)/M11 -> 0.019607843 | S11: =+IF(R11<30%,"Los precios son homogéneos. Hay poca dispersión, indicando un mercado estable donde la mayoría de los productos se venden a precios cercanos al promedio","Existe una gran dispersión de precios, lo que indica alta volatilidad o falta de uniformidad en el mercado. La media pierde representatividad") -> Los precios son homogéneos. Hay poca dispersión, indicando un mercado estable donde la mayoría de los productos se venden a precios cercanos al promedio
A12: 11 | B12: FILTRO DE COMBUSTIBLE | E12: 203000 | F12: 211120 | I12: =+MIN(E12,F12) -> 203000 | J12: =+MAX(E12,F12) -> 211120 | K12: =+GEOMEAN(F12,E12) -> 207020.19 | L12: =+MEDIAN(F12,E12) -> 207060 | M12: =+AVERAGE(F12,E12) -> 207060 | N12: =+I12 -> 203000 | P12: =+_xlfn.STDEV.S(E12,F12) -> 5741.7071 | Q12: =+IF(P12<20000,"Los precios son similares, sugiriendo un mercado estable y competitivo.","Existe gran diferencia, indicando alta volatilidad o falta de consenso en el valor. ") -> Los precios son similares, sugiriendo un mercado estable y competitivo. | R12: =+_xlfn.STDEV.P(E12,F12)/M12 -> 0.019607843 | S12: =+IF(R12<30%,"Los precios son homogéneos. Hay poca dispersión, indicando un mercado estable donde la mayoría de los productos se venden a precios cercanos al promedio","Existe una gran dispersión de precios, lo que indica alta volatilidad o falta de uniformidad en el mercado. La media pierde representatividad") -> Los precios son homogéneos. Hay poca dispersión, indicando un mercado estable donde la mayoría de los productos se venden a precios cercanos al promedio
A13: 12 | B13: FILTRO DE ACEITE | E13: 116000 | F13: 120640 | I13: =+MIN(E13,F13) -> 116000 | J13: =+MAX(E13,F13) -> 120640 | K13: =+GEOMEAN(F13,E13) -> 118297.25 | L13: =+MEDIAN(F13,E13) -> 118320 | M13: =+AVERAGE(F13,E13) -> 118320 | N13: =+I13 -> 116000 | P13: =+_xlfn.STDEV.S(E13,F13) -> 3280.9755 | Q13: =+IF(P13<20000,"Los precios son similares, sugiriendo un mercado estable y competitivo.","Existe gran diferencia, indicando alta volatilidad o falta de consenso en el valor. ") -> Los precios son similares, sugiriendo un mercado estable y competitivo. | R13: =+_xlfn.STDEV.P(E13,F13)/M13 -> 0.019607843 | S13: =+IF(R13<30%,"Los precios son homogéneos. Hay poca dispersión, indicando un mercado estable donde la mayoría de los productos se venden a precios cercanos al promedio","Existe una gran dispersión de precios, lo que indica alta volatilidad o falta de uniformidad en el mercado. La media pierde representatividad") -> Los precios son homogéneos. Hay poca dispersión, indicando un mercado estable donde la mayoría de los productos se venden a precios cercanos al promedio
... A55: 54 | B55: PULIDA DE FAROLAS | E55: 468000 | F55: 486720 | I55: =+MIN(E55,F55) -> 468000 | J55: =+MAX(E55,F55) -> 486720 | K55: =+GEOMEAN(F55,E55) -> 477268.23 | L55: =+MEDIAN(F55,E55) -> 477360 | M55: =+AVERAGE(F55,E55) -> 477360 | N55: =+I55 -> 468000 | P55: =+_xlfn.STDEV.S(E55,F55) -> 13237.039 | Q55: =+IF(P55<20000,"Los precios son similares, sugiriendo un mercado estable y competitivo.","Existe gran diferencia, indicando alta volatilidad o falta de consenso en el valor. ") -> Los precios son similares, sugiriendo un mercado estable y competitivo. | R55: =+_xlfn.STDEV.P(E55,F55)/M55 -> 0.019607843 | S55: =+IF(R55<30%,"Los precios son homogéneos. Hay poca dispersión, indicando un mercado estable donde la mayoría de los productos se venden a precios cercanos al promedio","Existe una gran dispersión de precios, lo que indica alta volatilidad o falta de uniformidad en el mercado. La media pierde representatividad") -> Los precios son homogéneos. Hay poca dispersión, indicando un mercado estable donde la mayoría de los productos se venden a precios cercanos al promedio

Sheet AUT-CAT. B (6-10 AÑOS)
A1: ITEM | B1: DESCRIPCION | E1: Cotización 1 JAKO IMPORTACIONES | F1: Cotización 2 VOLTACAR | I1: MÍNIMOS | J1: MÁXIMOS | K1: MEDIA GEOMÉTRICA | L1: MEDIANA | M1: PROMEDIO | N1: Precio Comercial 2026 | P1: Desviación Estandar | Q1: Interpretación en Análisis de Mercado | R1: Coeficiente de variación | S1: Interpretación Clave en Precios
A2: 1 | B2: BATERÍA 12V X1 | E2: 1208810 | F2: 1124193 | I2: =+MIN(E2,F2) -> 1124193 | J2: =+MAX(E2,F2) -> 1208810 | K2: =+GEOMEAN(F2,E2) -> 1165734 | L2: =+MEDIAN(F2,E2) -> 1166501.5 | M2: =+AVERAGE(F2,E2) -> 1166501.5 | N2: =+I2 -> 1124193 | P2: =+_xlfn.STDEV.S(E2,F2) -> 59833.255 | Q2: =+IF(P2<20000,"Los precios son similares, sugiriendo un mercado estable y competitivo.","Existe gran diferencia, indicando alta volatilidad o falta de consenso en el valor. ") -> Existe gran diferencia, indicando alta volatilidad o falta de consenso en el valor. | R2: =+_xlfn.STDEV.P(E2,F2)/M2 -> 0.036269563 | S2: =+IF(R2<30%,"Los precios son homogéneos. Hay poca dispersión, indicando un mercado estable donde la mayoría de los productos se venden a precios cercanos al promedio","Existe una gran dispersión de precios, lo que indica alta volatilidad o falta de uniformidad en el mercado. La media pierde representatividad") -> Los precios son homogéneos. Hay poca dispersión, indicando un mercado estable donde la mayoría de los productos se venden a precios cercanos al promedio
A3: 2 | B3: ACEITE MOTOR (EXCEPTO IVA) | E3: 113220 | F3: 105295 | I3: =+MIN(E3,F3) -> 105295 | J3: =+MAX(E3,F3) -> 113220 | K3: =+GEOMEAN(F3,E3) -> 109185.62 | L3: =+MEDIAN(F3,E3) -> 109257.5 | M3: =+AVERAGE(F3,E3) -> 109257.5 | N3: =+I3 -> 105295 | P3: =+_xlfn.STDEV.S(E3,F3) -> 5603.8212 | Q3: =+IF(P3<20000,"Los precios son similares, sugiriendo un mercado estable y competitivo.","Existe gran diferencia, indicando alta volatilidad o falta de consenso en el valor. ") -> Los precios son similares, sugiriendo un mercado estable y competitivo. | R3: =+_xlfn.STDEV.P(E3,F3)/M3 -> 0.036267533 | S3: =+IF(R3<30%,"Los precios son homogéneos. Hay poca dispersión, indicando un mercado estable donde la mayoría de los productos se venden a precios cercanos al promedio","Existe una gran dispersión de precios, lo que indica alta volatilidad o falta de uniformidad en el mercado. La media pierde representatividad") -> Los precios son homogéneos. Hay poca dispersión, indicando un mercado estable donde la mayoría de los productos se venden a precios cercanos al promedio
A4: 3 | B4: MONTAJE LLANTA X 1 | E4: 98100 | F4: 93000 | I4: =+MIN(E4,F4) -> 93000 | J4: =+MAX(E4,F4) -> 98100 | K4: =+GEOMEAN(F4,E4) -> 95515.967 | L4: =+MEDIAN(F4,E4) -> 95550 | M4: =+AVERAGE(F4,E4) -> 95550 | N4: =+I4 -> 93000 | P4: =+_xlfn.STDEV.S(E4,F4) -> 3606.2446 | Q4: =+IF(P4<20000,"Los precios son similares, sugiriendo un mercado estable y competitivo.","Existe gran diferencia, indicando alta volatilidad o falta de consenso en el valor. ") -> Los precios son similares, sugiriendo un mercado estable y competitivo. | R4: =+_xlfn.STDEV.P(E4,F4)/M4 -> 0.026687598 | S4: =+IF(R4<30%,"Los precios son homogéneos. Hay poca dispersión, indicando un mercado estable donde la mayoría de los productos se venden a precios cercanos al promedio","Existe una gran dispersión de precios, lo que indica alta volatilidad o falta de uniformidad en el mercado. La media pierde representatividad") -> Los precios son homogéneos. Hay poca dispersión, indicando un mercado estable donde la mayoría de los productos se venden a precios cercanos al promedio
A5: 4 | B5: ALINEACIÓN DIRECCIÓN X2 LLANTAS | E5: 196200 | F5: 186000 | I5: =+MIN(E5,F5) -> 186000 | J5: =+MAX(E5,F5) -> 196200 | K5: =+GEOMEAN(F5,E5) -> 191031.93 | L5: =+MEDIAN(F5,E5) -> 191100 | M5: =+AVERAGE(F5,E5) -> 191100 | N5: =+I5 -> 186000 | P5: =+_xlfn.STDEV.S(E5,F5) -> 7212.4892 | Q5: =+IF(P5<20000,"Los precios son similares, sugiriendo un mercado estable y competitivo.","Existe gran diferencia, indicando alta volatilidad o falta de consenso en el valor. ") -> Los precios son similares, sugiriendo un mercado estable y competitivo. | R5: =+_xlfn.STDEV.P(E5,F5)/M5 -> 0.026687598 | S5: =+IF(R5<30%,"Los precios son homogéneos. Hay poca dispersión, indicando un mercado estable donde la mayoría de los productos se venden a precios cercanos al promedio","Existe una gran dispersión de precios, lo que indica alta volatilidad o falta de uniformidad en el mercado. La media pierde representatividad") -> Los precios son homogéneos. Hay poca dispersión, indicando un mercado estable donde la mayoría de los productos se venden a precios cercanos al promedio
A6: 5 | B6: BALANCEO LLANTAS X1 LLANTA | E6: 123170 | F6: 114548 | I6: =+MIN(E6,F6) -> 114548 | J6: =+MAX(E6,F6) -> 123170 | K6: =+GEOMEAN(F6,E6) -> 118780.79 | L6: =+MEDIAN(F6,E6) -> 118859 | M6: =+AVERAGE(F6,E6) -> 118859 | N6: =+I6 -> 114548 | P6: =+_xlfn.STDEV.S(E6,F6) -> 6096.6747 | Q6: =+IF(P6<20000,"Los precios son similares, sugiriendo un mercado estable y competitivo.","Existe gran diferencia, indicando alta volatilidad o falta de consenso en el valor. ") -> Los precios son similares, sugiriendo un mercado estable y competitivo. | R6: =+_xlfn.STDEV.P(E6,F6)/M6 -> 0.036269866 | S6: =+IF(R6<30%,"Los precios son homogéneos. Hay poca dispersión, indicando un mercado estable donde la mayoría de los productos se venden a precios cercanos al promedio","Existe una gran dispersión de precios, lo que indica alta volatilidad o falta de uniformidad en el mercado. La media pierde representatividad") -> Los precios son homogéneos. Hay poca dispersión, indicando un mercado estable donde la mayoría de los productos se venden a precios cercanos al promedio
A7: 6 | B7: PASTILLAS DE FRENO DELANTERAS | E7: 637650 | F7: 593015 | I7: =+MIN(E7,F7) -> 593015 | J7: =+MAX(E7,F7) -> 637650 | K7: =+GEOMEAN(F7,E7) -> 614927.65 | L7: =+MEDIAN(F7,E7) -> 615332.5 | M7: =+AVERAGE(F7,E7) -> 615332.5 | N7: =+I7 -> 593015 | P7: =+_xlfn.STDEV.S(E7,F7) -> 31561.711 | Q7: =+IF(P7<20000,"Los precios son similares, sugiriendo un mercado estable y competitivo.","Existe gran diferencia, indicando alta volatilidad o falta de consenso en el valor. ") -> Existe gran diferencia, indicando alta volatilidad o falta de consenso en el valor. | R7: =+_xlfn.STDEV.P(E7,F7)/M7 -> 0.036269009 | S7: =+IF(R7<30%,"Los precios son homogéneos. Hay poca dispersión, indicando un mercado estable donde la mayoría de los productos se venden a precios cercanos al promedio","Existe una gran dispersión de precios, lo que indica alta volatilidad o falta de uniformidad en el mercado. La media pierde representatividad") -> Los precios son homogéneos. Hay poca dispersión, indicando un mercado estable donde la mayoría de los productos se venden a precios cercanos al promedio
A8: 7 | B8: RECTIFICADORA DE DISCO X UNIDAD | E8: 315010 | F8: 292959 | I8: =+MIN(E8,F8) -> 292959 | J8: =+MAX(E8,F8) -> 315010 | K8: =+GEOMEAN(F8,E8) -> 303784.49 | L8: =+MEDIAN(F8,E8) -> 303984.5 | M8: =+AVERAGE(F8,E8) -> 303984.5 | N8: =+I8 -> 292959 | P8: =+_xlfn.STDEV.S(E8,F8) -> 15592.412 | Q8: =+IF(P8<20000,"Los precios son similares, sugiriendo un mercado estable y competitivo.","Existe gran diferencia, indicando alta volatilidad o falta de consenso en el valor. ") -> Los precios son similares, sugiriendo un mercado estable y competitivo. | R8: =+_xlfn.STDEV.P(E8,F8)/M8 -> 0.036269941 | S8: =+IF(R8<30%,"Los precios son homogéneos. Hay poca dispersión, indicando un mercado estable donde la mayoría de los productos se venden a precios cercanos al promedio","Existe una gran dispersión de precios, lo que indica alta volatilidad o falta de uniformidad en el mercado. La media pierde representatividad") -> Los precios son homogéneos. Hay poca dispersión, indicando un mercado estable donde la mayoría de los productos se venden a precios cercanos al promedio
A9: 8 | B9: MUÑECOS DE SUSPENSIÓN X 1 | E9: 261600 | F9: 243288 | I9: =+MIN(E9,F9) -> 243288 | J9: =+MAX(E9,F9) -> 261600 | K9: =+GEOMEAN(F9,E9) -> 252277.9 | L9: =+MEDIAN(F9,E9) -> 252444 | M9: =+AVERAGE(F9,E9) -> 252444 | N9: =+I9 -> 243288 | P9: =+_xlfn.STDEV.S(E9,F9) -> 12948.539 | Q9: =+IF(P9<20000,"Los precios son similares, sugiriendo un mercado estable y competitivo.","Existe gran diferencia, indicando alta volatilidad o falta de consenso en el valor. ") -> Los precios son similares, sugiriendo un mercado estable y competitivo. | R9: =+_xlfn.STDEV.P(E9,F9)/M9 -> 0.03626943 | S9: =+IF(R9<30%,"Los precios son homogéneos. Hay poca dispersión, indicando un mercado estable donde la mayoría de los productos se venden a precios cercanos al promedio","Existe una gran dispersión de precios, lo que indica alta volatilidad o falta de uniformidad en el mercado. La media pierde representatividad") -> Los precios son homogéneos. Hay poca dispersión, indicando un mercado estable donde la mayoría de los productos se venden a precios cercanos al promedio
A10: 9 | B10: BRAZO AXIAL X1 | E10: 490500 | F10: 456165 | I10: =+MIN(E10,F10) -> 456165 | J10: =+MAX(E10,F10) -> 490500 | K10: =+GEOMEAN(F10,E10) -> 473021.07 | L10: =+MEDIAN(F10,E10) -> 473332.5 | M10: =+AVERAGE(F10,E10) -> 473332.5 | N10: =+I10 -> 456165 | P10: =+_xlfn.STDEV.S(E10,F10) -> 24278.511 | Q10: =+IF(P10<20000,"Los precios son similares, sugiriendo un mercado estable y competitivo.","Existe gran diferencia, indicando alta volatilidad o falta de consenso en el valor. ") -> Existe gran diferencia, indicando alta volatilidad o falta de consenso en el valor. | R10: =+_xlfn.STDEV.P(E10,F10)/M10 -> 0.03626943 | S10: =+IF(R10<30%,"Los precios son homogéneos. Hay poca dispersión, indicando un mercado estable donde la mayoría de los productos se venden a precios cercanos al promedio","Existe una gran dispersión de precios, lo que indica alta volatilidad o falta de uniformidad en el mercado. La media pierde representatividad") -> Los precios son homogéneos. Hay poca dispersión, indicando un mercado estable donde la mayoría de los productos se venden a precios cercanos al promedio
A11: 10 | B11: FILTRO DE AIRE MOTOR | E11: 156960 | F11: 145973 | I11: =+MIN(E11,F11) -> 145973 | J11: =+MAX(E11,F11) -> 156960 | K11: =+GEOMEAN(F11,E11) -> 151366.85 | L11: =+MEDIAN(F11,E11) -> 151466.5 | M11: =+AVERAGE(F11,E11) -> 151466.5 | N11: =+I11 -> 145973 | P11: =+_xlfn.STDEV.S(E11,F11) -> 7768.9822 | Q11: =+IF(P11<20000,"Los precios son similares, sugiriendo un mercado estable y competitivo.","Existe gran diferencia, indicando alta volatilidad o falta de consenso en el valor. ") -> Los precios son similares, sugiriendo un mercado estable y competitivo. | R11: =+_xlfn.STDEV.P(E11,F11)/M11 -> 0.036268746 | S11: =+IF(R11<30%,"Los precios son homogéneos. Hay poca dispersión, indicando un mercado estable donde la mayoría de los productos se venden a precios cercanos al promedio","Existe una gran dispersión de precios, lo que indica alta volatilidad o falta de uniformidad en el mercado. La media pierde representatividad") -> Los precios son homogéneos. Hay poca dispersión, indicando un mercado estable donde la mayoría de los productos se venden a precios cercanos al promedio
A12: 11 | B12: FILTRO DE COMBUSTIBLE | E12: 221270 | F12: 205781 | I12: =+MIN(E12,F12) -> 205781 | J12: =+MAX(E12,F12) -> 221270 | K12: =+GEOMEAN(F12,E12) -> 213385.01 | L12: =+MEDIAN(F12,E12) -> 213525.5 | M12: =+AVERAGE(F12,E12) -> 213525.5 | N12: =+I12 -> 205781 | P12: =+_xlfn.STDEV.S(E12,F12) -> 10952.377 | Q12: =+IF(P12<20000,"Los precios son similares, sugiriendo un mercado estable y competitivo.","Existe gran diferencia, indicando alta volatilidad o falta de consenso en el valor. ") -> Los precios son similares, sugiriendo un mercado estable y competitivo. | R12: =+_xlfn.STDEV.P(E12,F12)/M12 -> 0.036269673 | S12: =+IF(R12<30%,"Los precios son homogéneos. Hay poca dispersión, indicando un mercado estable donde la mayoría de los productos se venden a precios cercanos al promedio","Existe una gran dispersión de precios, lo que indica alta volatilidad o falta de uniformidad en el mercado. La media pierde representatividad") -> Los precios son homogéneos. Hay poca dispersión, indicando un mercado estable donde la mayoría de los productos se venden a precios cercanos al promedio
A13: 12 | B13: FILTRO DE ACEITE | E13: 126440 | F13: 117589 | I13: =+MIN(E13,F13) -> 117589 | J13: =+MAX(E13,F13) -> 126440 | K13: =+GEOMEAN(F13,E13) -> 121934.22 | L13: =+MEDIAN(F13,E13) -> 122014.5 | M13: =+AVERAGE(F13,E13) -> 122014.5 | N13: =+I13 -> 117589 | P13: =+_xlfn.STDEV.S(E13,F13) -> 6258.6021 | Q13: =+IF(P13<20000,"Los precios son similares, sugiriendo un mercado estable y competitivo.","Existe gran diferencia, indicando alta volatilidad o falta de consenso en el valor. ") -> Los precios son similares, sugiriendo un mercado estable y competitivo. | R13: =+_xlfn.STDEV.P(E13,F13)/M13 -> 0.036270279 | S13: =+IF(R13<30%,"Los precios son homogéneos. Hay poca dispersión, indicando un mercado estable donde la mayoría de los productos se venden a precios cercanos al promedio","Existe una gran dispersión de precios, lo que indica alta volatilidad o falta de uniformidad en el mercado. La media pierde representatividad") -> Los precios son homogéneos. Hay poca dispersión, indicando un mercado estable donde la mayoría de los productos se venden a precios cercanos al promedio
... A55: 54 | B55: PULIDA DE FAROLAS | E55: 510120 | F55: 474412 | I55: =+MIN(E55,F55) -> 474412 | J55: =+MAX(E55,F55) -> 510120 | K55: =+GEOMEAN(F55,E55) -> 491942.12 | L55: =+MEDIAN(F55,E55) -> 492266 | M55: =+AVERAGE(F55,E55) -> 492266 | N55: =+I55 -> 474412 | P55: =+_xlfn.STDEV.S(E55,F55) -> 25249.369 | Q55: =+IF(P55<20000,"Los precios son similares, sugiriendo un mercado estable y competitivo.","Existe gran diferencia, indicando alta volatilidad o falta de consenso en el valor. ") -> Existe gran diferencia, indicando alta volatilidad o falta de consenso en el valor. | R55: =+_xlfn.STDEV.P(E55,F55)/M55 -> 0.036269009 | S55: =+IF(R55<30%,"Los precios son homogéneos. Hay poca dispersión, indicando un mercado estable donde la mayoría de los productos se venden a precios cercanos al promedio","Existe una gran dispersión de precios, lo que indica alta volatilidad o falta de uniformidad en el mercado. La media pierde representatividad") -> Los precios son homogéneos. Hay poca dispersión, indicando un mercado estable donde la mayoría de los productos se venden a precios cercanos al promedio

Sheet AUT-CAT. C (>11 AÑOS)
A1: ITEM | B1: DESCRIPCION | E1: Cotización 1 AUTOLLANOS | F1: Cotización 2 MERCADO ARLOS | G1: Cotización 3 JAKO IMPORTACIONES | H1: Cotización 4 VOLTACAR | J1: MÍNIMOS | K1: MÁXIMOS | L1: MEDIA GEOMÉTRICA | M1: MEDIANA | N1: PROMEDIO | O1: Precio Comercial 2026 | Q1: Desviación Estandar | R1: Interpretación en Análisis de Mercado | S1: Coeficiente de variación | T1: Interpretación Clave en Precios
A2: 1 | B2: BATERÍA 12V X1 | E2: 943497 | F2: 991171.85 | G2: 1275350 | H2: 1339118 | J2: =+MIN(E2,F2,G2,H2) -> 943497 | K2: =+MAX(E2,F2,G2,H2) -> 1339118 | L2: =+GEOMEAN(F2,E2,G2,H2) -> 1124176.3 | M2: =+MEDIAN(F2,E2,G2,H2) -> 1133260.9 | N2: =+AVERAGE(F2,E2,G2,H2) -> 1137284.2 | O2: =+J2 -> 943497 | Q2: =+_xlfn.STDEV.S(E2,F2,G2,H2) -> 198914.84 | R2: =+IF(Q2<20000,"Los precios son similares, sugiriendo un mercado estable y competitivo.","Existe gran diferencia, indicando alta volatilidad o falta de consenso en el valor. ") -> Existe gran diferencia, indicando alta volatilidad o falta de consenso en el valor. | S2: =+_xlfn.STDEV.P(E2,F2,G2,H2)/N2 -> 0.15147076 | T2: =+IF(S2<30%,"Los precios son homogéneos. Hay poca dispersión, indicando un mercado estable donde la mayoría de los productos se venden a precios cercanos al promedio","Existe una gran dispersión de precios, lo que indica alta volatilidad o falta de uniformidad en el mercado. La media pierde representatividad") -> Los precios son homogéneos. Hay poca dispersión, indicando un mercado estable donde la mayoría de los productos se venden a precios cercanos al promedio
A3: 2 | B3: ACEITE MOTOR (EXCEPTO IVA) | E3: 640000 | F3: 672600 | G3: 119453 | H3: 125426 | J3: =+MIN(E3,F3,G3,H3) -> 119453 | K3: =+MAX(E3,F3,G3,H3) -> 672600 | L3: =+GEOMEAN(F3,E3,G3,H3) -> 283387.29 | M3: =+MEDIAN(F3,E3,G3,H3) -> 382713 | N3: =+AVERAGE(F3,E3,G3,H3) -> 389369.75 | O3: =+J3 -> 119453 | Q3: =+_xlfn.STDEV.S(E3,F3,G3,H3) -> 308521.34 | R3: =+IF(Q3<20000,"Los precios son similares, sugiriendo un mercado estable y competitivo.","Existe gran diferencia, indicando alta volatilidad o falta de consenso en el valor. ") -> Existe gran diferencia, indicando alta volatilidad o falta de consenso en el valor. | S3: =+_xlfn.STDEV.P(E3,F3,G3,H3)/N3 -> 0.68620461 | T3: =+IF(S3<30%,"Los precios son homogéneos. Hay poca dispersión, indicando un mercado estable donde la mayoría de los productos se venden a precios cercanos al promedio","Existe una gran dispersión de precios, lo que indica alta volatilidad o falta de uniformidad en el mercado. La media pierde representatividad") -> Existe una gran dispersión de precios, lo que indica alta volatilidad o falta de uniformidad en el mercado. La media pierde representatividad
A4: 3 | B4: MONTAJE LLANTA X 1 | G4: 105000 | H4: 93000 | J4: =+MIN(E4,F4,G4,H4) -> 93000 | K4: =+MAX(E4,F4,G4,H4) -> 105000 | L4: =+GEOMEAN(F4,E4,G4,H4) -> 98818.015 | M4: =+MEDIAN(F4,E4,G4,H4) -> 99000 | N4: =+AVERAGE(F4,E4,G4,H4) -> 99000 | O4: =+J4 -> 93000 | Q4: =+_xlfn.STDEV.S(E4,F4,G4,H4) -> 8485.2814 | R4: =+IF(Q4<20000,"Los precios son similares, sugiriendo un mercado estable y competitivo.","Existe gran diferencia, indicando alta volatilidad o falta de consenso en el valor. ") -> Los precios son similares, sugiriendo un mercado estable y competitivo. | S4: =+_xlfn.STDEV.P(E4,F4,G4,H4)/N4 -> 0.060606061 | T4: =+IF(S4<30%,"Los precios son homogéneos. Hay poca dispersión, indicando un mercado estable donde la mayoría de los productos se venden a precios cercanos al promedio","Existe una gran dispersión de precios, lo que indica alta volatilidad o falta de uniformidad en el mercado. La media pierde representatividad") -> Los precios son homogéneos. Hay poca dispersión, indicando un mercado estable donde la mayoría de los productos se venden a precios cercanos al promedio
A5: 4 | B5: ALINEACIÓN DIRECCIÓN X2 LLANTAS | G5: 210000 | H5: 186000 | J5: =+MIN(E5,F5,G5,H5) -> 186000 | K5: =+MAX(E5,F5,G5,H5) -> 210000 | L5: =+GEOMEAN(F5,E5,G5,H5) -> 197636.03 | M5: =+MEDIAN(F5,E5,G5,H5) -> 198000 | N5: =+AVERAGE(F5,E5,G5,H5) -> 198000 | O5: =+J5 -> 186000 | Q5: =+_xlfn.STDEV.S(E5,F5,G5,H5) -> 16970.563 | R5: =+IF(Q5<20000,"Los precios son similares, sugiriendo un mercado estable y competitivo.","Existe gran diferencia, indicando alta volatilidad o falta de consenso en el valor. ") -> Los precios son similares, sugiriendo un mercado estable y competitivo. | S5: =+_xlfn.STDEV.P(E5,F5,G5,H5)/N5 -> 0.060606061 | T5: =+IF(S5<30%,"Los precios son homogéneos. Hay poca dispersión, indicando un mercado estable donde la mayoría de los productos se venden a precios cercanos al promedio","Existe una gran dispersión de precios, lo que indica alta volatilidad o falta de uniformidad en el mercado. La media pierde representatividad") -> Los precios son homogéneos. Hay poca dispersión, indicando un mercado estable donde la mayoría de los productos se venden a precios cercanos al promedio
A6: 5 | B6: BALANCEO LLANTAS X1 LLANTA | E6: 44495 | F6: 46719.75 | G6: 129950 | H6: 136448 | J6: =+MIN(E6,F6,G6,H6) -> 44495 | K6: =+MAX(E6,F6,G6,H6) -> 136448 | L6: =+GEOMEAN(F6,E6,G6,H6) -> 77918.179 | M6: =+MEDIAN(F6,E6,G6,H6) -> 88334.875 | N6: =+AVERAGE(F6,E6,G6,H6) -> 89403.188 | O6: =+J6 -> 44495 | Q6: =+_xlfn.STDEV.S(E6,F6,G6,H6) -> 50648.723 | R6: =+IF(Q6<20000,"Los precios son similares, sugiriendo un mercado estable y competitivo.","Existe gran diferencia, indicando alta volatilidad o falta de consenso en el valor. ") -> Existe gran diferencia, indicando alta volatilidad o falta de consenso en el valor. | S6: =+_xlfn.STDEV.P(E6,F6,G6,H6)/N6 -> 0.490621 | T6: =+IF(S6<30%,"Los precios son homogéneos. Hay poca dispersión, indicando un mercado estable donde la mayoría de los productos se venden a precios cercanos al promedio","Existe una gran dispersión de precios, lo que indica alta volatilidad o falta de uniformidad en el mercado. La media pierde representatividad") -> Existe una gran dispersión de precios, lo que indica alta volatilidad o falta de uniformidad en el mercado. La media pierde representatividad
A7: 6 | B7: PASTILLAS DE FRENO DELANTERAS | E7: 335000 | F7: 352450 | G7: 672750 | H7: 706388 | J7: =+MIN(E7,F7,G7,H7) -> 335000 | K7: =+MAX(E7,F7,G7,H7) -> 706388 | L7: =+GEOMEAN(F7,E7,G7,H7) -> 486698.31 | M7: =+MEDIAN(F7,E7,G7,H7) -> 512600 | N7: =+AVERAGE(F7,E7,G7,H7) -> 516647 | O7: =+J7 -> 335000 | Q7: =+_xlfn.STDEV.S(E7,F7,G7,H7) -> 200271.55 | R7: =+IF(Q7<20000,"Los precios son similares, sugiriendo un mercado estable y competitivo.","Existe gran diferencia, indicando alta volatilidad o falta de consenso en el valor. ") -> Existe gran diferencia, indicando alta volatilidad o falta de consenso en el valor. | S7: =+_xlfn.STDEV.P(E7,F7,G7,H7)/N7 -> 0.33570358 | T7: =+IF(S7<30%,"Los precios son homogéneos. Hay poca dispersión, indicando un mercado estable donde la mayoría de los productos se venden a precios cercanos al promedio","Existe una gran dispersión de precios, lo que indica alta volatilidad o falta de uniformidad en el mercado. La media pierde representatividad") -> Existe una gran dispersión de precios, lo que indica alta volatilidad o falta de uniformidad en el mercado. La media pierde representatividad
A8: 7 | B8: RECTIFICADORA DE DISCO X UNIDAD | E8: 80000 | F8: 84000 | G8: 332350 | H8: 348968 | J8: =+MIN(E8,F8,G8,H8) -> 80000 | K8: =+MAX(E8,F8,G8,H8) -> 348968 | L8: =+GEOMEAN(F8,E8,G8,H8) -> 167085.07 | M8: =+MEDIAN(F8,E8,G8,H8) -> 208175 | N8: =+AVERAGE(F8,E8,G8,H8) -> 211329.5 | O8: =+J8 -> 80000 | Q8: =+_xlfn.STDEV.S(E8,F8,G8,H8) -> 149499.79 | R8: =+IF(Q8<20000,"Los precios son similares, sugiriendo un mercado estable y competitivo.","Existe gran diferencia, indicando alta volatilidad o falta de consenso en el valor. ") -> Existe gran diferencia, indicando alta volatilidad o falta de consenso en el valor. | S8: =+_xlfn.STDEV.P(E8,F8,G8,H8)/N8 -> 0.61264808 | T8: =+IF(S8<30%,"Los precios son homogéneos. Hay poca dispersión, indicando un mercado estable donde la mayoría de los productos se venden a precios cercanos al promedio","Existe una gran dispersión de precios, lo que indica alta volatilidad o falta de uniformidad en el mercado. La media pierde representatividad") -> Existe una gran dispersión de precios, lo que indica alta volatilidad o falta de uniformidad en el mercado. La media pierde representatividad
A9: 8 | B9: MUÑECOS DE SUSPENSIÓN X 1 | E9: 270000 | F9: 284100 | G9: 276000 | H9: 289800 | J9: =+MIN(E9,F9,G9,H9) -> 270000 | K9: =+MAX(E9,F9,G9,H9) -> 289800 | L9: =+GEOMEAN(F9,E9,G9,H9) -> 279872.75 | M9: =+MEDIAN(F9,E9,G9,H9) -> 280050 | N9: =+AVERAGE(F9,E9,G9,H9) -> 279975 | O9: =+J9 -> 270000 | Q9: =+_xlfn.STDEV.S(E9,F9,G9,H9) -> 8733.9853 | R9: =+IF(Q9<20000,"Los precios son similares, sugiriendo un mercado estable y competitivo.","Existe gran diferencia, indicando alta volatilidad o falta de consenso en el valor. ") -> Los precios son similares, sugiriendo un mercado estable y competitivo. | S9: =+_xlfn.STDEV.P(E9,F9,G9,H9)/N9 -> 0.027016174 | T9: =+IF(S9<30%,"Los precios son homogéneos. Hay poca dispersión, indicando un mercado estable donde la mayoría de los productos se venden a precios cercanos al promedio","Existe una gran dispersión de precios, lo que indica alta volatilidad o falta de uniformidad en el mercado. La media pierde representatividad") -> Los precios son homogéneos. Hay poca dispersión, indicando un mercado estable donde la mayoría de los productos se venden a precios cercanos al promedio
A10: 9 | B10: BRAZO AXIAL X1 | E10: 260000 | F10: 273000 | G10: 517500 | H10: 543375 | J10: =+MIN(E10,F10,G10,H10) -> 260000 | K10: =+MAX(E10,F10,G10,H10) -> 543375 | L10: =+GEOMEAN(F10,E10,G10,H10) -> 375868.99 | M10: =+MEDIAN(F10,E10,G10,H10) -> 395250 | N10: =+AVERAGE(F10,E10,G10,H10) -> 398468.75 | O10: =+J10 -> 260000 | Q10: =+_xlfn.STDEV.S(E10,F10,G10,H10) -> 152842.25 | R10: =+IF(Q10<20000,"Los precios son similares, sugiriendo un mercado estable y competitivo.","Existe gran diferencia, indicando alta volatilidad o falta de consenso en el valor. ") -> Existe gran diferencia, indicando alta volatilidad o falta de consenso en el valor. | S10: =+_xlfn.STDEV.P(E10,F10,G10,H10)/N10 -> 0.33218483 | T10: =+IF(S10<30%,"Los precios son homogéneos. Hay poca dispersión, indicando un mercado estable donde la mayoría de los productos se venden a precios cercanos al promedio","Existe una gran dispersión de precios, lo que indica alta volatilidad o falta de uniformidad en el mercado. La media pierde representatividad") -> Existe una gran dispersión de precios, lo que indica alta volatilidad o falta de uniformidad en el mercado. La media pierde representatividad
A11: 10 | B11: FILTRO DE AIRE MOTOR | E11: 250000 | F11: 262800 | G11: 165600 | H11: 173880 | J11: =+MIN(E11,F11,G11,H11) -> 165600 | K11: =+MAX(E11,F11,G11,H11) -> 262800 | L11: =+GEOMEAN(F11,E11,G11,H11) -> 208554.15 | M11: =+MEDIAN(F11,E11,G11,H11) -> 211940 | N11: =+AVERAGE(F11,E11,G11,H11) -> 213070 | O11: =+J11 -> 165600 | Q11: =+_xlfn.STDEV.S(E11,F11,G11,H11) -> 50418.762 | R11: =+IF(Q11<20000,"Los precios son similares, sugiriendo un mercado estable y competitivo.","Existe gran diferencia, indicando alta volatilidad o falta de consenso en el valor. ") -> Existe gran diferencia, indicando alta volatilidad o falta de consenso en el valor. | S11: =+_xlfn.STDEV.P(E11,F11,G11,H11)/N11 -> 0.20492762 | T11: =+IF(S11<30%,"Los precios son homogéneos. Hay poca dispersión, indicando un mercado estable donde la mayoría de los productos se venden a precios cercanos al promedio","Existe una gran dispersión de precios, lo que indica alta volatilidad o falta de uniformidad en el mercado. La media pierde representatividad") -> Los precios son homogéneos. Hay poca dispersión, indicando un mercado estable donde la mayoría de los productos se venden a precios cercanos al promedio
A12: 11 | B12: FILTRO DE COMBUSTIBLE | G12: 233450 | H12: 245123 | J12: =+MIN(E12,F12,G12,H12) -> 233450 | K12: =+MAX(E12,F12,G12,H12) -> 245123 | L12: =+GEOMEAN(F12,E12,G12,H12) -> 239215.31 | M12: =+MEDIAN(F12,E12,G12,H12) -> 239286.5 | N12: =+AVERAGE(F12,E12,G12,H12) -> 239286.5 | O12: =+J12 -> 233450 | Q12: =+_xlfn.STDEV.S(E12,F12,G12,H12) -> 8254.0575 | R12: =+IF(Q12<20000,"Los precios son similares, sugiriendo un mercado estable y competitivo.","Existe gran diferencia, indicando alta volatilidad o falta de consenso en el valor. ") -> Los precios son similares, sugiriendo un mercado estable y competitivo. | S12: =+_xlfn.STDEV.P(E12,F12,G12,H12)/N12 -> 0.024391263 | T12: =+IF(S12<30%,"Los precios son homogéneos. Hay poca dispersión, indicando un mercado estable donde la mayoría de los productos se venden a precios cercanos al promedio","Existe una gran dispersión de precios, lo que indica alta volatilidad o falta de uniformidad en el mercado. La media pierde representatividad") -> Los precios son homogéneos. Hay poca dispersión, indicando un mercado estable donde la mayoría de los productos se venden a precios cercanos al promedio
A13: 12 | B13: FILTRO DE ACEITE | E13: 210000 | F13: 220800 | G13: 133400 | H13: 140070 | J13: =+MIN(E13,F13,G13,H13) -> 133400 | K13: =+MAX(E13,F13,G13,H13) -> 220800 | L13: =+GEOMEAN(F13,E13,G13,H13) -> 171565.45 | M13: =+MEDIAN(F13,E13,G13,H13) -> 175035 | N13: =+AVERAGE(F13,E13,G13,H13) -> 176067.5 | O13: =+J13 -> 133400 | Q13: =+_xlfn.STDEV.S(E13,F13,G13,H13) -> 45711.948 | R13: =+IF(Q13<20000,"Los precios son similares, sugiriendo un mercado estable y competitivo.","Existe gran diferencia, indicando alta volatilidad o falta de consenso en el valor. ") -> Existe gran diferencia, indicando alta volatilidad o falta de consenso en el valor. | S13: =+_xlfn.STDEV.P(E13,F13,G13,H13)/N13 -> 0.22484393 | T13: =+IF(S13<30%,"Los precios son homogéneos. Hay poca dispersión, indicando un mercado estable donde la mayoría de los productos se venden a precios cercanos al promedio","Existe una gran dispersión de precios, lo que indica alta volatilidad o falta de uniformidad en el mercado. La media pierde representatividad") -> Los precios son homogéneos. Hay poca dispersión, indicando un mercado estable donde la mayoría de los productos se venden a precios cercanos al promedio
A14: 13 | B14: FILTRO DE HABITÁCULO | E14: 160000 | F14: 168000 | G14: 172500 | H14: 181125 | J14: =+MIN(E14,F14,G14,H14) -> 160000 | K14: =+MAX(E14,F14,G14,H14) -> 181125 | L14: =+GEOMEAN(F14,E14,G14,H14) -> 170235.13 | M14: =+MEDIAN(F14,E14,G14,H14) -> 170250 | N14: =+AVERAGE(F14,E14,G14,H14) -> 170406.25 | O14: =+J14 -> 160000 | Q14: =+_xlfn.STDEV.S(E14,F14,G14,H14) -> 8819.5893 | R14: =+IF(Q14<20000,"Los precios son similares, sugiriendo un mercado estable y competitivo.","Existe gran diferencia, indicando alta volatilidad o falta de consenso en el valor. ") -> Los precios son similares, sugiriendo un mercado estable y competitivo. | S14: =+_xlfn.STDEV.P(E14,F14,G14,H14)/N14 -> 0.044822232 | T14: =+IF(S14<30%,"Los precios son homogéneos. Hay poca dispersión, indicando un mercado estable donde la mayoría de los productos se venden a precios cercanos al promedio","Existe una gran dispersión de precios, lo que indica alta volatilidad o falta de uniformidad en el mercado. La media pierde representatividad") -> Los precios son homogéneos. Hay poca dispersión, indicando un mercado estable donde la mayoría de los productos se venden a precios cercanos al promedio
A15: 14 | B15: DESPINCHE LLANTA CON TACO X1 | E15: 70000 | F15: 73500 | G15: 80500 | H15: 84525 | J15: =+MIN(E15,F15,G15,H15) -> 70000 | K15: =+MAX(E15,F15,G15,H15) -> 84525 | L15: =+GEOMEAN(F15,E15,G15,H15) -> 76920.413 | M15: =+MEDIAN(F15,E15,G15,H15) -> 77000 | N15: =+AVERAGE(F15,E15,G15,H15) -> 77131.25 | O15: =+J15 -> 70000 | Q15: =+_xlfn.STDEV.S(E15,F15,G15,H15) -> 6584.2418 | R15: =+IF(Q15<20000,"Los precios son similares, sugiriendo un mercado estable y competitivo.","Existe gran diferencia, indicando alta volatilidad o falta de consenso en el valor. ") -> Los precios son similares, sugiriendo un mercado estable y competitivo. | S15: =+_xlfn.STDEV.P(E15,F15,G15,H15)/N15 -> 0.073927502 | T15: =+IF(S15<30%,"Los precios son homogéneos. Hay poca dispersión, indicando un mercado estable donde la mayoría de los productos se venden a precios cercanos al promedio","Existe una gran dispersión de precios, lo que indica alta volatilidad o falta de uniformidad en el mercado. La media pierde representatividad") -> Los precios son homogéneos. Hay poca dispersión, indicando un mercado estable donde la mayoría de los productos se venden a precios cercanos al promedio
A16: 15 | B16: DESPINCHE CON PARCHE CON TACO X1 | E16: 50000 | F16: 52500 | G16: 86250 | H16: 90563 | J16: =+MIN(E16,F16,G16,H16) -> 50000 | K16: =+MAX(E16,F16,G16,H16) -> 90563 | L16: =+GEOMEAN(F16,E16,G16,H16) -> 67291.437 | M16: =+MEDIAN(F16,E16,G16,H16) -> 69375 | N16: =+AVERAGE(F16,E16,G16,H16) -> 69828.25 | O16: =+J16 -> 50000 | Q16: =+_xlfn.STDEV.S(E16,F16,G16,H16) -> 21548.639 | R16: =+IF(Q16<20000,"Los precios son similares, sugiriendo un mercado estable y competitivo.","Existe gran diferencia, indicando alta volatilidad o falta de consenso en el valor. ") -> Existe gran diferencia, indicando alta volatilidad o falta de consenso en el valor. | S16: =+_xlfn.STDEV.P(E16,F16,G16,H16)/N16 -> 0.26725098 | T16: =+IF(S16<30%,"Los precios son homogéneos. Hay poca dispersión, indicando un mercado estable donde la mayoría de los productos se venden a precios cercanos al promedio","Existe una gran dispersión de precios, lo que indica alta volatilidad o falta de uniformidad en el mercado. La media pierde representatividad") -> Los precios son homogéneos. Hay poca dispersión, indicando un mercado estable donde la mayoría de los productos se venden a precios cercanos al promedio
A17: 16 | B17: RECTIFICACIÓN DE DISCOS DE FRENO X1 | E17: 80000 | F17: 84000 | G17: 324300 | H17: 340515 | J17: =+MIN(E17,F17,G17,H17) -> 80000 | K17: =+MAX(E17,F17,G17,H17) -> 340515 | L17: =+GEOMEAN(F17,E17,G17,H17) -> 165049.08 | M17: =+MEDIAN(F17,E17,G17,H17) -> 204150 | N17: =+AVERAGE(F17,E17,G17,H17) -> 207203.75 | O17: =+J17 -> 80000 | Q17: =+_xlfn.STDEV.S(E17,F17,G17,H17) -> 144733.52 | R17: =+IF(Q17<20000,"Los precios son similares, sugiriendo un mercado estable y competitivo.","Existe gran diferencia, indicando alta volatilidad o falta de consenso en el valor. ") -> Existe gran diferencia, indicando alta volatilidad o falta de consenso en el valor. | S17: =+_xlfn.STDEV.P(E17,F17,G17,H17)/N17 -> 0.60492587 | T17: =+IF(S17<30%,"Los precios son homogéneos. Hay poca dispersión, indicando un mercado estable donde la mayoría de los productos se venden a precios cercanos al promedio","Existe una gran dispersión de precios, lo que indica alta volatilidad o falta de uniformidad en el mercado. La media pierde representatividad") -> Existe una gran dispersión de precios, lo que indica alta volatilidad o falta de uniformidad en el mercado. La media pierde representatividad
A18: 17 | B18: RECTIFICACIÓN DE CAMPANAS X1 | E18: 80000 | F18: 84000 | G18: 328900 | H18: 345345 | J18: =+MIN(E18,F18,G18,H18) -> 80000 | K18: =+MAX(E18,F18,G18,H18) -> 345345 | L18: =+GEOMEAN(F18,E18,G18,H18) -> 166215.52 | M18: =+MEDIAN(F18,E18,G18,H18) -> 206450 | N18: =+AVERAGE(F18,E18,G18,H18) -> 209561.25 | O18: =+J18 -> 80000 | Q18: =+_xlfn.STDEV.S(E18,F18,G18,H18) -> 147457.01 | R18: =+IF(Q18<20000,"Los precios son similares, sugiriendo un mercado estable y competitivo.","Existe gran diferencia, indicando alta volatilidad o falta de consenso en el valor. ") -> Existe gran diferencia, indicando alta volatilidad o falta de consenso en el valor. | S18: =+_xlfn.STDEV.P(E18,F18,G18,H18)/N18 -> 0.60937562 | T18: =+IF(S18<30%,"Los precios son homogéneos. Hay poca dispersión, indicando un mercado estable donde la mayoría de los productos se venden a precios cercanos al promedio","Existe una gran dispersión de precios, lo que indica alta volatilidad o falta de uniformidad en el mercado. La media pierde representatividad") -> Existe una gran dispersión de precios, lo que indica alta volatilidad o falta de uniformidad en el mercado. La media pierde representatividad
A19: 18 | B19: EMPAQUE TAPÓN | E19: 55000 | F19: 57950 | G19: 207000 | H19: 217350 | J19: =+MIN(E19,F19,G19,H19) -> 55000 | K19: =+MAX(E19,F19,G19,H19) -> 217350 | L19: =+GEOMEAN(F19,E19,G19,H19) -> 109430.03 | M19: =+MEDIAN(F19,E19,G19,H19) -> 132475 | N19: =+AVERAGE(F19,E19,G19,H19) -> 134325 | O19: =+J19 -> 55000 | Q19: =+_xlfn.STDEV.S(E19,F19,G19,H19) -> 90000.745 | R19: =+IF(Q19<20000,"Los precios son similares, sugiriendo un mercado estable y competitivo.","Existe gran diferencia, indicando alta volatilidad o falta de consenso en el valor. ") -> Existe gran diferencia, indicando alta volatilidad o falta de consenso en el valor. | S19: =+_xlfn.STDEV.P(E19,F19,G19,H19)/N19 -> 0.58025633 | T19: =+IF(S19<30%,"Los precios son homogéneos. Hay poca dispersión, indicando un mercado estable donde la mayoría de los productos se venden a precios cercanos al promedio","Existe una gran dispersión de precios, lo que indica alta volatilidad o falta de uniformidad en el mercado. La media pierde representatividad") -> Existe una gran dispersión de precios, lo que indica alta volatilidad o falta de uniformidad en el mercado. La media pierde representatividad
A20: 19 | B20: ACEITE PARA CAJA (EXCEPTO IVA) | E20: 840000 | F20: 884600 | G20: 117300 | H20: 123165 | J20: =+MIN(E20,F20,G20,H20) -> 117300 | K20: =+MAX(E20,F20,G20,H20) -> 884600 | L20: =+GEOMEAN(F20,E20,G20,H20) -> 321886.59 | M20: =+MEDIAN(F20,E20,G20,H20) -> 481582.5 | N20: =+AVERAGE(F20,E20,G20,H20) -> 491266.25 | O20: =+J20 -> 117300 | Q20: =+_xlfn.STDEV.S(E20,F20,G20,H20) -> 428826.29 | R20: =+IF(Q20<20000,"Los precios son similares, sugiriendo un mercado estable y competitivo.","Existe gran diferencia, indicando alta volatilidad o falta de consenso en el valor. ") -> Existe gran diferencia, indicando alta volatilidad o falta de consenso en el valor. | S20: =+_xlfn.STDEV.P(E20,F20,G20,H20)/N20 -> 0.75595354 | T20: =+IF(S20<30%,"Los precios son homogéneos. Hay poca dispersión, indicando un mercado estable donde la mayoría de los productos se venden a precios cercanos al promedio","Existe una gran dispersión de precios, lo que indica alta volatilidad o falta de uniformidad en el mercado. La media pierde representatividad") -> Existe una gran dispersión de precios, lo que indica alta volatilidad o falta de uniformidad en el mercado. La media pierde representatividad
A21: 20 | B21: ACEITE TRANSMISIÓN (EXECENTO IVA) | E21: 840000 | F21: 884600 | G21: 116150 | H21: 121958 | J21: =+MIN(E21,F21,G21,H21) -> 116150 | K21: =+MAX(E21,F21,G21,H21) -> 884600 | L21: =+GEOMEAN(F21,E21,G21,H21) -> 320305.16 | M21: =+MEDIAN(F21,E21,G21,H21) -> 480979 | N21: =+AVERAGE(F21,E21,G21,H21) -> 490677 | O21: =+J21 -> 116150 | Q21: =+_xlfn.STDEV.S(E21,F21,G21,H21) -> 429505.94 | R21: =+IF(Q21<20000,"Los precios son similares, sugiriendo un mercado estable y competitivo.","Existe gran diferencia, indicando alta volatilidad o falta de consenso en el valor. ") -> Existe gran diferencia, indicando alta volatilidad o falta de consenso en el valor. | S21: =+_xlfn.STDEV.P(E21,F21,G21,H21)/N21 -> 0.75806092 | T21: =+IF(S21<30%,"Los precios son homogéneos. Hay poca dispersión, indicando un mercado estable donde la mayoría de los productos se venden a precios cercanos al promedio","Existe una gran dispersión de precios, lo que indica alta volatilidad o falta de uniformidad en el mercado. La media pierde representatividad") -> Existe una gran dispersión de precios, lo que indica alta volatilidad o falta de uniformidad en el mercado. La media pierde representatividad
A22: 21 | B22: DISCO DE FRENO DELANTERO X2 | E22: 570000 | F22: 599400 | G22: 1271900 | H22: 1335495 | J22: =+MIN(E22,F22,G22,H22) -> 570000 | K22: =+MAX(E22,F22,G22,H22) -> 1335495 | L22: =+GEOMEAN(F22,E22,G22,H22) -> 872814.01 | M22: =+MEDIAN(F22,E22,G22,H22) -> 935650 | N22: =+AVERAGE(F22,E22,G22,H22) -> 944198.75 | O22: =+J22 -> 570000 | Q22: =+_xlfn.STDEV.S(E22,F22,G22,H22) -> 416097.64 | R22: =+IF(Q22<20000,"Los precios son similares, sugiriendo un mercado estable y competitivo.","Existe gran diferencia, indicando alta volatilidad o falta de consenso en el valor. ") -> Existe gran diferencia, indicando alta volatilidad o falta de consenso en el valor. | S22: =+_xlfn.STDEV.P(E22,F22,G22,H22)/N22 -> 0.38164754 | T22: =+IF(S22<30%,"Los precios son homogéneos. Hay poca dispersión, indicando un mercado estable donde la mayoría de los productos se venden a precios cercanos al promedio","Existe una gran dispersión de precios, lo que indica alta volatilidad o falta de uniformidad en el mercado. La media pierde representatividad") -> Existe una gran dispersión de precios, lo que indica alta volatilidad o falta de uniformidad en el mercado. La media pierde representatividad
A23: 22 | B23: CAMPANA DE FRENO TRASERO X2 | E23: 510000 | F23: 536400 | G23: 1358150 | H23: 1426058 | J23: =+MIN(E23,F23,G23,H23) -> 510000 | K23: =+MAX(E23,F23,G23,H23) -> 1426058 | L23: =+GEOMEAN(F23,E23,G23,H23) -> 853170.77 | M23: =+MEDIAN(F23,E23,G23,H23) -> 947275 | N23: =+AVERAGE(F23,E23,G23,H23) -> 957652 | O23: =+J23 -> 510000 | Q23: =+_xlfn.STDEV.S(E23,F23,G23,H23) -> 502543 | R23: =+IF(Q23<20000,"Los precios son similares, sugiriendo un mercado estable y competitivo.","Existe gran diferencia, indicando alta volatilidad o falta de consenso en el valor. ") -> Existe gran diferencia, indicando alta volatilidad o falta de consenso en el valor. | S23: =+_xlfn.STDEV.P(E23,F23,G23,H23)/N23 -> 0.45446049 | T23: =+IF(S23<30%,"Los precios son homogéneos. Hay poca dispersión, indicando un mercado estable donde la mayoría de los productos se venden a precios cercanos al promedio","Existe una gran dispersión de precios, lo que indica alta volatilidad o falta de uniformidad en el mercado. La media pierde representatividad") -> Existe una gran dispersión de precios, lo que indica alta volatilidad o falta de uniformidad en el mercado. La media pierde representatividad
A24: 23 | B24: PASTILLAS DE FRENO DELANTERAS | E24: 700000 | F24: 736200 | G24: 668150 | H24: 701558 | J24: =+MIN(E24,F24,G24,H24) -> 668150 | K24: =+MAX(E24,F24,G24,H24) -> 736200 | L24: =+GEOMEAN(F24,E24,G24,H24) -> 701064.3 | M24: =+MEDIAN(F24,E24,G24,H24) -> 700779 | N24: =+AVERAGE(F24,E24,G24,H24) -> 701477 | O24: =+J24 -> 668150 | Q24: =+_xlfn.STDEV.S(E24,F24,G24,H24) -> 27800.262 | R24: =+IF(Q24<20000,"Los precios son similares, sugiriendo un mercado estable y competitivo.","Existe gran diferencia, indicando alta volatilidad o falta de consenso en el valor. ") -> Existe gran diferencia, indicando alta volatilidad o falta de consenso en el valor. | S24: =+_xlfn.STDEV.P(E24,F24,G24,H24)/N24 -> 0.034321486 | T24: =+IF(S24<30%,"Los precios son homogéneos. Hay poca dispersión, indicando un mercado estable donde la mayoría de los productos se venden a precios cercanos al promedio","Existe una gran dispersión de precios, lo que indica alta volatilidad o falta de uniformidad en el mercado. La media pierde representatividad") -> Los precios son homogéneos. Hay poca dispersión, indicando un mercado estable donde la mayoría de los productos se venden a precios cercanos al promedio
... A55: 54 | B55: PULIDA DE FAROLAS | E55: 350000 | F55: 367500 | G55: 538200 | H55: 565110 | J55: =+MIN(E55,F55,G55,H55) -> 350000 | K55: =+MAX(E55,F55,G55,H55) -> 565110 | L55: =+GEOMEAN(F55,E55,G55,H55) -> 444734.19 | M55: =+MEDIAN(F55,E55,G55,H55) -> 452850 | N55: =+AVERAGE(F55,E55,G55,H55) -> 455202.5 | O55: =+J55 -> 350000 | Q55: =+_xlfn.STDEV.S(E55,F55,G55,H55) -> 112142.08 | R55: =+IF(Q55<20000,"Los precios son similares, sugiriendo un mercado estable y competitivo.","Existe gran diferencia, indicando alta volatilidad o falta de consenso en el valor. ") -> Existe gran diferencia, indicando alta volatilidad o falta de consenso en el valor. | S55: =+_xlfn.STDEV.P(E55,F55,G55,H55)/N55 -> 0.21335096 | T55: =+IF(S55<30%,"Los precios son homogéneos. Hay poca dispersión, indicando un mercado estable donde la mayoría de los productos se venden a precios cercanos al promedio","Existe una gran dispersión de precios, lo que indica alta volatilidad o falta de uniformidad en el mercado. La media pierde representatividad") -> Los precios son homogéneos. Hay poca dispersión, indicando un mercado estable donde la mayoría de los productos se venden a precios cercanos al promedio

Sheet BUSETA-CAT. A (0-6 AÑOS)
A1: ITEM | B1: DESCRIPCION | E1: Cotización 1 JAKO IMPORTACIONES | F1: Cotización 2 VOLTACAR | I1: MÍNIMOS | J1: MÁXIMOS | K1: MEDIA GEOMÉTRICA | L1: MEDIANA | M1: PROMEDIO | N1: Precio Comercial 2026 | P1: Desviación Estandar | Q1: Interpretación en Análisis de Mercado | R1: Coeficiente de variación | S1: Interpretación Clave en Precios
A2: 1 | B2: BATERÍA 12V X1 | E2: 1175540 | F2: 1222562 | I2: =+MIN(E2,F2) -> 1175540 | J2: =+MAX(E2,F2) -> 1222562 | K2: =+GEOMEAN(F2,E2) -> 1198820.5 | L2: =+MEDIAN(F2,E2) -> 1199051 | M2: =+AVERAGE(F2,E2) -> 1199051 | N2: =+I2 -> 1175540 | P2: =+_xlfn.STDEV.S(E2,F2) -> 33249.575 | Q2: =+IF(P2<20000,"Los precios son similares, sugiriendo un mercado estable y competitivo.","Existe gran diferencia, indicando alta volatilidad o falta de consenso en el valor. ") -> Existe gran diferencia, indicando alta volatilidad o falta de consenso en el valor. | R2: =+_xlfn.STDEV.P(E2,F2)/M2 -> 0.019608007 | S2: =+IF(R2<30%,"Los precios son homogéneos. Hay poca dispersión, indicando un mercado estable donde la mayoría de los productos se venden a precios cercanos al promedio","Existe una gran dispersión de precios, lo que indica alta volatilidad o falta de uniformidad en el mercado. La media pierde representatividad") -> Los precios son homogéneos. Hay poca dispersión, indicando un mercado estable donde la mayoría de los productos se venden a precios cercanos al promedio
A3: 2 | B3: ACEITE MOTOR (EXCEPTO IVA) | E3: 110104.32 | F3: 114508 | I3: =+MIN(E3,F3) -> 110104.32 | J3: =+MAX(E3,F3) -> 114508 | K3: =+GEOMEAN(F3,E3) -> 112284.57 | L3: =+MEDIAN(F3,E3) -> 112306.16 | M3: =+AVERAGE(F3,E3) -> 112306.16 | N3: =+I3 -> 110104.32 | P3: =+_xlfn.STDEV.S(E3,F3) -> 3113.872 | Q3: =+IF(P3<20000,"Los precios son similares, sugiriendo un mercado estable y competitivo.","Existe gran diferencia, indicando alta volatilidad o falta de consenso en el valor. ") -> Los precios son similares, sugiriendo un mercado estable y competitivo. | R3: =+_xlfn.STDEV.P(E3,F3)/M3 -> 0.019605692 | S3: =+IF(R3<30%,"Los precios son homogéneos. Hay poca dispersión, indicando un mercado estable donde la mayoría de los productos se venden a precios cercanos al promedio","Existe una gran dispersión de precios, lo que indica alta volatilidad o falta de uniformidad en el mercado. La media pierde representatividad") -> Los precios son homogéneos. Hay poca dispersión, indicando un mercado estable donde la mayoría de los productos se venden a precios cercanos al promedio
A4: 3 | B4: MONTAJE LLANTA X 1 | E4: 90000 | F4: 93000 | I4: =+MIN(E4,F4) -> 90000 | J4: =+MAX(E4,F4) -> 93000 | K4: =+GEOMEAN(F4,E4) -> 91487.704 | L4: =+MEDIAN(F4,E4) -> 91500 | M4: =+AVERAGE(F4,E4) -> 91500 | N4: =+I4 -> 90000 | P4: =+_xlfn.STDEV.S(E4,F4) -> 2121.3203 | Q4: =+IF(P4<20000,"Los precios son similares, sugiriendo un mercado estable y competitivo.","Existe gran diferencia, indicando alta volatilidad o falta de consenso en el valor. ") -> Los precios son similares, sugiriendo un mercado estable y competitivo. | R4: =+_xlfn.STDEV.P(E4,F4)/M4 -> 0.016393443 | S4: =+IF(R4<30%,"Los precios son homogéneos. Hay poca dispersión, indicando un mercado estable donde la mayoría de los productos se venden a precios cercanos al promedio","Existe una gran dispersión de precios, lo que indica alta volatilidad o falta de uniformidad en el mercado. La media pierde representatividad") -> Los precios son homogéneos. Hay poca dispersión, indicando un mercado estable donde la mayoría de los productos se venden a precios cercanos al promedio
A5: 4 | B5: ALINEACIÓN DIRECCIÓN X2 LLANTAS | E5: 180000 | F5: 186000 | I5: =+MIN(E5,F5) -> 180000 | J5: =+MAX(E5,F5) -> 186000 | K5: =+GEOMEAN(F5,E5) -> 182975.41 | L5: =+MEDIAN(F5,E5) -> 183000 | M5: =+AVERAGE(F5,E5) -> 183000 | N5: =+I5 -> 180000 | P5: =+_xlfn.STDEV.S(E5,F5) -> 4242.6407 | Q5: =+IF(P5<20000,"Los precios son similares, sugiriendo un mercado estable y competitivo.","Existe gran diferencia, indicando alta volatilidad o falta de consenso en el valor. ") -> Los precios son similares, sugiriendo un mercado estable y competitivo. | R5: =+_xlfn.STDEV.P(E5,F5)/M5 -> 0.016393443 | S5: =+IF(R5<30%,"Los precios son homogéneos. Hay poca dispersión, indicando un mercado estable donde la mayoría de los productos se venden a precios cercanos al promedio","Existe una gran dispersión de precios, lo que indica alta volatilidad o falta de uniformidad en el mercado. La media pierde representatividad") -> Los precios son homogéneos. Hay poca dispersión, indicando un mercado estable donde la mayoría de los productos se venden a precios cercanos al promedio
A6: 5 | B6: BALANCEO LLANTAS X1 LLANTA | E6: 119780 | F6: 124571 | I6: =+MIN(E6,F6) -> 119780 | J6: =+MAX(E6,F6) -> 124571 | K6: =+GEOMEAN(F6,E6) -> 122152.01 | L6: =+MEDIAN(F6,E6) -> 122175.5 | M6: =+AVERAGE(F6,E6) -> 122175.5 | N6: =+I6 -> 119780 | P6: =+_xlfn.STDEV.S(E6,F6) -> 3387.7486 | Q6: =+IF(P6<20000,"Los precios son similares, sugiriendo un mercado estable y competitivo.","Existe gran diferencia, indicando alta volatilidad o falta de consenso en el valor. ") -> Los precios son similares, sugiriendo un mercado estable y competitivo. | R6: =+_xlfn.STDEV.P(E6,F6)/M6 -> 0.019607041 | S6: =+IF(R6<30%,"Los precios son homogéneos. Hay poca dispersión, indicando un mercado estable donde la mayoría de los productos se venden a precios cercanos al promedio","Existe una gran dispersión de precios, lo que indica alta volatilidad o falta de uniformidad en el mercado. La media pierde representatividad") -> Los precios son homogéneos. Hay poca dispersión, indicando un mercado estable donde la mayoría de los productos se venden a precios cercanos al promedio
A7: 6 | B7: PASTILLAS DE FRENO DELANTERAS | E7: 620100 | F7: 644904 | I7: =+MIN(E7,F7) -> 620100 | J7: =+MAX(E7,F7) -> 644904 | K7: =+GEOMEAN(F7,E7) -> 632380.4 | L7: =+MEDIAN(F7,E7) -> 632502 | M7: =+AVERAGE(F7,E7) -> 632502 | N7: =+I7 -> 620100 | P7: =+_xlfn.STDEV.S(E7,F7) -> 17539.077 | Q7: =+IF(P7<20000,"Los precios son similares, sugiriendo un mercado estable y competitivo.","Existe gran diferencia, indicando alta volatilidad o falta de consenso en el valor. ") -> Los precios son similares, sugiriendo un mercado estable y competitivo. | R7: =+_xlfn.STDEV.P(E7,F7)/M7 -> 0.019607843 | S7: =+IF(R7<30%,"Los precios son homogéneos. Hay poca dispersión, indicando un mercado estable donde la mayoría de los productos se venden a precios cercanos al promedio","Existe una gran dispersión de precios, lo que indica alta volatilidad o falta de uniformidad en el mercado. La media pierde representatividad") -> Los precios son homogéneos. Hay poca dispersión, indicando un mercado estable donde la mayoría de los productos se venden a precios cercanos al promedio
A8: 7 | B8: RECTIFICADORA DE DISCO X UNIDAD | E8: 306340 | F8: 318594 | I8: =+MIN(E8,F8) -> 306340 | J8: =+MAX(E8,F8) -> 318594 | K8: =+GEOMEAN(F8,E8) -> 312406.92 | L8: =+MEDIAN(F8,E8) -> 312467 | M8: =+AVERAGE(F8,E8) -> 312467 | N8: =+I8 -> 306340 | P8: =+_xlfn.STDEV.S(E8,F8) -> 8664.8865 | Q8: =+IF(P8<20000,"Los precios son similares, sugiriendo un mercado estable y competitivo.","Existe gran diferencia, indicando alta volatilidad o falta de consenso en el valor. ") -> Los precios son similares, sugiriendo un mercado estable y competitivo. | R8: =+_xlfn.STDEV.P(E8,F8)/M8 -> 0.019608471 | S8: =+IF(R8<30%,"Los precios son homogéneos. Hay poca dispersión, indicando un mercado estable donde la mayoría de los productos se venden a precios cercanos al promedio","Existe una gran dispersión de precios, lo que indica alta volatilidad o falta de uniformidad en el mercado. La media pierde representatividad") -> Los precios son homogéneos. Hay poca dispersión, indicando un mercado estable donde la mayoría de los productos se venden a precios cercanos al promedio
A9: 8 | B9: MUÑECOS DE SUSPENSIÓN X 1 | E9: 254400 | F9: 264576 | I9: =+MIN(E9,F9) -> 254400 | J9: =+MAX(E9,F9) -> 264576 | K9: =+GEOMEAN(F9,E9) -> 259438.11 | L9: =+MEDIAN(F9,E9) -> 259488 | M9: =+AVERAGE(F9,E9) -> 259488 | N9: =+I9 -> 254400 | P9: =+_xlfn.STDEV.S(E9,F9) -> 7195.5186 | Q9: =+IF(P9<20000,"Los precios son similares, sugiriendo un mercado estable y competitivo.","Existe gran diferencia, indicando alta volatilidad o falta de consenso en el valor. ") -> Los precios son similares, sugiriendo un mercado estable y competitivo. | R9: =+_xlfn.STDEV.P(E9,F9)/M9 -> 0.019607843 | S9: =+IF(R9<30%,"Los precios son homogéneos. Hay poca dispersión, indicando un mercado estable donde la mayoría de los productos se venden a precios cercanos al promedio","Existe una gran dispersión de precios, lo que indica alta volatilidad o falta de uniformidad en el mercado. La media pierde representatividad") -> Los precios son homogéneos. Hay poca dispersión, indicando un mercado estable donde la mayoría de los productos se venden a precios cercanos al promedio
A10: 9 | B10: BRAZO AXIAL X1 | E10: 477000 | F10: 496080 | I10: =+MIN(E10,F10) -> 477000 | J10: =+MAX(E10,F10) -> 496080 | K10: =+GEOMEAN(F10,E10) -> 486446.46 | L10: =+MEDIAN(F10,E10) -> 486540 | M10: =+AVERAGE(F10,E10) -> 486540 | N10: =+I10 -> 477000 | P10: =+_xlfn.STDEV.S(E10,F10) -> 13491.597 | Q10: =+IF(P10<20000,"Los precios son similares, sugiriendo un mercado estable y competitivo.","Existe gran diferencia, indicando alta volatilidad o falta de consenso en el valor. ") -> Los precios son similares, sugiriendo un mercado estable y competitivo. | R10: =+_xlfn.STDEV.P(E10,F10)/M10 -> 0.019607843 | S10: =+IF(R10<30%,"Los precios son homogéneos. Hay poca dispersión, indicando un mercado estable donde la mayoría de los productos se venden a precios cercanos al promedio","Existe una gran dispersión de precios, lo que indica alta volatilidad o falta de uniformidad en el mercado. La media pierde representatividad") -> Los precios son homogéneos. Hay poca dispersión, indicando un mercado estable donde la mayoría de los productos se venden a precios cercanos al promedio
A11: 10 | B11: FILTRO DE AIRE MOTOR | E11: 152640 | F11: 158746 | I11: =+MIN(E11,F11) -> 152640 | J11: =+MAX(E11,F11) -> 158746 | K11: =+GEOMEAN(F11,E11) -> 155663.06 | L11: =+MEDIAN(F11,E11) -> 155693 | M11: =+AVERAGE(F11,E11) -> 155693 | N11: =+I11 -> 152640 | P11: =+_xlfn.STDEV.S(E11,F11) -> 4317.594 | Q11: =+IF(P11<20000,"Los precios son similares, sugiriendo un mercado estable y competitivo.","Existe gran diferencia, indicando alta volatilidad o falta de consenso en el valor. ") -> Los precios son similares, sugiriendo un mercado estable y competitivo. | R11: =+_xlfn.STDEV.P(E11,F11)/M11 -> 0.019609103 | S11: =+IF(R11<30%,"Los precios son homogéneos. Hay poca dispersión, indicando un mercado estable donde la mayoría de los productos se venden a precios cercanos al promedio","Existe una gran dispersión de precios, lo que indica alta volatilidad o falta de uniformidad en el mercado. La media pierde representatividad") -> Los precios son homogéneos. Hay poca dispersión, indicando un mercado estable donde la mayoría de los productos se venden a precios cercanos al promedio
A12: 11 | B12: FILTRO DE COMBUSTIBLE | E12: 215180 | F12: 223787 | I12: =+MIN(E12,F12) -> 215180 | J12: =+MAX(E12,F12) -> 223787 | K12: =+GEOMEAN(F12,E12) -> 219441.31 | L12: =+MEDIAN(F12,E12) -> 219483.5 | M12: =+AVERAGE(F12,E12) -> 219483.5 | N12: =+I12 -> 215180 | P12: =+_xlfn.STDEV.S(E12,F12) -> 6086.0681 | Q12: =+IF(P12<20000,"Los precios son similares, sugiriendo un mercado estable y competitivo.","Existe gran diferencia, indicando alta volatilidad o falta de consenso en el valor. ") -> Los precios son similares, sugiriendo un mercado estable y competitivo. | R12: =+_xlfn.STDEV.P(E12,F12)/M12 -> 0.019607396 | S12: =+IF(R12<30%,"Los precios son homogéneos. Hay poca dispersión, indicando un mercado estable donde la mayoría de los productos se venden a precios cercanos al promedio","Existe una gran dispersión de precios, lo que indica alta volatilidad o falta de uniformidad en el mercado. La media pierde representatividad") -> Los precios son homogéneos. Hay poca dispersión, indicando un mercado estable donde la mayoría de los productos se venden a precios cercanos al promedio
A13: 12 | B13: FILTRO DE ACEITE | E13: 122960 | F13: 127878 | I13: =+MIN(E13,F13) -> 122960 | J13: =+MAX(E13,F13) -> 127878 | K13: =+GEOMEAN(F13,E13) -> 125394.89 | L13: =+MEDIAN(F13,E13) -> 125419 | M13: =+AVERAGE(F13,E13) -> 125419 | N13: =+I13 -> 122960 | P13: =+_xlfn.STDEV.S(E13,F13) -> 3477.5511 | Q13: =+IF(P13<20000,"Los precios son similares, sugiriendo un mercado estable y competitivo.","Existe gran diferencia, indicando alta volatilidad o falta de consenso en el valor. ") -> Los precios son similares, sugiriendo un mercado estable y competitivo. | R13: =+_xlfn.STDEV.P(E13,F13)/M13 -> 0.01960628 | S13: =+IF(R13<30%,"Los precios son homogéneos. Hay poca dispersión, indicando un mercado estable donde la mayoría de los productos se venden a precios cercanos al promedio","Existe una gran dispersión de precios, lo que indica alta volatilidad o falta de uniformidad en el mercado. La media pierde representatividad") -> Los precios son homogéneos. Hay poca dispersión, indicando un mercado estable donde la mayoría de los productos se venden a precios cercanos al promedio
... A55: 54 | B55: PULIDA DE FAROLAS | E55: 496080 | F55: 515923 | I55: =+MIN(E55,F55) -> 496080 | J55: =+MAX(E55,F55) -> 515923 | K55: =+GEOMEAN(F55,E55) -> 505904.22 | L55: =+MEDIAN(F55,E55) -> 506001.5 | M55: =+AVERAGE(F55,E55) -> 506001.5 | N55: =+I55 -> 496080 | P55: =+_xlfn.STDEV.S(E55,F55) -> 14031.12 | Q55: =+IF(P55<20000,"Los precios son similares, sugiriendo un mercado estable y competitivo.","Existe gran diferencia, indicando alta volatilidad o falta de consenso en el valor. ") -> Los precios son similares, sugiriendo un mercado estable y competitivo. | R55: =+_xlfn.STDEV.P(E55,F55)/M55 -> 0.019607649 | S55: =+IF(R55<30%,"Los precios son homogéneos. Hay poca dispersión, indicando un mercado estable donde la mayoría de los productos se venden a precios cercanos al promedio","Existe una gran dispersión de precios, lo que indica alta volatilidad o falta de uniformidad en el mercado. La media pierde representatividad") -> Los precios son homogéneos. Hay poca dispersión, indicando un mercado estable donde la mayoría de los productos se venden a precios cercanos al promedio

Sheet BUSETA-CAT. B (6-10 AÑOS)
A1: ITEM | B1: DESCRIPCION | E1: Cotización 1 AUTOLLANOS | F1: Cotización 2 MERCADO ARLOS | G1: Cotización 3 JAKO IMPORTACIONES | H1: Cotización 4 VOLTACAR | J1: MÍNIMOS | K1: MÁXIMOS | L1: MEDIA GEOMÉTRICA | M1: MEDIANA | N1: PROMEDIO | O1: Precio Comercial 2026 | Q1: Desviación Estandar | R1: Interpretación en Análisis de Mercado | S1: Coeficiente de variación | T1: Interpretación Clave en Precios
A2: 1 | B2: BATERÍA 12V X1 | E2: 1166871.2 | F2: 1237148.5 | G2: 1281339 | H2: 1191645 | J2: =+MIN(E2,F2,G2,H2) -> 1166871.2 | K2: =+MAX(E2,F2,G2,H2) -> 1281339 | L2: =+GEOMEAN(F2,E2,G2,H2) -> 1218467.4 | M2: =+MEDIAN(F2,E2,G2,H2) -> 1214396.8 | N2: =+AVERAGE(F2,E2,G2,H2) -> 1219250.9 | O2: =+J2 -> 1166871.2 | Q2: =+_xlfn.STDEV.S(E2,F2,G2,H2) -> 50599.64 | R2: =+IF(Q2<20000,"Los precios son similares, sugiriendo un mercado estable y competitivo.","Existe gran diferencia, indicando alta volatilidad o falta de consenso en el valor. ") -> Existe gran diferencia, indicando alta volatilidad o falta de consenso en el valor. | S2: =+_xlfn.STDEV.P(E2,F2,G2,H2)/N2 -> 0.03594057 | T2: =+IF(S2<30%,"Los precios son homogéneos. Hay poca dispersión, indicando un mercado estable donde la mayoría de los productos se venden a precios cercanos al promedio","Existe una gran dispersión de precios, lo que indica alta volatilidad o falta de uniformidad en el mercado. La media pierde representatividad") -> Los precios son homogéneos. Hay poca dispersión, indicando un mercado estable donde la mayoría de los productos se venden a precios cercanos al promedio
A3: 2 | B3: ACEITE MOTOR (EXCEPTO IVA) | E3: 785000 | F3: 832418 | G3: 120014 | H3: 111613 | J3: =+MIN(E3,F3,G3,H3) -> 111613 | K3: =+MAX(E3,F3,G3,H3) -> 832418 | L3: =+GEOMEAN(F3,E3,G3,H3) -> 305871.81 | M3: =+MEDIAN(F3,E3,G3,H3) -> 452507 | N3: =+AVERAGE(F3,E3,G3,H3) -> 462261.25 | O3: =+J3 -> 111613 | Q3: =+_xlfn.STDEV.S(E3,F3,G3,H3) -> 400526.19 | R3: =+IF(Q3<20000,"Los precios son similares, sugiriendo un mercado estable y competitivo.","Existe gran diferencia, indicando alta volatilidad o falta de consenso en el valor. ") -> Existe gran diferencia, indicando alta volatilidad o falta de consenso en el valor. | S3: =+_xlfn.STDEV.P(E3,F3,G3,H3)/N3 -> 0.75036759 | T3: =+IF(S3<30%,"Los precios son homogéneos. Hay poca dispersión, indicando un mercado estable donde la mayoría de los productos se venden a precios cercanos al promedio","Existe una gran dispersión de precios, lo que indica alta volatilidad o falta de uniformidad en el mercado. La media pierde representatividad") -> Existe una gran dispersión de precios, lo que indica alta volatilidad o falta de uniformidad en el mercado. La media pierde representatividad
A4: 3 | B4: MONTAJE LLANTA X 1 | G4: 98100 | H4: 93000 | J4: =+MIN(E4,F4,G4,H4) -> 93000 | K4: =+MAX(E4,F4,G4,H4) -> 98100 | L4: =+GEOMEAN(F4,E4,G4,H4) -> 95515.967 | M4: =+MEDIAN(F4,E4,G4,H4) -> 95550 | N4: =+AVERAGE(F4,E4,G4,H4) -> 95550 | O4: =+J4 -> 93000 | Q4: =+_xlfn.STDEV.S(E4,F4,G4,H4) -> 3606.2446 | R4: =+IF(Q4<20000,"Los precios son similares, sugiriendo un mercado estable y competitivo.","Existe gran diferencia, indicando alta volatilidad o falta de consenso en el valor. ") -> Los precios son similares, sugiriendo un mercado estable y competitivo. | S4: =+_xlfn.STDEV.P(E4,F4,G4,H4)/N4 -> 0.026687598 | T4: =+IF(S4<30%,"Los precios son homogéneos. Hay poca dispersión, indicando un mercado estable donde la mayoría de los productos se venden a precios cercanos al promedio","Existe una gran dispersión de precios, lo que indica alta volatilidad o falta de uniformidad en el mercado. La media pierde representatividad") -> Los precios son homogéneos. Hay poca dispersión, indicando un mercado estable donde la mayoría de los productos se venden a precios cercanos al promedio
A5: 4 | B5: ALINEACIÓN DIRECCIÓN X2 LLANTAS | G5: 196200 | H5: 186000 | J5: =+MIN(E5,F5,G5,H5) -> 186000 | K5: =+MAX(E5,F5,G5,H5) -> 196200 | L5: =+GEOMEAN(F5,E5,G5,H5) -> 191031.93 | M5: =+MEDIAN(F5,E5,G5,H5) -> 191100 | N5: =+AVERAGE(F5,E5,G5,H5) -> 191100 | O5: =+J5 -> 186000 | Q5: =+_xlfn.STDEV.S(E5,F5,G5,H5) -> 7212.4892 | R5: =+IF(Q5<20000,"Los precios son similares, sugiriendo un mercado estable y competitivo.","Existe gran diferencia, indicando alta volatilidad o falta de consenso en el valor. ") -> Los precios son similares, sugiriendo un mercado estable y competitivo. | S5: =+_xlfn.STDEV.P(E5,F5,G5,H5)/N5 -> 0.026687598 | T5: =+IF(S5<30%,"Los precios son homogéneos. Hay poca dispersión, indicando un mercado estable donde la mayoría de los productos se venden a precios cercanos al promedio","Existe una gran dispersión de precios, lo que indica alta volatilidad o falta de uniformidad en el mercado. La media pierde representatividad") -> Los precios son homogéneos. Hay poca dispersión, indicando un mercado estable donde la mayoría de los productos se venden a precios cercanos al promedio
A6: 5 | B6: BALANCEO LLANTAS X1 LLANTA | E6: 55618.75 | F6: 58955.875 | G6: 130560 | H6: 121421 | J6: =+MIN(E6,F6,G6,H6) -> 55618.75 | K6: =+MAX(E6,F6,G6,H6) -> 130560 | L6: =+GEOMEAN(F6,E6,G6,H6) -> 84910.826 | M6: =+MEDIAN(F6,E6,G6,H6) -> 90188.438 | N6: =+AVERAGE(F6,E6,G6,H6) -> 91638.906 | O6: =+J6 -> 55618.75 | Q6: =+_xlfn.STDEV.S(E6,F6,G6,H6) -> 39864.173 | R6: =+IF(Q6<20000,"Los precios son similares, sugiriendo un mercado estable y competitivo.","Existe gran diferencia, indicando alta volatilidad o falta de consenso en el valor. ") -> Existe gran diferencia, indicando alta volatilidad o falta de consenso en el valor. | S6: =+_xlfn.STDEV.P(E6,F6,G6,H6)/N6 -> 0.37673285 | T6: =+IF(S6<30%,"Los precios son homogéneos. Hay poca dispersión, indicando un mercado estable donde la mayoría de los productos se venden a precios cercanos al promedio","Existe una gran dispersión de precios, lo que indica alta volatilidad o falta de uniformidad en el mercado. La media pierde representatividad") -> Existe una gran dispersión de precios, lo que indica alta volatilidad o falta de uniformidad en el mercado. La media pierde representatividad
A7: 6 | B7: PASTILLAS DE FRENO DELANTERAS | E7: 401250 | F7: 425696 | G7: 675909 | H7: 628595 | J7: =+MIN(E7,F7,G7,H7) -> 401250 | K7: =+MAX(E7,F7,G7,H7) -> 675909 | L7: =+GEOMEAN(F7,E7,G7,H7) -> 519031.17 | M7: =+MEDIAN(F7,E7,G7,H7) -> 527145.5 | N7: =+AVERAGE(F7,E7,G7,H7) -> 532862.5 | O7: =+J7 -> 401250 | Q7: =+_xlfn.STDEV.S(E7,F7,G7,H7) -> 139563.03 | R7: =+IF(Q7<20000,"Los precios son similares, sugiriendo un mercado estable y competitivo.","Existe gran diferencia, indicando alta volatilidad o falta de consenso en el valor. ") -> Existe gran diferencia, indicando alta volatilidad o falta de consenso en el valor. | S7: =+_xlfn.STDEV.P(E7,F7,G7,H7)/N7 -> 0.22682237 | T7: =+IF(S7<30%,"Los precios son homogéneos. Hay poca dispersión, indicando un mercado estable donde la mayoría de los productos se venden a precios cercanos al promedio","Existe una gran dispersión de precios, lo que indica alta volatilidad o falta de uniformidad en el mercado. La media pierde representatividad") -> Los precios son homogéneos. Hay poca dispersión, indicando un mercado estable donde la mayoría de los productos se venden a precios cercanos al promedio
A8: 7 | B8: RECTIFICADORA DE DISCO X UNIDAD | E8: 100000 | F8: 106000 | G8: 333911 | H8: 310537 | J8: =+MIN(E8,F8,G8,H8) -> 100000 | K8: =+MAX(E8,F8,G8,H8) -> 333911 | L8: =+GEOMEAN(F8,E8,G8,H8) -> 182080.1 | M8: =+MEDIAN(F8,E8,G8,H8) -> 208268.5 | N8: =+AVERAGE(F8,E8,G8,H8) -> 212612 | O8: =+J8 -> 100000 | Q8: =+_xlfn.STDEV.S(E8,F8,G8,H8) -> 126951.87 | R8: =+IF(Q8<20000,"Los precios son similares, sugiriendo un mercado estable y competitivo.","Existe gran diferencia, indicando alta volatilidad o falta de consenso en el valor. ") -> Existe gran diferencia, indicando alta volatilidad o falta de consenso en el valor. | S8: =+_xlfn.STDEV.P(E8,F8,G8,H8)/N8 -> 0.51710885 | T8: =+IF(S8<30%,"Los precios son homogéneos. Hay poca dispersión, indicando un mercado estable donde la mayoría de los productos se venden a precios cercanos al promedio","Existe una gran dispersión de precios, lo que indica alta volatilidad o falta de uniformidad en el mercado. La media pierde representatividad") -> Existe una gran dispersión de precios, lo que indica alta volatilidad o falta de uniformidad en el mercado. La media pierde representatividad
A9: 8 | B9: MUÑECOS DE SUSPENSIÓN X 1 | E9: 322500 | F9: 342168 | G9: 277296 | H9: 257885 | J9: =+MIN(E9,F9,G9,H9) -> 257885 | K9: =+MAX(E9,F9,G9,H9) -> 342168 | L9: =+GEOMEAN(F9,E9,G9,H9) -> 298046.96 | M9: =+MEDIAN(F9,E9,G9,H9) -> 299898 | N9: =+AVERAGE(F9,E9,G9,H9) -> 299962.25 | O9: =+J9 -> 257885 | Q9: =+_xlfn.STDEV.S(E9,F9,G9,H9) -> 39044.971 | R9: =+IF(Q9<20000,"Los precios son similares, sugiriendo un mercado estable y competitivo.","Existe gran diferencia, indicando alta volatilidad o falta de consenso en el valor. ") -> Existe gran diferencia, indicando alta volatilidad o falta de consenso en el valor. | S9: =+_xlfn.STDEV.P(E9,F9,G9,H9)/N9 -> 0.11272731 | T9: =+IF(S9<30%,"Los precios son homogéneos. Hay poca dispersión, indicando un mercado estable donde la mayoría de los productos se venden a precios cercanos al promedio","Existe una gran dispersión de precios, lo que indica alta volatilidad o falta de uniformidad en el mercado. La media pierde representatividad") -> Los precios son homogéneos. Hay poca dispersión, indicando un mercado estable donde la mayoría de los productos se venden a precios cercanos al promedio
A10: 9 | B10: BRAZO AXIAL X1 | E10: 325000 | F10: 344500 | G10: 519930 | H10: 483535 | J10: =+MIN(E10,F10,G10,H10) -> 325000 | K10: =+MAX(E10,F10,G10,H10) -> 519930 | L10: =+GEOMEAN(F10,E10,G10,H10) -> 409601.32 | M10: =+MEDIAN(F10,E10,G10,H10) -> 414017.5 | N10: =+AVERAGE(F10,E10,G10,H10) -> 418241.25 | O10: =+J10 -> 325000 | Q10: =+_xlfn.STDEV.S(E10,F10,G10,H10) -> 97869.945 | R10: =+IF(Q10<20000,"Los precios son similares, sugiriendo un mercado estable y competitivo.","Existe gran diferencia, indicando alta volatilidad o falta de consenso en el valor. ") -> Existe gran diferencia, indicando alta volatilidad o falta de consenso en el valor. | S10: =+_xlfn.STDEV.P(E10,F10,G10,H10)/N10 -> 0.20265303 | T10: =+IF(S10<30%,"Los precios son homogéneos. Hay poca dispersión, indicando un mercado estable donde la mayoría de los productos se venden a precios cercanos al promedio","Existe una gran dispersión de precios, lo que indica alta volatilidad o falta de uniformidad en el mercado. La media pierde representatividad") -> Los precios son homogéneos. Hay poca dispersión, indicando un mercado estable donde la mayoría de los productos se venden a precios cercanos al promedio
A11: 10 | B11: FILTRO DE AIRE MOTOR | E11: 305000 | F11: 323459 | G11: 166378 | H11: 154732 | J11: =+MIN(E11,F11,G11,H11) -> 154732 | K11: =+MAX(E11,F11,G11,H11) -> 323459 | L11: =+GEOMEAN(F11,E11,G11,H11) -> 224490.92 | M11: =+MEDIAN(F11,E11,G11,H11) -> 235689 | N11: =+AVERAGE(F11,E11,G11,H11) -> 237392.25 | O11: =+J11 -> 154732 | Q11: =+_xlfn.STDEV.S(E11,F11,G11,H11) -> 89170.313 | R11: =+IF(Q11<20000,"Los precios son similares, sugiriendo un mercado estable y competitivo.","Existe gran diferencia, indicando alta volatilidad o falta de consenso en el valor. ") -> Existe gran diferencia, indicando alta volatilidad o falta de consenso en el valor. | S11: =+_xlfn.STDEV.P(E11,F11,G11,H11)/N11 -> 0.32530024 | T11: =+IF(S11<30%,"Los precios son homogéneos. Hay poca dispersión, indicando un mercado estable donde la mayoría de los productos se venden a precios cercanos al promedio","Existe una gran dispersión de precios, lo que indica alta volatilidad o falta de uniformidad en el mercado. La media pierde representatividad") -> Existe una gran dispersión de precios, lo que indica alta volatilidad o falta de uniformidad en el mercado. La media pierde representatividad
A12: 11 | B12: FILTRO DE COMBUSTIBLE | G12: 234546 | H12: 218128 | J12: =+MIN(E12,F12,G12,H12) -> 218128 | K12: =+MAX(E12,F12,G12,H12) -> 234546 | L12: =+GEOMEAN(F12,E12,G12,H12) -> 226188.09 | M12: =+MEDIAN(F12,E12,G12,H12) -> 226337 | N12: =+AVERAGE(F12,E12,G12,H12) -> 226337 | O12: =+J12 -> 218128 | Q12: =+_xlfn.STDEV.S(E12,F12,G12,H12) -> 11609.279 | R12: =+IF(Q12<20000,"Los precios son similares, sugiriendo un mercado estable y competitivo.","Existe gran diferencia, indicando alta volatilidad o falta de consenso en el valor. ") -> Los precios son similares, sugiriendo un mercado estable y competitivo. | S12: =+_xlfn.STDEV.P(E12,F12,G12,H12)/N12 -> 0.036268926 | T12: =+IF(S12<30%,"Los precios son homogéneos. Hay poca dispersión, indicando un mercado estable donde la mayoría de los productos se venden a precios cercanos al promedio","Existe una gran dispersión de precios, lo que indica alta volatilidad o falta de uniformidad en el mercado. La media pierde representatividad") -> Los precios son homogéneos. Hay poca dispersión, indicando un mercado estable donde la mayoría de los productos se venden a precios cercanos al promedio
A13: 12 | B13: FILTRO DE ACEITE | E13: 255000 | F13: 270459 | G13: 134026 | H13: 124644 | J13: =+MIN(E13,F13,G13,H13) -> 124644 | K13: =+MAX(E13,F13,G13,H13) -> 270459 | L13: =+GEOMEAN(F13,E13,G13,H13) -> 184236.43 | M13: =+MEDIAN(F13,E13,G13,H13) -> 194513 | N13: =+AVERAGE(F13,E13,G13,H13) -> 196032.25 | O13: =+J13 -> 124644 | Q13: =+_xlfn.STDEV.S(E13,F13,G13,H13) -> 77368.37 | R13: =+IF(Q13<20000,"Los precios son similares, sugiriendo un mercado estable y competitivo.","Existe gran diferencia, indicando alta volatilidad o falta de consenso en el valor. ") -> Existe gran diferencia, indicando alta volatilidad o falta de consenso en el valor. | S13: =+_xlfn.STDEV.P(E13,F13,G13,H13)/N13 -> 0.34179567 | T13: =+IF(S13<30%,"Los precios son homogéneos. Hay poca dispersión, indicando un mercado estable donde la mayoría de los productos se venden a precios cercanos al promedio","Existe una gran dispersión de precios, lo que indica alta volatilidad o falta de uniformidad en el mercado. La media pierde representatividad") -> Existe una gran dispersión de precios, lo que indica alta volatilidad o falta de uniformidad en el mercado. La media pierde representatividad
A14: 13 | B14: FILTRO DE HABITÁCULO | E14: 200000 | F14: 212000 | G14: 173310 | H14: 161178 | J14: =+MIN(E14,F14,G14,H14) -> 161178 | K14: =+MAX(E14,F14,G14,H14) -> 212000 | L14: =+GEOMEAN(F14,E14,G14,H14) -> 185512.77 | M14: =+MEDIAN(F14,E14,G14,H14) -> 186655 | N14: =+AVERAGE(F14,E14,G14,H14) -> 186622 | O14: =+J14 -> 161178 | Q14: =+_xlfn.STDEV.S(E14,F14,G14,H14) -> 23435.161 | R14: =+IF(Q14<20000,"Los precios son similares, sugiriendo un mercado estable y competitivo.","Existe gran diferencia, indicando alta volatilidad o falta de consenso en el valor. ") -> Existe gran diferencia, indicando alta volatilidad o falta de consenso en el valor. | S14: =+_xlfn.STDEV.P(E14,F14,G14,H14)/N14 -> 0.10875162 | T14: =+IF(S14<30%,"Los precios son homogéneos. Hay poca dispersión, indicando un mercado estable donde la mayoría de los productos se venden a precios cercanos al promedio","Existe una gran dispersión de precios, lo que indica alta volatilidad o falta de uniformidad en el mercado. La media pierde representatividad") -> Los precios son homogéneos. Hay poca dispersión, indicando un mercado estable donde la mayoría de los productos se venden a precios cercanos al promedio
A15: 14 | B15: DESPINCHE LLANTA CON TACO X1 | E15: 87500 | F15: 92750 | G15: 80878 | H15: 75217 | J15: =+MIN(E15,F15,G15,H15) -> 75217 | K15: =+MAX(E15,F15,G15,H15) -> 92750 | L15: =+GEOMEAN(F15,E15,G15,H15) -> 83823.752 | M15: =+MEDIAN(F15,E15,G15,H15) -> 84189 | N15: =+AVERAGE(F15,E15,G15,H15) -> 84086.25 | O15: =+J15 -> 75217 | Q15: =+_xlfn.STDEV.S(E15,F15,G15,H15) -> 7652.2484 | R15: =+IF(Q15<20000,"Los precios son similares, sugiriendo un mercado estable y competitivo.","Existe gran diferencia, indicando alta volatilidad o falta de consenso en el valor. ") -> Los precios son similares, sugiriendo un mercado estable y competitivo. | S15: =+_xlfn.STDEV.P(E15,F15,G15,H15)/N15 -> 0.078812428 | T15: =+IF(S15<30%,"Los precios son homogéneos. Hay poca dispersión, indicando un mercado estable donde la mayoría de los productos se venden a precios cercanos al promedio","Existe una gran dispersión de precios, lo que indica alta volatilidad o falta de uniformidad en el mercado. La media pierde representatividad") -> Los precios son homogéneos. Hay poca dispersión, indicando un mercado estable donde la mayoría de los productos se venden a precios cercanos al promedio
A16: 15 | B16: DESPINCHE CON PARCHE CON TACO X1 | E16: 62500 | F16: 66250 | G16: 86655 | H16: 80589 | J16: =+MIN(E16,F16,G16,H16) -> 62500 | K16: =+MAX(E16,F16,G16,H16) -> 86655 | L16: =+GEOMEAN(F16,E16,G16,H16) -> 73330.361 | M16: =+MEDIAN(F16,E16,G16,H16) -> 73419.5 | N16: =+AVERAGE(F16,E16,G16,H16) -> 73998.5 | O16: =+J16 -> 62500 | Q16: =+_xlfn.STDEV.S(E16,F16,G16,H16) -> 11487.333 | R16: =+IF(Q16<20000,"Los precios son similares, sugiriendo un mercado estable y competitivo.","Existe gran diferencia, indicando alta volatilidad o falta de consenso en el valor. ") -> Los precios son similares, sugiriendo un mercado estable y competitivo. | S16: =+_xlfn.STDEV.P(E16,F16,G16,H16)/N16 -> 0.13443951 | T16: =+IF(S16<30%,"Los precios son homogéneos. Hay poca dispersión, indicando un mercado estable donde la mayoría de los productos se venden a precios cercanos al promedio","Existe una gran dispersión de precios, lo que indica alta volatilidad o falta de uniformidad en el mercado. La media pierde representatividad") -> Los precios son homogéneos. Hay poca dispersión, indicando un mercado estable donde la mayoría de los productos se venden a precios cercanos al promedio
A17: 16 | B17: RECTIFICACIÓN DE DISCOS DE FRENO X1 | E17: 100000 | F17: 106000 | G17: 325823 | H17: 303015 | J17: =+MIN(E17,F17,G17,H17) -> 100000 | K17: =+MAX(E17,F17,G17,H17) -> 325823 | L17: =+GEOMEAN(F17,E17,G17,H17) -> 179861.38 | M17: =+MEDIAN(F17,E17,G17,H17) -> 204507.5 | N17: =+AVERAGE(F17,E17,G17,H17) -> 208709.5 | O17: =+J17 -> 100000 | Q17: =+_xlfn.STDEV.S(E17,F17,G17,H17) -> 122441.95 | R17: =+IF(Q17<20000,"Los precios son similares, sugiriendo un mercado estable y competitivo.","Existe gran diferencia, indicando alta volatilidad o falta de consenso en el valor. ") -> Existe gran diferencia, indicando alta volatilidad o falta de consenso en el valor. | S17: =+_xlfn.STDEV.P(E17,F17,G17,H17)/N17 -> 0.50806428 | T17: =+IF(S17<30%,"Los precios son homogéneos. Hay poca dispersión, indicando un mercado estable donde la mayoría de los productos se venden a precios cercanos al promedio","Existe una gran dispersión de precios, lo que indica alta volatilidad o falta de uniformidad en el mercado. La media pierde representatividad") -> Existe una gran dispersión de precios, lo que indica alta volatilidad o falta de uniformidad en el mercado. La media pierde representatividad
A18: 17 | B18: RECTIFICACIÓN DE CAMPANAS X1 | E18: 100000 | F18: 106000 | G18: 330444 | H18: 307313 | J18: =+MIN(E18,F18,G18,H18) -> 100000 | K18: =+MAX(E18,F18,G18,H18) -> 330444 | L18: =+GEOMEAN(F18,E18,G18,H18) -> 181132.41 | M18: =+MEDIAN(F18,E18,G18,H18) -> 206656.5 | N18: =+AVERAGE(F18,E18,G18,H18) -> 210939.25 | O18: =+J18 -> 100000 | Q18: =+_xlfn.STDEV.S(E18,F18,G18,H18) -> 125018.73 | R18: =+IF(Q18<20000,"Los precios son similares, sugiriendo un mercado estable y competitivo.","Existe gran diferencia, indicando alta volatilidad o falta de consenso en el valor. ") -> Existe gran diferencia, indicando alta volatilidad o falta de consenso en el valor. | S18: =+_xlfn.STDEV.P(E18,F18,G18,H18)/N18 -> 0.51327288 | T18: =+IF(S18<30%,"Los precios son homogéneos. Hay poca dispersión, indicando un mercado estable donde la mayoría de los productos se venden a precios cercanos al promedio","Existe una gran dispersión de precios, lo que indica alta volatilidad o falta de uniformidad en el mercado. La media pierde representatividad") -> Existe una gran dispersión de precios, lo que indica alta volatilidad o falta de uniformidad en el mercado. La media pierde representatividad
A19: 18 | B19: EMPAQUE TAPÓN | E19: 63750 | F19: 67681 | G19: 207972 | H19: 193414 | J19: =+MIN(E19,F19,G19,H19) -> 63750 | K19: =+MAX(E19,F19,G19,H19) -> 207972 | L19: =+GEOMEAN(F19,E19,G19,H19) -> 114778.34 | M19: =+MEDIAN(F19,E19,G19,H19) -> 130547.5 | N19: =+AVERAGE(F19,E19,G19,H19) -> 133204.25 | O19: =+J19 -> 63750 | Q19: =+_xlfn.STDEV.S(E19,F19,G19,H19) -> 78172.074 | R19: =+IF(Q19<20000,"Los precios son similares, sugiriendo un mercado estable y competitivo.","Existe gran diferencia, indicando alta volatilidad o falta de consenso en el valor. ") -> Existe gran diferencia, indicando alta volatilidad o falta de consenso en el valor. | S19: =+_xlfn.STDEV.P(E19,F19,G19,H19)/N19 -> 0.50823455 | T19: =+IF(S19<30%,"Los precios son homogéneos. Hay poca dispersión, indicando un mercado estable donde la mayoría de los productos se venden a precios cercanos al promedio","Existe una gran dispersión de precios, lo que indica alta volatilidad o falta de uniformidad en el mercado. La media pierde representatividad") -> Existe una gran dispersión de precios, lo que indica alta volatilidad o falta de uniformidad en el mercado. La media pierde representatividad
A20: 19 | B20: ACEITE PARA CAJA (EXCEPTO IVA) | E20: 985000 | F20: 1045478 | G20: 117851 | H20: 109601 | J20: =+MIN(E20,F20,G20,H20) -> 109601 | K20: =+MAX(E20,F20,G20,H20) -> 1045478 | L20: =+GEOMEAN(F20,E20,G20,H20) -> 339605.51 | M20: =+MEDIAN(F20,E20,G20,H20) -> 551425.5 | N20: =+AVERAGE(F20,E20,G20,H20) -> 564482.5 | O20: =+J20 -> 109601 | Q20: =+_xlfn.STDEV.S(E20,F20,G20,H20) -> 521084.93 | R20: =+IF(Q20<20000,"Los precios son similares, sugiriendo un mercado estable y competitivo.","Existe gran diferencia, indicando alta volatilidad o falta de consenso en el valor. ") -> Existe gran diferencia, indicando alta volatilidad o falta de consenso en el valor. | S20: =+_xlfn.STDEV.P(E20,F20,G20,H20)/N20 -> 0.79944513 | T20: =+IF(S20<30%,"Los precios son homogéneos. Hay poca dispersión, indicando un mercado estable donde la mayoría de los productos se venden a precios cercanos al promedio","Existe una gran dispersión de precios, lo que indica alta volatilidad o falta de uniformidad en el mercado. La media pierde representatividad") -> Existe una gran dispersión de precios, lo que indica alta volatilidad o falta de uniformidad en el mercado. La media pierde representatividad
A21: 20 | B21: ACEITE TRANSMISIÓN (EXECENTO IVA) | E21: 985000 | F21: 1045478 | G21: 116695 | H21: 108526 | J21: =+MIN(E21,F21,G21,H21) -> 108526 | K21: =+MAX(E21,F21,G21,H21) -> 1045478 | L21: =+GEOMEAN(F21,E21,G21,H21) -> 337935.87 | M21: =+MEDIAN(F21,E21,G21,H21) -> 550847.5 | N21: =+AVERAGE(F21,E21,G21,H21) -> 563924.75 | O21: =+J21 -> 108526 | Q21: =+_xlfn.STDEV.S(E21,F21,G21,H21) -> 521728.02 | R21: =+IF(Q21<20000,"Los precios son similares, sugiriendo un mercado estable y competitivo.","Existe gran diferencia, indicando alta volatilidad o falta de consenso en el valor. ") -> Existe gran diferencia, indicando alta volatilidad o falta de consenso en el valor. | S21: =+_xlfn.STDEV.P(E21,F21,G21,H21)/N21 -> 0.80122342 | T21: =+IF(S21<30%,"Los precios son homogéneos. Hay poca dispersión, indicando un mercado estable donde la mayoría de los productos se venden a precios cercanos al promedio","Existe una gran dispersión de precios, lo que indica alta volatilidad o falta de uniformidad en el mercado. La media pierde representatividad") -> Existe una gran dispersión de precios, lo que indica alta volatilidad o falta de uniformidad en el mercado. La media pierde representatividad
A22: 21 | B22: DISCO DE FRENO DELANTERO X2 | E22: 690000 | F22: 731877 | G22: 1277872 | H22: 1188421 | J22: =+MIN(E22,F22,G22,H22) -> 690000 | K22: =+MAX(E22,F22,G22,H22) -> 1277872 | L22: =+GEOMEAN(F22,E22,G22,H22) -> 935806.84 | M22: =+MEDIAN(F22,E22,G22,H22) -> 960149 | N22: =+AVERAGE(F22,E22,G22,H22) -> 972042.5 | O22: =+J22 -> 690000 | Q22: =+_xlfn.STDEV.S(E22,F22,G22,H22) -> 304181.29 | R22: =+IF(Q22<20000,"Los precios son similares, sugiriendo un mercado estable y competitivo.","Existe gran diferencia, indicando alta volatilidad o falta de consenso en el valor. ") -> Existe gran diferencia, indicando alta volatilidad o falta de consenso en el valor. | S22: =+_xlfn.STDEV.P(E22,F22,G22,H22)/N22 -> 0.27100536 | T22: =+IF(S22<30%,"Los precios son homogéneos. Hay poca dispersión, indicando un mercado estable donde la mayoría de los productos se venden a precios cercanos al promedio","Existe una gran dispersión de precios, lo que indica alta volatilidad o falta de uniformidad en el mercado. La media pierde representatividad") -> Los precios son homogéneos. Hay poca dispersión, indicando un mercado estable donde la mayoría de los productos se venden a precios cercanos al promedio
A23: 22 | B23: CAMPANA DE FRENO TRASERO X2 | E23: 615000 | F23: 652377 | G23: 1364527 | H23: 1269010 | J23: =+MIN(E23,F23,G23,H23) -> 615000 | K23: =+MAX(E23,F23,G23,H23) -> 1364527 | L23: =+GEOMEAN(F23,E23,G23,H23) -> 912967.32 | M23: =+MEDIAN(F23,E23,G23,H23) -> 960693.5 | N23: =+AVERAGE(F23,E23,G23,H23) -> 975228.5 | O23: =+J23 -> 615000 | Q23: =+_xlfn.STDEV.S(E23,F23,G23,H23) -> 396593.22 | R23: =+IF(Q23<20000,"Los precios son similares, sugiriendo un mercado estable y competitivo.","Existe gran diferencia, indicando alta volatilidad o falta de consenso en el valor. ") -> Existe gran diferencia, indicando alta volatilidad o falta de consenso en el valor. | S23: =+_xlfn.STDEV.P(E23,F23,G23,H23)/N23 -> 0.35218393 | T23: =+IF(S23<30%,"Los precios son homogéneos. Hay poca dispersión, indicando un mercado estable donde la mayoría de los productos se venden a precios cercanos al promedio","Existe una gran dispersión de precios, lo que indica alta volatilidad o falta de uniformidad en el mercado. La media pierde representatividad") -> Existe una gran dispersión de precios, lo que indica alta volatilidad o falta de uniformidad en el mercado. La media pierde representatividad
A24: 23 | B24: PASTILLAS DE FRENO DELANTERAS | E24: 845000 | F24: 896336 | G24: 671287 | H24: 624297 | J24: =+MIN(E24,F24,G24,H24) -> 624297 | K24: =+MAX(E24,F24,G24,H24) -> 896336 | L24: =+GEOMEAN(F24,E24,G24,H24) -> 750596.89 | M24: =+MEDIAN(F24,E24,G24,H24) -> 758143.5 | N24: =+AVERAGE(F24,E24,G24,H24) -> 759230 | O24: =+J24 -> 624297 | Q24: =+_xlfn.STDEV.S(E24,F24,G24,H24) -> 131776.87 | R24: =+IF(Q24<20000,"Los precios son similares, sugiriendo un mercado estable y competitivo.","Existe gran diferencia, indicando alta volatilidad o falta de consenso en el valor. ") -> Existe gran diferencia, indicando alta volatilidad o falta de consenso en el valor. | S24: =+_xlfn.STDEV.P(E24,F24,G24,H24)/N24 -> 0.15031298 | T24: =+IF(S24<30%,"Los precios son homogéneos. Hay poca dispersión, indicando un mercado estable donde la mayoría de los productos se venden a precios cercanos al promedio","Existe una gran dispersión de precios, lo que indica alta volatilidad o falta de uniformidad en el mercado. La media pierde representatividad") -> Los precios son homogéneos. Hay poca dispersión, indicando un mercado estable donde la mayoría de los productos se venden a precios cercanos al promedio
... A55: 54 | B55: PULIDA DE FAROLAS | E55: 437500 | F55: 463750 | G55: 540727 | H55: 502876 | J55: =+MIN(E55,F55,G55,H55) -> 437500 | K55: =+MAX(E55,F55,G55,H55) -> 540727 | L55: =+GEOMEAN(F55,E55,G55,H55) -> 484646.67 | M55: =+MEDIAN(F55,E55,G55,H55) -> 483313 | N55: =+AVERAGE(F55,E55,G55,H55) -> 486213.25 | O55: =+J55 -> 437500 | Q55: =+_xlfn.STDEV.S(E55,F55,G55,H55) -> 45192.088 | R55: =+IF(Q55<20000,"Los precios son similares, sugiriendo un mercado estable y competitivo.","Existe gran diferencia, indicando alta volatilidad o falta de consenso en el valor. ") -> Existe gran diferencia, indicando alta volatilidad o falta de consenso en el valor. | S55: =+_xlfn.STDEV.P(E55,F55,G55,H55)/N55 -> 0.080494508 | T55: =+IF(S55<30%,"Los precios son homogéneos. Hay poca dispersión, indicando un mercado estable donde la mayoría de los productos se venden a precios cercanos al promedio","Existe una gran dispersión de precios, lo que indica alta volatilidad o falta de uniformidad en el mercado. La media pierde representatividad") -> Los precios son homogéneos. Hay poca dispersión, indicando un mercado estable donde la mayoría de los productos se venden a precios cercanos al promedio

Sheet BUSETA-CAT. C (>11 AÑOS)
A1: ITEM | B1: DESCRIPCION | E1: Cotización 1 JAKO IMPORTACIONES | F1: Cotización 2 VOLTACAR | I1: MÍNIMOS | J1: MÁXIMOS | K1: MEDIA GEOMÉTRICA | L1: MEDIANA | M1: PROMEDIO | N1: Precio Comercial 2026 | P1: Desviación Estandar | Q1: Interpretación en Análisis de Mercado | R1: Coeficiente de variación | S1: Interpretación Clave en Precios
A2: 1 | B2: BATERÍA 12V X1 | E2: 1351871 | F2: 1419465 | I2: =+MIN(E2,F2) -> 1351871 | J2: =+MAX(E2,F2) -> 1419465 | K2: =+GEOMEAN(F2,E2) -> 1385255.8 | L2: =+MEDIAN(F2,E2) -> 1385668 | M2: =+AVERAGE(F2,E2) -> 1385668 | N2: =+I2 -> 1351871 | P2: =+_xlfn.STDEV.S(D2,E2,F2,G2) -> 47796.176 | Q2: =+IF(P2<20000,"Los precios son similares, sugiriendo un mercado estable y competitivo.","Existe gran diferencia, indicando alta volatilidad o falta de consenso en el valor. ") -> Existe gran diferencia, indicando alta volatilidad o falta de consenso en el valor. | R2: =+_xlfn.STDEV.P(E2,F2)/M2 -> 0.024390402 | S2: =+IF(R2<30%,"Los precios son homogéneos. Hay poca dispersión, indicando un mercado estable donde la mayoría de los productos se venden a precios cercanos al promedio","Existe una gran dispersión de precios, lo que indica alta volatilidad o falta de uniformidad en el mercado. La media pierde representatividad") -> Los precios son homogéneos. Hay poca dispersión, indicando un mercado estable donde la mayoría de los productos se venden a precios cercanos al promedio
A3: 2 | B3: ACEITE MOTOR (EXCEPTO IVA) | E3: 126620 | F3: 132951 | I3: =+MIN(E3,F3) -> 126620 | J3: =+MAX(E3,F3) -> 132951 | K3: =+GEOMEAN(F3,E3) -> 129746.89 | L3: =+MEDIAN(F3,E3) -> 129785.5 | M3: =+AVERAGE(F3,E3) -> 129785.5 | N3: =+I3 -> 126620 | P3: =+_xlfn.STDEV.S(E3,F3) -> 4476.693 | Q3: =+IF(P3<20000,"Los precios son similares, sugiriendo un mercado estable y competitivo.","Existe gran diferencia, indicando alta volatilidad o falta de consenso en el valor. ") -> Los precios son similares, sugiriendo un mercado estable y competitivo. | R3: =+_xlfn.STDEV.P(E3,F3)/M3 -> 0.024390244 | S3: =+IF(R3<30%,"Los precios son homogéneos. Hay poca dispersión, indicando un mercado estable donde la mayoría de los productos se venden a precios cercanos al promedio","Existe una gran dispersión de precios, lo que indica alta volatilidad o falta de uniformidad en el mercado. La media pierde representatividad") -> Los precios son homogéneos. Hay poca dispersión, indicando un mercado estable donde la mayoría de los productos se venden a precios cercanos al promedio
A4: 3 | B4: MONTAJE LLANTA X 1 | E4: 105000 | F4: 93000 | I4: =+MIN(E4,F4) -> 93000 | J4: =+MAX(E4,F4) -> 105000 | K4: =+GEOMEAN(F4,E4) -> 98818.015 | L4: =+MEDIAN(F4,E4) -> 99000 | M4: =+AVERAGE(F4,E4) -> 99000 | N4: =+I4 -> 93000 | P4: =+_xlfn.STDEV.S(E4,F4) -> 8485.2814 | Q4: =+IF(P4<20000,"Los precios son similares, sugiriendo un mercado estable y competitivo.","Existe gran diferencia, indicando alta volatilidad o falta de consenso en el valor. ") -> Los precios son similares, sugiriendo un mercado estable y competitivo. | R4: =+_xlfn.STDEV.P(E4,F4)/M4 -> 0.060606061 | S4: =+IF(R4<30%,"Los precios son homogéneos. Hay poca dispersión, indicando un mercado estable donde la mayoría de los productos se venden a precios cercanos al promedio","Existe una gran dispersión de precios, lo que indica alta volatilidad o falta de uniformidad en el mercado. La media pierde representatividad") -> Los precios son homogéneos. Hay poca dispersión, indicando un mercado estable donde la mayoría de los productos se venden a precios cercanos al promedio
A5: 4 | B5: ALINEACIÓN DIRECCIÓN X2 LLANTAS | E5: 210000 | F5: 186000 | I5: =+MIN(E5,F5) -> 186000 | J5: =+MAX(E5,F5) -> 210000 | K5: =+GEOMEAN(F5,E5) -> 197636.03 | L5: =+MEDIAN(F5,E5) -> 198000 | M5: =+AVERAGE(F5,E5) -> 198000 | N5: =+I5 -> 186000 | P5: =+_xlfn.STDEV.S(E5,F5) -> 16970.563 | Q5: =+IF(P5<20000,"Los precios son similares, sugiriendo un mercado estable y competitivo.","Existe gran diferencia, indicando alta volatilidad o falta de consenso en el valor. ") -> Los precios son similares, sugiriendo un mercado estable y competitivo. | R5: =+_xlfn.STDEV.P(E5,F5)/M5 -> 0.060606061 | S5: =+IF(R5<30%,"Los precios son homogéneos. Hay poca dispersión, indicando un mercado estable donde la mayoría de los productos se venden a precios cercanos al promedio","Existe una gran dispersión de precios, lo que indica alta volatilidad o falta de uniformidad en el mercado. La media pierde representatividad") -> Los precios son homogéneos. Hay poca dispersión, indicando un mercado estable donde la mayoría de los productos se venden a precios cercanos al promedio
A6: 5 | B6: BALANCEO LLANTAS X1 LLANTA | E6: 137747 | F6: 144634 | I6: =+MIN(E6,F6) -> 137747 | J6: =+MAX(E6,F6) -> 144634 | K6: =+GEOMEAN(F6,E6) -> 141148.5 | L6: =+MEDIAN(F6,E6) -> 141190.5 | M6: =+AVERAGE(F6,E6) -> 141190.5 | N6: =+I6 -> 137747 | P6: =+_xlfn.STDEV.S(E6,F6) -> 4869.8444 | Q6: =+IF(P6<20000,"Los precios son similares, sugiriendo un mercado estable y competitivo.","Existe gran diferencia, indicando alta volatilidad o falta de consenso en el valor. ") -> Los precios son similares, sugiriendo un mercado estable y competitivo. | R6: =+_xlfn.STDEV.P(E6,F6)/M6 -> 0.024389035 | S6: =+IF(R6<30%,"Los precios son homogéneos. Hay poca dispersión, indicando un mercado estable donde la mayoría de los productos se venden a precios cercanos al promedio","Existe una gran dispersión de precios, lo que indica alta volatilidad o falta de uniformidad en el mercado. La media pierde representatividad") -> Los precios son homogéneos. Hay poca dispersión, indicando un mercado estable donde la mayoría de los productos se venden a precios cercanos al promedio
A7: 6 | B7: PASTILLAS DE FRENO DELANTERAS | E7: 713115 | F7: 748771 | I7: =+MIN(E7,F7) -> 713115 | J7: =+MAX(E7,F7) -> 748771 | K7: =+GEOMEAN(F7,E7) -> 730725.55 | L7: =+MEDIAN(F7,E7) -> 730943 | M7: =+AVERAGE(F7,E7) -> 730943 | N7: =+I7 -> 713115 | P7: =+_xlfn.STDEV.S(E7,F7) -> 25212.599 | Q7: =+IF(P7<20000,"Los precios son similares, sugiriendo un mercado estable y competitivo.","Existe gran diferencia, indicando alta volatilidad o falta de consenso en el valor. ") -> Existe gran diferencia, indicando alta volatilidad o falta de consenso en el valor. | R7: =+_xlfn.STDEV.P(E7,F7)/M7 -> 0.024390411 | S7: =+IF(R7<30%,"Los precios son homogéneos. Hay poca dispersión, indicando un mercado estable donde la mayoría de los productos se venden a precios cercanos al promedio","Existe una gran dispersión de precios, lo que indica alta volatilidad o falta de uniformidad en el mercado. La media pierde representatividad") -> Los precios son homogéneos. Hay poca dispersión, indicando un mercado estable donde la mayoría de los productos se venden a precios cercanos al promedio
A8: 7 | B8: RECTIFICADORA DE DISCO X UNIDAD | E8: 352291 | F8: 369906 | I8: =+MIN(E8,F8) -> 352291 | J8: =+MAX(E8,F8) -> 369906 | K8: =+GEOMEAN(F8,E8) -> 360991.07 | L8: =+MEDIAN(F8,E8) -> 361098.5 | M8: =+AVERAGE(F8,E8) -> 361098.5 | N8: =+I8 -> 352291 | P8: =+_xlfn.STDEV.S(E8,F8) -> 12455.686 | Q8: =+IF(P8<20000,"Los precios son similares, sugiriendo un mercado estable y competitivo.","Existe gran diferencia, indicando alta volatilidad o falta de consenso en el valor. ") -> Los precios son similares, sugiriendo un mercado estable y competitivo. | R8: =+_xlfn.STDEV.P(E8,F8)/M8 -> 0.024390852 | S8: =+IF(R8<30%,"Los precios son homogéneos. Hay poca dispersión, indicando un mercado estable donde la mayoría de los productos se venden a precios cercanos al promedio","Existe una gran dispersión de precios, lo que indica alta volatilidad o falta de uniformidad en el mercado. La media pierde representatividad") -> Los precios son homogéneos. Hay poca dispersión, indicando un mercado estable donde la mayoría de los productos se venden a precios cercanos al promedio
A9: 8 | B9: MUÑECOS DE SUSPENSIÓN X 1 | E9: 292560 | F9: 307188 | I9: =+MIN(E9,F9) -> 292560 | J9: =+MAX(E9,F9) -> 307188 | K9: =+GEOMEAN(F9,E9) -> 299784.79 | L9: =+MEDIAN(F9,E9) -> 299874 | M9: =+AVERAGE(F9,E9) -> 299874 | N9: =+I9 -> 292560 | P9: =+_xlfn.STDEV.S(E9,F9) -> 10343.558 | Q9: =+IF(P9<20000,"Los precios son similares, sugiriendo un mercado estable y competitivo.","Existe gran diferencia, indicando alta volatilidad o falta de consenso en el valor. ") -> Los precios son similares, sugiriendo un mercado estable y competitivo. | R9: =+_xlfn.STDEV.P(E9,F9)/M9 -> 0.024390244 | S9: =+IF(R9<30%,"Los precios son homogéneos. Hay poca dispersión, indicando un mercado estable donde la mayoría de los productos se venden a precios cercanos al promedio","Existe una gran dispersión de precios, lo que indica alta volatilidad o falta de uniformidad en el mercado. La media pierde representatividad") -> Los precios son homogéneos. Hay poca dispersión, indicando un mercado estable donde la mayoría de los productos se venden a precios cercanos al promedio
A10: 9 | B10: BRAZO AXIAL X1 | E10: 548550 | F10: 575978 | I10: =+MIN(E10,F10) -> 548550 | J10: =+MAX(E10,F10) -> 575978 | K10: =+GEOMEAN(F10,E10) -> 562096.73 | L10: =+MEDIAN(F10,E10) -> 562264 | M10: =+AVERAGE(F10,E10) -> 562264 | N10: =+I10 -> 548550 | P10: =+_xlfn.STDEV.S(E10,F10) -> 19394.525 | Q10: =+IF(P10<20000,"Los precios son similares, sugiriendo un mercado estable y competitivo.","Existe gran diferencia, indicando alta volatilidad o falta de consenso en el valor. ") -> Los precios son similares, sugiriendo un mercado estable y competitivo. | R10: =+_xlfn.STDEV.P(E10,F10)/M10 -> 0.024390678 | S10: =+IF(R10<30%,"Los precios son homogéneos. Hay poca dispersión, indicando un mercado estable donde la mayoría de los productos se venden a precios cercanos al promedio","Existe una gran dispersión de precios, lo que indica alta volatilidad o falta de uniformidad en el mercado. La media pierde representatividad") -> Los precios son homogéneos. Hay poca dispersión, indicando un mercado estable donde la mayoría de los productos se venden a precios cercanos al promedio
A11: 10 | B11: FILTRO DE AIRE MOTOR | E11: 175536 | F11: 184313 | I11: =+MIN(E11,F11) -> 175536 | J11: =+MAX(E11,F11) -> 184313 | K11: =+GEOMEAN(F11,E11) -> 179870.97 | L11: =+MEDIAN(F11,E11) -> 179924.5 | M11: =+AVERAGE(F11,E11) -> 179924.5 | N11: =+I11 -> 175536 | P11: =+_xlfn.STDEV.S(E11,F11) -> 6206.2762 | Q11: =+IF(P11<20000,"Los precios son similares, sugiriendo un mercado estable y competitivo.","Existe gran diferencia, indicando alta volatilidad o falta de consenso en el valor. ") -> Los precios son similares, sugiriendo un mercado estable y competitivo. | R11: =+_xlfn.STDEV.P(E11,F11)/M11 -> 0.024390786 | S11: =+IF(R11<30%,"Los precios son homogéneos. Hay poca dispersión, indicando un mercado estable donde la mayoría de los productos se venden a precios cercanos al promedio","Existe una gran dispersión de precios, lo que indica alta volatilidad o falta de uniformidad en el mercado. La media pierde representatividad") -> Los precios son homogéneos. Hay poca dispersión, indicando un mercado estable donde la mayoría de los productos se venden a precios cercanos al promedio
A12: 11 | B12: FILTRO DE COMBUSTIBLE | E12: 247457 | F12: 259830 | I12: =+MIN(E12,F12) -> 247457 | J12: =+MAX(E12,F12) -> 259830 | K12: =+GEOMEAN(F12,E12) -> 253568.04 | L12: =+MEDIAN(F12,E12) -> 253643.5 | M12: =+AVERAGE(F12,E12) -> 253643.5 | N12: =+I12 -> 247457 | P12: =+_xlfn.STDEV.S(E12,F12) -> 8749.0322 | Q12: =+IF(P12<20000,"Los precios son similares, sugiriendo un mercado estable y competitivo.","Existe gran diferencia, indicando alta volatilidad o falta de consenso en el valor. ") -> Los precios son similares, sugiriendo un mercado estable y competitivo. | R12: =+_xlfn.STDEV.P(E12,F12)/M12 -> 0.024390532 | S12: =+IF(R12<30%,"Los precios son homogéneos. Hay poca dispersión, indicando un mercado estable donde la mayoría de los productos se venden a precios cercanos al promedio","Existe una gran dispersión de precios, lo que indica alta volatilidad o falta de uniformidad en el mercado. La media pierde representatividad") -> Los precios son homogéneos. Hay poca dispersión, indicando un mercado estable donde la mayoría de los productos se venden a precios cercanos al promedio
A13: 12 | B13: FILTRO DE ACEITE | E13: 141404 | F13: 148474 | I13: =+MIN(E13,F13) -> 141404 | J13: =+MAX(E13,F13) -> 148474 | K13: =+GEOMEAN(F13,E13) -> 144895.89 | L13: =+MEDIAN(F13,E13) -> 144939 | M13: =+AVERAGE(F13,E13) -> 144939 | N13: =+I13 -> 141404 | P13: =+_xlfn.STDEV.S(E13,F13) -> 4999.2449 | Q13: =+IF(P13<20000,"Los precios son similares, sugiriendo un mercado estable y competitivo.","Existe gran diferencia, indicando alta volatilidad o falta de consenso en el valor. ") -> Los precios son similares, sugiriendo un mercado estable y competitivo. | R13: =+_xlfn.STDEV.P(E13,F13)/M13 -> 0.024389571 | S13: =+IF(R13<30%,"Los precios son homogéneos. Hay poca dispersión, indicando un mercado estable donde la mayoría de los productos se venden a precios cercanos al promedio","Existe una gran dispersión de precios, lo que indica alta volatilidad o falta de uniformidad en el mercado. La media pierde representatividad") -> Los precios son homogéneos. Hay poca dispersión, indicando un mercado estable donde la mayoría de los productos se venden a precios cercanos al promedio
A14: 13 | B14: FILTRO DE HABITÁCULO | E14: 182850 | F14: 191993 | I14: =+MIN(E14,F14) -> 182850 | J14: =+MAX(E14,F14) -> 191993 | K14: =+GEOMEAN(F14,E14) -> 187365.74 | L14: =+MEDIAN(F14,E14) -> 187421.5 | M14: =+AVERAGE(F14,E14) -> 187421.5 | N14: =+I14 -> 182850 | P14: =+_xlfn.STDEV.S(E14,F14) -> 6465.0773 | Q14: =+IF(P14<20000,"Los precios son similares, sugiriendo un mercado estable y competitivo.","Existe gran diferencia, indicando alta volatilidad o falta de consenso en el valor. ") -> Los precios son similares, sugiriendo un mercado estable y competitivo. | R14: =+_xlfn.STDEV.P(E14,F14)/M14 -> 0.024391545 | S14: =+IF(R14<30%,"Los precios son homogéneos. Hay poca dispersión, indicando un mercado estable donde la mayoría de los productos se venden a precios cercanos al promedio","Existe una gran dispersión de precios, lo que indica alta volatilidad o falta de uniformidad en el mercado. La media pierde representatividad") -> Los precios son homogéneos. Hay poca dispersión, indicando un mercado estable donde la mayoría de los productos se venden a precios cercanos al promedio
... A55: 54 | B55: PULIDA DE FAROLAS | E55: 570492 | F55: 599017 | I55: =+MIN(E55,F55) -> 570492 | J55: =+MAX(E55,F55) -> 599017 | K55: =+GEOMEAN(F55,E55) -> 584580.54 | L55: =+MEDIAN(F55,E55) -> 584754.5 | M55: =+AVERAGE(F55,E55) -> 584754.5 | N55: =+I55 -> 570492 | P55: =+_xlfn.STDEV.S(E55,F55) -> 20170.221 | Q55: =+IF(P55<20000,"Los precios son similares, sugiriendo un mercado estable y competitivo.","Existe gran diferencia, indicando alta volatilidad o falta de consenso en el valor. ") -> Existe gran diferencia, indicando alta volatilidad o falta de consenso en el valor. | R55: =+_xlfn.STDEV.P(E55,F55)/M55 -> 0.024390578 | S55: =+IF(R55<30%,"Los precios son homogéneos. Hay poca dispersión, indicando un mercado estable donde la mayoría de los productos se venden a precios cercanos al promedio","Existe una gran dispersión de precios, lo que indica alta volatilidad o falta de uniformidad en el mercado. La media pierde representatividad") -> Los precios son homogéneos. Hay poca dispersión, indicando un mercado estable donde la mayoría de los productos se venden a precios cercanos al promedio

Sheet CAMIONETA-CAT. A (0-5 AÑOS)
A1: ITEM | B1: DESCRIPCION | D1: Cotización 1 AUTOLLANOS | E1: Cotización 2 MERCADO ARLOS | F1: Cotización 3 DISTRIREPUESTOS | G1: Cotización 4 COMPAÑÍA FRENOS Y SERVICIOS 1A | H1: Cotización 5 JAKO IMPORTACIONES | I1: Cotización 6 VOLTACAR | K1: MÍNIMOS | L1: MÁXIMOS | M1: MEDIA GEOMÉTRICA | N1: MEDIANA | O1: PROMEDIO | P1: Precio Comercial 2026 | R1: Desviación Estandar | S1: Interpretación en Análisis de Mercado | T1: Coeficiente de variación | U1: Interpretación Clave en Precios
A2: 1 | B2: BATERÍA 12V X1 | D2: 1098359 | E2: 1167585.5 | F2: 1639319 | G2: 1677149 | H2: 1197720 | I2: 1245629 | K2: =+MIN(D2,E2,F2,G2,H2,I2) -> 1098359 | L2: =+MAX(D2,E2,F2,G2,H2,I2) -> 1677149 | M2: =+GEOMEAN(E2,D2,F2,G2,H2,I2) -> 1318768.9 | N2: =+MEDIAN(E2,D2,F2,G2,H2,I2) -> 1221674.5 | O2: =+AVERAGE(E2,D2,F2,G2,H2,I2) -> 1337626.9 | P2: =+K2 -> 1098359 | R2: =+_xlfn.STDEV.S(D2,E2,F2,G2,H2,I2) -> 253177.47 | S2: =+IF(R2<20000,"Los precios son similares, sugiriendo un mercado estable y competitivo.","Existe gran diferencia, indicando alta volatilidad o falta de consenso en el valor. ") -> Existe gran diferencia, indicando alta volatilidad o falta de consenso en el valor. | T2: =+_xlfn.STDEV.P(D2,E2,F2,G2,H2,I2)/O2 -> 0.17278237 | U2: =+IF(T2<30%,"Los precios son homogéneos. Hay poca dispersión, indicando un mercado estable donde la mayoría de los productos se venden a precios cercanos al promedio","Existe una gran dispersión de precios, lo que indica alta volatilidad o falta de uniformidad en el mercado. La media pierde representatividad") -> Los precios son homogéneos. Hay poca dispersión, indicando un mercado estable donde la mayoría de los productos se venden a precios cercanos al promedio
A3: 2 | B3: ACEITE MOTOR (EXCEPTO IVA) | D3: 739700 | E3: 786036.23 | F3: 684425 | G3: 667481 | H3: 112181.76 | I3: 116669 | K3: =+MIN(D3,E3,F3,G3,H3,I3) -> 112181.76 | L3: =+MAX(D3,E3,F3,G3,H3,I3) -> 786036.23 | M3: =+GEOMEAN(E3,D3,F3,G3,H3,I3) -> 389215.49 | N3: =+MEDIAN(E3,D3,F3,G3,H3,I3) -> 675953 | O3: =+AVERAGE(E3,D3,F3,G3,H3,I3) -> 517748.83 | P3: =+K3 -> 112181.76 | R3: =+_xlfn.STDEV.S(D3,E3,F3,G3,H3,I3) -> 315211.29 | S3: =+IF(R3<20000,"Los precios son similares, sugiriendo un mercado estable y competitivo.","Existe gran diferencia, indicando alta volatilidad o falta de consenso en el valor. ") -> Existe gran diferencia, indicando alta volatilidad o falta de consenso en el valor. | T3: =+_xlfn.STDEV.P(D3,E3,F3,G3,H3,I3)/O3 -> 0.55576606 | U3: =+IF(T3<30%,"Los precios son homogéneos. Hay poca dispersión, indicando un mercado estable donde la mayoría de los productos se venden a precios cercanos al promedio","Existe una gran dispersión de precios, lo que indica alta volatilidad o falta de uniformidad en el mercado. La media pierde representatividad") -> Existe una gran dispersión de precios, lo que indica alta volatilidad o falta de uniformidad en el mercado. La media pierde representatividad
A4: 3 | B4: MONTAJE LLANTA X 1 | F4: 123949 | G4: 126067 | H4: 90000 | I4: 93000 | K4: =+MIN(D4,E4,F4,G4,H4,I4) -> 90000 | L4: =+MAX(D4,E4,F4,G4,H4,I4) -> 126067 | M4: =+GEOMEAN(E4,D4,F4,G4,H4,I4) -> 106940.57 | N4: =+MEDIAN(E4,D4,F4,G4,H4,I4) -> 108474.5 | O4: =+AVERAGE(E4,D4,F4,G4,H4,I4) -> 108254 | P4: =+K4 -> 90000 | R4: =+_xlfn.STDEV.S(D4,E4,F4,G4,H4,I4) -> 19403.857 | S4: =+IF(R4<20000,"Los precios son similares, sugiriendo un mercado estable y competitivo.","Existe gran diferencia, indicando alta volatilidad o falta de consenso en el valor. ") -> Los precios son similares, sugiriendo un mercado estable y competitivo. | T4: =+_xlfn.STDEV.P(D4,E4,F4,G4,H4,I4)/O4 -> 0.15522968 | U4: =+IF(T4<30%,"Los precios son homogéneos. Hay poca dispersión, indicando un mercado estable donde la mayoría de los productos se venden a precios cercanos al promedio","Existe una gran dispersión de precios, lo que indica alta volatilidad o falta de uniformidad en el mercado. La media pierde representatividad") -> Los precios son homogéneos. Hay poca dispersión, indicando un mercado estable donde la mayoría de los productos se venden a precios cercanos al promedio
A5: 4 | B5: ALINEACIÓN DIRECCIÓN X2 LLANTAS | F5: 371845 | G5: 378201 | H5: 180000 | I5: 186000 | K5: =+MIN(D5,E5,F5,G5,H5,I5) -> 180000 | L5: =+MAX(D5,E5,F5,G5,H5,I5) -> 378201 | M5: =+GEOMEAN(E5,D5,F5,G5,H5,I5) -> 261949.47 | N5: =+MEDIAN(E5,D5,F5,G5,H5,I5) -> 278922.5 | O5: =+AVERAGE(E5,D5,F5,G5,H5,I5) -> 279011.5 | P5: =+K5 -> 180000 | R5: =+_xlfn.STDEV.S(D5,E5,F5,G5,H5,I5) -> 110921.94 | S5: =+IF(R5<20000,"Los precios son similares, sugiriendo un mercado estable y competitivo.","Existe gran diferencia, indicando alta volatilidad o falta de consenso en el valor. ") -> Existe gran diferencia, indicando alta volatilidad o falta de consenso en el valor. | T5: =+_xlfn.STDEV.P(D5,E5,F5,G5,H5,I5)/O5 -> 0.34429126 | U5: =+IF(T5<30%,"Los precios son homogéneos. Hay poca dispersión, indicando un mercado estable donde la mayoría de los productos se venden a precios cercanos al promedio","Existe una gran dispersión de precios, lo que indica alta volatilidad o falta de uniformidad en el mercado. La media pierde representatividad") -> Existe una gran dispersión de precios, lo que indica alta volatilidad o falta de uniformidad en el mercado. La media pierde representatividad
A6: 5 | B6: BALANCEO LLANTAS X1 LLANTA | F6: 185922 | G6: 189101 | H6: 122040 | I6: 126922 | K6: =+MIN(D6,E6,F6,G6,H6,I6) -> 122040 | L6: =+MAX(D6,E6,F6,G6,H6,I6) -> 189101 | M6: =+GEOMEAN(E6,D6,F6,G6,H6,I6) -> 152762.21 | N6: =+MEDIAN(E6,D6,F6,G6,H6,I6) -> 156422 | O6: =+AVERAGE(E6,D6,F6,G6,H6,I6) -> 155996.25 | P6: =+K6 -> 122040 | R6: =+_xlfn.STDEV.S(D6,E6,F6,G6,H6,I6) -> 36468.315 | S6: =+IF(R6<20000,"Los precios son similares, sugiriendo un mercado estable y competitivo.","Existe gran diferencia, indicando alta volatilidad o falta de consenso en el valor. ") -> Existe gran diferencia, indicando alta volatilidad o falta de consenso en el valor. | T6: =+_xlfn.STDEV.P(D6,E6,F6,G6,H6,I6)/O6 -> 0.20245671 | U6: =+IF(T6<30%,"Los precios son homogéneos. Hay poca dispersión, indicando un mercado estable donde la mayoría de los productos se venden a precios cercanos al promedio","Existe una gran dispersión de precios, lo que indica alta volatilidad o falta de uniformidad en el mercado. La media pierde representatividad") -> Los precios son homogéneos. Hay poca dispersión, indicando un mercado estable donde la mayoría de los productos se venden a precios cercanos al promedio
A7: 6 | B7: PASTILLAS DE FRENO DELANTERAS | D7: 379275 | E7: 402608.78 | F7: 639531 | G7: 690464 | H7: 631800 | I7: 657072 | K7: =+MIN(D7,E7,F7,G7,H7,I7) -> 379275 | L7: =+MAX(D7,E7,F7,G7,H7,I7) -> 690464 | M7: =+GEOMEAN(E7,D7,F7,G7,H7,I7) -> 551026.03 | N7: =+MEDIAN(E7,D7,F7,G7,H7,I7) -> 635665.5 | O7: =+AVERAGE(E7,D7,F7,G7,H7,I7) -> 566791.8 | P7: =+K7 -> 379275 | R7: =+_xlfn.STDEV.S(D7,E7,F7,G7,H7,I7) -> 137899.24 | S7: =+IF(R7<20000,"Los precios son similares, sugiriendo un mercado estable y competitivo.","Existe gran diferencia, indicando alta volatilidad o falta de consenso en el valor. ") -> Existe gran diferencia, indicando alta volatilidad o falta de consenso en el valor. | T7: =+_xlfn.STDEV.P(D7,E7,F7,G7,H7,I7)/O7 -> 0.22209955 | U7: =+IF(T7<30%,"Los precios son homogéneos. Hay poca dispersión, indicando un mercado estable donde la mayoría de los productos se venden a precios cercanos al promedio","Existe una gran dispersión de precios, lo que indica alta volatilidad o falta de uniformidad en el mercado. La media pierde representatividad") -> Los precios son homogéneos. Hay poca dispersión, indicando un mercado estable donde la mayoría de los productos se venden a precios cercanos al promedio
A8: 7 | B8: RECTIFICADORA DE DISCO X UNIDAD | G8: 511700 | H8: 312120 | I8: 324605 | K8: =+MIN(D8,E8,F8,G8,H8,I8) -> 312120 | L8: =+MAX(D8,E8,F8,G8,H8,I8) -> 511700 | M8: =+GEOMEAN(E8,D8,F8,G8,H8,I8) -> 372875.69 | N8: =+MEDIAN(E8,D8,F8,G8,H8,I8) -> 324605 | O8: =+AVERAGE(E8,D8,F8,G8,H8,I8) -> 382808.33 | P8: =+K8 -> 312120 | R8: =+_xlfn.STDEV.S(D8,E8,F8,G8,H8,I8) -> 111797.88 | S8: =+IF(R8<20000,"Los precios son similares, sugiriendo un mercado estable y competitivo.","Existe gran diferencia, indicando alta volatilidad o falta de consenso en el valor. ") -> Existe gran diferencia, indicando alta volatilidad o falta de consenso en el valor. | T8: =+_xlfn.STDEV.P(D8,E8,F8,G8,H8,I8)/O8 -> 0.23845506 | U8: =+IF(T8<30%,"Los precios son homogéneos. Hay poca dispersión, indicando un mercado estable donde la mayoría de los productos se venden a precios cercanos al promedio","Existe una gran dispersión de precios, lo que indica alta volatilidad o falta de uniformidad en el mercado. La media pierde representatividad") -> Los precios son homogéneos. Hay poca dispersión, indicando un mercado estable donde la mayoría de los productos se venden a precios cercanos al promedio
A9: 8 | B9: MUÑECOS DE SUSPENSIÓN X 1 | D9: 304950 | E9: 323670.91 | F9: 503100 | G9: 625000 | H9: 259200 | I9: 269568 | K9: =+MIN(D9,E9,F9,G9,H9,I9) -> 259200 | L9: =+MAX(D9,E9,F9,G9,H9,I9) -> 625000 | M9: =+GEOMEAN(E9,D9,F9,G9,H9,I9) -> 359772.8 | N9: =+MEDIAN(E9,D9,F9,G9,H9,I9) -> 314310.46 | O9: =+AVERAGE(E9,D9,F9,G9,H9,I9) -> 380914.82 | P9: =+K9 -> 259200 | R9: =+_xlfn.STDEV.S(D9,E9,F9,G9,H9,I9) -> 148840.13 | S9: =+IF(R9<20000,"Los precios son similares, sugiriendo un mercado estable y competitivo.","Existe gran diferencia, indicando alta volatilidad o falta de consenso en el valor. ") -> Existe gran diferencia, indicando alta volatilidad o falta de consenso en el valor. | T9: =+_xlfn.STDEV.P(D9,E9,F9,G9,H9,I9)/O9 -> 0.35669872 | U9: =+IF(T9<30%,"Los precios son homogéneos. Hay poca dispersión, indicando un mercado estable donde la mayoría de los productos se venden a precios cercanos al promedio","Existe una gran dispersión de precios, lo que indica alta volatilidad o falta de uniformidad en el mercado. La media pierde representatividad") -> Existe una gran dispersión de precios, lo que indica alta volatilidad o falta de uniformidad en el mercado. La media pierde representatividad
A10: 9 | B10: BRAZO AXIAL X1 | F10: 595000 | G10: 142752 | H10: 486000 | I10: 505440 | K10: =+MIN(D10,E10,F10,G10,H10,I10) -> 142752 | L10: =+MAX(D10,E10,F10,G10,H10,I10) -> 595000 | M10: =+GEOMEAN(E10,D10,F10,G10,H10,I10) -> 380059.21 | N10: =+MEDIAN(E10,D10,F10,G10,H10,I10) -> 495720 | O10: =+AVERAGE(E10,D10,F10,G10,H10,I10) -> 432298 | P10: =+K10 -> 142752 | R10: =+_xlfn.STDEV.S(D10,E10,F10,G10,H10,I10) -> 198781.69 | S10: =+IF(R10<20000,"Los precios son similares, sugiriendo un mercado estable y competitivo.","Existe gran diferencia, indicando alta volatilidad o falta de consenso en el valor. ") -> Existe gran diferencia, indicando alta volatilidad o falta de consenso en el valor. | T10: =+_xlfn.STDEV.P(D10,E10,F10,G10,H10,I10)/O10 -> 0.39822066 | U10: =+IF(T10<30%,"Los precios son homogéneos. Hay poca dispersión, indicando un mercado estable donde la mayoría de los productos se venden a precios cercanos al promedio","Existe una gran dispersión de precios, lo que indica alta volatilidad o falta de uniformidad en el mercado. La media pierde representatividad") -> Existe una gran dispersión de precios, lo que indica alta volatilidad o falta de uniformidad en el mercado. La media pierde representatividad
A11: 10 | B11: FILTRO DE AIRE MOTOR | D11: 287600 | E11: 305543.6 | F11: 140353 | G11: 121505 | H11: 155520 | I11: 161741 | K11: =+MIN(D11,E11,F11,G11,H11,I11) -> 121505 | L11: =+MAX(D11,E11,F11,G11,H11,I11) -> 305543.6 | M11: =+GEOMEAN(E11,D11,F11,G11,H11,I11) -> 183110.84 | N11: =+MEDIAN(E11,D11,F11,G11,H11,I11) -> 158630.5 | O11: =+AVERAGE(E11,D11,F11,G11,H11,I11) -> 195377.1 | P11: =+K11 -> 121505 | R11: =+_xlfn.STDEV.S(D11,E11,F11,G11,H11,I11) -> 79807.812 | S11: =+IF(R11<20000,"Los precios son similares, sugiriendo un mercado estable y competitivo.","Existe gran diferencia, indicando alta volatilidad o falta de consenso en el valor. ") -> Existe gran diferencia, indicando alta volatilidad o falta de consenso en el valor. | T11: =+_xlfn.STDEV.P(D11,E11,F11,G11,H11,I11)/O11 -> 0.37289033 | U11: =+IF(T11<30%,"Los precios son homogéneos. Hay poca dispersión, indicando un mercado estable donde la mayoría de los productos se venden a precios cercanos al promedio","Existe una gran dispersión de precios, lo que indica alta volatilidad o falta de uniformidad en el mercado. La media pierde representatividad") -> Existe una gran dispersión de precios, lo que indica alta volatilidad o falta de uniformidad en el mercado. La media pierde representatividad
A12: 11 | B12: FILTRO DE COMBUSTIBLE | F12: 118480 | G12: 79190 | H12: 219240 | I12: 228010 | K12: =+MIN(D12,E12,F12,G12,H12,I12) -> 79190 | L12: =+MAX(D12,E12,F12,G12,H12,I12) -> 228010 | M12: =+GEOMEAN(E12,D12,F12,G12,H12,I12) -> 147162.54 | N12: =+MEDIAN(E12,D12,F12,G12,H12,I12) -> 168860 | O12: =+AVERAGE(E12,D12,F12,G12,H12,I12) -> 161230 | P12: =+K12 -> 79190 | R12: =+_xlfn.STDEV.S(D12,E12,F12,G12,H12,I12) -> 73898.247 | S12: =+IF(R12<20000,"Los precios son similares, sugiriendo un mercado estable y competitivo.","Existe gran diferencia, indicando alta volatilidad o falta de consenso en el valor. ") -> Existe gran diferencia, indicando alta volatilidad o falta de consenso en el valor. | T12: =+_xlfn.STDEV.P(D12,E12,F12,G12,H12,I12)/O12 -> 0.39693456 | U12: =+IF(T12<30%,"Los precios son homogéneos. Hay poca dispersión, indicando un mercado estable donde la mayoría de los productos se venden a precios cercanos al promedio","Existe una gran dispersión de precios, lo que indica alta volatilidad o falta de uniformidad en el mercado. La media pierde representatividad") -> Existe una gran dispersión de precios, lo que indica alta volatilidad o falta de uniformidad en el mercado. La media pierde representatividad
A13: 12 | B13: FILTRO DE ACEITE | D13: 240600 | E13: 255558.16 | F13: 80859 | G13: 238000 | H13: 125280 | I13: 130291 | K13: =+MIN(D13,E13,F13,G13,H13,I13) -> 80859 | L13: =+MAX(D13,E13,F13,G13,H13,I13) -> 255558.16 | M13: =+GEOMEAN(E13,D13,F13,G13,H13,I13) -> 163800.22 | N13: =+MEDIAN(E13,D13,F13,G13,H13,I13) -> 184145.5 | O13: =+AVERAGE(E13,D13,F13,G13,H13,I13) -> 178431.36 | P13: =+K13 -> 80859 | R13: =+_xlfn.STDEV.S(D13,E13,F13,G13,H13,I13) -> 74866.324 | S13: =+IF(R13<20000,"Los precios son similares, sugiriendo un mercado estable y competitivo.","Existe gran diferencia, indicando alta volatilidad o falta de consenso en el valor. ") -> Existe gran diferencia, indicando alta volatilidad o falta de consenso en el valor. | T13: =+_xlfn.STDEV.P(D13,E13,F13,G13,H13,I13)/O13 -> 0.38302286 | U13: =+IF(T13<30%,"Los precios son homogéneos. Hay poca dispersión, indicando un mercado estable donde la mayoría de los productos se venden a precios cercanos al promedio","Existe una gran dispersión de precios, lo que indica alta volatilidad o falta de uniformidad en el mercado. La media pierde representatividad") -> Existe una gran dispersión de precios, lo que indica alta volatilidad o falta de uniformidad en el mercado. La media pierde representatividad
A14: 13 | B14: FILTRO DE HABITÁCULO | F14: 234000 | G14: 78792 | H14: 162000 | I14: 168480 | K14: =+MIN(D14,E14,F14,G14,H14,I14) -> 78792 | L14: =+MAX(D14,E14,F14,G14,H14,I14) -> 234000 | M14: =+GEOMEAN(E14,D14,F14,G14,H14,I14) -> 149775.35 | N14: =+MEDIAN(E14,D14,F14,G14,H14,I14) -> 165240 | O14: =+AVERAGE(E14,D14,F14,G14,H14,I14) -> 160818 | P14: =+K14 -> 78792 | R14: =+_xlfn.STDEV.S(D14,E14,F14,G14,H14,I14) -> 63623.825 | S14: =+IF(R14<20000,"Los precios son similares, sugiriendo un mercado estable y competitivo.","Existe gran diferencia, indicando alta volatilidad o falta de consenso en el valor. ") -> Existe gran diferencia, indicando alta volatilidad o falta de consenso en el valor. | T14: =+_xlfn.STDEV.P(D14,E14,F14,G14,H14,I14)/O14 -> 0.3426224 | U14: =+IF(T14<30%,"Los precios son homogéneos. Hay poca dispersión, indicando un mercado estable donde la mayoría de los productos se venden a precios cercanos al promedio","Existe una gran dispersión de precios, lo que indica alta volatilidad o falta de uniformidad en el mercado. La media pierde representatividad") -> Existe una gran dispersión de precios, lo que indica alta volatilidad o falta de uniformidad en el mercado. La media pierde representatividad
A15: 14 | B15: DESPINCHE LLANTA CON TACO X1 | F15: 77468 | G15: 119000 | H15: 75600 | I15: 78624 | K15: =+MIN(D15,E15,F15,G15,H15,I15) -> 75600 | L15: =+MAX(D15,E15,F15,G15,H15,I15) -> 119000 | M15: =+GEOMEAN(E15,D15,F15,G15,H15,I15) -> 86037.258 | N15: =+MEDIAN(E15,D15,F15,G15,H15,I15) -> 78046 | O15: =+AVERAGE(E15,D15,F15,G15,H15,I15) -> 87673 | P15: =+K15 -> 75600 | R15: =+_xlfn.STDEV.S(D15,E15,F15,G15,H15,I15) -> 20921.796 | S15: =+IF(R15<20000,"Los precios son similares, sugiriendo un mercado estable y competitivo.","Existe gran diferencia, indicando alta volatilidad o falta de consenso en el valor. ") -> Existe gran diferencia, indicando alta volatilidad o falta de consenso en el valor. | T15: =+_xlfn.STDEV.P(D15,E15,F15,G15,H15,I15)/O15 -> 0.20666348 | U15: =+IF(T15<30%,"Los precios son homogéneos. Hay poca dispersión, indicando un mercado estable donde la mayoría de los productos se venden a precios cercanos al promedio","Existe una gran dispersión de precios, lo que indica alta volatilidad o falta de uniformidad en el mercado. La media pierde representatividad") -> Los precios son homogéneos. Hay poca dispersión, indicando un mercado estable donde la mayoría de los productos se venden a precios cercanos al promedio
A16: 15 | B16: DESPINCHE CON PARCHE CON TACO X1 | F16: 117000 | G16: 252134 | H16: 81000 | I16: 84240 | K16: =+MIN(D16,E16,F16,G16,H16,I16) -> 81000 | L16: =+MAX(D16,E16,F16,G16,H16,I16) -> 252134 | M16: =+GEOMEAN(E16,D16,F16,G16,H16,I16) -> 119111.9 | N16: =+MEDIAN(E16,D16,F16,G16,H16,I16) -> 100620 | O16: =+AVERAGE(E16,D16,F16,G16,H16,I16) -> 133593.5 | P16: =+K16 -> 81000 | R16: =+_xlfn.STDEV.S(D16,E16,F16,G16,H16,I16) -> 80682.585 | S16: =+IF(R16<20000,"Los precios son similares, sugiriendo un mercado estable y competitivo.","Existe gran diferencia, indicando alta volatilidad o falta de consenso en el valor. ") -> Existe gran diferencia, indicando alta volatilidad o falta de consenso en el valor. | T16: =+_xlfn.STDEV.P(D16,E16,F16,G16,H16,I16)/O16 -> 0.5230282 | U16: =+IF(T16<30%,"Los precios son homogéneos. Hay poca dispersión, indicando un mercado estable donde la mayoría de los productos se venden a precios cercanos al promedio","Existe una gran dispersión de precios, lo que indica alta volatilidad o falta de uniformidad en el mercado. La media pierde representatividad") -> Existe una gran dispersión de precios, lo que indica alta volatilidad o falta de uniformidad en el mercado. La media pierde representatividad
A17: 16 | B17: RECTIFICACIÓN DE DISCOS DE FRENO X1 | F17: 247896 | G17: 252134 | H17: 304560 | I17: 316742 | K17: =+MIN(D17,E17,F17,G17,H17,I17) -> 247896 | L17: =+MAX(D17,E17,F17,G17,H17,I17) -> 316742 | M17: =+GEOMEAN(E17,D17,F17,G17,H17,I17) -> 278656.94 | N17: =+MEDIAN(E17,D17,F17,G17,H17,I17) -> 278347 | O17: =+AVERAGE(E17,D17,F17,G17,H17,I17) -> 280333 | P17: =+K17 -> 247896 | R17: =+_xlfn.STDEV.S(D17,E17,F17,G17,H17,I17) -> 35402.003 | S17: =+IF(R17<20000,"Los precios son similares, sugiriendo un mercado estable y competitivo.","Existe gran diferencia, indicando alta volatilidad o falta de consenso en el valor. ") -> Existe gran diferencia, indicando alta volatilidad o falta de consenso en el valor. | T17: =+_xlfn.STDEV.P(D17,E17,F17,G17,H17,I17)/O17 -> 0.10936648 | U17: =+IF(T17<30%,"Los precios son homogéneos. Hay poca dispersión, indicando un mercado estable donde la mayoría de los productos se venden a precios cercanos al promedio","Existe una gran dispersión de precios, lo que indica alta volatilidad o falta de uniformidad en el mercado. La media pierde representatividad") -> Los precios son homogéneos. Hay poca dispersión, indicando un mercado estable donde la mayoría de los productos se venden a precios cercanos al promedio
A18: 17 | B18: RECTIFICACIÓN DE CAMPANAS X1 | F18: 247896 | G18: 135602 | H18: 308880 | I18: 321235 | K18: =+MIN(D18,E18,F18,G18,H18,I18) -> 135602 | L18: =+MAX(D18,E18,F18,G18,H18,I18) -> 321235 | M18: =+GEOMEAN(E18,D18,F18,G18,H18,I18) -> 240318.42 | N18: =+MEDIAN(E18,D18,F18,G18,H18,I18) -> 278388 | O18: =+AVERAGE(E18,D18,F18,G18,H18,I18) -> 253403.25 | P18: =+K18 -> 135602 | R18: =+_xlfn.STDEV.S(D18,E18,F18,G18,H18,I18) -> 84825.862 | S18: =+IF(R18<20000,"Los precios son similares, sugiriendo un mercado estable y competitivo.","Existe gran diferencia, indicando alta volatilidad o falta de consenso en el valor. ") -> Existe gran diferencia, indicando alta volatilidad o falta de consenso en el valor. | T18: =+_xlfn.STDEV.P(D18,E18,F18,G18,H18,I18)/O18 -> 0.28989901 | U18: =+IF(T18<30%,"Los precios son homogéneos. Hay poca dispersión, indicando un mercado estable donde la mayoría de los productos se venden a precios cercanos al promedio","Existe una gran dispersión de precios, lo que indica alta volatilidad o falta de uniformidad en el mercado. La media pierde representatividad") -> Los precios son homogéneos. Hay poca dispersión, indicando un mercado estable donde la mayoría de los productos se venden a precios cercanos al promedio
A19: 18 | B19: EMPAQUE TAPÓN | D19: 60525 | E19: 64153.044 | F19: 133949 | G19: 174894 | H19: 194400 | I19: 202176 | K19: =+MIN(D19,E19,F19,G19,H19,I19) -> 60525 | L19: =+MAX(D19,E19,F19,G19,H19,I19) -> 202176 | M19: =+GEOMEAN(E19,D19,F19,G19,H19,I19) -> 123656.05 | N19: =+MEDIAN(E19,D19,F19,G19,H19,I19) -> 154421.5 | O19: =+AVERAGE(E19,D19,F19,G19,H19,I19) -> 138349.51 | P19: =+K19 -> 60525 | R19: =+_xlfn.STDEV.S(D19,E19,F19,G19,H19,I19) -> 63454.097 | S19: =+IF(R19<20000,"Los precios son similares, sugiriendo un mercado estable y competitivo.","Existe gran diferencia, indicando alta volatilidad o falta de consenso en el valor. ") -> Existe gran diferencia, indicando alta volatilidad o falta de consenso en el valor. | T19: =+_xlfn.STDEV.P(D19,E19,F19,G19,H19,I19)/O19 -> 0.41868888 | U19: =+IF(T19<30%,"Los precios son homogéneos. Hay poca dispersión, indicando un mercado estable donde la mayoría de los productos se venden a precios cercanos al promedio","Existe una gran dispersión de precios, lo que indica alta volatilidad o falta de uniformidad en el mercado. La media pierde representatividad") -> Existe una gran dispersión de precios, lo que indica alta volatilidad o falta de uniformidad en el mercado. La media pierde representatividad
A20: 19 | B20: ACEITE PARA CAJA (EXCEPTO IVA) | D20: 933700 | E20: 990194.07 | F20: 170949 | G20: 174894 | H20: 110160 | I20: 114566 | K20: =+MIN(D20,E20,F20,G20,H20,I20) -> 110160 | L20: =+MAX(D20,E20,F20,G20,H20,I20) -> 990194.07 | M20: =+GEOMEAN(E20,D20,F20,G20,H20,I20) -> 265322.94 | N20: =+MEDIAN(E20,D20,F20,G20,H20,I20) -> 172921.5 | O20: =+AVERAGE(E20,D20,F20,G20,H20,I20) -> 415743.85 | P20: =+K20 -> 110160 | R20: =+_xlfn.STDEV.S(D20,E20,F20,G20,H20,I20) -> 424333.45 | S20: =+IF(R20<20000,"Los precios son similares, sugiriendo un mercado estable y competitivo.","Existe gran diferencia, indicando alta volatilidad o falta de consenso en el valor. ") -> Existe gran diferencia, indicando alta volatilidad o falta de consenso en el valor. | T20: =+_xlfn.STDEV.P(D20,E20,F20,G20,H20,I20)/O20 -> 0.93173158 | U20: =+IF(T20<30%,"Los precios son homogéneos. Hay poca dispersión, indicando un mercado estable donde la mayoría de los productos se venden a precios cercanos al promedio","Existe una gran dispersión de precios, lo que indica alta volatilidad o falta de uniformidad en el mercado. La media pierde representatividad") -> Existe una gran dispersión de precios, lo que indica alta volatilidad o falta de uniformidad en el mercado. La media pierde representatividad
A21: 20 | B21: ACEITE TRANSMISIÓN (EXECENTO IVA) | D21: 933700 | E21: 990194.07 | F21: 170949 | G21: 2644268 | H21: 109080 | I21: 113443 | K21: =+MIN(D21,E21,F21,G21,H21,I21) -> 109080 | L21: =+MAX(D21,E21,F21,G21,H21,I21) -> 2644268 | M21: =+GEOMEAN(E21,D21,F21,G21,H21,I21) -> 415850.37 | N21: =+MEDIAN(E21,D21,F21,G21,H21,I21) -> 552324.5 | O21: =+AVERAGE(E21,D21,F21,G21,H21,I21) -> 826939.01 | P21: =+K21 -> 109080 | R21: =+_xlfn.STDEV.S(D21,E21,F21,G21,H21,I21) -> 979332 | S21: =+IF(R21<20000,"Los precios son similares, sugiriendo un mercado estable y competitivo.","Existe gran diferencia, indicando alta volatilidad o falta de consenso en el valor. ") -> Existe gran diferencia, indicando alta volatilidad o falta de consenso en el valor. | T21: =+_xlfn.STDEV.P(D21,E21,F21,G21,H21,I21)/O21 -> 1.0810999 | U21: =+IF(T21<30%,"Los precios son homogéneos. Hay poca dispersión, indicando un mercado estable donde la mayoría de los productos se venden a precios cercanos al promedio","Existe una gran dispersión de precios, lo que indica alta volatilidad o falta de uniformidad en el mercado. La media pierde representatividad") -> Existe una gran dispersión de precios, lo que indica alta volatilidad o falta de uniformidad en el mercado. La media pierde representatividad
A22: 21 | B22: DISCO DE FRENO DELANTERO X2 | D22: 651300 | E22: 691696.31 | F22: 2403188 | G22: 2126453 | H22: 1194480 | I22: 1242259 | K22: =+MIN(D22,E22,F22,G22,H22,I22) -> 651300 | L22: =+MAX(D22,E22,F22,G22,H22,I22) -> 2403188 | M22: =+GEOMEAN(E22,D22,F22,G22,H22,I22) -> 1227218.4 | N22: =+MEDIAN(E22,D22,F22,G22,H22,I22) -> 1218369.5 | O22: =+AVERAGE(E22,D22,F22,G22,H22,I22) -> 1384896.1 | P22: =+K22 -> 651300 | R22: =+_xlfn.STDEV.S(D22,E22,F22,G22,H22,I22) -> 729673.61 | S22: =+IF(R22<20000,"Los precios son similares, sugiriendo un mercado estable y competitivo.","Existe gran diferencia, indicando alta volatilidad o falta de consenso en el valor. ") -> Existe gran diferencia, indicando alta volatilidad o falta de consenso en el valor. | T22: =+_xlfn.STDEV.P(D22,E22,F22,G22,H22,I22)/O22 -> 0.48097315 | U22: =+IF(T22<30%,"Los precios son homogéneos. Hay poca dispersión, indicando un mercado estable donde la mayoría de los productos se venden a precios cercanos al promedio","Existe una gran dispersión de precios, lo que indica alta volatilidad o falta de uniformidad en el mercado. La media pierde representatividad") -> Existe una gran dispersión de precios, lo que indica alta volatilidad o falta de uniformidad en el mercado. La media pierde representatividad
A23: 22 | B23: CAMPANA DE FRENO TRASERO X2 | D23: 580800 | E23: 616718.15 | F23: 2092714 | G23: 696017 | H23: 1275480 | I23: 1326499 | K23: =+MIN(D23,E23,F23,G23,H23,I23) -> 580800 | L23: =+MAX(D23,E23,F23,G23,H23,I23) -> 2092714 | M23: =+GEOMEAN(E23,D23,F23,G23,H23,I23) -> 979423.7 | N23: =+MEDIAN(E23,D23,F23,G23,H23,I23) -> 985748.5 | O23: =+AVERAGE(E23,D23,F23,G23,H23,I23) -> 1098038 | P23: =+K23 -> 580800 | R23: =+_xlfn.STDEV.S(D23,E23,F23,G23,H23,I23) -> 588877.79 | S23: =+IF(R23<20000,"Los precios son similares, sugiriendo un mercado estable y competitivo.","Existe gran diferencia, indicando alta volatilidad o falta de consenso en el valor. ") -> Existe gran diferencia, indicando alta volatilidad o falta de consenso en el valor. | T23: =+_xlfn.STDEV.P(D23,E23,F23,G23,H23,I23)/O23 -> 0.48957268 | U23: =+IF(T23<30%,"Los precios son homogéneos. Hay poca dispersión, indicando un mercado estable donde la mayoría de los productos se venden a precios cercanos al promedio","Existe una gran dispersión de precios, lo que indica alta volatilidad o falta de uniformidad en el mercado. La media pierde representatividad") -> Existe una gran dispersión de precios, lo que indica alta volatilidad o falta de uniformidad en el mercado. La media pierde representatividad
A24: 23 | B24: PASTILLAS DE FRENO DELANTERAS | D24: 797900 | E24: 847283.58 | G24: 626559 | H24: 627480 | I24: 652579 | K24: =+MIN(D24,E24,F24,G24,H24,I24) -> 626559 | L24: =+MAX(D24,E24,F24,G24,H24,I24) -> 847283.58 | M24: =+GEOMEAN(E24,D24,F24,G24,H24,I24) -> 704424.48 | N24: =+MEDIAN(E24,D24,F24,G24,H24,I24) -> 652579 | O24: =+AVERAGE(E24,D24,F24,G24,H24,I24) -> 710360.32 | P24: =+K24 -> 626559 | R24: =+_xlfn.STDEV.S(D24,E24,F24,G24,H24,I24) -> 104452.94 | S24: =+IF(R24<20000,"Los precios son similares, sugiriendo un mercado estable y competitivo.","Existe gran diferencia, indicando alta volatilidad o falta de consenso en el valor. ") -> Existe gran diferencia, indicando alta volatilidad o falta de consenso en el valor. | T24: =+_xlfn.STDEV.P(D24,E24,F24,G24,H24,I24)/O24 -> 0.13151854 | U24: =+IF(T24<30%,"Los precios son homogéneos. Hay poca dispersión, indicando un mercado estable donde la mayoría de los productos se venden a precios cercanos al promedio","Existe una gran dispersión de precios, lo que indica alta volatilidad o falta de uniformidad en el mercado. La media pierde representatividad") -> Los precios son homogéneos. Hay poca dispersión, indicando un mercado estable donde la mayoría de los productos se venden a precios cercanos al promedio
A25: 24 | B25: PASTILLAS TRASERAS | D25: 774400 | E25: 822290.86 | G25: 252929 | H25: 510840 | I25: 531274 | K25: =+MIN(D25,E25,F25,G25,H25,I25) -> 252929 | L25: =+MAX(D25,E25,F25,G25,H25,I25) -> 822290.86 | M25: =+GEOMEAN(E25,D25,F25,G25,H25,I25) -> 534710.34 | N25: =+MEDIAN(E25,D25,F25,G25,H25,I25) -> 531274 | O25: =+AVERAGE(E25,D25,F25,G25,H25,I25) -> 578346.77 | P25: =+K25 -> 252929 | R25: =+_xlfn.STDEV.S(D25,E25,F25,G25,H25,I25) -> 229464.23 | S25: =+IF(R25<20000,"Los precios son similares, sugiriendo un mercado estable y competitivo.","Existe gran diferencia, indicando alta volatilidad o falta de consenso en el valor. ") -> Existe gran diferencia, indicando alta volatilidad o falta de consenso en el valor. | T25: =+_xlfn.STDEV.P(D25,E25,F25,G25,H25,I25)/O25 -> 0.35487194 | U25: =+IF(T25<30%,"Los precios son homogéneos. Hay poca dispersión, indicando un mercado estable donde la mayoría de los productos se venden a precios cercanos al promedio","Existe una gran dispersión de precios, lo que indica alta volatilidad o falta de uniformidad en el mercado. La media pierde representatividad") -> Existe una gran dispersión de precios, lo que indica alta volatilidad o falta de uniformidad en el mercado. La media pierde representatividad
A26: 25 | B26: BANDAS DE FRENO | D26: 562900 | E26: 597356.38 | F26: 684319 | G26: 2029783 | H26: 1018440 | I26: 1059178 | K26: =+MIN(D26,E26,F26,G26,H26,I26) -> 562900 | L26: =+MAX(D26,E26,F26,G26,H26,I26) -> 2029783 | M26: =+GEOMEAN(E26,D26,F26,G26,H26,I26) -> 892030.21 | N26: =+MEDIAN(E26,D26,F26,G26,H26,I26) -> 851379.5 | O26: =+AVERAGE(E26,D26,F26,G26,H26,I26) -> 991996.06 | P26: =+K26 -> 562900 | R26: =+_xlfn.STDEV.S(D26,E26,F26,G26,H26,I26) -> 550771.01 | S26: =+IF(R26<20000,"Los precios son similares, sugiriendo un mercado estable y competitivo.","Existe gran diferencia, indicando alta volatilidad o falta de consenso en el valor. ") -> Existe gran diferencia, indicando alta volatilidad o falta de consenso en el valor. | T26: =+_xlfn.STDEV.P(D26,E26,F26,G26,H26,I26)/O26 -> 0.50683955 | U26: =+IF(T26<30%,"Los precios son homogéneos. Hay poca dispersión, indicando un mercado estable donde la mayoría de los productos se venden a precios cercanos al promedio","Existe una gran dispersión de precios, lo que indica alta volatilidad o falta de uniformidad en el mercado. La media pierde representatividad") -> Existe una gran dispersión de precios, lo que indica alta volatilidad o falta de uniformidad en el mercado. La media pierde representatividad
A27: 26 | B27: GUAYA FRENO DE MANO | D27: 699800 | E27: 742735.77 | F27: 575734 | G27: 5380620 | H27: 487080 | I27: 506563 | K27: =+MIN(D27,E27,F27,G27,H27,I27) -> 487080 | L27: =+MAX(D27,E27,F27,G27,H27,I27) -> 5380620 | M27: =+GEOMEAN(E27,D27,F27,G27,H27,I27) -> 857398.47 | N27: =+MEDIAN(E27,D27,F27,G27,H27,I27) -> 637767 | O27: =+AVERAGE(E27,D27,F27,G27,H27,I27) -> 1398755.5 | P27: =+K27 -> 487080 | R27: =+_xlfn.STDEV.S(D27,E27,F27,G27,H27,I27) -> 1953390.4 | S27: =+IF(R27<20000,"Los precios son similares, sugiriendo un mercado estable y competitivo.","Existe gran diferencia, indicando alta volatilidad o falta de consenso en el valor. ") -> Existe gran diferencia, indicando alta volatilidad o falta de consenso en el valor. | T27: =+_xlfn.STDEV.P(D27,E27,F27,G27,H27,I27)/O27 -> 1.2748428 | U27: =+IF(T27<30%,"Los precios son homogéneos. Hay poca dispersión, indicando un mercado estable donde la mayoría de los productos se venden a precios cercanos al promedio","Existe una gran dispersión de precios, lo que indica alta volatilidad o falta de uniformidad en el mercado. La media pierde representatividad") -> Existe una gran dispersión de precios, lo que indica alta volatilidad o falta de uniformidad en el mercado. La media pierde representatividad
A28: 27 | B28: LIQUIDO FRENO X1 PINTA | D28: 95775 | E28: 101642.12 | F28: 274935 | G28: 1509983 | H28: 226800 | I28: 235872 | K28: =+MIN(D28,E28,F28,G28,H28,I28) -> 95775 | L28: =+MAX(D28,E28,F28,G28,H28,I28) -> 1509983 | M28: =+GEOMEAN(E28,D28,F28,G28,H28,I28) -> 244985.98 | N28: =+MEDIAN(E28,D28,F28,G28,H28,I28) -> 231336 | O28: =+AVERAGE(E28,D28,F28,G28,H28,I28) -> 407501.19 | P28: =+K28 -> 95775 | R28: =+_xlfn.STDEV.S(D28,E28,F28,G28,H28,I28) -> 545137.12 | S28: =+IF(R28<20000,"Los precios son similares, sugiriendo un mercado estable y competitivo.","Existe gran diferencia, indicando alta volatilidad o falta de consenso en el valor. ") -> Existe gran diferencia, indicando alta volatilidad o falta de consenso en el valor. | T28: =+_xlfn.STDEV.P(D28,E28,F28,G28,H28,I28)/O28 -> 1.2211985 | U28: =+IF(T28<30%,"Los precios son homogéneos. Hay poca dispersión, indicando un mercado estable donde la mayoría de los productos se venden a precios cercanos al promedio","Existe una gran dispersión de precios, lo que indica alta volatilidad o falta de uniformidad en el mercado. La media pierde representatividad") -> Existe una gran dispersión de precios, lo que indica alta volatilidad o falta de uniformidad en el mercado. La media pierde representatividad
A29: 28 | B29: BOMBA DE FRENOS | D29: 1722050 | E29: 1829919.1 | F29: 1995669 | G29: 994314 | H29: 1679400 | I29: 1746576 | K29: =+MIN(D29,E29,F29,G29,H29,I29) -> 994314 | L29: =+MAX(D29,E29,F29,G29,H29,I29) -> 1995669 | M29: =+GEOMEAN(E29,D29,F29,G29,H29,I29) -> 1623947.1 | N29: =+MEDIAN(E29,D29,F29,G29,H29,I29) -> 1734313 | O29: =+AVERAGE(E29,D29,F29,G29,H29,I29) -> 1661321.3 | P29: =+K29 -> 994314 | R29: =+_xlfn.STDEV.S(D29,E29,F29,G29,H29,I29) -> 345368.07 | S29: =+IF(R29<20000,"Los precios son similares, sugiriendo un mercado estable y competitivo.","Existe gran diferencia, indicando alta volatilidad o falta de consenso en el valor. ") -> Existe gran diferencia, indicando alta volatilidad o falta de consenso en el valor. | T29: =+_xlfn.STDEV.P(D29,E29,F29,G29,H29,I29)/O29 -> 0.18977453 | U29: =+IF(T29<30%,"Los precios son homogéneos. Hay poca dispersión, indicando un mercado estable donde la mayoría de los productos se venden a precios cercanos al promedio","Existe una gran dispersión de precios, lo que indica alta volatilidad o falta de uniformidad en el mercado. La media pierde representatividad") -> Los precios son homogéneos. Hay poca dispersión, indicando un mercado estable donde la mayoría de los productos se venden a precios cercanos al promedio
A30: 29 | B30: KIT EMBRAGUE (PRENSA-DISCO-BALINERA) | D30: 3197750 | E30: 3395999.7 | F30: 5268055 | G30: 5672910 | H30: 1802520 | I30: 1874621 | K30: =+MIN(D30,E30,F30,G30,H30,I30) -> 1802520 | L30: =+MAX(D30,E30,F30,G30,H30,I30) -> 5672910 | M30: =+GEOMEAN(E30,D30,F30,G30,H30,I30) -> 3211271.2 | N30: =+MEDIAN(E30,D30,F30,G30,H30,I30) -> 3296874.9 | O30: =+AVERAGE(E30,D30,F30,G30,H30,I30) -> 3535309.3 | P30: =+K30 -> 1802520 | R30: =+_xlfn.STDEV.S(D30,E30,F30,G30,H30,I30) -> 1641069.3 | S30: =+IF(R30<20000,"Los precios son similares, sugiriendo un mercado estable y competitivo.","Existe gran diferencia, indicando alta volatilidad o falta de consenso en el valor. ") -> Existe gran diferencia, indicando alta volatilidad o falta de consenso en el valor. | T30: =+_xlfn.STDEV.P(D30,E30,F30,G30,H30,I30)/O30 -> 0.42374919 | U30: =+IF(T30<30%,"Los precios son homogéneos. Hay poca dispersión, indicando un mercado estable donde la mayoría de los productos se venden a precios cercanos al promedio","Existe una gran dispersión de precios, lo que indica alta volatilidad o falta de uniformidad en el mercado. La media pierde representatividad") -> Existe una gran dispersión de precios, lo que indica alta volatilidad o falta de uniformidad en el mercado. La media pierde representatividad
A31: 30 | B31: BOMBA PRINCIPAL DE EMBRAGUE | D31: 938350 | E31: 996005.46 | F31: 1480393 | G31: 1026941 | H31: 1243080 | I31: 1292803 | K31: =+MIN(D31,E31,F31,G31,H31,I31) -> 938350 | L31: =+MAX(D31,E31,F31,G31,H31,I31) -> 1480393 | M31: =+GEOMEAN(E31,D31,F31,G31,H31,I31) -> 1147528.3 | N31: =+MEDIAN(E31,D31,F31,G31,H31,I31) -> 1135010.5 | O31: =+AVERAGE(E31,D31,F31,G31,H31,I31) -> 1162928.7 | P31: =+K31 -> 938350 | R31: =+_xlfn.STDEV.S(D31,E31,F31,G31,H31,I31) -> 210174.58 | S31: =+IF(R31<20000,"Los precios son similares, sugiriendo un mercado estable y competitivo.","Existe gran diferencia, indicando alta volatilidad o falta de consenso en el valor. ") -> Existe gran diferencia, indicando alta volatilidad o falta de consenso en el valor. | T31: =+_xlfn.STDEV.P(D31,E31,F31,G31,H31,I31)/O31 -> 0.16498196 | U31: =+IF(T31<30%,"Los precios son homogéneos. Hay poca dispersión, indicando un mercado estable donde la mayoría de los productos se venden a precios cercanos al promedio","Existe una gran dispersión de precios, lo que indica alta volatilidad o falta de uniformidad en el mercado. La media pierde representatividad") -> Los precios son homogéneos. Hay poca dispersión, indicando un mercado estable donde la mayoría de los productos se venden a precios cercanos al promedio
A32: 31 | B32: BOMBA AUX DE EMBRAGUE | D32: 1173350 | E32: 1245932.7 | F32: 963722 | G32: 397743 | H32: 1192320 | I32: 1240013 | K32: =+MIN(D32,E32,F32,G32,H32,I32) -> 397743 | L32: =+MAX(D32,E32,F32,G32,H32,I32) -> 1245932.7 | M32: =+GEOMEAN(E32,D32,F32,G32,H32,I32) -> 969131.23 | N32: =+MEDIAN(E32,D32,F32,G32,H32,I32) -> 1182835 | O32: =+AVERAGE(E32,D32,F32,G32,H32,I32) -> 1035513.4 | P32: =+K32 -> 397743 | R32: =+_xlfn.STDEV.S(D32,E32,F32,G32,H32,I32) -> 329116.6 | S32: =+IF(R32<20000,"Los precios son similares, sugiriendo un mercado estable y competitivo.","Existe gran diferencia, indicando alta volatilidad o falta de consenso en el valor. ") -> Existe gran diferencia, indicando alta volatilidad o falta de consenso en el valor. | T32: =+_xlfn.STDEV.P(D32,E32,F32,G32,H32,I32)/O32 -> 0.2901372 | U32: =+IF(T32<30%,"Los precios son homogéneos. Hay poca dispersión, indicando un mercado estable donde la mayoría de los productos se venden a precios cercanos al promedio","Existe una gran dispersión de precios, lo que indica alta volatilidad o falta de uniformidad en el mercado. La media pierde representatividad") -> Los precios son homogéneos. Hay poca dispersión, indicando un mercado estable donde la mayoría de los productos se venden a precios cercanos al promedio
A33: 32 | B33: KIT DE REPARTICIÓN COMPLETO (CADENA O CORREA SEGÚN APLIQUE ESPECIFICAR COMPONENTES) | D33: 3095250 | E33: 3281576.3 | F33: 5554230 | G33: 215521 | H33: 2004480 | I33: 2084659 | K33: =+MIN(D33,E33,F33,G33,H33,I33) -> 215521 | L33: =+MAX(D33,E33,F33,G33,H33,I33) -> 5554230 | M33: =+GEOMEAN(E33,D33,F33,G33,H33,I33) -> 1924515.5 | N33: =+MEDIAN(E33,D33,F33,G33,H33,I33) -> 2589954.5 | O33: =+AVERAGE(E33,D33,F33,G33,H33,I33) -> 2705952.7 | P33: =+K33 -> 215521 | R33: =+_xlfn.STDEV.S(D33,E33,F33,G33,H33,I33) -> 1770643.9 | S33: =+IF(R33<20000,"Los precios son similares, sugiriendo un mercado estable y competitivo.","Existe gran diferencia, indicando alta volatilidad o falta de consenso en el valor. ") -> Existe gran diferencia, indicando alta volatilidad o falta de consenso en el valor. | T33: =+_xlfn.STDEV.P(D33,E33,F33,G33,H33,I33)/O33 -> 0.59733834 | U33: =+IF(T33<30%,"Los precios son homogéneos. Hay poca dispersión, indicando un mercado estable donde la mayoría de los productos se venden a precios cercanos al promedio","Existe una gran dispersión de precios, lo que indica alta volatilidad o falta de uniformidad en el mercado. La media pierde representatividad") -> Existe una gran dispersión de precios, lo que indica alta volatilidad o falta de uniformidad en el mercado. La media pierde representatividad
A34: 33 | B34: CORREA DE ACCESORIOS | D34: 500600 | E34: 531532.1 | F34: 1009682 | G34: 757984 | H34: 454680 | I34: 472867 | K34: =+MIN(D34,E34,F34,G34,H34,I34) -> 454680 | L34: =+MAX(D34,E34,F34,G34,H34,I34) -> 1009682 | M34: =+GEOMEAN(E34,D34,F34,G34,H34,I34) -> 593678.94 | N34: =+MEDIAN(E34,D34,F34,G34,H34,I34) -> 516066.05 | O34: =+AVERAGE(E34,D34,F34,G34,H34,I34) -> 621224.18 | P34: =+K34 -> 454680 | R34: =+_xlfn.STDEV.S(D34,E34,F34,G34,H34,I34) -> 219974.73 | S34: =+IF(R34<20000,"Los precios son similares, sugiriendo un mercado estable y competitivo.","Existe gran diferencia, indicando alta volatilidad o falta de consenso en el valor. ") -> Existe gran diferencia, indicando alta volatilidad o falta de consenso en el valor. | T34: =+_xlfn.STDEV.P(D34,E34,F34,G34,H34,I34)/O34 -> 0.32324649 | U34: =+IF(T34<30%,"Los precios son homogéneos. Hay poca dispersión, indicando un mercado estable donde la mayoría de los productos se venden a precios cercanos al promedio","Existe una gran dispersión de precios, lo que indica alta volatilidad o falta de uniformidad en el mercado. La media pierde representatividad") -> Existe una gran dispersión de precios, lo que indica alta volatilidad o falta de uniformidad en el mercado. La media pierde representatividad
A35: 34 | B35: BUJÍAS JUEGO | D35: 510300 | E35: 541739.99 | F35: 409422 | G35: 662239 | H35: 561600 | I35: 584064 | K35: =+MIN(D35,E35,F35,G35,H35,I35) -> 409422 | L35: =+MAX(D35,E35,F35,G35,H35,I35) -> 662239 | M35: =+GEOMEAN(E35,D35,F35,G35,H35,I35) -> 539239.45 | N35: =+MEDIAN(E35,D35,F35,G35,H35,I35) -> 551669.99 | O35: =+AVERAGE(E35,D35,F35,G35,H35,I35) -> 544894.16 | P35: =+K35 -> 409422 | R35: =+_xlfn.STDEV.S(D35,E35,F35,G35,H35,I35) -> 83836.25 | S35: =+IF(R35<20000,"Los precios son similares, sugiriendo un mercado estable y competitivo.","Existe gran diferencia, indicando alta volatilidad o falta de consenso en el valor. ") -> Existe gran diferencia, indicando alta volatilidad o falta de consenso en el valor. | T35: =+_xlfn.STDEV.P(D35,E35,F35,G35,H35,I35)/O35 -> 0.14045237 | U35: =+IF(T35<30%,"Los precios son homogéneos. Hay poca dispersión, indicando un mercado estable donde la mayoría de los productos se venden a precios cercanos al promedio","Existe una gran dispersión de precios, lo que indica alta volatilidad o falta de uniformidad en el mercado. La media pierde representatividad") -> Los precios son homogéneos. Hay poca dispersión, indicando un mercado estable donde la mayoría de los productos se venden a precios cercanos al promedio
A36: 35 | B36: LIMPIADOR CUERPO ACELERACIÓN | F36: 203067 | G36: 1249412 | H36: 92880 | I36: 96595 | K36: =+MIN(D36,E36,F36,G36,H36,I36) -> 92880 | L36: =+MAX(D36,E36,F36,G36,H36,I36) -> 1249412 | M36: =+GEOMEAN(E36,D36,F36,G36,H36,I36) -> 218426.57 | N36: =+MEDIAN(E36,D36,F36,G36,H36,I36) -> 149831 | O36: =+AVERAGE(E36,D36,F36,G36,H36,I36) -> 410488.5 | P36: =+K36 -> 92880 | R36: =+_xlfn.STDEV.S(D36,E36,F36,G36,H36,I36) -> 561610.96 | S36: =+IF(R36<20000,"Los precios son similares, sugiriendo un mercado estable y competitivo.","Existe gran diferencia, indicando alta volatilidad o falta de consenso en el valor. ") -> Existe gran diferencia, indicando alta volatilidad o falta de consenso en el valor. | T36: =+_xlfn.STDEV.P(D36,E36,F36,G36,H36,I36)/O36 -> 1.184855 | U36: =+IF(T36<30%,"Los precios son homogéneos. Hay poca dispersión, indicando un mercado estable donde la mayoría de los productos se venden a precios cercanos al promedio","Existe una gran dispersión de precios, lo que indica alta volatilidad o falta de uniformidad en el mercado. La media pierde representatividad") -> Existe una gran dispersión de precios, lo que indica alta volatilidad o falta de uniformidad en el mercado. La media pierde representatividad
A37: 36 | B37: AMORTIGUADOR DELANTERO X1 | D37: 616050 | E37: 654207.23 | F37: 752126 | G37: 1205849 | H37: 751680 | I37: 781747 | K37: =+MIN(D37,E37,F37,G37,H37,I37) -> 616050 | L37: =+MAX(D37,E37,F37,G37,H37,I37) -> 1205849 | M37: =+GEOMEAN(E37,D37,F37,G37,H37,I37) -> 773871.78 | N37: =+MEDIAN(E37,D37,F37,G37,H37,I37) -> 751903 | O37: =+AVERAGE(E37,D37,F37,G37,H37,I37) -> 793609.87 | P37: =+K37 -> 616050 | R37: =+_xlfn.STDEV.S(D37,E37,F37,G37,H37,I37) -> 211906.33 | S37: =+IF(R37<20000,"Los precios son similares, sugiriendo un mercado estable y competitivo.","Existe gran diferencia, indicando alta volatilidad o falta de consenso en el valor. ") -> Existe gran diferencia, indicando alta volatilidad o falta de consenso en el valor. | T37: =+_xlfn.STDEV.P(D37,E37,F37,G37,H37,I37)/O37 -> 0.24375091 | U37: =+IF(T37<30%,"Los precios son homogéneos. Hay poca dispersión, indicando un mercado estable donde la mayoría de los productos se venden a precios cercanos al promedio","Existe una gran dispersión de precios, lo que indica alta volatilidad o falta de uniformidad en el mercado. La media pierde representatividad") -> Los precios son homogéneos. Hay poca dispersión, indicando un mercado estable donde la mayoría de los productos se venden a precios cercanos al promedio
A38: 37 | B38: AMORTIGUADOR TRASERO X1 | D38: 545550 | E38: 579229.07 | F38: 648385 | G38: 6987619 | H38: 768960 | I38: 799718 | K38: =+MIN(D38,E38,F38,G38,H38,I38) -> 545550 | L38: =+MAX(D38,E38,F38,G38,H38,I38) -> 6987619 | M38: =+GEOMEAN(E38,D38,F38,G38,H38,I38) -> 978996.83 | N38: =+MEDIAN(E38,D38,F38,G38,H38,I38) -> 708672.5 | O38: =+AVERAGE(E38,D38,F38,G38,H38,I38) -> 1721576.8 | P38: =+K38 -> 545550 | R38: =+_xlfn.STDEV.S(D38,E38,F38,G38,H38,I38) -> 2581791.7 | S38: =+IF(R38<20000,"Los precios son similares, sugiriendo un mercado estable y competitivo.","Existe gran diferencia, indicando alta volatilidad o falta de consenso en el valor. ") -> Existe gran diferencia, indicando alta volatilidad o falta de consenso en el valor. | T38: =+_xlfn.STDEV.P(D38,E38,F38,G38,H38,I38)/O38 -> 1.3690022 | U38: =+IF(T38<30%,"Los precios son homogéneos. Hay poca dispersión, indicando un mercado estable donde la mayoría de los productos se venden a precios cercanos al promedio","Existe una gran dispersión de precios, lo que indica alta volatilidad o falta de uniformidad en el mercado. La media pierde representatividad") -> Existe una gran dispersión de precios, lo que indica alta volatilidad o falta de uniformidad en el mercado. La media pierde representatividad
A39: 38 | B39: RODAMIENTO DELANTERO X1 | D39: 571100 | E39: 606510.26 | F39: 1232413 | G39: 4589788 | H39: 617760 | I39: 642470 | K39: =+MIN(D39,E39,F39,G39,H39,I39) -> 571100 | L39: =+MAX(D39,E39,F39,G39,H39,I39) -> 4589788 | M39: =+GEOMEAN(E39,D39,F39,G39,H39,I39) -> 958948.55 | N39: =+MEDIAN(E39,D39,F39,G39,H39,I39) -> 630115 | O39: =+AVERAGE(E39,D39,F39,G39,H39,I39) -> 1376673.5 | P39: =+K39 -> 571100 | R39: =+_xlfn.STDEV.S(D39,E39,F39,G39,H39,I39) -> 1593864.5 | S39: =+IF(R39<20000,"Los precios son similares, sugiriendo un mercado estable y competitivo.","Existe gran diferencia, indicando alta volatilidad o falta de consenso en el valor. ") -> Existe gran diferencia, indicando alta volatilidad o falta de consenso en el valor. | T39: =+_xlfn.STDEV.P(D39,E39,F39,G39,H39,I39)/O39 -> 1.0568901 | U39: =+IF(T39<30%,"Los precios son homogéneos. Hay poca dispersión, indicando un mercado estable donde la mayoría de los productos se venden a precios cercanos al promedio","Existe una gran dispersión de precios, lo que indica alta volatilidad o falta de uniformidad en el mercado. La media pierde representatividad") -> Existe una gran dispersión de precios, lo que indica alta volatilidad o falta de uniformidad en el mercado. La media pierde representatividad
A40: 39 | B40: RODAMIENTO TRASERO X1 | D40: 571100 | E40: 606510.26 | F40: 1165919 | G40: 2947493 | H40: 642600 | I40: 668304 | K40: =+MIN(D40,E40,F40,G40,H40,I40) -> 571100 | L40: =+MAX(D40,E40,F40,G40,H40,I40) -> 2947493 | M40: =+GEOMEAN(E40,D40,F40,G40,H40,I40) -> 894192.54 | N40: =+MEDIAN(E40,D40,F40,G40,H40,I40) -> 655452 | O40: =+AVERAGE(E40,D40,F40,G40,H40,I40) -> 1100321 | P40: =+K40 -> 571100 | R40: =+_xlfn.STDEV.S(D40,E40,F40,G40,H40,I40) -> 931280.69 | S40: =+IF(R40<20000,"Los precios son similares, sugiriendo un mercado estable y competitivo.","Existe gran diferencia, indicando alta volatilidad o falta de consenso en el valor. ") -> Existe gran diferencia, indicando alta volatilidad o falta de consenso en el valor. | T40: =+_xlfn.STDEV.P(D40,E40,F40,G40,H40,I40)/O40 -> 0.7726282 | U40: =+IF(T40<30%,"Los precios son homogéneos. Hay poca dispersión, indicando un mercado estable donde la mayoría de los productos se venden a precios cercanos al promedio","Existe una gran dispersión de precios, lo que indica alta volatilidad o falta de uniformidad en el mercado. La media pierde representatividad") -> Existe una gran dispersión de precios, lo que indica alta volatilidad o falta de uniformidad en el mercado. La media pierde representatividad
A41: 40 | B41: REPARACIÓN CAJA DIRECCIÓN CON REPUESTOS | F41: 6865059 | G41: 437992 | H41: 2673000 | I41: 2779920 | K41: =+MIN(D41,E41,F41,G41,H41,I41) -> 437992 | L41: =+MAX(D41,E41,F41,G41,H41,I41) -> 6865059 | M41: =+GEOMEAN(E41,D41,F41,G41,H41,I41) -> 2174129.6 | N41: =+MEDIAN(E41,D41,F41,G41,H41,I41) -> 2726460 | O41: =+AVERAGE(E41,D41,F41,G41,H41,I41) -> 3188992.8 | P41: =+K41 -> 437992 | R41: =+_xlfn.STDEV.S(D41,E41,F41,G41,H41,I41) -> 2678000.3 | S41: =+IF(R41<20000,"Los precios son similares, sugiriendo un mercado estable y competitivo.","Existe gran diferencia, indicando alta volatilidad o falta de consenso en el valor. ") -> Existe gran diferencia, indicando alta volatilidad o falta de consenso en el valor. | T41: =+_xlfn.STDEV.P(D41,E41,F41,G41,H41,I41)/O41 -> 0.72725669 | U41: =+IF(T41<30%,"Los precios son homogéneos. Hay poca dispersión, indicando un mercado estable donde la mayoría de los productos se venden a precios cercanos al promedio","Existe una gran dispersión de precios, lo que indica alta volatilidad o falta de uniformidad en el mercado. La media pierde representatividad") -> Existe una gran dispersión de precios, lo que indica alta volatilidad o falta de uniformidad en el mercado. La media pierde representatividad
A42: 41 | B42: REPARACIÓN BOMBA DIRECCIÓN CON REPUESTOS | F42: 4524837 | G42: 222209 | H42: 3206520 | I42: 3334781 | K42: =+MIN(D42,E42,F42,G42,H42,I42) -> 222209 | L42: =+MAX(D42,E42,F42,G42,H42,I42) -> 4524837 | M42: =+GEOMEAN(E42,D42,F42,G42,H42,I42) -> 1810783.2 | N42: =+MEDIAN(E42,D42,F42,G42,H42,I42) -> 3270650.5 | O42: =+AVERAGE(E42,D42,F42,G42,H42,I42) -> 2822086.8 | P42: =+K42 -> 222209 | R42: =+_xlfn.STDEV.S(D42,E42,F42,G42,H42,I42) -> 1832063.2 | S42: =+IF(R42<20000,"Los precios son similares, sugiriendo un mercado estable y competitivo.","Existe gran diferencia, indicando alta volatilidad o falta de consenso en el valor. ") -> Existe gran diferencia, indicando alta volatilidad o falta de consenso en el valor. | T42: =+_xlfn.STDEV.P(D42,E42,F42,G42,H42,I42)/O42 -> 0.5622128 | U42: =+IF(T42<30%,"Los precios son homogéneos. Hay poca dispersión, indicando un mercado estable donde la mayoría de los productos se venden a precios cercanos al promedio","Existe una gran dispersión de precios, lo que indica alta volatilidad o falta de uniformidad en el mercado. La media pierde representatividad") -> Existe una gran dispersión de precios, lo que indica alta volatilidad o falta de uniformidad en el mercado. La media pierde representatividad
A43: 42 | B43: RADIADOR CON MANGUERAS | D43: 2210350 | E43: 2347720.4 | F43: 2885830 | G43: 491687 | H43: 1554120 | I43: 1616285 | K43: =+MIN(D43,E43,F43,G43,H43,I43) -> 491687 | L43: =+MAX(D43,E43,F43,G43,H43,I43) -> 2885830 | M43: =+GEOMEAN(E43,D43,F43,G43,H43,I43) -> 1626216 | N43: =+MEDIAN(E43,D43,F43,G43,H43,I43) -> 1913317.5 | O43: =+AVERAGE(E43,D43,F43,G43,H43,I43) -> 1850998.7 | P43: =+K43 -> 491687 | R43: =+_xlfn.STDEV.S(D43,E43,F43,G43,H43,I43) -> 829180 | S43: =+IF(R43<20000,"Los precios son similares, sugiriendo un mercado estable y competitivo.","Existe gran diferencia, indicando alta volatilidad o falta de consenso en el valor. ") -> Existe gran diferencia, indicando alta volatilidad o falta de consenso en el valor. | T43: =+_xlfn.STDEV.P(D43,E43,F43,G43,H43,I43)/O43 -> 0.40893292 | U43: =+IF(T43<30%,"Los precios son homogéneos. Hay poca dispersión, indicando un mercado estable donde la mayoría de los productos se venden a precios cercanos al promedio","Existe una gran dispersión de precios, lo que indica alta volatilidad o falta de uniformidad en el mercado. La media pierde representatividad") -> Existe una gran dispersión de precios, lo que indica alta volatilidad o falta de uniformidad en el mercado. La media pierde representatividad
A44: 43 | B44: TERMOSTATO | D44: 821950 | E44: 873510.75 | F44: 423799 | G44: 205653 | H44: 1042200 | I44: 1083888 | K44: =+MIN(D44,E44,F44,G44,H44,I44) -> 205653 | L44: =+MAX(D44,E44,F44,G44,H44,I44) -> 1083888 | M44: =+GEOMEAN(E44,D44,F44,G44,H44,I44) -> 643019.31 | N44: =+MEDIAN(E44,D44,F44,G44,H44,I44) -> 847730.38 | O44: =+AVERAGE(E44,D44,F44,G44,H44,I44) -> 741833.46 | P44: =+K44 -> 205653 | R44: =+_xlfn.STDEV.S(D44,E44,F44,G44,H44,I44) -> 352026.8 | S44: =+IF(R44<20000,"Los precios son similares, sugiriendo un mercado estable y competitivo.","Existe gran diferencia, indicando alta volatilidad o falta de consenso en el valor. ") -> Existe gran diferencia, indicando alta volatilidad o falta de consenso en el valor. | T44: =+_xlfn.STDEV.P(D44,E44,F44,G44,H44,I44)/O44 -> 0.43319026 | U44: =+IF(T44<30%,"Los precios son homogéneos. Hay poca dispersión, indicando un mercado estable donde la mayoría de los productos se venden a precios cercanos al promedio","Existe una gran dispersión de precios, lo que indica alta volatilidad o falta de uniformidad en el mercado. La media pierde representatividad") -> Existe una gran dispersión de precios, lo que indica alta volatilidad o falta de uniformidad en el mercado. La media pierde representatividad
A45: 44 | B45: LIQUIDO REFRIGERANTE (GALÓN) | D45: 1056950 | E45: 1123438 | F45: 217560 | G45: 6987778 | H45: 265680 | I45: 276307 | K45: =+MIN(D45,E45,F45,G45,H45,I45) -> 217560 | L45: =+MAX(D45,E45,F45,G45,H45,I45) -> 6987778 | M45: =+GEOMEAN(E45,D45,F45,G45,H45,I45) -> 714022.79 | N45: =+MEDIAN(E45,D45,F45,G45,H45,I45) -> 666628.5 | O45: =+AVERAGE(E45,D45,F45,G45,H45,I45) -> 1654618.8 | P45: =+K45 -> 217560 | R45: =+_xlfn.STDEV.S(D45,E45,F45,G45,H45,I45) -> 2644843.3 | S45: =+IF(R45<20000,"Los precios son similares, sugiriendo un mercado estable y competitivo.","Existe gran diferencia, indicando alta volatilidad o falta de consenso en el valor. ") -> Existe gran diferencia, indicando alta volatilidad o falta de consenso en el valor. | T45: =+_xlfn.STDEV.P(D45,E45,F45,G45,H45,I45)/O45 -> 1.4591884 | U45: =+IF(T45<30%,"Los precios son homogéneos. Hay poca dispersión, indicando un mercado estable donde la mayoría de los productos se venden a precios cercanos al promedio","Existe una gran dispersión de precios, lo que indica alta volatilidad o falta de uniformidad en el mercado. La media pierde representatividad") -> Existe una gran dispersión de precios, lo que indica alta volatilidad o falta de uniformidad en el mercado. La media pierde representatividad
A46: 45 | B46: PLUMILLAS DELANTERAS X2 | D46: 207400 | E46: 220357.54 | F46: 483423 | G46: 2533255 | H46: 259200 | I46: 269568 | K46: =+MIN(D46,E46,F46,G46,H46,I46) -> 207400 | L46: =+MAX(D46,E46,F46,G46,H46,I46) -> 2533255 | M46: =+GEOMEAN(E46,D46,F46,G46,H46,I46) -> 396924.32 | N46: =+MEDIAN(E46,D46,F46,G46,H46,I46) -> 264384 | O46: =+AVERAGE(E46,D46,F46,G46,H46,I46) -> 662200.59 | P46: =+K46 -> 207400 | R46: =+_xlfn.STDEV.S(D46,E46,F46,G46,H46,I46) -> 922111.13 | S46: =+IF(R46<20000,"Los precios son similares, sugiriendo un mercado estable y competitivo.","Existe gran diferencia, indicando alta volatilidad o falta de consenso en el valor. ") -> Existe gran diferencia, indicando alta volatilidad o falta de consenso en el valor. | T46: =+_xlfn.STDEV.P(D46,E46,F46,G46,H46,I46)/O46 -> 1.2711684 | U46: =+IF(T46<30%,"Los precios son homogéneos. Hay poca dispersión, indicando un mercado estable donde la mayoría de los productos se venden a precios cercanos al promedio","Existe una gran dispersión de precios, lo que indica alta volatilidad o falta de uniformidad en el mercado. La media pierde representatividad") -> Existe una gran dispersión de precios, lo que indica alta volatilidad o falta de uniformidad en el mercado. La media pierde representatividad
