Workbook
Name ACCIÒN: #REF!
Name AREAS: #REF!
Name IMPACTO: #REF!
Name PROBABILIDAD: #REF!
Name PROCESOS: #REF!

Sheet Portada

Sheet Instructivo
A1: INSTRUCTIVO
A2: En la identificación de los riesgos contractuales se deberá tener en cuenta los siguientes aspectos: (a) los eventos que impidan la adjudicación y firma del contrato como resultado del Proceso de Contratación; (b) los eventos que alteren la ejecución del contrato; (c) el equilibrio económico del contrato; (d) la eficacia del Proceso de Contratación, es decir, que la Entidad Estatal pueda satisfacer la necesidad que motivó el Proceso de Contratación; y (e) la reputación y legitimidad de la Entidad Estatal encargada de prestar el bien o servicio. Un manejo adecuado del Riesgo permite a las Entidades Estatales: (i) proporcionar un mayor nivel de certeza y conocimiento para la toma de decisiones relacionadas con el Proceso de Contratación; (ii) mejorar la planeación de contingencias del Proceso de Contratación; (iii) incrementar el grado de confianza entre las partes del Proceso de Contratación; y (iv) reducir la posibilidad de litigios; entre otros.
A4: ESCALA DE VALORACIÓN DE RIESGOS CONTRACTUALES
B6: IMPACTO | K6: ZONA DE RIESGO
B7: Valoración | E7: INSIGNIFICANTE | F7: MENOR | G7: MODERADO | H7: MAYOR | I7: EXTREMO | K7: RIESGO | L7: Valoración del Riesgo
E8: 1 | F8: 2 | G8: 3 | H8: 4 | I8: 5 | K8: BAJO | L8: 2, 3 y 4
B9: PROBABILIDAD | C9: RARO | D9: 1 | E9: 2 | F9: 3 | G9: 4 | H9: 5 | I9: 6 | K9: MEDIO | L9: 5
C10: IMPROBABLE | D10: 2 | E10: 3 | F10: 4 | G10: 5 | H10: 6 | I10: 7 | K10: ALTO | L10: 6 y 7
C11: POSIBLE | D11: 3 | E11: 4 | F11: 5 | G11: 6 | H11: 7 | I11: 8 | K11: CRITICO | L11: 8, 9 y 10
C12: PROBABLE | D12: 4 | E12: 5 | F12: 6 | G12: 7 | H12: 8 | I12: 9
C13: CASI CIERTO | D13: 5 | E13: 6 | F13: 7 | G13: 8 | H13: 9 | I13: 10

Sheet Matriz de Riesgos Contractuales
A1: MATRIZ DE RIESGOS
A2: De acuerdo con las disposiciones del artículo 2.2.1.1.1.6.1. del Decreto 1082 de 2015 y con base en la metodología para identificar y clasificar los riesgos elaborado por Colombia Compra Eficiente procede a tipificar, estimar y asignar los riesgos de la presente contratación. Seguidamente, se identifican y describen los riesgos, según el tipo y la etapa del proceso de contratación en la que ocurre. Luego, se evalúan los riegos teniendo en cuenta su impacto y su probabilidad de ocurrencia.
A3: OBJETO CONTRACTUAL: | F3: SUMINISTRO DE ELEMENTOS CON DESTINO AL CONSEJO MUNICIPAL DE JUVENTUDES Y LA PLATAFORMA MUNICIPAL DE JUVENTUDES DEL MUNICIPIO DE MIRAFLORES, BOYACÁ, VIGENCIA 2026
A4: MODALIDAD | F4: CONTRATACION DE MINIMA CUANTIA
A5: IDENTIFICACIÓN DE RIESGO | H5: VALORACIÓN DEL RIESGO | O5: TRATAMIENTO / CONTROL DEL RIESGO | Z5: MONITOREO Y REVISIÓN
O6: TRATAMIENTOS / CONTROLES A SER IMPLEMENTADOS | P6: RIESGO RESIDUAL | V6: ANALISIS DE CONTROLES
A7: Nº | B7: CLASE | C7: FUENTE | D7: ETAPA | E7: TIPO | F7: DESCRIPCIÓN QUE PUEDE PASAR Y, CÓMO PUEDE OCURRIR | G7: CONSECUENCIA DE LA OCURRENCIA DEL EVENTO | H7: PROBABILIDAD | J7: IMPACTO | L7: VALOR DEL RIESGO | M7: CATEGORÍA | N7: ¿A QUIÉN SE LE ASIGNA? | P7: DESPUES DEL TRATAMIENTO | T7: VALOR DEL RIESGO | U7: CATEGORÍA | V7: AFECTA LA EJECUCIÓN DEL CONTRATO | W7: PERSONA RESPONSABLE POR IMPLEMENTAR EL TRATAMIENTO | X7: FECHA ESTIMADA EN QUE SE INICIA EL TRATAMIENTO | Y7: FECHA ESTIMADA EN QUE SE COMPLETA EL TRATAMIENTO
H8: CATEGORÍA | I8: VALORACIÓN | J8: CATEGORÍA | K8: VALORACIÓN | P8: PROBABILIDAD | R8: IMPACTO
P9: CATEGORÍA | Q9: VALORACIÓN | R9: CATEGORÍA | S9: VALORACIÓN | Z9: ¿CÓMO SE REALIZA EL MONITOREO | AA9: PERIODICIDAD ¿CUÁNDO?
A10: 0 | B10: ESPECIFICO | C10: INTERNO | D10: PLANEACIÓN | E10: RIESGOS OPERACIONALES | F10: Incumplimiento de requisitos de experiencia por parte del contratista | G10: Retraso en el inicio del contrato | H10: IMPROBABLE | I10: =IF(H10=Instructivo!$C$9,Instructivo!$D$9,IF(H10=Instructivo!$C$10,Instructivo!$D$10,IF(H10=Instructivo!$C$11,Instructivo!$D$11,IF(H10=Instructivo!$C$12,Instructivo!$D$12,IF(H10=Instructivo!$C$13,Instructivo!$D$13,))))) -> 2 | J10: MODERADO | K10: =IF(J10=Instructivo!$E$7,Instructivo!$E$8,IF(J10=Instructivo!$F$7,Instructivo!$F$8,IF(J10=Instructivo!$G$7,Instructivo!$G$8,IF(J10=Instructivo!$H$7,Instructivo!$H$8,IF(J10=Instructivo!$I$7,Instructivo!$I$8,))))) -> 3 | L10: =I10+K10 -> 5 | M10: =IF(L10=0,"",IF(L10<=4,"BAJO",IF(AND(L10=5),"MEDIO",IF(AND(L10<=7),"ALTO",IF(L10<=10,"CRITICO",""))))) -> MEDIO | N10: CONTRATISTA | O10: Verificación de hoja de vida y certificaciones de soporte | P10: RARO | Q10: =IF(P10=Instructivo!$C$9,Instructivo!$D$9,IF(P10=Instructivo!$C$10,Instructivo!$D$10,IF(P10=Instructivo!$C$11,Instructivo!$D$11,IF(P10=Instructivo!$C$12,Instructivo!$D$12,IF(P10=Instructivo!$C$13,Instructivo!$D$13,))))) -> 1 | R10: INSIGNIFICANTE | S10: =IF(R10=Instructivo!$E$7,Instructivo!$E$8,IF(R10=Instructivo!$F$7,Instructivo!$F$8,IF(R10=Instructivo!$G$7,Instructivo!$G$8,IF(R10=Instructivo!$H$7,Instructivo!$H$8,IF(R10=Instructivo!$I$7,Instructivo!$I$8,))))) -> 1 | T10: =Q10+S10 -> 2 | U10: =IF(T10=0,"",IF(T10<=4,"BAJO",IF(AND(T10=5),"MEDIO",IF(AND(T10<=7),"ALTO",IF(T10<=10,"CRITICO",""))))) -> BAJO | V10: SI | W10: CONTRATISTA | X10: DESDE LA ELABORACIÓN DE ESTUDIOS PREVIOS | Y10: HASTA LA FIRMA DE ACTA DE INICIO | Z10: Seguimiento a la documentación que soporta la contratación | AA10: SEGÚN CRONOGRAMA DE ENTREGA
A11: 1 | B11: GENERAL | C11: INTERNO | D11: CONTRATACIÓN | E11: RIESGOS OPERACIONALES | F11: Documentación incompleta por parte del contratista impidiendo la legalización del contrato y la forma de pago | G11: Retraso en el inicio del contrato | H11: RARO | I11: =IF(H11=Instructivo!$C$9,Instructivo!$D$9,IF(H11=Instructivo!$C$10,Instructivo!$D$10,IF(H11=Instructivo!$C$11,Instructivo!$D$11,IF(H11=Instructivo!$C$12,Instructivo!$D$12,IF(H11=Instructivo!$C$13,Instructivo!$D$13,))))) -> 1 | J11: INSIGNIFICANTE | K11: =IF(J11=Instructivo!$E$7,Instructivo!$E$8,IF(J11=Instructivo!$F$7,Instructivo!$F$8,IF(J11=Instructivo!$G$7,Instructivo!$G$8,IF(J11=Instructivo!$H$7,Instructivo!$H$8,IF(J11=Instructivo!$I$7,Instructivo!$I$8,))))) -> 1 | L11: =I11+K11 -> 2 | M11: =IF(L11=0,"",IF(L11<=4,"BAJO",IF(AND(L11=5),"MEDIO",IF(AND(L11<=7),"ALTO",IF(L11<=10,"CRITICO",""))))) -> BAJO | N11: CONTRATISTA | O11: Control frente a los tiempos de entrega de la documentación y posterior entrega de pólizas por parte del contratista | P11: RARO | Q11: =IF(P11=Instructivo!$C$9,Instructivo!$D$9,IF(P11=Instructivo!$C$10,Instructivo!$D$10,IF(P11=Instructivo!$C$11,Instructivo!$D$11,IF(P11=Instructivo!$C$12,Instructivo!$D$12,IF(P11=Instructivo!$C$13,Instructivo!$D$13,))))) -> 1 | R11: INSIGNIFICANTE | S11: =IF(R11=Instructivo!$E$7,Instructivo!$E$8,IF(R11=Instructivo!$F$7,Instructivo!$F$8,IF(R11=Instructivo!$G$7,Instructivo!$G$8,IF(R11=Instructivo!$H$7,Instructivo!$H$8,IF(R11=Instructivo!$I$7,Instructivo!$I$8,))))) -> 1 | T11: =Q11+S11 -> 2 | U11: =IF(T11=0,"",IF(T11<=4,"BAJO",IF(AND(T11=5),"MEDIO",IF(AND(T11<=7),"ALTO",IF(T11<=10,"CRITICO",""))))) -> BAJO | V11: SI | W11: SUPERVISOR, CONTRATOS | X11: DESDE LA SUSCRIPCIÓN DE LA MINUTA CONTRACTUAL | Y11: HASTA LA FIRMA DE ACTA DE INICIO | Z11: Control frente a los tiempos de entrega de la documentación y posterior entrega de pólizas por parte del contratista | AA11: 1 VEZ
A12: 2 | B12: GENERAL | C12: EXTERNO | D12: CONTRATACIÓN | E12: RIESGOS OPERACIONALES | F12: Retraso o no obtención de pólizas de cumplimiento como garantía al contrato del servicio pactado | G12: Afectación en la consecución del objetivo contractual | H12: RARO | I12: =IF(H12=Instructivo!$C$9,Instructivo!$D$9,IF(H12=Instructivo!$C$10,Instructivo!$D$10,IF(H12=Instructivo!$C$11,Instructivo!$D$11,IF(H12=Instructivo!$C$12,Instructivo!$D$12,IF(H12=Instructivo!$C$13,Instructivo!$D$13,))))) -> 1 | J12: MENOR | K12: =IF(J12=Instructivo!$E$7,Instructivo!$E$8,IF(J12=Instructivo!$F$7,Instructivo!$F$8,IF(J12=Instructivo!$G$7,Instructivo!$G$8,IF(J12=Instructivo!$H$7,Instructivo!$H$8,IF(J12=Instructivo!$I$7,Instructivo!$I$8,))))) -> 2 | L12: =I12+K12 -> 3 | M12: =IF(L12=0,"",IF(L12<=4,"BAJO",IF(AND(L12=5),"MEDIO",IF(AND(L12<=7),"ALTO",IF(L12<=10,"CRITICO",""))))) -> BAJO | N12: CONTRATISTA | O12: Verificación de pólizas de cumplimiento | P12: RARO | Q12: =IF(P12=Instructivo!$C$9,Instructivo!$D$9,IF(P12=Instructivo!$C$10,Instructivo!$D$10,IF(P12=Instructivo!$C$11,Instructivo!$D$11,IF(P12=Instructivo!$C$12,Instructivo!$D$12,IF(P12=Instructivo!$C$13,Instructivo!$D$13,))))) -> 1 | R12: MENOR | S12: =IF(R12=Instructivo!$E$7,Instructivo!$E$8,IF(R12=Instructivo!$F$7,Instructivo!$F$8,IF(R12=Instructivo!$G$7,Instructivo!$G$8,IF(R12=Instructivo!$H$7,Instructivo!$H$8,IF(R12=Instructivo!$I$7,Instructivo!$I$8,))))) -> 2 | T12: =Q12+S12 -> 3 | U12: =IF(T12=0,"",IF(T12<=4,"BAJO",IF(AND(T12=5),"MEDIO",IF(AND(T12<=7),"ALTO",IF(T12<=10,"CRITICO",""))))) -> BAJO | V12: SI | W12: CONTRATISTA | X12: DESDE LA SUSCRIPCIÓN DE LA MINUTA CONTRACTUAL | Y12: HASTA LA APROBACIÓN DE PÓLIZAS | Z12: Seguimiento del contrato por parte del supervisor y exigencias de entregarles frente a los trámites que adelante el contratista. A demás recordar al contratista que es una obligación del clausulado contractual | AA12: DIARIO, HASTA LA APROBACIÓN DE PÓLIZAS
A13: 3 | B13: ESPECIFICO | C13: EXTERNO | D13: EJECUCIÓN | E13: RIESGOS OPERACIONALES | F13: Incumplimiento del objeto contractual por parte del contratista | G13: Retraso en ejecución del contrato | H13: POSIBLE | I13: =IF(H13=Instructivo!$C$9,Instructivo!$D$9,IF(H13=Instructivo!$C$10,Instructivo!$D$10,IF(H13=Instructivo!$C$11,Instructivo!$D$11,IF(H13=Instructivo!$C$12,Instructivo!$D$12,IF(H13=Instructivo!$C$13,Instructivo!$D$13,))))) -> 3 | J13: MENOR | K13: =IF(J13=Instructivo!$E$7,Instructivo!$E$8,IF(J13=Instructivo!$F$7,Instructivo!$F$8,IF(J13=Instructivo!$G$7,Instructivo!$G$8,IF(J13=Instructivo!$H$7,Instructivo!$H$8,IF(J13=Instructivo!$I$7,Instructivo!$I$8,))))) -> 2 | L13: =I13+K13 -> 5 | M13: =IF(L13=0,"",IF(L13<=4,"BAJO",IF(AND(L13=5),"MEDIO",IF(AND(L13<=7),"ALTO",IF(L13<=10,"CRITICO",""))))) -> MEDIO | N13: CONTRATISTA | O13: Seguimiento a cumplimiento contractual | P13: POSIBLE | Q13: =IF(P13=Instructivo!$C$9,Instructivo!$D$9,IF(P13=Instructivo!$C$10,Instructivo!$D$10,IF(P13=Instructivo!$C$11,Instructivo!$D$11,IF(P13=Instructivo!$C$12,Instructivo!$D$12,IF(P13=Instructivo!$C$13,Instructivo!$D$13,))))) -> 3 | R13: MENOR | S13: =IF(R13=Instructivo!$E$7,Instructivo!$E$8,IF(R13=Instructivo!$F$7,Instructivo!$F$8,IF(R13=Instructivo!$G$7,Instructivo!$G$8,IF(R13=Instructivo!$H$7,Instructivo!$H$8,IF(R13=Instructivo!$I$7,Instructivo!$I$8,))))) -> 2 | T13: =Q13+S13 -> 5 | U13: =IF(T13=0,"",IF(T13<=4,"BAJO",IF(AND(T13=5),"MEDIO",IF(AND(T13<=7),"ALTO",IF(T13<=10,"CRITICO",""))))) -> MEDIO | V13: SI | W13: CONTRATISTA / AREA DE CONTRATOS | X13: DESDE LA SUSCRIPCIÓN DE LA MINUTA CONTRACTUAL | Y13: HASTA LA FINALIZACIÓN DEL CONTRATO | Z13: Seguimiento a cumplimiento contractual | AA13: SEGÚN CRONOGRAMA
A14: 4 | B14: GENERAL | C14: EXTERNO | D14: EJECUCIÓN | E14: RIESGOS REGULATORIOS | F14: Riesgos ocasionados por cambios de normatividad | G14: Cambios normativos en cada uno de los procesos | H14: RARO | I14: =IF(H14=Instructivo!$C$9,Instructivo!$D$9,IF(H14=Instructivo!$C$10,Instructivo!$D$10,IF(H14=Instructivo!$C$11,Instructivo!$D$11,IF(H14=Instructivo!$C$12,Instructivo!$D$12,IF(H14=Instructivo!$C$13,Instructivo!$D$13,))))) -> 1 | J14: MENOR | K14: =IF(J14=Instructivo!$E$7,Instructivo!$E$8,IF(J14=Instructivo!$F$7,Instructivo!$F$8,IF(J14=Instructivo!$G$7,Instructivo!$G$8,IF(J14=Instructivo!$H$7,Instructivo!$H$8,IF(J14=Instructivo!$I$7,Instructivo!$I$8,))))) -> 2 | L14: =I14+K14 -> 3 | M14: =IF(L14=0,"",IF(L14<=4,"BAJO",IF(AND(L14=5),"MEDIO",IF(AND(L14<=7),"ALTO",IF(L14<=10,"CRITICO",""))))) -> BAJO | N14: 50% ENTIDAD CONTRATANTE Y 50% CONTRATISTA | O14: Revisión de la Normatividad | P14: RARO | Q14: =IF(P14=Instructivo!$C$9,Instructivo!$D$9,IF(P14=Instructivo!$C$10,Instructivo!$D$10,IF(P14=Instructivo!$C$11,Instructivo!$D$11,IF(P14=Instructivo!$C$12,Instructivo!$D$12,IF(P14=Instructivo!$C$13,Instructivo!$D$13,))))) -> 1 | R14: MENOR | S14: =IF(R14=Instructivo!$E$7,Instructivo!$E$8,IF(R14=Instructivo!$F$7,Instructivo!$F$8,IF(R14=Instructivo!$G$7,Instructivo!$G$8,IF(R14=Instructivo!$H$7,Instructivo!$H$8,IF(R14=Instructivo!$I$7,Instructivo!$I$8,))))) -> 2 | T14: =Q14+S14 -> 3 | U14: =IF(T14=0,"",IF(T14<=4,"BAJO",IF(AND(T14=5),"MEDIO",IF(AND(T14<=7),"ALTO",IF(T14<=10,"CRITICO",""))))) -> BAJO | V14: SI | W14: DIRECCIÓN CORPORATIVA, ÁREA DE CONTRATOS | X14: DESDE LA ELABORACIÓN DE ESTUDIOS PREVIOS | Y14: HASTA LA FIRMA DE ACTA DE INICIO | Z14: Revisión de la Normatividad | AA14: HASTA LA FIRMA DE ACTA DE INICIO
A15: 5 | B15: GENERAL | C15: EXTERNO | D15: EJECUCIÓN | E15: RIESGOS SOCIALES O POLITICOS | F15: Afectación en la ejecución del contrato por situaciones de orden público | G15: Retraso en ejecución del contrato | H15: RARO | I15: =IF(H15=Instructivo!$C$9,Instructivo!$D$9,IF(H15=Instructivo!$C$10,Instructivo!$D$10,IF(H15=Instructivo!$C$11,Instructivo!$D$11,IF(H15=Instructivo!$C$12,Instructivo!$D$12,IF(H15=Instructivo!$C$13,Instructivo!$D$13,))))) -> 1 | J15: MENOR | K15: =IF(J15=Instructivo!$E$7,Instructivo!$E$8,IF(J15=Instructivo!$F$7,Instructivo!$F$8,IF(J15=Instructivo!$G$7,Instructivo!$G$8,IF(J15=Instructivo!$H$7,Instructivo!$H$8,IF(J15=Instructivo!$I$7,Instructivo!$I$8,))))) -> 2 | L15: =I15+K15 -> 3 | M15: =IF(L15=0,"",IF(L15<=4,"BAJO",IF(AND(L15=5),"MEDIO",IF(AND(L15<=7),"ALTO",IF(L15<=10,"CRITICO",""))))) -> BAJO | N15: ENTIDAD CONTRATANTE | O15: Seguimiento detallado y reprogamación de actividades | P15: RARO | Q15: =IF(P15=Instructivo!$C$9,Instructivo!$D$9,IF(P15=Instructivo!$C$10,Instructivo!$D$10,IF(P15=Instructivo!$C$11,Instructivo!$D$11,IF(P15=Instructivo!$C$12,Instructivo!$D$12,IF(P15=Instructivo!$C$13,Instructivo!$D$13,))))) -> 1 | R15: MENOR | S15: =IF(R15=Instructivo!$E$7,Instructivo!$E$8,IF(R15=Instructivo!$F$7,Instructivo!$F$8,IF(R15=Instructivo!$G$7,Instructivo!$G$8,IF(R15=Instructivo!$H$7,Instructivo!$H$8,IF(R15=Instructivo!$I$7,Instructivo!$I$8,))))) -> 2 | T15: =Q15+S15 -> 3 | U15: =IF(T15=0,"",IF(T15<=4,"BAJO",IF(AND(T15=5),"MEDIO",IF(AND(T15<=7),"ALTO",IF(T15<=10,"CRITICO",""))))) -> BAJO | V15: SI | W15: 50 % ENTIDAD CONTRATANTE / 50% CONTRATISTA | X15: DESDE ACTA DE INICIO | Y15: HASTA LA FINALIZACIÓN DEL PLAZO CONTRACTUAL | Z15: Seguimiento detallado de reprogamación de actividades | AA15: MENSUAL
A16: 6 | B16: GENERAL | C16: EXTERNO | D16: EJECUCIÓN | E16: RIESGOS AMBIENTALES | F16: Afectación en el desarrollo del contrato por fenómenos naturales como temblores, inundaciones, lluvias, sequías, entre otros. | G16: Retraso en la ejecución del contrato | H16: RARO | I16: =IF(H16=Instructivo!$C$9,Instructivo!$D$9,IF(H16=Instructivo!$C$10,Instructivo!$D$10,IF(H16=Instructivo!$C$11,Instructivo!$D$11,IF(H16=Instructivo!$C$12,Instructivo!$D$12,IF(H16=Instructivo!$C$13,Instructivo!$D$13,))))) -> 1 | J16: MENOR | K16: =IF(J16=Instructivo!$E$7,Instructivo!$E$8,IF(J16=Instructivo!$F$7,Instructivo!$F$8,IF(J16=Instructivo!$G$7,Instructivo!$G$8,IF(J16=Instructivo!$H$7,Instructivo!$H$8,IF(J16=Instructivo!$I$7,Instructivo!$I$8,))))) -> 2 | L16: =I16+K16 -> 3 | M16: =IF(L16=0,"",IF(L16<=4,"BAJO",IF(AND(L16=5),"MEDIO",IF(AND(L16<=7),"ALTO",IF(L16<=10,"CRITICO",""))))) -> BAJO | N16: 50% ENTIDAD CONTRATANTE Y 50% CONTRATISTA | O16: Verificación de la implementacion de sistema de monitoreo del riesgo y prevención y verificación de la alternativa de solución | P16: RARO | Q16: =IF(P16=Instructivo!$C$9,Instructivo!$D$9,IF(P16=Instructivo!$C$10,Instructivo!$D$10,IF(P16=Instructivo!$C$11,Instructivo!$D$11,IF(P16=Instructivo!$C$12,Instructivo!$D$12,IF(P16=Instructivo!$C$13,Instructivo!$D$13,))))) -> 1 | R16: MENOR | S16: =IF(R16=Instructivo!$E$7,Instructivo!$E$8,IF(R16=Instructivo!$F$7,Instructivo!$F$8,IF(R16=Instructivo!$G$7,Instructivo!$G$8,IF(R16=Instructivo!$H$7,Instructivo!$H$8,IF(R16=Instructivo!$I$7,Instructivo!$I$8,))))) -> 2 | T16: =Q16+S16 -> 3 | U16: =IF(T16=0,"",IF(T16<=4,"BAJO",IF(AND(T16=5),"MEDIO",IF(AND(T16<=7),"ALTO",IF(T16<=10,"CRITICO",""))))) -> BAJO | V16: SI | W16: 50 % ENTIDAD CONTRATANTE / 50% CONTRATISTA | X16: DESDE ACTA DE INICIO | Y16: FINAL DE LA EJECUCIÓN CONTRACTUAL | Z16: Verificación de la implementacion de sistema de monitoreo del riesgo y prevención y verificación de la alternativa de solución | AA16: CADA VEZ QUE QUE SE PRESENTE UNA ALERTA
A17: 7 | B17: ESPECIFICO | C17: EXTERNO | D17: EJECUCIÓN | E17: RIESGOS FINANCIEROS | F17: Variaciones en las normas del régimen tributario o cambiario de obligatorio cumplimiento por las partes, que modifiquen las condiciones pactadas en el contrato | G17: Retraso en la ejecución del contrato | H17: RARO | I17: =IF(H17=Instructivo!$C$9,Instructivo!$D$9,IF(H17=Instructivo!$C$10,Instructivo!$D$10,IF(H17=Instructivo!$C$11,Instructivo!$D$11,IF(H17=Instructivo!$C$12,Instructivo!$D$12,IF(H17=Instructivo!$C$13,Instructivo!$D$13,))))) -> 1 | J17: MENOR | K17: =IF(J17=Instructivo!$E$7,Instructivo!$E$8,IF(J17=Instructivo!$F$7,Instructivo!$F$8,IF(J17=Instructivo!$G$7,Instructivo!$G$8,IF(J17=Instructivo!$H$7,Instructivo!$H$8,IF(J17=Instructivo!$I$7,Instructivo!$I$8,))))) -> 2 | L17: =I17+K17 -> 3 | M17: =IF(L17=0,"",IF(L17<=4,"BAJO",IF(AND(L17=5),"MEDIO",IF(AND(L17<=7),"ALTO",IF(L17<=10,"CRITICO",""))))) -> BAJO | N17: 50% ENTIDAD CONTRATANTE Y 50% CONTRATISTA | O17: Seguimiento a los valores pactados en el contrato | P17: RARO | Q17: =IF(P17=Instructivo!$C$9,Instructivo!$D$9,IF(P17=Instructivo!$C$10,Instructivo!$D$10,IF(P17=Instructivo!$C$11,Instructivo!$D$11,IF(P17=Instructivo!$C$12,Instructivo!$D$12,IF(P17=Instructivo!$C$13,Instructivo!$D$13,))))) -> 1 | R17: MENOR | S17: =IF(R17=Instructivo!$E$7,Instructivo!$E$8,IF(R17=Instructivo!$F$7,Instructivo!$F$8,IF(R17=Instructivo!$G$7,Instructivo!$G$8,IF(R17=Instructivo!$H$7,Instructivo!$H$8,IF(R17=Instructivo!$I$7,Instructivo!$I$8,))))) -> 2 | T17: =Q17+S17 -> 3 | U17: =IF(T17=0,"",IF(T17<=4,"BAJO",IF(AND(T17=5),"MEDIO",IF(AND(T17<=7),"ALTO",IF(T17<=10,"CRITICO",""))))) -> BAJO | V17: SI | W17: 50 % ENTIDAD CONTRATANTE / 50% CONTRATISTA | X17: DESDE LA EVALUACIÓN TÉCNICA CONTRACTUAL | Y17: HASTA LA FIRMA DE ACTA DE INICIO | Z17: Seguimiento a los valores pactados en el contrato | AA17: SEGÚN CRONOGRAMA DE ENTREGA
A18: 8 | B18: ESPECIFICO | C18: EXTERNO | D18: CONTRATACIÓN | E18: RIESGOS OPERACIONALES | F18: Prestación deficiente del servicio contratado por parte del contratista (en condiciones de tiempo, modo y lugar). | G18: Retraso en la ejecución del contrato | H18: POSIBLE | I18: =IF(H18=Instructivo!$C$9,Instructivo!$D$9,IF(H18=Instructivo!$C$10,Instructivo!$D$10,IF(H18=Instructivo!$C$11,Instructivo!$D$11,IF(H18=Instructivo!$C$12,Instructivo!$D$12,IF(H18=Instructivo!$C$13,Instructivo!$D$13,))))) -> 3 | J18: MENOR | K18: =IF(J18=Instructivo!$E$7,Instructivo!$E$8,IF(J18=Instructivo!$F$7,Instructivo!$F$8,IF(J18=Instructivo!$G$7,Instructivo!$G$8,IF(J18=Instructivo!$H$7,Instructivo!$H$8,IF(J18=Instructivo!$I$7,Instructivo!$I$8,))))) -> 2 | L18: =I18+K18 -> 5 | M18: =IF(L18=0,"",IF(L18<=4,"BAJO",IF(AND(L18=5),"MEDIO",IF(AND(L18<=7),"ALTO",IF(L18<=10,"CRITICO",""))))) -> MEDIO | N18: 50% ENTIDAD CONTRATANTE Y 50% CONTRATISTA | O18: Seguimiento a los valores pactados en el contrato | P18: POSIBLE | Q18: =IF(P18=Instructivo!$C$9,Instructivo!$D$9,IF(P18=Instructivo!$C$10,Instructivo!$D$10,IF(P18=Instructivo!$C$11,Instructivo!$D$11,IF(P18=Instructivo!$C$12,Instructivo!$D$12,IF(P18=Instructivo!$C$13,Instructivo!$D$13,))))) -> 3 | R18: MENOR | S18: =IF(R18=Instructivo!$E$7,Instructivo!$E$8,IF(R18=Instructivo!$F$7,Instructivo!$F$8,IF(R18=Instructivo!$G$7,Instructivo!$G$8,IF(R18=Instructivo!$H$7,Instructivo!$H$8,IF(R18=Instructivo!$I$7,Instructivo!$I$8,))))) -> 2 | T18: =Q18+S18 -> 5 | U18: =IF(T18=0,"",IF(T18<=4,"BAJO",IF(AND(T18=5),"MEDIO",IF(AND(T18<=7),"ALTO",IF(T18<=10,"CRITICO",""))))) -> MEDIO | V18: SI | W18: 50 % ENTIDAD CONTRATANTE / 50% CONTRATISTA | X18: DESDE LA FIRMA DEL ACTA DE INICIO | Y18: HASTA LA LIQUIDACIÓN DEL CONTRATO | Z18: Seguimiento a los valores pactados en el contrato | AA18: MENSUAL
A19: 9 | B19: ESPECIFICO | C19: EXTERNO | D19: EJECUCIÓN | E19: RIESGOS OPERACIONALES | F19: Difucultad de acceso a la información requerida por el contratista que le impidan cumplir con el servicio profesional pactado | G19: Retraso en la ejecución del contrato | H19: RARO | I19: =IF(H19=Instructivo!$C$9,Instructivo!$D$9,IF(H19=Instructivo!$C$10,Instructivo!$D$10,IF(H19=Instructivo!$C$11,Instructivo!$D$11,IF(H19=Instructivo!$C$12,Instructivo!$D$12,IF(H19=Instructivo!$C$13,Instructivo!$D$13,))))) -> 1 | J19: MENOR | K19: =IF(J19=Instructivo!$E$7,Instructivo!$E$8,IF(J19=Instructivo!$F$7,Instructivo!$F$8,IF(J19=Instructivo!$G$7,Instructivo!$G$8,IF(J19=Instructivo!$H$7,Instructivo!$H$8,IF(J19=Instructivo!$I$7,Instructivo!$I$8,))))) -> 2 | L19: =I19+K19 -> 3 | M19: =IF(L19=0,"",IF(L19<=4,"BAJO",IF(AND(L19=5),"MEDIO",IF(AND(L19<=7),"ALTO",IF(L19<=10,"CRITICO",""))))) -> BAJO | N19: 50% ENTIDAD CONTRATANTE Y 50% CONTRATISTA | O19: Seguimiento a los valores pactados en el contrato | P19: IMPROBABLE | Q19: =IF(P19=Instructivo!$C$9,Instructivo!$D$9,IF(P19=Instructivo!$C$10,Instructivo!$D$10,IF(P19=Instructivo!$C$11,Instructivo!$D$11,IF(P19=Instructivo!$C$12,Instructivo!$D$12,IF(P19=Instructivo!$C$13,Instructivo!$D$13,))))) -> 2 | R19: MENOR | S19: =IF(R19=Instructivo!$E$7,Instructivo!$E$8,IF(R19=Instructivo!$F$7,Instructivo!$F$8,IF(R19=Instructivo!$G$7,Instructivo!$G$8,IF(R19=Instructivo!$H$7,Instructivo!$H$8,IF(R19=Instructivo!$I$7,Instructivo!$I$8,))))) -> 2 | T19: =Q19+S19 -> 4 | U19: =IF(T19=0,"",IF(T19<=4,"BAJO",IF(AND(T19=5),"MEDIO",IF(AND(T19<=7),"ALTO",IF(T19<=10,"CRITICO",""))))) -> BAJO | V19: SI | W19: 50 % ENTIDAD CONTRATANTE / 50% CONTRATISTA | X19: DESDE LA FIRMA DEL ACTA DE INICIO | Y19: HASTA LA LIQUIDACIÓN DEL CONTRATO | Z19: Seguimiento a los valores pactados en el contrato | AA19: MENSUAL
A20: 10 | I20: =IF(H20=Instructivo!$C$9,Instructivo!$D$9,IF(H20=Instructivo!$C$10,Instructivo!$D$10,IF(H20=Instructivo!$C$11,Instructivo!$D$11,IF(H20=Instructivo!$C$12,Instructivo!$D$12,IF(H20=Instructivo!$C$13,Instructivo!$D$13,))))) -> 0 | K20: =IF(J20=Instructivo!$E$7,Instructivo!$E$8,IF(J20=Instructivo!$F$7,Instructivo!$F$8,IF(J20=Instructivo!$G$7,Instructivo!$G$8,IF(J20=Instructivo!$H$7,Instructivo!$H$8,IF(J20=Instructivo!$I$7,Instructivo!$I$8,))))) -> 0 | L20: =I20+K20 -> 0 | M20: =IF(L20=0,"",IF(L20<=4,"BAJO",IF(AND(L20=5),"MEDIO",IF(AND(L20<=7),"ALTO",IF(L20<=10,"CRITICO",""))))) | Q20: =IF(P20=Instructivo!$C$9,Instructivo!$D$9,IF(P20=Instructivo!$C$10,Instructivo!$D$10,IF(P20=Instructivo!$C$11,Instructivo!$D$11,IF(P20=Instructivo!$C$12,Instructivo!$D$12,IF(P20=Instructivo!$C$13,Instructivo!$D$13,))))) -> 0 | S20: =IF(R20=Instructivo!$E$7,Instructivo!$E$8,IF(R20=Instructivo!$F$7,Instructivo!$F$8,IF(R20=Instructivo!$G$7,Instructivo!$G$8,IF(R20=Instructivo!$H$7,Instructivo!$H$8,IF(R20=Instructivo!$I$7,Instructivo!$I$8,))))) -> 0 | T20: =Q20+S20 -> 0 | U20: =IF(T20=0,"",IF(T20<=4,"BAJO",IF(AND(T20=5),"MEDIO",IF(AND(T20<=7),"ALTO",IF(T20<=10,"CRITICO","")))))
A21: Para el diligenciamiento de esta matriz se debe consultar el “Manual para identificación y cobertura del Riesgo en los Procesos de Contratación a través del link: http://www.colombiacompra.gov.co/sites/default/files/manuales/cce_manual_riesgo_web.pdf

Sheet Resumen Gráfico
A1: RESUMEN GRÁFICO
B4: TIPO DEL RIESGO | F4: ZONA DEL RIESGO
B6: RIESGO | D6: RESULTADOS | F6: RIESGO | J6: RANGO DE VALORACIÓN DEL RIESGO | L6: RESULTADOS
B7: RIESGOS ECONOMICOS | D7: =COUNTIF('Matriz de Riesgos Contractuales'!$E$11:$E$20,'Resumen Gráfico'!B7) -> 0 | F7: BAJO | G7: Mitigado o eliminado | J7: 2, 3 y 4 | L7: =COUNTIF('Matriz de Riesgos Contractuales'!$M$11:$M$20,'Resumen Gráfico'!F7) -> 7
B8: RIESGOS SOCIALES O POLITICOS | D8: =COUNTIF('Matriz de Riesgos Contractuales'!$E$11:$E$20,'Resumen Gráfico'!B8) -> 1 | F8: MEDIO | G8: Asumir y Revisar | J8: 5 | L8: =COUNTIF('Matriz de Riesgos Contractuales'!$M$11:$M$20,'Resumen Gráfico'!F8) -> 2
B9: RIESGOS OPERACIONALES | D9: =COUNTIF('Matriz de Riesgos Contractuales'!$E$11:$E$20,'Resumen Gráfico'!B9) -> 5 | F9: ALTO | G9: Reducir, evitar o compartir | J9: 6 y 7 | L9: =COUNTIF('Matriz de Riesgos Contractuales'!$M$11:$M$20,'Resumen Gráfico'!F9) -> 0
B10: RIESGOS FINANCIEROS | D10: =COUNTIF('Matriz de Riesgos Contractuales'!$E$11:$E$20,'Resumen Gráfico'!B10) -> 1 | F10: CRITICO | G10: Reducir, evitar, compartir o transferir | J10: 8, 9 y 10 | L10: =COUNTIF('Matriz de Riesgos Contractuales'!$M$11:$M$20,'Resumen Gráfico'!F10) -> 0
B11: RIESGOS REGULATORIOS | D11: =COUNTIF('Matriz de Riesgos Contractuales'!$E$11:$E$20,'Resumen Gráfico'!B11) -> 1 | F11: TOTAL | L11: =SUM(L7:L10) -> 9
B12: RIESGOS DE LA NATURALEZA | D12: =COUNTIF('Matriz de Riesgos Contractuales'!$E$11:$E$20,'Resumen Gráfico'!B12) -> 0
B13: RIESGOS AMBIENTALES | D13: =COUNTIF('Matriz de Riesgos Contractuales'!$E$11:$E$20,'Resumen Gráfico'!B13) -> 1
B14: RIESGOS TECNOLOGICOS | D14: =COUNTIF('Matriz de Riesgos Contractuales'!$E$11:$E$20,'Resumen Gráfico'!B14) -> 0
B15: TOTAL | D15: =SUM(D7:D14) -> 9
B17: RESULTADOS DE RIESGOS DE CONTRATACIÓN RESIDUAL
B19: IMPACTO | M19: RESULTADOS
B20: Valoración | E20: INSIGNIFICANTE | F20: MENOR | G20: MODERADO | J20: MAYOR | L20: EXTREMO
E21: 1 | F21: 2 | G21: 3 | J21: 4 | L21: 5
B22: PROBABILIDAD | C22: RARO | D22: 1 | E22: =L7 -> 7 | F22: Riesgos Bajos | G22: =E22/(L11/100)/100 -> 0.77777778 | M22: =COUNTIF('Matriz de Riesgos Contractuales'!$U$11:$U$15,F7) -> 4
C23: IMPROBABLE | D23: 2 | G23: =L8 -> 2 | H23: Riesgos Medios | I23: =L8/(L11/100) -> 22.222222 | M23: =COUNTIF('Matriz de Riesgos Contractuales'!$U$11:$U$15,F8) -> 1
C24: POSIBLE | D24: 3 | H24: =L9 -> 0 | I24: Riesgos Altos | J24: =L9/(L11/100)/100 -> 0 | M24: =COUNTIF('Matriz de Riesgos Contractuales'!$U$11:$U$15,F9) -> 0
C25: PROBABLE | D25: 4 | M25: =COUNTIF('Matriz de Riesgos Contractuales'!$U$11:$U$15,F10) -> 0
C26: CASI CIERTO | D26: 5 | J26: =L10 -> 0 | K26: Riesgos Criticos | L26: =L10/(L11/100)/100 -> 0 | M26: =COUNTIF('Matriz de Riesgos Contractuales'!$U$11:$U$15,F11) -> 0
B27: TOTAL | M27: =SUM(M22:M26) -> 5

Sheet Lista Desplegable
A3: CLASE | C3: FUENTE | E3: ETAPA DE CONTRATACION | G3: TIPO DE RIESGO | I3: OPCION
A4: GENERAL | C4: INTERNO | E4: PLANEACIÓN | G4: RIESGOS ECONOMICOS | I4: SI
A5: ESPECIFICO | C5: EXTERNO | E5: SELECCIÓN | G5: RIESGOS SOCIALES O POLITICOS | I5: NO
E6: CONTRATACIÓN | G6: RIESGOS OPERACIONALES
E7: EJECUCIÓN | G7: RIESGOS FINANCIEROS
G8: RIESGOS REGULATORIOS
G9: RIESGOS DE LA NATURALEZA
G10: RIESGOS AMBIENTALES
G11: RIESGOS TECNOLOGICOS
A13: ZONA RESIDUAL
A15: BAJO: Mitigado o eliminado | B15: =COUNTIF(A$17:A$23,A15) -> 0
A16: MODERADO: Asumir y Revisar | B16: =COUNTIF(A$17:A$23,A16) -> 0
A17: ALTO: Reducir, evitar o compartir | B17: =COUNTIF(A$17:A$23,A17) -> 1
A18: EXTREMO: Reducir, evitar, compartir o transferir | B18: =COUNTIF(A$17:A$23,A18) -> 1
A19: TOTAL | B19: =SUM(B14:B18) -> 2
