Workbook
Name \0: #REF!
Name \00: #REF!
Name \a: #REF!
Name \a: #REF!
Name \AA: [1]LIQUIDACION!#REF!
Name \b: [2]STRSUMM0!#REF!
Name \bb: [2]STRSUMM0!#REF!
Name \E: #REF!
Name \EE: #REF!
Name \G: #REF!
Name \k: '[3]7422CW00'!#REF!
Name \l: [4]STRSUMM0!#REF!
Name \M: #REF!
Name \ñ: '[5]7422CW00'!#REF!
Name \P: #REF!
Name \R: #REF!
Name \s: #REF!
Name \s: #REF!
Name \V: #REF!
Name \X: 'INDICAR CÓDIGO DEL ITEM DE PAGO'!ERR
Name \X: [0]!ERR
Name \Z: 'INDICAR CÓDIGO DEL ITEM DE PAGO'!ERR
Name \Z: [0]!ERR
Name _________AFC1: [6]INV!$A$25:$D$28
Name _________AFC3: [6]INV!$F$25:$I$28
Name _________AFC5: [6]INV!$K$25:$N$28
Name _________BGC1: [6]INV!$A$5:$D$8
Name _________BGC3: [6]INV!$F$5:$I$8
Name _________BGC5: [6]INV!$K$5:$N$8
Name _________CAC1: [6]INV!$A$19:$D$22
Name _________CAC3: [6]INV!$F$19:$I$22
Name _________CAC5: [6]INV!$K$19:$N$22
Name _________PJ50: #REF!
Name _________PJ50: #REF!
Name _________SBC1: [6]INV!$A$12:$D$15
Name _________SBC3: [6]INV!$F$12:$I$15
Name _________SBC5: [6]INV!$K$12:$N$15
Name ________AFC1: [6]INV!$A$25:$D$28
Name ________AFC3: [6]INV!$F$25:$I$28
Name ________AFC5: [6]INV!$K$25:$N$28
Name ________BGC1: [6]INV!$A$5:$D$8
Name ________BGC3: [6]INV!$F$5:$I$8
Name ________BGC5: [6]INV!$K$5:$N$8
Name ________CAC1: [6]INV!$A$19:$D$22
Name ________CAC3: [6]INV!$F$19:$I$22
Name ________CAC5: [6]INV!$K$19:$N$22
Name ________MA2: #REF!
Name ________MA2: #REF!
Name ________PJ50: #REF!
Name ________PJ50: #REF!
Name ________SBC1: [6]INV!$A$12:$D$15
Name ________SBC3: [6]INV!$F$12:$I$15
Name ________SBC5: [6]INV!$K$12:$N$15
Name _______AFC1: [6]INV!$A$25:$D$28
Name _______AFC3: [6]INV!$F$25:$I$28
Name _______AFC5: [6]INV!$K$25:$N$28
Name _______BGC1: [6]INV!$A$5:$D$8
Name _______BGC3: [6]INV!$F$5:$I$8
Name _______BGC5: [6]INV!$K$5:$N$8
Name _______CAC1: [6]INV!$A$19:$D$22

Sheet PRESUPUESTO OFICIAL TOTAL
C3: Formulario 1 - Propuesta económica - Documento tipo de selección abreviada de menor cuantía - versión 2
C4: Código | D4: CCE-EICP-FM-25 | E4: Versión | F4: 2
C6: FORMULARIO 1
C7: PRESUPUESTO OFICIAL
C8: [La entidad puede utilizar este formulario de detalle del presupuesto oficial para determinar las condiciones bajo las cuales los proponentes analizarán y presentarán su propuesta económica de forma detallada, sin perjuicio que la entidad pueda modificarlo o establecer la presentación de la oferta económica con un formulario distinto al indicado.]
C10: Adicionalmente, cuando el proceso de contratación es estructurado por precios unitarios, la Entidad debe aplicar las notas 1, 2 y 3 del presente formulario y las casillas de "Descripción", "Porcentaje" de la Administración, Imprevisto, Utilidad y total A.I.U. resaltadas en colo amarillo. Tratándose de otras modalidades de precio, la Entidad puede o no configurar los mismos aspectos.
C11: CONTRATAR A PRECIOS UNITARIOS EL MEJORAMIENTO DE LAS VÍAS RURALES QUE CONDUCEN DESDE EL CASCO URBANO DEL MUNICIPIO DE SAN FRANCISCO, CUNDINAMARCA, HACIA: (I) LA VEREDA SAN MIGUEL, SECTOR TROPEZÓN ALDEA FELIZ, EN CUMPLIMIENTO DEL CONVENIO INTERADMINISTRATIVO ICCU No. 1519; (II) LA VEREDA EL PEÑÓN, SECTOR ALIPIO; Y (III) LA VEREDA MUÑA, SECTOR SOLANO.
C12: Nº | D12: ITEM DE PAGO | E12: ESPECIFICACIONES | G12: DESCRIPCION | H12: UND. | I12: CANTIDAD | J12: VALOR UNITARIO | K12: VALOR TOTAL
E13: GENERAL | F13: PARTICULAR
C14: MEJORAMIENTO DE LAS VÍAS RURALES QUE CONDUCEN DESDE EL CASCO URBANO DEL MUNICIPIO DE SAN FRANCISCO, CUNDINAMARCA, HACIA: (I) LA VEREDA SAN MIGUEL, SECTOR TROPEZÓN ALDEA FELIZ, EN CUMPLIMIENTO DEL CONVENIO INTERADMINISTRATIVO ICCU No. 1519
C15: 1 | D15: 2.13 | E15: 600 INVIAS | F15: 600.4 P | G15: EXCAVACIONES VARIAS EN MATERIAL COMÚN SECO A MANO (INCLUYE RETIRO DE SOBRANTES A UNA DISTANCIA MENOR DE 5 KM) | H15: M3 | I15: ='SAN MIGUEL-TROPEZON'!I15 -> 16.94 | J15: 86910.18 | K15: =ROUND(I15*J15,0) -> 1472258 | N15: 65346 | O15: =+N15*1.33 -> 86910.18
C16: 2 | D16: 4.6 | E16: 630 INVIAS | F16: 630.4 | G16: CONCRETOS CLASE D, f´c =3000 psi (bases) | H16: M3 | I16: ='SAN MIGUEL-TROPEZON'!I16 -> 64.88 | J16: 1082856.7 | K16: =ROUND(I16*J16,0) -> 70255745 | N16: 814178 | O16: =+N16*1.33 -> 1082856.7
C17: 3 | D17: 4.25 | E17: 630 INVIAS | F17: 630.7 | G17: CONCRETO CICLÓPEO CLASE G, 2000 PSI 40% RAJÓN PARA BASES | H17: M3 | I17: ='SAN MIGUEL-TROPEZON'!I17 -> 28.09 | J17: 743068.34 | K17: =ROUND(I17*J17,0) -> 20872790 | N17: 558698 | O17: =+N17*1.33 -> 743068.34
C18: 4 | D18: 4.21 | E18: 671 INVIAS | F18: 671.1 | G18: CUNETA DE CONCRETO CLASE E, 2500 PSI FUNDIDA EN EL LUGAR | H18: M3 | I18: ='SAN MIGUEL-TROPEZON'!I18 -> 41.32 | J18: 892592.26 | K18: =ROUND(I18*J18,0) -> 36881912 | N18: 671122 | O18: =+N18*1.33 -> 892592.26
C19: 5 | D19: 4.52 | E19: 640 INVIAS | F19: 640.1 | G19: SUMINISTRO FIGURADO Y ARMADO DE ACERO DE REFUERZO 60000 PSI | H19: KG | I19: ='SAN MIGUEL-TROPEZON'!I19 -> 6486.49 | J19: 10871.42 | K19: =ROUND(I19*J19,0) -> 70517357 | N19: 8174 | O19: =+N19*1.33 -> 10871.42
C20: Subtotal | K20: =K15+K16+K17+K18+K19 -> 200000062
C21: MEJORAMIENTO DE LAS VÍAS RURALES QUE CONDUCEN DESDE EL CASCO URBANO DEL MUNICIPIO DE SAN FRANCISCO, CUNDINAMARCA, HACIA (II) LA VEREDA EL PEÑÓN, SECTOR ALIPIO; Y (III) LA VEREDA MUÑA, SECTOR SOLANO.
C22: 1 | D22: 2.13 | E22: 600 INVIAS | F22: 600.4 P | G22: EXCAVACIONES VARIAS EN MATERIAL COMÚN SECO A MANO (INCLUYE RETIRO DE SOBRANTES A UNA DISTANCIA MENOR DE 5 KM) | H22: M3 | I22: ='PEÑON-ALIPIO'!I15+'MUÑA-SOLANO'!I15 -> 12.31 | J22: 95507.3 | K22: =ROUND(I22*J22,0) -> 1175695
C23: 2 | D23: 4.6 | E23: 630 INVIAS | F23: 630.4 | G23: CONCRETOS CLASE D, f´c =3000 psi (bases) | H23: M3 | I23: ='PEÑON-ALIPIO'!I16+'MUÑA-SOLANO'!I16 -> 44.13 | J23: 1184033.8 | K23: =ROUND(I23*J23,0) -> 52251413
C24: 3 | D24: 4.25 | E24: 630 INVIAS | F24: 630.7 | G24: CONCRETO CICLÓPEO CLASE G, 2000 PSI 40% RAJÓN PARA BASES | H24: M3 | I24: ='PEÑON-ALIPIO'!I17+'MUÑA-SOLANO'!I17 -> 33.21 | J24: 817064.22 | K24: =ROUND(I24*J24,0) -> 27134703
C25: 4 | D25: 4.21 | E25: 671 INVIAS | F25: 671.1 | G25: CUNETA DE CONCRETO CLASE E, 2500 PSI FUNDIDA EN EL LUGAR | H25: M3 | I25: ='PEÑON-ALIPIO'!I18+'MUÑA-SOLANO'!I18 -> 26.67 | J25: 980393.54 | K25: =ROUND(I25*J25,0) -> 26147096
C26: 5 | D26: 4.52 | E26: 640 INVIAS | F26: 640.1 | G26: SUMINISTRO FIGURADO Y ARMADO DE ACERO DE REFUERZO 60000 PSI | H26: KG | I26: ='PEÑON-ALIPIO'!I19+'MUÑA-SOLANO'!I19 -> 4623.65 | J26: 11525.78 | K26: =ROUND(I26*J26,0) -> 53291173
C27: Subtotal | K27: =SUM(K22:K26) -> 160000080
G29: SUBTOTAL OBRAS (INCLUYE IVA) | K29: =+K20+K27 -> 360000142
G30: AJUSTE | K30: -142
G31: VALOR TOTAL | K31: =+K29+K30 -> 360000000
C34: NOTA 1: Se debe tener en cuenta que el PRECIO UNITARIO incluye el valor de A.I.U. | H34: DESCRIPCION | K34: PORCENTAJE
C35: NOTA 2: Cuando la fracción decimal del peso sea igual o superior a 5 se aproximara por exceso al número entero siguiente del peso y cuando la fracción decimal del peso sea inferior a 5 se aproximará por defecto al número entero del peso. | H35: ADMINISTRACION | J35: A= | K35: 0.25
C36: NOTA 3: El A.I.U y su discriminación deben estar en porcentaje (%). | H36: IMPREVISTO | J36: I= | K36: 0.03
H37: UTILIDAD | J37: U= | K37: 0.05
H38: TOTAL A.I.U | J38: A.I.U.= | K38: 0.33

Sheet SAN MIGUEL-TROPEZON
C3: Formulario 1 - Propuesta económica - Documento tipo de selección abreviada de menor cuantía - versión 2
C4: Código | D4: CCE-EICP-FM-25 | E4: Versión | F4: 2
C6: FORMULARIO 1
C7: PRESUPUESTO OFICIAL
C8: [La entidad puede utilizar este formulario de detalle del presupuesto oficial para determinar las condiciones bajo las cuales los proponentes analizarán y presentarán su propuesta económica de forma detallada, sin perjuicio que la entidad pueda modificarlo o establecer la presentación de la oferta económica con un formulario distinto al indicado.]
C10: Adicionalmente, cuando el proceso de contratación es estructurado por precios unitarios, la Entidad debe aplicar las notas 1, 2 y 3 del presente formulario y las casillas de "Descripción", "Porcentaje" de la Administración, Imprevisto, Utilidad y total A.I.U. resaltadas en colo amarillo. Tratándose de otras modalidades de precio, la Entidad puede o no configurar los mismos aspectos.
C11: MEJORAMIENTO DE LAS VÍAS RURALES QUE CONDUCEN DESDE EL CASCO URBANO DEL MUNICIPIO DE SAN FRANCISCO, CUNDINAMARCA, HACIA: (I) LA VEREDA SAN MIGUEL, SECTOR TROPEZÓN ALDEA FELIZ, EN CUMPLIMIENTO DEL CONVENIO INTERADMINISTRATIVO ICCU No. 1519
C12: Nº | D12: ITEM DE PAGO | E12: ESPECIFICACIONES | G12: DESCRIPCION | H12: UND. | I12: CANTIDAD | J12: VALOR UNITARIO | K12: VALOR TOTAL
E13: GENERAL | F13: PARTICULAR
C15: 1 | D15: 2.13 | E15: 600 INVIAS | F15: 600.4 P | G15: EXCAVACIONES VARIAS EN MATERIAL COMÚN SECO A MANO (INCLUYE RETIRO DE SOBRANTES A UNA DISTANCIA MENOR DE 5 KM) | H15: M3 | I15: 16.94 | J15: 86910.18 | K15: =+I15*J15 -> 1472258.4
C16: 2 | D16: 4.6 | E16: 630 INVIAS | F16: 630.4 | G16: CONCRETOS CLASE D, f´c =3000 psi (bases) | H16: M3 | I16: 64.88 | J16: 1082856.7 | K16: =+I16*J16 -> 70255745
C17: 3 | D17: 4.25 | E17: 630 INVIAS | F17: 630.7 | G17: CONCRETO CICLÓPEO CLASE G, 2000 PSI 40% RAJÓN PARA BASES | H17: M3 | I17: 28.09 | J17: 743068.34 | K17: =+I17*J17 -> 20872790
C18: 4 | D18: 4.21 | E18: 671 INVIAS | F18: 671.1 | G18: CUNETA DE CONCRETO CLASE E, 2500 PSI FUNDIDA EN EL LUGAR | H18: M3 | I18: 41.32 | J18: 892592.26 | K18: =+I18*J18 -> 36881912
C19: 5 | D19: 4.52 | E19: 640 INVIAS | F19: 640.1 | G19: SUMINISTRO FIGURADO Y ARMADO DE ACERO DE REFUERZO 60000 PSI | H19: KG | I19: 6486.49 | J19: 10871.42 | K19: =+I19*J19 -> 70517357
C20: Subtotal | K20: =K15+K16+K17+K18+K19 -> 2.0000006e+08
C21: SUBTOTAL OBRAS | K21: =K20 -> 2.0000006e+08
G23: SUBTOTAL OBRAS (INCLUYE IVA) | K23: =K21 -> 2.0000006e+08
G24: AJUSTE | K24: -62.71
G25: VALOR TOTAL | K25: =+K23+K24 -> 2e+08
C28: NOTA 1: Se debe tener en cuenta que el PRECIO UNITARIO incluye el valor de A.I.U. | H28: DESCRIPCION | K28: PORCENTAJE
C29: NOTA 2: Cuando la fracción decimal del peso sea igual o superior a 5 se aproximara por exceso al número entero siguiente del peso y cuando la fracción decimal del peso sea inferior a 5 se aproximará por defecto al número entero del peso. | H29: ADMINISTRACION | J29: A= | K29: 0.25
C30: NOTA 3: El A.I.U y su discriminación deben estar en porcentaje (%). | H30: IMPREVISTO | J30: I= | K30: 0.03
H31: UTILIDAD | J31: U= | K31: 0.05
H32: TOTAL A.I.U | J32: A.I.U.= | K32: 0.33

Sheet PEÑON-ALIPIO
C3: Formulario 1 - Propuesta económica - Documento tipo de selección abreviada de menor cuantía - versión 2
C4: Código | D4: CCE-EICP-FM-25 | E4: Versión | F4: 2
C6: FORMULARIO 1
C7: PRESUPUESTO OFICIAL
C8: [La entidad puede utilizar este formulario de detalle del presupuesto oficial para determinar las condiciones bajo las cuales los proponentes analizarán y presentarán su propuesta económica de forma detallada, sin perjuicio que la entidad pueda modificarlo o establecer la presentación de la oferta económica con un formulario distinto al indicado.]
C10: Adicionalmente, cuando el proceso de contratación es estructurado por precios unitarios, la Entidad debe aplicar las notas 1, 2 y 3 del presente formulario y las casillas de "Descripción", "Porcentaje" de la Administración, Imprevisto, Utilidad y total A.I.U. resaltadas en colo amarillo. Tratándose de otras modalidades de precio, la Entidad puede o no configurar los mismos aspectos.
C11: MEJORAMIENTO DE LA VÍA QUE CONDUCE DEL CASCO URBANO A LA VEREDA EL PEÑON SECTOR ALIPIO DEL MUNICIPIO DE SAN FRANCISCO, CUNDINAMARCA
C12: Nº | D12: ITEM DE PAGO | E12: ESPECIFICACIONES | G12: DESCRIPCION | H12: UND. | I12: CANTIDAD | J12: VALOR UNITARIO | K12: VALOR TOTAL
E13: GENERAL | F13: PARTICULAR
C15: 1 | D15: 2.13 | E15: 600 INVIAS | F15: 600.4 P | G15: EXCAVACIONES VARIAS EN MATERIAL COMÚN SECO A MANO (INCLUYE RETIRO DE SOBRANTES A UNA DISTANCIA MENOR DE 5 KM) | H15: M3 | I15: 7.7 | J15: 95507.3 | K15: =+I15*J15 -> 735406.21 | N15: 71810 | O15: =+N15*1.33 -> 95507.3
C16: 2 | D16: 4.6 | E16: 630 INVIAS | F16: 630.4 | G16: CONCRETOS CLASE D, f´c =3000 psi (bases) | H16: M3 | I16: 27.95 | J16: 1184033.8 | K16: =+I16*J16 -> 33093746 | N16: 890251 | O16: =+N16*1.33 -> 1184033.8
C17: 3 | D17: 4.25 | E17: 630 INVIAS | F17: 630.7 | G17: CONCRETO CICLÓPEO CLASE G, 2000 PSI 40% RAJÓN PARA BASES | H17: M3 | I17: 19 | J17: 817064.22 | K17: =+I17*J17 -> 15524220 | N17: 614334 | O17: =+N17*1.33 -> 817064.22
C18: 4 | D18: 4.21 | E18: 671 INVIAS | F18: 671.1 | G18: CUNETA DE CONCRETO CLASE E, 2500 PSI FUNDIDA EN EL LUGAR | H18: M3 | I18: 17.07 | J18: 980393.54 | K18: =+I18*J18 -> 16735318 | N18: 737138 | O18: =+N18*1.33 -> 980393.54
C19: 5 | D19: 4.52 | E19: 640 INVIAS | F19: 640.1 | G19: SUMINISTRO FIGURADO Y ARMADO DE ACERO DE REFUERZO 60000 PSI | H19: KG | I19: 2942.22 | J19: 11525.78 | K19: =+I19*J19 -> 33911380 | N19: 8666 | O19: =+N19*1.33 -> 11525.78
C20: Subtotal | K20: =K15+K16+K17+K18+K19 -> 1.0000007e+08
C21: SUBTOTAL OBRAS | K21: =K20 -> 1.0000007e+08
G24: SUBTOTAL OBRAS (INCLUYE IVA) | K24: =K21 -> 1.0000007e+08
G25: AJUSTE | K25: -70.1
G26: VALOR TOTAL | K26: =+K24+K25 -> 1e+08
C28: NOTA 1: Se debe tener en cuenta que el PRECIO UNITARIO incluye el valor de A.I.U. | H28: DESCRIPCION | K28: PORCENTAJE
C29: NOTA 2: Cuando la fracción decimal del peso sea igual o superior a 5 se aproximara por exceso al número entero siguiente del peso y cuando la fracción decimal del peso sea inferior a 5 se aproximará por defecto al número entero del peso. | H29: ADMINISTRACION | J29: A= | K29: 0.25
C30: NOTA 3: El A.I.U y su discriminación deben estar en porcentaje (%). | H30: IMPREVISTO | J30: I= | K30: 0.03
H31: UTILIDAD | J31: U= | K31: 0.05
H32: TOTAL A.I.U | J32: A.I.U.= | K32: 0.33

Sheet MUÑA-SOLANO
C3: Formulario 1 - Propuesta económica - Documento tipo de selección abreviada de menor cuantía - versión 2
C4: Código | D4: CCE-EICP-FM-25 | E4: Versión | F4: 2
C6: FORMULARIO 1
C7: PRESUPUESTO OFICIAL
C8: [La entidad puede utilizar este formulario de detalle del presupuesto oficial para determinar las condiciones bajo las cuales los proponentes analizarán y presentarán su propuesta económica de forma detallada, sin perjuicio que la entidad pueda modificarlo o establecer la presentación de la oferta económica con un formulario distinto al indicado.]
C10: Adicionalmente, cuando el proceso de contratación es estructurado por precios unitarios, la Entidad debe aplicar las notas 1, 2 y 3 del presente formulario y las casillas de "Descripción", "Porcentaje" de la Administración, Imprevisto, Utilidad y total A.I.U. resaltadas en colo amarillo. Tratándose de otras modalidades de precio, la Entidad puede o no configurar los mismos aspectos.
C11: MEJORAMIENTO DE LA VÍA QUE CONDUCE DEL CASCO URBANO A LA VEREDA MUÑA SECTOR SOLANO DEL MUNICIPIO DE SAN FRANCISCO DEL DEPARTAMENTO DE CUNDINAMARCA
C12: Nº | D12: ITEM DE PAGO | E12: ESPECIFICACIONES | G12: DESCRIPCION | H12: UND. | I12: CANTIDAD | J12: VALOR UNITARIO | K12: VALOR TOTAL
E13: GENERAL | F13: PARTICULAR
C15: 1 | D15: 2.13 | E15: 600 INVIAS | F15: 600.4 P | G15: EXCAVACIONES VARIAS EN MATERIAL COMÚN SECO A MANO (INCLUYE RETIRO DE SOBRANTES A UNA DISTANCIA MENOR DE 5 KM) | H15: M3 | I15: 4.61 | J15: 95507.3 | K15: =+I15*J15 -> 440288.65
C16: 2 | D16: 4.6 | E16: 630 INVIAS | F16: 630.4 | G16: CONCRETOS CLASE D, f´c =3000 psi (bases) | H16: M3 | I16: 16.18 | J16: 1184033.8 | K16: =+I16*J16 -> 19157667
C17: 3 | D17: 4.25 | E17: 630 INVIAS | F17: 630.7 | G17: CONCRETO CICLÓPEO CLASE G, 2000 PSI 40% RAJÓN PARA BASES | H17: M3 | I17: 14.21 | J17: 817064.22 | K17: =+I17*J17 -> 11610483
C18: 4 | D18: 4.21 | E18: 671 INVIAS | F18: 671.1 | G18: CUNETA DE CONCRETO CLASE E, 2500 PSI FUNDIDA EN EL LUGAR | H18: M3 | I18: 9.6 | J18: 980393.54 | K18: =+I18*J18 -> 9411778
C19: 5 | D19: 4.52 | E19: 640 INVIAS | F19: 640.1 | G19: SUMINISTRO FIGURADO Y ARMADO DE ACERO DE REFUERZO 60000 PSI | H19: KG | I19: 1681.43 | J19: 11525.78 | K19: =+I19*J19 -> 19379792
C20: Subtotal | K20: =K15+K16+K17+K18+K19 -> 60000009
C21: SUBTOTAL OBRAS | K21: =K20 -> 60000009
G23: SUBTOTAL OBRAS (INCLUYE IVA) | K23: =K21 -> 60000009
G24: AJUSTE | K24: -8.84
G25: VALOR TOTAL | K25: =+K23+K24 -> 60000000
C28: NOTA 1: Se debe tener en cuenta que el PRECIO UNITARIO incluye el valor de A.I.U. | H28: DESCRIPCION | K28: PORCENTAJE
C29: NOTA 2: Cuando la fracción decimal del peso sea igual o superior a 5 se aproximara por exceso al número entero siguiente del peso y cuando la fracción decimal del peso sea inferior a 5 se aproximará por defecto al número entero del peso. | H29: ADMINISTRACION | J29: A= | K29: 0.25
C30: NOTA 3: El A.I.U y su discriminación deben estar en porcentaje (%). | H30: IMPREVISTO | J30: I= | K30: 0.03
H31: UTILIDAD | J31: U= | K31: 0.05
H32: TOTAL A.I.U | J32: A.I.U.= | K32: 0.33

Sheet PROPUESTA ECONOMICA(Proponente)
C3: Formulario 1 - Propuesta económica - Documento tipo de selección abreviada de menor cuantía - versión 2
C4: Código | D4: CCE-EICP-FM-25 | E4: Versión | F4: 2
C6: FORMULARIO 1
C7: PROPUESTA ECONOMICA
C8: [La entidad puede utilizar este formulario de presentación de propuesta económica de forma detallada, sin perjuicio que la entidad pueda modificarlo o establecer la presentación de la oferta económica con un formulario distinto al indicado.] [Los proponentes emplearán el formulario establecido por la entidad para determinar su propuesta económica conforme al Formulario 1 - Presupuesto Oficial publicado por la Entidad]
C10: Cuando el proceso de contratación es estructurado por precios unitarios, la Entidad debe aplicar las notas 1, 2 y 3 del presente formato y las casillas de "Descripción", "Porcentaje" de la Administración, Imprevisto, Utilidad y total A.I.U. resaltadas en color amarillo.
C12: Nº | D12: ITEM DE PAGO | E12: ESPECIFICACIONES | G12: DESCRIPCION | H12: UND. | I12: CANTIDAD | J12: VALOR UNITARIO | K12: VALOR TOTAL
E13: GENERAL | F13: PARTICULAR
C16: Subtotal
C22: Subtotal
C32: Subtotal
C37: Subtotal
C40: Subtotal
C41: SUBTOTAL OBRAS
G46: SUBTOTAL OBRAS (INCLUYE IVA)
G50: VALOR TOTAL
C53: NOTA 1: Se debe tener en cuenta que el PRECIO UNITARIO incluye el valor de A.I.U. | H53: DESCRIPCION | K53: PORCENTAJE
C54: NOTA 2: Cuando la fracción decimal del peso sea igual o superior a 5 se aproximara por exceso al número entero siguiente del peso y cuando la fracción decimal del peso sea inferior a 5 se aproximará por defecto al número entero del peso. | H54: ADMINISTRACION | J54: A= | K54: [Ofrecimiento del Proponente]
C55: NOTA 3: El A.I.U y su discriminación deben estar en porcentaje (%). | H55: IMPREVISTO | J55: I= | K55: [Ofrecimiento del Proponente]
H56: UTILIDAD | J56: U= | K56: [Ofrecimiento del Proponente]
H57: TOTAL A.I.U | J57: A.I.U.= | K57: [Ofrecimiento del Proponente]
G60: Firma del Proponente o de su Representante Legal

Sheet INDICAR CÓDIGO DEL ITEM DE PAGO
C3: Formulario 1 - Propuesta económica - Documento tipo de selección abreviada de menor cuantía - versión 3
C4: Código | D4: CCE-EICP-FM-25 | E4: Versión | F4: 3
C6: [La entidad podrá utilizar este formato para la presentación de los análisis de precios unitarios el contratista en la oportunidad prevista en el numeral 8.1. del Documento Base]
D9: [NOMBRE DE LA ENTIDAD]
L10: VERSIÓN
D11: [NÚMERO DEL PROCESO]
L12: PÁGINA | M12: 1 | N12: DE | O12: 1
D14: ANALISIS DE PRECIOS UNITARIOS
L16: FECHA | M16: DD | N16: MM | O16: AA
C18: ITEMS DE LA PROPUESTA ECONÓMICA | I18: ITEMS NO PREVISTOS
C22: DATOS ESPECÍFICOS
C24: ITEM | D24: DESCRIPCIÓN | M24: UNIDAD | O24: CANTIDAD
C26: I. EQUIPO
C29: DESCRIPCIÓN | H29: MARCA | J29: TIPO | L29: TARIFA/HORA | M29: RENDIMIENTO | O29: Vr. UNITARIO
C33: SUBTOTAL $
C34: II. MATERIALES
C37: DESCRIPCIÓN | K37: UNIDAD | L37: CANTIDAD | M37: PRECIO UNIT. | O37: Vr. UNITARIO
C40: SUBTOTAL $ | O40: 0
C41: III. TRANSPORTES
C44: MATERIAL | J44: VOL. o PESO | K44: DISTANCIA | L44: M3 o Ton/Km | M44: TARIFA | O44: Vr. UNITARIO
C47: SUBTOTAL $
C48: IV. MANO DE OBRA
C51: TRABAJADOR | J51: JORNAL | K51: PRESTACIONES | L51: JORNAL TOTAL | M51: RENDIMIENTO | O51: Vr. UNITARIO
C56: SUBTOTAL $
C58: TOTAL COSTO DIRECTO $
C59: V. COSTOS INDIRECTOS
C62: Descripción | L62: Porcentaje | M62: Valor Total
C63: ADMINISTRACION
C64: IMPREVISTOS
C65: UTILIDAD
C66: SUBTOTAL $
C68: Precio Unitario Total Aproximado al peso $
H72: Firma
H73: Nombre:
H74: Representante Legal del Contratista o su Apoderado
H75: Matricula No. :
C77: OBSERVACIONES INTERVENTORÍA
C81: APROBACIÓN POR INTERVENTORÍA
C82: Nota 1: Cuando se trate de Análisis de precios unitarios correspondientes a ítems de la propuesta económica aprobada, el Interventor aprueba el desglose de los componentes manteniendo el mismo precio unitario de cada ítem, cumpliendo con las especificaciones de construcción vigentes para el proyecto.
C84: Nota 2: Cuando se trate de Análisis de precios unitarios de ítems no previstos, el Interventor aprueba el desglose y precio unitario de cada ítem no previsto, exigiendo la aplicación de los costos correspondientes a insumos y tarifas de la propuesta económica inicial cuando estén contemplados, cumpliendo con las especificaciones de construcción vigente para el proyecto.
...
