Workbook
Name _Key1: #REF!
Name _Sort: #REF!
Name CONCRETO: #REF!

Sheet Resumen
A1: No. | B1: Proponente | C1: CALIFICACIÓN | D1: PRESENTACIÓN DE UN PLAN DE CALIDAD (3) | E1: Criterios ambientales y sociales (20) | F1: Promoción a la industria nacional (20) | G1: Acreditación personal en condición de discapacidad (1) | H1: Emprendimientos y empresas de mujeres (0.25) | I1: Acreditación MIPYMES (0.25) | J1: Total
A2: 1 | B2: CONSORCIO QV CORREDOR VERDE | C2: HÁBIL | D2: 10 | E2: 20 | F2: 20 | G2: 1 | H2: 0.25 | I2: 0.25 | J2: =+SUM(D2:I2) -> 51.5
A3: 2 | B3: CONSORCIO CS CHINCHINA 2026 | C3: HÁBIL | D3: 10 | E3: 20 | F3: 20 | G3: 1 | H3: 0.25 | I3: 0.25 | J3: =+SUM(D3:I3) -> 51.5
A4: 3 | B4: CONSORCIO CATALUÑA | C4: HÁBIL | D4: 10 | E4: 20 | F4: 20 | G4: 1 | H4: 0.25 | I4: 0.25 | J4: =+SUM(D4:I4) -> 51.5
A5: 4 | B5: CONSORCIO RIO DE ORO | C5: HÁBIL | D5: 10 | E5: 20 | F5: 20 | G5: 1 | H5: 0.25 | I5: 0.25 | J5: =+SUM(D5:I5) -> 51.5
A6: 5 | B6: CONSORCIO CORREDOR VIAL 2026 | C6: HÁBIL | D6: 10 | E6: 20 | F6: 20 | G6: 1 | H6: 0.25 | I6: 0.25 | J6: =+SUM(D6:I6) -> 51.5
A7: 6 | B7: CONSORCIO PBO | C7: HÁBIL | D7: 10 | E7: 20 | F7: 20 | G7: 1 | H7: 0.25 | I7: 0.25 | J7: =+SUM(D7:I7) -> 51.5
A8: 7 | B8: CONSORCIO GROZ 2026 | C8: HÁBIL | D8: 10 | E8: 20 | F8: 20 | G8: 1 | H8: 0.25 | I8: 0.25 | J8: =+SUM(D8:I8) -> 51.5
A9: 8 | B9: CONSORCIO SAN ANTONIO A2I | C9: HÁBIL | D9: 10 | E9: 20 | F9: 20 | G9: 1 | H9: 0 | I9: 0.25 | J9: =+SUM(D9:I9) -> 51.25
A10: 9 | B10: CONSORCIO SENDEROS EQUIDAD | C10: HÁBIL | D10: 10 | E10: 20 | F10: 20 | G10: 1 | H10: 0.25 | I10: 0.25 | J10: =+SUM(D10:I10) -> 51.5
A11: 10 | B11: CONSORCIO CORREDOR VILLAMARIA | C11: HÁBIL | D11: 10 | E11: 20 | F11: 20 | G11: 1 | H11: 0.25 | I11: 0.25 | J11: =+SUM(D11:I11) -> 51.5
A12: 11 | B12: CONSORCIO CORREDOR III | C12: HÁBIL | D12: 10 | E12: 20 | F12: 20 | G12: 1 | H12: 0.25 | I12: 0.25 | J12: =+SUM(D12:I12) -> 51.5
A13: 12 | B13: BERMUDEZ SAS | C13: HÁBIL | D13: 10 | E13: 20 | F13: 20 | G13: 1 | H13: 0.25 | I13: 0.25 | J13: =+SUM(D13:I13) -> 51.5
... A44: 43 | B44: CONSORCIO CC Y AID CALDAS | C44: NO HÁBIL | D44: 10 | E44: 20 | F44: 20 | G44: 1 | H44: 0.25 | I44: 0.25 | J44: =+SUM(D44:I44) -> 51.5

Sheet Formulario
A1: Ref. Artículo | B1: Código UNSPSC | C1: Descripción | D1: Cantidad | E1: Unidad | F1: Precio unitario estimado | G1: Precio total estimado
A2: 1 | B2: 72141000 | C2: ROCERIA MANUAL | D2: 7575 | E2: m2 | F2: 1284 | G2: =+D2*F2 -> 9726300
A3: 2 | B3: 72141000 | C3: EXCAVACIÓN SIN CLASIFICAR DE LA EXPLANACIÓN Y CANALES | D3: 2977 | E3: m3 | F3: 34367 | G3: =+D3*F3 -> 102310559
A4: 3 | B4: 72141000 | C4: EXCAVACIÓN EN ROCA DE LA EXPLANACIÓN Y CANALES | D4: 8208 | E4: m3 | F4: 72486 | G4: =+D4*F4 -> 594965088
A5: 4 | B5: 72141000 | C5: REMOCIÓN DE DERRUMBES | D5: 525 | E5: m3 | F5: 22096 | G5: =+D5*F5 -> 11600400
A6: 5 | B6: 72141000 | C6: RELLENO PARA ESTRUCTURAS CON SUELO | D6: 3058 | E6: m3 | F6: 156990 | G6: =+D6*F6 -> 480075420
A7: 6 | B7: 72141000 | C7: RELLENO PARA ESTRUCTURAS CON MATERIAL GRANULAR TIPO SBG-38 | D7: 225 | E7: m3 | F7: 198650 | G7: =+D7*F7 -> 44696250
A8: 7 | B8: 72141000 | C8: CONCRETO RESISTENCIA 28MPa (C) - MEZCLA IN SITU | D8: 166 | E8: m3 | F8: 1060553 | G8: =+D8*F8 -> 176051798
A9: 8 | B9: 72141000 | C9: CONCRETO RESISTENCIA 14MPa (G) - CICLÓPEO | D9: 47 | E9: m3 | F9: 493926 | G9: =+D9*F9 -> 23214522
A10: 9 | B10: 72141000 | C10: ACERO DE REFUERZO Fy 4200 MPa | D10: 50531 | E10: kg | F10: 8341 | G10: =+D10*F10 -> 421479071
A11: 10 | B11: 72141000 | C11: CUNETA DE CONCRETO 21 Mpa VACIADA IN SITU; INCLUYE LA CONFORMACIÓN DE LA SUPERFICIE DE APOYO | D11: 727 | E11: m3 | F11: 1143405 | G11: =+D11*F11 -> 831255435
A12: 11 | B12: 72141000 | C12: TRANSPORTE DE MATERIALES PROVENIENTES DE LA EXCAVACIÓN DE LA EXPLANACIÓN, CANALES Y PRÉSTAMOS PARA DISTANCIAS MAYORES DE MIL METROS (1.000 m) MEDIDOS A PARTIR DE CIEN METROS (100 m) | D12: 27270 | E12: m3/km | F12: 4033 | G12: =+D12*F12 -> 109979910
A13: 12 | B13: 72141000 | C13: TRANSPORTE DE MATERIALES PROVENIENTES DE DERRUMBES, MEDIDO A PARTIR DE CIEN METROS (100 M)-TRANSPORTE CON VOLQUETA DE 6M3 | D13: 48000 | E13: m3/km | F13: 2225 | G13: =+D13*F13 -> 106800000
A14: 13 | B14: 72141000 | C14: SUMINISTRO Y COLOCACION DE TUBERIA PVC DIAMETRO DE D = 36" / 900 mm (Norma NTC-505) | D14: 18 | E14: m | F14: 2202706 | G14: =+D14*F14 -> 39648708
... A27: 26 | B27: 72141000 | C27: VALOR PMT (INMODIFICABLE) | D27: 1 | E27: un | F27: 40245640 | G27: =+D27*F27 -> 40245640
G28: =SUM(G2:G27) -> 4732466766
G29: 0.29
G30: 0.05
G31: =+G29+G30 -> 0.34

Sheet Informe
C1: 1 | D1: 2 | E1: 3 | F1: 4 | G1: 5 | H1: 6 | I1: 7 | J1: 8 | K1: 9 | L1: 10 | M1: 11 | N1: 12 | O1: 13 | P1: 14 | Q1: 15 | R1: 16 | S1: 17 | T1: 18 | U1: 19 | V1: 20 | W1: 21 | X1: 22 | Y1: 23 | Z1: 24 | AA1: 25 | AB1: 26 | AC1: 27 | AD1: 28 | AE1: 29 | AF1: 30 | AG1: 31 | AH1: 32 | AI1: 33 | AJ1: 34 | AK1: 35 | AL1: 36 | AM1: 37 | AN1: 38 | AO1: 39 | AP1: 40 | AQ1: 41 | AR1: 42 | AS1: 43 | AT1: 44 | AU1: 45 | AV1: 46 | AW1: 47 | AX1: 48 | AY1: 49 | AZ1: 50 | BA1: 51 | BB1: 52 | BC1: 53 | BD1: 54 | BE1: 55 | BF1: 56 | BG1: 57 | BH1: 58 | BI1: 59 | BJ1: 60 | BK1: 61 | BL1: 62 | BM1: 63 | BN1: 64 | BO1: 65 | BP1: 66 | BQ1: 67 | BR1: 68 | BS1: 69 | BT1: 70 | BU1: 71 | BV1: 72 | BW1: 73 | BX1: 74 | BY1: 75 | BZ1: 76 | CA1: 77 | CB1: 78 | CC1: 79 | CD1: 80 | CE1: 81 | CF1: 82 | CG1: 83 | CH1: 84 | CI1: 85 | CJ1: 86 | CK1: 87 | CL1: 88 | CM1: 89 | CN1: 90 | CO1: 91 | CP1: 92 | CQ1: 93 | CR1: 94 | CS1: 95 | CT1: 96 | CU1: 97 | CV1: 98 | CW1: 99 | CX1: 100 | CY1: 101 | CZ1: 102 | DA1: 103 | DB1: 104 | DC1: 105 | DD1: 106 | DE1: 107 | DF1: 108 | DG1: 109 | DH1: 110 | DI1: 111 | DJ1: 112 | DK1: 113 | DL1: 114 | DM1: 115 | DN1: 116 | DO1: 117 | DP1: 118 | DQ1: 119 | DR1: 120 | DS1: 121 | DT1: 122 | DU1: 123 | DV1: 124 | DW1: 125 | DX1: 126 | DY1: 127 | DZ1: 128 | EA1: 129 | EB1: 130 | EC1: 131 | ED1: 132 | EE1: 133 | EF1: 134 | EG1: 135 | EH1: 136 | EI1: 137 | EJ1: 138 | EK1: 139 | EL1: 140 | EM1: 141 | EN1: 142 | EO1: 143 | EP1: 144 | EQ1: 145 | ER1: 146 | ES1: 147 | ET1: 148 | EU1: 149 | EV1: 150 | EW1: 151 | EX1: 152 | EY1: 153 | EZ1: 154 | FA1: 155 | FB1: 156 | FC1: 157 | FD1: 158 | FE1: 159 | FF1: 160 | FG1: 161 | FH1: 162 | FI1: 163 | FJ1: 164 | FK1: 165 | FL1: 166 | FM1: 167 | FN1: 168 | FO1: 169 | FP1: 170 | FQ1: 171 | FR1: 172
C2: 1 | G2: 2 | K2: 3 | O2: 4 | S2: 5 | W2: 6 | AA2: 7 | AE2: 8 | AI2: 9 | AM2: 10 | AQ2: 11 | AU2: 12 | AY2: 13 | BC2: 14 | BG2: 15 | BK2: 16 | BO2: 17 | BS2: 18 | BW2: 19 | CA2: 20 | CE2: 21 | CI2: 22 | CM2: 23 | CQ2: 24 | CU2: 25 | CY2: 26 | DC2: 27 | DG2: 28 | DK2: 29 | DO2: 30 | DS2: 31 | DW2: 32 | EA2: 33 | EE2: 34 | EI2: 35 | EM2: 36 | EQ2: 37 | EU2: 38 | EY2: 39 | FC2: 40 | FG2: 41 | FK2: 42 | FO2: 43
C3: =VLOOKUP(C2,Resumen!$A:$I,2,FALSE) -> CONSORCIO QV CORREDOR VERDE | G3: =VLOOKUP(G2,Resumen!$A:$I,2,FALSE) -> CONSORCIO CS CHINCHINA 2026 | K3: =VLOOKUP(K2,Resumen!$A:$I,2,FALSE) -> CONSORCIO CATALUÑA | O3: =VLOOKUP(O2,Resumen!$A:$I,2,FALSE) -> CONSORCIO RIO DE ORO | S3: =VLOOKUP(S2,Resumen!$A:$I,2,FALSE) -> CONSORCIO CORREDOR VIAL 2026 | W3: =VLOOKUP(W2,Resumen!$A:$I,2,FALSE) -> CONSORCIO PBO | AA3: =VLOOKUP(AA2,Resumen!$A:$I,2,FALSE) -> CONSORCIO GROZ 2026 | AE3: =VLOOKUP(AE2,Resumen!$A:$I,2,FALSE) -> CONSORCIO SAN ANTONIO A2I | AI3: =VLOOKUP(AI2,Resumen!$A:$I,2,FALSE) -> CONSORCIO SENDEROS EQUIDAD | AM3: =VLOOKUP(AM2,Resumen!$A:$I,2,FALSE) -> CONSORCIO CORREDOR VILLAMARIA | AQ3: =VLOOKUP(AQ2,Resumen!$A:$I,2,FALSE) -> CONSORCIO CORREDOR III | AU3: =VLOOKUP(AU2,Resumen!$A:$I,2,FALSE) -> BERMUDEZ SAS | AY3: =VLOOKUP(AY2,Resumen!$A:$I,2,FALSE) -> CONSORCIO ANGULO CALDAS | BC3: =VLOOKUP(BC2,Resumen!$A:$I,2,FALSE) -> CONSORCIO FG VERDE | BG3: =VLOOKUP(BG2,Resumen!$A:$I,2,FALSE) -> CONSORCIO CH 2026 | BK3: =VLOOKUP(BK2,Resumen!$A:$I,2,FALSE) -> CONSORCIO VIAS VERDES CALDAS | BO3: =VLOOKUP(BO2,Resumen!$A:$I,2,FALSE) -> CONSORCIO CORREDOR VERDE JJ | BS3: =VLOOKUP(BS2,Resumen!$A:$I,2,FALSE) -> ZERMIRA S.A.S. | BW3: =VLOOKUP(BW2,Resumen!$A:$I,2,FALSE) -> SOSDOM S.A.S | CA3: =VLOOKUP(CA2,Resumen!$A:$I,2,FALSE) -> OMEGA INGENIERIA ASOCIADOS SAS | CE3: =VLOOKUP(CE2,Resumen!$A:$I,2,FALSE) -> CONSORCIO MANTENIMIENTO CHINCHINA | CI3: =VLOOKUP(CI2,Resumen!$A:$I,2,FALSE) -> CONSORCIO INFRAESTRUCTURA VILLAMARIA | CM3: =VLOOKUP(CM2,Resumen!$A:$I,2,FALSE) -> LAM CONSTRUCCIONES SAS | CQ3: =VLOOKUP(CQ2,Resumen!$A:$I,2,FALSE) -> CONSORCIO VIAL VILLAMARÍA | CU3: =VLOOKUP(CU2,Resumen!$A:$I,2,FALSE) -> INVERSIONES INVASAR S.A.S. | CY3: =VLOOKUP(CY2,Resumen!$A:$I,2,FALSE) -> CONSORCIO CORREDOR 2026 | DC3: =VLOOKUP(DC2,Resumen!$A:$I,2,FALSE) -> CONSORCIO VIAS VERDES 26 | DG3: =VLOOKUP(DG2,Resumen!$A:$I,2,FALSE) -> MULTINTEC | DK3: =VLOOKUP(DK2,Resumen!$A:$I,2,FALSE) -> CONSORCIO CORREDOR V 2026 | DO3: =VLOOKUP(DO2,Resumen!$A:$I,2,FALSE) -> CONSORCIO CONSTRUVÍAS CALDAS | DS3: =VLOOKUP(DS2,Resumen!$A:$I,2,FALSE) -> SOLUCIONES CIVILES DEL NORTE SAS | DW3: =VLOOKUP(DW2,Resumen!$A:$I,2,FALSE) -> CONSORCIO VIA VC2026 | EA3: =VLOOKUP(EA2,Resumen!$A:$I,2,FALSE) -> CONSORCIO CICLOSENDERISMO | EE3: =VLOOKUP(EE2,Resumen!$A:$I,2,FALSE) -> RETIN INGENIERIA S.A.S | EI3: =VLOOKUP(EI2,Resumen!$A:$I,2,FALSE) -> CONSORCIO 2E | EM3: =VLOOKUP(EM2,Resumen!$A:$I,2,FALSE) -> CONSORCIO VIA F ETAPA III 2026 | EQ3: =VLOOKUP(EQ2,Resumen!$A:$I,2,FALSE) -> CONSORCIO FJ CALDAS 2026 | EU3: =VLOOKUP(EU2,Resumen!$A:$I,2,FALSE) -> CONSORCIO 487 - CONSORCIO UNION VERDE | EY3: =VLOOKUP(EY2,Resumen!$A:$I,2,FALSE) -> CONSORCIO MADA VERDE | FC3: =VLOOKUP(FC2,Resumen!$A:$I,2,FALSE) -> CONSORCIO MTO SIP 2026 | FG3: =VLOOKUP(FG2,Resumen!$A:$I,2,FALSE) -> CONSORCIO CORREDOR VERDE 2026 | FK3: =VLOOKUP(FK2,Resumen!$A:$I,2,FALSE) -> CONSORCIO CORREDOR KD | FO3: =VLOOKUP(FO2,Resumen!$A:$I,2,FALSE) -> CONSORCIO CC Y AID CALDAS
A4: No. | B4: DESCRIPCIÓN | C4: Cant | D4: Un | E4: Precio Unitario | F4: Valor Total | G4: Cant | H4: un | I4: Precio Unitario | J4: Valor Total | K4: Cant | L4: Un | M4: Precio Unitario | N4: Valor Total | O4: Cant | P4: Un | Q4: Precio Unitario | R4: Valor Total | S4: Cant | T4: Un | U4: Precio Unitario | V4: Valor Total | W4: Cant | X4: Un | Y4: Precio Unitario | Z4: Valor Total | AA4: Cant | AB4: Un | AC4: Precio Unitario | AD4: Valor Total | AE4: Cant | AF4: Un | AG4: Precio Unitario | AH4: Valor Total | AI4: Cant | AJ4: Un | AK4: Precio Unitario | AL4: Valor Total | AM4: Cant | AN4: Un | AO4: Precio Unitario | AP4: Valor Total | AQ4: Cant | AR4: Un | AS4: Precio Unitario | AT4: Valor Total | AU4: Cant | AV4: Un | AW4: Precio Unitario | AX4: Valor Total | AY4: Cant | AZ4: Un | BA4: Precio Unitario | BB4: Valor Total | BC4: Cant | BD4: Un | BE4: Precio Unitario | BF4: Valor Total | BG4: Cant | BH4: Un | BI4: Precio Unitario | BJ4: Valor Total | BK4: Cant | BL4: Un | BM4: Precio Unitario | BN4: Valor Total | BO4: Cant | BP4: Un | BQ4: Precio Unitario | BR4: Valor Total | BS4: Cant | BT4: Un | BU4: Precio Unitario | BV4: Valor Total | BW4: Cant | BX4: Un | BY4: Precio Unitario | BZ4: Valor Total | CA4: Cant | CB4: Un | CC4: Precio Unitario | CD4: Valor Total | CE4: Cant | CF4: Un | CG4: Precio Unitario | CH4: Valor Total | CI4: Cant | CJ4: Un | CK4: Precio Unitario | CL4: Valor Total | CM4: Cant | CN4: Un | CO4: Precio Unitario | CP4: Valor Total | CQ4: Cant | CR4: Un | CS4: Precio Unitario | CT4: Valor Total | CU4: Cant | CV4: Un | CW4: Precio Unitario | CX4: Valor Total | CY4: Cant | CZ4: Un | DA4: Precio Unitario | DB4: Valor Total | DC4: Cant | DD4: Un | DE4: Precio Unitario | DF4: Valor Total | DG4: Cant | DH4: Un | DI4: Precio Unitario | DJ4: Valor Total | DK4: Cant | DL4: Un | DM4: Precio Unitario | DN4: Valor Total | DO4: Cant | DP4: Un | DQ4: Precio Unitario | DR4: Valor Total | DS4: Cant | DT4: Un | DU4: Precio Unitario | DV4: Valor Total | DW4: Cant | DX4: Un | DY4: Precio Unitario | DZ4: Valor Total | EA4: Cant | EB4: Un | EC4: Precio Unitario | ED4: Valor Total | EE4: Cant | EF4: Un | EG4: Precio Unitario | EH4: Valor Total | EI4: Cant | EJ4: Un | EK4: Precio Unitario | EL4: Valor Total | EM4: Cant | EN4: Un | EO4: Precio Unitario | EP4: Valor Total | EQ4: Cant | ER4: Un | ES4: Precio Unitario | ET4: Valor Total | EU4: Cant | EV4: Un | EW4: Precio Unitario | EX4: Valor Total | EY4: Cant | EZ4: Un | FA4: Precio Unitario | FB4: Valor Total | FC4: Cant | FD4: Un | FE4: Precio Unitario | FF4: Valor Total | FG4: Cant | FH4: Un | FI4: Precio Unitario | FJ4: Valor Total | FK4: Cant | FL4: Un | FM4: Precio Unitario | FN4: Valor Total | FO4: Cant | FP4: Un | FQ4: Precio Unitario | FR4: Valor Total
A5: 1 | B5: ROCERIA MANUAL | C5: 7575 | D5: m2 | E5: 1203 | F5: =C5*E5 -> 9112725 | G5: 7575 | H5: m2 | I5: 1281 | J5: =G5*I5 -> 9703575 | K5: 7575 | L5: m2 | M5: 1195 | N5: =K5*M5 -> 9052125 | O5: 7575 | P5: m2 | Q5: 1199 | R5: =O5*Q5 -> 9082425 | S5: 7575 | T5: m2 | U5: 1206 | V5: =S5*U5 -> 9135450 | W5: 7575 | X5: m2 | Y5: 1205 | Z5: =W5*Y5 -> 9127875 | AA5: 7575 | AB5: m2 | AC5: 1206 | AD5: =AA5*AC5 -> 9135450 | AE5: 7575 | AF5: m2 | AG5: 1203 | AH5: =AE5*AG5 -> 9112725 | AI5: 7575 | AJ5: m2 | AK5: 1193.37 | AL5: =AI5*AK5 -> 9039777.8 | AM5: 7575 | AN5: m2 | AO5: 1203 | AP5: =AM5*AO5 -> 9112725 | AQ5: 7575 | AR5: m2 | AS5: 1200 | AT5: =AQ5*AS5 -> 9090000 | AU5: 7575 | AV5: m2 | AW5: 1197 | AX5: =AU5*AW5 -> 9067275 | AY5: 7575 | AZ5: m2 | BA5: 1284 | BB5: =AY5*BA5 -> 9726300 | BC5: 7575 | BD5: m2 | BE5: 1204 | BF5: =BC5*BE5 -> 9120300 | BG5: 7575 | BH5: m2 | BI5: 1194 | BJ5: =BG5*BI5 -> 9044550 | BK5: 7575 | BL5: m2 | BM5: 1271 | BN5: =BK5*BM5 -> 9627825 | BO5: 7575 | BP5: m2 | BQ5: 1216 | BR5: =BO5*BQ5 -> 9211200 | BS5: 7575 | BT5: m2 | BU5: 1197 | BV5: =BS5*BU5 -> 9067275 | BW5: 7575 | BX5: m2 | BY5: 1156 | BZ5: =BW5*BY5 -> 8756700 | CA5: 7575 | CB5: m2 | CC5: 1204.39 | CD5: =CA5*CC5 -> 9123254.2 | CE5: 7575 | CF5: m2 | CH5: =CE5*CG5 -> 0 | CI5: 7575 | CJ5: m2 | CL5: =CI5*CK5 -> 0 | CM5: 7575 | CN5: m2 | CO5: 1215 | CP5: =CM5*CO5 -> 9203625 | CQ5: 7575 | CR5: m2 | CS5: 1197 | CT5: =CQ5*CS5 -> 9067275 | CU5: 7575 | CV5: m2 | CW5: 1199 | CX5: =CU5*CW5 -> 9082425 | CY5: 7575 | CZ5: m2 | DA5: 1258 | DB5: =CY5*DA5 -> 9529350 | DC5: 7575 | DD5: m2 | DE5: 1220 | DF5: =DC5*DE5 -> 9241500 | DG5: 7575 | DH5: m2 | DJ5: =DG5*DI5 -> 0 | DK5: 7575 | DL5: m2 | DM5: 1276 | DN5: =DK5*DM5 -> 9665700 | DO5: 7575 | DP5: m2 | DQ5: 1194 | DR5: =DO5*DQ5 -> 9044550 | DS5: 7575 | DT5: m2 | DU5: 1216.42 | DV5: =DS5*DU5 -> 9214381.5 | DW5: 7575 | DX5: m2 | DY5: 1277 | DZ5: =DW5*DY5 -> 9673275 | EA5: 7575 | EB5: m2 | EC5: 1100 | ED5: =EA5*EC5 -> 8332500 | EE5: 7575 | EF5: m2 | EG5: 1252 | EH5: =EE5*EG5 -> 9483900 | EI5: 7575 | EJ5: m2 | EK5: 1195 | EL5: =EI5*EK5 -> 9052125 | EM5: 7575 | EN5: m2 | EO5: 1271 | EP5: =EM5*EO5 -> 9627825 | EQ5: 7575 | ER5: m2 | ES5: 1207 | ET5: =EQ5*ES5 -> 9143025 | EU5: 7575 | EV5: m2 | EW5: 1195 | EX5: =EU5*EW5 -> 9052125 | EY5: 7575 | EZ5: m2 | FA5: 1278 | FB5: =EY5*FA5 -> 9680850 | FC5: 7575 | FD5: m2 | FE5: 1198 | FF5: =FC5*FE5 -> 9074850 | FG5: 7575 | FH5: m2 | FI5: 1284 | FJ5: =FG5*FI5 -> 9726300 | FK5: 7575 | FL5: m2 | FM5: 1194 | FN5: =FK5*FM5 -> 9044550 | FO5: 7575 | FP5: m2 | FR5: =FO5*FQ5 -> 0
A6: 2 | B6: EXCAVACIÓN SIN CLASIFICAR DE LA EXPLANACIÓN Y CANALES | C6: 2977 | D6: m3 | E6: 31980 | F6: =C6*E6 -> 95204460 | G6: 2977 | H6: m3 | I6: 34298 | J6: =G6*I6 -> 102105146 | K6: 2977 | L6: m3 | M6: 31975 | N6: =K6*M6 -> 95189575 | O6: 2977 | P6: m3 | Q6: 32102 | R6: =O6*Q6 -> 95567654 | S6: 2977 | T6: m3 | U6: 32271 | V6: =S6*U6 -> 96070767 | W6: 2977 | X6: m3 | Y6: 32264 | Z6: =W6*Y6 -> 96049928 | AA6: 2977 | AB6: m3 | AC6: 32271 | AD6: =AA6*AC6 -> 96070767 | AE6: 2977 | AF6: m3 | AG6: 32209 | AH6: =AE6*AG6 -> 95886193 | AI6: 2977 | AJ6: m3 | AK6: 31941.27 | AL6: =AI6*AK6 -> 95089161 | AM6: 2977 | AN6: m3 | AO6: 32188 | AP6: =AM6*AO6 -> 95823676 | AQ6: 2977 | AR6: m3 | AS6: 32106 | AT6: =AQ6*AS6 -> 95579562 | AU6: 2977 | AV6: m3 | AW6: 32027 | AX6: =AU6*AW6 -> 95344379 | AY6: 2977 | AZ6: m3 | BA6: 34367 | BB6: =AY6*BA6 -> 102310559 | BC6: 2977 | BD6: m3 | BE6: 32216 | BF6: =BC6*BE6 -> 95907032 | BG6: 2977 | BH6: m3 | BI6: 31970 | BJ6: =BG6*BI6 -> 95174690 | BK6: 2977 | BL6: m3 | BM6: 34023 | BN6: =BK6*BM6 -> 101286471 | BO6: 2977 | BP6: m3 | BQ6: 32558 | BR6: =BO6*BQ6 -> 96925166 | BS6: 2977 | BT6: m3 | BU6: 32032 | BV6: =BS6*BU6 -> 95359264 | BW6: 2977 | BX6: m3 | BY6: 30930 | BZ6: =BW6*BY6 -> 92078610 | CA6: 2977 | CB6: m3 | CC6: 32236.25 | CD6: =CA6*CC6 -> 95967316 | CE6: 2977 | CF6: m3 | CH6: =CE6*CG6 -> 0 | CI6: 2977 | CJ6: m3 | CL6: =CI6*CK6 -> 0 | CM6: 2977 | CN6: m3 | CO6: 32515 | CP6: =CM6*CO6 -> 96797155 | CQ6: 2977 | CR6: m3 | CS6: 32037 | CT6: =CQ6*CS6 -> 95374149 | CU6: 2977 | CV6: m3 | CW6: 32092 | CX6: =CU6*CW6 -> 95537884 | CY6: 2977 | CZ6: m3 | DA6: 33679 | DB6: =CY6*DA6 -> 100262383 | DC6: 2977 | DD6: m3 | DE6: 29212 | DF6: =DC6*DE6 -> 86964124 | DG6: 2977 | DH6: m3 | DJ6: =DG6*DI6 -> 0 | DK6: 2977 | DL6: m3 | DM6: 34160 | DN6: =DK6*DM6 -> 101694320 | DO6: 2977 | DP6: m3 | DQ6: 31964 | DR6: =DO6*DQ6 -> 95156828 | DS6: 2977 | DT6: m3 | DU6: 32558.09 | DV6: =DS6*DU6 -> 96925434 | DW6: 2977 | DX6: m3 | DY6: 34195 | DZ6: =DW6*DY6 -> 101798515 | EA6: 2977 | EB6: m3 | EC6: 32000 | ED6: =EA6*EC6 -> 95264000 | EE6: 2977 | EF6: m3 | EG6: 31858 | EH6: =EE6*EG6 -> 94841266 | EI6: 2977 | EJ6: m3 | EK6: 32006 | EL6: =EI6*EK6 -> 95281862 | EM6: 2977 | EN6: m3 | EO6: 34023 | EP6: =EM6*EO6 -> 101286471 | EQ6: 2977 | ER6: m3 | ES6: 32305 | ET6: =EQ6*ES6 -> 96171985 | EU6: 2977 | EV6: m3 | EW6: 31985 | EX6: =EU6*EW6 -> 95219345 | EY6: 2977 | EZ6: m3 | FA6: 31102 | FB6: =EY6*FA6 -> 92590654 | FC6: 2977 | FD6: m3 | FE6: 32074 | FF6: =FC6*FE6 -> 95484298 | FG6: 2977 | FH6: m3 | FI6: 34367 | FJ6: =FG6*FI6 -> 102310559 | FK6: 2977 | FL6: m3 | FM6: 31961 | FN6: =FK6*FM6 -> 95147897 | FO6: 2977 | FP6: m3 | FR6: =FO6*FQ6 -> 0
A7: 3 | B7: EXCAVACIÓN EN ROCA DE LA EXPLANACIÓN Y CANALES | C7: 8208 | D7: m3 | E7: 67909 | F7: =C7*E7 -> 557397072 | G7: 8208 | H7: m3 | I7: 65962 | J7: =G7*I7 -> 541416096 | K7: 8208 | L7: m3 | M7: 67440 | N7: =K7*M7 -> 553547520 | O7: 8208 | P7: m3 | Q7: 67708 | R7: =O7*Q7 -> 555747264 | S7: 8208 | T7: m3 | U7: 67774 | V7: =S7*U7 -> 556288992 | W7: 8208 | X7: m3 | Y7: 68050 | Z7: =W7*Y7 -> 558554400 | AA7: 8208 | AB7: m3 | AC7: 68064 | AD7: =AA7*AC7 -> 558669312 | AE7: 8208 | AF7: m3 | AG7: 67934 | AH7: =AE7*AG7 -> 557602272 | AI7: 8208 | AJ7: m3 | AK7: 67369.72 | AL7: =AI7*AK7 -> 5.5297066e+08 | AM7: 8208 | AN7: m3 | AO7: 67890 | AP7: =AM7*AO7 -> 557241120 | AQ7: 8208 | AR7: m3 | AS7: 67716 | AT7: =AQ7*AS7 -> 555812928 | AU7: 8208 | AV7: m3 | AW7: 67551 | AX7: =AU7*AW7 -> 554458608 | AY7: 8208 | AZ7: m3 | BA7: 56624 | BB7: =AY7*BA7 -> 464769792 | BC7: 8208 | BD7: m3 | BE7: 67948 | BF7: =BC7*BE7 -> 557717184 | BG7: 8208 | BH7: m3 | BI7: 67431 | BJ7: =BG7*BI7 -> 553473648 | BK7: 8208 | BL7: m3 | BM7: 45603 | BN7: =BK7*BM7 -> 374309424 | BO7: 8208 | BP7: m3 | BQ7: 68671 | BR7: =BO7*BQ7 -> 563651568 | BS7: 8208 | BT7: m3 | BU7: 67562 | BV7: =BS7*BU7 -> 554548896 | BW7: 8208 | BX7: m3 | BY7: 65237 | BZ7: =BW7*BY7 -> 535465296 | CA7: 8208 | CB7: m3 | CC7: 67991.87 | CD7: =CA7*CC7 -> 5.5807727e+08 | CE7: 8208 | CF7: m3 | CH7: =CE7*CG7 -> 0 | CI7: 8208 | CJ7: m3 | CL7: =CI7*CK7 -> 0 | CM7: 8208 | CN7: m3 | CO7: 68580 | CP7: =CM7*CO7 -> 562904640 | CQ7: 8208 | CR7: m3 | CS7: 67571 | CT7: =CQ7*CS7 -> 554622768 | CU7: 8208 | CV7: m3 | CW7: 67688 | CX7: =CU7*CW7 -> 555583104 | CY7: 8208 | CZ7: m3 | DA7: 71036 | DB7: =CY7*DA7 -> 583063488 | DC7: 8208 | DD7: m3 | DE7: 68862 | DF7: =DC7*DE7 -> 565219296 | DG7: 8208 | DH7: m3 | DJ7: =DG7*DI7 -> 0 | DK7: 8208 | DL7: m3 | DM7: 66324 | DN7: =DK7*DM7 -> 544387392 | DO7: 8208 | DP7: m3 | DQ7: 67417 | DR7: =DO7*DQ7 -> 553358736 | DS7: 8208 | DT7: m3 | DU7: 68670.7 | DV7: =DS7*DU7 -> 5.6364911e+08 | DW7: 8208 | DX7: m3 | DY7: 63497 | DZ7: =DW7*DY7 -> 521183376 | EA7: 8208 | EB7: m3 | EC7: 70000 | ED7: =EA7*EC7 -> 574560000 | EE7: 8208 | EF7: m3 | EG7: 70674 | EH7: =EE7*EG7 -> 580092192 | EI7: 8208 | EJ7: m3 | EK7: 67506 | EL7: =EI7*EK7 -> 554089248 | EM7: 8208 | EN7: m3 | EO7: 60888 | EP7: =EM7*EO7 -> 499768704 | EQ7: 8208 | ER7: m3 | ES7: 70311 | ET7: =EQ7*ES7 -> 577112688 | EU7: 8208 | EV7: m3 | EW7: 67463 | EX7: =EU7*EW7 -> 553736304 | EY7: 8208 | EZ7: m3 | FA7: 64150 | FB7: =EY7*FA7 -> 526543200 | FC7: 8208 | FD7: m3 | FE7: 67649 | FF7: =FC7*FE7 -> 555262992 | FG7: 8208 | FH7: m3 | FI7: 65391 | FJ7: =FG7*FI7 -> 536729328 | FK7: 8208 | FL7: m3 | FM7: 67412 | FN7: =FK7*FM7 -> 553317696 | FO7: 8208 | FP7: m3 | FR7: =FO7*FQ7 -> 0
A8: 4 | B8: REMOCIÓN DE DERRUMBES | C8: 525 | D8: m3 | E8: 20701 | F8: =C8*E8 -> 10868025 | G8: 525 | H8: m3 | I8: 22051 | J8: =G8*I8 -> 11576775 | K8: 525 | L8: m3 | M8: 20558 | N8: =K8*M8 -> 10792950 | O8: 525 | P8: m3 | Q8: 20639 | R8: =O8*Q8 -> 10835475 | S8: 525 | T8: m3 | U8: 20748 | V8: =S8*U8 -> 10892700 | W8: 525 | X8: m3 | Y8: 20744 | Z8: =W8*Y8 -> 10890600 | AA8: 525 | AB8: m3 | AC8: 20748 | AD8: =AA8*AC8 -> 10892700 | AE8: 525 | AF8: m3 | AG8: 20708 | AH8: =AE8*AG8 -> 10871700 | AI8: 525 | AJ8: m3 | AK8: 20536.4 | AL8: =AI8*AK8 -> 10781610 | AM8: 525 | AN8: m3 | AO8: 20695 | AP8: =AM8*AO8 -> 10864875 | AQ8: 525 | AR8: m3 | AS8: 20642 | AT8: =AQ8*AS8 -> 10837050 | AU8: 525 | AV8: m3 | AW8: 20592 | AX8: =AU8*AW8 -> 10810800 | AY8: 525 | AZ8: m3 | BA8: 22096 | BB8: =AY8*BA8 -> 11600400 | BC8: 525 | BD8: m3 | BE8: 20713 | BF8: =BC8*BE8 -> 10874325 | BG8: 525 | BH8: m3 | BI8: 20555 | BJ8: =BG8*BI8 -> 10791375 | BK8: 525 | BL8: m3 | BM8: 21875 | BN8: =BK8*BM8 -> 11484375 | BO8: 525 | BP8: m3 | BQ8: 20933 | BR8: =BO8*BQ8 -> 10989825 | BS8: 525 | BT8: m3 | BU8: 20595 | BV8: =BS8*BU8 -> 10812375 | BW8: 525 | BX8: m3 | BY8: 19886 | BZ8: =BW8*BY8 -> 10440150 | CA8: 525 | CB8: m3 | CC8: 20726.05 | CD8: =CA8*CC8 -> 10881176 | CE8: 525 | CF8: m3 | CH8: =CE8*CG8 -> 0 | CI8: 525 | CJ8: m3 | CL8: =CI8*CK8 -> 0 | CM8: 525 | CN8: m3 | CO8: 20905 | CP8: =CM8*CO8 -> 10975125 | CQ8: 525 | CR8: m3 | CS8: 20598 | CT8: =CQ8*CS8 -> 10813950 | CU8: 525 | CV8: m3 | CW8: 20634 | CX8: =CU8*CW8 -> 10832850 | CY8: 525 | CZ8: m3 | DA8: 21654 | DB8: =CY8*DA8 -> 11368350 | DC8: 525 | DD8: m3 | DE8: 20991 | DF8: =DC8*DE8 -> 11020275 | DG8: 525 | DH8: m3 | DJ8: =DG8*DI8 -> 0 | DK8: 525 | DL8: m3 | DM8: 21963 | DN8: =DK8*DM8 -> 11530575 | DO8: 525 | DP8: m3 | DQ8: 20551 | DR8: =DO8*DQ8 -> 10789275 | DS8: 525 | DT8: m3 | DU8: 20932.98 | DV8: =DS8*DU8 -> 10989814 | DW8: 525 | DX8: m3 | DY8: 21985 | DZ8: =DW8*DY8 -> 11542125 | EA8: 525 | EB8: m3 | EC8: 20050 | ED8: =EA8*EC8 -> 10526250 | EE8: 525 | EF8: m3 | EG8: 21544 | EH8: =EE8*EG8 -> 11310600 | EI8: 525 | EJ8: m3 | EK8: 20578 | EL8: =EI8*EK8 -> 10803450 | EM8: 525 | EN8: m3 | EO8: 21875 | EP8: =EM8*EO8 -> 11484375 | EQ8: 525 | ER8: m3 | ES8: 20770 | ET8: =EQ8*ES8 -> 10904250 | EU8: 525 | EV8: m3 | EW8: 20565 | EX8: =EU8*EW8 -> 10796625 | EY8: 525 | EZ8: m3 | FA8: 21986 | FB8: =EY8*FA8 -> 11542650 | FC8: 525 | FD8: m3 | FE8: 20621 | FF8: =FC8*FE8 -> 10826025 | FG8: 525 | FH8: m3 | FI8: 22096 | FJ8: =FG8*FI8 -> 11600400 | FK8: 525 | FL8: m3 | FM8: 20549 | FN8: =FK8*FM8 -> 10788225 | FO8: 525 | FP8: m3 | FR8: =FO8*FQ8 -> 0
A9: 5 | B9: RELLENO PARA ESTRUCTURAS CON SUELO | C9: 3058 | D9: m3 | E9: 147076 | F9: =C9*E9 -> 449758408 | G9: 3058 | H9: m3 | I9: 142860 | J9: =G9*I9 -> 436865880 | K9: 3058 | L9: m3 | M9: 146062 | N9: =K9*M9 -> 446657596 | O9: 3058 | P9: m3 | Q9: 146641 | R9: =O9*Q9 -> 448428178 | S9: 3058 | T9: m3 | U9: 146786 | V9: =S9*U9 -> 448871588 | W9: 3058 | X9: m3 | Y9: 147382 | Z9: =W9*Y9 -> 450694156 | AA9: 3058 | AB9: m3 | AC9: 147414 | AD9: =AA9*AC9 -> 450792012 | AE9: 3058 | AF9: m3 | AG9: 147131 | AH9: =AE9*AG9 -> 449926598 | AI9: 3058 | AJ9: m3 | AK9: 145909.17 | AL9: =AI9*AK9 -> 4.4619024e+08 | AM9: 3058 | AN9: m3 | AO9: 147037 | AP9: =AM9*AO9 -> 449639146 | AQ9: 3058 | AR9: m3 | AS9: 146660 | AT9: =AQ9*AS9 -> 448486280 | AU9: 3058 | AV9: m3 | AW9: 146302 | AX9: =AU9*AW9 -> 447391516 | AY9: 3058 | AZ9: m3 | BA9: 134000 | BB9: =AY9*BA9 -> 409772000 | BC9: 3058 | BD9: m3 | BE9: 147162 | BF9: =BC9*BE9 -> 450021396 | BG9: 3058 | BH9: m3 | BI9: 146041 | BJ9: =BG9*BI9 -> 446593378 | BK9: 3058 | BL9: m3 | BM9: 45603 | BN9: =BK9*BM9 -> 139453974 | BO9: 3058 | BP9: m3 | BQ9: 148727 | BR9: =BO9*BQ9 -> 454807166 | BS9: 3058 | BT9: m3 | BU9: 146325 | BV9: =BS9*BU9 -> 447461850 | BW9: 3058 | BX9: m3 | BY9: 141291 | BZ9: =BW9*BY9 -> 432067878 | CA9: 3058 | CB9: m3 | CC9: 147256.62 | CD9: =CA9*CC9 -> 4.5031074e+08 | CE9: 3058 | CF9: m3 | CH9: =CE9*CG9 -> 0 | CI9: 3058 | CJ9: m3 | CL9: =CI9*CK9 -> 0 | CM9: 3058 | CN9: m3 | CO9: 148530 | CP9: =CM9*CO9 -> 454204740 | CQ9: 3058 | CR9: m3 | CS9: 146346 | CT9: =CQ9*CS9 -> 447526068 | CU9: 3058 | CV9: m3 | CW9: 146599 | CX9: =CU9*CW9 -> 448299742 | CY9: 3058 | CZ9: m3 | DA9: 104546 | DB9: =CY9*DA9 -> 319701668 | DC9: 3058 | DD9: m3 | DE9: 133442 | DF9: =DC9*DE9 -> 408065636 | DG9: 3058 | DH9: m3 | DJ9: =DG9*DI9 -> 0 | DK9: 3058 | DL9: m3 | DM9: 143645 | DN9: =DK9*DM9 -> 439266410 | DO9: 3058 | DP9: m3 | DQ9: 146013 | DR9: =DO9*DQ9 -> 446507754 | DS9: 3058 | DT9: m3 | DU9: 148726.83 | DV9: =DS9*DU9 -> 4.5480665e+08 | DW9: 3058 | DX9: m3 | DY9: 137523 | DZ9: =DW9*DY9 -> 420545334 | EA9: 3058 | EB9: m3 | EC9: 145000 | ED9: =EA9*EC9 -> 443410000 | EE9: 3058 | EF9: m3 | EG9: 145530 | EH9: =EE9*EG9 -> 445030740 | EI9: 3058 | EJ9: m3 | EK9: 146207 | EL9: =EI9*EK9 -> 447101006 | EM9: 3058 | EN9: m3 | EO9: 131871 | EP9: =EM9*EO9 -> 403261518 | EQ9: 3058 | ER9: m3 | ES9: 152280 | ET9: =EQ9*ES9 -> 465672240 | EU9: 3058 | EV9: m3 | EW9: 146111 | EX9: =EU9*EW9 -> 446807438 | EY9: 3058 | EZ9: m3 | FA9: 142076 | FB9: =EY9*FA9 -> 434468408 | FC9: 3058 | FD9: m3 | FE9: 146513 | FF9: =FC9*FE9 -> 448036754 | FG9: 3058 | FH9: m3 | FI9: 143422 | FJ9: =FG9*FI9 -> 438584476 | FK9: 3058 | FL9: m3 | FM9: 146001 | FN9: =FK9*FM9 -> 446471058 | FO9: 3058 | FP9: m3 | FR9: =FO9*FQ9 -> 0
A10: 6 | B10: RELLENO PARA ESTRUCTURAS CON MATERIAL GRANULAR TIPO SBG-38 | C10: 225 | D10: m3 | E10: 186105 | F10: =C10*E10 -> 41873625 | G10: 225 | H10: m3 | I10: 198252 | J10: =G10*I10 -> 44606700 | K10: 225 | L10: m3 | M10: 184822 | N10: =K10*M10 -> 41584950 | O10: 225 | P10: m3 | Q10: 185555 | R10: =O10*Q10 -> 41749875 | S10: 225 | T10: m3 | U10: 186532 | V10: =S10*U10 -> 41969700 | W10: 225 | X10: m3 | Y10: 186493 | Z10: =W10*Y10 -> 41960925 | AA10: 225 | AB10: m3 | AC10: 186532 | AD10: =AA10*AC10 -> 41969700 | AE10: 225 | AF10: m3 | AG10: 186174 | AH10: =AE10*AG10 -> 41889150 | AI10: 225 | AJ10: m3 | AK10: 184628.69 | AL10: =AI10*AK10 -> 41541455 | AM10: 225 | AN10: m3 | AO10: 186056 | AP10: =AM10*AO10 -> 41862600 | AQ10: 225 | AR10: m3 | AS10: 185579 | AT10: =AQ10*AS10 -> 41755275 | AU10: 225 | AV10: m3 | AW10: 185126 | AX10: =AU10*AW10 -> 41653350 | AY10: 225 | AZ10: m3 | BA10: 198650 | BB10: =AY10*BA10 -> 44696250 | BC10: 225 | BD10: m3 | BE10: 186215 | BF10: =BC10*BE10 -> 41898375 | BG10: 225 | BH10: m3 | BI10: 184796 | BJ10: =BG10*BI10 -> 41579100 | BK10: 225 | BL10: m3 | BM10: 196664 | BN10: =BK10*BM10 -> 44249400 | BO10: 225 | BP10: m3 | BQ10: 188194 | BR10: =BO10*BQ10 -> 42343650 | BS10: 225 | BT10: m3 | BU10: 185155 | BV10: =BS10*BU10 -> 41659875 | BW10: 225 | BX10: m3 | BY10: 178785 | BZ10: =BW10*BY10 -> 40226625 | CA10: 225 | CB10: m3 | CC10: 186333.7 | CD10: =CA10*CC10 -> 41925082 | CE10: 225 | CF10: m3 | CH10: =CE10*CG10 -> 0 | CI10: 225 | CJ10: m3 | CL10: =CI10*CK10 -> 0 | CM10: 225 | CN10: m3 | CO10: 187945 | CP10: =CM10*CO10 -> 42287625 | CQ10: 225 | CR10: m3 | CS10: 185182 | CT10: =CQ10*CS10 -> 41665950 | CU10: 225 | CV10: m3 | CW10: 185502 | CX10: =CU10*CW10 -> 41737950 | CY10: 225 | CZ10: m3 | DA10: 194677 | DB10: =CY10*DA10 -> 43802325 | DC10: 225 | DD10: m3 | DE10: 188718 | DF10: =DC10*DE10 -> 42461550 | DG10: 225 | DH10: m3 | DJ10: =DG10*DI10 -> 0 | DK10: 225 | DL10: m3 | DM10: 197458 | DN10: =DK10*DM10 -> 44428050 | DO10: 225 | DP10: m3 | DQ10: 184759 | DR10: =DO10*DQ10 -> 41570775 | DS10: 225 | DT10: m3 | DU10: 188194.06 | DV10: =DS10*DU10 -> 42343664 | DW10: 225 | DX10: m3 | DY10: 197656 | DZ10: =DW10*DY10 -> 44472600 | EA10: 225 | EB10: m3 | EC10: 180000 | ED10: =EA10*EC10 -> 40500000 | EE10: 225 | EF10: m3 | EG10: 184149 | EH10: =EE10*EG10 -> 41433525 | EI10: 225 | EJ10: m3 | EK10: 185006 | EL10: =EI10*EK10 -> 41626350 | EM10: 225 | EN10: m3 | EO10: 196663 | EP10: =EM10*EO10 -> 44249175 | EQ10: 225 | ER10: m3 | ES10: 186731 | ET10: =EQ10*ES10 -> 42014475 | EU10: 225 | EV10: m3 | EW10: 184884 | EX10: =EU10*EW10 -> 41598900 | EY10: 225 | EZ10: m3 | FA10: 197657 | FB10: =EY10*FA10 -> 44472825 | FC10: 225 | FD10: m3 | FE10: 185393 | FF10: =FC10*FE10 -> 41713425 | FG10: 225 | FH10: m3 | FI10: 198650 | FJ10: =FG10*FI10 -> 44696250 | FK10: 225 | FL10: m3 | FM10: 184745 | FN10: =FK10*FM10 -> 41567625 | FO10: 225 | FP10: m3 | FR10: =FO10*FQ10 -> 0
A11: 7 | B11: CONCRETO RESISTENCIA 28MPa (C) - MEZCLA IN SITU | C11: 166 | D11: m3 | E11: 1000000 | F11: =C11*E11 -> 166000000 | G11: 166 | H11: m3 | I11: 1058431 | J11: =G11*I11 -> 175699546 | K11: 166 | L11: m3 | M11: 986728 | N11: =K11*M11 -> 163796848 | O11: 166 | P11: m3 | Q11: 990641 | R11: =O11*Q11 -> 164446406 | S11: 166 | T11: m3 | U11: 995859 | V11: =S11*U11 -> 165312594 | W11: 166 | X11: m3 | Y11: 995648 | Z11: =W11*Y11 -> 165277568 | AA11: 166 | AB11: m3 | AC11: 995859 | AD11: =AA11*AC11 -> 165312594 | AE11: 166 | AF11: m3 | AG11: 993948 | AH11: =AE11*AG11 -> 164995368 | AI11: 166 | AJ11: m3 | AK11: 985695.99 | AL11: =AI11*AK11 -> 1.6362553e+08 | AM11: 166 | AN11: m3 | AO11: 993314 | AP11: =AM11*AO11 -> 164890124 | AQ11: 166 | AR11: m3 | AS11: 990769 | AT11: =AQ11*AS11 -> 164467654 | AU11: 166 | AV11: m3 | AW11: 988349 | AX11: =AU11*AW11 -> 164065934 | AY11: 166 | AZ11: m3 | BA11: 1060553 | BB11: =AY11*BA11 -> 176051798 | BC11: 166 | BD11: m3 | BE11: 994162 | BF11: =BC11*BE11 -> 165030892 | BG11: 166 | BH11: m3 | BI11: 986587 | BJ11: =BG11*BI11 -> 163773442 | BK11: 166 | BL11: m3 | BM11: 1049947 | BN11: =BK11*BM11 -> 174291202 | BO11: 166 | BP11: m3 | BQ11: 1004730 | BR11: =BO11*BQ11 -> 166785180 | BS11: 166 | BT11: m3 | BU11: 988507 | BV11: =BS11*BU11 -> 164092162 | BW11: 166 | BX11: m3 | BY11: 954498 | BZ11: =BW11*BY11 -> 158446668 | CA11: 166 | CB11: m3 | CC11: 994798.71 | CD11: =CA11*CC11 -> 1.6513659e+08 | CE11: 166 | CF11: m3 | CH11: =CE11*CG11 -> 0 | CI11: 166 | CJ11: m3 | CL11: =CI11*CK11 -> 0 | CM11: 166 | CN11: m3 | CO11: 1003400 | CP11: =CM11*CO11 -> 166564400 | CQ11: 166 | CR11: m3 | CS11: 988648 | CT11: =CQ11*CS11 -> 164115568 | CU11: 166 | CV11: m3 | CW11: 990357 | CX11: =CU11*CW11 -> 164399262 | CY11: 166 | CZ11: m3 | DA11: 1039341 | DB11: =CY11*DA11 -> 172530606 | DC11: 166 | DD11: m3 | DE11: 954498 | DF11: =DC11*DE11 -> 158446668 | DG11: 166 | DH11: m3 | DJ11: =DG11*DI11 -> 0 | DK11: 166 | DL11: m3 | DM11: 1054189 | DN11: =DK11*DM11 -> 174995374 | DO11: 166 | DP11: m3 | DQ11: 986394 | DR11: =DO11*DQ11 -> 163741404 | DS11: 166 | DT11: m3 | DU11: 1004730.8 | DV11: =DS11*DU11 -> 1.6678531e+08 | DW11: 166 | DX11: m3 | DY11: 1055250 | DZ11: =DW11*DY11 -> 175171500 | EA11: 166 | EB11: m3 | EC11: 980050 | ED11: =EA11*EC11 -> 162688300 | EE11: 166 | EF11: m3 | EG11: 983133 | EH11: =EE11*EG11 -> 163200078 | EI11: 166 | EJ11: m3 | EK11: 987713 | EL11: =EI11*EK11 -> 163960358 | EM11: 166 | EN11: m3 | EO11: 1049947 | EP11: =EM11*EO11 -> 174291202 | EQ11: 166 | ER11: m3 | ES11: 1028736 | ET11: =EQ11*ES11 -> 170770176 | EU11: 166 | EV11: m3 | EW11: 987057 | EX11: =EU11*EW11 -> 163851462 | EY11: 166 | EZ11: m3 | FA11: 1023434 | FB11: =EY11*FA11 -> 169890044 | FC11: 166 | FD11: m3 | FE11: 989777 | FF11: =FC11*FE11 -> 164302982 | FG11: 166 | FH11: m3 | FI11: 1000348 | FJ11: =FG11*FI11 -> 166057768 | FK11: 166 | FL11: m3 | FM11: 986314 | FN11: =FK11*FM11 -> 163728124 | FO11: 166 | FP11: m3 | FR11: =FO11*FQ11 -> 0
A12: 8 | B12: CONCRETO RESISTENCIA 14MPa (G) - CICLÓPEO | C12: 47 | D12: m3 | E12: 462735 | F12: =C12*E12 -> 21748545 | G12: 47 | H12: m3 | I12: 492938 | J12: =G12*I12 -> 23168086 | K12: 47 | L12: m3 | M12: 459544 | N12: =K12*M12 -> 21598568 | O12: 47 | P12: m3 | Q12: 461366 | R12: =O12*Q12 -> 21684202 | S12: 47 | T12: m3 | U12: 463797 | V12: =S12*U12 -> 21798459 | W12: 47 | X12: m3 | Y12: 463698 | Z12: =W12*Y12 -> 21793806 | AA12: 47 | AB12: m3 | AC12: 463797 | AD12: =AA12*AC12 -> 21798459 | AE12: 47 | AF12: m3 | AG12: 462906 | AH12: =AE12*AG12 -> 21756582 | AI12: 47 | AJ12: m3 | AK12: 459063.22 | AL12: =AI12*AK12 -> 21575971 | AM12: 47 | AN12: m3 | AO12: 462611 | AP12: =AM12*AO12 -> 21742717 | AQ12: 47 | AR12: m3 | AS12: 461426 | AT12: =AQ12*AS12 -> 21687022 | AU12: 47 | AV12: m3 | AW12: 460299 | AX12: =AU12*AW12 -> 21634053 | AY12: 47 | AZ12: m3 | BA12: 493926 | BB12: =AY12*BA12 -> 23214522 | BC12: 47 | BD12: m3 | BE12: 463006 | BF12: =BC12*BE12 -> 21761282 | BG12: 47 | BH12: m3 | BI12: 459478 | BJ12: =BG12*BI12 -> 21595466 | BK12: 47 | BL12: m3 | BM12: 488987 | BN12: =BK12*BM12 -> 22982389 | BO12: 47 | BP12: m3 | BQ12: 467928 | BR12: =BO12*BQ12 -> 21992616 | BS12: 47 | BT12: m3 | BU12: 460372 | BV12: =BS12*BU12 -> 21637484 | BW12: 47 | BX12: m3 | BY12: 444533 | BZ12: =BW12*BY12 -> 20893051 | CA12: 47 | CB12: m3 | CC12: 463302.6 | CD12: =CA12*CC12 -> 21775222 | CE12: 47 | CF12: m3 | CH12: =CE12*CG12 -> 0 | CI12: 47 | CJ12: m3 | CL12: =CI12*CK12 -> 0 | CM12: 47 | CN12: m3 | CO12: 467308 | CP12: =CM12*CO12 -> 21963476 | CQ12: 47 | CR12: m3 | CS12: 460438 | CT12: =CQ12*CS12 -> 21640586 | CU12: 47 | CV12: m3 | CW12: 461234 | CX12: =CU12*CW12 -> 21677998 | CY12: 47 | CZ12: m3 | DA12: 484047 | DB12: =CY12*DA12 -> 22750209 | DC12: 47 | DD12: m3 | DE12: 469230 | DF12: =DC12*DE12 -> 22053810 | DG12: 47 | DH12: m3 | DJ12: =DG12*DI12 -> 0 | DK12: 47 | DL12: m3 | DM12: 490962 | DN12: =DK12*DM12 -> 23075214 | DO12: 47 | DP12: m3 | DQ12: 459388 | DR12: =DO12*DQ12 -> 21591236 | DS12: 47 | DT12: m3 | DU12: 467928.2 | DV12: =DS12*DU12 -> 21992625 | DW12: 47 | DX12: m3 | DY12: 491456 | DZ12: =DW12*DY12 -> 23098432 | EA12: 47 | EB12: m3 | EC12: 470500 | ED12: =EA12*EC12 -> 22113500 | EE12: 47 | EF12: m3 | EG12: 457869 | EH12: =EE12*EG12 -> 21519843 | EI12: 47 | EJ12: m3 | EK12: 460002 | EL12: =EI12*EK12 -> 21620094 | EM12: 47 | EN12: m3 | EO12: 488986 | EP12: =EM12*EO12 -> 22982342 | EQ12: 47 | ER12: m3 | ES12: 464290 | ET12: =EQ12*ES12 -> 21821630 | EU12: 47 | EV12: m3 | EW12: 459697 | EX12: =EU12*EW12 -> 21605759 | EY12: 47 | EZ12: m3 | FA12: 491456 | FB12: =EY12*FA12 -> 23098432 | FC12: 47 | FD12: m3 | FE12: 460964 | FF12: =FC12*FE12 -> 21665308 | FG12: 47 | FH12: m3 | FI12: 493926 | FJ12: =FG12*FI12 -> 23214522 | FK12: 47 | FL12: m3 | FM12: 459351 | FN12: =FK12*FM12 -> 21589497 | FO12: 47 | FP12: m3 | FR12: =FO12*FQ12 -> 0
A13: 9 | B13: ACERO DE REFUERZO Fy 4200 MPa | C13: 50531 | D13: kg | E13: 7814 | F13: =C13*E13 -> 394849234 | G13: 50531 | H13: kg | I13: 7590 | J13: =G13*I13 -> 383530290 | K13: 50531 | L13: kg | M13: 7760 | N13: =K13*M13 -> 392120560 | O13: 50531 | P13: kg | Q13: 7791 | R13: =O13*Q13 -> 393687021 | S13: 50531 | T13: kg | U13: 7799 | V13: =S13*U13 -> 394091269 | W13: 50531 | X13: kg | Y13: 7831 | Z13: =W13*Y13 -> 395708261 | AA13: 50531 | AB13: kg | AC13: 7832 | AD13: =AA13*AC13 -> 395758792 | AE13: 50531 | AF13: kg | AG13: 7817 | AH13: =AE13*AG13 -> 395000827 | AI13: 50531 | AJ13: kg | AK13: 7752.27 | AL13: =AI13*AK13 -> 3.9172996e+08 | AM13: 50531 | AN13: kg | AO13: 7812 | AP13: =AM13*AO13 -> 394748172 | AQ13: 50531 | AR13: kg | AS13: 7792 | AT13: =AQ13*AS13 -> 393737552 | AU13: 50531 | AV13: kg | AW13: 7773 | AX13: =AU13*AW13 -> 392777463 | AY13: 50531 | AZ13: kg | BA13: 8341 | BB13: =AY13*BA13 -> 421479071 | BC13: 50531 | BD13: kg | BE13: 7819 | BF13: =BC13*BE13 -> 395101889 | BG13: 50531 | BH13: kg | BI13: 7759 | BJ13: =BG13*BI13 -> 392070029 | BK13: 50531 | BL13: kg | BM13: 8258 | BN13: =BK13*BM13 -> 417284998 | BO13: 50531 | BP13: kg | BQ13: 7902 | BR13: =BO13*BQ13 -> 399295962 | BS13: 50531 | BT13: kg | BU13: 7774 | BV13: =BS13*BU13 -> 392827994 | BW13: 50531 | BX13: kg | BY13: 7507 | BZ13: =BW13*BY13 -> 379336217 | CA13: 50531 | CB13: kg | CC13: 7823.86 | CD13: =CA13*CC13 -> 3.9534747e+08 | CE13: 50531 | CF13: kg | CH13: =CE13*CG13 -> 0 | CI13: 50531 | CJ13: kg | CL13: =CI13*CK13 -> 0 | CM13: 50531 | CN13: kg | CO13: 7892 | CP13: =CM13*CO13 -> 398790652 | CQ13: 50531 | CR13: kg | CS13: 7775 | CT13: =CQ13*CS13 -> 392878525 | CU13: 50531 | CV13: kg | CW13: 7789 | CX13: =CU13*CW13 -> 393585959 | CY13: 50531 | CZ13: kg | DA13: 8174 | DB13: =CY13*DA13 -> 413040394 | DC13: 50531 | DD13: kg | DE13: 8258 | DF13: =DC13*DE13 -> 417284998 | DG13: 50531 | DH13: kg | DJ13: =DG13*DI13 -> 0 | DK13: 50531 | DL13: kg | DM13: 7632 | DN13: =DK13*DM13 -> 385652592 | DO13: 50531 | DP13: kg | DQ13: 7758 | DR13: =DO13*DQ13 -> 392019498 | DS13: 50531 | DT13: kg | DU13: 7901.97 | DV13: =DS13*DU13 -> 3.9929445e+08 | DW13: 50531 | DX13: kg | DY13: 7306 | DZ13: =DW13*DY13 -> 369179486 | EA13: 50531 | EB13: kg | EC13: 8300 | ED13: =EA13*EC13 -> 419407300 | EE13: 50531 | EF13: kg | EG13: 7732 | EH13: =EE13*EG13 -> 390705692 | EI13: 50531 | EJ13: kg | EK13: 7768 | EL13: =EI13*EK13 -> 392524808 | EM13: 50531 | EN13: kg | EO13: 7006 | EP13: =EM13*EO13 -> 354020186 | EQ13: 50531 | ER13: kg | ES13: 8091 | ET13: =EQ13*ES13 -> 408846321 | EU13: 50531 | EV13: kg | EW13: 7763 | EX13: =EU13*EW13 -> 392272153 | EY13: 50531 | EZ13: kg | FA13: 8132 | FB13: =EY13*FA13 -> 410918092 | FC13: 50531 | FD13: kg | FE13: 7784 | FF13: =FC13*FE13 -> 393333304 | FG13: 50531 | FH13: kg | FI13: 8258 | FJ13: =FG13*FI13 -> 417284998 | FK13: 50531 | FL13: kg | FM13: 7757 | FN13: =FK13*FM13 -> 391968967 | FO13: 50531 | FP13: kg | FR13: =FO13*FQ13 -> 0
A14: 10 | B14: CUNETA DE CONCRETO 21 Mpa VACIADA IN SITU; INCLUYE LA CONFORMACIÓN DE LA SUPERFICIE DE APOYO | C14: 727 | D14: m3 | E14: 1071199 | F14: =C14*E14 -> 778761673 | G14: 727 | H14: m3 | I14: 1040498 | J14: =G14*I14 -> 756442046 | K14: 727 | L14: m3 | M14: 1063813 | N14: =K14*M14 -> 773392051 | O14: 727 | P14: m3 | Q14: 1068032 | R14: =O14*Q14 -> 776459264 | S14: 727 | T14: m3 | U14: 1069084 | V14: =S14*U14 -> 777224068 | W14: 727 | X14: m3 | Y14: 1073430 | Z14: =W14*Y14 -> 780383610 | AA14: 727 | AB14: m3 | AC14: 1070227 | AD14: =AA14*AC14 -> 778055029 | AE14: 727 | AF14: m3 | AG14: 1071596 | AH14: =AE14*AG14 -> 779050292 | AI14: 727 | AJ14: m3 | AK14: 1062700 | AL14: =AI14*AK14 -> 7.7258293e+08 | AM14: 727 | AN14: m3 | AO14: 1070913 | AP14: =AM14*AO14 -> 778553751 | AQ14: 727 | AR14: m3 | AS14: 1068169 | AT14: =AQ14*AS14 -> 776558863 | AU14: 727 | AV14: m3 | AW14: 1065560 | AX14: =AU14*AW14 -> 774662120 | AY14: 727 | AZ14: m3 | BA14: 1143020 | BB14: =AY14*BA14 -> 830975540 | BC14: 727 | BD14: m3 | BE14: 1071828 | BF14: =BC14*BE14 -> 779218956 | BG14: 727 | BH14: m3 | BI14: 1063661 | BJ14: =BG14*BI14 -> 773281547 | BK14: 727 | BL14: m3 | BM14: 1140340 | BN14: =BK14*BM14 -> 829027180 | BO14: 727 | BP14: m3 | BQ14: 1083221 | BR14: =BO14*BQ14 -> 787501667 | BS14: 727 | BT14: m3 | BU14: 1065731 | BV14: =BS14*BU14 -> 774786437 | BW14: 727 | BX14: m3 | BY14: 1029065 | BZ14: =BW14*BY14 -> 748130255 | CA14: 727 | CB14: m3 | CC14: 1072513.9 | CD14: =CA14*CC14 -> 7.7971761e+08 | CE14: 727 | CF14: m3 | CH14: =CE14*CG14 -> 0 | CI14: 727 | CJ14: m3 | CL14: =CI14*CK14 -> 0 | CM14: 727 | CN14: m3 | CO14: 1081787 | CP14: =CM14*CO14 -> 786459149 | CQ14: 727 | CR14: m3 | CS14: 1065882 | CT14: =CQ14*CS14 -> 774896214 | CU14: 727 | CV14: m3 | CW14: 1067725 | CX14: =CU14*CW14 -> 776236075 | CY14: 727 | CZ14: m3 | DA14: 1120536 | DB14: =CY14*DA14 -> 814629672 | DC14: 727 | DD14: m3 | DE14: 1029065 | DF14: =DC14*DE14 -> 748130255 | DG14: 727 | DH14: m3 | DJ14: =DG14*DI14 -> 0 | DK14: 727 | DL14: m3 | DM14: 1046215 | DN14: =DK14*DM14 -> 760598305 | DO14: 727 | DP14: m3 | DQ14: 1063453 | DR14: =DO14*DQ14 -> 773130331 | DS14: 727 | DT14: m3 | DU14: 1083221.9 | DV14: =DS14*DU14 -> 7.8750231e+08 | DW14: 727 | DX14: m3 | DY14: 1001622 | DZ14: =DW14*DY14 -> 728179194 | EA14: 727 | EB14: m3 | EC14: 1040050 | ED14: =EA14*EC14 -> 756116350 | EE14: 727 | EF14: m3 | EG14: 1059936 | EH14: =EE14*EG14 -> 770573472 | EI14: 727 | EJ14: m3 | EK14: 1064874 | EL14: =EI14*EK14 -> 774163398 | EM14: 727 | EN14: m3 | EO14: 960460 | EP14: =EM14*EO14 -> 698254420 | EQ14: 727 | ER14: m3 | ES14: 1109103 | ET14: =EQ14*ES14 -> 806317881 | EU14: 727 | EV14: m3 | EW14: 1064167 | EX14: =EU14*EW14 -> 773649409 | EY14: 727 | EZ14: m3 | FA14: 1034782 | FB14: =EY14*FA14 -> 752286514 | FC14: 727 | FD14: m3 | FE14: 1067100 | FF14: =FC14*FE14 -> 775781700 | FG14: 727 | FH14: m3 | FI14: 1056863 | FJ14: =FG14*FI14 -> 768339401 | FK14: 727 | FL14: m3 | FM14: 1063367 | FN14: =FK14*FM14 -> 773067809 | FO14: 727 | FP14: m3 | FR14: =FO14*FQ14 -> 0
A15: 11 | B15: TRANSPORTE DE MATERIALES PROVENIENTES DE LA EXCAVACIÓN DE LA EXPLANACIÓN, CANALES Y PRÉSTAMOS PARA DISTANCIAS MAYORES DE MIL METROS (1.000 m) MEDIDOS A PARTIR DE CIEN METROS (100 m) | C15: 27270 | D15: m3/km | E15: 3778 | F15: =C15*E15 -> 103026060 | G15: 27270 | H15: m3/km | I15: 4024 | J15: =G15*I15 -> 109734480 | K15: 27270 | L15: m3/km | M15: 3752 | N15: =K15*M15 -> 102317040 | O15: 27270 | P15: m3/km | Q15: 3767 | R15: =O15*Q15 -> 102726090 | S15: 27270 | T15: m3/km | U15: 3787 | V15: =S15*U15 -> 103271490 | W15: 27270 | X15: m3/km | Y15: 3786 | Z15: =W15*Y15 -> 103244220 | AA15: 27270 | AB15: m3/km | AC15: 3787 | AD15: =AA15*AC15 -> 103271490 | AE15: 27270 | AF15: m3/km | AG15: 3780 | AH15: =AE15*AG15 -> 103080600 | AI15: 27270 | AJ15: m3/km | AK15: 3748.34 | AL15: =AI15*AK15 -> 1.0221723e+08 | AM15: 27270 | AN15: m3/km | AO15: 3777 | AP15: =AM15*AO15 -> 102998790 | AQ15: 27270 | AR15: m3/km | AS15: 3768 | AT15: =AQ15*AS15 -> 102753360 | AU15: 27270 | AV15: m3/km | AW15: 3758 | AX15: =AU15*AW15 -> 102480660 | AY15: 27270 | AZ15: m3/km | BA15: 4033 | BB15: =AY15*BA15 -> 109979910 | BC15: 27270 | BD15: m3/km | BE15: 3781 | BF15: =BC15*BE15 -> 103107870 | BG15: 27270 | BH15: m3/km | BI15: 3752 | BJ15: =BG15*BI15 -> 102317040 | BK15: 27270 | BL15: m3/km | BM15: 3993 | BN15: =BK15*BM15 -> 108889110 | BO15: 27270 | BP15: m3/km | BQ15: 3821 | BR15: =BO15*BQ15 -> 104198670 | BS15: 27270 | BT15: m3/km | BU15: 3759 | BV15: =BS15*BU15 -> 102507930 | BW15: 27270 | BX15: m3/km | BY15: 3630 | BZ15: =BW15*BY15 -> 98990100 | CA15: 27270 | CB15: m3/km | CC15: 3782.9 | CD15: =CA15*CC15 -> 103159683 | CE15: 27270 | CF15: m3/km | CH15: =CE15*CG15 -> 0 | CI15: 27270 | CJ15: m3/km | CL15: =CI15*CK15 -> 0 | CM15: 27270 | CN15: m3/km | CO15: 3816 | CP15: =CM15*CO15 -> 104062320 | CQ15: 27270 | CR15: m3/km | CS15: 3760 | CT15: =CQ15*CS15 -> 102535200 | CU15: 27270 | CV15: m3/km | CW15: 3766 | CX15: =CU15*CW15 -> 102698820 | CY15: 27270 | CZ15: m3/km | DA15: 3952 | DB15: =CY15*DA15 -> 107771040 | DC15: 27270 | DD15: m3/km | DE15: 3630 | DF15: =DC15*DE15 -> 98990100 | DG15: 27270 | DH15: m3/km | DJ15: =DG15*DI15 -> 0 | DK15: 27270 | DL15: m3/km | DM15: 4008 | DN15: =DK15*DM15 -> 109298160 | DO15: 27270 | DP15: m3/km | DQ15: 3751 | DR15: =DO15*DQ15 -> 102289770 | DS15: 27270 | DT15: m3/km | DU15: 3820.72 | DV15: =DS15*DU15 -> 1.0419103e+08 | DW15: 27270 | DX15: m3/km | DY15: 4012 | DZ15: =DW15*DY15 -> 109407240 | EA15: 27270 | EB15: m3/km | EC15: 3850 | ED15: =EA15*EC15 -> 104989500 | EE15: 27270 | EF15: m3/km | EG15: 3739 | EH15: =EE15*EG15 -> 101962530 | EI15: 27270 | EJ15: m3/km | EK15: 3756 | EL15: =EI15*EK15 -> 102426120 | EM15: 27270 | EN15: m3/km | EO15: 3992 | EP15: =EM15*EO15 -> 108861840 | EQ15: 27270 | ER15: m3/km | ES15: 3791 | ET15: =EQ15*ES15 -> 103380570 | EU15: 27270 | EV15: m3/km | EW15: 3754 | EX15: =EU15*EW15 -> 102371580 | EY15: 27270 | EZ15: m3/km | FA15: 4013 | FB15: =EY15*FA15 -> 109434510 | FC15: 27270 | FD15: m3/km | FE15: 3764 | FF15: =FC15*FE15 -> 102644280 | FG15: 27270 | FH15: m3/km | FI15: 3626 | FJ15: =FG15*FI15 -> 98881020 | FK15: 27270 | FL15: m3/km | FM15: 3751 | FN15: =FK15*FM15 -> 102289770 | FO15: 27270 | FP15: m3/km | FR15: =FO15*FQ15 -> 0
A16: 12 | B16: TRANSPORTE DE MATERIALES PROVENIENTES DE DERRUMBES, MEDIDO A PARTIR DE CIEN METROS (100 M)-TRANSPORTE CON VOLQUETA DE 6M3 | C16: 48000 | D16: m3/km | E16: 2084 | F16: =C16*E16 -> 100032000 | G16: 48000 | H16: m3/km | I16: 2220 | J16: =G16*I16 -> 106560000 | K16: 48000 | L16: m3/km | M16: 2070 | N16: =K16*M16 -> 99360000 | O16: 48000 | P16: m3/km | Q16: 2078 | R16: =O16*Q16 -> 99744000 | S16: 48000 | T16: m3/km | U16: 2089 | V16: =S16*U16 -> 100272000 | W16: 48000 | X16: m3/km | Y16: 2089 | Z16: =W16*Y16 -> 100272000 | AA16: 48000 | AB16: m3/km | AC16: 2089 | AD16: =AA16*AC16 -> 100272000 | AE16: 48000 | AF16: m3/km | AG16: 2085 | AH16: =AE16*AG16 -> 100080000 | AI16: 48000 | AJ16: m3/km | AK16: 2067.95 | AL16: =AI16*AK16 -> 99261600 | AM16: 48000 | AN16: m3/km | AO16: 2084 | AP16: =AM16*AO16 -> 100032000 | AQ16: 48000 | AR16: m3/km | AS16: 2079 | AT16: =AQ16*AS16 -> 99792000 | AU16: 48000 | AV16: m3/km | AW16: 2074 | AX16: =AU16*AW16 -> 99552000 | AY16: 48000 | AZ16: m3/km | BA16: 2225 | BB16: =AY16*BA16 -> 106800000 | BC16: 48000 | BD16: m3/km | BE16: 2086 | BF16: =BC16*BE16 -> 100128000 | BG16: 48000 | BH16: m3/km | BI16: 2070 | BJ16: =BG16*BI16 -> 99360000 | BK16: 48000 | BL16: m3/km | BM16: 2203 | BN16: =BK16*BM16 -> 105744000 | BO16: 48000 | BP16: m3/km | BQ16: 2108 | BR16: =BO16*BQ16 -> 101184000 | BS16: 48000 | BT16: m3/km | BU16: 2074 | BV16: =BS16*BU16 -> 99552000 | BW16: 48000 | BX16: m3/km | BY16: 2003 | BZ16: =BW16*BY16 -> 96144000 | CA16: 48000 | CB16: m3/km | CC16: 2087 | CD16: =CA16*CC16 -> 100176000 | CE16: 48000 | CF16: m3/km | CH16: =CE16*CG16 -> 0 | CI16: 48000 | CJ16: m3/km | CL16: =CI16*CK16 -> 0 | CM16: 48000 | CN16: m3/km | CO16: 2105 | CP16: =CM16*CO16 -> 101040000 | CQ16: 48000 | CR16: m3/km | CS16: 2074 | CT16: =CQ16*CS16 -> 99552000 | CU16: 48000 | CV16: m3/km | CW16: 2078 | CX16: =CU16*CW16 -> 99744000 | CY16: 48000 | CZ16: m3/km | DA16: 2180 | DB16: =CY16*DA16 -> 104640000 | DC16: 48000 | DD16: m3/km | DE16: 2114 | DF16: =DC16*DE16 -> 101472000 | DG16: 48000 | DH16: m3/km | DJ16: =DG16*DI16 -> 0 | DK16: 48000 | DL16: m3/km | DM16: 2211 | DN16: =DK16*DM16 -> 106128000 | DO16: 48000 | DP16: m3/km | DQ16: 2069 | DR16: =DO16*DQ16 -> 99312000 | DS16: 48000 | DT16: m3/km | DU16: 2107.89 | DV16: =DS16*DU16 -> 101178720 | DW16: 48000 | DX16: m3/km | DY16: 2213 | DZ16: =DW16*DY16 -> 106224000 | EA16: 48000 | EB16: m3/km | EC16: 2050 | ED16: =EA16*EC16 -> 98400000 | EE16: 48000 | EF16: m3/km | EG16: 2169 | EH16: =EE16*EG16 -> 104112000 | EI16: 48000 | EJ16: m3/km | EK16: 2071 | EL16: =EI16*EK16 -> 99408000 | EM16: 48000 | EN16: m3/km | EO16: 2202 | EP16: =EM16*EO16 -> 105696000 | EQ16: 48000 | ER16: m3/km | ES16: 2092 | ET16: =EQ16*ES16 -> 100416000 | EU16: 48000 | EV16: m3/km | EW16: 2071 | EX16: =EU16*EW16 -> 99408000 | EY16: 48000 | EZ16: m3/km | FA16: 2214 | FB16: =EY16*FA16 -> 106272000 | FC16: 48000 | FD16: m3/km | FE16: 2077 | FF16: =FC16*FE16 -> 99696000 | FG16: 48000 | FH16: m3/km | FI16: 2000 | FJ16: =FG16*FI16 -> 96000000 | FK16: 48000 | FL16: m3/km | FM16: 2069 | FN16: =FK16*FM16 -> 99312000 | FO16: 48000 | FP16: m3/km | FR16: =FO16*FQ16 -> 0
... A30: 26 | B30: VALOR PMT (INMODIFICABLE) | C30: 1 | D30: un | E30: 40245640 | F30: =C30*E30 -> 40245640 | G30: 1 | H30: un | I30: 40245640 | J30: =G30*I30 -> 40245640 | K30: 1 | L30: un | M30: 40245640 | N30: =K30*M30 -> 40245640 | O30: 1 | P30: un | Q30: 40245640 | R30: =O30*Q30 -> 40245640 | S30: 1 | T30: un | U30: 40245640 | V30: =S30*U30 -> 40245640 | W30: 1 | X30: un | Y30: 40245640 | Z30: =W30*Y30 -> 40245640 | AA30: 1 | AB30: un | AC30: 40245640 | AD30: =AA30*AC30 -> 40245640 | AE30: 1 | AF30: un | AG30: 40245640 | AH30: =AE30*AG30 -> 40245640 | AI30: 1 | AJ30: un | AK30: 40245640 | AL30: =AI30*AK30 -> 40245640 | AM30: 1 | AN30: un | AO30: 40245640 | AP30: =AM30*AO30 -> 40245640 | AQ30: 1 | AR30: un | AS30: 40245640 | AT30: =AQ30*AS30 -> 40245640 | AU30: 1 | AV30: un | AW30: 40245640 | AX30: =AU30*AW30 -> 40245640 | AY30: 1 | AZ30: un | BA30: 40245640 | BB30: =AY30*BA30 -> 40245640 | BC30: 1 | BD30: un | BE30: 40245640 | BF30: =BC30*BE30 -> 40245640 | BG30: 1 | BH30: un | BI30: 40245640 | BJ30: =BG30*BI30 -> 40245640 | BK30: 1 | BL30: un | BM30: 40245640 | BN30: =BK30*BM30 -> 40245640 | BO30: 1 | BP30: un | BQ30: 40245640 | BR30: =BO30*BQ30 -> 40245640 | BS30: 1 | BT30: un | BU30: 40245640 | BV30: =BS30*BU30 -> 40245640 | BW30: 1 | BX30: un | BY30: 40245640 | BZ30: =BW30*BY30 -> 40245640 | CA30: 1 | CB30: un | CC30: 40245640 | CD30: =CA30*CC30 -> 40245640 | CE30: 1 | CF30: un | CH30: =CE30*CG30 -> 0 | CI30: 1 | CJ30: un | CL30: =CI30*CK30 -> 0 | CM30: 1 | CN30: un | CO30: 40245640 | CP30: =CM30*CO30 -> 40245640 | CQ30: 1 | CR30: un | CS30: 40245640 | CT30: =CQ30*CS30 -> 40245640 | CU30: 1 | CV30: un | CW30: 40245640 | CX30: =CU30*CW30 -> 40245640 | CY30: 1 | CZ30: un | DA30: 40245640 | DB30: =CY30*DA30 -> 40245640 | DC30: 1 | DD30: un | DE30: 40245640 | DF30: =DC30*DE30 -> 40245640 | DG30: 1 | DH30: un | DJ30: =DG30*DI30 -> 0 | DK30: 1 | DL30: un | DM30: 40245640 | DN30: =DK30*DM30 -> 40245640 | DO30: 1 | DP30: un | DQ30: 40245640 | DR30: =DO30*DQ30 -> 40245640 | DS30: 1 | DT30: un | DU30: 40245640 | DV30: =DS30*DU30 -> 40245640 | DW30: 1 | DX30: un | DY30: 40245640 | DZ30: =DW30*DY30 -> 40245640 | EA30: 1 | EB30: un | EC30: 40245640 | ED30: =EA30*EC30 -> 40245640 | EE30: 1 | EF30: un | EG30: 40245640 | EH30: =EE30*EG30 -> 40245640 | EI30: 1 | EJ30: un | EK30: 40245640 | EL30: =EI30*EK30 -> 40245640 | EM30: 1 | EN30: un | EO30: 40245640 | EP30: =EM30*EO30 -> 40245640 | EQ30: 1 | ER30: un | ES30: 40245640 | ET30: =EQ30*ES30 -> 40245640 | EU30: 1 | EV30: un | EW30: 40245640 | EX30: =EU30*EW30 -> 40245640 | EY30: 1 | EZ30: un | FA30: 40245640 | FB30: =EY30*FA30 -> 40245640 | FC30: 1 | FD30: un | FE30: 40245640 | FF30: =FC30*FE30 -> 40245640 | FG30: 1 | FH30: un | FI30: 40245640 | FJ30: =FG30*FI30 -> 40245640 | FK30: 1 | FL30: un | FM30: 40245640 | FN30: =FK30*FM30 -> 40245640 | FO30: 1 | FP30: un | FR30: =FO30*FQ30 -> 0
C31: =SUM(F5:F30) -> 4441370946 | G31: =SUM(J5:J30) -> 4415737252 | K31: =SUM(N5:N30) -> 4411147277 | O31: =SUM(R5:R30) -> 4428183322 | S31: =SUM(V5:V30) -> 4436687197 | W31: =SUM(Z5:Z30) -> 4450023905 | AA31: =SUM(AD5:AD30) -> 4448407587 | AE31: =SUM(AH5:AH30) -> 4442583322 | AI31: =SUM(AL5:AL30) -> 4.4066877e+09 | AM31: =SUM(AP5:AP30) -> 4439827912 | AQ31: =SUM(AT5:AT30) -> 4428784385 | AU31: =SUM(AX5:AX30) -> 4418239078 | AY31: =SUM(BB5:BB30) -> 4460357107 | BC31: =SUM(BF5:BF30) -> 4443570456 | BG31: =SUM(BJ5:BJ30) -> 4410568375 | BK31: =SUM(BN5:BN30) -> 4065199311 | BO31: =SUM(BR5:BR30) -> 4489541220 | BS31: =SUM(BV5:BV30) -> 4418911175 | BW31: =SUM(BZ5:BZ30) -> 4270954713 | CA31: =SUM(CD5:CD30) -> 4.4462967e+09 | CE31: =SUM(CH5:CH30) -> 0 | CI31: =SUM(CL5:CL30) -> 0 | CM31: =SUM(CP5:CP30) -> 4483768759 | CQ31: =SUM(CT5:CT30) -> 4419511348 | CU31: =SUM(CX5:CX30) -> 4426988260 | CY31: =SUM(DB5:DB30) -> 4443784070 | DC31: =SUM(DF5:DF30) -> 4209905057 | DG31: =SUM(DJ5:DJ30) -> 0 | DK31: =SUM(DN5:DN30) -> 4428721540 | DO31: =SUM(DR5:DR30) -> 4409715330 | DS31: =SUM(DV5:DV30) -> 4.4892003e+09 | DW31: =SUM(DZ5:DZ30) -> 4293562396 | EA31: =SUM(ED5:ED30) -> 4459427982 | EE31: =SUM(EH5:EH30) -> 4443702103 | EI31: =SUM(EL5:EL30) -> 4415377031 | EM31: =SUM(EP5:EP30) -> 4162219293 | EQ31: =SUM(ET5:ET30) -> 4571221529 | EU31: =SUM(EX5:EX30) -> 4412638649 | EY31: =SUM(FB5:FB30) -> 4431520172 | FC31: =SUM(FF5:FF30) -> 4424456054 | FG31: =SUM(FJ5:FJ30) -> 4402356816 | FK31: =SUM(FN5:FN30) -> 4409367131 | FO31: =SUM(FR5:FR30) -> 0
B32: ADMINISTRACIÓN | F32: 0.29 | J32: 0.29 | N32: 0.29 | R32: 0.29 | V32: 0.29 | Z32: 0.29 | AD32: 0.29 | AH32: 0.29 | AL32: 0.29 | AP32: 0.29 | AT32: 0.29 | AX32: 0.29 | BB32: 0.29 | BF32: 0.29 | BJ32: 0.29 | BN32: 0.29 | BR32: 0.29 | BV32: 0.29 | BZ32: 0.29 | CD32: 0.29 | CP32: 0.29 | CT32: 0.29 | CX32: 0.29 | DB32: 0.29 | DF32: 0.29 | DN32: 0.29 | DR32: 0.29 | DV32: 0.29 | DZ32: 0.29 | ED32: 0.29 | EH32: 0.29 | EL32: 0.28 | EP32: 0.29 | ET32: 0.29 | EX32: 0.29 | FB32: 0.28 | FF32: 0.29 | FJ32: 0.29 | FN32: 0.25
B33: UTILIDAD | F33: 0.05 | J33: 0.05 | N33: 0.05 | R33: 0.05 | V33: 0.05 | Z33: 0.05 | AD33: 0.05 | AH33: 0.05 | AL33: 0.05 | AP33: 0.05 | AT33: 0.05 | AX33: 0.05 | BB33: 0.05 | BF33: 0.05 | BJ33: 0.05 | BN33: 0.05 | BR33: 0.05 | BV33: 0.05 | BZ33: 0.05 | CD33: 0.05 | CP33: 0.05 | CT33: 0.05 | CX33: 0.05 | DB33: 0.05 | DF33: 0.05 | DN33: 0.05 | DR33: 0.05 | DV33: 0.05 | DZ33: 0.05 | ED33: 0.05 | EH33: 0.05 | EL33: 0.01 | EP33: 0.05 | ET33: 0.05 | EX33: 0.05 | FB33: 0.04 | FF33: 0.05 | FJ33: 0.05 | FN33: 0.09
F34: =SUM(F32:F33) -> 0.34 | J34: =SUM(J32:J33) -> 0.34 | N34: =SUM(N32:N33) -> 0.34 | R34: =SUM(R32:R33) -> 0.34 | V34: =SUM(V32:V33) -> 0.34 | Z34: =SUM(Z32:Z33) -> 0.34 | AD34: =SUM(AD32:AD33) -> 0.34 | AH34: =SUM(AH32:AH33) -> 0.34 | AL34: =SUM(AL32:AL33) -> 0.34 | AP34: =SUM(AP32:AP33) -> 0.34 | AT34: =SUM(AT32:AT33) -> 0.34 | AX34: =SUM(AX32:AX33) -> 0.34 | BB34: =SUM(BB32:BB33) -> 0.34 | BF34: =SUM(BF32:BF33) -> 0.34 | BJ34: =SUM(BJ32:BJ33) -> 0.34 | BN34: =SUM(BN32:BN33) -> 0.34 | BR34: =SUM(BR32:BR33) -> 0.34 | BV34: =SUM(BV32:BV33) -> 0.34 | BZ34: =SUM(BZ32:BZ33) -> 0.34 | CD34: =SUM(CD32:CD33) -> 0.34 | CH34: =SUM(CH32:CH33) -> 0 | CL34: =SUM(CL32:CL33) -> 0 | CP34: =SUM(CP32:CP33) -> 0.34 | CT34: =SUM(CT32:CT33) -> 0.34 | CX34: =SUM(CX32:CX33) -> 0.34 | DB34: =SUM(DB32:DB33) -> 0.34 | DF34: =SUM(DF32:DF33) -> 0.34 | DJ34: =SUM(DJ32:DJ33) -> 0 | DN34: =SUM(DN32:DN33) -> 0.34 | DR34: =SUM(DR32:DR33) -> 0.34 | DV34: =SUM(DV32:DV33) -> 0.34 | DZ34: =SUM(DZ32:DZ33) -> 0.34 | ED34: =SUM(ED32:ED33) -> 0.34 | EH34: =SUM(EH32:EH33) -> 0.34 | EL34: =SUM(EL32:EL33) -> 0.29 | EP34: =SUM(EP32:EP33) -> 0.34 | ET34: =SUM(ET32:ET33) -> 0.34 | EX34: =SUM(EX32:EX33) -> 0.34 | FB34: =SUM(FB32:FB33) -> 0.32 | FF34: =SUM(FF32:FF33) -> 0.34 | FJ34: =SUM(FJ32:FJ33) -> 0.34 | FN34: =SUM(FN32:FN33) -> 0.34 | FR34: =SUM(FR32:FR33) -> 0
CD36: 4446302948

Sheet Control
C1: 3 | D1: =+C1+4 -> 7 | E1: =+D1+4 -> 11 | F1: =+E1+4 -> 15 | G1: =+F1+4 -> 19 | H1: =+G1+4 -> 23 | I1: =+H1+4 -> 27 | J1: =+I1+4 -> 31 | K1: =+J1+4 -> 35 | ... AS1: =+AR1+4 -> 171
C2: 1 | D2: 2 | E2: 3 | F2: 4 | G2: 5 | H2: 6 | I2: 7 | J2: 8 | K2: 9 | L2: 10 | M2: 11 | N2: 12 | O2: 13 | P2: 14 | Q2: 15 | R2: 16 | S2: 17 | T2: 18 | U2: 19 | V2: 20 | W2: 21 | X2: 22 | Y2: 23 | Z2: 24 | AA2: 25 | AB2: 26 | AC2: 27 | AD2: 28 | AE2: 29 | AF2: 30 | AG2: 31 | AH2: 32 | AI2: 33 | AJ2: 34 | AK2: 35 | AL2: 36 | AM2: 37 | AN2: 38 | AO2: 39 | AP2: 40 | AQ2: 41 | AR2: 42 | AS2: 43
C3: =VLOOKUP(C2,Resumen!$A:$I,2,FALSE) -> CONSORCIO QV CORREDOR VERDE | D3: =VLOOKUP(D2,Resumen!$A:$I,2,FALSE) -> CONSORCIO CS CHINCHINA 2026 | E3: =VLOOKUP(E2,Resumen!$A:$I,2,FALSE) -> CONSORCIO CATALUÑA | F3: =VLOOKUP(F2,Resumen!$A:$I,2,FALSE) -> CONSORCIO RIO DE ORO | G3: =VLOOKUP(G2,Resumen!$A:$I,2,FALSE) -> CONSORCIO CORREDOR VIAL 2026 | H3: =VLOOKUP(H2,Resumen!$A:$I,2,FALSE) -> CONSORCIO PBO | I3: =VLOOKUP(I2,Resumen!$A:$I,2,FALSE) -> CONSORCIO GROZ 2026 | J3: =VLOOKUP(J2,Resumen!$A:$I,2,FALSE) -> CONSORCIO SAN ANTONIO A2I | ... AS3: =VLOOKUP(AS2,Resumen!$A:$I,2,FALSE) -> CONSORCIO CC Y AID CALDAS
A4: No. | B4: DESCRIPCIÓN | C4: Precio Unitario | D4: Precio Unitario | E4: Precio Unitario | F4: Precio Unitario | G4: Precio Unitario | H4: Precio Unitario | I4: Precio Unitario | J4: Precio Unitario | K4: Precio Unitario | L4: Precio Unitario | M4: Precio Unitario | N4: Precio Unitario | O4: Precio Unitario | P4: Precio Unitario | Q4: Precio Unitario | R4: Precio Unitario | S4: Precio Unitario | T4: Precio Unitario | U4: Precio Unitario | V4: Precio Unitario | W4: Precio Unitario | X4: Precio Unitario | Y4: Precio Unitario | Z4: Precio Unitario | AA4: Precio Unitario | AB4: Precio Unitario | AC4: Precio Unitario | AD4: Precio Unitario | AE4: Precio Unitario | AF4: Precio Unitario | AG4: Precio Unitario | AH4: Precio Unitario | AI4: Precio Unitario | AJ4: Precio Unitario | AK4: Precio Unitario | AL4: Precio Unitario | AM4: Precio Unitario | AN4: Precio Unitario | AO4: Precio Unitario | AP4: Precio Unitario | AQ4: Precio Unitario | AR4: Precio Unitario | AS4: Precio Unitario
A5: 1 | B5: DEMOLICIÓN DE ESTRUCTURAS | C5: =IF(OR(HLOOKUP(C$1,Informe!$A:$FR,ROW($A5),FALSE)=0,VLOOKUP($A5,Formulario!$A:$F,6,FALSE)<HLOOKUP(C$1,Informe!$A:$FR,ROW($A5),FALSE))=FALSE,"ADMISIBLE","NO ADMISIBLE") -> ADMISIBLE | D5: =IF(OR(HLOOKUP(D$1,Informe!$A:$FR,ROW($A5),FALSE)=0,VLOOKUP($A5,Formulario!$A:$F,6,FALSE)<HLOOKUP(D$1,Informe!$A:$FR,ROW($A5),FALSE))=FALSE,"ADMISIBLE","NO ADMISIBLE") -> ADMISIBLE | E5: =IF(OR(HLOOKUP(E$1,Informe!$A:$FR,ROW($A5),FALSE)=0,VLOOKUP($A5,Formulario!$A:$F,6,FALSE)<HLOOKUP(E$1,Informe!$A:$FR,ROW($A5),FALSE))=FALSE,"ADMISIBLE","NO ADMISIBLE") -> ADMISIBLE | F5: =IF(OR(HLOOKUP(F$1,Informe!$A:$FR,ROW($A5),FALSE)=0,VLOOKUP($A5,Formulario!$A:$F,6,FALSE)<HLOOKUP(F$1,Informe!$A:$FR,ROW($A5),FALSE))=FALSE,"ADMISIBLE","NO ADMISIBLE") -> ADMISIBLE | G5: =IF(OR(HLOOKUP(G$1,Informe!$A:$FR,ROW($A5),FALSE)=0,VLOOKUP($A5,Formulario!$A:$F,6,FALSE)<HLOOKUP(G$1,Informe!$A:$FR,ROW($A5),FALSE))=FALSE,"ADMISIBLE","NO ADMISIBLE") -> ADMISIBLE | H5: =IF(OR(HLOOKUP(H$1,Informe!$A:$FR,ROW($A5),FALSE)=0,VLOOKUP($A5,Formulario!$A:$F,6,FALSE)<HLOOKUP(H$1,Informe!$A:$FR,ROW($A5),FALSE))=FALSE,"ADMISIBLE","NO ADMISIBLE") -> ADMISIBLE | I5: =IF(OR(HLOOKUP(I$1,Informe!$A:$FR,ROW($A5),FALSE)=0,VLOOKUP($A5,Formulario!$A:$F,6,FALSE)<HLOOKUP(I$1,Informe!$A:$FR,ROW($A5),FALSE))=FALSE,"ADMISIBLE","NO ADMISIBLE") -> ADMISIBLE | J5: =IF(OR(HLOOKUP(J$1,Informe!$A:$FR,ROW($A5),FALSE)=0,VLOOKUP($A5,Formulario!$A:$F,6,FALSE)<HLOOKUP(J$1,Informe!$A:$FR,ROW($A5),FALSE))=FALSE,"ADMISIBLE","NO ADMISIBLE") -> ADMISIBLE | ... AS5: =IF(OR(HLOOKUP(AS$1,Informe!$A:$FR,ROW($A5),FALSE)=0,VLOOKUP($A5,Formulario!$A:$F,6,FALSE)<HLOOKUP(AS$1,Informe!$A:$FR,ROW($A5),FALSE))=FALSE,"ADMISIBLE","NO ADMISIBLE") -> NO ADMISIBLE
A6: 2 | B6: EXCAVACIÓN EN MATERIAL COMÚN DE LA EXPLANACIÓN Y CANALES | C6: =IF(OR(HLOOKUP(C$1,Informe!$A:$FR,ROW($A6),FALSE)=0,VLOOKUP($A6,Formulario!$A:$F,6,FALSE)<HLOOKUP(C$1,Informe!$A:$FR,ROW($A6),FALSE))=FALSE,"ADMISIBLE","NO ADMISIBLE") -> ADMISIBLE | D6: =IF(OR(HLOOKUP(D$1,Informe!$A:$FR,ROW($A6),FALSE)=0,VLOOKUP($A6,Formulario!$A:$F,6,FALSE)<HLOOKUP(D$1,Informe!$A:$FR,ROW($A6),FALSE))=FALSE,"ADMISIBLE","NO ADMISIBLE") -> ADMISIBLE | E6: =IF(OR(HLOOKUP(E$1,Informe!$A:$FR,ROW($A6),FALSE)=0,VLOOKUP($A6,Formulario!$A:$F,6,FALSE)<HLOOKUP(E$1,Informe!$A:$FR,ROW($A6),FALSE))=FALSE,"ADMISIBLE","NO ADMISIBLE") -> ADMISIBLE | F6: =IF(OR(HLOOKUP(F$1,Informe!$A:$FR,ROW($A6),FALSE)=0,VLOOKUP($A6,Formulario!$A:$F,6,FALSE)<HLOOKUP(F$1,Informe!$A:$FR,ROW($A6),FALSE))=FALSE,"ADMISIBLE","NO ADMISIBLE") -> ADMISIBLE | G6: =IF(OR(HLOOKUP(G$1,Informe!$A:$FR,ROW($A6),FALSE)=0,VLOOKUP($A6,Formulario!$A:$F,6,FALSE)<HLOOKUP(G$1,Informe!$A:$FR,ROW($A6),FALSE))=FALSE,"ADMISIBLE","NO ADMISIBLE") -> ADMISIBLE | H6: =IF(OR(HLOOKUP(H$1,Informe!$A:$FR,ROW($A6),FALSE)=0,VLOOKUP($A6,Formulario!$A:$F,6,FALSE)<HLOOKUP(H$1,Informe!$A:$FR,ROW($A6),FALSE))=FALSE,"ADMISIBLE","NO ADMISIBLE") -> ADMISIBLE | I6: =IF(OR(HLOOKUP(I$1,Informe!$A:$FR,ROW($A6),FALSE)=0,VLOOKUP($A6,Formulario!$A:$F,6,FALSE)<HLOOKUP(I$1,Informe!$A:$FR,ROW($A6),FALSE))=FALSE,"ADMISIBLE","NO ADMISIBLE") -> ADMISIBLE | J6: =IF(OR(HLOOKUP(J$1,Informe!$A:$FR,ROW($A6),FALSE)=0,VLOOKUP($A6,Formulario!$A:$F,6,FALSE)<HLOOKUP(J$1,Informe!$A:$FR,ROW($A6),FALSE))=FALSE,"ADMISIBLE","NO ADMISIBLE") -> ADMISIBLE | ... AS6: =IF(OR(HLOOKUP(AS$1,Informe!$A:$FR,ROW($A6),FALSE)=0,VLOOKUP($A6,Formulario!$A:$F,6,FALSE)<HLOOKUP(AS$1,Informe!$A:$FR,ROW($A6),FALSE))=FALSE,"ADMISIBLE","NO ADMISIBLE") -> NO ADMISIBLE
