Workbook

Sheet RELACION AUTOMOVILES
A1: MUNICIPIO DE TAMESIS
A2: RELACION DE AUTOS PARA POLIZA DE AUTOMOVILES
A3: No | B3: Placa | C3: Clase | D3: Marca | E3: TIPO | F3: MOTOR | G3: CHASIS | H3: SERVICIO | I3: MODELO | J3: FASECOLDA | K3: VALOR ASEGURADO
A4: 1 | B4: OKD 241 | C4: Campero o camioneta | D4: TOYOTA | E4: 4.500 c.c. | H4: OFICIAL | I4: 1993 | J4: 9008014 | K4: 74600000
A5: =+A4+1 -> 2 | B5: XOG89C | C5: Motocicleta | D5: HONDA | E5: 124 c.c. | H5: OFICIAL | I5: 2013 | J5: 3417136 | K5: 5500000
A6: =+A5+1 -> 3 | B6: XOH35C | C6: Motocicleta | D6: HONDA | E6: 124 c.c. | H6: OFICIAL | I6: 2013 | J6: 3417136 | K6: 5500000
A7: =+A6+1 -> 4 | B7: CKG70 | C7: Motocicleta | D7: HONDA | E7: 125 c.c. | H7: OFICIAL | I7: 1994 | J7: 3417063 | K7: 6600000
A8: =+A7+1 -> 5 | B8: OMZ 077 | C8: Carga o mixto superior a 1 ton. Volqueta | D8: INTERNATIONAL | E8: DURASTAR [3861mm] | H8: OFICIAL | I8: 2015 | J8: 3626093 | K8: 238400000
A9: =+A8+1 -> 6 | B9: IHE-08E | C9: Motocicleta | D9: HONDA | E9: 149 c.c. | H9: OFICIAL | I9: 2017 | J9: 3417167 | K9: 6800000
A10: =+A9+1 -> 7 | B10: IHE-09E | C10: Motocicleta | D10: HONDA | E10: 149 c.c. | H10: OFICIAL | I10: 2017 | J10: 3417167 | K10: 6800000
A11: =+A10+1 -> 8 | B11: UZR84A | C11: Motocicleta | D11: YAMAHA | E11: 125 CC | H11: OFICIAL | I11: 1998 | J11: 9817015 | K11: 7200000
A12: =+A11+1 -> 9 | B12: JBN 140 | C12: Bus Hino | D12: HINO | E12: 9J [BUSETON LWB] MT 5100CC TD 4X2 [INT] | H12: OFICIAL | I12: 2017 | J12: 3703016 | K12: 352500000
A13: =+A12+1 -> 10 | B13: WCO 907 | C13: International durastar volqueta | D13: INTERNATIONAL | E13: MT 7600CC TD 4X2 [STD] AA | H13: OFICIAL | I13: 2014 | J13: 3626089 | K13: 225300000
A14: =+A13+1 -> 11 | B14: VTU28E | C14: Motocicleta | D14: YAMAHA | E14: XTZ MT 250CC | H14: OFICIAL | I14: 2019 | J14: 9817137 | K14: 16600000
A15: =+A14+1 -> 12 | B15: TPP01F | C15: motocicleta | D15: YAMAHA | E15: 149 CC linea XTZ2 | H15: OFICIAL | I15: 2022 | J15: 9854041 | K15: 11500000
A16: TOTAL | K16: =SUM(K4:K15) -> 957300000

Sheet VALORES EDIFICIO Y CONTENIDO
A1: VALORES ASEGURADOS
A3: EDIFICIO | B3: ='RELACION DETALLADA PREDIOS'!E71 -> 1.5798037e+10
A4: CONTENIDOS EN GENERAL (MUEBLES Y ENCERES) | B4: ='RELACION DETALLADA PREDIOS'!I71 -> 5.6711028e+08
A5: EQUIPO ELECTRICOS Y ELECTRONICOS | B5: ='RELACION DETALLADA PREDIOS'!L71 -> 444928874
A6: EQUIPOS MOVILES Y PORTATILES | B6: ='RELACION DETALLADA PREDIOS'!H71 -> 32560499
A7: MAQUINARIA Y EQUIPO (poliza daños) | B7: ='RELACION DETALLADA PREDIOS'!M71 -> 7083720
A8: ARTICULOS ESPECIALES ( Instrumentos Musicales) | B8: ='RELACION DETALLADA PREDIOS'!N71 -> 143068391
A9: ROTURA DE VIDRIOS | B9: 100000000
A11: RCE | B11: 1500000000
A12: TODO RIESGO MAQUINARIA | B12: ='RELACION MAQUINARIA'!G7 -> 1736067226
A13: MANEJO GLOBAL OFICIAL | B13: 130000000
A14: RC SERVIDORES PUBLICOS | B14: 120000000
A15: SOAT - SEGÚN RELACION | B15: XXX
A16: AUTOS COLECTIVA | B16: ='RELACION AUTOMOVILES'!K16 -> 957300000
A17: VIDA GRUPO CONCEJALES - ALCALDE - PERSONERO | B17: 1774240000 | C17: 20 SALARIOS DEL ALCALDE POR ASEGURADO - SEGÚN CONDICIONES OBLIGATORIAS Y COMPLEMENTARIAS
B18: SALARIO ALCALDE 2026
B19: $6.824.000

Sheet RELACION MAQUINARIA
C1: MUNICIPIO DE TAMESIS
A2: LISTADO DE MAQUINARIA AMARILLA
A3: PLACA | B3: Clase | C3: Marca | D3: Linea | E3: Peso | F3: Modelo | G3: VALOR ASEGURADO | H3: VALOR ASEGURADO RCE
A4: MC011967 | B4: VIBROCOMPACTADOR | C4: CASE | D4: SV208 | E4: 7585 KG | F4: 2014 | G4: 450000000 | H4: 100000000
A5: MC007298 | B5: RETROEXCAVADORA 416 | C5: CATERPILLAR | D5: 416E | E5: 6790 KG | F5: 2012 | G5: 645000000 | H5: 100000000
A6: MC472096 | B6: RETROEXCAVADORA 420 | C6: CATERPILLAR | D6: 420 | E6: 8290 KG | F6: 2021 | G6: 641067226 | H6: 100000000
G7: =SUM(G4:G6) -> 1736067226 | H7: =SUM(H4:H6) -> 300000000

Sheet RELACION DETALLADA PREDIOS
A1: Código CATASTRAL | B1: DIRECCION | C1: DESCRIPCION | D1: ARE CONS | E1: VALOR RECONSTRUCCION AÑO 2026 | F1: VALOR RECONSTRUCCION AÑO 2025 | G1: INDICE VARIABLE 5% ADICIONAL | H1: EQUIPO ELECTRONICO MOVIL | I1: MUEBLES Y ENSERES 2026 | J1: MUEBLES Y ENSERES 2025 | K1: INDICE VARIABLES 5% | L1: EQUIPO ELECTRONICO | M1: MAQUINARIA Y EQUIPO | N1: ARTICULOS ESPECIALES
A2: 1010010140000900000000 | B2: CR 10 N 9-44/48 CL 10 N 9-39/51 ALCALDIA MUNICIPA | C2: ALCALDIA MUNICIPAL | D2: 1596 | E2: =Tabla2[[#This Row],[VALOR RECONSTRUCCION AÑO 2025]]+Tabla2[[#This Row],[INDICE VARIABLE 5% ADICIONAL]] -> 3016440000 | F2: 2872800000 | G2: =Tabla2[[#This Row],[VALOR RECONSTRUCCION AÑO 2025]]*0.05 -> 143640000 | H2: 17335499 | I2: =Tabla2[[#This Row],[MUEBLES Y ENSERES 2025]]+Tabla2[[#This Row],[INDICE VARIABLES 5%]] -> 1.0196128e+08 | J2: 97105981 | K2: =Tabla2[[#This Row],[MUEBLES Y ENSERES 2025]]*0.05 -> 4855299 | L2: 82403840
A3: 1010010200000200000000 | B3: KR 11 N 10-02 PLAZA DE MERCADO | C3: PLAZA DE MERCADO | D3: =252+162.9 -> 414.9 | E3: =Tabla2[[#This Row],[VALOR RECONSTRUCCION AÑO 2025]]+Tabla2[[#This Row],[INDICE VARIABLE 5% ADICIONAL]] -> 7.2308182e+08 | F3: =226800000+461849350 -> 688649350 | G3: =Tabla2[[#This Row],[VALOR RECONSTRUCCION AÑO 2025]]*0.05 -> 34432468 | K3: =Tabla2[[#This Row],[MUEBLES Y ENSERES 2025]]*0.05 -> 0
A4: 1010010280002100000000 | B4: CR 11 # 11-35 | C4: DESARROLLO RURAL | D4: 313 | E4: =Tabla2[[#This Row],[VALOR RECONSTRUCCION AÑO 2025]]+Tabla2[[#This Row],[INDICE VARIABLE 5% ADICIONAL]] -> 295785000 | F4: 281700000 | G4: =Tabla2[[#This Row],[VALOR RECONSTRUCCION AÑO 2025]]*0.05 -> 14085000 | K4: =Tabla2[[#This Row],[MUEBLES Y ENSERES 2025]]*0.05 -> 0
A5: 1010010340001100000000 | B5: KR 11 N 12-40/44/48/68 AP DE LA CULTURA | C5: CASA DE LA CULTURA Y TEATRO PROVINCIA CARTAMA | D5: 2085 | E5: =Tabla2[[#This Row],[VALOR RECONSTRUCCION AÑO 2025]]+Tabla2[[#This Row],[INDICE VARIABLE 5% ADICIONAL]] -> 1304625000 | F5: 1242500000 | G5: =Tabla2[[#This Row],[VALOR RECONSTRUCCION AÑO 2025]]*0.05 -> 62125000 | I5: =Tabla2[[#This Row],[MUEBLES Y ENSERES 2025]]+Tabla2[[#This Row],[INDICE VARIABLES 5%]] -> 76544002 | J5: 72899050 | K5: =Tabla2[[#This Row],[MUEBLES Y ENSERES 2025]]*0.05 -> 3644952.5 | L5: 36585034 | M5: 7083720 | N5: 138068391
A6: 1010010360004400000000 | B6: KR 7 N 12-65 MATADERO MPAL | C6: MATADERO MUNICIPAL | D6: 715 | E6: =Tabla2[[#This Row],[VALOR RECONSTRUCCION AÑO 2025]]+Tabla2[[#This Row],[INDICE VARIABLE 5% ADICIONAL]] -> 105000000 | F6: 100000000 | G6: =Tabla2[[#This Row],[VALOR RECONSTRUCCION AÑO 2025]]*0.05 -> 5000000 | K6: =Tabla2[[#This Row],[MUEBLES Y ENSERES 2025]]*0.05 -> 0
A7: 1010010430000100000000 | B7: CL 14 N 13-05 PLAZA DE FERIAS | C7: PLAZA DE FERIAS | D7: 452 | E7: =Tabla2[[#This Row],[VALOR RECONSTRUCCION AÑO 2025]]+Tabla2[[#This Row],[INDICE VARIABLE 5% ADICIONAL]] -> 105000000 | F7: 100000000 | G7: =Tabla2[[#This Row],[VALOR RECONSTRUCCION AÑO 2025]]*0.05 -> 5000000 | K7: =Tabla2[[#This Row],[MUEBLES Y ENSERES 2025]]*0.05 -> 0
A8: 1010010470000100000000 | B8: CR 13 # 14-45 | C8: ESCUELA VICTOR MANUEL OROZCO | D8: 2352 | E8: =Tabla2[[#This Row],[VALOR RECONSTRUCCION AÑO 2025]]+Tabla2[[#This Row],[INDICE VARIABLE 5% ADICIONAL]] -> 1444800000 | F8: 1376000000 | G8: =Tabla2[[#This Row],[VALOR RECONSTRUCCION AÑO 2025]]*0.05 -> 68800000 | H8: 15225000 | I8: =Tabla2[[#This Row],[MUEBLES Y ENSERES 2025]]+Tabla2[[#This Row],[INDICE VARIABLES 5%]] -> 36750000 | J8: 35000000 | K8: =Tabla2[[#This Row],[MUEBLES Y ENSERES 2025]]*0.05 -> 1750000
A9: 1010010560001900000000 | B9: PARQUE EDUCATVO CARTAMA CALLE 17 # 121 | C9: PARQUE EDUCATVO CARTAMA | D9: 980 | E9: =Tabla2[[#This Row],[VALOR RECONSTRUCCION AÑO 2025]]+Tabla2[[#This Row],[INDICE VARIABLE 5% ADICIONAL]] -> 2100000000 | F9: 2000000000 | G9: =Tabla2[[#This Row],[VALOR RECONSTRUCCION AÑO 2025]]*0.05 -> 100000000 | I9: =Tabla2[[#This Row],[MUEBLES Y ENSERES 2025]]+Tabla2[[#This Row],[INDICE VARIABLES 5%]] -> 26250000 | J9: 25000000 | K9: =Tabla2[[#This Row],[MUEBLES Y ENSERES 2025]]*0.05 -> 1250000 | L9: 31000000 | N9: 5000000
A10: 1010010590001300000000 | B10: KR 15 N 16-53 AP DEL DEPORTE | C10: CASA DEL DEPORTE | D10: 41 | E10: =Tabla2[[#This Row],[VALOR RECONSTRUCCION AÑO 2025]]+Tabla2[[#This Row],[INDICE VARIABLE 5% ADICIONAL]] -> 17220000 | F10: 16400000 | G10: =Tabla2[[#This Row],[VALOR RECONSTRUCCION AÑO 2025]]*0.05 -> 820000 | K10: =Tabla2[[#This Row],[MUEBLES Y ENSERES 2025]]*0.05 -> 0
A11: 1010010590001400000000 | B11: KR 15 N 16-47 AP DEL DEPORTE | C11: CASA DEL DEPORTE | D11: 51 | E11: =Tabla2[[#This Row],[VALOR RECONSTRUCCION AÑO 2025]]+Tabla2[[#This Row],[INDICE VARIABLE 5% ADICIONAL]] -> 21420000 | F11: 20400000 | G11: =Tabla2[[#This Row],[VALOR RECONSTRUCCION AÑO 2025]]*0.05 -> 1020000 | K11: =Tabla2[[#This Row],[MUEBLES Y ENSERES 2025]]*0.05 -> 0
A12: 1010010590001500000000 | B12: KR 15 N 16-39 AP DEL DEPORTE | C12: CASA DEL DEPORTE | D12: 81 | E12: =Tabla2[[#This Row],[VALOR RECONSTRUCCION AÑO 2025]]+Tabla2[[#This Row],[INDICE VARIABLE 5% ADICIONAL]] -> 34020000 | F12: 32400000 | G12: =Tabla2[[#This Row],[VALOR RECONSTRUCCION AÑO 2025]]*0.05 -> 1620000 | K12: =Tabla2[[#This Row],[MUEBLES Y ENSERES 2025]]*0.05 -> 0
A13: 1010010590001600000000 | B13: KR 15 N 16-33 AP DEL DEPORTE | C13: CASA DEL DEPORTE | D13: 104 | E13: =Tabla2[[#This Row],[VALOR RECONSTRUCCION AÑO 2025]]+Tabla2[[#This Row],[INDICE VARIABLE 5% ADICIONAL]] -> 43680000 | F13: 41600000 | G13: =Tabla2[[#This Row],[VALOR RECONSTRUCCION AÑO 2025]]*0.05 -> 2080000 | K13: =Tabla2[[#This Row],[MUEBLES Y ENSERES 2025]]*0.05 -> 0
A14: 1010010590001700000000 | B14: KR 15 N 16-29 AP DEL DEPORTE | C14: CASA DEL DEPORTE | D14: 111 | E14: =Tabla2[[#This Row],[VALOR RECONSTRUCCION AÑO 2025]]+Tabla2[[#This Row],[INDICE VARIABLE 5% ADICIONAL]] -> 46620000 | F14: 44400000 | G14: =Tabla2[[#This Row],[VALOR RECONSTRUCCION AÑO 2025]]*0.05 -> 2220000 | K14: =Tabla2[[#This Row],[MUEBLES Y ENSERES 2025]]*0.05 -> 0
A15: 1010010590001800000000 | B15: KR 15 N 16-23 AP DEL DEPORTE | C15: CASA DEL DEPORTE | D15: 108 | E15: =Tabla2[[#This Row],[VALOR RECONSTRUCCION AÑO 2025]]+Tabla2[[#This Row],[INDICE VARIABLE 5% ADICIONAL]] -> 45360000 | F15: 43200000 | G15: =Tabla2[[#This Row],[VALOR RECONSTRUCCION AÑO 2025]]*0.05 -> 2160000 | K15: =Tabla2[[#This Row],[MUEBLES Y ENSERES 2025]]*0.05 -> 0
A16: 1010010590001900000000 | B16: KR 15 N 16-17 AP DEL DEPORTE | C16: CASA DEL DEPORTE | D16: 73 | E16: =Tabla2[[#This Row],[VALOR RECONSTRUCCION AÑO 2025]]+Tabla2[[#This Row],[INDICE VARIABLE 5% ADICIONAL]] -> 30660000 | F16: 29200000 | G16: =Tabla2[[#This Row],[VALOR RECONSTRUCCION AÑO 2025]]*0.05 -> 1460000 | K16: =Tabla2[[#This Row],[MUEBLES Y ENSERES 2025]]*0.05 -> 0
A17: 1010010640000100000000 | B17: CL 17 N 9-24 | C17: BLOQUERA | D17: 223 | E17: =Tabla2[[#This Row],[VALOR RECONSTRUCCION AÑO 2025]]+Tabla2[[#This Row],[INDICE VARIABLE 5% ADICIONAL]] -> 93660000 | F17: 89200000 | G17: =Tabla2[[#This Row],[VALOR RECONSTRUCCION AÑO 2025]]*0.05 -> 4460000 | K17: =Tabla2[[#This Row],[MUEBLES Y ENSERES 2025]]*0.05 -> 0
A18: 1010010690002700000000 | B18: LOTE 1 COLISEO BARRIO SANTA ANA | C18: COLISEO MUNICIPAL | D18: 899 | E18: =Tabla2[[#This Row],[VALOR RECONSTRUCCION AÑO 2025]]+Tabla2[[#This Row],[INDICE VARIABLE 5% ADICIONAL]] -> 377580000 | F18: 359600000 | G18: =Tabla2[[#This Row],[VALOR RECONSTRUCCION AÑO 2025]]*0.05 -> 17980000 | K18: =Tabla2[[#This Row],[MUEBLES Y ENSERES 2025]]*0.05 -> 0
A19: 1010010700000100000000 | B19: KR 10 N 10-18 PARQUE PRINCIPAL | C19: PARQUE PRINCIPAL | D19: 1032 | E19: =Tabla2[[#This Row],[VALOR RECONSTRUCCION AÑO 2025]]+Tabla2[[#This Row],[INDICE VARIABLE 5% ADICIONAL]] -> 433440000 | F19: 412800000 | G19: =Tabla2[[#This Row],[VALOR RECONSTRUCCION AÑO 2025]]*0.05 -> 20640000 | K19: =Tabla2[[#This Row],[MUEBLES Y ENSERES 2025]]*0.05 -> 0
A20: 1010010760000100000000 | B20: KR 12 N 16-101 | C20: COLEGIO SAN ANTONIO DE PADUA | D20: 4351 | E20: =Tabla2[[#This Row],[VALOR RECONSTRUCCION AÑO 2025]]+Tabla2[[#This Row],[INDICE VARIABLE 5% ADICIONAL]] -> 1598992500 | F20: 1522850000 | G20: =Tabla2[[#This Row],[VALOR RECONSTRUCCION AÑO 2025]]*0.05 -> 76142500 | K20: =Tabla2[[#This Row],[MUEBLES Y ENSERES 2025]]*0.05 -> 0
A21: 1010010800000200000000 | B21: CL 13 N 15-43 | C21: ESTADIO MUNICIPAL CAPITAN ALBERTO FERNANDEZ - PISICINA MUNICIPAL - | D21: 444 | E21: =Tabla2[[#This Row],[VALOR RECONSTRUCCION AÑO 2025]]+Tabla2[[#This Row],[INDICE VARIABLE 5% ADICIONAL]] -> 1050000 | F21: 1000000 | G21: =Tabla2[[#This Row],[VALOR RECONSTRUCCION AÑO 2025]]*0.05 -> 50000 | K21: =Tabla2[[#This Row],[MUEBLES Y ENSERES 2025]]*0.05 -> 0
... A23: 1020010010000200000000 | B23: CL 9 N 12-72 | C23: MATADERO PALERMO | D23: 99 | E23: =Tabla2[[#This Row],[VALOR RECONSTRUCCION AÑO 2025]]+Tabla2[[#This Row],[INDICE VARIABLE 5% ADICIONAL]] -> 10500000 | F23: 10000000 | G23: =Tabla2[[#This Row],[VALOR RECONSTRUCCION AÑO 2025]]*0.05 -> 500000 | K23: =Tabla2[[#This Row],[MUEBLES Y ENSERES 2025]]*0.05 -> 0
A24: 1020010120001600000000 | B24: KR 10 N 10-35/39/41 | C24: INSPECCION MUNICIPAL PALERMO | D24: 389 | E24: =Tabla2[[#This Row],[VALOR RECONSTRUCCION AÑO 2025]]+Tabla2[[#This Row],[INDICE VARIABLE 5% ADICIONAL]] -> 163380000 | F24: 155600000 | G24: =Tabla2[[#This Row],[VALOR RECONSTRUCCION AÑO 2025]]*0.05 -> 7780000 | I24: =Tabla2[[#This Row],[MUEBLES Y ENSERES 2025]]+Tabla2[[#This Row],[INDICE VARIABLES 5%]] -> 7560000 | J24: 7200000 | K24: =Tabla2[[#This Row],[MUEBLES Y ENSERES 2025]]*0.05 -> 360000 | L24: 3000000
A25: 1020010140001500000000 | B25: CL 12 N 10-38 | C25: ESCUELA MADRE LAURA | D25: 514 | E25: =Tabla2[[#This Row],[VALOR RECONSTRUCCION AÑO 2025]]+Tabla2[[#This Row],[INDICE VARIABLE 5% ADICIONAL]] -> 105000000 | F25: 100000000 | G25: =Tabla2[[#This Row],[VALOR RECONSTRUCCION AÑO 2025]]*0.05 -> 5000000 | I25: =Tabla2[[#This Row],[MUEBLES Y ENSERES 2025]]+Tabla2[[#This Row],[INDICE VARIABLES 5%]] -> 4515000 | J25: 4300000 | K25: =Tabla2[[#This Row],[MUEBLES Y ENSERES 2025]]*0.05 -> 215000 | L25: 3400000
A26: 1030010020000800000000 | B26: CL 19 N 21-49/51 | C26: INSTITUCIONAL | D26: 246 | E26: =Tabla2[[#This Row],[VALOR RECONSTRUCCION AÑO 2025]]+Tabla2[[#This Row],[INDICE VARIABLE 5% ADICIONAL]] -> 10500000 | F26: 10000000 | G26: =Tabla2[[#This Row],[VALOR RECONSTRUCCION AÑO 2025]]*0.05 -> 500000 | I26: =Tabla2[[#This Row],[MUEBLES Y ENSERES 2025]]+Tabla2[[#This Row],[INDICE VARIABLES 5%]] -> 0 | K26: =Tabla2[[#This Row],[MUEBLES Y ENSERES 2025]]*0.05 -> 0
A27: 1030010040000400000000 | B27: KR 20 N 19-36/48 | C27: ESCUELA DE NIÑOS CORREGIMIENTO SAN PABLO | D27: 428 | E27: =Tabla2[[#This Row],[VALOR RECONSTRUCCION AÑO 2025]]+Tabla2[[#This Row],[INDICE VARIABLE 5% ADICIONAL]] -> 52500000 | F27: 50000000 | G27: =Tabla2[[#This Row],[VALOR RECONSTRUCCION AÑO 2025]]*0.05 -> 2500000 | I27: =Tabla2[[#This Row],[MUEBLES Y ENSERES 2025]]+Tabla2[[#This Row],[INDICE VARIABLES 5%]] -> 2625000 | J27: 2500000 | K27: =Tabla2[[#This Row],[MUEBLES Y ENSERES 2025]]*0.05 -> 125000 | L27: 7000000
A28: 1030010050000600000000 | B28: CL 20 N 20-11/13/17 | C28: COMANDO POLICIA SAN PABLO | D28: 226 | E28: =Tabla2[[#This Row],[VALOR RECONSTRUCCION AÑO 2025]]+Tabla2[[#This Row],[INDICE VARIABLE 5% ADICIONAL]] -> 94920000 | F28: 90400000 | G28: =Tabla2[[#This Row],[VALOR RECONSTRUCCION AÑO 2025]]*0.05 -> 4520000 | I28: =Tabla2[[#This Row],[MUEBLES Y ENSERES 2025]]+Tabla2[[#This Row],[INDICE VARIABLES 5%]] -> 0 | K28: =Tabla2[[#This Row],[MUEBLES Y ENSERES 2025]]*0.05 -> 0
A29: 1030010060000100000000 | B29: KR 21 N 19-35 ESCUELA DE NIÑOS CORREGIMIENTO DE SAN PABLO | C29: ESCUELA SEGUNDARIA SAN PABLO | D29: 1000 | E29: =Tabla2[[#This Row],[VALOR RECONSTRUCCION AÑO 2025]]+Tabla2[[#This Row],[INDICE VARIABLE 5% ADICIONAL]] -> 105000000 | F29: 100000000 | G29: =Tabla2[[#This Row],[VALOR RECONSTRUCCION AÑO 2025]]*0.05 -> 5000000 | I29: =Tabla2[[#This Row],[MUEBLES Y ENSERES 2025]]+Tabla2[[#This Row],[INDICE VARIABLES 5%]] -> 47250000 | J29: 45000000 | K29: =Tabla2[[#This Row],[MUEBLES Y ENSERES 2025]]*0.05 -> 2250000 | L29: 39000000
A30: 1030010080000100000000 | B30: KR 20 N 20-23 PARQUE PRINCIPAL | C30: PARQUE PRINCIPAL SAN PABLO - INSPECCION MUNICIPAL | D30: 76 | E30: =Tabla2[[#This Row],[VALOR RECONSTRUCCION AÑO 2025]]+Tabla2[[#This Row],[INDICE VARIABLE 5% ADICIONAL]] -> 31920000 | F30: 30400000 | G30: =Tabla2[[#This Row],[VALOR RECONSTRUCCION AÑO 2025]]*0.05 -> 1520000 | I30: =Tabla2[[#This Row],[MUEBLES Y ENSERES 2025]]+Tabla2[[#This Row],[INDICE VARIABLES 5%]] -> 0 | K30: =Tabla2[[#This Row],[MUEBLES Y ENSERES 2025]]*0.05 -> 0
A31: 2010000010001300000000 | B31: CENTRO EDUCATIVO RURAL COROZAL VREDA COROZAL | C31: CULTURAL | D31: 204 | E31: =Tabla2[[#This Row],[VALOR RECONSTRUCCION AÑO 2025]]+Tabla2[[#This Row],[INDICE VARIABLE 5% ADICIONAL]] -> 10500000 | F31: 10000000 | G31: =Tabla2[[#This Row],[VALOR RECONSTRUCCION AÑO 2025]]*0.05 -> 500000 | I31: =Tabla2[[#This Row],[MUEBLES Y ENSERES 2025]]+Tabla2[[#This Row],[INDICE VARIABLES 5%]] -> 0 | K31: =Tabla2[[#This Row],[MUEBLES Y ENSERES 2025]]*0.05 -> 0
A32: 2010000020002000000000 | B32: ESCUELA RURAL CAMPO ALEGRE VEREDA CAMPO ALEGRE | C32: CULTURAL | D32: 120 | E32: =Tabla2[[#This Row],[VALOR RECONSTRUCCION AÑO 2025]]+Tabla2[[#This Row],[INDICE VARIABLE 5% ADICIONAL]] -> 10500000 | F32: 10000000 | G32: =Tabla2[[#This Row],[VALOR RECONSTRUCCION AÑO 2025]]*0.05 -> 500000 | I32: =Tabla2[[#This Row],[MUEBLES Y ENSERES 2025]]+Tabla2[[#This Row],[INDICE VARIABLES 5%]] -> 4725000 | J32: 4500000 | K32: =Tabla2[[#This Row],[MUEBLES Y ENSERES 2025]]*0.05 -> 225000 | L32: 7600000
A33: 2010000030001500000000 | B33: CENTRO EDUCATIVO RURAL LA MATILDE VEREDA LA MATILDE | C33: CULTURAL | D33: 137 | E33: =Tabla2[[#This Row],[VALOR RECONSTRUCCION AÑO 2025]]+Tabla2[[#This Row],[INDICE VARIABLE 5% ADICIONAL]] -> 10500000 | F33: 10000000 | G33: =Tabla2[[#This Row],[VALOR RECONSTRUCCION AÑO 2025]]*0.05 -> 500000 | I33: =Tabla2[[#This Row],[MUEBLES Y ENSERES 2025]]+Tabla2[[#This Row],[INDICE VARIABLES 5%]] -> 4095000 | J33: 3900000 | K33: =Tabla2[[#This Row],[MUEBLES Y ENSERES 2025]]*0.05 -> 195000 | L33: 5000000
A34: 2010000030005800000000 | B34: LA REPETIDORA VEREDA LA MATILDE | C34: AGROPECUARIO | D34: 5 | E34: =Tabla2[[#This Row],[VALOR RECONSTRUCCION AÑO 2025]]+Tabla2[[#This Row],[INDICE VARIABLE 5% ADICIONAL]] -> 10500000 | F34: 10000000 | G34: =Tabla2[[#This Row],[VALOR RECONSTRUCCION AÑO 2025]]*0.05 -> 500000 | I34: =Tabla2[[#This Row],[MUEBLES Y ENSERES 2025]]+Tabla2[[#This Row],[INDICE VARIABLES 5%]] -> 0 | K34: =Tabla2[[#This Row],[MUEBLES Y ENSERES 2025]]*0.05 -> 0 | L34: 15000000
A35: 2010000040001100000000 | B35: CENTROO EDUCATIVO RURAL LA ARGENTINA | C35: CULTURAL | D35: 150 | E35: =Tabla2[[#This Row],[VALOR RECONSTRUCCION AÑO 2025]]+Tabla2[[#This Row],[INDICE VARIABLE 5% ADICIONAL]] -> 10500000 | F35: 10000000 | G35: =Tabla2[[#This Row],[VALOR RECONSTRUCCION AÑO 2025]]*0.05 -> 500000 | I35: =Tabla2[[#This Row],[MUEBLES Y ENSERES 2025]]+Tabla2[[#This Row],[INDICE VARIABLES 5%]] -> 5250000 | J35: 5000000 | K35: =Tabla2[[#This Row],[MUEBLES Y ENSERES 2025]]*0.05 -> 250000 | L35: 4300000
A36: 2010000050001300000000 | B36: CENTRO EDUCATIVO RURAL LA LIBORIANA | C36: CULTURAL | D36: 108 | E36: =Tabla2[[#This Row],[VALOR RECONSTRUCCION AÑO 2025]]+Tabla2[[#This Row],[INDICE VARIABLE 5% ADICIONAL]] -> 10500000 | F36: 10000000 | G36: =Tabla2[[#This Row],[VALOR RECONSTRUCCION AÑO 2025]]*0.05 -> 500000 | I36: =Tabla2[[#This Row],[MUEBLES Y ENSERES 2025]]+Tabla2[[#This Row],[INDICE VARIABLES 5%]] -> 5250000 | J36: 5000000 | K36: =Tabla2[[#This Row],[MUEBLES Y ENSERES 2025]]*0.05 -> 250000 | L36: 4300000
A37: 2010000060002800000000 | B37: CENTRO EDUCATIVO RURAL SAN ANTONIO | C37: CULTURAL | D37: 143 | E37: =Tabla2[[#This Row],[VALOR RECONSTRUCCION AÑO 2025]]+Tabla2[[#This Row],[INDICE VARIABLE 5% ADICIONAL]] -> 10500000 | F37: 10000000 | G37: =Tabla2[[#This Row],[VALOR RECONSTRUCCION AÑO 2025]]*0.05 -> 500000 | I37: =Tabla2[[#This Row],[MUEBLES Y ENSERES 2025]]+Tabla2[[#This Row],[INDICE VARIABLES 5%]] -> 5250000 | J37: 5000000 | K37: =Tabla2[[#This Row],[MUEBLES Y ENSERES 2025]]*0.05 -> 250000 | L37: 4300000
A38: 2010000070002400000000 | B38: CENTRO EDUCATIVO RURAL SAN PEDRO | C38: CULTURAL | D38: 131 | E38: =Tabla2[[#This Row],[VALOR RECONSTRUCCION AÑO 2025]]+Tabla2[[#This Row],[INDICE VARIABLE 5% ADICIONAL]] -> 10500000 | F38: 10000000 | G38: =Tabla2[[#This Row],[VALOR RECONSTRUCCION AÑO 2025]]*0.05 -> 500000 | I38: =Tabla2[[#This Row],[MUEBLES Y ENSERES 2025]]+Tabla2[[#This Row],[INDICE VARIABLES 5%]] -> 5250000 | J38: 5000000 | K38: =Tabla2[[#This Row],[MUEBLES Y ENSERES 2025]]*0.05 -> 250000 | L38: 4300000
A39: 2010000080005600000000 | B39: CENTRO EDUCATIVO RURAL LA BETANIA | C39: CULTURAL | D39: 124 | E39: =Tabla2[[#This Row],[VALOR RECONSTRUCCION AÑO 2025]]+Tabla2[[#This Row],[INDICE VARIABLE 5% ADICIONAL]] -> 10500000 | F39: 10000000 | G39: =Tabla2[[#This Row],[VALOR RECONSTRUCCION AÑO 2025]]*0.05 -> 500000 | I39: =Tabla2[[#This Row],[MUEBLES Y ENSERES 2025]]+Tabla2[[#This Row],[INDICE VARIABLES 5%]] -> 5250000 | J39: 5000000 | K39: =Tabla2[[#This Row],[MUEBLES Y ENSERES 2025]]*0.05 -> 250000 | L39: 4300000
A40: 2010000090001400000000 | B40: LAS PEñAS BARRIO SANTA ANA | C40: AGROPECUARIO | D40: 30 | E40: =Tabla2[[#This Row],[VALOR RECONSTRUCCION AÑO 2025]]+Tabla2[[#This Row],[INDICE VARIABLE 5% ADICIONAL]] -> 10500000 | F40: 10000000 | G40: =Tabla2[[#This Row],[VALOR RECONSTRUCCION AÑO 2025]]*0.05 -> 500000 | I40: =Tabla2[[#This Row],[MUEBLES Y ENSERES 2025]]+Tabla2[[#This Row],[INDICE VARIABLES 5%]] -> 0 | K40: =Tabla2[[#This Row],[MUEBLES Y ENSERES 2025]]*0.05 -> 0
A41: 2010000090009200000000 | B41: CENTRO EDUCATIVO RURAL OTRABANDA VEREDA OTRABANDA | C41: CULTURAL | D41: 197 | E41: =Tabla2[[#This Row],[VALOR RECONSTRUCCION AÑO 2025]]+Tabla2[[#This Row],[INDICE VARIABLE 5% ADICIONAL]] -> 10500000 | F41: 10000000 | G41: =Tabla2[[#This Row],[VALOR RECONSTRUCCION AÑO 2025]]*0.05 -> 500000 | I41: =Tabla2[[#This Row],[MUEBLES Y ENSERES 2025]]+Tabla2[[#This Row],[INDICE VARIABLES 5%]] -> 5250000 | J41: 5000000 | K41: =Tabla2[[#This Row],[MUEBLES Y ENSERES 2025]]*0.05 -> 250000 | L41: 4300000
A42: 2010000100003400000000 | B42: CENTRO EDUCATIVO RURAL RIO CLARO VEREDA RIO CLARO | C42: CULTURAL | D42: 391 | E42: =Tabla2[[#This Row],[VALOR RECONSTRUCCION AÑO 2025]]+Tabla2[[#This Row],[INDICE VARIABLE 5% ADICIONAL]] -> 10500000 | F42: 10000000 | G42: =Tabla2[[#This Row],[VALOR RECONSTRUCCION AÑO 2025]]*0.05 -> 500000 | I42: =Tabla2[[#This Row],[MUEBLES Y ENSERES 2025]]+Tabla2[[#This Row],[INDICE VARIABLES 5%]] -> 8505000 | J42: 8100000 | K42: =Tabla2[[#This Row],[MUEBLES Y ENSERES 2025]]*0.05 -> 405000 | L42: 4230000
A43: 2010000110002200000000 | B43: CENTRO EDUCATIVO RURAL PIEDRA MOLER VEREDA PIEDRA MOLER | C43: CULTURAL | D43: 143 | E43: =Tabla2[[#This Row],[VALOR RECONSTRUCCION AÑO 2025]]+Tabla2[[#This Row],[INDICE VARIABLE 5% ADICIONAL]] -> 10500000 | F43: 10000000 | G43: =Tabla2[[#This Row],[VALOR RECONSTRUCCION AÑO 2025]]*0.05 -> 500000 | I43: =Tabla2[[#This Row],[MUEBLES Y ENSERES 2025]]+Tabla2[[#This Row],[INDICE VARIABLES 5%]] -> 5250000 | J43: 5000000 | K43: =Tabla2[[#This Row],[MUEBLES Y ENSERES 2025]]*0.05 -> 250000 | L43: 4000000
A44: 2010000120002900000000 | B44: CENTRO EDUCATIVO RURAL EL RAYO VEREDA EL RAYO | C44: CULTURAL | D44: 213 | E44: =Tabla2[[#This Row],[VALOR RECONSTRUCCION AÑO 2025]]+Tabla2[[#This Row],[INDICE VARIABLE 5% ADICIONAL]] -> 105000000 | F44: 100000000 | G44: =Tabla2[[#This Row],[VALOR RECONSTRUCCION AÑO 2025]]*0.05 -> 5000000 | I44: =Tabla2[[#This Row],[MUEBLES Y ENSERES 2025]]+Tabla2[[#This Row],[INDICE VARIABLES 5%]] -> 5250000 | J44: 5000000 | K44: =Tabla2[[#This Row],[MUEBLES Y ENSERES 2025]]*0.05 -> 250000 | L44: 4000000
A45: 2010000120005100000000 | B45: FINCA PESCADERO LAS PIEDRAS LA MARIA VEREDA PESCADERO | C45: AGROPECUARIO | D45: 209 | E45: =Tabla2[[#This Row],[VALOR RECONSTRUCCION AÑO 2025]]+Tabla2[[#This Row],[INDICE VARIABLE 5% ADICIONAL]] -> 87780000 | F45: 83600000 | G45: =Tabla2[[#This Row],[VALOR RECONSTRUCCION AÑO 2025]]*0.05 -> 4180000 | I45: =Tabla2[[#This Row],[MUEBLES Y ENSERES 2025]]+Tabla2[[#This Row],[INDICE VARIABLES 5%]] -> 0 | K45: =Tabla2[[#This Row],[MUEBLES Y ENSERES 2025]]*0.05 -> 0
A46: 2010000140005200000000 | B46: CENTRO EDUCATIVO RURAL LA ALACENA VEREDA LA ALACENA | C46: CULTURAL | D46: 367 | E46: =Tabla2[[#This Row],[VALOR RECONSTRUCCION AÑO 2025]]+Tabla2[[#This Row],[INDICE VARIABLE 5% ADICIONAL]] -> 154140000 | F46: 146800000 | G46: =Tabla2[[#This Row],[VALOR RECONSTRUCCION AÑO 2025]]*0.05 -> 7340000 | I46: =Tabla2[[#This Row],[MUEBLES Y ENSERES 2025]]+Tabla2[[#This Row],[INDICE VARIABLES 5%]] -> 8505000 | J46: 8100000 | K46: =Tabla2[[#This Row],[MUEBLES Y ENSERES 2025]]*0.05 -> 405000 | L46: 4230000
A47: 2010000150006300000000 | B47: CENTRO EDUCATIVO RURAL EL HACHA VEREDA EL HACHA | C47: CULTURAL | D47: 194 | E47: =Tabla2[[#This Row],[VALOR RECONSTRUCCION AÑO 2025]]+Tabla2[[#This Row],[INDICE VARIABLE 5% ADICIONAL]] -> 42000000 | F47: 40000000 | G47: =Tabla2[[#This Row],[VALOR RECONSTRUCCION AÑO 2025]]*0.05 -> 2000000 | I47: =Tabla2[[#This Row],[MUEBLES Y ENSERES 2025]]+Tabla2[[#This Row],[INDICE VARIABLES 5%]] -> 8505000 | J47: 8100000 | K47: =Tabla2[[#This Row],[MUEBLES Y ENSERES 2025]]*0.05 -> 405000 | L47: 4230000
A48: 2010000160005500000000 | B48: CENTRO EDUCATIVO RURAL SAN LUIS VEEDA SAN LUIS | C48: CULTURAL | D48: 337 | E48: =Tabla2[[#This Row],[VALOR RECONSTRUCCION AÑO 2025]]+Tabla2[[#This Row],[INDICE VARIABLE 5% ADICIONAL]] -> 141540000 | F48: 134800000 | G48: =Tabla2[[#This Row],[VALOR RECONSTRUCCION AÑO 2025]]*0.05 -> 6740000 | I48: =Tabla2[[#This Row],[MUEBLES Y ENSERES 2025]]+Tabla2[[#This Row],[INDICE VARIABLES 5%]] -> 8505000 | J48: 8100000 | K48: =Tabla2[[#This Row],[MUEBLES Y ENSERES 2025]]*0.05 -> 405000 | L48: 4230000
A49: 2010000160039600000000 | B49: I. E AGRICOLA VICTOR MANUEL OROZCO SECUNDARIA LOTE 3 BARRI SANTA ANA | C49: INSTITUCIONAL | D49: 3819 | E49: =Tabla2[[#This Row],[VALOR RECONSTRUCCION AÑO 2025]]+Tabla2[[#This Row],[INDICE VARIABLE 5% ADICIONAL]] -> 1403482500 | F49: 1336650000 | G49: =Tabla2[[#This Row],[VALOR RECONSTRUCCION AÑO 2025]]*0.05 -> 66832500 | I49: =Tabla2[[#This Row],[MUEBLES Y ENSERES 2025]]+Tabla2[[#This Row],[INDICE VARIABLES 5%]] -> 44100000 | J49: 42000000 | K49: =Tabla2[[#This Row],[MUEBLES Y ENSERES 2025]]*0.05 -> 2100000 | L49: 36500000
A50: 2010000170001800000000 | B50: CENTRO EDUCATIVO RURAL LA MESA VEREDA LA MESA | C50: CULTURAL | D50: 463 | E50: =Tabla2[[#This Row],[VALOR RECONSTRUCCION AÑO 2025]]+Tabla2[[#This Row],[INDICE VARIABLE 5% ADICIONAL]] -> 52500000 | F50: 50000000 | G50: =Tabla2[[#This Row],[VALOR RECONSTRUCCION AÑO 2025]]*0.05 -> 2500000 | I50: =Tabla2[[#This Row],[MUEBLES Y ENSERES 2025]]+Tabla2[[#This Row],[INDICE VARIABLES 5%]] -> 9765000 | J50: 9300000 | K50: =Tabla2[[#This Row],[MUEBLES Y ENSERES 2025]]*0.05 -> 465000 | L50: 12400000
A51: 2010000180001400000000 | B51: CENTRO EDUCATIVO RURAL RIO FRIO VREDA RIO FRIO | C51: CULTURAL | D51: 174 | E51: =Tabla2[[#This Row],[VALOR RECONSTRUCCION AÑO 2025]]+Tabla2[[#This Row],[INDICE VARIABLE 5% ADICIONAL]] -> 10500000 | F51: 10000000 | G51: =Tabla2[[#This Row],[VALOR RECONSTRUCCION AÑO 2025]]*0.05 -> 500000 | I51: =Tabla2[[#This Row],[MUEBLES Y ENSERES 2025]]+Tabla2[[#This Row],[INDICE VARIABLES 5%]] -> 5250000 | J51: 5000000 | K51: =Tabla2[[#This Row],[MUEBLES Y ENSERES 2025]]*0.05 -> 250000 | L51: 4000000
A52: 2010000190001000000000 | B52: CENTRO EDUCATIVO RURAL EL TACON VREDA EL TACON | C52: CULTURAL | D52: 106 | E52: =Tabla2[[#This Row],[VALOR RECONSTRUCCION AÑO 2025]]+Tabla2[[#This Row],[INDICE VARIABLE 5% ADICIONAL]] -> 10500000 | F52: 10000000 | G52: =Tabla2[[#This Row],[VALOR RECONSTRUCCION AÑO 2025]]*0.05 -> 500000 | I52: =Tabla2[[#This Row],[MUEBLES Y ENSERES 2025]]+Tabla2[[#This Row],[INDICE VARIABLES 5%]] -> 5250000 | J52: 5000000 | K52: =Tabla2[[#This Row],[MUEBLES Y ENSERES 2025]]*0.05 -> 250000 | L52: 4000000
A53: 2010000200004900000000 | B53: CENTRO EDUCATIVO RURAL SAN ISIDRO VEREDA SAN ISIDRO | C53: CULTURAL | D53: 209 | E53: =Tabla2[[#This Row],[VALOR RECONSTRUCCION AÑO 2025]]+Tabla2[[#This Row],[INDICE VARIABLE 5% ADICIONAL]] -> 87780000 | F53: 83600000 | G53: =Tabla2[[#This Row],[VALOR RECONSTRUCCION AÑO 2025]]*0.05 -> 4180000 | I53: =Tabla2[[#This Row],[MUEBLES Y ENSERES 2025]]+Tabla2[[#This Row],[INDICE VARIABLES 5%]] -> 5250000 | J53: 5000000 | K53: =Tabla2[[#This Row],[MUEBLES Y ENSERES 2025]]*0.05 -> 250000 | L53: 4000000
A54: 2010000210000500000000 | B54: CENTRO EDUCATIVO RURAL EL ENCANTO VEREDA EL ENCANTO | C54: CULTURAL | D54: 261 | E54: =Tabla2[[#This Row],[VALOR RECONSTRUCCION AÑO 2025]]+Tabla2[[#This Row],[INDICE VARIABLE 5% ADICIONAL]] -> 109620000 | F54: 104400000 | G54: =Tabla2[[#This Row],[VALOR RECONSTRUCCION AÑO 2025]]*0.05 -> 5220000 | I54: =Tabla2[[#This Row],[MUEBLES Y ENSERES 2025]]+Tabla2[[#This Row],[INDICE VARIABLES 5%]] -> 5250000 | J54: 5000000 | K54: =Tabla2[[#This Row],[MUEBLES Y ENSERES 2025]]*0.05 -> 250000 | L54: 4000000
A55: 2020000010002600000000 | B55: CENTRO EDUCATIVO RURAL LA OCULTA VEREDA LA OCULTA | C55: CULTURAL | D55: 270 | E55: =Tabla2[[#This Row],[VALOR RECONSTRUCCION AÑO 2025]]+Tabla2[[#This Row],[INDICE VARIABLE 5% ADICIONAL]] -> 113400000 | F55: 108000000 | G55: =Tabla2[[#This Row],[VALOR RECONSTRUCCION AÑO 2025]]*0.05 -> 5400000 | I55: =Tabla2[[#This Row],[MUEBLES Y ENSERES 2025]]+Tabla2[[#This Row],[INDICE VARIABLES 5%]] -> 5250000 | J55: 5000000 | K55: =Tabla2[[#This Row],[MUEBLES Y ENSERES 2025]]*0.05 -> 250000 | L55: 4000000
A56: 2020000020001500000000 | B56: CENTRO EDUCATIVO RURAL MIXTA EL LIBANO VEREDA EL LIBANO | C56: CULTURAL | D56: 202 | E56: =Tabla2[[#This Row],[VALOR RECONSTRUCCION AÑO 2025]]+Tabla2[[#This Row],[INDICE VARIABLE 5% ADICIONAL]] -> 52500000 | F56: 50000000 | G56: =Tabla2[[#This Row],[VALOR RECONSTRUCCION AÑO 2025]]*0.05 -> 2500000 | I56: =Tabla2[[#This Row],[MUEBLES Y ENSERES 2025]]+Tabla2[[#This Row],[INDICE VARIABLES 5%]] -> 5250000 | J56: 5000000 | K56: =Tabla2[[#This Row],[MUEBLES Y ENSERES 2025]]*0.05 -> 250000 | L56: 4000000
A57: 2020000030000200000000 | B57: CENTRO EDUCATIVO RURAL LA VIRGEN VEREDA LA VIRGEN | C57: AGROPECUARIO | D57: 427 | E57: =Tabla2[[#This Row],[VALOR RECONSTRUCCION AÑO 2025]]+Tabla2[[#This Row],[INDICE VARIABLE 5% ADICIONAL]] -> 10500000 | F57: 10000000 | G57: =Tabla2[[#This Row],[VALOR RECONSTRUCCION AÑO 2025]]*0.05 -> 500000 | I57: =Tabla2[[#This Row],[MUEBLES Y ENSERES 2025]]+Tabla2[[#This Row],[INDICE VARIABLES 5%]] -> 5250000 | J57: 5000000 | K57: =Tabla2[[#This Row],[MUEBLES Y ENSERES 2025]]*0.05 -> 250000 | L57: 4000000
... A70: 2030000080001900000000 | B70: CENTRO EDUCATIVO RURAL INTEGRADO -VEREDA CEÑO ALTO | C70: CULTURAL | D70: 131 | E70: =Tabla2[[#This Row],[VALOR RECONSTRUCCION AÑO 2025]]+Tabla2[[#This Row],[INDICE VARIABLE 5% ADICIONAL]] -> 10500000 | F70: 10000000 | G70: =Tabla2[[#This Row],[VALOR RECONSTRUCCION AÑO 2025]]*0.05 -> 500000 | I70: =Tabla2[[#This Row],[MUEBLES Y ENSERES 2025]]+Tabla2[[#This Row],[INDICE VARIABLES 5%]] -> 4095000 | J70: 3900000 | K70: =Tabla2[[#This Row],[MUEBLES Y ENSERES 2025]]*0.05 -> 195000 | L70: 4000000
D71: 31355 | E71: =SUBTOTAL(109,Tabla2[VALOR RECONSTRUCCION AÑO 2026]) -> 1.5798037e+10 | H71: =SUBTOTAL(109,Tabla2[EQUIPO ELECTRONICO MOVIL]) -> 32560499 | I71: =SUM(I2:I70) -> 5.6711028e+08 | L71: =SUM(L2:L70) -> 444928874 | M71: =SUM(M2:M70) -> 7083720 | N71: =SUM(N2:N70) -> 143068391 | O71: =SUM(E71:N71) -> 1.6992789e+10

Sheet RELACION VIDA GRUPO
D7: NOMBRE COMPLETO Y APELLIDOS | E7: FECHA DE NACIMIENTO | F7: NÚMERO DE CÉDULA DE CIUDADANÍA | G7: FECHA DE EXPEDICION
C8: CONCEJAL | D8: JORGE MARIO CADAVID AGUIRRE | E8: 12 DE FEBRERO DE 1988 | F8: 1.045.047.177 | G8: 21 DE AGOSTO DE 2006
C9: CONCEJAL | D9: EDISON ANDRES CORRALES GALEANO | E9: 06 DE SEPTIEMBRE DE 1982 | F9: 70.856.038 | G9: 13 DE SEPTIEMBRE DE 2000
C10: CONCEJAL | D10: JAIME HERNANDO CORREA ARANGO | E10: 07 DE MAYO DE 1971 | F10: 71.722.343 | G10: 04 DE JULIO DE 1989
C11: CONCEJAL | D11: ALEJANDRO ESCOBAR HINCAPIÉ | E11: 14 DE JUNIO DE 1995 | F11: 1..152.699.362 | G11: 18 DE JUNIO DE 2013
C12: CONCEJAL | D12: LUIS ALFONSO JIMENEZ CANO | E12: 19 DE JUNIO DE 1965 | F12: 10.119.175 | G12: 25 DE JULIO DE 1965
C13: CONCEJAL | D13: CARLOS MARIO MONSALVE HERNANDEZ | E13: 12 DE ABRIL DE 1973 | F13: 75.144.305 | G13: 12 DE JUNIO DE 1992
C14: CONCEJAL | D14: DUVERNEY OSPINA ATEHORTUA | E14: 03 DE ENERO DE 2000 | F14: 1.002.064.875 | G14: 11 DE ENERO DE 2018
C15: CONCEJAL | D15: NATALIA ANDREA QUINTERO ESCOBAR | E15: 31 DE ENERO DE 1989 | F15: 1.045.047.446 | G15: 20 DE FEBRERO DE 2007
C16: CONCEJAL | D16: SERGIO STIVEN RUIZ OSSA | E16: 23 DE OCTUBRE DE 1990 | F16: 1.045.048.055 | G16: 13 DE NOVIEMBRE DE 2008
C17: CONCEJAL | D17: ISABEL CRISTINA SANCHEZ RESTREPO | E17: 21 DE AGOSTO DE 1989 | F17: 1.027.883.286 | G17: 23 DE AGOSTO DE 2007
C18: CONCEJAL | D18: OSBALDO AUGUSTO TANGARIFE GRISALES | E18: 26 DE OCTUBRE DE 1974 | F18: 98.623.147 | G18: 29 DE ENERO DE 1993
D20: NOMBRE Y CARGO
C21: ALCALDE | D21: JUAN PABLO PÉREZ RAMÍREZ SALARIO 2026 $6.824.000 | E21: 15 DE ENERO DE 1994 | F21: 1045049259 | G21: 17 DE ENERO DE 20212
C22: PERSONERO | D22: JUAN PABLO TARAZONA RINCON | E22: 24 DE ABRIL DE 1991 | F22: 1098220800 | G22: 24 DE ABRIL 1991

Sheet RELACION DE SOAT
D7: VEHÍCULO | E7: PLACA | F7: DEPENDECIA | G7: VENCIMIENTO SOAT
D8: MOTO HONDA 150 | E8: IHE-09E | F8: PLANEACIÓN | G8: 46372
D9: HONDA XR 125 | E9: XOG89C | F9: PLANEACIÓN | G9: 46355
D10: DT YAMAHA 125 | E10: UZR84A | F10: PLANEACIÓN | G10: 46399
D11: EXCAVADORA 416E CATERPILLAR | E11: MC007298 | F11: PLANEACIÓN | G11: 46277
D12: VOLQUETA | E12: OMZ077 | F12: PLANEACIÓN | G12: 46352
D13: BUS HINO 500 | E13: J B n 140 | F13: GOBIERNO | G13: 46254
D14: MOTO HONDA | E14: XOH35C | F14: D. RURAL | G14: 46414
D15: MOTO HONDA | E15: IHE08E | F15: D. RURAL | G15: 46376
D16: TOYOTA LAND CRUISER | E16: OKD241 | F16: GOBIERNO | G16: 46369
D17: MOTO YAMAHA | E17: VTU28E | F17: GOBIERNO | G17: 46305
D18: MOTO HONDA | E18: CKG70 | F18: GOBIERNO | G18: 46281
D19: VIBROCOMPACTADORA | E19: MC011967 | F19: PLANEACIÓN | G19: 46355
