Workbook
Name CapFinanciera1: #REF!
Name CapFinanciera2: #REF!
Name CapFinanciera3: #REF!
Name CapFinanciera4: #REF!
Name CapTecnica1: #REF!
Name CapTecnica2: #REF!
Name Experiencia1: #REF!
Name Experiencia2: #REF!
Name Experiencia3: #REF!
Name prueba: #REF!

Sheet Formato 5 - Capacidad Residual
A1: Formato 5 - Capacidad residual - Licitación de obra pública de infraestructura social
A2: Versión : 2 de 21 de agosto de 2025
D6: FORMATO 5
D7: CAPACIDAD RESIDUAL
D11: [La Entidad Estatal deberá estructurar los Formatos para la verificación de la capacidad residual utlizando los Formatos y la metodología señalada en la "Guía para Determinar y Verificar la Capacidad Residual del Proponente en los Procesos de Contratación de Obra Pública" de la Agencia Nacional de Contratación Pública - Colombia Compra Eficiente]

Sheet Resumen
D3: Item | E3: Total
D4: =+_xlfn.CONCAT(Anexo1!C3,", ",Anexo1!C4) -> ANEXO 1, CERTIFICACIÓN DE CONTRATOS PARA ACREDITACIÓN DE EXPERIENCIA (E) | E4: =+Anexo1!F16 -> 0
D5: =+_xlfn.CONCAT(Anexo2!C3,", ",Anexo2!C4) -> ANEXO 2, Certificación de la capacidad técnica (CT)
D6: =+_xlfn.CONCAT(Anexo2!C3,", ",Anexo2!C4) -> ANEXO 2, Certificación de la capacidad técnica (CT) | E6: =+Anexo3!O16 -> 0

Sheet Anexo1
B3: CONTRATO No. | C3: ANEXO 1
C4: CERTIFICACIÓN DE CONTRATOS PARA ACREDITACIÓN DE EXPERIENCIA (E)
C5: Contratos relacionados con la actividad de la construcción - Segmento 72 del Clasificador UNSPSC (EN SMMLV) | D5: Participación del proponente en el contratista plural (en caso de aplicar) | E5: VALOR SMMLV 2026 ($1,750,905) | F5: Valor total de los contratos ejecutados (valor del contrato ponderado por la participación en pesos colombianos)
B6: 1 | E6: 1750905 | F6: =+E6*D6*C6 -> 0
B7: 2 | F7: =+E7*D7*C7 -> 0
B8: 3 | F8: =+E8*D8*C8 -> 0
B9: 4 | F9: =+E9*D9*C9 -> 0
B10: 5 | F10: =+E10*D10*C10 -> 0
B11: 6 | F11: =+E11*D11*C11 -> 0
B12: 7 | F12: =+E12*D12*C12 -> 0
B13: 8 | F13: =+E13*D13*C13 -> 0
B14: 9 | F14: =+E14*D14*C14 -> 0
B15: 10 | F15: =+E15*D15*C15 -> 0
B16: TOTAL | F16: =+SUM(F6:F15) -> 0
B24: Firma del Representante Legal | D24: Firma Contador
B25: Nombre
B26: Cargo | D26: Documento de Identidad:
B27: C.C.: | D27: Tarjeta profesional:
D28: Cargo: Contador Público
D33: _____________________________________
D34: Firma del revisor fiscal
D35: Nombre:
D36: Documento de Identidad:
D37: Tarjeta profesional:
D38: Cargo: Revisor fiscal

Sheet Anexo2
B3: ITEM | C3: ANEXO 2
C4: Certificación de la capacidad técnica (CT)
C5: Nombre del socio y/o profesional de la arquitectura, ingeniería o geología | D5: Profesión | E5: Número y año del Contrato Laboral o de la prestación de servicios profesionales | F5: Vigencia del Contrato
B6: 1
B7: 2
B8: 3
B9: 4
B10: 5
B11: 6
B12: 7
B13: 8
B14: 9
B15: 10
B22: _____________________________________
B23: Firma del Representante Legal | D23: Firma del revisor fiscal
B24: Nombre | D24: Nombre:
B25: Cargo | D25: Documento de Identidad:
B26: C.C.: | D26: Tarjeta profesional:
D27: Cargo: Revisor fiscal

Sheet Anexo3
B3: ANEXO 3
B4: Certificación de Saldos de Contratos en Ejecución (SCE)
B5: No. Contrato | C5: Objeto | D5: Contratante | E5: Fecha de inicio [DD/MM/AAAA] | F5: Plazo [meses] | G5: Fecha de presentación de la oferta objeto del Proceso de Contratación [DD/MM/AAAA] | H5: ¿Se encuentra suspendido? [Sí / No] | I5: Fecha de suspensión [DD/MM/AAAA] [si en la columna G se diligenció "Sí", en este campo diligencie N/A] | J5: Días ejecutados [si en la columna G se diligenció "Sí", en este campo diligencie los días ejecutados hasta 360 en la fecha de suspensión] | K5: Días por ejecutar a partir de la fecha de presentación de la oferta objeto del Proceso de Contratación [si los días por ejecutar son mayor a 12 meses, diligencie hasta 360 en esta casilla, si es menor o igual a 12 meses, calcular los días pendientes por ejecutar [E * 30] - I] | L5: Valor del contrato [incluir adiciones] | M5: Porcentaje de participación en el proponente plural [si es proponente singular usar 100 %] | N5: Saldo diario del contrato en ejecución | O5: Saldo del contrato en ejecución
B6: [A] | C6: [B] | D6: [C] | E6: [D] | F6: [E] | G6: [F] | H6: [G] | I6: [H] | J6: [I] | K6: [J] | L6: [K] | M6: [L] | N6: M = [K / [E * 30]] | O6: N = [M * J * L]
B7: 1 | I7: =IF(H7="","",IF(H7="No","N/A",IF(P7="","",P7))) | J7: =IF(H7="","",IF(H7="No","N/A",IF(Q7="","",Q7))) | K7: =IF(F7="","",IF(F7>12,360,MAX(0,F7*30-IF(AND(H7="Yes",ISNUMBER(Q7)),Q7,0)))) | N7: =IF(OR(F7="",L7=""),"",IFERROR(L7/(F7*30),0)) | O7: =IF(OR(N7="",K7=""),"",IFERROR(N7*K7*IF(OR(M7="",M7=0),1,IF(M7>1,M7/100,M7)),0))
B8: 2 | I8: =+IF(H8="Sí","N/A"," ")
B9: 3 | I9: =+IF(H9="Sí","N/A"," ")
B10: 4 | I10: =+IF(H10="Sí","N/A"," ")
B11: 5 | I11: =+IF(H11="Sí","N/A"," ")
B12: 6 | I12: =+IF(H12="Sí","N/A"," ")
B13: 7 | I13: =+IF(H13="Sí","N/A"," ")
B14: 8 | I14: =+IF(H14="Sí","N/A"," ")
B15: 9 | I15: =+IF(H15="Sí","N/A"," ")
B16: TOTAL | O16: =+SUM(O7:O15) -> 0
B24: Firma del Representante Legal | D24: Firma Contador
B25: Nombre
B26: Cargo | D26: Documento de Identidad:
B27: C.C.: | D27: Tarjeta profesional:
D28: Cargo: Contador Público
D33: _____________________________________
D34: Firma del revisor fiscal
D35: Nombre:
D36: Documento de Identidad:
D37: Tarjeta profesional:
D38: Cargo: Revisor fiscal
B48: No. Contrato | C48: Objeto | D48: Contratante | E48: Fecha de inicio [DD/MM/AAAA] | F48: Plazo [meses] | G48: Fecha de presentación de la oferta objeto del Proceso de Contratación [DD/MM/AAAA] | H48: ¿Se encuentra suspendido? [Sí / No] | I48: Fecha de suspensión [DD/MM/AAAA] [si en la columna G se diligenció "Sí", en este campo diligencie N/A] | J48: Días ejecutados [si en la columna G se diligenció "Sí", en este campo diligencie los días ejecutados hasta 360 en la fecha de suspensión] | K48: Días por ejecutar a partir de la fecha de presentación de la oferta objeto del Proceso de Contratación [si los días por ejecutar son mayor a 12 meses, diligencie hasta 360 en esta casilla, si es menor o igual a 12 meses, calcular los días pendientes por ejecutar [E * 30] - I] | L48: Valor del contrato [incluir adiciones] | M48: Porcentaje de participación en el proponente plural [si es proponente singular usar 100 %] | N48: Saldo diario del contrato en ejecución | O48: Saldo del contrato en ejecución
B49: [A] | C49: [B] | D49: [C] | E49: [D] | F49: [E] | G49: [F] | H49: [G] | I49: [H] | J49: [I] | K49: [J] | L49: [K] | M49: [L] | N49: M = [K / [E * 30]] | O49: N = [M * J * L]
