Workbook
Name \0: #REF!
Name \a: #REF!
Name \b: #REF!
Name \b: #REF!
Name \c: #REF!
Name \D: #REF!
Name \e: #REF!
Name \eliminar: #REF!
Name \eliminar1: #REF!
Name \F: #REF!
Name \i: #REF!
Name \m: #REF!
Name \P: #REF!
Name \q: #REF!
Name \r: #REF!
Name \s: #REF!
Name \t: #REF!
Name \w: #N/A
Name \x: #REF!
Name \z: #REF!
Name _: #REF!
Name _________________________________apu1: #REF!
Name ________________________________apu1: #REF!
Name _______________________________apu1: #REF!
Name ______________________________apu1: #REF!
Name ____________________________apu1: #REF!
Name ___________________________apu1: #REF!
Name __________________________apu1: #REF!
Name _________________________apu1: #REF!
Name ________________________apu1: #REF!
Name _______________________apu1: #REF!
Name _____________________apu1: #REF!
Name ____________________apu1: #REF!
Name ___________________apu1: #REF!
Name __________________apu1: #REF!
Name _________________apu1: #REF!
Name ________________apu1: #REF!
Name _______________apu1: #REF!
Name _______________EST1: #REF!
Name _______________EST10: #REF!
Name _______________EST11: #REF!
Name _______________EST12: #REF!
Name _______________EST13: #REF!
Name _______________EST14: #REF!
Name _______________EST15: #REF!
Name _______________EST16: #REF!
Name _______________EST17: #REF!
Name _______________EST18: #REF!
Name _______________EST19: #REF!
Name _______________EST2: #REF!
Name _______________EST3: #REF!
Name _______________EST4: #REF!
Name _______________EST5: #REF!
Name _______________EST6: #REF!
Name _______________EST7: #REF!
Name _______________EST8: #REF!
Name _______________EST9: #REF!
Name _______________EXC1: #REF!
Name _______________EXC10: #REF!
Name _______________EXC11: #REF!

Sheet 0 Programacion
B2: CRONOGRAMA DE ACTIVIDADES
B3: REMODELACION SEDES PALACIO DE JUSTICIA DE VALLEDUPAR Y EDIFICIO TELECOM
B5: Item | C5: Actividad | D5: Vr Total | E5: MES | F5: 1 | J5: 2 | N5: 3 | R5: 4 | V5: 5 | Z5: 6 | AD5: 7 | AH5: 8
E6: Semanas | F6: 1 | G6: =+F6+1 -> 2 | H6: =+G6+1 -> 3 | I6: =+H6+1 -> 4 | J6: =+I6+1 -> 5 | K6: =+J6+1 -> 6 | L6: =+K6+1 -> 7 | M6: =+L6+1 -> 8 | N6: =+M6+1 -> 9 | ... AK6: =+AJ6+1 -> 32
C7: ETAPA PRECONTRACTUAL (60 DIAS)
C8: ETAPA PRECONTRACTUAL (60 DIAS) | E8: =SUM(F8:AK8) -> 8 | F8: 1 | G8: 1 | H8: 1 | I8: 1 | J8: 1 | K8: 1 | L8: 1 | M8: 1
B10: =+'Propuesta Economica (OFICIAL)'!B18 -> A | C10: =+'Propuesta Economica (OFICIAL)'!C18:G18 -> SEDE EDIFICIO ANTIGUO TELECOM
B11: =+'Propuesta Economica (OFICIAL)'!B19 -> 1 | C11: OBRAS PRELIMINARES | D11: 8259150.4 | E11: =SUM(F11:AK11) -> 4 | N11: 1 | O11: 1 | P11: 1 | Q11: 1
B13: =+'Propuesta Economica (OFICIAL)'!B30 -> 2 | C13: MOVIMIENTO DE TIERRAS | D13: 4041612.4 | E13: =SUM(F13:AK13) -> 2 | P13: 1 | Q13: 1
B15: =+'Propuesta Economica (OFICIAL)'!B36 -> 3 | C15: CIMENTACIÓN, ESTRUCTURAS DE CONCRETO Y ESTRUCTURAS METÁLICAS | D15: 3300180 | E15: =SUM(F15:AK15) -> 12 | P15: 1 | Q15: 1 | R15: 1 | S15: 1 | T15: 1 | U15: 1 | V15: 1 | W15: 1 | X15: 1 | Y15: 1 | Z15: 1 | AA15: 1
B17: =+'Propuesta Economica (OFICIAL)'!B44 -> 4 | C17: MAMPOSTERÍA Y ACABADOS MUROS | D17: 675558 | E17: =SUM(F17:AK17) -> 4 | R17: 1 | S17: 1 | T17: 1 | U17: 1
B19: =+'Propuesta Economica (OFICIAL)'!B60 -> 5 | C19: PISOS INTERIORES, PISOS EXTERIORES Y ACABADOS | D19: 241800 | E19: =SUM(F19:AK19) -> 4 | T19: 1 | U19: 1 | V19: 1 | W19: 1
B21: =+'Propuesta Economica (OFICIAL)'!B66 -> 6 | C21: INSTALACIONES SANITARIAS Y AGUAS LLUVIAS | D21: 0 | E21: =SUM(F21:AK21) -> 4 | T21: 1 | U21: 1 | V21: 1 | W21: 1
B23: =+'Propuesta Economica (OFICIAL)'!B82 -> 7 | C23: INSTALACIONES HIDRAULICAS | D23: 0 | E23: =SUM(F23:AK23) -> 4 | T23: 1 | U23: 1 | V23: 1 | W23: 1
B25: =+'Propuesta Economica (OFICIAL)'!B95 -> 8 | C25: CUARTO DE BOMBAS, EQUIPOS SUMINISTRO DE AGUA A PRESIÓN Y OBRAS COMPLEMENTARIAS | D25: 1.0441255e+09 | E25: =SUM(F25:AK25) -> 2 | V25: 1 | W25: 1
B27: =+'Propuesta Economica (OFICIAL)'!B106 -> 9 | C27: CARPINTERÍA METÁLICA Y DE MADERA | D27: 0 | E27: =SUM(F27:AK27) -> 4 | X27: 1 | Y27: 1 | Z27: 1 | AA27: 1
B29: =+'Propuesta Economica (OFICIAL)'!B111 -> 10 | C29: CUBIERTA, CIELO RASO Y ACABADOS CUBIERTAS | D29: 8041643.9 | E29: =SUM(F29:AK29) -> 2 | Z29: 1 | AA29: 1
B31: =+'Propuesta Economica (OFICIAL)'!B116 -> 11 | C31: APARATOS SANITARIOS, ACCESORIOS Y GRIFERÍA | D31: 3587773.1 | E31: =SUM(F31:AK31) -> 2 | Z31: 1 | AA31: 1
B33: =+'Propuesta Economica (OFICIAL)'!B130 -> 12 | C33: INSTALACIONES ELÉCTRICAS E ILUMINACIÓN | D33: 2204280 | E33: =SUM(F33:AK33) -> 8 | X33: 1 | Y33: 1 | Z33: 1 | AA33: 1 | AB33: 1 | AC33: 1 | AD33: 1 | AE33: 1
B35: =+'Propuesta Economica (OFICIAL)'!B172 -> 13 | C35: INSTALACIONES VOZ Y DATOS, SISTEMA DE SEGURIDAD Y CCTV | D35: 1487920.7 | E35: =SUM(F35:AK35) -> 4 | Z35: 1 | AA35: 1 | AB35: 1 | AC35: 1
B37: =+'Propuesta Economica (OFICIAL)'!B195 -> 14 | C37: OBRAS EXTERIORES | D37: 761670 | E37: =SUM(F37:AK37) -> 2 | AD37: 1 | AE37: 1
B39: =+'Propuesta Economica (OFICIAL)'!B202 -> 15 | C39: LIMPIEZA GENERAL Y RETIRO DE ESCOMBROS | D39: 0 | E39: =SUM(F39:AK39) -> 2 | AF39: 1 | AG39: 1
B41: =+'Propuesta Economica (OFICIAL)'!B230 -> 17 | C41: SUMINISTRO DE EQUIPOS | D41: 9.6522878e+08 | E41: =SUM(F41:AK41) -> 8 | X41: 1 | Y41: 1 | Z41: 1 | AA41: 1 | AB41: 1 | AC41: 1 | AD41: 1 | AE41: 1
B43: =+'Propuesta Economica (OFICIAL)'!B244 -> 18 | C43: PLANES DE MANEJO AMBIENTAL Y DE TRÁNSITO | D43: 3667976.1 | E43: =SUM(F43:AK43) -> 20 | N43: 1 | O43: 1 | P43: 1 | Q43: 1 | R43: 1 | S43: 1 | T43: 1 | U43: 1 | V43: 1 | W43: 1 | X43: 1 | Y43: 1 | Z43: 1 | AA43: 1 | AB43: 1 | AC43: 1 | AD43: 1 | AE43: 1 | AF43: 1 | AG43: 1
B45: =+'Propuesta Economica (OFICIAL)'!B251 -> B | C45: SEDE EDIFICIO PALACIO DE JUSTICIA
B46: =+'Propuesta Economica (OFICIAL)'!B252 -> 1 | C46: OBRAS PRELIMINARES | D46: 1850586.2 | E46: =SUM(F46:AK46) -> 4 | N46: 1 | O46: 1 | P46: 1 | Q46: 1
B48: =+'Propuesta Economica (OFICIAL)'!B264 -> 2 | C48: MOVIMIENTO DE TIERRAS | D48: 4350997.1 | E48: =SUM(F48:AK48) -> 2 | P48: 1 | Q48: 1
B50: =+'Propuesta Economica (OFICIAL)'!B270 -> 3 | C50: CIMENTACIÓN, ESTRUCTURAS DE CONCRETO Y ESTRUCTURAS METÁLICAS | D50: 5213087.1 | E50: =SUM(F50:AK50) -> 16 | P50: 1 | Q50: 1 | R50: 1 | S50: 1 | T50: 1 | U50: 1 | V50: 1 | W50: 1 | X50: 1 | Y50: 1 | Z50: 1 | AA50: 1 | AB50: 1 | AC50: 1 | AD50: 1 | AE50: 1
B52: =+'Propuesta Economica (OFICIAL)'!B349 -> 8 | C52: CUARTO DE BOMBAS, EQUIPOS SUMINISTRO DE AGUA A PRESIÓN Y OBRAS COMPLEMENTARIAS | D52: 0 | E52: =SUM(F52:AK52) -> 4 | AC52: 1 | AD52: 1 | AE52: 1 | AF52: 1
B54: =+'Propuesta Economica (OFICIAL)'!B392 -> 12 | C54: INSTALACIONES ELÉCTRICAS E ILUMINACIÓN | D54: 59161440 | E54: =SUM(F54:AK54) -> 12 | R54: 1 | S54: 1 | T54: 1 | U54: 1 | V54: 1 | W54: 1 | X54: 1 | Y54: 1 | Z54: 1 | AA54: 1 | AB54: 1 | AC54: 1
B56: =+'Propuesta Economica (OFICIAL)'!B467 -> 14 | C56: LIMPIEZA GENERAL Y RETIRO DE ESCOMBROS | D56: 4824651 | E56: =SUM(F56:AK56) -> 2 | AF56: 1 | AG56: 1
B58: =+'Propuesta Economica (OFICIAL)'!B523 -> 16 | C58: SUMINISTRO DE EQUIPOS | D58: 1128816 | E58: =SUM(F58:AK58) -> 8 | X58: 1 | Y58: 1 | Z58: 1 | AA58: 1 | AB58: 1 | AC58: 1 | AD58: 1 | AE58: 1
B60: =+'Propuesta Economica (OFICIAL)'!B538 -> 17 | C60: PLANES DE MANEJO AMBIENTAL Y DE TRÁNSITO | D60: 48912240 | E60: =SUM(F60:AK60) -> 20 | N60: 1 | O60: 1 | P60: 1 | Q60: 1 | R60: 1 | S60: 1 | T60: 1 | U60: 1 | V60: 1 | W60: 1 | X60: 1 | Y60: 1 | Z60: 1 | AA60: 1 | AB60: 1 | AC60: 1 | AD60: 1 | AE60: 1 | AF60: 1 | AG60: 1
B62: =+'Propuesta Economica (OFICIAL)'!B555 -> C | C62: SUMINISTRO DE EQUIPOS Y LICENCIAS
B63: =+'Propuesta Economica (OFICIAL)'!B557 -> 1 | C63: EQUIPO ASCENSOR | D63: 4295733 | E63: =SUM(F63:AK63) -> 16 | P63: 1 | Q63: 1 | R63: 1 | S63: 1 | T63: 1 | U63: 1 | V63: 1 | W63: 1 | X63: 1 | Y63: 1 | Z63: 1 | AA63: 1 | AB63: 1 | AC63: 1 | AD63: 1 | AE63: 1
B65: =+'Propuesta Economica (OFICIAL)'!B561 -> 2 | C65: LICENCIA DE CONSTRUCCIÓN Y CONCEPTOS DE REPARACIONES LOCATIVAS - TELECOM | D65: 0 | E65: =SUM(F65:AK65) -> 4 | N65: 1 | O65: 1 | P65: 1 | Q65: 1
B67: =+'Propuesta Economica (OFICIAL)'!B566 -> 3 | C67: LICENCIA DE CONSTRUCCIÓN Y CONCEPTOS DE REPARACIONES LOCATIVAS - PALACIO JUSTICIA | D67: 0 | E67: =SUM(F67:AK67) -> 4 | N67: 1 | O67: 1 | P67: 1 | Q67: 1
C69: LIQUIDACION DEL CONTRATO (30 DIAS)
C70: LIQUIDACION DEL CONTRATO (30 DIAS) | E70: =SUM(F70:AK70) -> 4 | AH70: 1 | AI70: 1 | AJ70: 1 | AK70: 1
B73: 0
D80: =+#REF!/E82 -> #REF! | E80: =SUM(J8:AG67) -> 184 | G80: =+E80/$E$82 -> #REF! | I80: =+D80*E80 -> #REF!
E81: =SUM(#REF!) -> #REF! | G81: =+E81/$E$82 -> #REF! | I81: =+D80*E81 -> #REF!
E82: =SUM(E80:E81) -> #REF! | G82: =+E82/$E$82 -> #REF!
I83: =SUM(I80:J82) -> #REF!

Sheet Propuesta Economica (OFICIAL)
C2: Rama Judicial del Poder Público
C3: Consejo Superior de la Judicatura
C4: Dirección Ejecutiva Seccional de Administración Judicial de Valledupar
B7: Formato 11 - Oferta Economica
B9: NUMERO DE PROCESO: | D9: [INDICAR NUMERO DEL PROCESO]
B11: OBJETO DEL PROCESO: | D11: [INDICAR OBJETO DEL PROCESO]
B13: NOMBRE DEL PROPONENTE: | D13: [INDICAR NOMBRE DEL PROPONENTE]
B15: I. PRESUPUESTO DE OBRA
B16: ITEM | C16: DESCRIPCIÓN | D16: UND | E16: CANT. | F16: VR UNITARIO | G16: VR TOTAL
B18: A | C18: SEDE EDIFICIO ANTIGUO TELECOM
B19: 1 | C19: OBRAS PRELIMINARES
B20: 1.1 | C20: CERRAMIENTO PROVISIONAL EN LÁMINA DE ZINC - H=2.14ML. | D20: ML | E20: 40 | F20: 51837 | G20: =F20*E20 -> 2073480
B21: 1.2 | C21: LOCALIZACIÓN Y REPLANTEO CON EQUIPO | D21: M2 | E21: 2475.9 | F21: 4918 | G21: =F21*E21 -> 12176476
B22: 1.3 | C22: DESMONTE DE CARPINTERÍA METÁLICA Y DE MADERA, INCLUYE MARCOS, PUERTAS, VENTANAS, REJAS, PROTECTORES, CLOSET. | D22: M2 | E22: 149 | F22: 21146 | G22: =F22*E22 -> 3150754
B23: 1.4 | C23: DEMOLICIÓN CON EQUIPO DE ESTRUCTURAS DE CONCRETO | D23: M3 | E23: 27.7 | F23: 290866 | G23: =F23*E23 -> 8056988.2
B24: 1.5 | C24: DESMONTE DE APARATOS SANITARIOS | D24: UN | E24: 20 | F24: 76951 | G24: =F24*E24 -> 1539020
B25: 1.6 | C25: DEMOLICIÓN MANUAL DE MUROS SENCILLOS | D25: M2 | E25: 884.2 | F25: 28183 | G25: =F25*E25 -> 24919409
B26: 1.7 | C26: DEMOLICIÓN MANUAL DE PISOS EXISTENTES - Emax= 0.15m | D26: M2 | E26: =+E61 -> 1002.7827 | F26: 26183 | G26: =F26*E26 -> 26255860
B27: 1.8 | C27: DESMONTE DE CIELO RASO EXISTENTE. | D27: M2 | E27: 957.1 | F27: 27683 | G27: =F27*E27 -> 26495399
B28: 1.9 | C28: RETIRO SOBRANTES PROVENIENTES DE DESMONTES Y DEMOLICIONES. INCLUYE EL CARGUE. | D28: M3 | E28: 877.1 | F28: 30500 | G28: =F28*E28 -> 26751550
F29: Subtotal | G29: =SUM(G20:G28) -> 1.3141894e+08
B30: 2 | C30: MOVIMIENTO DE TIERRAS
B31: 2.1 | C31: EXCAVACION MANUAL, CIMENTACION Y TANQUE SUBTERRANEO. | D31: M3 | E31: 105 | F31: 47787 | G31: =F31*E31 -> 5017635
B32: 2.2 | C32: RELLENOS COMPACTADOS A MAQUINA CON MATERIAL SELECCIONADO, INCLUYE: TRANSPORTE EXTERNO, TRANSPORTE INTERNO, COMPACTACIÓN HASTA UNA DENSIDAD DEL 95% DE LA MÁXIMA OBTENIDA EN EL ENSAYO DEL PRÓCTOR MODIFICADO, MEDIDO EN SITIO. | D32: M3 | E32: 15 | F32: 130588 | G32: =F32*E32 -> 1958820 | L32: F
B33: 2.3 | C33: RELLENOS COMPACTADOS MANUAL CON MATERIAL PROVENIENTE DE LAS EXCAVACIONES, SELECCIONADO, INCLUYE: COMPACTACIÓN HASTA UNA DENSIDAD DEL 95% DE LA MÁXIMA OBTENIDA EN EL ENSAYO DEL PRÓCTOR MODIFICADO, MEDIDO EN SITIO. | D33: M3 | E33: 22.5 | F33: 26479 | G33: =F33*E33 -> 595777.5
B34: 2.4 | C34: RETIRO SOBRANTES PROVENIENTES DEL DESCAPOTE Y EXCAVACIONES. | D34: M3 | E34: 82.5 | F34: 30638 | G34: =F34*E34 -> 2527635
F35: Subtotal | G35: =SUM(G31:G34) -> 10099868
B36: 3 | C36: CIMENTACIÓN, ESTRUCTURAS DE CONCRETO Y ESTRUCTURAS METÁLICAS
B37: 3.1 | C37: CIMENTACIÓN
B38: 3.1.1 | C38: CONCRETO PARA SOLADOS, f'c=2.500 PSI. | D38: M3 | E38: 3 | F38: 813401 | G38: =F38*E38 -> 2440203
B39: 3.2 | C39: ESTRUCTURAS EN CONCRETO
B40: 3.2.1 | C40: TANQUE SUBTERRANEO EN CONCRETO f'c=4.000PSI IMPERMEABILIZADO. INLUYE ENCOFRADO, VIBRADO Y CURADO. | D40: M3 | E40: 45.1 | F40: 1314736 | G40: =F40*E40 -> 59294594
B41: 3.2.2 | C41: ACERO DE REFUERZO PDR-60; f'y=420 Mpa PARA ESTRUCTURAS EN CONCRETO, VERTICALES Y HORIZONTALES. | D41: KG | E41: 9020 | F41: 9279 | G41: =F41*E41 -> 83696580
B42: 3.2.3 | C42: CINTA WATERBAR SELLANTE E IMPERMEABILIZANTE DE JUNTAS, PVC V-15. INCLUYE SUMINISTRO, TRANSPORTE E INSTALACION. | D42: ML | E42: 50.6 | F42: 69624 | G42: =F42*E42 -> 3522974.4
F43: Subtotal | G43: =SUM(G38:G42) -> 148954351
B44: 4 | C44: MAMPOSTERÍA Y ACABADOS MUROS
B45: 4.1 | C45: LEVANTE DE MURO EN BLOQUE VITRIFICADO No. 5, MEDIDAS BLOQUE: 11.5x23x33cm, INCLUYE MORTERO DE PEGA 1:4. | D45: M2 | E45: =+((3.4*2)+(3+3.4))*3*5 -> 198 | F45: 77729 | G45: =F45*E45 -> 15390342
B46: 4.2 | C46: LEVANTE LINEAL DE MURO EN BLOQUE VITRIFICADO No. 5, MEDIDAS BLOQUE: 11.5x23x33cm, INCLUYE MORTERO DE PEGA 1:4. | D46: ML | E46: =+E45*0.3 -> 59.4 | F46: 46304 | G46: =F46*E46 -> 2750457.6
B47: 4.3 | C47: MUROS FALSOS EN PLACA DE ETERBOARD O EQUIVALENTE 8MM, MASILLADO Y PINTADO COLOR BLANCO. INCLUYE: PERFILERÍA DE ALUMINIO PARA SOPORTE, CHAZOS, CINTAS DE UNIÓN O ENSAMBLE ENTRE ELEMENTOS, CORTES, FILETES Y TODO LO NECESARIO. | D47: M2 | E47: 88.42 | F47: 228983 | G47: =F47*E47 -> 20246677
B48: 4.4 | C48: VIGA DINTEL EN CONCRETO DE f'c=3.000PSI, DE MEDIDAS 0.15x0.20m, SOBRE PUERTAS Y VENTANAS. SEGÚN DISEÑO. INCLUYE ACERO DE REFUERZO. | D48: ML | E48: =1.5*4 -> 6 | F48: 106712 | G48: =F48*E48 -> 640272
B49: 4.5 | C49: VIGA INTERMEDIAS EN CONCRETO DE f'c=3.000PSI, DE MEDIDAS 0.15x20m, SOBRE MUROS. SEGÚN DISEÑO. INCLUYE ACERO DE REFUERZO. | D49: ML | E49: =3.5*6+6.2+6.6 -> 33.8 | F49: 111115 | G49: =F49*E49 -> 3755687
B50: 4.7 | C50: COLUMNETAS EN CONCRETO DE f'c=3.000PSI, DE MEDIDAS 15x25cm. SEGÚN DISEÑO. INCLUYE ANCLAJE Y ACERO DE REFUERZO. | D50: ML | E50: =3.5*10 -> 35 | F50: 130092 | G50: =F50*E50 -> 4553220
B51: 4.8 | C51: DILATACIÓN DE MAMPOSTERÍA CONTRA COLUMNAS Y VIGAS EN ICOPOR Y SIKAFLEX FACADE O SIMILAR | D51: ML | E51: =3.5*E50*3 -> 367.5 | F51: 12811 | G51: =F51*E51 -> 4708042.5
B52: 4.9 | C52: ANCLAJE CON EPÓXICO DIÁMETROS VARIADOS, PROFUNDIDAD=0.30m. (INCLUYE PERFORACIÓN Y ACERO). | D52: UN | E52: =10*2 -> 20 | F52: 24045 | G52: =F52*E52 -> 480900
B53: 4.10 | C53: PAÑETE IMPERMEABILIZADO PARA ACABADO DE MUROS EXTERIORES E INTERIORES EN MORTERO 1:4. | D53: M2 | E53: =+E45*2 -> 396 | F53: 37953 | G53: =F53*E53 -> 15029388
B54: 4.11 | C54: PAÑETE LINEAL IMPERMEABILIZADO PARA DILATACIONES, RANURAS, FILETES DE BAÑOS. | D54: ML | E54: =+E53*0.3 -> 118.8 | F54: 19714 | G54: =F54*E54 -> 2342023.2
B55: 4.12 | C55: ENCHAPE EN BALDOSÍN PARA MUROS DE BAÑOS Y SITIOS REQUERIDOS, COLOR BLANCO. INCLUYE PEGACOR Y REFRAGUE CON CONCOLOR BLANCO. | D55: M2 | E55: 316.8 | F55: 103121 | G55: =F55*E55 -> 32668733
B56: 4.13 | C56: APLICACIÓN DE ESTUCO ACRILICO. PARA ACABADOS DE MUROS INTERIORES Y EXTERIORES. | D56: M2 | E56: =+E53-E55 -> 79.2 | F56: 37630 | G56: =F56*E56 -> 2980296
B57: 4.14 | C57: APLICACIÓN DE ESTUCO ACRILICO LINEAL. PARA ACABADOS DE MUROS INTERIORES Y EXTERIORES. | D57: ML | E57: =+E56*0.3 -> 23.76 | F57: 19631 | G57: =F57*E57 -> 466432.56
B58: 4.15 | C58: APLICACIÓN DE PINTURA ACRILICA. PARA ACABADO DE MUROS INTERIORES Y EXTERIORES. | D58: M2 | E58: =+E56 -> 79.2 | F58: 23312 | G58: =F58*E58 -> 1846310.4
F59: Subtotal | G59: =SUM(G45:G58) -> 1.0785878e+08
B60: 5 | C60: PISOS INTERIORES, PISOS EXTERIORES Y ACABADOS
B61: 5.1 | C61: MORTERO DE NIVELACION 1:4 IMPERMEABILIZADO -E=0.03m. | D61: M2 | E61: =+E62+E64 -> 1002.7827 | F61: 42005 | G61: =F61*E61 -> 42121889
B62: 5.2 | C62: PISO TIPO GRANITO TERRAZO MICROGRANO - BLANCO ALBINO DE 40x40cm. INCLUYE MORTERO DE PEGA 1:4 Y REFRAGUE CON CONCOLOR BLANCO. | D62: M2 | E62: 887.78273 | F62: 173604 | G62: =F62*E62 -> 1.5412263e+08
B63: 5.3 | C63: ZOCALO MEDIA CAÑA EN GRANITO PULIDO 7.5cm. | D63: ML | E63: =+E62*1.17066770879857 -> 1039.2986 | F63: 40983 | G63: =F63*E63 -> 42593573
B64: 5.4 | C64: CERAMICA ANTILDESLIZANTE PARA PISOS BAÑOS Y ZONAS HUMEDAS, COLOR BLANCO. INCLUYE PEGACOR Y REFRAGUE CON CONCOLOR BLANCO. | D64: M2 | E64: 115 | F64: 102098 | G64: =F64*E64 -> 11741270
F65: Subtotal | G65: =SUM(G61:G64) -> 2.5057936e+08
B66: 6 | C66: INSTALACIONES SANITARIAS Y AGUAS LLUVIAS
B67: 6.1 | C67: TUBERÍA P.V.C.-S 2", INCLUYE: EXCAVACIÓN Y RELLENO, ACCESORIOS, LIMPIADOR, PEGANTE Y TODO LO NECESARIO PARA SU CORRECTA INSTALACIÓN Y FUNCIONAMIENTO. | D67: ML | E67: 216 | F67: 35210 | G67: =F67*E67 -> 7605360
B68: 6.2 | C68: TUBERÍA P.V.C.-S 3", INCLUYE: EXCAVACIÓN Y RELLENO, ACCESORIOS, LIMPIADOR, PEGANTE Y TODO LO NECESARIO PARA SU CORRECTA INSTALACIÓN Y FUNCIONAMIENTO. | D68: ML | E68: 90 | F68: 49510 | G68: =F68*E68 -> 4455900
B69: 6.3 | C69: TUBERÍA P.V.C.-S 4", INCLUYE: EXCAVACIÓN Y RELLENO, ACCESORIOS, LIMPIADOR, PEGANTE Y TODO LO NECESARIO PARA SU CORRECTA INSTALACIÓN Y FUNCIONAMIENTO. INCLUYE LAS BAJANTES. | D69: ML | E69: 108 | F69: 62186 | G69: =F69*E69 -> 6716088
B70: 6.4 | C70: TUBERÍA P.V.C. NOVAFORT 160mm O EQUIVALENTE PARA ALCANTARILLADO. INCLUYE: EXCAVACIÓN Y RELLENO, ACCESORIOS, LIMPIADOR, LUBRICANTE Y TODO LO NECESARIO PARA SU CORRECTA INSTALACIÓN Y FUNCIONAMIENTO. | D70: ML | E70: 30 | F70: 103470 | G70: =F70*E70 -> 3104100
B71: 6.5 | C71: TUBERÍA P.V.C. NOVAFORT 200mm O EQUIVALENTE PARA ALCANTARILLADO. INCLUYE: EXCAVACIÓN Y RELLENO, ACCESORIOS, LIMPIADOR, LUBRICANTE Y TODO LO NECESARIO PARA SU CORRECTA INSTALACIÓN Y FUNCIONAMIENTO. | D71: ML | E71: 12 | F71: 152208 | G71: =F71*E71 -> 1826496
B72: 6.6 | C72: TUBERÍA DE VENTILACIÓN DE 2" EN PVC, INCLUYE CODO DE 90°1/4" c x c 2 Pulg, CODO DE 2 Pulg, SOLDADURA LIQUIDA PVC, LIMPIADOR REMOVEDOR PARA PVC (760 gr.) E INCLUYE TODO LO NECESARIO PARA SU CORRECTA INSTALACIÓN. | D72: ML | E72: 45 | F72: 29599 | G72: =F72*E72 -> 1331955
B73: 6.7 | C73: ENTREGAS AL SISTEMA DE ALCANTARILLADO MUNICIPAL EXISTENTE. INCLUYE ROTURA DE PAVIMENTO, EXCAVACION, ACCESORIOS, SILLA Y, MANO DE OBRA, TAPE Y RESANE. | D73: UN | E73: 1 | F73: 2511381 | G73: =F73*E73 -> 2511381
B74: 6.8 | C74: PUNTO SANITARIO DE 2" EN PVC. INCLUYE TUBERÍA PVC SANITARÍA x 2 Pulg, ACCESORIOS, SOLDADURA LIQUIDA PVC, LIMPIADOR REMOVEDOR PARA PVC (760 gr.). | D74: UN | E74: 24 | F74: 65172 | G74: =F74*E74 -> 1564128
B75: 6.9 | C75: PUNTO SANITARIO DE 4" EN PVC. INCLUYE TUBERÍA PVC SANITARÍA x 4 Pulg, INCLUYE ACCESORIOS, SOLDADURA LIQUIDA PVC, LIMPIADOR REMOVEDOR PARA PVC (760 gr.). | D75: UN | E75: 15 | F75: 118513 | G75: =F75*E75 -> 1777695
B76: 6.10 | C76: TRAGANTE DE AGUAS LLUVIAS DE 6" METALICO, INCLUYE CODO DE 90°1/4" c x c 6 Pulg, YEE SANITARÍA 6 Pulg, UNION DE 6 Pulg, SOLDADURA LIQUIDA PVC, LIMPIADOR REMOVEDOR PARA PVC (760 gr.), E INCLUYE TODO LO NECESARIO PARA SU CORRECTA INSTALACIÓN. | D76: UN | E76: 4 | F76: 168501 | G76: =F76*E76 -> 674004
B77: 6.11 | C77: REJILLA SOSCO 4"X2" | D77: UN | E77: 12 | F77: 49443 | G77: =F77*E77 -> 593316
B78: 6.12 | C78: CAJA DE INSPECCIÓN DE 80x80cm, EN CONCRETO DE f'c=2.500PSI, INCLUYE EXCAVACIÓN Y TAPE, TAPA Y HERRAJES E INCLUYE TODO LO NECESARIO PARA SU CORRECTO FUNCIONAMIENTO. | D78: UN | E78: 1 | F78: 691782 | G78: =F78*E78 -> 691782
... B80: 6.14 | C80: VALVULA ADMISION DE AIRE MAXI-VENT 1 1/3" A 4" | D80: UN | E80: 2 | F80: 399108 | G80: =F80*E80 -> 798216
F81: Subtotal | G81: =SUM(G67:G80) -> 36064821
B82: 7 | C82: INSTALACIONES HIDRAULICAS
B83: 7.1 | C83: SUMINISTRO E INSTALACION DE TUBERIA PRESION DE 1/2" RDE 21. | D83: ML | E83: 180 | F83: 24940 | G83: =F83*E83 -> 4489200
B84: 7.2 | C84: SUMINISTRO E INSTALACION DE TUBERIA PRESION DE 3/4" RDE 11. | D84: ML | E84: 90 | F84: 28132 | G84: =F84*E84 -> 2531880
B85: 7.3 | C85: SUMINISTRO E INSTALACION DE TUBERIA PRESION DE 1" RDE 13,5 | D85: ML | E85: 144 | F85: 31699 | G85: =F85*E85 -> 4564656
B86: 7.4 | C86: SUMINISTRO E INSTALACION DE TUBERIA PRESION DE 1 1/2" RDE 21 | D86: ML | E86: 72 | F86: 53433 | G86: =F86*E86 -> 3847176
B87: 7.5 | C87: SUMINISTRO E INSTALACION DE TUBERIA PRESION DE 2" RDE 21 | D87: ML | E87: 72 | F87: 62056 | G87: =F87*E87 -> 4468032
B88: 7.6 | C88: SUMINISTRO E INSTALACION DE TUBERIA PRESION DE 2 1/2" RDE 21 | D88: ML | E88: 36 | F88: 71731 | G88: =F88*E88 -> 2582316
B89: 7.7 | C89: SUMINISTRO E INSTALACION DE TUBERIA PRESION DE 3" RDE 21 | D89: ML | E89: 60 | F89: 138779 | G89: =F89*E89 -> 8326740
B90: 7.8 | C90: PUNTO HIDRÁULICO 1/2" | D90: UN | E90: 24 | F90: 57667 | G90: =F90*E90 -> 1384008
B91: 7.9 | C91: PUNTO HIDRÁULICO 1" | D91: UN | E91: 15 | F91: 100605 | G91: =F91*E91 -> 1509075
B92: 7.10 | C92: SUMINISTRO E INSTALACIÓN DE LLAVES DE CONTROL DE Ø 1/2" GALVANIZADAS, INCLUYE REGISTRO, TAPA, UNIVERSAL Y ACCESORIOS PARA INSTALACIÓN | D92: UN | E92: 10 | F92: 126601 | G92: =F92*E92 -> 1266010
B93: 7.11 | C93: SUMINISTRO E INSTALACIÓN DE LLAVES DE CONTROL DE Ø 1" GALVANIZDAS, INCLUYE REGISTRO, TAPA, UNIVERSAL Y ACCESORIOS PARA INSTALACIÓN | D93: UN | E93: 5 | F93: 151351 | G93: =F93*E93 -> 756755
F94: Subtotal | G94: =SUM(G83:G93) -> 35725848
B95: 8 | C95: CUARTO DE BOMBAS, EQUIPOS SUMINISTRO DE AGUA A PRESIÓN Y OBRAS COMPLEMENTARIAS
B96: 8.1 | C96: SUMINISTRO E INSTALACIÓN DE VALVULA DE PIE DE Ø 2" | D96: UN | E96: 1 | F96: 795597 | G96: =F96*E96 -> 795597
B97: 8.2 | C97: CONEXIÓN A TANQUES DE AGUA SUBTERRÁNEOS 1", INCLUYE FLOTADORA, SOLDADURA LIQUIDA PVC, LIMPIADOR REMOVEDOR PARA PVC (760 gr.), E INCLUYE TODO LO NECESARIO PARA SU CORRECTA INSTALACIÓN Y FUNCIONAMIENTO. | D97: UN | E97: 1 | F97: 1113649 | G97: =F97*E97 -> 1113649
B98: 8.3 | C98: INSTALACION EQUIPO DE PRESION CONSTANTE DE 23 GPM @ 40 m.c.a | D98: UN | E98: 1 | F98: 5560200 | G98: =F98*E98 -> 5560200
C99: PASAMUROS
B100: 8.4 | C100: TUBERÍA DE VENTILACIÓN 4" SCH 40, INCLUYE SUMINISTRO E INSTALACIÓN. | D100: ML | E100: 1 | F100: 476330 | G100: =F100*E100 -> 476330
B101: 8.5 | C101: NIPLE PASAMURO D=1.1/2" SCH 40, INCLUYE SUMINISTRO E INSTALACIÓN. | D101: UN | E101: 1 | F101: 89776 | G101: =F101*E101 -> 89776
B102: 8.6 | C102: NIPLE PASAMURO D=2" SCH 40, INCLUYE SUMINISTRO E INSTALACIÓN. | D102: UN | E102: 1 | F102: 118276 | G102: =F102*E102 -> 118276
B103: 8.7 | C103: NIPLE PASAMURO D=3" SCH 40. INCLUYE SUMINISTRO E INSTALACIÓN. | D103: UN | E103: 1 | F103: 206136 | G103: =F103*E103 -> 206136
B104: 8.8 | C104: NIPLE PASAMURO D=4" SCH 40. INCLUYE SUMINISTRO E INSTALACIÓN. | D104: UN | E104: 1 | F104: 333587 | G104: =F104*E104 -> 333587
F105: Subtotal | G105: =SUM(G96:G104) -> 8693551
B106: 9 | C106: CARPINTERÍA METÁLICA Y DE MADERA
B107: 9.1 | C107: DIVISIONES PARA BAÑOS Y ORINALES EN PANELES DE ACERO INOXIDABLE DE ALTURA - H=2.50m - TIPO SOCODA REF.: 304 CALIBRE 20, O EQUIVALENTE. INCLUYE PUERTAS, PARALES, CHAPAS, BISAGRAS, EMPAQUES, PASADORES BARRAS DE 1.5" DE ACUERDO A LA NORMA PARA BAÑOS DE PERSONAS CON DISCAPACIDAD LOCOMOTRIZ Y TODOS LOS ELEMENTOS REQUERIDOS PARA SU CORRECTA EJECUCIÓN. LAS DIVISIONES INCLUYEN EL ACABADO EN LÁMINA DE ACERO INOXIDABLE POR AMBAS CARAS. | D107: M2 | E107: 144 | F107: 934668 | G107: =F107*E107 -> 134592192
B108: 9.2 | C108: BARRA DE SEGURIDAD PARA DISCAPACITADOS DE 36" O EQUIVALENTE, EN ACERO INOXIDABLE SATINADO. INCLUYE SUMINISTRO, TRANSPORTE E INSTALACIÓN. | D108: UN | E108: 20 | F108: 316096 | G108: =F108*E108 -> 6321920
B109: 9.3 | C109: REFORZAMIENTO Y ACABADOS PARA RECUBRIMIENTO ASCENSOR EXISTENTE | D109: UN | E109: 129.6 | F109: 1155488 | G109: =F109*E109 -> 1.4975124e+08
...
