Workbook
Name \0: #REF!
Name \a: #REF!
Name \b: #REF!
Name \b: #REF!
Name \c: #REF!
Name \D: #REF!
Name \e: #REF!
Name \eliminar: #REF!
Name \eliminar1: #REF!
Name \F: #REF!
Name \i: #REF!
Name \m: #REF!
Name \P: #REF!
Name \q: #REF!
Name \r: #REF!
Name \s: #REF!
Name \t: #REF!
Name \w: #N/A
Name \x: #REF!
Name \z: #REF!
Name _: #REF!
Name _________________________________apu1: #REF!
Name ________________________________apu1: #REF!
Name _______________________________apu1: #REF!
Name ______________________________apu1: #REF!
Name ____________________________apu1: #REF!
Name ___________________________apu1: #REF!
Name __________________________apu1: #REF!
Name _________________________apu1: #REF!
Name ________________________apu1: #REF!
Name _______________________apu1: #REF!
Name _____________________apu1: #REF!
Name ____________________apu1: #REF!
Name ___________________apu1: #REF!
Name __________________apu1: #REF!
Name _________________apu1: #REF!
Name ________________apu1: #REF!
Name _______________apu1: #REF!
Name _______________EST1: #REF!
Name _______________EST10: #REF!
Name _______________EST11: #REF!
Name _______________EST12: #REF!
Name _______________EST13: #REF!
Name _______________EST14: #REF!
Name _______________EST15: #REF!
Name _______________EST16: #REF!
Name _______________EST17: #REF!
Name _______________EST18: #REF!
Name _______________EST19: #REF!
Name _______________EST2: #REF!
Name _______________EST3: #REF!
Name _______________EST4: #REF!
Name _______________EST5: #REF!
Name _______________EST6: #REF!
Name _______________EST7: #REF!
Name _______________EST8: #REF!
Name _______________EST9: #REF!
Name _______________EXC1: #REF!
Name _______________EXC10: #REF!
Name _______________EXC11: #REF!

Sheet 0 Programacion
B2: CRONOGRAMA DE ACTIVIDADES
B3: REMODELACION SEDES PALACIO DE JUSTICIA DE VALLEDUPAR Y EDIFICIO TELECOM
B5: Item | C5: Actividad | D5: Vr Total | E5: MES | F5: 1 | J5: 2 | N5: 3 | R5: 4 | V5: 5 | Z5: 6 | AD5: 7 | AH5: 8
E6: Semanas | F6: 1 | G6: =+F6+1 -> 2 | H6: =+G6+1 -> 3 | I6: =+H6+1 -> 4 | J6: =+I6+1 -> 5 | K6: =+J6+1 -> 6 | L6: =+K6+1 -> 7 | M6: =+L6+1 -> 8 | N6: =+M6+1 -> 9 | ... AK6: =+AJ6+1 -> 32
C7: ETAPA PRECONTRACTUAL (60 DIAS)
C8: ETAPA PRECONTRACTUAL (60 DIAS) | E8: =SUM(F8:AK8) -> 8 | F8: 1 | G8: 1 | H8: 1 | I8: 1 | J8: 1 | K8: 1 | L8: 1 | M8: 1
B10: =+'Propuesta Economica (OFICIAL)'!B18 -> A | C10: =+'Propuesta Economica (OFICIAL)'!C18:G18 -> SEDE EDIFICIO ANTIGUO TELECOM
B11: =+'Propuesta Economica (OFICIAL)'!B19 -> 1 | C11: OBRAS PRELIMINARES | D11: 8259150.4 | E11: =SUM(F11:AK11) -> 4 | N11: 1 | O11: 1 | P11: 1 | Q11: 1
B13: =+'Propuesta Economica (OFICIAL)'!B30 -> 2 | C13: MOVIMIENTO DE TIERRAS | D13: 4041612.4 | E13: =SUM(F13:AK13) -> 2 | P13: 1 | Q13: 1
B15: =+'Propuesta Economica (OFICIAL)'!B36 -> 3 | C15: CIMENTACIÓN, ESTRUCTURAS DE CONCRETO Y ESTRUCTURAS METÁLICAS | D15: 3300180 | E15: =SUM(F15:AK15) -> 12 | P15: 1 | Q15: 1 | R15: 1 | S15: 1 | T15: 1 | U15: 1 | V15: 1 | W15: 1 | X15: 1 | Y15: 1 | Z15: 1 | AA15: 1
B17: =+'Propuesta Economica (OFICIAL)'!B44 -> 4 | C17: MAMPOSTERÍA Y ACABADOS MUROS | D17: 675558 | E17: =SUM(F17:AK17) -> 4 | R17: 1 | S17: 1 | T17: 1 | U17: 1
B19: =+'Propuesta Economica (OFICIAL)'!B60 -> 5 | C19: PISOS INTERIORES, PISOS EXTERIORES Y ACABADOS | D19: 241800 | E19: =SUM(F19:AK19) -> 4 | T19: 1 | U19: 1 | V19: 1 | W19: 1
B21: =+'Propuesta Economica (OFICIAL)'!B66 -> 6 | C21: INSTALACIONES SANITARIAS Y AGUAS LLUVIAS | D21: 0 | E21: =SUM(F21:AK21) -> 4 | T21: 1 | U21: 1 | V21: 1 | W21: 1
B23: =+'Propuesta Economica (OFICIAL)'!B82 -> 7 | C23: INSTALACIONES HIDRAULICAS | D23: 0 | E23: =SUM(F23:AK23) -> 4 | T23: 1 | U23: 1 | V23: 1 | W23: 1
B25: =+'Propuesta Economica (OFICIAL)'!B95 -> 8 | C25: CUARTO DE BOMBAS, EQUIPOS SUMINISTRO DE AGUA A PRESIÓN Y OBRAS COMPLEMENTARIAS | D25: 1.0441255e+09 | E25: =SUM(F25:AK25) -> 2 | V25: 1 | W25: 1
B27: =+'Propuesta Economica (OFICIAL)'!B106 -> 9 | C27: CARPINTERÍA METÁLICA Y DE MADERA | D27: 0 | E27: =SUM(F27:AK27) -> 4 | X27: 1 | Y27: 1 | Z27: 1 | AA27: 1
B29: =+'Propuesta Economica (OFICIAL)'!B111 -> 10 | C29: CUBIERTA, CIELO RASO Y ACABADOS CUBIERTAS | D29: 8041643.9 | E29: =SUM(F29:AK29) -> 2 | Z29: 1 | AA29: 1
B31: =+'Propuesta Economica (OFICIAL)'!B116 -> 11 | C31: APARATOS SANITARIOS, ACCESORIOS Y GRIFERÍA | D31: 3587773.1 | E31: =SUM(F31:AK31) -> 2 | Z31: 1 | AA31: 1
B33: =+'Propuesta Economica (OFICIAL)'!B130 -> 12 | C33: INSTALACIONES ELÉCTRICAS E ILUMINACIÓN | D33: 2204280 | E33: =SUM(F33:AK33) -> 8 | X33: 1 | Y33: 1 | Z33: 1 | AA33: 1 | AB33: 1 | AC33: 1 | AD33: 1 | AE33: 1
B35: =+'Propuesta Economica (OFICIAL)'!B172 -> 13 | C35: INSTALACIONES VOZ Y DATOS, SISTEMA DE SEGURIDAD Y CCTV | D35: 1487920.7 | E35: =SUM(F35:AK35) -> 4 | Z35: 1 | AA35: 1 | AB35: 1 | AC35: 1
B37: =+'Propuesta Economica (OFICIAL)'!B195 -> 14 | C37: OBRAS EXTERIORES | D37: 761670 | E37: =SUM(F37:AK37) -> 2 | AD37: 1 | AE37: 1
B39: =+'Propuesta Economica (OFICIAL)'!B202 -> 15 | C39: LIMPIEZA GENERAL Y RETIRO DE ESCOMBROS | D39: 0 | E39: =SUM(F39:AK39) -> 2 | AF39: 1 | AG39: 1
B41: =+'Propuesta Economica (OFICIAL)'!B230 -> 17 | C41: SUMINISTRO DE EQUIPOS | D41: 9.6522878e+08 | E41: =SUM(F41:AK41) -> 8 | X41: 1 | Y41: 1 | Z41: 1 | AA41: 1 | AB41: 1 | AC41: 1 | AD41: 1 | AE41: 1
B43: =+'Propuesta Economica (OFICIAL)'!B244 -> 18 | C43: PLANES DE MANEJO AMBIENTAL Y DE TRÁNSITO | D43: 3667976.1 | E43: =SUM(F43:AK43) -> 20 | N43: 1 | O43: 1 | P43: 1 | Q43: 1 | R43: 1 | S43: 1 | T43: 1 | U43: 1 | V43: 1 | W43: 1 | X43: 1 | Y43: 1 | Z43: 1 | AA43: 1 | AB43: 1 | AC43: 1 | AD43: 1 | AE43: 1 | AF43: 1 | AG43: 1
B45: =+'Propuesta Economica (OFICIAL)'!B251 -> B | C45: SEDE EDIFICIO PALACIO DE JUSTICIA
B46: =+'Propuesta Economica (OFICIAL)'!B252 -> 1 | C46: OBRAS PRELIMINARES | D46: 1850586.2 | E46: =SUM(F46:AK46) -> 4 | N46: 1 | O46: 1 | P46: 1 | Q46: 1
B48: =+'Propuesta Economica (OFICIAL)'!B264 -> 2 | C48: MOVIMIENTO DE TIERRAS | D48: 4350997.1 | E48: =SUM(F48:AK48) -> 2 | P48: 1 | Q48: 1
B50: =+'Propuesta Economica (OFICIAL)'!B270 -> 3 | C50: CIMENTACIÓN, ESTRUCTURAS DE CONCRETO Y ESTRUCTURAS METÁLICAS | D50: 5213087.1 | E50: =SUM(F50:AK50) -> 16 | P50: 1 | Q50: 1 | R50: 1 | S50: 1 | T50: 1 | U50: 1 | V50: 1 | W50: 1 | X50: 1 | Y50: 1 | Z50: 1 | AA50: 1 | AB50: 1 | AC50: 1 | AD50: 1 | AE50: 1
B52: =+'Propuesta Economica (OFICIAL)'!B349 -> 8 | C52: CUARTO DE BOMBAS, EQUIPOS SUMINISTRO DE AGUA A PRESIÓN Y OBRAS COMPLEMENTARIAS | D52: 0 | E52: =SUM(F52:AK52) -> 4 | AC52: 1 | AD52: 1 | AE52: 1 | AF52: 1
B54: =+'Propuesta Economica (OFICIAL)'!B392 -> 12 | C54: INSTALACIONES ELÉCTRICAS E ILUMINACIÓN | D54: 59161440 | E54: =SUM(F54:AK54) -> 12 | R54: 1 | S54: 1 | T54: 1 | U54: 1 | V54: 1 | W54: 1 | X54: 1 | Y54: 1 | Z54: 1 | AA54: 1 | AB54: 1 | AC54: 1
B56: =+'Propuesta Economica (OFICIAL)'!B467 -> 14 | C56: LIMPIEZA GENERAL Y RETIRO DE ESCOMBROS | D56: 4824651 | E56: =SUM(F56:AK56) -> 2 | AF56: 1 | AG56: 1
B58: =+'Propuesta Economica (OFICIAL)'!B523 -> 16 | C58: SUMINISTRO DE EQUIPOS | D58: 1128816 | E58: =SUM(F58:AK58) -> 8 | X58: 1 | Y58: 1 | Z58: 1 | AA58: 1 | AB58: 1 | AC58: 1 | AD58: 1 | AE58: 1
B60: =+'Propuesta Economica (OFICIAL)'!B538 -> 17 | C60: PLANES DE MANEJO AMBIENTAL Y DE TRÁNSITO | D60: 48912240 | E60: =SUM(F60:AK60) -> 20 | N60: 1 | O60: 1 | P60: 1 | Q60: 1 | R60: 1 | S60: 1 | T60: 1 | U60: 1 | V60: 1 | W60: 1 | X60: 1 | Y60: 1 | Z60: 1 | AA60: 1 | AB60: 1 | AC60: 1 | AD60: 1 | AE60: 1 | AF60: 1 | AG60: 1
B62: =+'Propuesta Economica (OFICIAL)'!B555 -> C | C62: SUMINISTRO DE EQUIPOS Y LICENCIAS
B63: =+'Propuesta Economica (OFICIAL)'!B557 -> 1 | C63: EQUIPO ASCENSOR | D63: 4295733 | E63: =SUM(F63:AK63) -> 16 | P63: 1 | Q63: 1 | R63: 1 | S63: 1 | T63: 1 | U63: 1 | V63: 1 | W63: 1 | X63: 1 | Y63: 1 | Z63: 1 | AA63: 1 | AB63: 1 | AC63: 1 | AD63: 1 | AE63: 1
B65: =+'Propuesta Economica (OFICIAL)'!B561 -> 2 | C65: LICENCIA DE CONSTRUCCIÓN Y CONCEPTOS DE REPARACIONES LOCATIVAS - TELECOM | D65: 0 | E65: =SUM(F65:AK65) -> 4 | N65: 1 | O65: 1 | P65: 1 | Q65: 1
B67: =+'Propuesta Economica (OFICIAL)'!B566 -> 3 | C67: LICENCIA DE CONSTRUCCIÓN Y CONCEPTOS DE REPARACIONES LOCATIVAS - PALACIO JUSTICIA | D67: 0 | E67: =SUM(F67:AK67) -> 4 | N67: 1 | O67: 1 | P67: 1 | Q67: 1
C69: LIQUIDACION DEL CONTRATO (30 DIAS)
C70: LIQUIDACION DEL CONTRATO (30 DIAS) | E70: =SUM(F70:AK70) -> 4 | AH70: 1 | AI70: 1 | AJ70: 1 | AK70: 1
B73: 0
...

Sheet Propuesta Economica (OFICIAL)
C2: Rama Judicial del Poder Público
C3: Consejo Superior de la Judicatura
C4: Dirección Ejecutiva Seccional de Administración Judicial de Valledupar
B7: Formato 11 - Oferta Economica
B9: NUMERO DE PROCESO: | D9: [INDICAR NUMERO DEL PROCESO]
B11: OBJETO DEL PROCESO: | D11: [INDICAR OBJETO DEL PROCESO]
B13: NOMBRE DEL PROPONENTE: | D13: [INDICAR NOMBRE DEL PROPONENTE]
B15: I. PRESUPUESTO DE OBRA
B16: ITEM | C16: DESCRIPCIÓN | D16: UND | E16: CANT. | F16: VR UNITARIO | G16: VR TOTAL
B18: A | C18: SEDE EDIFICIO ANTIGUO TELECOM
B19: 1 | C19: OBRAS PRELIMINARES
B20: 1.1 | C20: CERRAMIENTO PROVISIONAL EN LÁMINA DE ZINC - H=2.14ML. | D20: ML | E20: 40 | F20: 51837 | G20: =F20*E20 -> 2073480
B21: 1.2 | C21: LOCALIZACIÓN Y REPLANTEO CON EQUIPO | D21: M2 | E21: 2475.9 | F21: 4918 | G21: =F21*E21 -> 12176476
B22: 1.3 | C22: DESMONTE DE CARPINTERÍA METÁLICA Y DE MADERA, INCLUYE MARCOS, PUERTAS, VENTANAS, REJAS, PROTECTORES, CLOSET. | D22: M2 | E22: 149 | F22: 21146 | G22: =F22*E22 -> 3150754
B23: 1.4 | C23: DEMOLICIÓN CON EQUIPO DE ESTRUCTURAS DE CONCRETO | D23: M3 | E23: 27.7 | F23: 290866 | G23: =F23*E23 -> 8056988.2
B24: 1.5 | C24: DESMONTE DE APARATOS SANITARIOS | D24: UN | E24: 20 | F24: 76951 | G24: =F24*E24 -> 1539020
B25: 1.6 | C25: DEMOLICIÓN MANUAL DE MUROS SENCILLOS | D25: M2 | E25: 884.2 | F25: 28183 | G25: =F25*E25 -> 24919409
B26: 1.7 | C26: DEMOLICIÓN MANUAL DE PISOS EXISTENTES - Emax= 0.15m | D26: M2 | E26: =+E61 -> 1002.7827 | F26: 26183 | G26: =F26*E26 -> 26255860
B27: 1.8 | C27: DESMONTE DE CIELO RASO EXISTENTE. | D27: M2 | E27: 957.1 | F27: 27683 | G27: =F27*E27 -> 26495399
B28: 1.9 | C28: RETIRO SOBRANTES PROVENIENTES DE DESMONTES Y DEMOLICIONES. INCLUYE EL CARGUE. | D28: M3 | E28: 877.1 | F28: 30500 | G28: =F28*E28 -> 26751550
F29: Subtotal | G29: =SUM(G20:G28) -> 1.3141894e+08
B30: 2 | C30: MOVIMIENTO DE TIERRAS
B31: 2.1 | C31: EXCAVACION MANUAL, CIMENTACION Y TANQUE SUBTERRANEO. | D31: M3 | E31: 105 | F31: 47787 | G31: =F31*E31 -> 5017635
B32: 2.2 | C32: RELLENOS COMPACTADOS A MAQUINA CON MATERIAL SELECCIONADO, INCLUYE: TRANSPORTE EXTERNO, TRANSPORTE INTERNO, COMPACTACIÓN HASTA UNA DENSIDAD DEL 95% DE LA MÁXIMA OBTENIDA EN EL ENSAYO DEL PRÓCTOR MODIFICADO, MEDIDO EN SITIO. | D32: M3 | E32: 15 | F32: 130588 | G32: =F32*E32 -> 1958820 | L32: F
B33: 2.3 | C33: RELLENOS COMPACTADOS MANUAL CON MATERIAL PROVENIENTE DE LAS EXCAVACIONES, SELECCIONADO, INCLUYE: COMPACTACIÓN HASTA UNA DENSIDAD DEL 95% DE LA MÁXIMA OBTENIDA EN EL ENSAYO DEL PRÓCTOR MODIFICADO, MEDIDO EN SITIO. | D33: M3 | E33: 22.5 | F33: 26479 | G33: =F33*E33 -> 595777.5
B34: 2.4 | C34: RETIRO SOBRANTES PROVENIENTES DEL DESCAPOTE Y EXCAVACIONES. | D34: M3 | E34: 82.5 | F34: 30638 | G34: =F34*E34 -> 2527635
F35: Subtotal | G35: =SUM(G31:G34) -> 10099868
B36: 3 | C36: CIMENTACIÓN, ESTRUCTURAS DE CONCRETO Y ESTRUCTURAS METÁLICAS
B37: 3.1 | C37: CIMENTACIÓN
B38: 3.1.1 | C38: CONCRETO PARA SOLADOS, f'c=2.500 PSI. | D38: M3 | E38: 3 | F38: 813401 | G38: =F38*E38 -> 2440203
B39: 3.2 | C39: ESTRUCTURAS EN CONCRETO
B40: 3.2.1 | C40: TANQUE SUBTERRANEO EN CONCRETO f'c=4.000PSI IMPERMEABILIZADO. INLUYE ENCOFRADO, VIBRADO Y CURADO. | D40: M3 | E40: 45.1 | F40: 1314736 | G40: =F40*E40 -> 59294594
B41: 3.2.2 | C41: ACERO DE REFUERZO PDR-60; f'y=420 Mpa PARA ESTRUCTURAS EN CONCRETO, VERTICALES Y HORIZONTALES. | D41: KG | E41: 9020 | F41: 9279 | G41: =F41*E41 -> 83696580
B42: 3.2.3 | C42: CINTA WATERBAR SELLANTE E IMPERMEABILIZANTE DE JUNTAS, PVC V-15. INCLUYE SUMINISTRO, TRANSPORTE E INSTALACION. | D42: ML | E42: 50.6 | F42: 69624 | G42: =F42*E42 -> 3522974.4
F43: Subtotal | G43: =SUM(G38:G42) -> 148954351
B44: 4 | C44: MAMPOSTERÍA Y ACABADOS MUROS
B45: 4.1 | C45: LEVANTE DE MURO EN BLOQUE VITRIFICADO No. 5, MEDIDAS BLOQUE: 11.5x23x33cm, INCLUYE MORTERO DE PEGA 1:4. | D45: M2 | E45: =+((3.4*2)+(3+3.4))*3*5 -> 198 | F45: 77729 | G45: =F45*E45 -> 15390342
B46: 4.2 | C46: LEVANTE LINEAL DE MURO EN BLOQUE VITRIFICADO No. 5, MEDIDAS BLOQUE: 11.5x23x33cm, INCLUYE MORTERO DE PEGA 1:4. | D46: ML | E46: =+E45*0.3 -> 59.4 | F46: 46304 | G46: =F46*E46 -> 2750457.6
B47: 4.3 | C47: MUROS FALSOS EN PLACA DE ETERBOARD O EQUIVALENTE 8MM, MASILLADO Y PINTADO COLOR BLANCO. INCLUYE: PERFILERÍA DE ALUMINIO PARA SOPORTE, CHAZOS, CINTAS DE UNIÓN O ENSAMBLE ENTRE ELEMENTOS, CORTES, FILETES Y TODO LO NECESARIO. | D47: M2 | E47: 88.42 | F47: 228983 | G47: =F47*E47 -> 20246677
B48: 4.4 | C48: VIGA DINTEL EN CONCRETO DE f'c=3.000PSI, DE MEDIDAS 0.15x0.20m, SOBRE PUERTAS Y VENTANAS. SEGÚN DISEÑO. INCLUYE ACERO DE REFUERZO. | D48: ML | E48: =1.5*4 -> 6 | F48: 106712 | G48: =F48*E48 -> 640272
...
