Workbook
Name I: '[1]Prestaciones y AIU'!$L$106
Name Objeto_LIC: '[1]Prestaciones y AIU'!$A$3
Name Print_Area: 'Lista APUs ELECTRICO'!$A$1:$I$170
Name U: '[1]Prestaciones y AIU'!$L$107

Sheet Presupuesto
C1: SERVICIO NACIONAL DE APRENDIZAJE FICHA MODELO - PRESUPUESTO
A4: CAPITULO | B4: ITEM | C4: DESCRIPCION | D4: Unidad | E4: VR. UNITARIO | F4: CANTIDAD | G4: VR. PARCIAL | H4: VALOR TOTAL
B5: 1.1.1. | C5: Suministro e instalación de luminarias LED 110W CW Flujo luminoso 15400 lm tensión de trabajo 100-277 V 50/60 Hz, la luminaria se instalará a más de 3 metros de altura con derivación en Cable Encauchetado 3 x 12 AWG Cobre HFFR Libre Halogenos a la Caja octagonal o redonda 5 perforaciones ¾" Rawelt, incluye prensaestopa de 3/4" incluye todos los accesorios necesarios para su correcta instalación. | D5: Un | E5: ='Lista APUs ELECTRICO'!I37 -> 669500 | F5: 44 | G5: =F5*E5 -> 29458000
B6: 1.1.2. | C6: Suministro e instalación de luminarias Led Hermética 2 X 18W T8 3600lm 6500k tensión de trabajo 100-277 V 50/60 Hz, la luminaria se instalará a más de 2 metros de altura con derivación en Cable Encauchetado 3 x 12 AWG Cobre HFFR Libre Halogenos a la Caja octagonal o redonda 5 perforaciones ¾" Rawelt, incluye prensaestopa de 3/4" incluye todos los accesorios necesarios para su correcta instalación. | D6: Un | E6: ='Lista APUs ELECTRICO'!I80 -> 361375 | F6: 2 | G6: =F6*E6 -> 722750
B7: 1.1.3. | C7: Desinstalación de luminarias y ductería en mal estado existentes a más de 3 metros altura para cambio de luminarias para el cumplimiento del RETILAP. | D7: Un | E7: ='Lista APUs ELECTRICO'!I120 -> 491000 | F7: 23 | G7: =F7*E7 -> 11293000
B8: 1.1.4. | C8: Desinstalación de luminarias y ductería en mal estado existentes a más de 2 metros altura para cambio de luminarias para el cumplimiento del RETILAP. | D8: Un | E8: ='Lista APUs ELECTRICO'!I163 -> 293000 | F8: 2 | G8: =F8*E8 -> 586000
B9: 1.1.5. | C9: Suministro e Instalación de puntos eléctricos de iluminación a más de 3 metros de altura incluye Caja octagonal 5 perforaciones ¾" Rawelt, Un tubo metálico EMT de 3/4"x3m, unión EMT 3/4", dos terminales EMT de 3/4", una curva EMT de 3/4", Riel Chanel Perforado 2X4 Cm X 50cm, tres abrazadera unistrut 3/4" y todos los accesorios necesarios para su correcta instalación. | D9: Un | E9: ='Lista APUs ELECTRICO'!I204 -> 284600 | F9: 46 | G9: =F9*E9 -> 13091600
B10: 1.1.6. | C10: Desinstalación de acometidas eléctricas monofásicas, monofásicas bifilares antiguas en calibre número 14,12, 10 awg y, entrega de acometidas antiguas al supervisor del contrato, incluye desinstalación de tubería existente, tableros de distribución, bandeja portacable el item se calcula con los metros líneales de la tubería y bandeja portacable que se desea desinstalar. | D10: M | E10: ='Lista APUs ELECTRICO'!I247 -> 138000 | F10: 60 | G10: =F10*E10 -> 8280000
B11: 1.1.7 | C11: Suministro e instalación de cableado de luminarias, interruptores, puntos de conexión, protecciones en Cable 12 AWG LS HZ Libre Halogenos instalado en tubería EMT de 3/4", incluye fase neutro, tierra y cable de control o retorno, con marcacaciones cumpliendo codigos de colores y accesorios para su correcta instalación y funcionamiento. | D11: M | E11: ='Lista APUs ELECTRICO'!I287 -> 77000 | F11: 168 | G11: =F11*E11 -> 12936000
B12: 1.1.8 | C12: Suministro e Instalación de puntos eléctricos para interruptores dobles, incluye interruptor doble, dos tubos EMT de 3/4"x3m, Caja Rectangular Tipo 5800 4 Salidas De 3/4", cuatro uniones EMT 3/4", dos terminales EMT de 3/4", dos curvas EMT de 3/4", Riel Chanel Perforado 2X4 Cm X 50cm, seis abrazadera unistrut 3/4" y todos los accesorios necesarios para su correcta instalación. | D12: Un | E12: ='Lista APUs ELECTRICO'!I330 -> 364200 | F12: 5 | G12: =F12*E12 -> 1821000
B13: 1.1.9 | C13: Suministro e Instalación de puntos eléctricos para tomacorrientes dobles, incluye tomacorreinte 120v, dos tubos EMT de 3/4"x3m, Caja Rectangular Tipo 5800 4 Salidas De 3/4", cuatro uniones EMT 3/4", tres terminales EMT de 3/4", dos curvas EMT de 3/4", Riel Chanel Perforado 2X4 Cm X 50cm, seis abrazadera unistrut 3/4" y todos los accesorios necesarios para su correcta instalación. | D13: Un | E13: ='Lista APUs ELECTRICO'!I373 -> 394200 | F13: 25 | G13: =F13*E13 -> 9855000
B14: 1.2.0 | C14: Suministro e instalación de cableado de tomacorrientes, puntos de conexión, protecciones en Cable 12 AWG LS HZ Libre Halogenos instalado en tubería EMT de 3/4", incluye fase neutro, tierra y cable de control o retorno, con marcacaciones cumpliendo codigos de colores y accesorios para su correcta instalación y funcionamiento. | D14: M | E14: ='Lista APUs ELECTRICO'!I414 -> 71000 | F14: 180 | G14: =F14*E14 -> 12780000
B15: 1.2.1 | C15: Suministro e instalación de tablero tipo enchufable Trifásico 150A, 24Circuitos con totalizador de de 120A, se debe conectar a la acometida existente, incluye tubo de 2" EMT curva, incluye terminal EMT de 2" y unión EMT de 2", suministro de 10 interruptores tipo enchufables de 1x20A y cuatro protección doble 2x40A para aire acondicionado, incluye todos los accesorios de la instalación | D15: Un | E15: ='Lista APUs ELECTRICO'!I457 -> 1614000 | F15: 1 | G15: =F15*E15 -> 1614000
B16: 1.2.2 | C16: Suministro e instalación de cableado de aires acondicionados, en Cable 8 AWG LS HZ Libre Halogenos instalado en tubería EMT de 1", incluye fases, tierra cable, tubería EMT de 1" , con marcacaciones cumpliendo codigos de colores, cuatro uniones EMT 1", tres terminales EMT de 1", dos curvas EMT de 1", Riel Chanel Perforado 2X4 Cm X 50cm, seis abrazadera unistrut 3/4" y todos los accesorios necesarios para su correcta instalación. | D16: M | E16: ='Lista APUs ELECTRICO'!I497 -> 141533 | F16: 100 | G16: =F16*E16 -> 14153300
C21: SUBTOTAL CAPITULO | G21: =SUM(G5:G20) -> 116590650
C22: COSTO DIRECTO TOTAL | H22: =G21 -> 116590650
D24: ADM | E24: 0.1 | H24: =+ROUND((H$22*$E24),2) -> 11659065
C25: A.I.U. | D25: IMP | E25: 0.05 | H25: =+ROUND((H$22*$E25),2) -> 5829532.5
D26: U | E26: 0.05 | H26: =+ROUND((H$22*$E26),2) -> 5829532.5
H27: =+ROUND((H$22*$E27),2) -> 0
C28: TOTAL A.U. | E28: =SUM(E24:E27) -> 0.2 | H28: =+ROUND((H$22*$E28),2) -> 23318130
C30: COSTO DIRECTO + A.I.U.
C32: I.V.A. DEL 19% SOBRE LA UTILIDAD | E32: 0.19 | H32: =+ROUND((H$26*$H32),0) -> 1289109
C34: COSTO TOTAL | G34: =+G22+G28+G32 -> 0 | H34: =H22+H28 -> 139908780
A40: ELABORO | B40: Ingeniero civil-Contratista Regional Huila | D40: ELABORÓ | E40: Elaborado por: SANTIAGO GONZÀLEZ CASTAÑO
A41: FECHA | D41: FECHA | E41: 28/04/2026 M.P. QN205-86289

Sheet Lista APUs ELECTRICO
D4: SERVICIO NACIONAL DE APRENDIZAJE SENA
D7: DIRECCION ADMINISTRATIVA Y FINANCIERA
D8: GRUPO DE CONSTRUCCIONES
D9: ANALISIS DE PRECIOS UNITARIOS (APUS)
B11: OBRA:
B12: ANALISIS DE PRECIOS UNITARIOS
B13: Item: | C13: Nombre APU: | F13: UND: | H13: Fecha: | I13: 46071
B14: 1.1.1 | C14: Suministro e instalación de luminarias SYLVANIA P28388 - LED HIGH BAY HBL3 110W CW Flujo luminoso 15400 lm tensión de trabajo 100-277 V 50/60 Hz, la luminaria se instalará a más de 4 metros de altura con derivación en Cable Encauchetado 3 x 12 AWG Cobre HFFR Libre Halogenos a la Caja octagonal o redonda 5 perforaciones ¾" Rawelt, incluye prensaestopa de 3/4" incluye todos los accesorios necesarios para su correcta instalación. | F14: Un | G14: 1 | J14: RENDIMIENTO DE MATERIAL
B15: No. | C15: MATERIALES | D15: UN | E15: CANTIDAD | F15: DESP | G15: VR.UNITARIO | H15: SUB.TOTAL MATER. | I15: TOTALES | K15: Nombre de Proveedor | L15: IVA | M15: Total | Q15: Sección
B16: 1 | C16: de luminarias SYLVANIA P28388 - LED HIGH BAY HBL3 110W CW | D16: Un | E16: 1 | G16: 460000 | H16: =G16 -> 460000 | K16: 0 | L16: =+K16*0.19 -> 0 | M16: =+K16+L16 -> 0 | N16: $ | O16: 1.25 | P16: UND | Q16: 1 | R16: =+F14 -> Un | S16: =+M16*O16*Q16 -> 0 | T16: =+S16/Q16 -> 0 | U16: $
B17: 2 | C17: Cable Encauchetado 3 x 12 AWG Cobre HFFR Libre Halogenos | D17: m | E17: 2 | F17: =O16 -> 1.25 | G17: 13000 | H17: =G17*E17*F17 -> 32500 | N17: UND | P17: =+F14 -> Un | U17: =+R16 -> Un
B18: 3 | C18: Prensaestopa de 3/4" | D18: Un | E18: 1 | G18: 3000 | H18: =G18*E18 -> 3000
B19: 4
B20: 5
B21: 6
B22: 7
B23: 8
B24: 9
B25: 10
B26: 11 | H26: 0 | I26: =SUM(H16:H26) -> 495500 | J26: RENDIMIENTO DE MANO DE OBRA
B27: No. | C27: MANO DE OBRA | D27: UN | E27: CANTIDAD | G27: VR.UNITARIO/ RENDIMIENTO | H27: SUB.TOTAL M.OBRA. | I27: TOTALES | J27: =+C14 -> Suministro e instalación de luminarias SYLVANIA P28388 - LED HIGH BAY HBL3 110W CW Flujo luminoso 15400 lm tensión de trabajo 100-277 V 50/60 Hz, la luminaria se instalará a más de 4 metros de altura con derivación en Cable Encauchetado 3 x 12 AWG Cobre HFFR Libre Halogenos a la Caja octagonal o redonda 5 perforaciones ¾" Rawelt, incluye prensaestopa de 3/4" incluye todos los accesorios necesarios para su correcta instalación. | N27: CANTIDAD APU | O27: UNIDAD APU
B28: 1 | C28: Cuadrilla de dos electricista | D28: Jornal | E28: 0.4 | G28: 300000 | H28: =G28*E28 -> 120000 | N28: 1 | O28: =+F14 -> Un
B29: 2
B30: 3 | K30: =+J27 -> Suministro e instalación de luminarias SYLVANIA P28388 - LED HIGH BAY HBL3 110W CW Flujo luminoso 15400 lm tensión de trabajo 100-277 V 50/60 Hz, la luminaria se instalará a más de 4 metros de altura con derivación en Cable Encauchetado 3 x 12 AWG Cobre HFFR Libre Halogenos a la Caja octagonal o redonda 5 perforaciones ¾" Rawelt, incluye prensaestopa de 3/4" incluye todos los accesorios necesarios para su correcta instalación. | M30: TIEMPO | O30: Rendimiento por tiempo por hora | Q30: Total cantidad * veces en una hora
B31: 4 | I31: =ROUND(SUM(H28:H31),0) -> 120000 | K31: 1 | L31: =+O28 -> Un | M31: =60*4 -> 240 | N31: minutos | O31: 0.01 | P31: Veces | Q31: =+K31*O31 -> 0.01 | R31: =+O28 -> Un
B32: No. | C32: EQUIPOS Y TRANSPORTE | D32: UN | E32: CANTIDAD | G32: VR.UNITARIO | H32: SUB.TOTAL | I32: TOTALES | P32: total 1 hora | R32: hH
B33: 1 | C33: Herramienta menor / cuadrilla | D33: Día | E33: 0.2 | H33: =+I31*E33 -> 24000
B34: 2 | C34: Transporte | D34: Un | E34: 1 | G34: 30000 | H34: =+E34*G34 -> 30000 | K34: Rendimiento Unidad actividad /cant realizada 8 horas/día
B35: 3 | K35: =N28/Q31 -> 100 | L35: hH | M35: 8 | N35: hH
B36: 4 | I36: =ROUND(SUM(H33:H36),0) -> 54000 | K36: 1 | L36: =+F14 -> Un | M36: x | N36: =+K36*M35/K35 -> 0.08 | O36: =+O28 -> Un | P36: En un día de 8 horas
C37: VALOR TOTAL APU (Sin AIU) | I37: =+ROUND(I26+I31+I36,0) -> 669500
K39: Distancia recorrido | M39: NVA - CAMPOALEGRE | O39: 5 | P39: KM
C42: Elaborado por: SANTIAGO GONZÀLEZ CASTAÑO
C43: M.P. QN205-86289
D47: SERVICIO NACIONAL DE APRENDIZAJE SENA
D50: DIRECCION ADMINISTRATIVA Y FINANCIERA
D51: GRUPO DE CONSTRUCCIONES
D52: ANALISIS DE PRECIOS UNITARIOS (APUS)
B54: OBRA:
B55: ANALISIS DE PRECIOS UNITARIOS
...
