Workbook
Name _Toc140149825_1: #N/A
Name _Toc140149825_1: [1]JURIDICA!#REF!
Name _Toc140149825_59: #REF!
Name _Toc140149825_59: #REF!
Name _Toc142149825_60: #N/A
Name _Toc142149825_60: #REF!
Name AMOR: #N/A
Name AMOR: [1]JURIDICA!#REF!
Name FFFFFFF: #REF!
Name FFFFFFF: #REF!
Name GG: #N/A
Name GG: [1]JURIDICA!#REF!
Name GGGGGG: #REF!
Name GGGGGG: #REF!
Name opcion2: #N/A
Name opcion2: '[2]CUADRO RESUMEN'!$L$21
Name opcion3: #N/A
Name opcion3: '[2]CUADRO RESUMEN'!$L$22
Name opcion4: #N/A
Name opcion4: '[2]CUADRO RESUMEN'!$L$23
Name opcion5: #N/A
Name opcion5: '[2]CUADRO RESUMEN'!$L$24
Name opcion6: #N/A
Name opcion6: '[2]CUADRO RESUMEN'!$L$25

Sheet PRESUPUESTO
V1: =V2-V4 -> 498300 | W1: =W2-W4 -> -1367891 | X1: =X2-X4 -> 2274642 | Y1: =Y2-Y4 -> 3533945 | Z1: =Z2-Z4 -> 0 | AA1: =AA2-AA4 -> 0
V2: 2300000 | W2: 1600000 | X2: 6500000 | Y2: 15500000 | Z2: 7000000 | AA2: 12000000 | AB2: =SUM(V2:AA2) -> 44900000
C3: RUBRO | D3: FUENTE | U3: TOTALES | V3: SOAT ALCALDIA | W3: VEHICULOS AUTOMOTOTES | X3: EXTRACONTRACTUAL | Y3: TODO RIESGO DAÑOS | Z3: MANEJO GLOBAL | AA3: RESPONSABILI CIVIL
B4: ALCALDIA | F4: 1245200 | G4: 2630449 | H4: 1924866 | I4: 556500 | J4: 87682 | K4: 249760 | L4: 658941 | T4: =+U4-I4 -> 6796898 | U4: =Q4+P4+O4+N4+M4+L4+K4+J4+I4+H4+G4+F4 -> 7353398 | V4: =F4+I4 -> 1801700 | W4: =G4+J4+K4 -> 2967891 | X4: =H4+2300492 -> 4225358 | Y4: =F5+2009311 -> 11966055 | Z4: =Z2 -> 7000000 | AA4: 12000000 | AB4: =SUM(V4:AA4) -> 39961004 | AC4: =U5+U4 -> #REF!
B5: ALCALDIA | F5: =3865197+191973+1237463+579779+1467510+677917+1936905 -> 9956744 | G5: =+H23 -> #REF! | H5: =+H26-K12 -> #REF! | T5: =+U5+T4 -> #REF! | U5: =Q5+P5+O5+N5+M5+L5+K5+J5+I5+H5+G5+F5 -> #REF!
B6: EDUCACIÓN | F6: 4192776 | G6: 431696 | H6: 1245200 | U6: =Q6+P6+O6+N6+M6+L6+K6+J6+I6+H6+G6+F6 -> 5869672
B7: DEPORTE | G7: 2007378 | H7: =413367/2 -> 206683.5 | U7: =Q7+P7+O7+N7+M7+L7+K7+J7+I7+H7+G7+F7 -> 2214061.5
B8: CULTURA | G8: =4014756/2 -> 2007378 | H8: =H7 -> 206683.5 | U8: =Q8+P8+O8+N8+M8+L8+K8+J8+I8+H8+G8+F8 -> 2214061.5
B9: DES ECONOMICO | F9: 190080 | G9: 207247 | H9: 114252 | I9: 773039 | J9: 556500 | K9: 556500 | L9: 704746 | U9: =Q9+P9+O9+N9+M9+L9+K9+J9+I9+H9+G9+F9 -> 3102364
B10: PLANEACION | F10: 1245200 | I10: 1588885 | J10: 845731 | K10: 1205557 | L10: 2232196 | M10: 260490 | N10: 1645355 | O10: 895415 | P10: 1793488 | Q10: 4222003 | R10: 2390378 | U10: =T10+S10+R10+Q10+P10+O10+N10+M10+L10+K10+J10+I10+H10+G10+F10 -> 18324698
B11: BOMBEROS | F11: 0 | G11: 0 | I11: 2048562 | U11: =Q11+P11+O11+N11+M11+L11+K11+J11+I11+H11+G11+F11 -> 2048562
B12: SERVICIOS PUBLICOS | H12: 3834078 | I12: 430437 | J12: 313528 | K12: 3380252 | U12: =Q12+P12+O12+N12+M12+L12+K12+J12+I12+H12+G12+F12 -> 7958295 | V12: =U12+U13+U14 -> 14941851
G13: 1280551 | H13: 898072 | J13: 1479560 | K13: 386520 | L13: 1085708 | U13: =Q13+P13+O13+N13+M13+L13+K13+J13+I13+H13+G13+F13 -> 5130411
G14: 1853145 | U14: =Q14+P14+O14+N14+M14+L14+K14+J14+I14+H14+G14+F14 -> 1853145
U15: =SUM(U4:U14) -> #REF!
H17: CDP | I17: CONTRATO | J17: DIFERENCIA | U17: =H28-U15 -> #REF!
F18: SOAT | H18: =F4+I4+F7+F8+F10+F11+F12+F13+G12+G10+H10+H11+I13+T10+J9+H6+K9 -> 5405100 | T18: 39239240
F19: RELACION MAQUINARIA Y EQUIPO | H19: =G14+G13+I10+J10+K10+L10+M10+N10+F9+H14+R10+L9 -> 14197114 | T19: =+T5-T18 -> #REF!
G20: SUMATORIA
F21: RELACIÓN DE AUTOMOVILES | H21: =H13+H12+I12+J12+I11+G11+Q10+P10+O10+H9+G9+G8+G7+F6+G4+J4+K4+S10+L4 -> 26591446
F22: TODO RIESGO DAÑOS MATERIALES | H22: =F5+J13+K13+L13+I9 -> 13681571
F23: MANEJO GLOBAL ENTIDADES OFICIUALES | H23: =+'ESTUDIO DE MERCADO'!#REF! -> #REF!
F24: RESPONSABILIDAD CIVIL EXTRACONTRACTUAL | H24: =H4 -> 1924866
F25: RESPONSABILIDAD CIVIL CONTRACTUAL | H25: =G6+H7+H8 -> 845063
F26: RESPONSABILIDAD CIVIL SERVIDORES PUBLICOS | H26: ='ESTUDIO DE MERCADO'!#REF! -> #REF!
F27: remanente de polizaz
H28: =H18+H19+H21+H22+H23+H25+H24+H26 -> #REF!

Sheet ESTUDIO DE MERCADO
B1: ESTUDIO DE MERCADO 2026
B3: SECRETARÍA DISTRITAL DE CULTURA RECREACIÓN Y DEPORTE 2026
B4: OBJETO: CONTRATAR EL PROGRAMA DE SEGUROS
B5: DESDE LAS 00:00 HORAS | C5: 46202 | D5: 330 | E5: DIAS
B6: HASTA LAS 00:00 HORAS | C6: =C5+D5 -> 46532 | K6: 330
B8: DETALLE | C8: VALOR ASEGURADO | D8: PROMEDIO | E8: VALOR INDICE VARIABLE 5% | F8: VALOR TOTAL ASEGURADO | G8: PRIMA NETA VR ASEGURADO | H8: PRIMA NETA INDICE VARIABLE | I8: TOTAL PRIMA NETA | J8: IVA | K8: PRIMA 365 dias | L8: PRIMA TOTAL 330 DÍAS
B9: TOTAL TRDM - CEFE | C9: ='RELACIÓN BIENES TRDM CEFE'!D12 -> 1.0709948e+11 | D9: ='TASAS PROMEDIO'!G9 -> 1.9822686 | E9: ='RELACIÓN BIENES TRDM CEFE'!E12 -> 4.5292579e+09 | F9: =+C9+E9 -> 1.1162874e+11 | G9: =+C9*D9/1000 -> 2.1229994e+08 | H9: =+E9*D9/2/1000 -> 4489102.8 | I9: =+G9+H9 -> 2.1678904e+08 | J9: =+I9*19% -> 41189918 | K9: =+I9+J9 -> 2.5797896e+08 | L9: =+K9/365*365 -> 2.5797896e+08 | M9: Vigencia de 365 días
B10: TOTAL TRDM - SCRD | C10: ='RELACIÓN BIENES TRDM SCRD'!C19 -> 28079917573 | D10: ='TASAS PROMEDIO'!G9 -> 1.9822686 | E10: ='RELACIÓN BIENES TRDM SCRD'!D19 -> 1.2633031e+09 | F10: =+C10+E10 -> 2.9343221e+10 | G10: =+C10*D10/1000 -> 55661939 | H10: =+E10*D10/2/1000 -> 1252103 | I10: =+G10+H10 -> 56914042 | J10: =+I10*19% -> 10813668 | K10: =+I10+J10 -> 67727710 | L10: =+K10/365*K6 -> 61233272
B11: MANEJO GLOBAL(TASA%) | C11: 500000000 | D11: ='TASAS PROMEDIO'!G14 -> 8.597684 | E11: 0 | F11: =+C11+E11 -> 500000000 | G11: =+C11*D11/100 -> 42988420 | H11: 0 | I11: =+G11+H11 -> 42988420 | J11: =+I11*19% -> 8167799.8 | K11: =+I11+J11 -> 51156220 | L11: =+K11/365*K6 -> 46250829
B12: RC EXTRACONTRACTUAL (TASA %) | C12: 1500000000 | D12: ='TASAS PROMEDIO'!G19 -> 0.6208128 | E12: 0 | F12: =+C12+E12 -> 1500000000 | G12: =+C12*D12/100 -> 9312192 | H12: 0 | I12: =+G12+H12 -> 9312192 | J12: =+I12*19% -> 1769316.5 | K12: =+I12+J12 -> 11081508 | L12: =+K12/365*K6 -> 10018898
B13: RC SERVIDORES PÚBLICOS (TASA %) | C13: 2000000000 | D13: ='TASAS PROMEDIO'!G24 -> 8.2362576 | E13: 0 | F13: =+C13+E13 -> 2000000000 | G13: =+C13*D13/100 -> 164725152 | H13: 0 | I13: =+G13+H13 -> 164725152 | J13: =+I13*19% -> 31297779 | K13: =+I13+J13 -> 1.9602293e+08 | L13: =+K13/365*K6 -> 1.7722621e+08
B14: RESERVA DE INCLUSIONES | L14: 5270789 | M14: =SUM(L10:L14) -> 3e+08
G15: =SUM(G9:G13) -> 4.8498764e+08 | H15: =SUM(H9:H13) -> 5741205.8 | I15: =SUM(I9:I13) -> 4.9072885e+08 | J15: =SUM(J9:J13) -> 93238481 | K15: =SUM(K9:K13) -> 5.8396733e+08 | L15: =SUM(L9:L14)+1 -> 5.5797896e+08
B17: 1. PARA EL RAMO DE TODO RIESGO DAÑOS MATERIALES (SE ESTIMA UN INDICE VARIABLE DEL 5% VALOR ACTUAL)
B19: NOTA: La Vigencia de la póliza TRDM del CEFE inicia vigencia el día 11/08/2026
B20: la vigencia mínima requerida para la póliza TRDM del CEFE es de 365 días.

Sheet TASAS PROMEDIO
B2: ='ESTUDIO DE MERCADO'!B3 -> SECRETARÍA DISTRITAL DE CULTURA RECREACIÓN Y DEPORTE 2026
B4: DETERMINACIÓN TASAS PROMEDIO
B6: ENTIDAD | C6: RAMO | D6: TASAS | E6: PROMEDIO TASAS
E7: PROMEDIO TASA MERCADO | F7: TIPO DE TASA % - %o
B8: SECRETARÍA DISTRITAL DE CULTURA | C8: Todo Riesgo Daños Materiales | D8: 1.9611 | E8: =SUM(D8:D12)/5*1.13 -> 1.9822686 | F8: %o
B9: SECRETARÍA DISTRITAL DE LA MUJER | D9: 1.24 | G9: =E8 -> 1.9822686
B10: SECRETARÍA DISTRITAL DE AMBIENTE | D10: 0.97
B11: SECRETARÍA DISTRITAL DE HÁBITAT | D11: 1.8
B12: AGENCIA DE RENOVACIÓN DEL TERRITORIO | D12: 2.8
B13: =B8 -> SECRETARÍA DISTRITAL DE CULTURA | C13: Manejo Global Entidades Estatales | D13: 8.54762 | E13: =SUM(D13:D17)/5*1.21 -> 8.597684 | F13: %
B14: =B9 -> SECRETARÍA DISTRITAL DE LA MUJER | D14: 2.75 | G14: =E13 -> 8.597684
B15: =B10 -> SECRETARÍA DISTRITAL DE AMBIENTE | D15: 1.8
B16: =B11 -> SECRETARÍA DISTRITAL DE HÁBITAT | D16: 11.43
B17: =B12 -> AGENCIA DE RENOVACIÓN DEL TERRITORIO | D17: 11
B18: =B13 -> SECRETARÍA DISTRITAL DE CULTURA | C18: Responsabilidad Civil Extracontractual | D18: 0.60004 | E18: =SUM(D18:D22)/5*1.6 -> 0.6208128 | F18: %
B19: =B14 -> SECRETARÍA DISTRITAL DE LA MUJER | D19: 0.38 | G19: =E18 -> 0.6208128
B20: =B15 -> SECRETARÍA DISTRITAL DE AMBIENTE | D20: 0.26
B21: =B16 -> SECRETARÍA DISTRITAL DE HÁBITAT | D21: 0.3
B22: =B17 -> AGENCIA DE RENOVACIÓN DEL TERRITORIO | D22: 0.4
B23: =B18 -> SECRETARÍA DISTRITAL DE CULTURA | C23: Responsabilidad Civil Servidores Públicos | D23: 7.50001 | E23: =SUM(D23:D27)/5*0.8 -> 8.2362576 | F23: %
B24: =B19 -> SECRETARÍA DISTRITAL DE LA MUJER | D24: 11.857 | G24: =E23 -> 8.2362576
B25: =B20 -> SECRETARÍA DISTRITAL DE AMBIENTE | D25: 6.1516
B26: =B21 -> SECRETARÍA DISTRITAL DE HÁBITAT | D26: 18.968
B27: =B22 -> AGENCIA DE RENOVACIÓN DEL TERRITORIO | D27: 7
J32: 4500000000
J37: =J32*J35/1000 -> 0

Sheet RELACIÓN BIENES TRDM CEFE
C3: CEFE
C4: RELACIÓN BIENES Y VALORES ASEGURADOS TRDM 2026
C5: BIENES ASEGURADOS | D5: VALOR ASEGURADO 2026 | E5: INDICE VARIABLE 5% | F5: VALOR ASEGURADO TOTAL
C6: EDIFICIOS | D6: ='EDIFICIO CEFE'!E6 -> 80102758544 | E6: =D6*5% -> 4.0051379e+09 | F6: =D6+E6 -> 8.4107896e+10
C7: MUEBLES Y ENSERES EN GENERAL | D7: 1807548261 | E7: =D7*5% -> 90377413 | F7: =+D7+E7 -> 1.8979257e+09
C8: ELEMENTOS DE RECREACIÓN Y DEPORTE | D8: 493772747 | E8: 0 | F8: =+D8+E8 -> 493772747
C9: EQUIPO ELECTRONICO | D9: 8674850874 | E9: =D9*5% -> 4.3374254e+08 | F9: =+D9+E9 -> 9.1085934e+09
C10: ADECUACIÓN NORMAS DE SISMORESISTENCIA | D10: =D6*10% -> 8.0102759e+09 | F10: =D10 -> 8.0102759e+09
C11: TERRENOS | D11: =D6*10% -> 8.0102759e+09 | F11: =D11 -> 8.0102759e+09
C12: TOTAL TRDM | D12: =SUM(D6:D11) -> 1.0709948e+11 | E12: =SUM(E6:E9) -> 4.5292579e+09 | F12: =SUM(F6:F11) -> 1.1162874e+11
C14: NOTA: EL OFERENTE DEBERÁ OFRECER UNA TASA ÚNICA PARA ESTE SEGURO. ADICIONALMENTE DEBERÁ SEÑALAR EL VALOR ASEGURADO DEL ÍNDICE VARIABLE POR LA TOTALIDAD DE LA VIGENCIA OFRECIDA EN SU PROPUESTA

Sheet RELACIÓN BIENES TRDM SCRD
B2: ='ESTUDIO DE MERCADO'!B3 -> SECRETARÍA DISTRITAL DE CULTURA RECREACIÓN Y DEPORTE 2026
B3: RELACIÓN BIENES Y VALORES ASEGURADOS TRDM 2026
B5: BIENES ASEGURADOS | C5: VALOR ASEGURADO 2026 | D5: INDICE VARIABLE 5% | E5: VALOR ASEGURADO TOTAL
B6: EDIFICIOS | C6: ='EDIFICIOS SCRD'!E12 -> 12710845400 | D6: =C6*5% -> 635542270 | E6: =+C6+D6 -> 13346387670
B7: EQUIPOS DE LABORATORIO | C7: 44433538 | D7: 0 | E7: =+C7+D7 -> 44433538
B8: MUEBLES Y ENSERES EN GENERAL | C8: 3645472526 | D8: =C8*5% -> 1.8227363e+08 | E8: =+C8+D8 -> 3.8277462e+09
B9: ELEMENTOS DE RECREACIÓN Y DEPORTE | C9: 40921179 | D9: 0 | E9: =+C9+D9 -> 40921179
B10: INSTRUMENTOS MUSICALES EN GENERAL | C10: 16145028 | D10: 0 | E10: =+C10+D10 -> 16145028
B11: EQUIPO ELECTRONICO | C11: 5779034872 | D11: =C11*5% -> 2.8895174e+08 | E11: =+C11+D11 -> 6.0679866e+09
B12: LIBROS Y PUBLICACIONES | C12: 812547 | D12: 0 | E12: =+C12+D12 -> 812547
B13: OBRAS DE ARTE | C13: 127743344 | D13: 0 | E13: =+C13+D13 -> 127743344
B14: MAQUINARIA Y EQUIPO | C14: 341884546 | D14: =C14*5% -> 17094227 | E14: =+C14+D14 -> 3.5897877e+08
B15: ELEMENTOS DE CAFETERÍA | C15: 41631654 | D15: 0 | E15: =+C15+D15 -> 41631654
B16: LICENCIAS Y SOFTWARE | C16: 2788823859 | D16: =C16*5% -> 1.3944119e+08 | E16: =+C16+D16 -> 2.9282651e+09
B17: ADECUACIÓN NORMAS SISMORESISTENCIA | C17: =+C6*10% -> 1271084540 | E17: =C17+D17 -> 1271084540
B18: ADECUACIÓN DE TERRENOS | C18: =+C6*10% -> 1271084540 | E18: =C18+D18 -> 1271084540
B19: TOTAL TRDM | C19: =SUM(C6:C18) -> 28079917573 | D19: =SUM(D6:D18) -> 1.2633031e+09 | E19: =SUM(E6:E18) -> 2.9343221e+10
B21: NOTA: EL OFERENTE DEBERÁ OFRECER UNA TASA ÚNICA PARA ESTE SEGURO. ADICIONALMENTE DEBERÁ SEÑALAR EL VALOR ASEGURADO DEL ÍNDICE VARIABLE POR LA TOTALIDAD DE LA VIGENCIA OFRECIDA EN SU PROPUESTA

Sheet EDIFICIOS SCRD
B2: Ítem | C2: Dirección | D2: Rupi | E2: Valor Asegurado | F2: Beneficiario | G2: NIT
B3: 1 | C3: CL 142 147A 40 | D3: 3439-32 | E3: 513094000 | F3: Instituto Distrital de Patrimonio Cultural - IDPC | G3: 8605061707
B4: 2 | C4: KR 123 13D 67 | D4: 3678-4 | E4: 931344000
B5: 3 | C5: CL 22K - KR 96G / KR 96F | D5: 3841-6 | E5: 1846053000
B6: 4 | C6: AK 80G 6 81 | D6: 4101-9 | E6: 2283683000
B7: 5 | C7: CL 63 SUR 14 61 ESTE | D7: 3836-8 | E7: 456752000
B8: 6 | C8: CL 145A - DG 149 / TV 143 | D8: 4536-2 | E8: 844553000
B9: 7 | C9: TV 70C 68B 05 SUR | D9: 4534-1 | E9: 2238846000
B10: 8 | C10: CR 8 No. 9 69 | D10: 3596520400 | E10: =SUM(D10:D10) -> 3596520400
E12: =SUM(E3:E10) -> 12710845400

Sheet EDIFICIO CEFE
B3: Ítem | C3: Dirección | D3: Edificio | E3: Valor Asegurado | F3: Beneficiario | G3: NIT
B4: 1 | C4: Calle 82 N° 10-69 | D4: CEFE CHAPINERO | E4: 80102758544 | F4: Secretaría Distrital de Cultura, Recreación y Deporte | G4: 899.999.061-9
E6: =SUM(E4:E5) -> 80102758544
