Workbook
Name __1Excel_BuiltIn_Print_Area_1_1: #REF!
Name __DAT1: #REF!
Name __DIA1: #REF!
Name __DIA2: #REF!
Name __EE1: #REF!
Name __GT1: #REF!
Name __GTO1: #REF!
Name __INC1: #REF!
Name __INI1: #REF!
Name __MA1: #REF!
Name __MES1: #REF!
Name __RC: #REF!
Name _1Excel_BuiltIn_Print_Area_1_1: #REF!
Name _DAT1: #REF!
Name _DIA1: #REF!
Name _DIA2: #REF!
Name _EE1: #REF!
Name _MA1: #REF!
Name _MES1: #REF!
Name _RC: #REF!
Name _Toc124048707: 'Todo Riesgo Daños Materiales'!#REF!
Name Excel_BuiltIn_Print_Area_2: #REF!
Name MARCA: #REF!
Name TIPO: #REF!
Name valores: "$#REF!.$A$1:$CG$31"

Sheet Todo Riesgo Daños Materiales
A1: ANEXO Nº 1 (ESPECIFICACIONES TECNICAS POLIZA TODO RIESGO DAÑOS MATERIALES)
A2: TOMADOR: | B2: MUNICIPIO DE CARTAGO
A3: ASEGURADO : | B3: =+B2 -> MUNICIPIO DE CARTAGO
A4: BENEFICIARIO: | B4: =+B2 -> MUNICIPIO DE CARTAGO
A5: NIT | B5: 891.900.493-2
A6: RAMO: | B6: TODO RIESGO DAÑOS MATERIALES
A7: INTERMEDIARIO: | B7: RODRIGO GOMEZ Y CIA
A8: VIGENCIA | B8: DESDE LAS 00:00 HORAS DEL 28 DE JUNIO DE 2026 HASTA LAS 00:00 HORAS DEL 01 DE FEBRERO DE 2027
A9: CONDICIONES MINIMAS REQUERIDAS OBLIGATORIAS
A10: BIENES ASEGURADOS | B10: VALOR ASEGURADO | C10: TASA | D10: PRIMA NETA
A11: EDIFCIOS VER RELACION | B11: 86899030301
A12: Adecuacion a Normas Sismoresistente 10% Vr. Asegurado del Edificio | B12: =B11*10% -> 8.689903e+09
A13: CONTENIDOS INCLUYYE (MUEBLES Y ENSERES, MAQUINARIA Y EQUIPO, MERCANCIAS PROPIAS, INCLUYE VACUNAS, AVISOS, EQUIPOS DE DIAGNOSTICO, EQUIPOS ELECTRICOS Y ELECTRONICOS Y DE OFICINA, SOFTWARE, EQUIPOS DE COMUNICACIÓN, PPLANTAS DE POTABILIZACION DE AGUA ENERGIA SOLAR (3), EQUIPOS MOVILES Y ORTATILLES, DINERO DENTRO Y FUERA DE CAJA FUERTE | B13: 9012187322
A14: SUBTOTAL | B14: =SUM(B11:B13) -> 1.0460112e+11
A15: Indice variable 5% | B15: =+B14*0.05 -> 5.230056e+09
A17: TOTAL | B17: =SUM(B14:B16) -> 1.0983118e+11
A18: PRIMA NETA
A19: IVA
A20: TOTAL
A21: OBJETO DEL SEGURO | B21: Amparar las pérdidas y/o daños materiales que sufran los bienes de propiedad del ASEGURADO, o bajo su responsabilidad, tenencia o control y, en general, dados y recibidos a cualquier título y/o por los que tenga algún interés asegurable.
A22: COBERTURA OBLIGATORIA
A23: Modalidad de la póliza: Todo Riesgo pérdida y/o daño material con exclusiones. La aseguradora se obliga a indemnizar al asegurado los daños y/o pérdidas que sufran los intereses asegurados, así como los costos y/o gastos en que incurra, o todos combinados, como consecuencia de los riesgos que a continuación se enuncian y sujeto a los riesgos excluidos: Todo riesgo para las pérdidas y/o daños materiales que sufran los intereses asegurados por cualquier riesgo y/o causas, incluidos, pero no limitados a: Incendio, explosión, anegación, daños por agua; extended coverage; huelga, asonada, motín, conmoción civil o popular, actos malintencionados de terceros, incluidos sabotaje y los actos terroristas, cometidos o no por movimientos subversivos (tomas a poblaciones, municipios y ciudades y los actos de la autoridad para repelerlos; también se amparan las pérdidas materiales que sufran los bienes asegurados causados directa o indirectamente por cohetes, misiles o similares); terremoto, temblor y/o erupción volcánica, maremoto, tsunami, y/o eventos de la naturaleza tales como ciclón, huracán, tempestad, vientos, inundación, desbordamiento, alza en el nivel de aguas y enfangamiento, hundimiento, deslizamiento del terreno, derrumbes, aludes, desprendimiento de tierra y rocas, siempre y cuando sea por un evento subito, accidental e imprevisto amparado bajo la poliza, y las pérdidas y/o daños consecuenciales originados por tales fenómenos; ; daño interno de equipos eléctricos y electrónicos: coberturas de todo riesgo daño material por rotura de maquinaria y equipos eléctricos y electrónicos (explosión física o química interna, caída directa de rayo, rotura debido a fuerza centrifuga, cuerpo extraños, acción directa de la energía eléctrica y/o rayo, impericia, descuido, negligencia; sabotaje individual; defecto de mano de obra, falta de agua en aparatos generadores de vapor, otros accidentes ocurridos a los equipos por causas no expresamente excluidas en la póliza); rotura de vidrios, sustracción con violencia y sustracción sin violencia, y demás amparos y/o cobertura que no se encuentren expresamente excluidas.
A24: La cobertura de Hurto simple y calificado se extiende a amparar los equipos moviles y portatiles , kit de emergencias, herramientas, equipos y similares dentro y/o fuera de los predios del asegurado y en aquellos donde ejerza su actividad y cuando estan siendo transportados en vehiculos del asegurado, de sus empleados y/o de terceros contratistas y/o subcontratistas del mismo.
A25: BIENES ASEGURADOS (INTERES ASEGURABLE) OBLIGATORIA
A26: Todos los bienes de propiedad real o personal del ASEGURADO, o en los que tuviere interes asegurable , o los recibidos a cualquier titulo, los tomados en arriendo, los recibidos en dacion de pagos o los recibidos a cualquier titulo, los de terceros o aquellos por los cuales sea o pueda llegar a ser responsable, que se encuentren bajo su cuidado, control y custodia, utilizados en el desarrollo del objeto social del asegurado, consistentes principalmente en, pero no limitados a : edificios, estructuras,cimientos, muros de contencion, cercas, escaleras externas, vidrios planos, patios, estacionamientos, vias de acceso corresponde a la entradas vehiculares o peatonales de los edificios amparados , otras construcciones separadas de las edificaciones, instalaciones subterraneas, instalaciones electricas, de cableado estructural, de aires acondicionados, electronicas, de comunicacion, para conduccion de gas sean o no subterraneas y en general todo tipo de equipo que se encuentren por debajo del nivel del suelo, instalaciones fijas de proteccion contra incenido, alarmas, camaras y circuitos cerrados de television, maquinaria, equipos, herramientas, ascensores, subestaciones y /o plantas electricas, muebles, enseres, aviso, , equipos de oficina, equipos de comunicacion, de audiovisuales, de sistemas, de laboratorios, mejoras locativas (acabados y obras realizadas en el edificio, plantas de tratamiento, semaforizacion, mercancías, repuestos, insumos, vacunas, armas de fuego, equipos moviles vehículos inmovilizados ( en reposo, nuevos y/o usados), dinero en efectivo, medallas, plata labrada, obras de arte, estatuas, frescos, colecciones, y muebles que tengan valor artístico, científico e histórico, manuscritos, planos, croquis, patrones, sellos, monedas, libros de comercio, títulos valores y billetes de bancos, instrumentos musicales, equipos de sonidos, bienes que por su naturaleza deben permanecer a la intemperie y demás bienes aunque no hayan determinado especificamente, localizados dentro y/o fuera de los predios donde el asegurado desarrolle su actividad en el territorio de la Republica de colombia.
A27: DIRECCION UBICACIÓN RIESGOS | B27: VER RELACION DE EDIFICIOS
A28: COBERTURAS SUBLIMITADAS
A29: Terremoto, temblor, erupcion volcanica y eventos de la naturaleza | B29: 1
A30: Actos Mal intencionados de terceros ,sabotaje y Terrorismo, Huelga, Motín, Asonada, conmoción civil o popular | B30: Sublimite $35.000.000.000
A31: Sustraccion con violencia y sin violencia: Contenidos en General | B31: 4000000000
A32: Rotura de Maquinaria. | B32: 800000000
A33: Equipo Eléctrico y Electrónico | B33: 6000000000
A34: Equipos móviles y portátiles | B34: 400000000
A35: Hurto de dinero en efectivo dentro y fuera de caja fuerte | B35: 50000000
A36: CLAUSULAS PARTICULARES Y CONDICIONES ESPECIALES OBLIGATORIAS
A38: CONVENIO PARA EL PLAZO DEL PAGO DE LA PRIMA: No obstante cualquier estipulación en contrario, por la presente cláusula se deja establecido que, de acuerdo con lo estipulado en el artículo 81 de la Ley 45/90 y la Resolución numero 03750 de Diciembre 31/74 de la Superintendencia Financiera, las partes contratantes convienen que las primas causadas por el presente Contrato de seguros y los Certificados o Anexos que se emitan en aplicación al mismo serán pagadas por EL TOMADOR, mínimo dentro de los NOVENTA (90) días contados a partir de la fecha en que el respectivo documento sea recibido en sus oficinas, directamente por la Aseguradora y/o por el intermediario de seguros, quien deberá certificar haber recibido a satisfacción las respectivas pólizas en las condiciones contratadas; Si las pólizas no han sido correctamente elaboradas, el término para el pago solo empezará a contarse desde la fecha en que se presenten en debida forma. La demora en el pago originada por la presentación incorrecta de los documentos requeridos será responsabilidad del contratista y no tendrán por ello derecho al pago de intereses o compensación de ninguna naturaleza o a la aplicación de la terminación del contrato por mora en el pago de la prima.
A39: DOCUMENTO PARA SUSTENTAR RECLAMO.: Para la demostración de la propiedad de los bienes del asegurados, MUNICIPIO DE CARTAGO. aportará la factura de compra o en su defecto la certificación expedida y firmada por el jefe del departamento de Gestión de Servicio Administrativo o quien haga sus veces donde conste que el bien materia del siniestro se encontraba incluido en su sistema de inventarios. En los casos de hurto el asegurado aportará copia al carbón del denuncio o fotocopia SIMPLE de este o en su defecto una constancia de la fiscalía de que conoce el caso.
A40: GARANTIAS:La compañía Aseguradora acepta como cumplimiento de garantía, el mantenimiento preventivo y correctivo realizado a los equipos y/o instalaciones directamente por empleados del asegurado o personal a su servicio.
A41: CLAUSULA DE REPOSICION O REEMPLAZO
A42: DEDUCIBLES PARA EQUIPOS MOVILES: El deducible que figura en la póliza para equipos móviles y portátiles solo opera cuando dichos bienes se encuentran fuera de los predios descritos en la póliza. En los demas casos se aplicara el que corresponda a los equipos dentro de los predios.
...

Sheet RELACION DE EDIFICIOS
A2: RELACIION DE EDIFICIOS ASEGURADOS
A4: NO. | B4: BIEN ASEGURADO | C4: DIRECCION | D4: VALOR ASEGURADO
A5: 1 | B5: ALCALDIA MUNICIPAL | C5: CALLE 8 NO. 6-48 | D5: =3241803789*1.05 -> 3.403894e+09
A6: 2 | B6: EDIFICIO INCAVI | C6: CRA. 4 NO.8-67 CARTAGO | D6: =204861424*1.05 -> 2.151045e+08
A7: 3 | B7: ESCUELA HERNANDO BOTERO OBYRNE BARRIO HORIZONTE | C7: DIAGONAL 2ª N° 1-27 | D7: =218061821*1.05 -> 2.2896491e+08
A8: 4 | B8: EDIFICIO CARTAGO | C8: CRA. 4 NO.33-33 | D8: =566140268*1.05 -> 5.9444728e+08
A9: 5 | B9: TRANSITO MUNICIPAL CARTAGO | C9: EDIFICIO CALLE 10 CON 6 | D9: =1223566515*1.05 -> 1.2847448e+09
A10: 6 | B10: EDIFICIO SANTA ANA | C10: ESTADIO ALFONSO LÓPEZ | D10: =2424934969*1.05 -> 2.5461817e+09
A11: 7 | B11: EDIFICIO AGUAPARQUE CARTAGO | C11: CALLE 4 CAR. 22 | D11: =2819318127*1.05 -> 2.960284e+09
A12: 8 | B12: EDIFICIO PALO QUEMAO C ZARAGOZA | C12: CALLE 10 NO.57-164 CARTAGO | D12: =1431715640*1.05 -> 1503301422
A13: 9 | B13: EDIFICIO COLISEO DEL CAFÉ CARTAGO | C13: CALLE 20 CAR. 34 | D13: =1985262048*1.05 -> 2.0845252e+09
A14: 10 | B14: EDIFICIO CLUB DEL RIO | C14: CALLE 9 CAR. 3 CARTAGO | D14: =975601781*1.05 -> 1.0243819e+09
A15: 11 | B15: EDIFICIO COLISEO LA ISLETA | C15: CAR. 3 CALLE 10 CARTAGO | D15: =18879085059*1.05 -> 1.9823039e+10
A16: 12 | B16: EDIFICIO CASA DE LA JUSTICIA | C16: CAR. 2 CALLE 31 CARTAGO | D16: =669751966*1.05 -> 7.0323956e+08
A17: 13 | B17: CASA DEL VIRREY | C17: CALLE 13 NO. 4-53 CARTAGO | D17: =2474965206*1.05 -> 2.5987135e+09
A18: 14 | B18: PEDRO MORALES LOCALES COMER. * NO TIENE AVALUO | C18: CALLE 13 NO. 423/29 | D18: =1899579189*1.05 -> 1.9945581e+09
A19: 15 | B19: INCAVI | C19: CRA. 4 N. 8-87/89 | D19: =106280220*1.05 -> 111594231
A20: 16 | B20: CASA | C20: CALLE 5 NO. 27-25 | D20: =6417873*1.05 -> 6738766.7
A21: 17 | B21: BARRIO BELLAVISTA | C21: KR 8 C 1 ESQ | D21: =62349274*1.05 -> 65466738
A22: 18 | B22: KR 6 19 5 4 | C22: KR 6 19 5 4 | D22: =35954675*1.05 -> 37752409
A23: 19 | B23: FAMILIAS EN ACCION-COMISARIA DE FAMILIA E INSPECCION PRIMERA | C23: CRA. 2N NO. 12-35 | D23: =272876727*1.05 -> 2.8652056e+08
A24: 20 | B24: EDIFICIO INSPECCION | C24: CORREG.PIEDRAS DE MOLER | D24: =13662290*1.05 -> 14345404
A25: 21 | B25: SECRETARIA DE SALUD MUNICIPAL | C25: CALLE 11 CAR. 1N AV. DEL RIO | D25: =487685418*1.05 -> 5.1206969e+08
A26: 22 | B26: EDIFICIO CASA DE LA CULTURA | C26: CALLE 10 NO 3-60 | D26: =767495748*1.05 -> 8.0587054e+08
A27: 23 | B27: EDIFICIO ESTACIÓN FERROCARRIL | C27: CALLE 6 NO. 9-08 | D27: =4250578761*1.05 -> 4.4631077e+09
A28: 24 | B28: PLAZA DE MERCADO (GALERÍA) | C28: CRA 6 # 12-63 | D28: =4675887235*1.05 -> 4.9096816e+09
A29: 25 | B29: KR 14A 1A 75 / 77 CASA | C29: KR 14A 1A 75 / 77 | D29: =15777271*1.05 -> 16566135
A30: 26 | B30: CAI GUAYACANES | C30: CRA 12AN # 18-02 | D30: =130048114*1.05 -> 1.3655052e+08
A31: 27 | B31: ARCHIVO ADMINISTRATIVO | C31: CRA 6 #89-91 / 8-103 | D31: =182325938*1.05 -> 1.9144223e+08
A32: 28 | B32: EJECUCIONES FISCALES | C32: CRA 6 #8-75 | D32: =364651875*1.05 -> 3.8288447e+08
A33: 29 | B33: ESCUELA LA ESPERANZA | C33: CRA 4 N° 3E 64 | D33: =182325938*1.05 -> 1.9144223e+08
A34: 30 | B34: ESCUELA PRIMERO DE MAYO BARRIO LA ARENERA. | C34: CR 2N NO. 1 B 50 | D34: =68457312*1.05 -> 71880178
A35: 31 | B35: ESTACIÓN , Barrio Berlin AREA TOTAL 330M2 | C35: CALLE #13-09 | D35: =62627513*1.05 -> 65758889
A36: 33 | B36: CDI SUEÑOS Y SONRISAS | C36: Cra 1 N° 40-79 | D36: =926100000*1.05 -> 972405000
A37: 34 | B37: santa ana casa fundacion | C37: Cra 2 N° 51 05 | D37: =92610000*1.05 -> 97240500
A38: 36 | B38: PARQUE SAN VICENTE | C38: Cra. 3b CALLE 1a | D38: =463050000*1.05 -> 486202500
A39: 37 | B39: PARQUE GUADALUPE | C39: calle 8 carrera 4 | D39: =752456250*1.05 -> 7.9007906e+08
A40: 38 | B40: CASETA COMUNAL LOS ANGELES | C40: cra 1g urbanización los ángeles | D40: =868218750*1.05 -> 9.1162969e+08
A41: 39 | B41: PARQUE SUEÑOS DE LIBERTAD AREA: 6459m2 | C41: Cra 3 norte entre calles 15 y 16 | D41: =1682347472*1.05 -> 1.7664648e+09
A42: 40 | B42: PARQUE SAN FRANCISCO AREA: 1300m2 | C42: Cra 4 con calle 10 esquina | D42: =752456250*1.05 -> 7.9007906e+08
...

Sheet Equipo y Maquinaria
A1: ANEXO No. 2 (ESPECIFICACIONES TECNICAS DE COBERTURAS REQUERIDAS TODO RIESGO EQUIPO Y MAQUINARIA)
A2: TOMADOR | B2: MUNICIPIO DE CARTAGO
A3: ASEGURADO | B3: =+B2 -> MUNICIPIO DE CARTAGO
A4: BENEFICIARIO | B4: MUNICIPIO DE CARTAGO
A5: NIT | B5: 891.900.493-2
A6: RAMO | B6: TODO RIESGO EQUIPO Y MAQUINARIA
A7: INTERMEDIARIO: | B7: ='Todo Riesgo Daños Materiales'!B7:D7 -> RODRIGO GOMEZ Y CIA
A8: VIGENCIA | B8: ='Todo Riesgo Daños Materiales'!B8:D8 -> DESDE LAS 00:00 HORAS DEL 28 DE JUNIO DE 2026 HASTA LAS 00:00 HORAS DEL 01 DE FEBRERO DE 2027
A9: CONDICIONES MINIMAS REQUERIDAS OBLIGATORIAS
A10: BIENES ASEGURADOS | B10: VALOR ASEGURABLE | C10: VALOR ASEGURADO | D10: AMPAROS | E10: PROPUESTA CIA | F10: TASA | H10: PRIMA
A11: TERRITORIO COLOMBIANO : MAQUINARIA Y EQUIPOS SEGÚN RELACION QUE FIGURA EN RELACIO ANEXA Y SUMINISTRADA POR EL MUNICIPIO DE CARTAGO | B11: 1576090848 | C11: =+B11 -> 1576090848 | D11: Perdidas o daños accidentales
D12: Huracan, Tempestad, ciclon, inundaciòn
D13: Terremoto, temblor y/o erupcion, volcanica, maremot, tsunami
D14: Hurto SIMPLE y Hurto calificado
D15: hmacc y amit
D16: Movilizacion y Trànsito en Colombia incluyendo por sus propios medios
A18: INDICE VARIABLE 5% | B18: =+B11*0.05 -> 78804542 | C18: =+B18 -> 78804542
A19: TOTAL VALOR ASEGURADO | B19: =SUM(B11:B18) -> 1.6548954e+09 | C19: =SUM(C11:C18) -> 1.6548954e+09
B20: 1000000000 | C20: 1000000000 | D20: R C EXTRACONTRACTUAL
A21: TOTAL VALOR ASEGURADO | B21: =SUM(B11:B18) -> 1.6548954e+09 | C21: =SUM(C11:C18) -> 1.6548954e+09 | D21: PRIMA NETA
D22: IMPOVENTAS
D23: TOTAL
A24: COBERTURA
A25: Este seguro cubre los daños y/o perdidas accidentales causados a la maquinaria y equipo objeto de este seguro, incluyendo sus equipos auxiliares ya sea que estén conectados o no al equipo o maquinaria del cual son accesorios, Siempre que dichas pérdidas no sean mayores que la suma total asegurada indicada en la caratula de la póliza Así mismo cubre las perdidas o daños materiales ocurridos a causa de los siguientes riesgos: a) Daños durante el montaje y/o desmontaje del equipo y/o traslado del mismo, dentro del terreno de la obra o viaje por sus propios medios de un sitio a otro sitio de operación. b) Daños causados por incendio, terremoto, temblor, erupcion volcanica, maremoto, tsunami, vientos fuertes, tempestad, ciclon, huracan, tifón, inundaciones, danos por agua, lluvia, granizo, helada, desbordamientos de agua, cambios del nivel del agua, maremotos, tsunami, enfangamiento, descargas eléctricas y/o atmosféricas, combustion espontanea, humo, hollin, gases, liquidos o polvos corrosivos. c) daños causados por colisión con objetos en movimiento y/o estacionarios, volcamientos y/o descarrilamientos, impacto de vehiculos terrestres, de aeronaves o parte de ellos. d) Accidentes que ocurran pese a un manejo correcto o inadecuado, así como los que sobrevengan a consecuencia de descuido, impericia o negligencia del conductor del equipo y/o maquinaria, siempre que no impliquen culpa grave directa o indirecta del asegurado. e) Hundimiento del terreno, deslizamiento de tierra, caída de rocas, aludes, f) Explosión g) Huelga, Asonada, Motín, conmoción civil. h) Actos mal intencionados de terceros, Terrorismo i)Hurto Calificado, Hurto simple j) Responsabilidad civil Extracontractual k) Movilización dentro del territorio nacional l) movilización por sus propios medios. m)Cualquier otra causa que oblique a la reparacion o reemplazo de los bienes asegurados ,causados por cualquier otro riesgo no excluido expresamente en la póliza o que se no haya pactado amparar. .
A26: DIRECCION UBICACIÓN RIESGOS: | D26: MUNICIPIO DE CARTAGO
A27: ACTIVIDAD: | D27: EMPRESA DEL ESTADO
A28: COBERTURAS SUBLIMITADAS
A29: TERREMOTO,TEMBLOR, ERUPCION VOLCANICA,MAREMOTO, TUSNAMI COBERTURA AL 100%
A30: HUELGA, MOTIN, ASONADA, CONMOCION CIVIL COBERTURA AL 100%
A31: ACTOS MAL INTENCIONADOS DE TERCEROS, TERRORISMO COBERTURA AL 100%
A33: CLAUSULAS PARTICULARES Y CONDICIONES ESPECIALES OBLIGATORIAS
A34: CONVENIO PARA EL PLAZO DEL PAGO DE LA PRIMA: No obstante cualquier estipulación en contrario, por la presente cláusula se deja establecido que, de acuerdo con lo estipulado en el artículo 81 de la Ley 45/90 y la Resolución numero 03750 de Diciembre 31/74 de la Superintendencia Financiera, las partes contratantes convienen que las primas causadas por el presente Contrato de seguros y los Certificados o Anexos que se emitan en aplicación al mismo serán pagadas por EL TOMADOR, mínimo dentro de los noventa(90) días contados a partir de la fecha en que el respectivo documento sea recibido en sus oficinas, directamente por la Aseguradora y/o por el intermediario de seguros, quien deberá certificar haber recibido a satisfacción las respectivas pólizas en las condiciones contratadas. Si las pólizas no han sido correctamente elaboradas, el término para el pago solo empezará a contarse desde la fecha en que se presenten en debida forma. La demora en el pago originada por la presentación incorrecta de los documentos requeridos será responsabilidad del contratista y no tendrán por ello derecho al pago de intereses o compensación de ninguna naturaleza o a la aplicación de la terminación del contrato por mora en el pago de la prima.
A35: DOCUMENTO PARA SUSTENTAR RECLAMO.: Para la demostración de la propiedad de los bienes del asegurados, MUNICIPIO DE CARTAGO. aportará la factura de compra o en su defecto la certificación expedida y firmada por el jefe del departamento de Gestión de Servicio Administrativo o quien haga sus veces donde conste que el bien materia del siniestro se encontraba incluido en su sistema de inventarios. En los casos de hurto el asegurado aportará copia al carbón del denuncio o fotocopia SIMPLE de este o en su defecto una constancia de la fiscalía de que conoce el caso.
A36: GARANTIAS:La compañía Aseguradora acepta como cumplimiento de garantía, el mantenimiento preventivo y correctivo realizado a los equipos y/o instalaciones directamente por empleados del asegurado o personal a su servicio.
A37: CLAUSULA DE REPOSIICION O REEMPLAZO
A38: NO SE EXIGE COMO GARANTIA EL CONTRATO DE MANTENIMIENTO PARA LOS EQUIPOS ASEGURADOS
A39: REVOCACIÓN , NO RENOVACIÓN O MODIFICACIONES DE LA PÓLIZA Y SUS ANEXOS : La Aseguradora deberá dar aviso por escrito aL ASEGURADO, con una anticipación de sesenta (60) días, en caso que decida modificar, revocar o no renovar esta póliza y/o alguno de sus amparos adicionales o modificar cualquiera de sus condiciones. En caso de revocación la aseguradora devolverá al asegurado, la proporción de prima correspondiente al tiempo que falte para el vencimiento de la Póliza, liquidada a prorrata. Para HMACC AMIT TERRORISMO Aplican 10 días. Si la revocación es solicitada por EL ASEGURADO , la Aseguradora devolverá el valor de la prima no corrida del riesgo, liquidada a Prorrata.
A40: RESTABLECIMIENTO AUTOMATICO DEL VALOR ASEGURADO POR PAGO DE SINIESTRO, NO APLICA PARA HAMCCOP, AMIT Y TERRORISMO:Queda entendido y convenido en adición a los términos y condiciones contenidas en la Póliza o en sus anexos que el valor asegurado se reducirá en igual cantidad del monto del siniestro y que la Aseguradora acepta el restablecimiento automático del mismo, mediante el pago de la prima a que haya lugar. Tampoco aplica para la RCE
... A50: AVISO DE PÉRDIDAS: No obstante lo dispuesto en las condiciones la Póliza o en sus anexos, por la presente cláusula se conviene entre las partes, un término sesenta ( 60) días calendario para que el Asegurado de aviso al Asegurador de cualquier evento que afecte a la presente Póliza, contados a partir de la fecha en que haya tenido conocimiento de dicho evento, sin perjuicio de lo establecido en el artículo 1081 del Código de Comercio.
A51: ACTOS DE AUTORIDAD: No obstante lo estipulado en las Condiciones Generales de la Póliza o en sus anexos, queda entendido y convenido que este seguro cubre las pérdidas o daños materiales por la destrucción ordenada o ejecutada por actos de la autoridad competente con el fin de aminorar o evitar la propagación de las consecuencias de cualquier evento cubierto por la Póliza. Excluye tales como confiscación, apropiación, o requisición entre otros | I51: DETALLA QUE Excluye tales como confiscación, apropiación, o requisición entre otros
...

Sheet Relación Equipo y Maquinaria
A2: RELACION TODO RIESGO EQUIPO Y MAQUINARIA
A3: MUNICIPIO DE CARTAGO
A4: Nota: * Se debe dejar constancia en los bienes 3,4 y 5 que el BENEFICIARIO es el DEPARTAMENTO DEL VALLE DEL CAUCA NIT. 890399029-5
A5: BIENES ASEGURADOS | B5: VALOR ASEGURADO
A6: 1. TIPO: RODILLO MARCA: WACKER LINEA: MAQUINA TRAZA LINEA DE DOS PISTOLAS | B6: 72930375
A7: 2. TIPO: TRACTOR AGRICOLA MARCA: JOHN DEERE LINEA: CORTA CESPED | B7: 6077531.2
A8: 3. TIPO DE VEHICULO: RETROEXCAVADORA MARCA: NEW HOLAND LINEA: 006 - 4000 MODELO: 2004 COLOR: AMARILLO MOTOR: 104137 | B8: 1.061965e+08
A9: 4. TIPO DE VEHICULO: RETROEXCAVADORA MARCA: CATERPILLAR PLACA: MC010833 MODELO: 2014 MOTOR: G4D521922 COLOR: AMARILLO LINEA: 416E CHASIS: CAT0416EAMFG11915 | B9: 5.2266769e+08
A10: 5. TIPO DE VEHICULO: MOTONIVELADORA MARCA: CATERPILLAR PLACA: MC010977 COLOR: AMARILLO MOTOR: KHX60377 CHASIS: KAT0120KCSZN02155 LINEA: 120K CILINDRAJE:6600 MODELO: 2014 | B10: 868218750
A11: SUBTOTAL | B11: =SUM(B6:B10) -> 1.5760908e+09
A12: INDICE VARIABLE 5% | B12: =SUM(B6:B10)*5% -> 78804542
A13: TOTAL VALOR ASEGURADO | B13: =B11+B12 -> 1.6548954e+09

Sheet Manejo
A1: ANEXO Nº 3 (ESPECIFICACIONES TECNICAS MANEJO GLOBAL SECTOR OFICIAL)
A2: TOMADOR: | B2: MUNICIPIO DE CARTAGO
A3: ASEGURADO : | B3: =+B2 -> MUNICIPIO DE CARTAGO
A4: BENEFICIARIO: | B4: =+B2 -> MUNICIPIO DE CARTAGO
A5: NIT | B5: 891.900.493-2
A6: RAMO: | B6: MANEJO SERVIDORES PUBLICOS
A7: INTERMEDIARIO: | B7: ='Todo Riesgo Daños Materiales'!B7:D7 -> RODRIGO GOMEZ Y CIA
A8: VIGENCIA | B8: ='Todo Riesgo Daños Materiales'!B8:D8 -> DESDE LAS 00:00 HORAS DEL 28 DE JUNIO DE 2026 HASTA LAS 00:00 HORAS DEL 01 DE FEBRERO DE 2027
A9: CONDICIONES MINIMAS REQUERIDAS OBLIGATORIAS
A10: INTERES ASEGURADO | B10: COBERTURAS | K10: VALOR ASEGURADO | M10: TASA | N10: PRIMA NETA ACTUAL
C11: VALOR ASEGURADO | D11: Tasa | E11: PRIMA NETA ACTUAL | G11: VALOR ASEGURADO | H11: Tasa | I11: PRIMA NETA ACTUAL | K11: MINIMO REQUERIDO | L11: PROPUESTA CIA
A12: Se amparan a las entidades estatales aseguradas contra los riesgos que impliquen menoscabode fondos y bienes, causados por sus empleados en el ejercicio de los cargos amparados, por actos que se tipifiquen como delitos contra la administración pública o fallos con responsabilidad fiscal, siempre y cuando hecho sea cometido dentro de la vigencia de la póliza. | B12: Abuso de confianza, Estafa, Peculado | K12: 500000000
B13: Falsificación, Delitos contra la
B14: Administración Pública, Delitos contra | C14: 200000000 | D14: 0.04 | E14: =C14*D14 -> 8000000 | G14: 200000000 | H14: 0.05 | I14: =G14*H14 -> 10000000
B15: el patrimonio economico, alcances fiscales
B16: Gastos de Rendiciòn y reconstrucciòn de cuentas
B17: Cajas menores sublimite 10% evento/vigencia
B18: Empleados no identificados | K18: =K12*50% -> 250000000
B19: Protecciòn de Depósitos bancarios | K19: =K18 -> 250000000
B20: Empleados de firma especializada y temporales, cooperativas y empresas asociativas | K20: =K18 -> 250000000
K21: PRIMA NETA
K22: IVA
K23: PRIMA TOTAL
A24: CONDICIONES ESPECIALES OBLIGATORIAS
A25: AMPARO POR PECULADO: Mediante la presente Cláusula se conviene en amparar al Asegurado las pérdidas o detrimentos patrimoniales que sufra por causa de peculado cometido por sus empleados de acuerdo con las denominaciones que para delitos cometidos por empleados oficiales o públicos contempla la ley
A26: MODALIDAD DESCUBRIMIENTO
A27: AMPARO POR DELITOS CONTRA LA ADMINISTRACION PÚBLICA: Mediante la presente Cláusula se conviene en amparar AL ASEGURADO, las pérdidas o detrimentos patrimoniales que sufra por causa de los delitos cometidos por sus servidores públicos, empleados oficiales ó públicos, contemplados en la Ley
A28: EXTENSION DE COBERTURAS A EMPLEADOS TEMPORALES Y FIRMAS ESPECIALIZADAS: Se consideran cubiertas todas las perdidas y/o daños que ocasionen los empleados de firmas especializadas, temporales y provisionales, que pertenezcan o no a la firma especializada, estos últimos asesores, estudiantes en práctica, contratistas y subcontratistas.
A29: EXTENSION DE COBERTURAS: Hasta por treinta (30) días una vez se retire el funcionario de la Entidad, siempre y cuando la póliza se encuentre vigente.
A30: PERDIDAS CAUSADAS POR EMPLEADOS NO IDENTIFICADOS: Con sujecion a las condiciones genereales de la poliza y no obstante lo que en contratio se diga ennla misma o en sus anexos, si una perdida cubierta se presume haber sido causada por uno o mas de los empleados y el asegurado no pudiere senalar especdificamente el empelado o empleados causantes, dicha perdia se considera debidamene amparada, siempre y cuando las pruebas que se presentern sean concluyente quedando entendido ademas la responsabilidad de la aseguradora no excedera en ningun caso el valor asegurado por cada evento.
A31: PROTECCION DE DEPOSITOS BANCARIOS: Por medio del presente anexo, se cubren las pérdidas que el Asegurado sufra en cuanto a los dineros depositados en su cuenta corriente o de ahorros que mantenga con una entidad bancaria o financiera, siempre y cuando dicha pérdida se deba a falsificación de un cheque, letra de cambio, pagaré, carta de crédito o cualquier otra clase de titulo valor que el banco o MUNICIPIO DE CARTAGO. financiera presuma que ha sido firmado, endosado o avalado por el Asegurado o por una persona que obre en su nombre o representación y que el banco o entidad financiera compruebe que no es responsable por dicho pago. El amparo se hace extensivo a cualquiera de los siguientes eventos: A. Cuando el cheque girado presuntamente por el Asegurado o su representante sea pagado a una persona ficticia. B. Cuando un cheque girado por el Asegurado o su representante a favor de un tercero y entregado a dicho tercero o a un representante de este, resulte endosado y cobrado por una persona distinta a dicho tercero o a aquella otra a quien ha debido hacerse el pago en virtud de una transferencia posterior que hubiese podido efectuarse respecto a dicho cheque. C. Cualquier cheque con destino al pago de salarios que habiendo sido girado u ordenado por el Asegurado, resultase endosado y cobrado por un tercero obrando supuestamente a nombre del girador, o de aquel a quien se debía hacer el pago. Es requisito indispensable para que sea procedente una indemnización bajo los literales a, b, y c, que exista falsificación o adulteración de conformidad con las disposiciones legales vigentes al momento del siniestro. Las firmas estampadas por medios mecánicos, serán consideradas como firmas autógrafas.
A32: CONVENIO PARA EL PLAZO DEL PAGO DE LA PRIMA: No obstante cualquier estipulación en contrario, por la presente cláusula se deja establecido que, de acuerdo con lo estipulado en el artículo 81 de la Ley 45/90 y la Resolución numero 03750 de Diciembre 31/74
A33: AMPARO AUTOMÁTICO PARA NUEVOS CARGOS : No obstante cualquier estipulación en contrario en las condiciones generales de la póliza y sus anexos, este seguro se extiende a cubrir todo nuevo cargo creado por el Asegurado sin limite de plazo para reportar a la aseguradora.
A34: PERÍODO ADICIONAL DE COBERTURAS: Por medio de la presente cláusula se deja establecido y convenido que las personas al servicio del asegurado, continuarán amparadas los treinta (30) días inmediatamente siguientes a la fecha de retiro, con sujeción a las Cláusulas relativas a vigencia, terminación y revocación de la Póliza.
A35: ERRORES Y OMISIONES NO INTENCIONALES : El tomador esta obligado a declarar sinceramente los hechos o circunstancias que determinen el estado del riesgo, la inexactitud sobre hechos o circunstancias que conocidas por la compañía, la hubiere retraído de celebrar el contrato, o inducido a estipular condiciones más onerosas, produce la nulidad relativa del seguro. Sin embargo, si el tomador incurriere en errores, omisiones o inexactitudes inculpables a él o al asegurado, el contrato de seguro al cual se adhiere este documento no será nulo, ni habrá lugar a la aplicación del inciso tercero del Art. 1058 del Código de Comercio sobre reducción porcentual de la prestación asegurada. En ese caso, se deberá pagar la prima adecuada al verdadero estado del riesgo: la cual será calculada a la (s) tasa (s) establecida (s) en la (s) póliza (s) a prorrata y en las mismas condiciones en que viene suscrito el riesgo.
... A58: NOTA: SE DEBE DILIGENCIAR UNICAMENTE LA PARTE SOMBREADA EN GRIS. LAS DEMAS AREAS DEL CUADRO NO DEBEN SER MODIFICADAS

Sheet RCE 
A1: ANEXO Nº 4 (ESPECIFICACIONES TECNICAS RESPONSABILIDAD CIVIL EXTRACONTRACTUAL)
A2: TOMADOR | B2: MUNICIPIO DE CARTAGO
A3: ASEGURADO : | B3: =+B2 -> MUNICIPIO DE CARTAGO
A4: BENEFICIARIO: | B4: =+B2 -> MUNICIPIO DE CARTAGO
A5: NIT | B5: 891.900.493-2
A6: RAMO: | B6: RESPONSABILIDAD CIVIL EXTRACONTRACTUAL
A7: INTERMEDIARIO: | B7: ='Todo Riesgo Daños Materiales'!B7:D7 -> RODRIGO GOMEZ Y CIA
A8: VIGENCIA | B8: ='Todo Riesgo Daños Materiales'!B8:D8 -> DESDE LAS 00:00 HORAS DEL 28 DE JUNIO DE 2026 HASTA LAS 00:00 HORAS DEL 01 DE FEBRERO DE 2027
A9: COBERTURAS Y CONDICIONES MINIMAS REQUERIDAS OBLIGATORIAS
A10: OBJETO | B10: AMPAROS | C10: LIMITE ASEGURADO | E10: PROPUESTA CIA | F10: TASA | G10: PRIMA ANUAL
C12: EVENTO | D12: VIGENCIA
A13: Territorio Colombiano | C13: 2000000000
A14: Se amparan los perjuicios patrimoniales y extrapatrimoniales, incluyendo los perjuicios morales, que el asegurado cause a terceros, con motivo de la responsabilidad civil en que incurra de acuerdo con la Ley, durante el giro normal de sus actividades, incluyendo las complementarias. Los perjuicios cubiertos son los derivados de: Lesiones ó muerte a personas, Daños a bienes de propiedad de terceros, Perjuicios morales,, perjuicios de dano en la vida relacion y fisiológicos. lucro cesante que se derive de un daño material y/o de un daño corporal | B14: Predios, labores y operaciones.
B15: La posesion, el uso el mantenimiento de los predios en los cuales se desarrolla la actividad propia del asegurado.
B16: Las operaciones que lleve a Cabo el asegurado en los predios asegurados y donde desarrolle su actividad.
B17: Las actividades que razonablemente forman parte del riesgo asegurado y que son inherentes al desarrollo del giro normal de su actividad.
B18: Incendio y explosión
B19: Uso de maquina y equipos de trabajo de carque, descarque y transporte dentro y/o fuera de los predios del asegurado.
B20: Actividades sociales, deportivas y culturales, asi como las instalaciones sociales y deportivas dentro y/o fuera de los predios del asegurado
B21: Participacion del asegurado en ferias y exposiciones nacionales.
B22: Viajes al exterior realizados por los representantes, directores y empleados al servicio del asegurado, en funciones inherentes al desarrollo de las actividades propias del asegurado.
B23: viajes dentro del territorio nacional de los representantes, directores y empleados al servicio del asegurado, en funciones inherentes al desarrollo de las actividades propias del asegurado.
B24: Posesion y uso de depositos, tanques, y tuberias dentro de los predios asegurados;
B25: Cafeteria, restaurantes, casinos, bares
B26: Transporte de materias primas y productos azarosos, Manejo de combustible según decreto No. 1521 de 1996, en desarrollo de las actividades del asegurado
... B32: Contaminacion accidental subita e imprevista
B33: Contratistas y/o subcontratistas independientes | C33: 600000000 | D33: 1200000000
B34: Patronal | C34: 600000000 | D34: 1200000000
B35: Vehículos propios y no propios | C35: 500000000 | D35: 1000000000
B36: Gastos medicos | C36: 20000000 | D36: 400000000
B37: Bienes bajo cuidado tenencia y control | C37: 500000000 | D37: 1000000000
B38: Responsabilidad Civil Cruzada | C38: 600000000 | D38: 1200000000
B39: Parqueaderos | C39: 500000000 | D39: 1000000000
C40: PRIMA NETA
C41: IMPOVENTAS
C42: TOTAL IMPOVENTAS
A43: CONDICIONES
A44: NOTA: Los usuarios, clientes y visitantes se consideran terceros
A45: ACTIVIDADES SOCIALES, CULTURALES Y DEPORTIVAS: Por la presente cláusula y no obstante lo que en contrario se diga en las condiciones generales de la Póliza o en sus anexos, la Aseguradora cubre la responsabilidad civil imputable al Asegurado, derivada del ejercicio, dirección o supervisión de actividades deportivas, sociales y culturales, que se desarrollen en cualquier parte del territorio de la República de Colombia.
A46: RCE DERIVADA DEL SERVICIO DE VIGILANCIA: Por la presente cláusula y no obstante lo que en contrario se diga en las condiciones generales de la Póliza o en sus anexos, la Aseguradora ampara la responsabilidad civil deL ASEGURADO, frente a terceros por perjuicios patrimoniales y extrapatrimoniales, causados por vigilantes y personal de seguridad, escoltas cualesquiera que sea su modalidad de contratacion,en el cumplimiento de sus obligaciones y de los ocasionados por su negligencia o imprudencia, incluso, los que se ocasionen como consecuencia del uso de armas de fuego, errores de punteria, en cualquier parte del territorio de la República de Colombia. Tratándose de vigilantes no propios esta cobertura operará en exceso de la póliza de responsabilidad civil de la empresa de vigilancia, siempre que la póliza exista y se logre obtener la indemnización en caso de reclamo bajo dicha póliza con su límite asegurado, de lo contrario operará la presente póliza como primera capa.
...

Sheet RC Servidores Publicos
A1: ANEXO Nº 5 (ESPECIFICACIONES TECNICAS SEGURO DE RESPONSABILIDAD CIVIL SERVIDORES PUBLICOS)
A2: TOMADOR | B2: MUNICIPIO DE CARTAGO
A3: ASEGURADO | B3: MUNICIPIO DE CARTAGO
A4: BENEFICIARIO | B4: MUNICIPIO DE CARTAGO
A5: NIT | B5: 890.900.493-2
A6: RAMO: | B6: RC SERVIDORES PUBLICOS
A7: INTERMEDIARIO: | B7: ='Todo Riesgo Daños Materiales'!B7:D7 -> RODRIGO GOMEZ Y CIA
A8: VIGENCIA | B8: ='Todo Riesgo Daños Materiales'!B8 -> DESDE LAS 00:00 HORAS DEL 28 DE JUNIO DE 2026 HASTA LAS 00:00 HORAS DEL 01 DE FEBRERO DE 2027
A9: CONDICIONES MINIMAS REQUERIDAS OBLIGATORIAS
A10: OBJETO | B10: AMPAROS | C10: VALOR ASEGURADO
A11: Territorio Mundial | C11: V/R ASEGURADO EVENTO / VIGENCIA | D11: PROPUESTA COMPAÑÍA EN VALOR ASEGURADO PRINCIPAL Y EN GASTOS DE DEFENSA | E11: TASA | F11: PRIMA
A12: Amparar los perjuicios o detrimentos patrimoniales causados a EL MUNICIPIO DE CARTAGO, como consecuencia de decisiones de gestión incorrectas, pero no dolosas, adoptadas y/o ejecutadas o inejecutadas, por los Servidores Públicos y/o funcionarios con regímenes de responsabilidad similares a los de los Servidores Públicos, cuyos cargos se relacionan en el presente Pliego de Condiciones. Asumir los gastos de defensa (honorarios profesionales de abogados defensores y cauciones judiciales) según los límites por etapas procesales establecidos en este documento, en todo tipo de procesos, incluidos los penales siempre que se trate de delitos no dolosos; civiles; administrativos; iniciados por entes de control (Procuraduría, Contraloría o similares) o; por cualquier organismo oficial, en los que se discuta la responsabilidad correspondiente a los cargos asegurados. | B12: cobertura de perdida fiscal y gastos de defensa | C12: 2000000000 | F12: =(+C12*E14/100) -> 0
B14: reembolso a la sociedad costos y honoroarios de cauciones judiciales
B16: PRIMA NETA
B17: IMPOVENTAS
B18: TOTAL CON IMPOVENTAS
A19: Responsabilidad civil por detrimentos patrimoniales sufridos por el Estado o por terceros siempre que sean consecuencia de los actos incorrectos cometidos por los funcionarios asegurados en el desempeño de las funciones propias a su cargo, cuando fueren declarados civil o administrativamente responsables del detrimento patrimonial.
A20: Costos y Gastos de defensa, Responsabilidad civil por detrimentos patrimoniales sufridos por el Estado o por terceros : Se amparan los gastos por honorarios profesionales para la defensa de los funcionarios asegurados, frente a procesos civiles, penales, administrativos y frente a cualquier tipo de investigación adelantada por organismos oficiales hasta por el limite estipulado en la carátula de la póliza sublimite $60.000.000 por persona, $140,000,000 evento / $ 500,000,000 agregado anual. Los procesos penales operan por reembolso y se excluyen las conductas dolosas. El sublimite para gastos de defensa forma parte del valor asegurado y no en adicion a este
A21: Cauciones Judiciales: Gastos y costos en que incurran los funcionarios asegurados para la constitución de cauciones exigidas por las autoridades o necesarias para ejercitar derechos, dentro de procedimientos civiles, penales, administrativos o disciplinarios iniciados como consecuencia de actos incorrectos de los que se pudiera deriva una responsabilidad fiscal. $30.000.000 por evento y $150.000.000 vigencia. El sublimite hace parte del valor asegurado y no en adicion a este.
A22: CARGOS ASEGURADOS
A23: • Alcalde municipal • Secretaria de Hacienda • Tesorero Municipal • Secretario Juridico • Jefe de Recursos Físicos y Logistica Organizacional • Secretario Planeación y Medio Ambiente • Secretario de Infraesctructura • Director TIC | B23: • Secretario de Gobierno y Desarrollo Social • Secretario de Educación • Secretario de Servicios Administrativos • Secretario de Salud • Secretario de Tránsito y Transporte • Secretario General • Jefe de Oficina Control Interno Disciplinario
A24: CONDICIONES ESPECIALES OBLIGATORIAS
A25: LA POLIZA DEBE CONTENER LAS CONDICIONES PROPIAS PARA ENTIDADES ESTATALES
A26: AMPARO DE GASTOS DE DEFENSA EN INVESTIGACION PRELIMINAR
A27: AMPARO DE DEFENSA PENAL ADMINISTRATIVA :Ampara los costos procesales y gastos de defensa en que incurra el Asegurado como consecuencia de procesos penales y de investigaciones adelantadas por organismos oficiales, así como los que surjan de la defensa de las sanciones impuestas por dichos organismos.
A28: COBERTURA PARA DIRECTIVOS PASADOS, PRESENTES Y FUTUROS | K28: _ | M28: 2
A29: SE AMPARAN TODAS LAS RECLAMACIONES CONTRA DIRECTIVOS INDEPENDIENTEMENTE DEL ORGANO QUE LAS INICIA | L29: 1
A30: DEFINICION DE ASEGURADO: Se considera asegurado: Los administradores de la misma, cuyos cargos se detallan en el formulario de solicitud adjunto a estos Pliegos de Condiciones. Cuando se de un cambio de funcionario éste se cubre automáticamente, siempre y cuando el cargo que se ocupe se encuentre en la relación de los cargos asegurados. | N30: 1
A31: AMPARO RETROACTIVO - MODADLIDAD: Se amparan las reclamaciones que provengan de hechos o circunstancias ocurridas a partir del 17 de Noviembre de 2017. Modalidad Claims Made | M31: 2
A32: CONVENIO PARA EL PLAZO DEL PAGO DE LA PRIMA: No obstante cualquier estipulación en contrario, por la presente cláusula se deja establecido que, de acuerdo con lo estipulado en el artículo 81 de la Ley 45/90 y la Resolución numero 03750 de Diciembre 31/74 de la Superintendencia Financiera, las partes contratantes convienen que las primas causadas por el presente Contrato de seguros y los Certificados o Anexos que se emitan en aplicación al mismo serán pagadas por EL ASEGURADO, mínimo dentro de los NOVENTA (90) días contados a partir de la fecha en que el respectivo documento sea recibido en sus oficinas, directamente por la Aseguradora y/o por el intermediario de seguros, quien deberá certificar haber recibido a satisfacción las respectivas pólizas en las condiciones contratadas.Si las pólizas no han sido correctamente elaboradas, el término para el pago solo empezará a contarse desde la fecha en que se presenten en debida forma. La demora en el pago originada por la presentación incorrecta de los documentos requeridos será responsabilidad del contratista y no tendrán por ello derecho al pago de intereses o compensación de ninguna naturaleza o a la aplicación de la terminación del contrato por mora en el pago de la prima. | M32: 2
A33: REVOCACIÓN , NO RENOVACIÓN O MODIFICACIONES DE LA PÓLIZA Y SUS ANEXOS: La Aseguradora deberá dar aviso por escrito aL ASEGURADO, con una anticipación de sesenta (60) días, en caso que decida modificar, revocar o no renovar esta póliza y/o alguno de sus amparos adicionales o modificar cualquiera de sus condiciones. En caso de revocación la aseguradora devolverá al asegurado, la proporción de prima correspondiente al tiempo que falte para el vencimiento de la Póliza, liquidada a prorrata. Si la revocación es solicitada por EL ASEGURADO , la Aseguradora devolverá el valor de la prima no corrida del riesgo, liquidada a Prorrata.
A34: ERRORES Y OMISIONES NO INTENCIONALES : El tomador esta obligado a declarar sinceramente los hechos o circunstancias que determinen el estado del riesgo, la inexactitud sobre hechos o circunstancias que conocidas por la compañía, la hubiere retraído de celebrar el contrato, o inducido a estipular condiciones más onerosas, produce la nulidad relativa del seguro. Sin embargo, si el tomador incurriere en errores, omisiones o inexactitudes inculpables a él o al asegurado, el contrato de seguro al cual se adhiere este documento no será nulo, ni habrá lugar a la aplicación del inciso tercero del Art. 1058 del Código de Comercio sobre reducción porcentual de la prestación asegurada. En ese caso, se deberá pagar la prima adecuada al verdadero estado del riesgo: la cual será calculada a la (s) tasa (s) establecida (s) en la (s) póliza (s) a prorrata y en las mismas condiciones en que viene suscrito el riesgo.
A35: MODIFICACIÓN DEL ESTADO DEL RIESGO: No obstante lo estipulado en las condiciones generales de la póliza y sus anexos, por la presente cláusula se establece una limitación a la obligación que el Asegurado notifique los hechos o circunstancias que agraven el riesgo durante la vigencia del contrato, en el sentido, que la aseguradora solo puede invocarla cuando exista relación de causalidad entre la agravación y el siniestro. Se ampararán automáticamente los riesgos cuya agravación se informe, hasta el pronunciamiento del asegurador en contrario.
A36: CONOCIMIENTO DEL RIESGO: Por medio de la presente cláusula, la (s) Compañía(s) Aseguradora(s) declara (n) que conocen los riesgos y por consiguiente dejan constancia del conocimiento y aceptación de las circunstancias y condiciones de los mismos. En consecuencia de lo anterior, los proponentes no podrán en ningún caso, oponer excepciones, ni formular objeciones fundamentadas en la circunstancia de no haber llevado a cabo la visita de inspección o en el desconocimiento de los mismos.
A37: ACUERDO PARA AJUSTE EN CASO DE SINIESTRO: Por medio de la presente Cláusula se conviene que todos los siniestros serán ajustados conforme al procedimiento especial de ajuste que se acuerde entre el Asegurador y Asegurado, y que bajo estas condiciones, operará el Ajustador que se designe cuando sea necesario
A38: NOMBRAMIENTO DE AJUSTADOR: En caso de siniestro que afecte las pólizas contratadas y en los que a juicio de la aseguradora se deba asignar Ajustador, dichos Ajustadores no podrán ser asignados unilateralmente por la aseguradora, sino bajo los siguientes parámetros: • Se escogerá al inicio de la vigencia de las pólizas una terna de firmas Ajustadores nominada por EL ASEGURADO y la ASEGURADORA. • Las firmas seleccionadas deberán tener sede principal u oficina similar en la ciudad de Cali. La asignación del Ajustador proveniente de la terna inicialmente escogida, deberá realizarse dentro de los 3 días hábiles siguientes a la fecha del reporte del siniestro y el Ajustador deberá contactar al asegurado y efectuar las visitas correspondientes dentro de los 2 días hábiles siguientes a la fecha de designación. En caso contrario, se designará otro integrante de la terna preseleccionada.
A39: AVISO DE PÉRDIDA 60 DÍAS: No obstante lo dispuesto en las condiciones la Póliza o en sus anexos, por la presente cláusula se conviene entre las partes, un término SESENTA ( 60) días calendario para que el Asegurado de aviso al Asegurador de cualquier evento que afecte a la presente Póliza, contados a partir de la fecha en que haya tenido conocimiento de dicho evento, sin perjuicio de lo establecido en el artículo 1081 del Código de Comercio.
A40: DOMICILIO: Sin perjuicios de las disposiciones procesales para los efectos relacionados con el presente contrato, se fija como domicilio de las partes la ciudad de MUNICIPIO DE CARTAGO, en la República de Colombia.
A41: ADHESION: : Si durante la vigencia de este seguro se presentan modificaciones a las condiciones generales y particulares de la póliza, que presenten un beneficio a favor del ASEGURADO, tales modificaciones se consideran automáticamente incorporadas a la póliza siempre que el cambio no implique un aumento en la prima originalmente pactada.
A42: INCLUSIONES DE CARGOS: En caso de efectuarse inclusiones y/o modificaciones de cargos dentro de la vigencia de la póliza, se aclara que los oferentes se compromenten a mantener las mismas condiciones, costos y/o tasas presentadas en la presente licitación.
...

Sheet Automoviles
A1: ANEXO Nº 6 (ESPECIFICACIONES TECNICAS SEGURO DE AUTOMOVILES)
A2: TOMADOR: | B2: MUNICIPIO DE CARTAGO
A3: ASEGURADO : | B3: =+B2 -> MUNICIPIO DE CARTAGO
A4: BENEFICIARIO: | B4: =+B2 -> MUNICIPIO DE CARTAGO
A5: NIT | B5: 891.900.493-2
A6: RAMO: | B6: AUTOMOVILES
A7: INTERMEDIARIO: | B7: ='Todo Riesgo Daños Materiales'!B7:D7 -> RODRIGO GOMEZ Y CIA
A8: VIGENCIA | B8: ='Todo Riesgo Daños Materiales'!B8 -> DESDE LAS 00:00 HORAS DEL 28 DE JUNIO DE 2026 HASTA LAS 00:00 HORAS DEL 01 DE FEBRERO DE 2027
A9: COBERTURAS OBLIGATORIAS
A10: AUTOMOVILES
A11: INTERES Y BIENES ASEGURADOS | B11: AMPAROS | C11: VALOR ASEGURADO MINIMO REQUERIDO | D11: PROPUESTA ASEGURADORA PARA RCE | E11: TASA | F11: PRIMA NETA ACTUAL
A12: Amparar los daños y/o pérdidas que sufran los vehículos de propiedad o por los que sea legalmente responsable EL MUNICIPIO DE CARTAGO, así como los daños a bienes y/o lesiones y/o muerte de terceros, por causa de accidentes en territorio nacional
B13: Responsabilidad Civil Extracontractual Autos Livianos : (Cubre Los perjuicios patrimoniales y extrapatrimoniales aL 100% )
B14: Daños a bienes de terceros | C14: 1000000000
B15: Lesiones o muerte a una persona | C15: 1000000000
B16: Lesiones o muerte a dos o más personas | C16: 2000000000
B17: Responsabilidad Civil Extracontractual Motos y Pesados : (Cubre Los perjuicios patrimoniales y extrapatrimoniales aL 100% )
B18: Daños a bienes de terceros | C18: 200000000
B19: Lesiones o muerte a una persona | C19: 200000000
B20: Lesiones o muerte a dos o más personas | C20: 400000000
A21: BIENES ASEGURADOS: VER RELACION ANEXO | B21: Perdida Total para Daños | C21: V/r Comercial guia fasecolda + accesorios no originales. Ver relacion anexo
B22: Perdida Parcial para Daños
B23: Perdida Total para Hurto
B24: Perdida Parcial para Hurto
B25: Terremoto
B26: Proteccion Patrimonial | C26: Si
B27: Gastos de Transporte por perdida totale Daños, excluye vehículos pesados y motos, $40.000 diarios, máximo 30 días | C27: SI
B28: Gastos de Transporte por perdidas total Hurto excluye vehículos pesados y motos, $40.000 diarios, máximo 30 días | C28: Si
B29: Asistencia Juridica Penal | C29: Si
B30: Asistencia Juridica Civil | C30: SI
B31: Asistencia en Viaje, se excluye motos | C31: SI
B32: Hmccop, amit y terrorismo | C32: Si
D34: PRIMA NETA
D35: IVA
D36: TOTAL
A37: CONDICIONES ESPECIALES OBLIGATORIAS
A38: CONVENIO PARA EL PLAZO DEL PAGO DE LA PRIMA: No obstante cualquier estipulación en contrario, por la presente cláusula se deja establecido que, de acuerdo con lo estipulado en el artículo 81 de la Ley 45/90 y la Resolución numero 03750 de Diciembre 31/74 de la Superintendencia Financiera, las partes contratantes convienen que las primas causadas por el presente Contrato de seguros y los Certificados o Anexos que se emitan en aplicación al mismo serán pagadas por EL ASEGURADO, mínimo dentro de los NOVENTA (90) días contados a partir de la fecha en que el respectivo documento sea recibido en sus oficinas, directamente por la Aseguradora y/o por el intermediario de seguros, quien deberá certificar haber recibido a satisfacción las respectivas pólizas en las condiciones contratadas. Si las pólizas no han sido correctamente elaboradas, el término para el pago solo empezará a contarse desde la fecha en que se presenten en debida forma. La demora en el pago originada por la presentación incorrecta de los documentos requeridos será responsabilidad del contratista y no tendrán por ello derecho al pago de intereses o compensación de ninguna naturaleza o a la aplicación de la terminación del contrato por mora en el pago de la prima.
A39: CONTINUIDAD DE COBERTURA : Se otorga continuidad de seguros a los vehículos que vienen amparados y por lo tanto la propuesta no debe contener ningún tipo de restricciones en cuanto al estado, modelo y características de los vehículos, ni exigencias de inspecciones.
A40: NO APLICACIÓN DE DEDUCIBLES PARA ENTIDADES ESTATALES: La Aseguradora no aplicará ningún tipo de deducible en las coberturas del ramo de automóviles.
A41: LA COBERTURA DE RESPONSABILIDAD CIVIL EXTRACONTRACTUAL AMPARA LOS PERJUICIOS PATRIMONIALES Y EXTRAPATRIMONIALES ( DAÑO MORAL, LUCRO CESANTE Y PERJUICIO DE DAÑO EN LA VIDA RELACION. AL 100%
...

Sheet Relación Parque Automotor
A2: MUNCIPIO DE CARTAGO
A3: RELACION DE VEHICULOS ASEGURADOS
A4: DESCRIPCION DEL PARQUE AUTOMOTOR | C4: VR. ASEGURADO
A5: 1 | B5: PLACA: MOD71A | C5: 2600000
B6: LINEA: NXR 125 (BROS) MT
B7: COD. FASECOLDA: 03417100
B8: MODELO: 2004
B9: CILINDRAJE: 125CC
B10: MOTOR: JC30E84610194
B11: CHASIS:JC30E84610194
B12: MOTOCICLETA: HONDA
A13: =A5+1 -> 2 | B13: PLACA: MOD69A | C13: 2600000
B14: LINEA: NXR 125 (BROS) MT
B15: COD. FASECOLDA: 03417100
B16: MODELO:2004
B17: CILINDRAJE: 125CC
B18: MOTOR: JC30E84610016
B19: CHASIS: JC30E84610016
B20: MOTOCICLETA: HONDA
A21: =A13+1 -> 3 | B21: PLACA: NSR32B | C21: 3000000
B22: LINEA: NXR 125 (BROS) MT
B23: COD. FASECOLDA: 03417100
B24: MODELO: 2008
B25: CILINDRAJE: 125CC
B26: MOTOR: JC30E95627683
B27: CHASIS: JC30E95627683
B28: MOTOCICLETA:HONDA
A29: 4 | B29: PLACA: NSR33B | C29: 1800000
B30: LINEA:NXR125(BROS)MT
B31: COD. FASECOLDA: 03417105
B32: MODELO:2008
B33: MOTOR:JC30E95627742
B34: CHASIS:JC30E95627742
B35: MOTOCICLETA: YAMAHA
A36: 5 | B36: PLACA: MLA67A | C36: 1800000
B37: LINEA: DT 125 MT
B38: COD. FASECOLDA: 09817015
B39: MODELO: 1996
B40: MOTOR: 3TL054830
B41: CHASIS: 3TL054830
...

Sheet SINIESTRALIDAD
B3: SINIESTRALIDAD PROGRAMA DE SEGUROS ULTIMOS TRES AÑOS
B4: MUNICIPIO DE CARTAGO
B6: VIGENCIA | C6: PRIMA SIN IVA | D6: SINIESTROS PAGADOS | E6: SINIESTROS RESERVADOS | F6: TOTAL SINIESTROS | G6: SINIESTRALIDAD
B7: 2022 - 2023 | C7: =250200476+91154000 -> 341354476 | D7: 96494240 | E7: 102500000 | F7: =D7+E7 -> 198994240 | G7: =F7/C7 -> 0.58295483
B8: 2023 - 2024 | C8: 349384904 | D8: 23000000 | E8: 0 | F8: =D8+E8 -> 23000000 | G8: =F8/C8 -> 0.065829976
B9: PRORROGA 2024 | C9: =125097844 -> 125097844 | D9: 0 | E9: 0 | F9: =D9+E9 -> 0 | G9: =F9/C9 -> 0
B10: 2025 - 2026 | C10: 412056893 | D10: 140274346 | E10: 392396275 | F10: =D10+E10 -> 532670621 | G10: =F10/C10 -> 1.2927113
B11: TOTAL | C11: =SUM(C7:C10) -> 1227894117 | D11: =SUM(D7:D10) -> 259768586 | E11: =SUM(E7:E10) -> 494896275 | F11: =SUM(F7:F10) -> 754664861 | G11: =F11/C11 -> 0.61460093

Sheet TRANSPORTE DE VALORES
A1: ANEXO Nº 7 (ESPECIFICACIONES TECNICAS TRANSPORTE DE VALORES)
A2: TOMADOR: | B2: MUNICIPIO DE CARTAGO
A3: ASEGURADO : | B3: =+B2 -> MUNICIPIO DE CARTAGO
A4: BENEFICIARIO: | B4: =+B2 -> MUNICIPIO DE CARTAGO
A5: NIT | B5: 891.900.493-2
A6: RAMO: | B6: TRANSPORTE DE VALORES
A7: INTERMEDIARIO: | B7: ='Todo Riesgo Daños Materiales'!B7:D7 -> RODRIGO GOMEZ Y CIA
A8: VIGENCIA | B8: ='Todo Riesgo Daños Materiales'!B8:D8 -> DESDE LAS 00:00 HORAS DEL 28 DE JUNIO DE 2026 HASTA LAS 00:00 HORAS DEL 01 DE FEBRERO DE 2027
A9: CONDICIONES MINIMAS REQUERIDAS OBLIGATORIAS
A10: INTERES ASEGURADO | B10: COBERTURAS | K10: VALOR ASEGURADO | M10: TASA | N10: PRIMA NETA ACTUAL
C11: VALOR ASEGURADO | D11: Tasa | E11: PRIMA NETA ACTUAL | G11: VALOR ASEGURADO | H11: Tasa | I11: PRIMA NETA ACTUAL | K11: MINIMO REQUERIDO
A12: Ampara el transporte de dinero y titulos valores desde instalaciiones del asegurado hasta Entidades Bancarias y Viceversa | B12: Básico de valores
B13: Hurto callificado
B14: Deslizamiento de tierra, avalancha , fallas geológicas | C14: 200000000 | D14: 0.04 | E14: =C14*D14 -> 8000000 | G14: 200000000 | H14: 0.05 | I14: =G14*H14 -> 10000000
B15: Caida accidental de mercancías
B16: Volcamiento
B17: Terremoto
B18: PRESUPUESTO ANUA DE MOVILIZACIONES | K18: 1000000000
B19: LIMITE MAXIMO POR DESPACHO | K19: 10000000
K21: PRIMA NETA
K22: IVA
K23: PRIMA TOTAL
A24: CONDICIONES ESPECIALES OBLIGATORIAS
A25: ACTOS DE AUTORIDAD
A26: CLAUSULA DE MENSAJERO PARTICULAR
A27: PERNOCTADA DEL MENSAJERO
A28: TRAYECTOS MULTIPLES
A29: PERMANENCIA DENTRO Y FUERA DE CAJA FUERTE
A30: MOVILIZACION DE EMPLEADOS DE FIRMA ESPECIALIZADA
A31: CONOCIMIENTO DEL RIESGO: Por medio de la presente cláusula, la (s) Compañía(s) Aseguradora(s) declara (n) que conocen los riesgos y por consiguiente dejan constancia del conocimiento y aceptación de las circunstancias y condiciones de los mismos. En conse
A32: CONVENIO PARA EL PLAZO DEL PAGO DE LA PRIMA: No obstante cualquier estipulación en contrario, por la presente cláusula se deja establecido que, de acuerdo con lo estipulado en el artículo 81 de la Ley 45/90 y la Resolución numero 03750 de Diciembre 31/74
A33: REVOCACIÓN , NO RENOVACIÓN O MODIFICACIONES DE LA PÓLIZA Y SUS ANEXOS : La Aseguradora deberá dar aviso por escrito aL ASEGURADO, con una anticipación de sesenta (60) días, en caso que decida modificar, revocar o no renovar esta póliza y/o alguno de sus amparos adicionales o modificar cualquiera de sus condiciones. En caso de revocación la aseguradora devolverá al asegurado, la proporción de prima correspondiente al tiempo que falte para el vencimiento de la Póliza, liquidada a prorrata. Si la revocación es solicitada por EL ASEGURADO , la Aseguradora devolverá el valor de la prima no corrida del riesgo, liquidada a Prorrata.
A34: AVISO DE PÉRDIDA 60 DÍAS: No obstante lo dispuesto en las condiciones la Póliza o en sus anexos, por la presente cláusula se conviene entre las partes, un término sesenta ( 60) días calendario para que el Asegurado de aviso al Asegurador de cualquier evento que afecte a la presente Póliza, contados a partir de la fecha en que haya tenido conocimiento de dicho evento, sin perjuicio de lo establecido en el artículo 1081 del Código de Comercio
A35: DOMICILIO: Sin perjuicios de las disposiciones procesales para los efectos relacionados con el presente contrato, se fija como domicilio de las partes la ciudad de MUNICIPIO DE CARTAGO, en la República de Colombia.
... A41: NOTA: SE DEBE DILIGENCIAR UNICAMENTE LA PARTE SOMBREADA EN GRIS. LAS DEMAS AREAS DEL CUADRO NO DEBEN SER MODIFICADAS
