Workbook
Name _________AFC1: [6]INV!$A$25:$D$28
Name _________AFC3: [6]INV!$F$25:$I$28
Name _________AFC5: [6]INV!$K$25:$N$28
Name _________BGC1: [6]INV!$A$5:$D$8
Name _________BGC3: [6]INV!$F$5:$I$8
Name _________BGC5: [6]INV!$K$5:$N$8
Name _________CAC1: [6]INV!$A$19:$D$22
Name _________CAC3: [6]INV!$F$19:$I$22
Name _________CAC5: [6]INV!$K$19:$N$22
Name _________PJ50: #REF!
Name _________PJ50: #REF!
Name _________SBC1: [6]INV!$A$12:$D$15
Name _________SBC3: [6]INV!$F$12:$I$15
Name _________SBC5: [6]INV!$K$12:$N$15
Name ________AFC1: [6]INV!$A$25:$D$28
Name ________AFC3: [6]INV!$F$25:$I$28
Name ________AFC5: [6]INV!$K$25:$N$28
Name ________BGC1: [6]INV!$A$5:$D$8
Name ________BGC3: [6]INV!$F$5:$I$8
Name ________BGC5: [6]INV!$K$5:$N$8
Name ________CAC1: [6]INV!$A$19:$D$22
Name ________CAC3: [6]INV!$F$19:$I$22
Name ________CAC5: [6]INV!$K$19:$N$22
Name ________MA2: #REF!
Name ________MA2: #REF!
Name ________PJ50: #REF!
Name ________PJ50: #REF!
Name ________SBC1: [6]INV!$A$12:$D$15
Name ________SBC3: [6]INV!$F$12:$I$15
Name ________SBC5: [6]INV!$K$12:$N$15
Name _______AFC1: [6]INV!$A$25:$D$28
Name _______AFC3: [6]INV!$F$25:$I$28
Name _______AFC5: [6]INV!$K$25:$N$28
Name _______BGC1: [6]INV!$A$5:$D$8
Name _______BGC3: [6]INV!$F$5:$I$8
Name _______BGC5: [6]INV!$K$5:$N$8
Name _______CAC1: [6]INV!$A$19:$D$22
Name _______CAC3: [6]INV!$F$19:$I$22
Name _______CAC5: [6]INV!$K$19:$N$22
Name _______MA2: #REF!
Name _______MA2: #REF!
Name _______PJ50: #REF!
Name _______PJ50: #REF!
Name _______SBC1: [6]INV!$A$12:$D$15
Name _______SBC3: [6]INV!$F$12:$I$15
Name _______SBC5: [6]INV!$K$12:$N$15
Name ______AFC1: [6]INV!$A$25:$D$28
Name ______AFC3: [6]INV!$F$25:$I$28
Name ______AFC5: [6]INV!$K$25:$N$28
Name ______BGC1: [6]INV!$A$5:$D$8
Name ______BGC3: [6]INV!$F$5:$I$8
Name ______BGC5: [6]INV!$K$5:$N$8
Name ______CAC1: [6]INV!$A$19:$D$22
Name ______CAC3: [6]INV!$F$19:$I$22
Name ______CAC5: [6]INV!$K$19:$N$22
Name ______MA2: #REF!
Name ______MA2: #REF!
Name ______PJ50: #REF!
Name ______PJ50: #REF!
Name ______pr01: #REF!

Sheet PRESUPUESTO OFICIAL (Entidad)
B1: Formulario 1 - Propuesta económica - Documento tipo de mínima cuantía de obra pública de infraestructura social
B2: Versión: 1 de 21 de agosto de 2025
C6: OFERTA ECONÓMICA
C7: [La Entidad puede utilizar este formulario de detalle del presupuesto oficial para determinar las condiciones bajo las cuales los Proponentes analizarán y presentarán su propuesta económica de forma detallada, sin perjuicio que la Entidad pueda modificarlo o establecer la presentación de la oferta económica con un formulario distinto al indicado.] [El presente Formulario aplica para los Procesos de Contratación que tengan como forma de pago precios unitarios. Tratándose de otras modalidades de pago, la Entidad debe ajustarlo cuando corresponde a: precio global, llave en mano, administración delegada, reembolso de gastos o cualquier otra forma de pago.]
C9: Adicionalmente, cuando el proceso de contratación es estructurado por precios unitarios, la Entidad debe aplicar las notas 1, 2 y 3 del presente formulario y las casillas de "Descripción", "Porcentaje" de la Administración, Imprevisto, Utilidad y total A.I.U. resaltadas en color amarillo. Tratándose de otras modalidades de precio, la Entidad puede o no configurar los mismos aspectos.
C11: Nº | D11: ÍTEM DE PAGO | E11: ESPECIFICACIONES | G11: DESCRIPCIÓN | H11: UND. | I11: CANTIDAD | J11: VALOR UNITARIO | K11: VALOR TOTAL
E12: GENERAL | F12: PARTICULAR
C14: 1 | F14: MI001 | G14: Limpieza de concreto o pisos con chorro de agua (hidrolavado) | H14: M2 | I14: 323 | K14: =+J14*I14 -> 0
C15: 2 | F15: MI002 | G15: Limpieza de canal metálica | H15: ML | I15: 51 | K15: =+J15*I15 -> 0
C16: 3 | F16: MR017 | G16: Mortero de reparación estructural | H16: M2 | I16: 80 | K16: =+J16*I16 -> 0
C17: 4 | F17: MI019 | G17: Rasqueteada y lijada de muros | H17: M2 | I17: 55 | K17: =+J17*I17 -> 0
C18: 5 | F18: AC045 | G18: Pintura en esmalte para muros o superficies planas | H18: M2 | I18: 582 | K18: =+J18*I18 -> 0
C19: 6 | G19: Instalacion de sillas | H19: Und | I19: 4102 | K19: =+J19*I19 -> 0
C20: Subtotal
C21: SUBTOTAL OBRAS | K21: =+SUM(K14:K19) -> 0
G23: VALOR TOTAL | K23: =+K21 -> 0
C26: NOTA 1: Se debe tener en cuenta que el PRECIO UNITARIO incluye el valor de AIU. | H26: DESCRIPCION | K26: PORCENTAJE
C27: NOTA 2: Cuando la fracción decimal del peso sea igual o superior a 5 se aproximará por exceso al número entero siguiente del peso y cuando la fracción decimal del peso sea inferior a 5 se aproximará por defecto al número entero del peso. | H27: ADMINISTRACIÓN | J27: A=
C28: NOTA 3: El AIU y su discriminación deben estar en porcentaje (%). | H28: IMPREVISTO | J28: I=
H29: UTILIDAD | J29: U=
H30: TOTAL A.I.U | J30: A.I.U.=

Sheet BIENES
B1: Formulario 1 - Propuesta económica - Documento tipo de mínima cuantía de obra pública de infraestructura social
B2: Versión: 1 de 21 de agosto de 2025
C5: FORMULARIO 1
C6: PRESUPUESTO OFICIAL
C7: [La Entidad puede utilizar este formulario de detalle del presupuesto oficial para determinar las condiciones bajo las cuales los Proponentes analizarán y presentarán su propuesta económica de forma detallada, sin perjuicio que la Entidad pueda modificarlo o establecer la presentación de la oferta económica con un formulario distinto al indicado.] [El presente Formulario aplica para los Procesos de Contratación que tengan como forma de pago precios unitarios. Tratándose de otras modalidades de pago, la Entidad debe ajustarlo cuando corresponde a: precio global, llave en mano, administración delegada, reembolso de gastos o cualquier otra forma de pago.]
C9: Adicionalmente, cuando el proceso de contratación es estructurado por precios unitarios, la Entidad debe aplicar las notas 1, 2 y 3 del presente formulario y las casillas de "Descripción", "Porcentaje" de la Administración, Imprevisto, Utilidad y total A.I.U. resaltadas en color amarillo. Tratándose de otras modalidades de precio, la Entidad puede o no configurar los mismos aspectos.
C11: Nº | D11: ÍTEM DE PAGO | E11: ESPECIFICACIONES | G11: DESCRIPCIÓN | H11: UND. | I11: CANTIDAD | J11: VALOR UNITARIO | K11: VALOR PARCIAL | N11: % PARTICIPACION | O11: % ACUMULADO | P11: PROMEDIO
E12: GENERAL | F12: PARTICULAR
C14: 2 | G14: Pintura en esmalte para muros o superficies planas | H14: M2 | I14: =+'PRESUPUESTO OFICIAL (Entidad)'!I18 -> 582 | J14: =+'PRESUPUESTO OFICIAL (Entidad)'!J18 -> 0 | K14: =+J14*I14 -> 0 | N14: =+K14/K17 -> #DIV/0! | O14: =+N14 -> #DIV/0!
C15: 3 | G15: Mortero de reparación estructural | H15: M2 | I15: =+'PRESUPUESTO OFICIAL (Entidad)'!I16 -> 80 | J15: =+'PRESUPUESTO OFICIAL (Entidad)'!J16 -> 0 | K15: =+J15*I15 -> 0 | N15: =+K15/K17 -> #DIV/0! | O15: =+N15+O14 -> #DIV/0!
C16: Subtotal
G17: SUBTOTAL OBRAS | K17: =+SUM(K14:K16) -> 0
G18: Instalacion de sillas | H18: Und | I18: 4102 | J18: =+'PRESUPUESTO OFICIAL (Entidad)'!J19 -> 0 | K18: =+J18*I18 -> 0
G19: Limpieza de concreto o pisos con chorro de agua (hidrolavado) | H19: M2 | I19: =+'PRESUPUESTO OFICIAL (Entidad)'!I14 -> 323 | J19: =+'PRESUPUESTO OFICIAL (Entidad)'!J14 -> 0 | K19: =+J19*I19 -> 0
G20: Limpieza de canal metálica | H20: ML | I20: =+'PRESUPUESTO OFICIAL (Entidad)'!I15 -> 51 | J20: =+'PRESUPUESTO OFICIAL (Entidad)'!J15 -> 0 | K20: =+J20*I20 -> 0
G21: Rasqueteada y lijada de muros | H21: M2 | I21: =+'PRESUPUESTO OFICIAL (Entidad)'!I17 -> 55 | J21: =+'PRESUPUESTO OFICIAL (Entidad)'!J17 -> 0 | K21: =+J21*I21 -> 0
G23: VALOR TOTAL
C26: NOTA 1: Se debe tener en cuenta que el PRECIO UNITARIO incluye el valor de AIU. | H26: DESCRIPCION | K26: PORCENTAJE
C27: NOTA 2: Cuando la fracción decimal del peso sea igual o superior a 5 se aproximará por exceso al número entero siguiente del peso y cuando la fracción decimal del peso sea inferior a 5 se aproximará por defecto al número entero del peso. | H27: ADMINISTRACIÓN | J27: A= | K27: 0.2705
C28: NOTA 3: El AIU y su discriminación deben estar en porcentaje (%). | H28: IMPREVISTO | J28: I= | K28: 0.01
H29: UTILIDAD | J29: U= | K29: 0.05
H30: TOTAL A.I.U | J30: A.I.U.= | K30: 0.3305

Sheet PROPUESTA ECONOMICA(Proponente)
B1: Formulario 1 - Propuesta económica - Documento tipo de mínima cuantía de obra pública de infraestructura social
B2: Versión: 1 de 21 de agosto de 2025
C5: FORMULARIO 1
C6: PROPUESTA ECONÓMICA
C7: [ El Proponente puede usar el presente formulario de presentación para determinar su propuesta económica conforme al Formulario 1 - Presupuesto Oficial por la Entidad]
C9: Cuando el proceso de contratación es estructurado por Precios Unitarios, la Entidad debe aplicar las notas 1, 2 y 3 del presente formato y las casillas de "Descripción", "Porcentaje" de la Administración, Imprevisto, Utilidad y total A.I.U. resaltadas en color amarillo.
C11: Nº | D11: ÍTEM DE PAGO | E11: ESPECIFICACIONES | G11: DESCRIPCIÓN | H11: UND. | I11: CANTIDAD | J11: VALOR UNITARIO | K11: VALOR TOTAL
E12: GENERAL | F12: PARTICULAR
C15: Subtotal
C21: Subtotal
C31: Subtotal
C36: Subtotal
C39: Subtotal
C40: SUBTOTAL OBRAS
G45: SUBTOTAL OBRAS (INCLUYE IVA)
G49: VALOR TOTAL
C52: NOTA 1: Se debe tener en cuenta que el PRECIO UNITARIO incluye el valor de AIU. | H52: DESCRIPCIÓN | K52: PORCENTAJE
C53: NOTA 2: Cuando la fracción decimal del peso sea igual o superior a 5 se aproximara por exceso al número entero siguiente del peso y cuando la fracción decimal del peso sea inferior a 5 se aproximará por defecto al número entero del peso. | H53: ADMINISTRACIÓN | J53: A= | K53: [Ofrecimiento del Proponente]
C54: NOTA 3: El AIU y su discriminación deben estar en porcentaje (%). | H54: IMPREVISTO | J54: I= | K54: [Ofrecimiento del Proponente]
H55: UTILIDAD | J55: U= | K55: [Ofrecimiento del Proponente]
H56: TOTAL A.I.U | J56: A.I.U.= | K56: [Ofrecimiento del Proponente]
G59: Firma del Proponente o de su Representante Legal

Sheet INDICAR CÓDIGO DEL ITEM DE PAGO
B1: Formulario 1 - Propuesta económica - Documento tipo de mínima cuantía de obra pública de infraestructura social
B2: Versión: 1 de 21 de agosto de 2025
C5: [La entidad podrá utilizar este formato para la presentación de los análisis de Precios Unitarios del Contratista en la oportunidad prevista en el numeral 8.2. de la invitación]
D8: GOBERNACION DEL QUINDIO
L9: VERSIÓN
D10: [NÚMERO DEL PROCESO]
L11: PÁGINA | M11: 1 | N11: DE | O11: 6
D13: ANALISIS DE PRECIOS UNITARIOS
L15: FECHA | M15: DD | N15: MM | O15: AA
C17: ÍTEMS DE LA PROPUESTA ECONÓMICA | I17: ÍTEMS NO PREVISTOS
C21: DATOS ESPECÍFICOS
C23: ÍTEM | D23: DESCRIPCIÓN | M23: UNIDAD | O23: CANTIDAD
C24: 1 | D24: LIMPIEZA DE CONCRETO O PISOS CON CHORRO DE AGUA (HIDROLAVADO) | M24: M2 | O24: =+'PRESUPUESTO OFICIAL (Entidad)'!I14 -> 323
C25: I. EQUIPO
C28: DESCRIPCIÓN | H28: MARCA | J28: TIPO | L28: TARIFA/HORA | M28: RENDIMIENTO | O28: Vr. UNITARIO
C29: Herramienta menor (5% de mano de obra) | M29: 0.05 | O29: =+M29*O55 -> 112.70679
C30: Hidrolavadora a presión 2500 psi | L30: 54007 | M30: 10 | O30: =+L30/M30 -> 5400.7
C32: SUBTOTAL $ | O32: =+O30+O29 -> 5513.4068
C33: II. MATERIALES
C36: DESCRIPCIÓN | K36: UNIDAD | L36: CANTIDAD | M36: PRECIO UNIT. | O36: Vr. UNITARIO
C39: SUBTOTAL $ | O39: 0
C40: III. TRANSPORTES
C43: MATERIAL | J43: VOL. o PESO | K43: DISTANCIA | L43: M3 o Ton/Km | M43: TARIFA | O43: Vr. UNITARIO
C46: SUBTOTAL $
C47: IV. MANO DE OBRA
C50: TRABAJADOR | J50: JORNAL | K50: PRESTACIONES | L50: JORNAL TOTAL | M50: RENDIMIENTO | O50: Vr. UNITARIO
C51: Ayudante de obra | L51: 12912 | M51: 5.7281374 | O51: =+L51/M51 -> 2254.1359 | R51: 5.7281374
C55: SUBTOTAL $ | O55: =+O51 -> 2254.1359
C57: TOTAL COSTO DIRECTO $ | O57: =+O55+O46+O39+O32 -> 7767.5427
C58: V. COSTOS INDIRECTOS
C61: Descripción | L61: Porcentaje | M61: Valor Total
C62: ADMINISTRACION | L62: =+'PRESUPUESTO OFICIAL (Entidad)'!$K$27 -> 0 | M62: =+L62*O57 -> 0
C63: IMPREVISTOS | L63: =+'PRESUPUESTO OFICIAL (Entidad)'!$K$28 -> 0 | M63: =+L63*O57 -> 0
C64: UTILIDAD | L64: =+'PRESUPUESTO OFICIAL (Entidad)'!$K$29 -> 0 | M64: =+L64*O57 -> 0
C65: SUBTOTAL $ | O65: =+M62+M63+M64 -> 0
C67: Precio Unitario Total Aproximado al peso $ | O67: =+O57+O65-0.009 -> 7767.5337
H71: Firma
H72: Nombre:
H73: Representante Legal del Contratista o su Apoderado
H74: Matricula No. :
...
