Workbook
Name _Toc140149825_1: #REF!
Name _Toc140149825_1: #REF!
Name _Toc140149825_1: #REF!
Name _Toc140149825_59: #REF!
Name _Toc140149825_59: #REF!
Name _Toc140149825_59: #REF!
Name _Toc142149825_60: #REF!
Name _Toc142149825_60: #REF!
Name _Toc142149825_60: #REF!
Name AMOR: #REF!
Name AMOR: #REF!
Name AMOR: #REF!
Name bg: #REF!
Name cvehiculo: #REF!
Name estadof: #REF!
Name FFFFFFF: #REF!
Name FFFFFFF: #REF!
Name FFFFFFF: #REF!
Name g: #REF!
Name GENERAL: #REF!
Name GG: #REF!
Name GG: #REF!
Name GG: #REF!
Name GGGGGG: #REF!
Name GGGGGG: #REF!
Name GGGGGG: #REF!
Name Grupo: #REF!
Name opcion2: #REF!
Name opcion3: #REF!
Name opcion4: #REF!
Name opcion5: #REF!
Name opcion6: #REF!
Name RamoAmparo: #REF!
Name Servicio: #REF!
Name tadquisicion: #REF!
Name TipodeVehiculo: #REF!

Sheet ESTUDIO DE MERCADO
B2: BENEFICENCIA DE CUNDINAMARCA
B3: ESTUDIO DE MERCADO
B4: LICITACION PUBLICA
H6: 2447901008 | J6: =H6-#REF! -> #REF!
B8: VIGENCIAS PROYECTADAS | C8: GRUPO - GENERALES | H8: PRESUPUESTO DE LA ENTIDAD PARA EL PROCESO | K8: 1380026977
B9: VIGENCIA DESDE 00:00 HORAS | C9: 46233 | H9: PRESUPUESTO PROYECTADO | K9: =K31 -> 1380026977
B10: VIGENCIA HASTA 00:00 HORAS | C10: =C9+C11 -> 46598
B11: DIAS DE COBERTURA PROYECTADOS | C11: 365
B16: GRUPO 1 | F16: PRIMA ANUAL | I16: PRIMA PERIODO PROYECTADO
B17: RAMO | C17: VALOR ASEGURADO | D17: TASA ANUAL ESTUDIO MERCADO | F17: PRIMA NETA ANUAL | G17: IVA 19% | H17: TOTAL PRIMA ANUAL | I17: PRIMA NETA PROYECTADA | J17: IVA 19% | K17: TOTAL PROYECCIÓN
B18: TODO RIESGO DAÑOS MATERIALES | C18: ='RELACION TRDM'!D19 -> 4.8893023e+11 | D18: ='TASAS PROMEDIO'!G7 -> 1.738 | E18: %o | F18: =ROUND((C18*D18/1000),0) -> 849760744 | G18: =ROUND((F18*19%),0) -> 161454541 | H18: =F18+G18 -> 1011215285 | I18: =ROUND((F18/365*$C$11),0) -> 849760744 | J18: =ROUND((I18*19%),0) -> 161454541 | K18: =I18+J18 -> 1011215285
B19: INDICE VARIABLE TODO RIESGO DAÑOS MATERIALES (5%) | C19: ='RELACION TRDM'!E19 -> 2.0321675e+10 | D19: =D18/2 -> 0.869 | E19: %o | F19: =ROUND((C19*D19/1000),0) -> 17659536 | G19: =ROUND((F19*19%),0) -> 3355312 | H19: =F19+G19 -> 21014848 | I19: =ROUND((F19/365*$C$11),0) -> 17659536 | J19: =ROUND((I19*19%),0) -> 3355312 | K19: =I19+J19 -> 21014848
B20: TOTAL TODO RIESGO DAÑOS MATERIALES | C20: =SUM(C18:C19) -> 5.0925191e+11 | H20: =SUM(H18:H19) -> 1032230133 | K20: =SUM(K18:K19) -> 1032230133
B21: MANEJO GLOBAL ENTIDADES OFICIALES | C21: 1000000000 | D21: ='TASAS PROMEDIO'!G12 -> 3.82 | E21: % | F21: =ROUND((C21*D21/100),0) -> 38200000 | G21: =ROUND((F21*19%),0) -> 7258000 | H21: =F21+G21 -> 45458000 | I21: =ROUND((F21/365*$C$11),0) -> 38200000 | J21: =ROUND((I21*19%),0) -> 7258000 | K21: =I21+J21 -> 45458000
B22: RESP. CIVIL EXTRACTUAL | C22: 5250000000 | D22: ='TASAS PROMEDIO'!G17 -> 1.065 | E22: %o | F22: =ROUND((C22*D22/1000),0) -> 5591250 | G22: =ROUND((F22*19%),0) -> 1062338 | H22: =F22+G22 -> 6653588 | I22: =ROUND((F22/365*$C$11),0) -> 5591250 | J22: =ROUND((I22*19%),0) -> 1062338 | K22: =I22+J22 -> 6653588
B23: RESPONSABILIDAD CIVIL SERVIDORES PÚBLICOS | C23: 2400000000 | D23: 5.38 | E23: % | F23: =ROUND((C23*D23/100),0) -> 129120000 | G23: =ROUND((F23*19%),0) -> 24532800 | H23: =F23+G23 -> 153652800 | I23: =ROUND((F23/365*$C$11),0) -> 129120000 | J23: =ROUND((I23*19%),0) -> 24532800 | K23: =I23+J23 -> 153652800
B24: INFIDELIDAD Y RIESGOS FINANCIEROS | C24: 1500000000 | D24: ='TASAS PROMEDIO'!G27 -> 1.69 | E24: % | F24: =ROUND((C24*D24/100),0) -> 25350000 | G24: =ROUND((F24*19%),0) -> 4816500 | H24: =F24+G24 -> 30166500 | I24: =ROUND((F24/365*$C$11),0) -> 25350000 | J24: =ROUND((I24*19%),0) -> 4816500 | K24: =I24+J24 -> 30166500
B25: AUTOMOVILES | C25: =AUTOMOVILES!P21 -> 461800000 | D25: ='TASAS PROMEDIO'!G32 -> 4.224 | E25: % | F25: =ROUND((C25*D25/100),0) -> 19506432 | G25: =ROUND((F25*19%),0) -> 3706222 | H25: =F25+G25 -> 23212654 | I25: =ROUND((F25/365*$C$11),0) -> 19506432 | J25: =ROUND((I25*19%),0) -> 3706222 | K25: =I25+J25 -> 23212654
B26: AP AUTOMOVILES | C26: 20000000 | D26: ='TASAS PROMEDIO'!G37 -> 1.948 | E26: % | F26: =ROUND((C26*D26/100),0) -> 389600 | G26: =ROUND((F26*19%),0) -> 74024 | H26: =F26+G26 -> 463624 | I26: =ROUND((F26/365*$C$11),0) -> 389600 | J26: =ROUND((I26*19%),0) -> 74024 | K26: =I26+J26 -> 463624
B27: TRANSPORTE DE MERCANCIAS | C27: 7000000 | D27: ='TASAS PROMEDIO'!G42 -> 0.124 | E27: % | F27: =ROUND((C27*D27/100),0) -> 8680 | G27: =ROUND((F27*19%),0) -> 1649 | H27: =F27+G27 -> 10329 | I27: =ROUND((F27/365*$C$11),0) -> 8680 | J27: =ROUND((I27*19%),0) -> 1649 | K27: =I27+J27 -> 10329
B28: TRANSPORTE DE VALORES | C28: 5000000 | D28: ='TASAS PROMEDIO'!G47 -> 0.11 | E28: % | F28: =ROUND((C28*D28/100),0) -> 5500 | G28: =ROUND((F28*19%),0) -> 1045 | H28: =F28+G28 -> 6545 | I28: =ROUND((F28/365*$C$11),0) -> 5500 | J28: =ROUND((I28*19%),0) -> 1045 | K28: =I28+J28 -> 6545
B29: SOAT | K29: ='RELACION SOAT'!N22 -> 9795060
B30: REMANENTE PARA FUTURAS INCLUSIONES Y/O MODIFICACIONES Y/O POLIZAS DE CUMPLIMIENTO | K30: 78377744
B31: TOTAL | K31: =SUM(K20:K30) -> 1380026977

Sheet TASAS PROMEDIO
C1: ='ESTUDIO DE MERCADO'!$B$2 -> BENEFICENCIA DE CUNDINAMARCA
C2: TIPO DE PROCESO
C3: DETERMINACIÓN TASAS PROMEDIOS
B5: RAMO | C5: ENTIDAD | D5: PROCESO DE CONTRATACION | E5: LIMITE ASEGURADO | F5: TASAS | G5: CALCULO DE TASA PROMEDIO
G6: PROMEDIO TASA MERCADO (A) | H6: AJUSTE POR SINIESTRALIDAD | I6: TASA FINAL PROMEDIO | J6: TIPO DE TASA % - %o
B7: TODO RIESGO DAÑOS MATERIALES | C7: BENEFICENCIA DE CUNDINAMARCA | F7: 0.96 | G7: =AVERAGE(F7:F11) -> 1.738 | H7: 0 | I7: =G7+H8 -> 1.738 | J7: %o
C8: FONDO DE DESARROLLO LOCAL DE SUMAPAZ | D8: FDRS-LP-253-2025 | E8: 10019506707 | F8: 1.48 | H8: =G7*H7 -> 0
C9: COLEGIO DE BOYACA | D9: SAMC No. 01 de 2024 | E9: 81949542413 | F9: 1.65
C10: MUNICIPIO DE QUEBRADANEGRA | D10: SAMC-014-2025 | E10: 5723589868 | F10: 1.7
C11: SECRETARIA DISTRITAL DEL HABITAT | D11: SDHT-SAMC-001-2026 | E11: 17521116977 | F11: 2.9
B12: MANEJO GLOBAL | C12: =C7 -> BENEFICENCIA DE CUNDINAMARCA | F12: 3.65 | G12: =AVERAGE(F12:F16) -> 3.82 | H12: 0 | I12: =+G12 -> 3.82 | J12: %
C13: FONDO DE DESARROLLO LOCAL DE SUMAPAZ | D13: FDRS-LP-253-2025 | E13: 540000001 | F13: 3.58
C14: FONDO DE DESARROLLO LOCAL DE TUNJUELITO | D14: FDLT-SAMC 001-2025 | E14: 400000000 | F14: 3.2
C15: ARTESANIAS DE COLOMBIA | D15: INVITACIÓN ABIERTA ADC-004-2026 | E15: 540000000 | F15: 4.37
C16: INSTITUTO DE VIVIENDA DE INTERES SOCIAL Y REFORMA URBANA BUCARAMANGA | D16: SA-001-2026 | E16: 280000000 | F16: 4.3
B17: RESPONSABILIDAD CIVIL EXTRACONTRACTUAL | C17: =C12 -> BENEFICENCIA DE CUNDINAMARCA | F17: 0.2 | G17: =AVERAGE(F17:F21) -> 1.065 | H17: 0 | I17: =+(G17*H17)+G17 -> 1.065 | J17: %
C18: FONDO PASIVO SOCIAL DE FERROCARRILES NACIONALES DE COLOMBIA | D18: Selección de MÍNIMA CUANTÍA No. IPMC-FPS-001-2026. | E18: 2000000000 | F18: 0.3
C19: FONDO DE DESARROLLO LOCAL DE SUMAPAZ | D19: FDRS-LP-253-2025 | E19: 2500000001 | F19: 0.18
C20: FONDO DE DESARROLLO LOCAL DE TUNJUELITO | D20: FDLT-SAMC 001-2025 | E20: 4000000000 | F20: 2.625
C21: MUNICIPIO DE QUEBRADANEGRA | D21: SAMC-014-2025 | E21: 900000000 | F21: 2.02
B22: RESPONSABILIDAD CIVIL SERVIDORES PÚBLICOS | C22: =C17 -> BENEFICENCIA DE CUNDINAMARCA | F22: 5.28 | G22: =AVERAGE(F22:F26) -> 5.13 | H22: 0.05 | I22: =+(G22*H22)+G22 -> 5.3865 | J22: %
C23: AGENCIA NACIONAL DE TIERRAS | D23: SELECCIÓN ABREVIADA DE MENOR CUANTÍA No ANT-SAMC-001-2025 | E23: 8400000000 | F23: 7.87 | H23: =H22 -> 0.05
C24: FONDO DE DESARROLLO LOCAL DE TUNJUELITO | D24: FDLT-SAMC 001-2025 | E24: 500000000 | F24: 5.5
C25: CONTRALORIA GENERAL DEL RISARALDA | D25: Selección Abreviada de Menor Cuantía No. CGR-IPSA-002-2025 de 2025 | E25: 300000000 | F25: 4
C26: MINISTERIO DEL INTERIOR | D26: SAMC-001-2025 | E26: 7000000000 | F26: 3
B27: INFIDELIDAD Y RIESGOS FINANCIEROS | C27: =C22 -> BENEFICENCIA DE CUNDINAMARCA | F27: 1.4 | G27: =AVERAGE(F27:F31) -> 1.69 | H27: 0 | I27: =+G27 -> 1.69 | J27: %
C28: DEPARTAMENTO DE CUNDINAMARCA | D28: LICITACIÓN PÚBLICA SG-LP-001-2025 | E28: 18200000000 | F28: 2.41
C29: AGENCIA NACIONAL DE TIERRAS | D29: SELECCIÓN ABREVIADA DE MENOR CUANTÍA No ANT-SAMC-001-2025 | E29: 2000000000 | F29: 1.49
C30: INSTITUTO DE VIVIENDA DE INTERES SOCIAL Y REFORMA URBANA BUCARAMANGA | D30: SA-001-2026 | E30: 400000000 | F30: 1.9
C31: INSTITUTO DE INVESTIGACIÓN DE RECURSOS BIOLÓGICOS ALEXANDER VON HUMBOLDT | D31: INVITACION ABIERTA | E31: 1000000000 | F31: 1.25
B32: AUTOMOVILES | C32: =C27 -> BENEFICENCIA DE CUNDINAMARCA | F32: 3.95 | G32: =AVERAGE(F32:F36) -> 4.224 | H32: 0 | I32: =+G32 -> 4.224 | J32: %
C33: PERSONERIA MUNICIPAL DE SOACHA | D33: MC-008-2025 | E33: 103110000 | F33: 3.9
C34: SENADO DE LA REPÚBLICA | D34: LP-SEN-001-2026 | E34: 2241538266 | F34: 6
C35: REGION ADMINISTRATIVA Y DE PLANEACION ESPECIAL REGION CENTRAL | D35: SAMC-02-2025 | E35: 114300000 | F35: 3.4
C36: DEPARTAMENTO ADMINISTRATIVO DEL SERVICIO CIVIL – DASC. | D36: DASCD-LP-002-202 | E36: 119300000 | F36: 3.87
B37: AP AUTOMOVILES | C37: =C32 -> BENEFICENCIA DE CUNDINAMARCA | F37: 0.24 | G37: =AVERAGE(F37:F41) -> 1.948 | H37: 0 | I37: =(G37*H37)+G37 -> 1.948 | J37: %
C38: FONDO DE DESARROLLO DE PROYECTOS DE CUNDINAMARCA-FONDECUN | D38: MINIMA CUANTIA IPMC-002-2024 | F38: 3
C39: FONDO DE DESARROLLO DE PROYECTOS DE CUNDINAMARCA-FONDECUN | D39: SELECCION ABREVIADA SAMC-003-2024 | F39: 1
C40: INSTITUTO PARA LA INVESTIGACIÓN EDUCATIVA Y EL DESARROLLO PEDAGÓGICO IDEP | D40: 01 DE 2024 IDEP - SAMC | F40: 2.5
C41: REGION ADMINISTRATIVA DE PLANEACION ESPECIAL RAP-E | D41: SAMC-01 de 2024 | F41: 3
...

Sheet RELACION TRDM
B2: BENEFICENCIA DE CUNDINAMARCA
B3: LICITACION PUBLICA
B5: RELACIÓN BIENES Y VALORES ASEGURADOS
B7: TODO RIESGO DAÑOS MATERIALES
B10: DETALLE | D10: VALOR ASEGURADO | E10: INDICE VARIABLE ANUAL 5% | F10: TOTAL VALOR ASEGURADO
B11: EDIFICIO | D11: 405190888596 | E11: =D11*5/100 -> 2.0259544e+10 | F11: =D11+E11 -> 4.2545043e+11
B12: MUEBLES Y ENSERES ( equipo de Oficina, bienes y utilies de cafetería y aseo, libros) | D12: 1288557914 | F12: =D12+E12 -> 1288557914
B13: EQUIPO ELÉCTRICO, ELECTRÓNICO Y DE COMUNICACIÓN (incluidos equipos móviles y portátiles, licencias y software) | D13: 817874947 | E13: =D13*5/100 -> 40893747 | F13: =D13+E13 -> 8.5876869e+08
B14: OBRAS DE ARTE | D14: 150101850 | E14: 0 | F14: =D14+E14 -> 150101850
B15: EQUIPO Y MAQUINARIA | D15: 424736548 | E15: =D15*5/100 -> 21236827 | F15: =D15+E15 -> 4.4597338e+08
B16: CONTENIDOS EN GENERAL (equiposde laboratorio, instrumentos musicales) | D16: 19894975 | E16: 0 | F16: =D16+E16 -> 19894975
B17: ADECUACIÓN DE CONSTRUCCIONES A LAS NORMAS DE SISMORESISTENCIA (10% del valor asegurado de Edificios) | D17: =D11*10/100 -> 4.0519089e+10 | E17: 0 | F17: =D17+E17 -> 4.0519089e+10
B18: ADECUACIÓN DE SUELOS Y TERRENOS (10% del valor asegurado de Edificios) | D18: =D11*10/100 -> 4.0519089e+10 | E18: 0 | F18: =D18+E18 -> 4.0519089e+10
B19: SUBTOTAL DE VALORES ASEGURADOS | D19: =SUM(D11:D18) -> 4.8893023e+11 | E19: =SUM(E11:E18) -> 2.0321675e+10 | F19: =SUM(F11:F18) -> 5.0925191e+11

Sheet AUTOMOVILES
C7: BENEFICENCIA DE CUNDINAMARCA
C8: PROYECCIÓN DE PRIMA CON GUIA DE VALORES FASECOLDA PARA ENERO DE 2026
D10: CENTRO AL QUE ESTA ASIGNADO | E10: PLACA | F10: MARCA | G10: TIPO | H10: CLASE | I10: Modelo | J10: CC | K10: PAS / TON | L10: MODELO | M10: MOTOR | N10: CHASIS | O10: codigo fasecolda | P10: Guia MARZO / 2026
C11: 1 | D11: LA COLONIA | E11: OIB494 | F11: TOYOTA | G11: PRADO VX 3400 | H11: CAMPERO | I11: 2005 | J11: 3400 | K11: 5 | L11: 2005 | M11: 1877522 | N11: 9FH11VJ9559011919 | O11: 9008076 | P11: 68300000
C12: =+C11+1 -> 2 | D12: CBA FACATATIVA | E12: OIL427 | F12: CHEVROLET | G12: LUV DOBLE CABINA | H12: PICK UP DC | I12: 1988 | J12: 2300 | K12: 5 | L12: 1988 | M12: 3020001773 | N12: 866TFRSGHWAO55106 | O12: 1621002 | P12: 18800000
C13: =+C12+1 -> 3 | D13: CBA VILLETA | E13: OIL429 | F13: CHEVROLET | G13: LUV DOBLE CABINA | H13: PICK UP DC | I13: 1998 | J13: 2300 | K13: 5 | L13: 1998 | M13: 543087 | N13: 8GGTFR6FHWA055105 | O13: 1621007 | P13: 26000000
C14: =+C13+1 -> 4 | D14: CBA BELMIRA | E14: OIE208 | F14: CHEVROLET | G14: LUV TFR CREW | H14: CAMPERO | I14: 1996 | J14: 1600 | K14: 3 | M14: 474056 | N14: TS96246821 | O14: 1620058 | P14: 26100000
C15: =+C14+1 -> 5 | D15: CBA ARBELAEZ | E15: OFK095 | F15: CHEVROLET | G15: LUV DOBLE CABINA | H15: CAMPERO | I15: 1996 | J15: 1600 | K15: 3 | M15: H438112 | O15: 1620058 | P15: 26100000
C16: 6 | D16: ADMINISTRACION CENTRAL | E16: OFK459 | F16: TOYOTA | G16: HILUX DOBLE CABINA | H16: CAMIONETA | I16: 2006 | J16: 2700 | K16: 5 | L16: 2006 | M16: 3408779 | N16: 9FH33UNE868001935 | O16: 9021010 | P16: 44300000
C17: 7 | D17: ADMINISTRACION CENTRAL | E17: OFK463 | F17: TOYOTA | G17: HILUX DOBLE CABINA | H17: CAMIONETA | I17: 2006 | J17: 2700 | K17: 5 | L17: 2006 | M17: 3418466 | N17: 9FH33UNE868002097 | O17: 9021010 | P17: 44300000
C18: 8 | D18: ADMINISTRACION CENTRAL | E18: ODT307 | F18: SUSUKI | G18: GRAND VITARA | H18: CAMIONETA | I18: 2018 | J18: 2393 | K18: 5 | L18: 2018 | M18: J24B1321964 | N18: JS3TD04V4J4100296 | O18: 8808032 | P18: 69300000
C19: 9 | D19: ADMINISTRACION CENTRAL | E19: ODT333 | F19: SUSUKI | G19: GRAND VITARA | H19: CAMIONETA | I19: 2018 | J19: 2393 | K19: 5 | L19: 2018 | M19: J24B1321131 | N19: JS3TD04V0J4100084 | O19: 8808032 | P19: 69300000
C20: 10 | D20: ADMINISTRACION CENTRAL | E20: ODT334 | F20: SUSUKI | G20: GRAND VITARA | H20: CAMIONETA | I20: 2018 | J20: 2393 | K20: 5 | L20: 2018 | M20: J24B1323190 | N20: JS3TD04V1J4100532 | O20: 8808032 | P20: 69300000
C21: TOTAL VALOR ASEGURADO AUTOS | P21: =SUM(P11:P20) -> 461800000

Sheet RELACION SOAT
B6: BENEFICENCIA DE CUNDINAMARCA
B7: PROYECCIÓN DE PRIMA CON TARIFA DE SOAT PARA 2026
B8: Esta proyección se hizo con base en la tabla de tarifas comerciales máximas del SOAT para 2024 publicada por FASECOLDA.
C10: CENTRO AL QUE ESTA ASIGNADO | D10: PLACA | E10: MARCA | F10: TIPO | G10: CLASE | H10: Modelo | I10: CC | J10: PAS / TON | K10: MODELO | L10: MOTOR | M10: CHASIS | N10: VALOR PROYECTADO | O10: VENCIMIENTO | S10: INCREMENTO VIGENCIA 2025
B11: 1 | C11: LA COLONIA | D11: OIB494 | E11: TOYOTA | F11: PRADO VX 3400 | G11: CAMPERO | H11: 2005 | I11: 3400 | J11: 5 | K11: 2005 | L11: 1877522 | M11: 9FH11VJ9559011919 | N11: 1274000 | O11: 46432
B12: =+B11+1 -> 2 | C12: CBA FACATATIVA | D12: OIL427 | E12: CHEVROLET | F12: LUV DOBLE CABINA | G12: PICK UP DC | H12: 1988 | I12: 2300 | J12: 5 | K12: 1988 | L12: 3020001773 | M12: 866TFRSGHWAO55106 | N12: 1121400 | O12: 46487
B13: =+B12+1 -> 3 | C13: CBA VILLETA | D13: OIL429 | E13: CHEVROLET | F13: LUV DOBLE CABINA | G13: PICK UP DC | H13: 1998 | I13: 2300 | J13: 5 | K13: 1998 | L13: 543087 | M13: 8GGTFR6FHWA055105 | N13: 1121400 | O13: 46423
B14: =+B13+1 -> 4 | C14: CBA BELMIRA | D14: OIE208 | E14: CHEVROLET | F14: LUV TFR CREW | G14: CAMPERO | H14: 1996 | I14: 1600 | J14: 3 | L14: 474056 | M14: TS96246821 | N14: 0 | O14: No hay soat desde el 2023
B15: =+B14+1 -> 5 | C15: CBA ARBELAEZ | D15: OFK095 | E15: CHEVROLET | F15: LUV DOBLE CABINA | G15: CAMPERO | H15: 1996 | I15: 1600 | J15: 3 | L15: H438112 | N15: 0 | O15: No hay soa desde sep 2025
B16: 6 | C16: ADMINISTRACION CENTRAL | D16: OFK459 | E16: TOYOTA | F16: HILUX DOBLE CABINA | G16: CAMIONETA | H16: 2006 | I16: 2700 | J16: 5 | K16: 2006 | L16: 3408779 | M16: 9FH33UNE868001935 | N16: 1274000 | O16: 46718
B17: 7 | C17: ADMINISTRACION CENTRAL | D17: OFK463 | E17: TOYOTA | F17: HILUX DOBLE CABINA | G17: CAMIONETA | H17: 2006 | I17: 2700 | J17: 5 | K17: 2006 | L17: 3418466 | M17: 9FH33UNE868002097 | N17: 1274000 | O17: 46718
B18: 8 | C18: ADMINISTRACION CENTRAL | D18: ODT307 | E18: SUSUKI | F18: GRAND VITARA | G18: CAMIONETA | H18: 2018 | I18: 2393 | J18: 5 | K18: 2018 | L18: J24B1321964 | M18: JS3TD04V4J4100296 | N18: 946600 | O18: 46272
B19: 9 | C19: ADMINISTRACION CENTRAL | D19: ODT333 | E19: SUSUKI | F19: GRAND VITARA | G19: CAMIONETA | H19: 2018 | I19: 2393 | J19: 5 | K19: 2018 | L19: J24B1321131 | M19: JS3TD04V0J4100084 | N19: 946600 | O19: 46277
B20: 10 | C20: ADMINISTRACION CENTRAL | D20: ODT334 | E20: SUSUKI | F20: GRAND VITARA | G20: CAMIONETA | H20: 2018 | I20: 2393 | J20: 5 | K20: 2018 | L20: J24B1323190 | M20: JS3TD04V1J4100532 | N20: 946600 | O20: 46272
B21: TOTAL | N21: =SUM(N11:N20) -> 8904600
N22: =N21*1.1 -> 9795060
