Workbook

Sheet Borrador
L1: historico | T1: 3 | U1: 0.51 | V1: 2.74 | X1: 0.19 | Y1: 0.09
I3: Fuente Datos/Indicador | J3: Tipo empresa | K3: Tamaño Muestra | L3: Formula | T3: Indicadores Financieros | X3: Indicadores Organizacionales
T4: Indice de Liquidez | U4: Indice de Endeudamiento | V4: Razón de Cobertura de Intereses | W4: Capital de trabajo | X4: Rentabilidad del Patrimonio | Y4: Rentabilidad del Activo
I5: Super Sociedades | J5: Plenas Ind. Plenas Sep. Pymes Ind. Pymes Sep | K5: Total empresas (866) + 31 | L5: Desviación Estandar | T5: =STDEVA(T34:T930) -> 9.3651428 | U5: =STDEVA(U34:U930) -> 1.0088077 | V5: =STDEVA(V34:V930) -> 148199.95 | W5: =STDEVA(W34:W930) -> 255.73495 | X5: =STDEVA(X34:X930) -> 1.3081316 | Y5: =STDEVA(Y34:Y930) -> 0.29826609
L6: Promedio | T6: =AVERAGE(T34:T930) -> 3.9255983 | U6: =AVERAGE(U34:U930) -> 0.58695963 | V6: =AVERAGE(V34:V930) -> 7762.8117 | W6: =AVERAGE(W34:W930) -> 13149048 | X6: =AVERAGE(X34:X930) -> 0.15638787 | Y6: =AVERAGE(Y34:Y930) -> 0.079774798
L7: Mediana | T7: 2.88 | U7: 0.51 | V7: =MEDIAN(V34:V930) -> 3.1391259 | W7: =MEDIAN(W34:W930) -> 13149047 | X7: =MEDIAN(X34:X930) -> 0.19184131 | Y7: =MEDIAN(Y34:Y930) -> 0.090777948
L8: Menor Valor | T8: =MIN(T34:T930) -> 0.050740831 | U8: =MIN(U34:U930) -> 0.0070833918 | V8: =MIN(V34:V930) -> -27431.855 | W8: =MIN(W34:W930) -> 13148626 | X8: =MIN(X34:X930) -> -33.395452 | Y8: =MIN(Y34:Y930) -> -7.5143882
L9: Mayor Valor | T9: =MAX(T34:T930) -> 138.69153 | U9: =MAX(U34:U930) -> 26.186718 | V9: =MAX(V34:V930) -> 3535663.3 | W9: =MAX(W34:W930) -> 13149491 | X9: =MAX(X34:X930) -> 3.4644813 | Y9: =MAX(Y34:Y930) -> 0.71807463
B11: Punto de entrada | C11: Formulario | D11: NIT | E11: Fecha de Corte | F11: Razón social de la sociedad | G11: Clasificación Industrial Internacional Uniforme Versión 4 A.C (CIIU) | H11: Tipo societario | I11: Dirección de notificación judicial registrada en Cámara de Comercio | J11: Departamento de la dirección del domicilio | K11: Ciudad de la dirección del domicilio | L11: Periodo | M11: Activos corrientes totales (CurrentAssets) | N11: Total de activos (Assets) | O11: Pasivos corrientes totales (CurrentLiabilities) | P11: Total pasivos (Liabilities) | Q11: Patrimonio total (Equity) | R11: Ganancia (pérdida) por actividades de operación (ProfitLossFromOperatingActivities) | S11: Costos financieros (FinanceCosts) | T11: Indice de Liquidez | U11: Indice de Endeudamiento | V11: Razón de Cobertura de Intereses | W11: Capital de trabajo | X11: Rentabilidad del Patrimonio | Y11: Rentabilidad del Activo
F12: SUMINISTROS CLINICOS ISLA SAS | G12: EMPRESA REFERENTE DEL SECTOR, YA ESTA EN LA LISTA INICIAL | T12: 1.53 | U12: 0.53 | V12: 3.72 | X12: 0.04 | Y12: 0.02
F13: QUIMICOS Y REACTIVOS SAS | G13: EMPRESA OFERENTE PROCESO 2025 | T13: 2.97 | U13: 0.21 | V13: 116.55 | X13: 0.31 | Y13: 0.24
F14: QUIMMEC SAS | G14: EMPRESA OFERENTE PROCESO 2025 | T14: 2.86 | U14: 0.3 | V14: IND | X14: 0.65 | Y14: 0.45
F15: FILTRACION Y ANALISIS S.A.S. - FILA | G15: EMPRESA OFERENTE PROCESO 2025 | T15: 4.36 | U15: 0.22 | V15: 544809 | X15: 0.19 | Y15: 0.15 | Z15: PRESUPUESTO 2025 | AA15: 11594997534
F16: INDICADORES HISTORICOS | T16: 0.3 | U16: 0.51 | V16: 2.74 | X16: 0.19 | Y16: 0.09 | Z16: PRESUPUESTO 2026 | AA16: 9689754813
F17: INDICADORES SUGERIDOS | T17: 3.65 | U17: 0.42 | V17: 39 | X17: 0.23 | Y17: 0.21
F18: A M ASESORIA Y MANTENIMIENTO LTDA | G18: EMPRESA COTIZANTE 2026 | T18: 4.48 | U18: 0.20 | V18: 1122.38 | X18: 0.10 | Y18: 0.08
F19: EQUIPOS Y LABORATORIO DE COLOMBIA S.A.S. | G19: EMPRESA OFERENTE PROCESO 2025 | T19: 3.02 | U19: 0.55 | V19: 2.04 | X19: 0.20 | Y19: 0.09
F20: SANITAS SAS | G20: EMPRESA COTIZANTE 2026 | T20: 3.11 | U20: 0.49 | V20: 5.40 | X20: 0.35 | Y20: 0.17
F21: CASA CIENTIFICA BLANCO Y COMPAÑIA S.A.S | G21: EMPRESA COTIZANTE 2026 | T21: 3.00 | U21: 0.27 | V21: 53.63 | X21: 0.15 | Y21: 0.11
F22: BIOPRUEBAS LTDA | G22: EMPRESA COTIZANTE 2026 | T22: 9.34 | U22: 0.19 | V22: IND | X22: 0.34 | Y22: 0.27
F23: ADN INTERNACIONAL S.A.S | G23: EMPRESA COTIZANTE 2026 | T23: 2.47 | U23: 0.61 | V23: 1.65 | X23: 0.24 | Y23: 0.09
F24: MAXICAL S.A.S | G24: EMPRESA OFERENTE PROCESO 2025 | T24: 19.31 | U24: 0.22 | V24: 22.95 | X24: 0.37 | Y24: 0.28
F25: SOCIEDAD ANDINA DE IMPORTACIONES Y REPUESTOS LTDA SADIREP | G25: EMPRESA OFERENTE PROCESO 2025 | T25: 14.53 | U25: 0.06 | V25: IND | X25: 0.25 | Y25: 0.24
F26: GENPRODUCTS COMPANY SAS | G26: EMPRESA OFERENTE PROCESO 2025 | T26: 3.12 | U26: 0.19 | V26: 7014.96 | X26: 0.21 | Y26: 0.17
F27: QUIMITRONICA SAS | G27: EMPRESA COTIZANTE 2026 | T27: 2.21 | U27: 0.44 | V27: 4.26 | X27: 0.22 | Y27: 0.12
F28: AVANTIKA COLOMBIA S.A.S. | G28: EMPRESA OFERENTE PROCESO 2025 | T28: 3.75 | U28: 0.31 | V28: 147.77 | X28: 0.24 | Y28: 0.16
F29: BIOCELL SCIENCE S.A.S. | G29: EMPRESA OFERENTE PROCESO 2025 | T29: 8.32 | U29: 0.15 | V29: 15.35 | X29: 0.08 | Y29: 0.06
... F33: ADEQUIM SAS | G33: EMPRESA OFERENTE PROCESO 2025 | T33: 2.19 | U33: 0.51 | V33: 123.72 | X33: 0.23 | Y33: 0.11
F34: SOCIEDAD ANDINA DE IMPORTACIONE13:E35ES Y REPUESTOS LTDA SADIREP | G34: EMPRESA OFERENTE PROCESO 2025 | M34: 253274000 | N34: 273566000 | O34: 30052000 | P34: 30052000 | Q34: 243514000 | R34: 48960000 | S34: 0 | T34: =M34/O34 -> 8.4278584 | U34: =P34/N34 -> 0.10985283 | W34: 13148627 | X34: =R34/Q34 -> 0.2010562 | Y34: =R34/N34 -> 0.17896961
E35: 900011514-6 | F35: AS ANALYTICAL S.A.S - 50% | G35: EMPRESA OFERENTE PROCESO 2025 | M35: 684350722 | N35: 1128735567 | O35: 160855957 | P35: 607528651 | Q35: 521206916 | R35: 231398634 | S35: 17731568 | T35: =M35/O35 -> 4.2544319 | U35: =P35/N35 -> 0.53823825 | V35: =R35/S35 -> 13.050094 | W35: 13148628 | X35: =R35/Q35 -> 0.44396693 | Y35: =R35/N35 -> 0.20500695
E36: 830072417-7 | F36: DISTRIBUIDORA Y COMERCIALIZADORA DIZAR LTDA - 50% | G36: EMPRESA OFERENTE PROCESO 2025 | M36: 2486696288 | N36: 3665567827 | O36: 724854188 | P36: 1350256524 | Q36: 2315311303 | R36: 468239792 | S36: 175424833 | T36: =M36/O36 -> 3.4306159 | U36: =P36/N36 -> 0.36836217 | V36: =R36/S36 -> 2.6691762 | W36: 13148629 | X36: =R36/Q36 -> 0.20223621 | Y36: =R36/N36 -> 0.12774004
E37: 860527779-1 | F37: DISPROQUILAB LTDA - 65% | G37: EMPRESA OFERENTE PROCESO 2025 | M37: 1468787560 | N37: 1506223560 | O37: 47550238 | P37: 47550238 | Q37: 1458673322 | R37: 146315175 | S37: 0 | T37: =M37/O37 -> 30.889174 | U37: =P37/N37 -> 0.031569177 | W37: 13148630 | X37: =R37/Q37 -> 0.10030702 | Y37: =R37/N37 -> 0.097140411
E38: 900230898-8 | F38: INVERSIONES JIMSA SAS - 35% | G38: EMPRESA OFERENTE PROCESO 2025 | M38: 808744729 | N38: 808744729 | O38: 278430239 | P38: 278430239 | Q38: 530314490 | R38: 130948118 | S38: 31766573 | T38: =M38/O38 -> 2.9046584 | U38: =P38/N38 -> 0.34427456 | V38: =R38/S38 -> 4.1221985 | W38: 13148631 | X38: =R38/Q38 -> 0.2469254 | Y38: =R38/N38 -> 0.16191527
F39: YEQUIM SAS | G39: EMPRESA OFERENTE PROCESO 2025 | M39: 4215965486 | N39: 4270527353 | O39: 660645415 | P39: 1576036353 | Q39: 2694491000 | R39: 769810147 | S39: 3156855 | T39: =M39/O39 -> 6.3815859 | U39: =P39/N39 -> 0.36904959 | V39: =R39/S39 -> 243.8535 | W39: 13148632 | X39: =R39/Q39 -> 0.2856978 | Y39: =R39/N39 -> 0.18026114
F40: AQUALAB SAS | G40: EMPRESA OFERENTE PROCESO 2025 | M40: 15106416413 | N40: 22150713364 | O40: 3820464984 | P40: 8768297349 | Q40: 13382416015 | R40: 3191062233 | S40: 234784208 | T40: =M40/O40 -> 3.954078 | U40: =P40/N40 -> 0.39584718 | V40: =R40/S40 -> 13.591469 | W40: 13148633 | X40: =R40/Q40 -> 0.23845188 | Y40: =R40/N40 -> 0.14406138
E41: 860532874-3 | F41: Vidcol SAS | G41: EMPRESA OFERENTE PROCESO 2025 | M41: 2723158000 | N41: 3343343000 | O41: 900861000 | P41: 1203502000 | Q41: 2139841000 | R41: 485757000 | S41: 25585000 | T41: =M41/O41 -> 3.0228393 | U41: =P41/N41 -> 0.35996965 | V41: =R41/S41 -> 18.986007 | W41: 13148634 | X41: =R41/Q41 -> 0.22700612 | Y41: =R41/N41 -> 0.14529081
F42: Quimmec | G42: EMPRESA OFERENTE PROCESO 2025 | M42: 241185190 | N42: 293150090 | O42: 79626206 | P42: 79626206 | Q42: 213523884 | R42: 150274663 | S42: 0 | T42: =M42/O42 -> 3.0289675 | U42: =P42/N42 -> 0.27162266 | W42: 13148635 | X42: =R42/Q42 -> 0.70378386 | Y42: =R42/N42 -> 0.51262022
F43: Avántika Colombia SAS | G43: EMPRESA OFERENTE PROCESO 2025 | M43: 12183542200 | N43: 16661320267 | O43: 3940458037 | P43: 6543123943 | Q43: 10118196324 | R43: 2610718496 | S43: 20270617 | T43: =M43/O43 -> 3.0919101 | U43: =P43/N43 -> 0.39271341 | V43: =R43/S43 -> 128.79324 | W43: 13148636 | X43: =R43/Q43 -> 0.25802212 | Y43: =R43/N43 -> 0.15669337
F44: MEDIMALCO SAS | G44: EMPRESA OFERENTE PROCESO 2025 | M44: 287516955 | N44: 287516955 | O44: 34840721 | P44: 36883955 | Q44: 250633000 | R44: 77562930 | S44: 12000 | T44: =M44/O44 -> 8.2523251 | U44: =P44/N44 -> 0.12828445 | V44: =R44/S44 -> 6463.5775 | W44: 13148637 | X44: =R44/Q44 -> 0.30946815 | Y44: =R44/N44 -> 0.2697682
F45: BIOCELL | G45: EMPRESA OFERENTE PROCESO 2025 | M45: 598556206 | N45: 1424390434 | O45: 139269806 | P45: 370027433 | Q45: 1054363001 | R45: 201383333 | S45: 859424 | T45: =M45/O45 -> 4.2978175 | U45: =P45/N45 -> 0.2597795 | V45: =R45/S45 -> 234.32361 | W45: 13148639 | X45: =R45/Q45 -> 0.191 | Y45: =R45/N45 -> 0.14138212
...

Sheet Indices act
L1: historico | T1: 3 | U1: 0.51 | V1: 2.74 | W1: 0.19 | X1: 0.09
I3: Fuente Datos/Indicador | J3: Tipo empresa | K3: Tamaño Muestra | L3: Formula | T3: Indicadores Financieros | W3: Indicadores Organizacionales
T4: Indice de Liquidez | U4: Indice de Endeudamiento | V4: Razón de Cobertura de Intereses | W4: Rentabilidad del Patrimonio | X4: Rentabilidad del Activo
I5: Super Sociedades | J5: Plenas Ind. Plenas Sep. Pymes Ind. Pymes Sep | K5: Total empresas (866) + 31 | L5: Desviación Estandar | T5: =STDEVA(T13:T897) -> 8.925368 | U5: =STDEVA(U13:U897) -> 1.0144662 | V5: =STDEVA(V13:V897) -> 146719.32 | W5: =STDEVA(W13:W897) -> 1.316908 | X5: =STDEVA(X13:X897) -> 0.30008271 | Z5: PRESUPUESTO 2025 | AA5: 11594997534
L6: Promedio | T6: =AVERAGE(T13:T897) -> 3.8092897 | U6: =AVERAGE(U13:U897) -> 0.58942508 | V6: =AVERAGE(V13:V897) -> 7226.3112 | W6: =AVERAGE(W13:W897) -> 0.15539754 | X6: =AVERAGE(X13:X897) -> 0.078826989 | Z6: PRESUPUESTO 2026 | AA6: 9689754813
L7: Mediana | T7: =MEDIAN(T13:T897) -> 2.042389 | U7: =MEDIAN(U13:U897) -> 0.50601591 | V7: =MEDIAN(V13:V897) -> 3.0802435 | W7: =MEDIAN(W13:W897) -> 0.18939925 | X7: =MEDIAN(X13:X897) -> 0.088985227
L8: Menor Valor | T8: =MIN(T13:T897) -> 0.050740831 | U8: =MIN(U13:U897) -> 0.0070833918 | V8: =MIN(V13:V897) -> -27431.855 | W8: =MIN(W13:W897) -> -33.395452 | X8: =MIN(X13:X897) -> -7.5143882
L9: Mayor Valor | T9: =MAX(T13:T897) -> 138.69153 | U9: =MAX(U13:U897) -> 26.186718 | V9: =MAX(V13:V897) -> 3535663.3 | W9: =MAX(W13:W897) -> 3.4644813 | X9: =MAX(X13:X897) -> 0.71807463
B11: Punto de entrada | C11: Formulario | D11: NIT | E11: Fecha de Corte | F11: Razón social de la sociedad | G11: Clasificación Industrial Internacional Uniforme Versión 4 A.C (CIIU) | H11: Tipo societario | I11: Dirección de notificación judicial registrada en Cámara de Comercio | J11: Departamento de la dirección del domicilio | K11: Ciudad de la dirección del domicilio | L11: Periodo | M11: Activos corrientes totales (CurrentAssets) | N11: Total de activos (Assets) | O11: Pasivos corrientes totales (CurrentLiabilities) | P11: Total pasivos (Liabilities) | Q11: Patrimonio total (Equity) | R11: Ganancia (pérdida) por actividades de operación (ProfitLossFromOperatingActivities) | S11: Costos financieros (FinanceCosts) | T11: Indice de Liquidez | U11: Indice de Endeudamiento | V11: Razón de Cobertura de Intereses | W11: Rentabilidad del Patrimonio | X11: Rentabilidad del Activo
F12: INDICADORES HISTORICOS | T12: 3 | U12: 0.51 | V12: 2.74 | W12: 0.19 | X12: 0.09
F13: QUIMICOS Y REACTIVOS SAS | G13: EMPRESA OFERENTE PROCESO 2025 | T13: 2.97 | U13: 0.21 | V13: 116.55 | W13: 0.31 | X13: 0.24
F14: QUIMMEC SAS | G14: EMPRESA OFERENTE PROCESO 2025 | T14: 2.86 | U14: 0.3 | W14: 0.65 | X14: 0.45
F15: FILTRACION Y ANALISIS S.A.S. - FILA | G15: EMPRESA OFERENTE PROCESO 2025 | T15: 4.36 | U15: 0.22 | V15: 544809 | W15: 0.19 | X15: 0.15
F16: A M ASESORIA Y MANTENIMIENTO LTDA | G16: EMPRESA COTIZANTE 2026 | T16: 4.48 | U16: 0.2 | V16: 1122.38 | W16: 0.1 | X16: 0.08
F17: EQUIPOS Y LABORATORIO DE COLOMBIA S.A.S. | G17: EMPRESA OFERENTE PROCESO 2025 | T17: 3.02 | U17: 0.55 | V17: 2.04 | W17: 0.2 | X17: 0.09
F18: SANITAS SAS | G18: EMPRESA COTIZANTE 2026 | T18: 3.11 | U18: 0.49 | V18: 5.4 | W18: 0.35 | X18: 0.17
F19: CASA CIENTIFICA BLANCO Y COMPAÑIA S.A.S | G19: EMPRESA COTIZANTE 2026 | T19: 3 | U19: 0.27 | V19: 53.63 | W19: 0.15 | X19: 0.11
F20: BIOPRUEBAS LTDA | G20: EMPRESA COTIZANTE 2026 | T20: 9.34 | U20: 0.19 | W20: 0.34 | X20: 0.27
F21: ADN INTERNACIONAL S.A.S | G21: EMPRESA COTIZANTE 2026 | T21: 2.47 | U21: 0.61 | V21: 1.65 | W21: 0.24 | X21: 0.09
F22: MAXICAL S.A.S | G22: EMPRESA OFERENTE PROCESO 2025 | T22: 19.31 | U22: 0.22 | V22: 22.95 | W22: 0.37 | X22: 0.28
F23: SOCIEDAD ANDINA DE IMPORTACIONES Y REPUESTOS LTDA SADIREP | G23: EMPRESA OFERENTE PROCESO 2025 | T23: 14.53 | U23: 0.06 | W23: 0.25 | X23: 0.24
F24: GENPRODUCTS COMPANY SAS | G24: EMPRESA OFERENTE PROCESO 2025 | T24: 3.12 | U24: 0.19 | V24: 7014.96 | W24: 0.21 | X24: 0.17
F25: QUIMITRONICA SAS | G25: EMPRESA COTIZANTE 2026 | T25: 2.21 | U25: 0.44 | V25: 4.26 | W25: 0.22 | X25: 0.12
F26: AVANTIKA COLOMBIA S.A.S. | G26: EMPRESA OFERENTE PROCESO 2025 | T26: 3.75 | U26: 0.31 | V26: 147.77 | W26: 0.24 | X26: 0.16
F27: BIOCELL SCIENCE S.A.S. | G27: EMPRESA OFERENTE PROCESO 2025 | T27: 8.32 | U27: 0.15 | V27: 15.35 | W27: 0.08 | X27: 0.06
F28: AQUALAB SAS | G28: EMPRESA OFERENTE PROCESO 2025 | T28: 3.79 | U28: 0.36 | V28: 20.98 | W28: 0.3 | X28: 0.19
F29: MEDIMALCO S.A.S | G29: EMPRESA OFERENTE PROCESO 2025 | T29: 3.34 | U29: 0.29 | W29: 0.37 | X29: 0.26
F30: YEQUIM S.A.S | G30: EMPRESA OFERENTE PROCESO 2025 | T30: 6.38 | U30: 0.36 | V30: 243.85 | W30: 0.28 | X30: 0.18
F31: ADEQUIM SAS | G31: EMPRESA OFERENTE PROCESO 2025 | T31: 2.19 | U31: 0.51 | V31: 123.72 | W31: 0.23 | X31: 0.11
A32: 33 | B32: Plenas-Individuales | C32: Estado de situación financiera, corriente/no corriente | D32: 800004599 | E32: 2024-12-31 | F32: COMERCIALIZADORA MARDEN LTDA | G32: G4669 - Comercio al por mayor de otros productos n.c.p. | H32: 03. SOCIEDAD LIMITADA | I32: CR 28 29 60 | J32: VALLE | K32: PALMIRA-VALLE | L32: Periodo Actual | M32: 16800366 | N32: 27337946 | O32: 18974674 | P32: 21478065 | Q32: 5859881 | R32: 18792 | T32: =M32/O32 -> 0.88540999 | U32: =P32/N32 -> 0.78565028 | W32: =R32/Q32 -> 0.0032068911 | X32: =R32/N32 -> 0.00068739619
A33: 63 | B33: Plenas-Individuales | C33: Estado de situación financiera, corriente/no corriente | D33: 800019615 | E33: 2024-12-31 | F33: SYMRISE LTDA | G33: C2029 - Fabricación de otros productos químicos n.c.p. | H33: 03. SOCIEDAD LIMITADA | I33: CR 58 9-54 | J33: BOGOTA D.C. | K33: BOGOTA D.C. | L33: Periodo Actual | M33: 237121394 | N33: 394257019 | O33: 75014105 | P33: 81273185 | Q33: 312983834 | R33: 87382375 | S33: 32011917 | T33: =M33/O33 -> 3.1610241 | U33: =P33/N33 -> 0.20614265 | V33: =R33/S33 -> 2.7296827 | W33: =R33/Q33 -> 0.27919134 | X33: =R33/N33 -> 0.2216381
A34: 91 | B34: Plenas-Individuales | C34: Estado de situación financiera, corriente/no corriente | D34: 800026092 | E34: 2024-12-31 | F34: HB FULLER COLOMBIA SAS | G34: C2029 - Fabricación de otros productos químicos n.c.p. | H34: 08. SOCIEDAD POR ACCIONES SIMPLIFICADA SAS | I34: CENTRO CIUDAD KARGA RIONEGRO FASE II 300 MTS GLORIETAAEROPUERTO JMC VIA GUARNE | J34: ANTIOQUIA | K34: RIONEGRO-ANTIOQUIA | L34: Periodo Actual | M34: 179638047 | N34: 208075531 | O34: 36826637 | P34: 36826637 | Q34: 171248894 | R34: 12993468 | S34: 5895440 | T34: =M34/O34 -> 4.8779379 | U34: =P34/N34 -> 0.17698687 | V34: =R34/S34 -> 2.2039861 | W34: =R34/Q34 -> 0.075874756 | X34: =R34/N34 -> 0.06244592
A35: 143 | B35: Plenas-Individuales | C35: Estado de situación financiera, corriente/no corriente | D35: 800044807 | E35: 2024-12-31 | F35: STEPAN COLOMBIA SAS | G35: C2011 - Fabricación de sustancias y productos químicos básicos | H35: 08. SOCIEDAD POR ACCIONES SIMPLIFICADA SAS | I35: CL 98 9A 21 | J35: BOGOTA D.C. | K35: BOGOTA D.C. | L35: Periodo Actual | M35: 85242842 | N35: 110746214 | O35: 44692967 | P35: 44992235 | Q35: 65753979 | R35: 8567432 | S35: 63286 | T35: =M35/O35 -> 1.9072988 | U35: =P35/N35 -> 0.40626432 | V35: =R35/S35 -> 135.37642 | W35: =R35/Q35 -> 0.13029526 | X35: =R35/N35 -> 0.077360947
A36: 171 | B36: Plenas-Individuales | C36: Estado de situación financiera, corriente/no corriente | D36: 800060704 | E36: 2024-12-31 | F36: KAMEX INTERNATIONAL SAS | G36: C3250 - Fabricación de instrumentos, aparatos y materiales médicos y odontológicos (incluido mobiliario) | H36: 08. SOCIEDAD POR ACCIONES SIMPLIFICADA SAS | I36: VTE CAJICA LOTE 2 VEREDA CALAHORRA | J36: CUNDINAMARCA | K36: CAJICA-CUNDINAMARCA | L36: Periodo Actual | M36: 5719203 | N36: 20264175 | O36: 3973123 | P36: 12842108 | Q36: 7422067 | R36: -3017909 | T36: =M36/O36 -> 1.4394729 | U36: =P36/N36 -> 0.63373456 | W36: =R36/Q36 -> -0.40661301 | X36: =R36/N36 -> -0.14892829
A37: 223 | B37: Plenas-Individuales | C37: Estado de situación financiera, corriente/no corriente | D37: 800083425 | E37: 2024-12-31 | F37: IDT ELECTRIC LTDA | G37: G4669 - Comercio al por mayor de otros productos n.c.p. | H37: 03. SOCIEDAD LIMITADA | I37: CLL 36 24 23 | J37: BOGOTA D.C. | K37: BOGOTA D.C. | L37: Periodo Actual | M37: 5938492 | N37: 8735246 | O37: 1758573 | P37: 2457862 | Q37: 6277384 | R37: 806246 | S37: 113095 | T37: =M37/O37 -> 3.3768811 | U37: =P37/N37 -> 0.28137296 | V37: =R37/S37 -> 7.128927 | W37: =R37/Q37 -> 0.12843662 | X37: =R37/N37 -> 0.09229803
A38: 233 | B38: Plenas-Individuales | C38: Estado de situación financiera, corriente/no corriente | D38: 800090902 | E38: 2024-12-31 | F38: PROCLIN PHARMA SA | G38: G4645 - Comercio al por mayor de productos farmacéuticos, medicinales, cosméticos y de tocador | H38: 01. SOCIEDAD ANÓNIMA | I38: CRA 68 D 98 A 73 | J38: BOGOTA D.C. | K38: BOGOTA D.C. | L38: Periodo Actual | M38: 22531857 | N38: 51052087 | O38: 14034979 | P38: 28323551 | Q38: 22728536 | R38: 3303094 | T38: =M38/O38 -> 1.6054072 | U38: =P38/N38 -> 0.55479712 | W38: =R38/Q38 -> 0.14532806 | X38: =R38/N38 -> 0.06470047
A39: 239 | B39: Plenas-Individuales | C39: Estado de situación financiera, corriente/no corriente | D39: 800092641 | E39: 2024-12-31 | F39: LABORATORIOS RICHMOND COLOMBIA S.A.S | G39: G4645 - Comercio al por mayor de productos farmacéuticos, medicinales, cosméticos y de tocador | H39: 08. SOCIEDAD POR ACCIONES SIMPLIFICADA SAS | I39: CL 100 19A 50 P 9 ED INTENATIONAL TOWECL 100 19A 50 P 9 ED INTENATIONAL TOWER | J39: BOGOTA D.C. | K39: BOGOTA D.C. | L39: Periodo Actual | M39: 22254226 | N39: 48970823 | O39: 29889198 | P39: 34344983 | Q39: 14625840 | R39: 2471133 | T39: =M39/O39 -> 0.74455748 | U39: =P39/N39 -> 0.70133563 | W39: =R39/Q39 -> 0.16895665 | X39: =R39/N39 -> 0.050461333
A40: 257 | B40: Plenas-Individuales | C40: Estado de situación financiera, corriente/no corriente | D40: 800100610 | E40: 2024-12-31 | F40: ADIUM S.A.S | G40: G4645 - Comercio al por mayor de productos farmacéuticos, medicinales, cosméticos y de tocador | H40: 08. SOCIEDAD POR ACCIONES SIMPLIFICADA SAS | I40: CRA. 16 NO. 85-96 | J40: BOGOTA D.C. | K40: BOGOTA D.C. | L40: Periodo Actual | M40: 172200575 | N40: 211899819 | O40: 140392886 | P40: 147324670 | Q40: 64575149 | R40: 33144163 | S40: 6141700 | T40: =M40/O40 -> 1.226562 | U40: =P40/N40 -> 0.69525623 | V40: =R40/S40 -> 5.396578 | W40: =R40/Q40 -> 0.51326499 | X40: =R40/N40 -> 0.15641431
A41: 297 | B41: Plenas-Individuales | C41: Estado de situación financiera, corriente/no corriente | D41: 800116871 | E41: 2024-12-31 | F41: C.I.IMPORTEX S.A. | G41: G4669 - Comercio al por mayor de otros productos n.c.p. | H41: 01. SOCIEDAD ANÓNIMA | I41: CRA 16A 78 11 OF.501 | J41: BOGOTA D.C. | K41: BOGOTA D.C. | L41: Periodo Actual | M41: 118714937 | N41: 120238388 | O41: 109251647 | P41: 109334674 | Q41: 10903714 | R41: 15205551 | S41: 58848 | T41: =M41/O41 -> 1.0866192 | U41: =P41/N41 -> 0.90931587 | V41: =R41/S41 -> 258.38688 | W41: =R41/Q41 -> 1.3945295 | X41: =R41/N41 -> 0.1264617
A42: 351 | B42: Plenas-Individuales | C42: Estado de situación financiera, corriente/no corriente | D42: 800137370 | E42: 2024-12-31 | F42: FONANDES SAS | G42: C2029 - Fabricación de otros productos químicos n.c.p. | H42: 08. SOCIEDAD POR ACCIONES SIMPLIFICADA SAS | I42: LT BELLAVISTA VEREDA CANAVITA ENTRADA COLPAPEL | J42: CUNDINAMARCA | K42: SOPO-CUNDINAMARCA | L42: Periodo Actual | M42: 15675920 | N42: 25456337 | O42: 5566379 | P42: 7530890 | Q42: 17925447 | R42: 6047000 | S42: 1805515 | T42: =M42/O42 -> 2.8161791 | U42: =P42/N42 -> 0.29583557 | V42: =R42/S42 -> 3.3491829 | W42: =R42/Q42 -> 0.33734166 | X42: =R42/N42 -> 0.237544
...

Sheet HISTORICO
A2: INDICADOR | B2: VIGENCIA 2025 | C2: AS 2026-MEDIANA | D2: PROMEDIO
A3: Presupuesto | B3: 11594997534 | C3: 9689754813
A4: Índice de Liquidez | B4: 3 | C4: ='Indices act'!T7 -> 2.042389 | D4: =ROUND(AVERAGE(B4,C4),3) -> 2.521
A5: Nivel de Endeudamiento | B5: 0.51 | C5: ='Indices act'!U7 -> 0.50601591 | D5: =ROUND(AVERAGE(B5,C5),3) -> 0.508
A6: Índice de cobertura de intereses | B6: 2.74 | C6: ='Indices act'!V7 -> 3.0802435 | D6: =ROUND(AVERAGE(B6,C6),3) -> 2.91
A7: Rentabilidad del Patrimonio - ROE | B7: 0.19 | C7: ='Indices act'!W7 -> 0.18939925 | D7: =ROUND(AVERAGE(B7,C7),3) -> 0.19
A8: Rentabilidad del Activo - ROA | B8: 0.09 | C8: ='Indices act'!X7 -> 0.088985227 | D8: =ROUND(AVERAGE(B8,C8),3) -> 0.089
