Workbook

Sheet ESTUDIO DE MERCADO
A1: COTIZACIONES HERRAMIENTAS E INSUMOS
A2: ELEMENTO | B2: DESCRIPCION | C2: UNIDAD | D2: CERCAGRO DEL LLANO SAS | E2: DISTRIAGROPECUARIA S.A.S. | F2: PS MULTISERVICIOS | G2: PROMEDIOS
A3: INSUMOS AGRICOLAS
A4: Abono orgánico compostado -Humus | B4: Humus solido de lombriz proveniente de la degradación y digestión de residuos orgánicos por medio de Lombriz Roja Californiana. Polvo granular color café oscuro con olor característico a tierra húmeda, ausente de olores pestilentes. Con etiqueta que describa las características fisicoquímicas y nutricionales del humus en cada bulto. Con Registro ICA. Presentación bultos de 50 kilos. | C4: Kilogramo | D4: 14300 | E4: 14850 | F4: 15400 | G4: =+(D4+E4+F4)/3 -> 14850
A5: Fertilizante Quimico Compuesto 15-15 15 | B5: Fertilizante quimico compuesto N-P-K: Nitrógeno Total 15% (con mayor contenido de Nitrógeno Amoniacal) Fósforo asimilable como (P2O5) ………… 15% Potasio Soluble en Agua (K2O) 15% Apariencia sólida granulado de color beige. Inoloro o débil olor. Ph (solución 5%) 5,5-6,0. Con REGISTRO ICA. | C5: Kilogramo | D5: 4160 | E5: 4320 | F5: 4480 | G5: =+(D5+E5+F5)/3 -> 4320
A6: Fertilizante Quimico Compuesto | B6: (NPK. Em) Solido granulado color pardo y blanco. Con etiquetado en cada bulto del contenido nutricional: Nitrógeno total 8% (Nitrógeno Amoniacal 1%, Nitrógeno Ureico 7%); Fosforo asimilable (P2O5 5%); Calcio (CaO 18%); Magnesio (MgO 6%); Azufre total (S 1.6%); Boro (B 1%); Cobre (Cu 0.14%); Molibdeno (Mo 0.005%); Zinc (Zn 2.5%). En presentación de bultos de 46 Kg. Con Registro ICA | C6: Kilogramo | D6: 4420 | E6: 4590 | F6: 4760 | G6: =+(D6+E6+F6)/3 -> 4590
A7: Fertilizante Quimico Compuesto 18-18- 18) | B7: Fertilizante quimico compuesto N-P-K: Nitrógeno Total 18,4% (con mayor contenido de Nitrógeno organico) Fósforo asimilable como (P2O5) ………… 18% Potasio Soluble en Agua (K2O) 18% Totalmente soluble en agua, 100 % asimilable diseñado para preparar soluciones nutritivas para uso foliar y radicular en todo tipo de cultivos. Con REGISTRO ICA. | C7: =+C5 -> Kilogramo | D7: 3900 | E7: 4050 | F7: 4200 | G7: =+(D7+E7+F7)/3 -> 4050
A8: Fertilizante | B8: Fosfato Diamonico DAP - Fosfato diamónico (DAP) compuesto por Nitrógeno total 18%: Nitrógeno amoniacal (NH4) 18%; Fosforo Asimilable (P2O5) 46%; humedal 1.5%; sólido granulado de color café; Ph: 6-9; densidad a granel: 915 Kg/mt3; solubilidad en agua (30°C) 1 g/2.5 ml. Con REGISTRO ICA. Presentación en bultos de 50 Kg. | C8: =+C6 -> Kilogramo | D8: 7150 | E8: 7425 | F8: 7700 | G8: =+(D8+E8+F8)/3 -> 7425
A9: Fertilizante Quimico Simple | B9: Urea - Gránulos de color blanco, que contiene 46% de Nitrógeno. Con REGISTRO ICA. Presentación en bultos de 50 Kg. saco exterior de polipropileno y bolsa interior de polietileno sellada. | C9: =+C7 -> Kilogramo | D9: 4550 | E9: 4725 | F9: 4900 | G9: =+(D9+E9+F9)/3 -> 4725
A10: Herbicida graminicida (Galón/Ha) | B10: Concentrado soluble y gránulos dispersables; herbicida compuesto por un concentrado soluble de Picloram al 24%, más gránulos dispersables con un 60% de Metsulfuron metil; Liquido marrón oscuro; densidad (g/ml): 1.15-1.172; Ph: 7.5-9.5 | C10: Galon | D10: 110500 | E10: 114750 | F10: 119000 | G10: =+(D10+E10+F10)/3 -> 114750
A11: Insecticida Liquido | B11: Cipermitrina - Piretroide a base de Cipermetrina; concentración (p/p) 21.40% equivalente a 200 g/L; Formulación concentrado emulsionable; insecticida con acción de contacto e ingestión, con excelente efecto de derive y persistencia. Presentación en litro. Con registro ICA. | C11: Litro | D11: 50700 | E11: 52650 | F11: 54600 | G11: =+(D11+E11+F11)/3 -> 52650
A12: Insecticida Liquido | B12: Amulet - Cebo hormiguicida en pellets para control de hormiga arriera. Composición: Fipronil 0.003% y Atrayentes e Inertes 99.97%. Los pellets poseen la longitud y el diámetro ideal para ser transportados por las hormigas al interior del hormiguero. Con registro ICA. | C12: Litro | D12: 299000 | E12: 310500 | F12: 322000 | G12: =+(D12+E12+F12)/3 -> 310500
A13: Correctivo | B13: Cal dolomita - Polvo de color blanco/beige elaborado a partir de la pulverización de la roca dolomita; olor intensidad media, incombustible, no inflamable, no explosivo, humedad del 0.399%, PH 10%: 9.7 pH; granulometría malla 100-con un retenido en tamiz menor del 8%, tamaño de la partícula 150 micras; Composición química: Calcio Total (CaO) 35% y Magnesio Total (MgO) 16%. Presentación en bultos de 50 kilos. Con Registro ICA | C13: Bulto 50 Kg | D13: 36400 | E13: 37800 | F13: 39200 | G13: =+(D13+E13+F13)/3 -> 37800
A14: Correctivo | B14: Hidroretenedor (Debe ser con copolimero de acrilamida y crilato de potasio.- El hidro-retenedor debe presentar apariencia granular, tamaño de la partícula de (um) de 1.5 densidad aproximada a granel (GR/cm3) de 0.8 rango de PH ideal (59); absorción práctica (g/g) de 320; estabilidad del producto hidratado en el suelo (años) 2-4, tiempo para alcanzar 60% de capacidad de absorción (Min) 10. Unidades de empaque expresadas en kilogramos | C14: Kilogramo | D14: 49400 | E14: 51300 | F14: 53200 | G14: =+(D14+E14+F14)/3 -> 51300
A15: Fertilizante Quimico compuesto | B15: 10-30-10 - Fertilizante complejo compuesto, Nitrógeno 10%, Fósforo 30%, Potasio 10%, presentación bultos 50 kg, con registro ICA | C15: Kilogramo | D15: 4680 | E15: 4860 | F15: 5040 | G15: =+(D15+E15+F15)/3 -> 4860
A16: Fertilizante Quimico compuesto | B16: 17-06-18 - Fertilizante compuesto, Nitrógeno total 17%, Fósforo 6%, Potasio 18%, presentación bultos 50 kg, con registro ICA | C16: Kilogramo | D16: 4680 | E16: 4860 | F16: 5040 | G16: =+(D16+E16+F16)/3 -> 4860
A17: Pintura (Color Amarillo) | B17: Aceite - Esmalte sintético color amarillo, a base de aceite resistente al agua, con buena durabilidad, alto brillo y adherencia. Producto formulado sin plomo ni cromo. Presentación en galón | C17: Galon | D17: 233870 | E17: 242865 | F17: 251860 | G17: =+(D17+E17+F17)/3 -> 242865
A18: Disolvente | B18: Thinner: Liquido homogéneo, incoloro o amarillo; con ligero olor a petróleo; mezcla compleja de hidrocarburos, alcoholes; densidad 800kg/m3-0.8 g/m3; para diluir pintura en aceite. Presentación en galón | C18: Galon | D18: 47970 | E18: 49815 | F18: 51660 | G18: =+(D18+E18+F18)/3 -> 49815
A19: HERRAMIENTAS AGRICOLAS | J19: =SUM(D4:D18) -> 875680 | K19: =SUM(E4:E18) -> 909360 | L19: =SUM(F4:F18) -> 943040
A21: Lima | B21: Triangular 6" - El Producto deberá cumplir con la normatividad técnica establecida en la NTC 2114. Fabricado en acero 1090 (NTC 243). 6" (pulgadas de longitud) incluyendo el mango. Grosor de la hoja entre 6-6.5 mm. Forma triangular equilátera en paralelo. Mango plástico de color longitud entre 40-60 mm | C21: Unidad | D21: 11570 | E21: 12015 | F21: 12460 | G21: =+(D21+E21+F21)/3 -> 12015
A22: Machete | B22: Tres Canales 20" - El producto deberá cumplir con la Normatividad técnica establecida en la NTC 933. 20"(pulgadas de Longitud) 630-650 mm. Longitud de la hoja entre 500-510 mm. Ancho de la hoja al mango 70 - 75 mm. Espesor de la hoja aprox 2mm. Hoja en acero de alto carbono. Mango de color en polipropileno de textura suave | C22: Unidad | D22: 36270 | E22: 37665 | F22: 39060 | G22: =+(D22+E22+F22)/3 -> 37665
A23: Azadon | B23: Pachuno con Cabo - El producto deberá cumplir con la Normatividad técnica establecida en la NTC 1204. Dureza entre 45 y 50 Rockwell. Zona de Temple mínimo 60 mm desde el filo. 230 x 193 mm. Grosor de la hoja 2.5 - 3.0 mm. Diámetro del ojo de 40 -45 mm. Cabo en madera de 1.20 m | C23: Unidad | D23: 58370 | E23: 60615 | F23: 62860 | G23: =+(D23+E23+F23)/3 -> 60615
A24: Paladraga | B24: Con Mango - Acero alto carbono calibre 2 mm, dimensiones 355x139 mm, espesor 20 mm, longitud cabo 1575 mm | C24: Unidad | D24: 102960 | E24: 106920 | F24: 110880 | G24: =+(D24+E24+F24)/3 -> 106920
A25: Alambre | B25: Pua 12.5 x 350 Mts. - Rollo x 350 metros; calibre 12.5; alambre galvanizado, con púa entrelazada en la línea del alambre; resistencia a la rotura, puntas afiladas, apariencia brillante, torsión constante. | C25: Rollo | D25: 624000 | E25: 648000 | F25: 672000 | G25: =+(D25+E25+F25)/3 -> 648000
A26: Grapa | B26: Galvanizada 1 1/4" - Las grapas deben ser de acero con acabado Galvanizada 1 1/4", resistente a la corrosión, corrugadas con diseño en "U" para mayor fijación en alambres de púas. Presentación en cajas de un kilogramo. | C26: Kilo | D26: 11700 | E26: 12150 | F26: 12600 | G26: =+(D26+E26+F26)/3 -> 12150
A27: Barra Acero | B27: La barra de acero debe tener un peso de 14 Lbs, medidas 28 x 100 x 1300 mm; debe ser forjada en un solo cuerpo de acero con alto contenido de carbono y procesos de temple para garantizar una mayor durabilidad, resistencia al impacto, torsión y flexión. | C27: Unidad | D27: 246870 | E27: 256365 | F27: 265860 | G27: =+(D27+E27+F27)/3 -> 256365
A28: Martillo | B28: Martillo con cabeza de acero de 27 oz alto de carbono, resistente a impactos, mango tubular para trabajo pesado. | C28: Unidad | D28: 49270 | E28: 51165 | F28: 53060 | G28: =+(D28+E28+F28)/3 -> 51165
A29: Alicate | B29: Alicate tipo diablo, especial para trabajos que impliquen el manejo de alambre y también para sacar y cortar grapas en cercas y enrejados; debe ofrecer una cabeza gancho para sacar y sujetar grapas, corta-alambre y quijadas para tirar de alambres | C29: Unidad | D29: 49270 | E29: 51165 | F29: 53060 | G29: =+(D29+E29+F29)/3 -> 51165
A30: Brocha | B30: La brocha debe ser de 3'', punta verde, ideal para la aplicación de pintura de aceite. | C30: Unidad | D30: 16250 | E30: 16875 | F30: 17500 | G30: =+(D30+E30+F30)/3 -> 16875
A31: ELEMENTOS DE PROTECCION PERSONAL | J31: =SUM(D21:D30) -> 1206530 | K31: =SUM(E21:E30) -> 1252935 | L31: =SUM(F21:F30) -> 1299340
A32: Bota | B32: Caña Alta, color negro. Fabricada en PVC de alta calidad, muy ligera. Flexible incluso a bajas temperatura. Interior de textil. Caña recortable según las exigencias individuales. Suela con diseño especial antideslizante. No retiene la humedad. Altura de la caña: 38 cm aproximadamente. | C32: Par | D32: 97500 | E32: 101250 | F32: 105000 | G32: =+(D32+E32+F32)/3 -> 101250
A33: Guantes | B33: Refuerzos en palma y los dedos, en Carnaza, Vaqueta o Caucho SBR Costura con Hilo doble. Durables contra la abrasión. Los guantes de carnaza son resistentes a la abrasión y a las chispas de soldadura. Protegen las manos contra objetos ásperos y agudos que pueden penetrar. | C33: Par | D33: 23400 | E33: 24300 | F33: 25200 | G33: =+(D33+E33+F33)/3 -> 24300
A34: Guantes | B34: Nitrilo sin látex, longitud 13", resistencia química y desgarres, textura rugosa agarre antideslizante | C34: par | D34: 3900 | E34: 4050 | F34: 4200 | G34: =+(D34+E34+F34)/3 -> 4050
A35: Tapabocas | B35: Máscara de alta protección alcanzando 99%, con partículas de 0,1micrones. Fabricados en polipropileno no tejido de alta respetabilidad, resistente contra líquidos (anti fluidos). Talla: única. Condiciones de bodega: Humedad relativa máxima 70%. Temperatura máxima 30c°. | C35: Unidad | D35: 650 | E35: 675 | F35: 700 | G35: =+(D35+E35+F35)/3 -> 675
A36: Sombrero | B36: Sombrero tipo pava en tela, Utilizado para realizar labores a la intemperie y cuando se está expuesto al sol. | C36: Unidad | D36: 52000 | E36: 54000 | F36: 56000 | G36: =+(D36+E36+F36)/3 -> 54000
A37: Camiseta | B37: Camibuso tipo polo, manga Larga, 100% algodón, gramaje de 18 con logo institucional bordado. | C37: Unidad | D37: 84500 | E37: 87750 | F37: 91000 | G37: =+(D37+E37+F37)/3 -> 87750
A38: POSTERIA GENERAL | J38: =SUM(D32:D37) -> 261950 | K38: =SUM(E32:E37) -> 272025 | L38: =SUM(F32:F37) -> 282100
A40: Poste (Cualquier color) | B40: Postes Plásticos fabricados con Polietileno de Alta Densidad (HDPE), de 8x8 X 210 cm. Tienen que ser postes macizos sin huecos o imperfecciones de fábrica. | C40: Unidad | D40: 49400 | E40: 51300 | F40: 53200 | G40: =+(D40+E40+F40)/3 -> 51300
A41: Poste | B41: Postes de madera 10x10, escuadrilla de 2,20 Mts, su madera debe estar previamente inmunizada, ser macizos resistentes a la humedad y a cambios climáticos, sin pudriciones o imperfectos. Debe provenir de plantaciones forestales productoras. | C41: Unidad | D41: 45500 | E41: 47250 | F41: 49000 | G41: =+(D41+E41+F41)/3 -> 47250
A42: MATERIAL VEGETAL | J42: =+D40+D41 -> 94900 | K42: =+E40+E41 -> 98550 | L42: =+F40+F41 -> 102200
A43: ELEMENTO | C43: UNIDAD
A44: Plantula Frutal Limon | B44: Limón común Castilla o pajarito, bolsa 18x46 cm, altura 70 cm después de bolsa. Vivero con Registro ICA | C44: Unidad | D44: 19500 | E44: 20250 | F44: 21000 | G44: =+(D44+E44+F44)/3 -> 20250
A45: Plantula frutal cacao | B45: Cacao CCN-51 y FEAR 5 N1, bolsa 20x40 cm, altura 40-50 cm, adaptado de 200 a 400 m.s.n.m. Vivero con Registro ICA | C45: Unidad | D45: 2340 | E45: 2430 | F45: 2520 | G45: =+(D45+E45+F45)/3 -> 2430
A46: Plantulas de Platano | B46: Plátano Hartón, bolsa 14x20 cm, altura 15-20 cm, 5-6 hojas formadas, inoculado con microorganismos. Vivero con Registro ICA | C46: Unidad | D46: 3250 | E46: 3375 | F46: 3500 | G46: =+(D46+E46+F46)/3 -> 3375
A47: Semilla de maiz | B47: Semilla certificada para clima tropical seco, peso promedio de 1.000 semillas entre 303 a 390 gr, grano de color amarillo y cristalino, con medidas entre 86 a 95 mm y largo entre 108 a 120 mm. Con Registro ICA. | C47: Kilogramo | D47: 45500 | E47: 47250 | F47: 49000 | G47: =+(D47+E47+F47)/3 -> 47250
A48: Plantula de mango | B48: Mango Tommy, bolsa 17.5x40 cm. Vivero con Registro ICA | C48: Unidad | D48: 19500 | E48: 20250 | F48: 21000 | G48: =+(D48+E48+F48)/3 -> 20250 | J48: =SUM(D44:D48) -> 90090 | K48: =SUM(E44:E48) -> 93555 | L48: =SUM(F44:F48) -> 97020
D49: =SUM(D44:D48) -> 90090 | E49: =SUM(E44:E48) -> 93555 | F49: =SUM(F44:F48) -> 97020 | G49: =SUM(G44:G48) -> 93555
J51: =+J19+J31+J38+J42+J48 -> 2529150 | K51: =+K19+K31+K38+K42+K48 -> 2626425 | L51: =+L19+L31+L38+L42+L48 -> 2723700

Sheet DISTRIBUCCIÓN RESGUARDOS
E2: ORTEGA | G2: ORTEGA | I2: NATAGAIMA | K2: NATAGAIMA | M2: ORTEGA | O2: NATAGAIMA | Q2: TODOS LOS RESGUARDOS
A3: RESGUARDOS | E3: AGROF GUATAVITA TUA | G3: AGROF RECINTO PALMAROSA | I3: AGROF PASOANCHO | K3: AGROF GUALERAS | M3: RP PIJAO PALERMO | O3: MANT OLIRCO
A4: TIPO | B4: ELEMENTO | C4: UNIDAD | D4: Valor unitario | E4: CANTIDAD | F4: VALOR | G4: CANTIDAD | H4: VALOR | I4: CANTIDAD | J4: VALOR | K4: CANTIDAD | L4: VALOR | M4: CANTIDAD | N4: VALOR | O4: CANTIDAD | P4: VALOR | Q4: CANTIDAD TOTAL | R4: VALOR TOTAL
A5: INSUMOS AGROFORESTERÍA | B5: Plantulas frutales cacao +10% repos. | C5: Plantulas | D5: ='ESTUDIO DE MERCADO'!G45 -> 2430 | E5: 1221 | F5: =+D5*E5 -> 2967030 | G5: 1221 | H5: =+G5*D5 -> 2967030 | I5: 0 | J5: =+I5*D5 -> 0 | K5: 0 | L5: =+K5*D5 -> 0 | M5: 0 | N5: =+M5*D5 -> 0 | O5: 0 | P5: =+O5*D5 -> 0 | Q5: =+E5+G5+I5+K5+M5+O5 -> 2442 | R5: =+F5+H5+J5+L5+N5+P5 -> 5934060
B6: Plantulas de platano (colino) +10% repos. | C6: Plantulas | D6: ='ESTUDIO DE MERCADO'!G46 -> 3375 | E6: 1221 | F6: =+D6*E6 -> 4120875 | G6: 1221 | H6: =+G6*D6 -> 4120875 | I6: 0 | J6: =+I6*D6 -> 0 | K6: 0 | L6: =+K6*D6 -> 0 | M6: 0 | N6: =+M6*D6 -> 0 | O6: 0 | P6: =+O6*D6 -> 0 | Q6: =+E6+G6+I6+K6+M6+O6 -> 2442 | R6: =+F6+H6+J6+L6+N6+P6 -> 8241750
B7: Plantulas frutales (Limón común) +10% repos. | C7: Plantulas | D7: ='ESTUDIO DE MERCADO'!G44 -> 20250 | E7: 0 | F7: =+D7*E7 -> 0 | G7: 0 | H7: =+G7*D7 -> 0 | I7: 304 | J7: =+I7*D7 -> 6156000 | K7: 0 | L7: =+K7*D7 -> 0 | M7: 0 | N7: =+M7*D7 -> 0 | O7: 27 | P7: =+O7*D7 -> 546750 | Q7: =+E7+G7+I7+K7+M7+O7 -> 331 | R7: =+F7+H7+J7+L7+N7+P7 -> 6702750
B8: Plantulas frutales (Mango tommy) +10% repos. | C8: Plantulas | D8: ='ESTUDIO DE MERCADO'!G48 -> 20250 | E8: 0 | F8: =+D8*E8 -> 0 | G8: 0 | H8: =+G8*D8 -> 0 | I8: 0 | J8: =+I8*D8 -> 0 | K8: 200 | L8: =+K8*D8 -> 4050000 | M8: 0 | N8: =+M8*D8 -> 0 | O8: 0 | P8: =+O8*D8 -> 0 | Q8: =+E8+G8+I8+K8+M8+O8 -> 200 | R8: =+F8+H8+J8+L8+N8+P8 -> 4050000
B9: Semilla de Maiz | C9: Kilogramo | D9: ='ESTUDIO DE MERCADO'!G47 -> 47250 | E9: 0 | F9: =+D9*E9 -> 0 | G9: 0 | H9: =+G9*D9 -> 0 | I9: 5 | J9: =+I9*D9 -> 236250 | K9: 0 | L9: =+K9*D9 -> 0 | M9: 0 | N9: =+M9*D9 -> 0 | O9: 0 | P9: =+O9*D9 -> 0 | Q9: =+E9+G9+I9+K9+M9+O9 -> 5 | R9: =+F9+H9+J9+L9+N9+P9 -> 236250
B10: Fertilizante Quimico Compuesto (NPK Em) | C10: Kilogramo | D10: ='ESTUDIO DE MERCADO'!G6 -> 4590 | E10: 60 | F10: =+D10*E10 -> 275400 | G10: 60 | H10: =+G10*D10 -> 275400 | I10: 25 | J10: =+I10*D10 -> 114750 | K10: 14 | L10: =+K10*D10 -> 64260 | M10: 49 | N10: =+M10*D10 -> 224910 | O10: 5 | P10: =+O10*D10 -> 22950 | Q10: =+E10+G10+I10+K10+M10+O10 -> 213 | R10: =+F10+H10+J10+L10+N10+P10 -> 977670
B11: Urea | C11: Kilogramo | D11: ='ESTUDIO DE MERCADO'!G9 -> 4725 | E11: 8 | F11: =+D11*E11 -> 37800 | G11: 8 | H11: =+G11*D11 -> 37800 | I11: 34 | J11: =+I11*D11 -> 160650 | K11: =12*1.5 -> 18 | L11: =+K11*D11 -> 85050 | M11: 67 | N11: =+M11*D11 -> 316575 | O11: 0 | P11: =+O11*D11 -> 0 | Q11: =+E11+G11+I11+K11+M11+O11 -> 135 | R11: =+F11+H11+J11+L11+N11+P11 -> 637875
B12: Humus | C12: Kilogramo | D12: ='ESTUDIO DE MERCADO'!G4 -> 14850 | E12: 516 | F12: =+D12*E12 -> 7662600 | G12: 516 | H12: =+G12*D12 -> 7662600 | I12: 122 | J12: =+I12*D12 -> 1811700 | K12: =42*1.5 -> 63 | L12: =+K12*D12 -> 935550 | M12: 245 | N12: =+M12*D12 -> 3638250 | O12: 20 | P12: =+O12*D12 -> 297000 | Q12: =+E12+G12+I12+K12+M12+O12 -> 1482 | R12: =+F12+H12+J12+L12+N12+P12 -> 22007700
B13: Fertilizante compuesto (15-15-15) | C13: Kilogramo | D13: ='ESTUDIO DE MERCADO'!G5 -> 4320 | E13: 9 | F13: =+D13*E13 -> 38880 | G13: 9 | H13: =+G13*D13 -> 38880 | I13: 39 | J13: =+I13*D13 -> 168480 | K13: =14*1.5 -> 21 | L13: =+K13*D13 -> 90720 | M13: 78 | N13: =+M13*D13 -> 336960 | O13: 39 | P13: =+O13*D13 -> 168480 | Q13: =+E13+G13+I13+K13+M13+O13 -> 195 | R13: =+F13+H13+J13+L13+N13+P13 -> 842400
B14: fertilizante compuesto (10-30-10) | C14: Kilogramo | D14: ='ESTUDIO DE MERCADO'!G15 -> 4860 | E14: 222 | F14: =+D14*E14 -> 1078920 | G14: 222 | H14: =+G14*D14 -> 1078920 | I14: 0 | J14: =+I14*D14 -> 0 | K14: 0 | L14: =+K14*D14 -> 0 | M14: 0 | N14: =+M14*D14 -> 0 | O14: 0 | P14: =+O14*D14 -> 0 | Q14: =+E14+G14+I14+K14+M14+O14 -> 444 | R14: =+F14+H14+J14+L14+N14+P14 -> 2157840
B15: fertilizante compuesto (17-6-18) | C15: Kilogramo | D15: ='ESTUDIO DE MERCADO'!G16 -> 4860 | E15: 178 | F15: =+D15*E15 -> 865080 | G15: 178 | H15: =+G15*D15 -> 865080 | I15: 0 | J15: =+I15*D15 -> 0 | K15: 0 | L15: =+K15*D15 -> 0 | M15: 0 | N15: =+M15*D15 -> 0 | O15: 0 | P15: =+O15*D15 -> 0 | Q15: =+E15+G15+I15+K15+M15+O15 -> 356 | R15: =+F15+H15+J15+L15+N15+P15 -> 1730160
B16: Hidroretenedor | C16: Kilogramo | D16: ='ESTUDIO DE MERCADO'!G14 -> 51300 | E16: 5 | F16: =+D16*E16 -> 256500 | G16: 5 | H16: =+G16*D16 -> 256500 | I16: 2 | J16: =+I16*D16 -> 102600 | K16: 2 | L16: =+K16*D16 -> 102600 | M16: 4 | N16: =+M16*D16 -> 205200 | O16: 1 | P16: =+O16*D16 -> 51300 | Q16: =+E16+G16+I16+K16+M16+O16 -> 19 | R16: =+F16+H16+J16+L16+N16+P16 -> 974700
B17: Cipermetryna | C17: Litro | D17: ='ESTUDIO DE MERCADO'!G11 -> 52650 | E17: 1 | F17: =+D17*E17 -> 52650 | G17: 1 | H17: =+G17*D17 -> 52650 | I17: 1 | J17: =+I17*D17 -> 52650 | K17: 2 | L17: =+K17*D17 -> 105300 | M17: 1 | N17: =+M17*D17 -> 52650 | O17: 1 | P17: =+O17*D17 -> 52650 | Q17: =+E17+G17+I17+K17+M17+O17 -> 7 | R17: =+F17+H17+J17+L17+N17+P17 -> 368550
B18: Insecticida Liquido | C18: Litro 1000 Ml o Medio litro 500 Ml | D18: ='ESTUDIO DE MERCADO'!G12 -> 310500 | E18: 0.5 | F18: =+D18*E18 -> 155250 | G18: 0.5 | H18: =+G18*D18 -> 155250 | I18: 0.5 | J18: =+I18*D18 -> 155250 | K18: 1 | L18: =+K18*D18 -> 310500 | M18: 0.5 | N18: =+M18*D18 -> 155250 | O18: 0.5 | P18: =+O18*D18 -> 155250 | Q18: =+E18+G18+I18+K18+M18+O18 -> 3.5 | R18: =+F18+H18+J18+L18+N18+P18 -> 1086750
B19: Dap | C19: Kilogramo | D19: ='ESTUDIO DE MERCADO'!G8 -> 7425 | E19: 0 | F19: =+D19*E19 -> 0 | G19: 0 | H19: =+G19*D19 -> 0 | I19: 20 | J19: =+I19*D19 -> 148500 | K19: 0 | L19: =+K19*D19 -> 0 | M19: 0 | N19: =+M19*D19 -> 0 | O19: 0 | P19: =+O19*D19 -> 0 | Q19: =+E19+G19+I19+K19+M19+O19 -> 20 | R19: =+F19+H19+J19+L19+N19+P19 -> 148500
B20: Fertilizante Quimico Compuesto 18-18 18 | C20: Kilogramo | D20: ='ESTUDIO DE MERCADO'!G7 -> 4050 | E20: 0 | F20: =+D20*E20 -> 0 | G20: 0 | H20: =+G20*D20 -> 0 | I20: 50 | J20: =+I20*D20 -> 202500 | K20: 0 | L20: =+K20*D20 -> 0 | M20: 0 | N20: =+M20*D20 -> 0 | O20: 0 | P20: =+O20*D20 -> 0 | Q20: =+E20+G20+I20+K20+M20+O20 -> 50 | R20: =+F20+H20+J20+L20+N20+P20 -> 202500
B21: Caldolomita | C21: Bulto | D21: ='ESTUDIO DE MERCADO'!G13 -> 37800 | E21: 0 | F21: =+D21*E21 -> 0 | G21: 0 | H21: =+G21*D21 -> 0 | I21: 1 | J21: =+I21*D21 -> 37800 | K21: =1*1.5 -> 1.5 | L21: =+K21*D21 -> 56700 | M21: 1 | N21: =+M21*D21 -> 37800 | O21: 1 | P21: =+O21*D21 -> 37800 | Q21: =+E21+G21+I21+K21+M21+O21 -> 4.5 | R21: =+F21+H21+J21+L21+N21+P21 -> 170100
B22: Herbicida | C22: Galon | D22: ='ESTUDIO DE MERCADO'!G10 -> 114750 | E22: 0 | F22: =+D22*E22 -> 0 | G22: 0 | H22: =+G22*D22 -> 0 | I22: 1 | J22: =+I22*D22 -> 114750 | K22: 0 | L22: =+K22*D22 -> 0 | M22: 0 | N22: =+M22*D22 -> 0 | O22: 0 | P22: =+O22*D22 -> 0 | Q22: =+E22+G22+I22+K22+M22+O22 -> 1 | R22: =+F22+H22+J22+L22+N22+P22 -> 114750
F23: =SUM(F5:F22) -> 17510985 | H23: =SUM(H5:H22) -> 17510985 | J23: =SUM(J5:J22) -> 9461880 | L23: =SUM(L5:L22) -> 5800680 | N23: =SUM(N5:N22) -> 4967595 | P23: =SUM(P5:P22) -> 1332180 | Q23: =+E23+G23+I23+K23+M23+O23 -> 0 | R23: =SUM(R5:R22) -> 56584305 | T23: =+F23+H23+J23+L23+N23+P23 -> 56584305
A24: INSUMOS AISLAMIENTO | B24: Alambre de pua (Rollo) | C24: Rollo | D24: ='ESTUDIO DE MERCADO'!G25 -> 648000 | E24: 5 | F24: =+D24*E24 -> 3240000 | G24: 5 | H24: =+G24*D24 -> 3240000 | I24: 5 | J24: =+I24*D24 -> 3240000 | K24: 5 | L24: =+K24*D24 -> 3240000 | M24: 5 | N24: =+M24*D24 -> 3240000 | Q24: =(E24+G24+I24+K24+M24+O24)-7 -> 18 | R24: =Q24*D24 -> 11664000
B25: Postes plastico | C25: Poste | D25: ='ESTUDIO DE MERCADO'!G40 -> 51300 | E25: 160 | F25: =+D25*E25 -> 8208000 | G25: 160 | H25: =+G25*D25 -> 8208000 | I25: 160 | J25: =+I25*D25 -> 8208000 | K25: 160 | L25: =+K25*D25 -> 8208000 | M25: 160 | N25: =+M25*D25 -> 8208000 | Q25: =(E25+G25+I25+K25+M25+O25)-320 -> 480 | R25: =Q25*D25 -> 24624000
B26: Poste madera | C26: Poste | D26: ='ESTUDIO DE MERCADO'!G41 -> 47250 | E26: 14 | F26: =+D26*E26 -> 661500 | G26: 14 | H26: =+G26*D26 -> 661500 | I26: 14 | J26: =+I26*D26 -> 661500 | K26: 14 | L26: =+K26*D26 -> 661500 | M26: 14 | N26: =+M26*D26 -> 661500 | Q26: =(E26+G26+I26+K26+M26+O26)-26 -> 44 | R26: =Q26*D26 -> 2079000
B27: Grapa (Kgr.) | C27: Kg | D27: ='ESTUDIO DE MERCADO'!G26 -> 12150 | E27: 4 | F27: =+D27*E27 -> 48600 | G27: 4 | H27: =+G27*D27 -> 48600 | I27: 4 | J27: =+I27*D27 -> 48600 | K27: 4 | L27: =+K27*D27 -> 48600 | M27: 4 | N27: =+M27*D27 -> 48600 | Q27: =+E27+G27+I27+K27+M27+O27 -> 20 | R27: =+F27+H27+J27+L27+N27 -> 243000
B28: Pintura Aceite (Gal) | C28: Galon | D28: ='ESTUDIO DE MERCADO'!G17 -> 242865 | E28: 0.5 | F28: =+D28*E28 -> 121432.5 | G28: 0.5 | H28: =+G28*D28 -> 121432.5 | I28: 0.5 | J28: =+I28*D28 -> 121432.5 | K28: 0.5 | L28: =+K28*D28 -> 121432.5 | M28: 0.5 | N28: =+M28*D28 -> 121432.5 | Q28: =+E28+G28+I28+K28+M28+O28 -> 2.5 | R28: =+F28+H28+J28+L28+N28 -> 607162.5
B29: Thinner | C29: Galon | D29: ='ESTUDIO DE MERCADO'!G18 -> 49815 | E29: 0.5 | F29: =+D29*E29 -> 24907.5 | G29: 0.5 | H29: =+G29*D29 -> 24907.5 | I29: 0.5 | J29: =+I29*D29 -> 24907.5 | K29: 0.5 | L29: =+K29*D29 -> 24907.5 | M29: 0.5 | N29: =+M29*D29 -> 24907.5 | Q29: =+E29+G29+I29+K29+M29+O29 -> 2.5 | R29: =+F29+H29+J29+L29+N29 -> 124537.5
F30: =SUM(F24:F29) -> 12304440 | H30: =SUM(H24:H29) -> 12304440 | J30: =SUM(J24:J29) -> 12304440 | L30: =SUM(L24:L29) -> 12304440 | N30: =SUM(N24:N29) -> 12304440 | Q30: =+E30+G30+I30+K30+M30+O30 -> 0 | R30: =SUM(R24:R29) -> 39341700
A31: HERRAMIENTAS ESTABLECIMIENTO Y AISLAMIENTO | B31: Lima Triangular 6" | C31: Unidad | D31: ='ESTUDIO DE MERCADO'!G21 -> 12015 | E31: 1 | F31: =D31*E31 -> 12015 | G31: 1 | H31: =F31*G31 -> 12015 | I31: 1 | J31: =+I31*D31 -> 12015 | K31: 1 | L31: =+K31*D31 -> 12015 | M31: 1 | N31: =+M31*D31 -> 12015 | O31: 1 | P31: =+O31*D31 -> 12015 | Q31: =+E31+G31+I31+K31+M31+O31 -> 6 | R31: =+F31+H31+J31+L31+N31+P31 -> 72090
B32: Machete Tres Canales 20" | C32: Unidad | D32: ='ESTUDIO DE MERCADO'!G22 -> 37665 | E32: 1 | F32: =D32*E32 -> 37665 | G32: 1 | H32: =F32*G32 -> 37665 | I32: 1 | J32: =+I32*D32 -> 37665 | K32: 1 | L32: =+K32*D32 -> 37665 | M32: 1 | N32: =+M32*D32 -> 37665 | O32: 1 | P32: =+O32*D32 -> 37665 | Q32: =+E32+G32+I32+K32+M32+O32 -> 6 | R32: =+F32+H32+J32+L32+N32+P32 -> 225990
B33: Azadón Pachuno Con Cabo | C33: Unidad | D33: ='ESTUDIO DE MERCADO'!G23 -> 60615 | E33: 1 | F33: =D33*E33 -> 60615 | G33: 1 | H33: =F33*G33 -> 60615 | I33: 1 | J33: =+I33*D33 -> 60615 | K33: 1 | L33: =+K33*D33 -> 60615 | M33: 1 | N33: =+M33*D33 -> 60615 | O33: 1 | P33: =+O33*D33 -> 60615 | Q33: =+E33+G33+I33+K33+M33+O33 -> 6 | R33: =+F33+H33+J33+L33+N33+P33 -> 363690
B34: Paladraga | C34: Unidad | D34: ='ESTUDIO DE MERCADO'!G24 -> 106920 | E34: 1 | F34: =D34*E34 -> 106920 | G34: 1 | H34: =F34*G34 -> 106920 | I34: 1 | J34: =+I34*D34 -> 106920 | K34: 1 | L34: =+K34*D34 -> 106920 | M34: 1 | N34: =+M34*D34 -> 106920 | O34: 1 | P34: =+O34*D34 -> 106920 | Q34: =+E34+G34+I34+K34+M34+O34 -> 6 | R34: =+F34+H34+J34+L34+N34+P34 -> 641520
B35: Barra de Acero | C35: Unidad | D35: ='ESTUDIO DE MERCADO'!G27 -> 256365 | E35: 1 | F35: =D35*E35 -> 256365 | G35: 1 | H35: =F35*G35 -> 256365 | I35: 1 | J35: =+I35*D35 -> 256365 | K35: 1 | L35: =+K35*D35 -> 256365 | M35: 1 | N35: =+M35*D35 -> 256365 | O35: 0 | P35: =+O35*D35 -> 0 | Q35: =+E35+G35+I35+K35+M35+O35 -> 5 | R35: =+F35+H35+J35+L35+N35+P35 -> 1281825
B36: Martillo | C36: Unidad | D36: ='ESTUDIO DE MERCADO'!G28 -> 51165 | E36: 1 | F36: =D36*E36 -> 51165 | G36: 1 | H36: =F36*G36 -> 51165 | I36: 1 | J36: =+I36*D36 -> 51165 | K36: 1 | L36: =+K36*D36 -> 51165 | M36: 1 | N36: =+M36*D36 -> 51165 | O36: 0 | P36: =+O36*D36 -> 0 | Q36: =+E36+G36+I36+K36+M36+O36 -> 5 | R36: =+F36+H36+J36+L36+N36+P36 -> 255825
B37: Alicate | C37: Unidad | D37: ='ESTUDIO DE MERCADO'!G29 -> 51165 | E37: 1 | F37: =D37*E37 -> 51165 | G37: 1 | H37: =F37*G37 -> 51165 | I37: 1 | J37: =+I37*D37 -> 51165 | K37: 1 | L37: =+K37*D37 -> 51165 | M37: 1 | N37: =+M37*D37 -> 51165 | O37: 0 | P37: =+O37*D37 -> 0 | Q37: =+E37+G37+I37+K37+M37+O37 -> 5 | R37: =+F37+H37+J37+L37+N37+P37 -> 255825
B38: Brocha | C38: Unidad | D38: ='ESTUDIO DE MERCADO'!G30 -> 16875 | E38: 1 | F38: =D38*E38 -> 16875 | G38: 1 | H38: =F38*G38 -> 16875 | I38: 1 | J38: =+I38*D38 -> 16875 | K38: 1 | L38: =+K38*D38 -> 16875 | M38: 1 | N38: =+M38*D38 -> 16875 | O38: 0 | P38: =+O38*D38 -> 0 | Q38: =+E38+G38+I38+K38+M38+O38 -> 5 | R38: =+F38+H38+J38+L38+N38+P38 -> 84375
F39: =SUM(F31:F38) -> 592785 | H39: =SUM(H31:H38) -> 592785 | J39: =SUM(J31:J38) -> 592785 | L39: =SUM(L31:L38) -> 592785 | N39: =SUM(N31:N38) -> 592785 | P39: =SUM(P31:P38) -> 217215 | Q39: =+E39+G39+I39+K39+M39+O39 -> 0 | R39: =SUM(R31:R38) -> 3181140
A40: ELEMENTOS DE PROTECCION ESTABLECIMIENTO Y AISLAMIENTO | B40: Botas De Caucho Caña Alta | C40: Unidad | D40: ='ESTUDIO DE MERCADO'!G32 -> 101250 | E40: 2 | F40: =+D40*E40 -> 202500 | G40: 2 | H40: =+G40*D40 -> 202500 | I40: 2 | J40: =+I40*D40 -> 202500 | K40: 2 | L40: =+K40*D40 -> 202500 | M40: 2 | N40: =+M40*D40 -> 202500 | O40: 1 | P40: =+O40*D40 -> 101250 | Q40: =+E40+G40+I40+K40+M40+O40 -> 11 | R40: =+F40+H40+J40+L40+N40+P40 -> 1113750
B41: Guantes De Carnaza | C41: Unidad | D41: ='ESTUDIO DE MERCADO'!G33 -> 24300 | E41: 2 | F41: =+D41*E41 -> 48600 | G41: 2 | H41: =+G41*D41 -> 48600 | I41: 2 | J41: =+I41*D41 -> 48600 | K41: 2 | L41: =+K41*D41 -> 48600 | M41: 2 | N41: =+M41*D41 -> 48600 | O41: 1 | P41: =+O41*D41 -> 24300 | Q41: =+E41+G41+I41+K41+M41+O41 -> 11 | R41: =+F41+H41+J41+L41+N41+P41 -> 267300
B42: Guantes De Nitrilo | C42: Unidad | D42: ='ESTUDIO DE MERCADO'!G34 -> 4050 | E42: 2 | F42: =+D42*E42 -> 8100 | G42: 2 | H42: =+G42*D42 -> 8100 | I42: 2 | J42: =+I42*D42 -> 8100 | K42: 2 | L42: =+K42*D42 -> 8100 | M42: 2 | N42: =+M42*D42 -> 8100 | O42: 1 | P42: =+O42*D42 -> 4050 | Q42: =+E42+G42+I42+K42+M42+O42 -> 11 | R42: =+F42+H42+J42+L42+N42+P42 -> 44550
B43: Tapabocas Desechable | C43: Unidad | D43: ='ESTUDIO DE MERCADO'!G35 -> 675 | E43: 4 | F43: =+D43*E43 -> 2700 | G43: 4 | H43: =+G43*D43 -> 2700 | I43: 4 | J43: =+I43*D43 -> 2700 | K43: 4 | L43: =+K43*D43 -> 2700 | M43: 4 | N43: =+M43*D43 -> 2700 | O43: 2 | P43: =+O43*D43 -> 1350 | Q43: =+E43+G43+I43+K43+M43+O43 -> 22 | R43: =+F43+H43+J43+L43+N43+P43 -> 14850
B44: Sombrero Tipo Pava | C44: Unidad | D44: ='ESTUDIO DE MERCADO'!G36 -> 54000 | E44: 2 | F44: =+D44*E44 -> 108000 | G44: 2 | H44: =+G44*D44 -> 108000 | I44: 2 | J44: =+I44*D44 -> 108000 | K44: 2 | L44: =+K44*D44 -> 108000 | M44: 2 | N44: =+M44*D44 -> 108000 | O44: 1 | P44: =+O44*D44 -> 54000 | Q44: =+E44+G44+I44+K44+M44+O44 -> 11 | R44: =+F44+H44+J44+L44+N44+P44 -> 594000
B45: Camiseta Manga Larga | C45: Unidad | D45: ='ESTUDIO DE MERCADO'!G37 -> 87750 | E45: 2 | F45: =+D45*E45 -> 175500 | G45: 2 | H45: =+G45*D45 -> 175500 | I45: 2 | J45: =+I45*D45 -> 175500 | K45: 2 | L45: =+K45*D45 -> 175500 | M45: 2 | N45: =+M45*D45 -> 175500 | O45: 1 | P45: =+O45*D45 -> 87750 | Q45: =+E45+G45+I45+K45+M45+O45 -> 11 | R45: =+F45+H45+J45+L45+N45+P45 -> 965250
F46: =SUM(F40:F45) -> 545400 | H46: =SUM(H40:H45) -> 545400 | J46: =SUM(J40:J45) -> 545400 | L46: =SUM(L40:L45) -> 545400 | N46: =SUM(N40:N45) -> 545400 | P46: =SUM(P40:P45) -> 272700 | Q46: =+E46+G46+I46+K46+M46+O46 -> 0 | R46: =SUM(R40:R45) -> 2999700
Q47: GRAN TOTAL | R47: =R23+R30+R39+R46 -> 102106845
Q50: CDP | R50: 102107750
R53: =+R50-R47 -> 905

Sheet Hoja1
A1: ITEM | B1: PRODUCTO | C1: CARACTERISTICAS | D1: PRESENTACIÓN | E1: CANTID. | F1: VALOR TOTAL
A2: 1 | B2: Cacao CCN-51 y FEAR 5 N1, bolsa 20x40 cm, altura 40-50 cm, adaptado de 200 a 400 m.s.n.m | C2: Plántulas de cacao | D2: Plántulas | E2: 2442 | F2: 5934060
A3: 2 | B3: Plátano Hartón, bolsa 14x20 cm, altura 15-20 cm, 5-6 hojas formadas, inoculado con microorganismos | C3: Colinos de plátano | D3: Plántulas | E3: 2442 | F3: 8241750
A4: 3 | B4: Limón común Castilla o pajarito, bolsa 18x46 cm, altura 70 cm después de bolsa | C4: Plántulas de limón | D4: Plántulas | E4: 331 | F4: 6702750
A5: 4 | B5: Mango Tommy, bolsa 17.5x40 cm | C5: Plántulas de mango | D5: Plántulas | E5: 200 | F5: 4050000
A6: 5 | B6: Semilla certificada para clima tropical seco, peso promedio de 1.000 semillas entre 303 a 390 gr, grano de color amarillo y cristalino, con medidas entre 86 a 95 mm y largo entre 108 a 120 mm. Con Registro ICA. | C6: Semilla de maíz | D6: Kilogramo | E6: 5 | F6: 236250
A7: 6 | B7: Solido granulado color pardo y blanco. Con etiquetado en cada bulto del contenido nutricional: Nitrógeno total 8% (Nitrógeno Amoniacal 1%, Nitrógeno Ureico 7%); Fosforo asimilable (P2O5 5%); Calcio (CaO 18%); Magnesio (MgO 6%); Azufre total (S 1.6%); Boro (B 1%); Cobre (Cu 0.14%); Molibdeno (Mo 0.005%); Zinc (Zn 2.5%). En presentación de bultos de 46 Kg. Con Registro ICA | C7: Fertilizante Agrimins | D7: Kilogramo | E7: 213 | F7: 977670
A8: 7 | B8: Gránulos de color blanco, que contiene 46% de Nitrógeno. Con REGISTRO ICA. Presentación en bultos de 50 Kg. saco exterior de polipropileno y bolsa interior de polietileno sellada. | C8: Fertilizante Simple (Urea) | D8: Kilogramo | E8: 135 | F8: 637875
A9: 8 | B9: Humus solido de lombriz proveniente de la degradación y digestión de residuos orgánicos por medio de Lombriz Roja Californiana. Polvo granular color café oscuro con olor característico a tierra húmeda, ausente de olores pestilentes. Con etiqueta que describa las características fisicoquímicas y nutricionales del humus en cada bulto. Con Registro ICA. Presentación bultos de 50 kilos. | C9: Lombriabono | D9: Kilogramo | E9: 1482 | F9: 22007700
A10: 9 | B10: Fertilizante compuesto 15-15-15, granulado color beige, ph 5.5-6.0, presentación bultos 50 kg, con registro ICA. | C10: Fertilizante Triple 15 | D10: Kilogramo | E10: 195 | F10: 842400
A11: 10 | B11: Fertilizante complejo compuesto, Nitrógeno 10%, Fósforo 30%, Potasio 10%, presentación bultos 50 kg, con registro ICA. | C11: Fertilizante 10-30-10 | D11: Kilogramo | E11: 444 | F11: 2157840
A12: 11 | B12: Fertilizante compuesto, Nitrógeno total 17%, Fósforo 6%, Potasio 18%, presentación bultos 50 kg, con registro ICA. | C12: Fertilizante 17-6-18 | D12: Kilogramo | E12: 356 | F12: 1730160
A13: 12 | B13: El hidro-retenedor debe presentar apariencia granular, tamaño de la partícula de (um) de 1.5 densidad aproximada a granel (GR/cm3) de 0.8 rango de PH ideal (59); absorción práctica (g/g) de 320; estabilidad del producto hidratado en el suelo (años) 2-4, tiempo para alcanzar 60% de capacidad de absorción (Min) 10. Unidades de empaque expresadas en kilogramos. | C13: Hidroretenedor | D13: Kilogramo | E13: 19 | F13: 974700
... A39: 38 | B39: Camiseta con mangas largas en algodón ideal para proteger de los rayos solares, picaduras entre otros. | C39: Camiseta manga larga | D39: Unidad | E39: 11 | F39: 965250
B40: TOTAL | F40: =SUM(F2:F39) -> 102106845
