Workbook
Name IVA: #REF!
Name IVA: #REF!
Name PRUEBA: #REF!
Name TRM: #REF!
Name TRM: #REF!

Sheet I. ITEMS GRUPO-CATEG MUNICIPIOS
A3: FORMATO ECONÓMICO
B8: OFERTA INICIAL | Q8: OFERTA DESPUÉS DE DESCUENTO
A9: DESCRIPCIÓN | B9: CANTIDAD | C9: CANTIDAD | D9: MUNICIPIOS GRUPO 1 (CATEGORÍA 0 Ó ESPECIAL, 1, 2 Y 3) | J9: MUNICIPIOS GRUPO 2 (CATEGORÍA 0 Ó ESPECIAL, 4,5,6) | Q9: CANTIDAD | R9: CANTIDAD
D10: En vereda, inspección o corregimiento Valor Techo | E10: Valor Propuesta | F10: En casco urbano de municipio no capital Valor Techo | G10: Valor Propuesta | H10: En zona urbana de ciudad capital Valor Techo | I10: Valor Propuesta | J10: En vereda, inspección o corregimiento Valor Techo | K10: Valor Propuesta | L10: En casco urbano de municipio no capital Valor Techo | M10: Valor Propuesta | N10: En zona urbana de ciudad capital Valor Techo | O10: Valor Propuesta | S10: En vereda, inspección o corregimiento Valor Techo | T10: En casco urbano de municipio no capital Valor Techo | U10: En zona urbana de ciudad capital Valor Techo | V10: En vereda, inspección o corregimiento Valor Techo | W10: En casco urbano de municipio no capital Valor Techo | X10: En zona urbana de ciudad capital Valor Techo
A15: CAPSULA INFORMATIVA EN EMISORA COMERCIAL DE CUBRIMIENTO ZONAL RESTRINGIDO: (Resolución 2614 de 2022 de Mintic) que cubran los programas líderes en horarios 6 am a 8 am. Incluye solo la emisión (La UBPD proporciona la pieza radiofónica para su difusión). DURACIÓN: 30 SEGUNDOS. | B15: 1 cápsula | C15: 1 cápsula | D15: 189996 | E15: 178500 | F15: 150905 | G15: 142800 | H15: 4651795 | I15: 1999200 | J15: 562707 | K15: 178500 | L15: 226718 | M15: 142800 | N15: 4481252 | O15: 1999200 | Q15: =B15 -> 1 cápsula | R15: =C15 -> 1 cápsula | S15: =E15*12.5% -> 22312.5 | T15: =G15*12.5% -> 17850 | U15: =I15*12.5% -> 249900 | V15: =K15*12.5% -> 22312.5 | W15: =M15*12.5% -> 17850 | X15: =O15*12.5% -> 249900
A16: CAPSULA INFORMATIVA EN EMISORA COMERCIAL DE CUBRIMIENTO ZONAL RESTRINGIDO: (Resolución 2614 de 2022 de Mintic) que cubran los programas líderes en horarios 6 am a 8 am. Incluye solo la emisión (La UBPD proporciona la pieza radiofónica para su difusión). DURACIÓN: 1 MINUTO. | B16: 1 cápsula | C16: 1 cápsula | D16: 375507 | E16: 287980 | F16: 308316 | G16: 287980 | H16: 9303871 | I16: 4403000 | J16: 743089 | K16: 357000 | L16: 467928 | M16: 357000 | N16: 2488926 | O16: 833000 | Q16: =B16 -> 1 cápsula | R16: =C16 -> 1 cápsula | S16: =E16*12.5% -> 35997.5 | T16: =G16*12.5% -> 35997.5 | U16: =I16*12.5% -> 550375 | V16: =K16*12.5% -> 44625 | W16: =M16*12.5% -> 44625 | X16: =O16*12.5% -> 104125
A17: CAPSULA INFORMATIVA EN EMISORA COMERCIAL DE CUBRIMIENTO ZONAL RESTRINGIDO: (Resolución 2614 de 2022 de Mintic) que cubran los programas líderes en horarios 6 am a 8 am. Incluye solo la emisión (La UBPD proporciona la pieza radiofónica para su difusión). DURACIÓN: 5 MINUTOS. | B17: 1 cápsula | C17: 1 cápsula | D17: 1726659 | E17: 1190000 | F17: 1362313 | G17: 1190000 | H17: 42834787 | I17: 6902000 | J17: 5223710 | K17: 1190000 | L17: 2089937 | M17: 1190000 | N17: 30930132 | O17: 3927000 | Q17: =B17 -> 1 cápsula | R17: =C17 -> 1 cápsula | S17: =E17*12.5% -> 148750 | T17: =G17*12.5% -> 148750 | U17: =I17*12.5% -> 862750 | V17: =K17*12.5% -> 148750 | W17: =M17*12.5% -> 148750 | X17: =O17*12.5% -> 490875
A18: CAPSULA INFORMATIVA EN EMISORA COMUNITARIA DE CUBRIMIENTO LOCAL RESTRINGIDO: (Resolución 2614 de 2022 de Mintic) que cubran los programas líderes en horarios 6 am a 8 am. Incluye solo la emisión (La UBPD proporciona la pieza radiofónica para su difusión). DURACIÓN: 30 SEGUNDOS. | B18: 1 cápsula | C18: 1 cápsula | D18: 266373 | E18: 199920 | F18: 498529 | G18: 199920 | H18: 868375 | I18: 297500 | J18: 245181 | K18: 199920 | L18: 509721 | M18: 199920 | N18: 847246 | O18: 199920 | Q18: =B18 -> 1 cápsula | R18: =C18 -> 1 cápsula | S18: =E18*12.5% -> 24990 | T18: =G18*12.5% -> 24990 | U18: =I18*12.5% -> 37187.5 | V18: =K18*12.5% -> 24990 | W18: =M18*12.5% -> 24990 | X18: =O18*12.5% -> 24990
A19: CAPSULA INFORMATIVA EN EMISORA COMUNITARIA DE CUBRIMIENTO LOCAL RESTRINGIDO: (Resolución 2614 de 2022 de Mintic) que cubran los programas líderes en horarios 6 am a 8 am. Incluye solo la emisión (La UBPD proporciona la pieza radiofónica para su difusión). DURACIÓN: 1 MINUTO. | B19: 1 cápsula | C19: 1 cápsula | D19: 546325 | E19: 357000 | F19: 1036347 | G19: 357000 | H19: 1756580 | I19: 357000 | J19: 573673 | K19: 357000 | L19: 1039040 | M19: 357000 | N19: 1684685 | O19: 357000 | Q19: =B19 -> 1 cápsula | R19: =C19 -> 1 cápsula | S19: =E19*12.5% -> 44625 | T19: =G19*12.5% -> 44625 | U19: =I19*12.5% -> 44625 | V19: =K19*12.5% -> 44625 | W19: =M19*12.5% -> 44625 | X19: =O19*12.5% -> 44625
A20: CAPSULA INFORMATIVA EN EMISORA COMUNITARIA DE CUBRIMIENTO LOCAL RESTRINGIDO: (Resolución 2614 de 2022 de Mintic) que cubran los programas líderes en horarios 6 am a 8 am. Incluye solo la emisión (La UBPD proporciona la pieza radiofónica para su difusión). DURACIÓN: 5 MINUTOS. | B20: 1 cápsula | C20: 1 cápsula | D20: 2851445 | E20: 1190000 | F20: 5274133 | G20: 1190000 | H20: 9186720 | I20: 4998000 | J20: 4582577 | K20: 1190000 | L20: 6785675 | M20: 1190000 | N20: 8175621 | O20: 1190000 | Q20: =B20 -> 1 cápsula | R20: =C20 -> 1 cápsula | S20: =E20*12.5% -> 148750 | T20: =G20*12.5% -> 148750 | U20: =I20*12.5% -> 624750 | V20: =K20*12.5% -> 148750 | W20: =M20*12.5% -> 148750 | X20: =O20*12.5% -> 148750
A21: CAPSULA INFORMATIVA EN EMISORA COMUNITARIA INDÍGENA DE CUBRIMIENTO LOCAL RESTRINGIDO:(Resolución 2614 de 2022 de Mintic) que cubran los programas líderes en horarios 6 am a 8 am. Incluye solo la emisión (La UBPD proporciona la pieza radiofónica para su difusión). DURACIÓN: 30 SEGUNDOS. | B21: 1 cápsula | C21: 1 cápsula | D21: 38745 | E21: 36890 | F21: 36559 | G21: 34510 | H21: 53754 | I21: 49980 | J21: 53417 | K21: 49980 | L21: 57542 | M21: 49980 | N21: 50267 | O21: 49980 | Q21: =B21 -> 1 cápsula | R21: =C21 -> 1 cápsula | S21: =E21*12.5% -> 4611.25 | T21: =G21*12.5% -> 4313.75 | U21: =I21*12.5% -> 6247.5 | V21: =K21*12.5% -> 6247.5 | W21: =M21*12.5% -> 6247.5 | X21: =O21*12.5% -> 6247.5
A22: CAPSULA INFORMATIVA EN EMISORA COMUNITARIA INDÍGENA DE CUBRIMIENTO LOCAL RESTRINGIDO:(Resolución 2614 de 2022 de Mintic) que cubran los programas líderes en horarios 6 am a 8 am. Incluye solo la emisión (La UBPD proporciona la pieza radiofónica para su difusión). DURACIÓN: 1 MINUTO. | B22: 1 cápsula | C22: 1 cápsula | D22: 68860 | E22: 50000 | F22: 89364 | G22: 50000 | H22: 107507 | I22: 50000 | J22: 106275 | K22: 50000 | L22: 114481 | M22: 50000 | N22: 100009 | O22: 50000 | Q22: =B22 -> 1 cápsula | R22: =C22 -> 1 cápsula | S22: =E22*12.5% -> 6250 | T22: =G22*12.5% -> 6250 | U22: =I22*12.5% -> 6250 | V22: =K22*12.5% -> 6250 | W22: =M22*12.5% -> 6250 | X22: =O22*12.5% -> 6250
A23: CAPSULA INFORMATIVA EN EMISORA COMUNITARIA INDÍGENA DE CUBRIMIENTO LOCAL RESTRINGIDO:(Resolución 2614 de 2022 de Mintic) que cubran los programas líderes en horarios 6 am a 8 am. Incluye solo la emisión (La UBPD proporciona la pieza radiofónica para su difusión). DURACIÓN: 5 MINUTOS. | B23: 1 cápsula | C23: 1 cápsula | D23: 192837 | E23: 180000 | F23: 203901 | G23: 190000 | H23: 248365 | I23: 200000 | J23: 242438 | K23: 200000 | L23: 261159 | M23: 200000 | N23: 228143 | O23: 214454 | Q23: =B23 -> 1 cápsula | R23: =C23 -> 1 cápsula | S23: =E23*12.5% -> 22500 | T23: =G23*12.5% -> 23750 | U23: =I23*12.5% -> 25000 | V23: =K23*12.5% -> 25000 | W23: =M23*12.5% -> 25000 | X23: =O23*12.5% -> 26806.75
A24: CAPSULA INFORMATIVA EN EMISORA COMERCIAL DE CUBRIMIENTO ZONAL RESTRINGIDO: (Resolución 2614 de 2022 de Mintic) que cubran los programas líderes en horarios 6 am a 8 am. Incluye producción de la pieza radiofonica y entrega de la misma en formatos: Wav y/o Mp3 y/o AiFF. DURACIÓN: 30 SEGUNDOS. | B24: 1 cápsula | C24: 1 cápsula | D24: 1317327 | E24: 1238287 | F24: 1289879 | G24: 1212486 | H24: 8354770 | I24: 7000000 | J24: 1565627 | K24: 1471689 | L24: 1302323 | M24: 1224184 | N24: 4448249 | O24: 4181354 | Q24: =B24 -> 1 cápsula | R24: =C24 -> 1 cápsula | S24: =E24*12.5% -> 154785.88 | T24: =G24*12.5% -> 151560.75 | U24: =I24*12.5% -> 875000 | V24: =K24*12.5% -> 183961.12 | W24: =M24*12.5% -> 153023 | X24: =O24*12.5% -> 522669.25
A25: CAPSULA INFORMATIVA EN EMISORA COMERCIAL DE CUBRIMIENTO ZONAL RESTRINGIDO: (Resolución 2614 de 2022 de Mintic) que cubran los programas líderes en horarios 6 am a 8 am. Incluye producción de la pieza radiofonica y entrega de la misma en formatos: Wav y/o Mp3 y/o AiFF.. DURACIÓN: 1 MINUTO. | B25: 1 cápsula | C25: 1 cápsula | D25: 2064410 | E25: 1900000 | F25: 2018063 | G25: 1800000 | H25: 16006578 | I25: 4000000 | J25: 2434280 | K25: 1900000 | L25: 2046793 | M25: 1800000 | N25: 7336528 | O25: 4000000 | Q25: =B25 -> 1 cápsula | R25: =C25 -> 1 cápsula | S25: =E25*12.5% -> 237500 | T25: =G25*12.5% -> 225000 | U25: =I25*12.5% -> 500000 | V25: =K25*12.5% -> 237500 | W25: =M25*12.5% -> 225000 | X25: =O25*12.5% -> 500000
A26: CAPSULA INFORMATIVA EN EMISORA COMERCIAL DE CUBRIMIENTO ZONAL RESTRINGIDO: (Resolución 2614 de 2022 de Mintic) que cubran los programas líderes en horarios 6 am a 8 am. Incluye producción de la pieza radiofonica y entrega de la misma en formatos: Wav y/o Mp3 y/o AiFF. DURACIÓN: 5 MINUTOS. | B26: 1 cápsula | C26: 1 cápsula | D26: 6755498 | E26: 3927000 | F26: 6624445 | G26: 3927000 | H26: 71583594 | I26: 6000000 | J26: 7802145 | K26: 3927000 | L26: 6711435 | M26: 3927000 | N26: 21561988 | O26: 3927000 | Q26: =B26 -> 1 cápsula | R26: =C26 -> 1 cápsula | S26: =E26*12.5% -> 490875 | T26: =G26*12.5% -> 490875 | U26: =I26*12.5% -> 750000 | V26: =K26*12.5% -> 490875 | W26: =M26*12.5% -> 490875 | X26: =O26*12.5% -> 490875
... A54: Rompetrafico. 60cm x 148cm. En acrilico, 4x4 tintas (doble cara), la estructura debe ser rigida en metal resistente con pintura electroestatica (ideal para exteriores) sus superficies son perpendiculares, formando un angulo recto entre su base y el soporte grafico. incluye producción y entrega en el sitio donde se requiera. Además incluye arrendamiento del espacio por tres meses. | B54: 1 rompetráfico por tres meses | C54: 1 rompetráfico | D54: 29922597 | E54: 16040000 | F54: 23827383 | G54: 19040000 | H54: 39655151 | I54: 32130000 | J54: 21684050 | K54: 11420000 | L54: 15276311 | M54: 14518000 | N54: 30010894 | O54: 19040000 | Q54: =B54 -> 1 rompetráfico por tres meses | R54: =C54 -> 1 rompetráfico | S54: =E54*12.5% -> 2005000 | T54: =G54*12.5% -> 2380000 | U54: =I54*12.5% -> 4016250 | V54: =K54*12.5% -> 1427500 | W54: =M54*12.5% -> 1814750 | X54: =O54*12.5% -> 2380000
A55: Bastidor en centro comercial o terminal de transporte o zona pública permitida. Formato tabloide mediano y grande, 4x0 tintas. Incluye producción e instalación en el sitio donde se requiera. | C55: 1 bastidor | D55: 12833236 | E55: 3570000 | F55: 14011527 | G55: 3570000 | H55: 16635885 | I55: 4570000 | J55: 11005993 | K55: 3570000 | L55: 10321917 | M55: 3570000 | N55: 13854985 | O55: 3570000 | Q55: =B55 -> 0 | R55: =C55 -> 1 bastidor | S55: =E55*12.5% -> 446250 | T55: =G55*12.5% -> 446250 | U55: =I55*12.5% -> 571250 | V55: =K55*12.5% -> 446250 | W55: =M55*12.5% -> 446250 | X55: =O55*12.5% -> 446250
A56: Bastidor en centro comercial o terminal de transporte o zona pública permitida. Formato tabloide mediano y grande, 4x0 tintas. Incluye producción e instalación en el sitio donde se requiera. Además incluye arrendamiento del espacio por una semana. | B56: 1 bastidor por una semana | C56: 1 bastidor por una semana | D56: 11102843 | E56: 9282000 | F56: 12028439 | G56: 9282000 | H56: 14981594 | I56: 14875000 | J56: 10731767 | K56: 9282000 | L56: 9750953 | M56: 9282000 | N56: 13538343 | O56: 9282000 | Q56: =B56 -> 1 bastidor por una semana | R56: =C56 -> 1 bastidor por una semana | S56: =E56*12.5% -> 1160250 | T56: =G56*12.5% -> 1160250 | U56: =I56*12.5% -> 1859375 | V56: =K56*12.5% -> 1160250 | W56: =M56*12.5% -> 1160250 | X56: =O56*12.5% -> 1160250
A57: Vinilo adhesivo, altura 3.30 mts por 6 mts de ancho con forma troquelada para escaleras vista lateral Terminal de transporte. 4x0 tintas. Cada paral tiene 90 cm por 2 mts, 2,75 mts, 2,4 mts y 2,3 mts. Incluye producción e instalación en el sitio donde se requiera. | B57: 1 vinilo | C57: 1 vinilo | D57: 6073796 | E57: 4760000 | F57: 5627887 | G57: 4760000 | H57: 7758350 | I57: 4760000 | J57: 7460736 | K57: 4760000 | L57: 6345720 | M57: 4760000 | N57: 7598048 | O57: 4760000 | Q57: =B57 -> 1 vinilo | R57: =C57 -> 1 vinilo | S57: =E57*12.5% -> 595000 | T57: =G57*12.5% -> 595000 | U57: =I57*12.5% -> 595000 | V57: =K57*12.5% -> 595000 | W57: =M57*12.5% -> 595000 | X57: =O57*12.5% -> 595000
A58: Vinilo adhesivo, altura 3.30 mts por 6 mts de ancho con forma troquelada para escaleras vista lateral Terminal de transporte. 4x0 tintas. Cada paral tiene 90 cm por 2 mts, 2,75 mts, 2,4 mts y 2,3 mts. Incluye producción e instalación en el sitio donde se requiera. Además incluye arrendamiento del espacio por una semana. | B58: 1 vinilo por una semana | C58: 1 vinilo por una semana | D58: 8777783 | E58: 8330000 | F58: 8517609 | G58: 8330000 | H58: 10474590 | I58: 8330000 | J58: 6689613 | K58: 4165000 | L58: 5041100 | M58: 4165000 | N58: 8093739 | O58: 4165000 | Q58: =B58 -> 1 vinilo por una semana | R58: =C58 -> 1 vinilo por una semana | S58: =E58*12.5% -> 1041250 | T58: =G58*12.5% -> 1041250 | U58: =I58*12.5% -> 1041250 | V58: =K58*12.5% -> 520625 | W58: =M58*12.5% -> 520625 | X58: =O58*12.5% -> 520625
A59: Bastidor en zona de taquillas terminal de transporte: 500cm x 300cm, 4x0 tintas incluye producción e instalación en la terminal de transporte donde se requiera. | B59: 1 bastidor | C59: 1 bastidor | D59: 5010387 | E59: 2000000 | F59: 4355709 | G59: 4270000 | H59: 6094312 | I59: 5970000 | J59: 4875987 | K59: 2000000 | L59: 3846303 | M59: 3570000 | N59: 5999433 | O59: 3570000 | Q59: =B59 -> 1 bastidor | R59: =C59 -> 1 bastidor | S59: =E59*12.5% -> 250000 | T59: =G59*12.5% -> 533750 | U59: =I59*12.5% -> 746250 | V59: =K59*12.5% -> 250000 | W59: =M59*12.5% -> 446250 | X59: =O59*12.5% -> 446250
A60: Bastidor en zona de taquillas terminal de transporte: 500cm x 300cm, 4x0 tintas incluye producción e instalación en la terminal de transporte donde se requiera. Además incluye arrendamiento del espacio por una semana. | B60: 1 bastidor por una semana | C60: 1 bastidor por una semana | D60: 9559668 | E60: 8330000 | F60: 8496654 | G60: 8330000 | H60: 11383251 | I60: 11186000 | J60: 8283104 | K60: 8000000 | L60: 9573547 | M60: 8330000 | N60: 8549831 | O60: 8330000 | Q60: =B60 -> 1 bastidor por una semana | R60: =C60 -> 1 bastidor por una semana | S60: =E60*12.5% -> 1041250 | T60: =G60*12.5% -> 1041250 | U60: =I60*12.5% -> 1398250 | V60: =K60*12.5% -> 1000000 | W60: =M60*12.5% -> 1041250 | X60: =O60*12.5% -> 1041250
A61: Vinilo adhesivo de 4X0 Tintas. Altura 88 cm por 12,70 Mts. 4x0 tintas.Terminal de Transporte. incluye producción e instalación en la terminal de transporte donde se requiera. | B61: 1 vinilo | C61: 1 vinilo | D61: 3302646 | E61: 1190000 | F61: 2275532 | G61: 2142000 | H61: 5345913 | I61: 3470000 | J61: 4320228 | K61: 1190000 | L61: 4100694 | M61: 1190000 | N61: 5899448 | O61: 1190000 | Q61: =B61 -> 1 vinilo | R61: =C61 -> 1 vinilo | S61: =E61*12.5% -> 148750 | T61: =G61*12.5% -> 267750 | U61: =I61*12.5% -> 433750 | V61: =K61*12.5% -> 148750 | W61: =M61*12.5% -> 148750 | X61: =O61*12.5% -> 148750
A62: Vinilo adhesivo de 4X0 Tintas. Altura 88 cm por 12,70 Mts. 4x0 tintas.Terminal de Transporte. incluye producción e instalación en la terminal de transporte donde se requiera. Además incluye arrendamiento del espacio por una semana. | B62: 1 vinilo por una semana | C62: 1 vinilo por una semana | D62: 4031133 | E62: 3808000 | F62: 3118233 | G62: 2975000 | H62: 5908158 | I62: 5355000 | J62: 4178677 | K62: 2975000 | L62: 3077174 | M62: 2975000 | N62: 5602589 | O62: 2975000 | Q62: =B62 -> 1 vinilo por una semana | R62: =C62 -> 1 vinilo por una semana | S62: =E62*12.5% -> 476000 | T62: =G62*12.5% -> 371875 | U62: =I62*12.5% -> 669375 | V62: =K62*12.5% -> 371875 | W62: =M62*12.5% -> 371875 | X62: =O62*12.5% -> 371875
A63: Pendón en banner con ojaletes en las 4 esquinas (Horizontal) de alto 2.00 Mts X 4.00 Mts de ancho. Tintas 4x0. Incluye producción e instalación en el sitio donde se requiera. | B63: 1 pendón | C63: 1 pendón | D63: 2637958 | E63: 1071000 | F63: 5920077 | G63: 1071000 | H63: 5011741 | I63: 2071000 | J63: 4102630 | K63: 1071000 | L63: 6196853 | M63: 1071000 | N63: 4030937 | O63: 1071000 | Q63: =B63 -> 1 pendón | R63: =C63 -> 1 pendón | S63: =E63*12.5% -> 133875 | T63: =G63*12.5% -> 133875 | U63: =I63*12.5% -> 258875 | V63: =K63*12.5% -> 133875 | W63: =M63*12.5% -> 133875 | X63: =O63*12.5% -> 133875
A64: Pendón en banner con ojaletes en las 4 esquinas (Horizontal) de alto 2.00 Mts X 4.00 Mts de ancho. Tintas 4x0. Incluye producción e instalación en el sitio donde se requiera. Además incluye arrendamiento del espacio por una semana. | B64: 1 pendón por una semana | C64: 1 pendón por una semana | D64: 4229242 | E64: 3570000 | F64: 10227536 | G64: 4641000 | H64: 6040610 | I64: 4641000 | J64: 4518102 | K64: 3570000 | L64: 7268008 | M64: 3570000 | N64: 4329134 | O64: 3570000 | Q64: =B64 -> 1 pendón por una semana | R64: =C64 -> 1 pendón por una semana | S64: =E64*12.5% -> 446250 | T64: =G64*12.5% -> 580125 | U64: =I64*12.5% -> 580125 | V64: =K64*12.5% -> 446250 | W64: =M64*12.5% -> 446250 | X64: =O64*12.5% -> 446250
A65: Rompetráfico de estructura metálica armable y desarmable base de 120 cm de alto y 70 cm de ancho, con pintura electrostática. EL soporte de impresión que sea poliestireno de 3 mm de grosor, la impresión en 4x4 full injection (doble cara, inyección de 4 tintas sobre acrílico se refiere a la impresión digital UV de alta calidad, usando CMYK) Incluye entrega en el sitio donde se requiera. | B65: 1 rompetrafico | C65: 1 rompetrafico | D65: 3298856 | E65: 2380000 | F65: 2897193 | G65: 2380000 | H65: 4220694 | I65: 3570000 | J65: 3078486 | K65: 2380000 | L65: 2472595 | M65: 2380000 | N65: 4028455 | O65: 2380000 | Q65: =B65 -> 1 rompetrafico | R65: =C65 -> 1 rompetrafico | S65: =E65*12.5% -> 297500 | T65: =G65*12.5% -> 297500 | U65: =I65*12.5% -> 446250 | V65: =K65*12.5% -> 297500 | W65: =M65*12.5% -> 297500 | X65: =O65*12.5% -> 297500
A66: Rompetráfico metálico con pintura electrostática con impresión 4x4 full injection (inyección de 4 tintas sobre acrílico se refiere a la impresión digital UV de alta calidad, usando CMYK) sobre acrílico de 3mm de grosor y base de 120 cm de alto y 70 cm de ancho. Con bases fuertes que soporten el viento. Incluye producción y entrega en el sitio donde se requiera. Además incluye arrendamiento del espacio por una semana. | B66: 1 rompetráfico Arriendo por 1 semana | C66: 1 rompetráfico | D66: 5785897 | E66: 3570000 | F66: 3239052 | G66: 3094000 | H66: 5043509 | I66: 3094000 | J66: 3528705 | K66: 3094000 | L66: 2703153 | M66: 2500000 | N66: 4034250 | O66: 3094000 | Q66: =B66 -> 1 rompetráfico Arriendo por 1 semana | R66: =C66 -> 1 rompetráfico | S66: =E66*12.5% -> 446250 | T66: =G66*12.5% -> 386750 | U66: =I66*12.5% -> 386750 | V66: =K66*12.5% -> 386750 | W66: =M66*12.5% -> 312500 | X66: =O66*12.5% -> 386750
A67: Rompetráfico metálico con pintura electrostática con impresión 4x4 full injection (inyección de 4 tintas sobre acrílico se refiere a la impresión digital UV de alta calidad, usando CMYK) sobre acrílico de 3mm y base de 120 cm de alto y 70 cm de ancho. Con bases fuertes que soporten el viento. Incluye producción y entrega en el sitio donde se requiera. Además incluye arrendamiento del espacio por un mes. | B67: 1 rompetráfico Arriendo por 1 mes | C67: 1 rompetráfico | D67: 14294665 | E67: 13865825 | F67: 4580711 | G67: 4400000 | H67: 7132599 | I67: 6900000 | J67: 4656154 | K67: 3459000 | L67: 3566832 | M67: 3459000 | N67: 6570198 | O67: 6373000 | Q67: =B67 -> 1 rompetráfico Arriendo por 1 mes | R67: =C67 -> 1 rompetráfico | S67: =E67*12.5% -> 1733228.1 | T67: =G67*12.5% -> 550000 | U67: =I67*12.5% -> 862500 | V67: =K67*12.5% -> 432375 | W67: =M67*12.5% -> 432375 | X67: =O67*12.5% -> 796625
... A90: Lámina tipo EUCOL o MUPI en paradero de transporte público tintas 2X0. Incluye Incluye producción, envío, instalación y desinstalación en el sitio donde se requiera. Formato de impresión y recorte: 1.12 Mts X 1.64 Mts. | B90: 20 unidades | C90: 20 unidades | D90: 2763885 | E90: 200000 | F90: 2412729 | G90: 2340347 | H90: 2335517 | I90: 2288807 | J90: 2830816 | K90: 200000 | L90: 2183609 | M90: 1000000 | N90: 2222498 | O90: 2178048 | Q90: =B90 -> 20 unidades | R90: =C90 -> 20 unidades | S90: =E90*12.5% -> 25000 | T90: =G90*12.5% -> 292543.38 | U90: =I90*12.5% -> 286100.88 | V90: =K90*12.5% -> 25000 | W90: =M90*12.5% -> 125000 | X90: =O90*12.5% -> 272256
B91: 50 unidades | C91: 50 unidades | D91: 4170774 | E91: 200000 | F91: 3694925 | G91: 3584077 | H91: 3561381 | I91: 3490153 | J91: 4278339 | K91: 200000 | L91: 3361970 | M91: 1000000 | N91: 3404072 | O91: 3335991 | Q91: =B91 -> 50 unidades | R91: =C91 -> 50 unidades | S91: =E91*12.5% -> 25000 | T91: =G91*12.5% -> 448009.62 | U91: =I91*12.5% -> 436269.12 | V91: =K91*12.5% -> 25000 | W91: =M91*12.5% -> 125000 | X91: =O91*12.5% -> 416998.88
B92: 100 unidades | C92: 100 unidades | D92: 5737345 | E92: 200000 | F92: 5146211 | G92: 4991825 | H92: 4942557 | I92: 4843706 | J92: 5893035 | K92: 200000 | L92: 4702976 | M92: 1000000 | N92: 4741620 | O92: 4646788 | Q92: =B92 -> 100 unidades | R92: =C92 -> 100 unidades | S92: =E92*12.5% -> 25000 | T92: =G92*12.5% -> 623978.12 | U92: =I92*12.5% -> 605463.25 | V92: =K92*12.5% -> 25000 | W92: =M92*12.5% -> 125000 | X92: =O92*12.5% -> 580848.5
A93: Lámina tipo EUCOL o MUPI en paradero de transporte público tintas 2X0. Incluye Incluye producción, envío, instalación y desinstalación en el sitio donde se requiera. Formato de impresión y recorte: 1.12 Mts X 1.64 Mts. Además incluye arrendamiento del espacio por una semana. | B93: 20 unidades | C93: 20 unidades | D93: 4747069 | E93: 200000 | F93: 4943945 | G93: 4795627 | H93: 4606114 | I93: 4513992 | J93: 4957779 | K93: 200000 | L93: 4737952 | M93: 1000000 | N93: 4594286 | O93: 4502400 | Q93: =B93 -> 20 unidades | R93: =C93 -> 20 unidades | S93: =E93*12.5% -> 25000 | T93: =G93*12.5% -> 599453.38 | U93: =I93*12.5% -> 564249 | V93: =K93*12.5% -> 25000 | W93: =M93*12.5% -> 125000 | X93: =O93*12.5% -> 562800
B94: 50 unidades | C94: 50 unidades | D94: 6613119 | E94: 200000 | F94: 6821308 | G94: 6616669 | H94: 6355191 | I94: 6228087 | J94: 6906658 | K94: 200000 | L94: 6537093 | M94: 1000000 | N94: 6338872 | O94: 6212095 | Q94: =B94 -> 50 unidades | R94: =C94 -> 50 unidades | S94: =E94*12.5% -> 25000 | T94: =G94*12.5% -> 827083.62 | U94: =I94*12.5% -> 778510.88 | V94: =K94*12.5% -> 25000 | W94: =M94*12.5% -> 125000 | X94: =O94*12.5% -> 776511.88
B95: 100 unidades | C95: 100 unidades | D95: 8726063 | E95: 200000 | F95: 9000769 | G95: 8730746 | H95: 8385725 | I95: 8218011 | J95: 9113390 | K95: 200000 | L95: 8625746 | M95: 1000000 | N95: 8364192 | O95: 8196908 | Q95: =B95 -> 100 unidades | R95: =C95 -> 100 unidades | S95: =E95*12.5% -> 25000 | T95: =G95*12.5% -> 1091343.2 | U95: =I95*12.5% -> 1027251.4 | V95: =K95*12.5% -> 25000 | W95: =M95*12.5% -> 125000 | X95: =O95*12.5% -> 1024613.5
A96: Lámina tipo EUCOL o MUPI en paradero de transporte público tintas 2X0. Incluye producción, envío, instalación y desinstalación en el sitio donde se requiera. Formato de impresión y recorte: 1.15 Mts X 1.70 Mts. | B96: 20 unidades | C96: 20 unidades | D96: 2741634 | E96: 200000 | F96: 2389759 | G96: 2318066 | H96: 2328683 | I96: 2282109 | J96: 2812246 | K96: 200000 | L96: 2172290 | M96: 1000000 | N96: 2206824 | O96: 2162688 | Q96: =B96 -> 20 unidades | R96: =C96 -> 20 unidades | S96: =E96*12.5% -> 25000 | T96: =G96*12.5% -> 289758.25 | U96: =I96*12.5% -> 285263.62 | V96: =K96*12.5% -> 25000 | W96: =M96*12.5% -> 125000 | X96: =O96*12.5% -> 270336
B97: 50 unidades | C97: 50 unidades | D97: 4140815 | E97: 200000 | F97: 3664567 | G97: 3554630 | H97: 3552289 | I97: 3481243 | J97: 4253349 | K97: 200000 | L97: 3347111 | M97: 1000000 | N97: 3383428 | O97: 3315759 | Q97: =B97 -> 50 unidades | R97: =C97 -> 50 unidades | S97: =E97*12.5% -> 25000 | T97: =G97*12.5% -> 444328.75 | U97: =I97*12.5% -> 435155.38 | V97: =K97*12.5% -> 25000 | W97: =M97*12.5% -> 125000 | X97: =O97*12.5% -> 414469.88
B98: 100 unidades | C98: 100 unidades | D98: 5700142 | E98: 200000 | F98: 5109024 | G98: 4955753 | H98: 4931368 | I98: 4832741 | J98: 5862012 | K98: 200000 | L98: 4684860 | M98: 1000000 | N98: 4716396 | O98: 4622068 | Q98: =B98 -> 100 unidades | R98: =C98 -> 100 unidades | S98: =E98*12.5% -> 25000 | T98: =G98*12.5% -> 619469.12 | U98: =I98*12.5% -> 604092.62 | V98: =K98*12.5% -> 25000 | W98: =M98*12.5% -> 125000 | X98: =O98*12.5% -> 577758.5
A99: Lámina tipo EUCOL o MUPI en paradero de transporte público tintas 2X0. Incluye producción, envío, instalación y desinstalación en el sitio donde se requiera. Formato de impresión y recorte: 1.15 Mts X 1.70 Mts. Además incluye arrendamiento del espacio por una semana. | B99: 20 unidades | C99: 20 unidades | D99: 4747069 | E99: 200000 | F99: 4943945 | G99: 4795627 | H99: 4606114 | I99: 4513992 | J99: 4957779 | K99: 200000 | L99: 4737952 | M99: 1000000 | N99: 4594286 | O99: 4502400 | Q99: =B99 -> 20 unidades | R99: =C99 -> 20 unidades | S99: =E99*12.5% -> 25000 | T99: =G99*12.5% -> 599453.38 | U99: =I99*12.5% -> 564249 | V99: =K99*12.5% -> 25000 | W99: =M99*12.5% -> 125000 | X99: =O99*12.5% -> 562800
...

Sheet II. ITEMS PERIODICOS REGIONALES
C2: FORMATO ECONÓMICO
B4: II. CUADRO DE ITEMS - AVISOS EN PERIODICOS REGIONALES Y/O ALTERNATIVOS
F6: OFERTA INICIAL | AQ6: OFERTA DESPUÉS DE DESCUENTO
B7: ITEM | C7: DESCRIPCIÓN | D7: CANTIDAD | E7: CANTIDAD
F8: Diario del Huila | H8: El Colombiano / Medellín | J8: El Espectador / Bogotá | L8: El Heraldo / Barranquilla | N8: El Liberal / Popayán | P8: El Nuevo Siglo / Bogotá | R8: El país / Cali | T8: El Universal / Cartagena | V8: La Libertad / Barranquilla | X8: La Opinión / San José de Cúcuta | Z8: La Opinión / San José de Cúcuta | AB8: La República / Bogotá | AD8: La Tarde / Pereira | AF8: Portafolio / Bogotá | AH8: Publimetro / Bogotá | AJ8: Q´Hubo | AL8: Vanguardia Liberal / Bucaramanga | AN8: El Pilon / Valledupar | AQ8: Diario del Huila | AR8: El Colombiano / Medellín | AS8: El Espectador / Bogotá | AT8: El Heraldo / Barranquilla | AU8: El Liberal / Popayán | AV8: El Nuevo Siglo / Bogotá | AW8: El país / Cali | AX8: El Universal / Cartagena | AY8: La Libertad / Barranquilla | AZ8: La Opinión / San José de Cúcuta | BA8: La Opinión / San José de Cúcuta | BB8: La República / Bogotá | BC8: La Tarde / Pereira | BD8: Portafolio / Bogotá | BE8: Publimetro / Bogotá | BF8: Q´Hubo | BG8: Vanguardia Liberal / Bucaramanga | BH8: El Pilon / Valledupar
F9: PRESUPUESTO ESTIMADO | G9: OFERTA ECONOMICA | H9: PRESUPUESTO ESTIMADO | I9: OFERTA ECONOMICA | J9: PRESUPUESTO ESTIMADO | K9: OFERTA ECONOMICA | L9: PRESUPUESTO ESTIMADO | M9: OFERTA ECONOMICA | N9: PRESUPUESTO ESTIMADO | O9: OFERTA ECONOMICA | P9: PRESUPUESTO ESTIMADO | Q9: OFERTA ECONOMICA | R9: PRESUPUESTO ESTIMADO | S9: OFERTA ECONOMICA | T9: PRESUPUESTO ESTIMADO | U9: OFERTA ECONOMICA | V9: PRESUPUESTO ESTIMADO | W9: OFERTA ECONOMICA | X9: PRESUPUESTO ESTIMADO | Y9: OFERTA ECONOMICA | Z9: PRESUPUESTO ESTIMADO | AA9: OFERTA ECONOMICA | AB9: PRESUPUESTO ESTIMADO | AC9: OFERTA ECONOMICA | AD9: PRESUPUESTO ESTIMADO | AE9: OFERTA ECONOMICA | AF9: PRESUPUESTO ESTIMADO | AG9: OFERTA ECONOMICA | AH9: PRESUPUESTO ESTIMADO | AI9: OFERTA ECONOMICA | AJ9: PRESUPUESTO ESTIMADO | AK9: OFERTA ECONOMICA | AL9: PRESUPUESTO ESTIMADO | AM9: OFERTA ECONOMICA | AN9: PRESUPUESTO ESTIMADO | AO9: OFERTA ECONOMICA | AQ9: OFERTA ECONOMICA | AR9: OFERTA ECONOMICA | AS9: OFERTA ECONOMICA | AT9: OFERTA ECONOMICA | AU9: OFERTA ECONOMICA | AV9: OFERTA ECONOMICA | AW9: OFERTA ECONOMICA | AX9: OFERTA ECONOMICA | AY9: OFERTA ECONOMICA | AZ9: OFERTA ECONOMICA | BA9: OFERTA ECONOMICA | BB9: OFERTA ECONOMICA | BC9: OFERTA ECONOMICA | BD9: OFERTA ECONOMICA | BE9: OFERTA ECONOMICA | BF9: OFERTA ECONOMICA | BG9: OFERTA ECONOMICA | BH9: OFERTA ECONOMICA
B10: DIFUSIÓN EN PERIODICOS REGIONALES Y/O ALTERNATIVOS
B11: 172 | C11: Aviso de 1/2 página, Blanco y Negro, entre lunes y viernes | D11: 1 aviso | E11: 1 aviso | F11: 4460409 | G11: 4326597 | H11: 5712751 | I11: 5541368 | J11: 7698209 | K11: 7467263 | L11: 5986569 | M11: 5806972 | N11: 5884865 | O11: 5708319 | P11: 4921988 | Q11: 3445392 | R11: 15371804 | S11: 14910650 | T11: 5538655 | U11: 5372495 | V11: 7192051 | W11: 6976289 | X11: 5422425 | Y11: 5259752 | Z11: 6024919 | AA11: 5844171 | AB11: 5569069 | AC11: 5401997 | AD11: 5569069 | AE11: 5401997 | AF11: 5573155 | AG11: 4458524 | AH11: 13149984 | AI11: 7889990 | AJ11: 5844159 | AK11: 5668834 | AL11: 5809799 | AM11: 5635505 | AN11: 3947177 | AO11: 3828762 | AQ11: =G11*12.5% -> 540824.62 | AR11: =I11*12.5% -> 692671 | AS11: =K11*12.5% -> 933407.88 | AT11: =M11*12.5% -> 725871.5 | AU11: =O11*12.5% -> 713539.88 | AV11: =Q11*12.5% -> 430674 | AW11: =S11*12.5% -> 1863831.2 | AX11: =U11*12.5% -> 671561.88 | AY11: =W11*12.5% -> 872036.12 | AZ11: =Y11*12.5% -> 657469 | BA11: =AA11*12.5% -> 730521.38 | BB11: =AC11*12.5% -> 675249.62 | BC11: =AE11*12.5% -> 675249.62 | BD11: =AG11*12.5% -> 557315.5 | BE11: =AI11*12.5% -> 986248.75 | BF11: =AK11*12.5% -> 708604.25 | BG11: =AM11*12.5% -> 704438.12 | BH11: =AO11*12.5% -> 478595.25
B12: 173 | C12: Aviso de 1/2 página, Blanco y Negro, sabado y domingo | D12: 1 aviso | E12: 1 aviso | F12: 4457024 | G12: 4323313 | H12: 6065504 | I12: 5883539 | J12: 8676044 | K12: 8415763 | L12: 5980995 | M12: 5801565 | N12: 5890681 | O12: 5713961 | P12: 4932938 | Q12: 3453057 | R12: 15373786 | S12: 14912572 | T12: 5538655 | U12: 5372495 | V12: 7189172 | W12: 6973497 | X12: 5427019 | Y12: 5264208 | Z12: 6037469 | AA12: 5856345 | AB12: 5570041 | AC12: 5402940 | AD12: 5570041 | AE12: 5402940 | AH12: 13149984 | AI12: 7889990 | AJ12: 5846475 | AK12: 5671081 | AL12: 6027480 | AM12: 5846656 | AN12: 4024109 | AO12: 3903386 | AQ12: =G12*12.5% -> 540414.12 | AR12: =I12*12.5% -> 735442.38 | AS12: =K12*12.5% -> 1051970.4 | AT12: =M12*12.5% -> 725195.62 | AU12: =O12*12.5% -> 714245.12 | AV12: =Q12*12.5% -> 431632.12 | AW12: =S12*12.5% -> 1864071.5 | AX12: =U12*12.5% -> 671561.88 | AY12: =W12*12.5% -> 871687.12 | AZ12: =Y12*12.5% -> 658026 | BA12: =AA12*12.5% -> 732043.12 | BB12: =AC12*12.5% -> 675367.5 | BC12: =AE12*12.5% -> 675367.5 | BD12: =AG12*12.5% -> 0 | BE12: =AI12*12.5% -> 986248.75 | BF12: =AK12*12.5% -> 708885.12 | BG12: =AM12*12.5% -> 730832 | BH12: =AO12*12.5% -> 487923.25
B13: 174 | C13: Aviso de 1/4 página, Blanco y Negro, entre lunes y viernes | D13: 1 aviso | E13: 1 aviso | F13: 2464196 | G13: 2390270 | H13: 2876993 | I13: 2790683 | J13: 4892675 | K13: 4745895 | L13: 3072885 | M13: 2980698 | N13: 3940559 | O13: 3822342 | P13: 3248235 | Q13: 2273765 | R13: 9339522 | S13: 9059336 | T13: 2819825 | U13: 2735230 | V13: 3874980 | W13: 3758731 | X13: 3198973 | Y13: 3103004 | Z13: 3196265 | AA13: 3100377 | AB13: 3067797 | AC13: 2975763 | AD13: 3067797 | AE13: 2975763 | AF13: 4864607 | AG13: 3891686 | AH13: 6534471 | AI13: 3920683 | AJ13: 2918820 | AK13: 2831255 | AL13: 2698597 | AM13: 2617639 | AN13: 1702179 | AO13: 1651114 | AQ13: =G13*12.5% -> 298783.75 | AR13: =I13*12.5% -> 348835.38 | AS13: =K13*12.5% -> 593236.88 | AT13: =M13*12.5% -> 372587.25 | AU13: =O13*12.5% -> 477792.75 | AV13: =Q13*12.5% -> 284220.62 | AW13: =S13*12.5% -> 1132417 | AX13: =U13*12.5% -> 341903.75 | AY13: =W13*12.5% -> 469841.38 | AZ13: =Y13*12.5% -> 387875.5 | BA13: =AA13*12.5% -> 387547.12 | BB13: =AC13*12.5% -> 371970.38 | BC13: =AE13*12.5% -> 371970.38 | BD13: =AG13*12.5% -> 486460.75 | BE13: =AI13*12.5% -> 490085.38 | BF13: =AK13*12.5% -> 353906.88 | BG13: =AM13*12.5% -> 327204.88 | BH13: =AO13*12.5% -> 206389.25
B14: 175 | C14: Aviso de 1/4 página, Blanco y Negro, sabado y domingo | D14: 1 aviso | E14: 1 aviso | F14: 2464196 | G14: 2390270 | H14: 3061047 | I14: 2969216 | J14: 1647068 | K14: 1597656 | L14: 3072885 | M14: 2980698 | N14: 3940559 | O14: 3822342 | P14: 3248235 | Q14: 2273765 | R14: 9339522 | S14: 9059336 | T14: 2819825 | U14: 2735230 | V14: 3874980 | W14: 3758731 | X14: 3198973 | Y14: 3103004 | Z14: 3196265 | AA14: 3100377 | AB14: 3067797 | AC14: 2975763 | AD14: 3067797 | AE14: 2975763 | AH14: 6534471 | AI14: 3920683 | AJ14: 2918820 | AK14: 2831255 | AL14: 2787033 | AM14: 2703422 | AN14: 1725412 | AO14: 1673650 | AQ14: =G14*12.5% -> 298783.75 | AR14: =I14*12.5% -> 371152 | AS14: =K14*12.5% -> 199707 | AT14: =M14*12.5% -> 372587.25 | AU14: =O14*12.5% -> 477792.75 | AV14: =Q14*12.5% -> 284220.62 | AW14: =S14*12.5% -> 1132417 | AX14: =U14*12.5% -> 341903.75 | AY14: =W14*12.5% -> 469841.38 | AZ14: =Y14*12.5% -> 387875.5 | BA14: =AA14*12.5% -> 387547.12 | BB14: =AC14*12.5% -> 371970.38 | BC14: =AE14*12.5% -> 371970.38 | BD14: =AG14*12.5% -> 0 | BE14: =AI14*12.5% -> 490085.38 | BF14: =AK14*12.5% -> 353906.88 | BG14: =AM14*12.5% -> 337927.75 | BH14: =AO14*12.5% -> 209206.25
B15: TOTAL | F15: 13845825 | G15: 13430450 | H15: 17716295 | I15: 17184806 | J15: 22913996 | K15: 22226577 | L15: 18113334 | M15: 17569933 | N15: 19656664 | O15: 19066964 | P15: 16351396 | Q15: 11445979 | R15: 49424634 | S15: 47941894 | T15: 16716960 | U15: 16215450 | V15: 22131183 | W15: 21467248 | X15: 17247390 | Y15: 16729968 | Z15: 18454918 | AA15: 17901270 | AB15: 17274704 | AC15: 16756463 | AD15: 17274704 | AE15: 16756463 | AF15: 10437762 | AG15: 8350210 | AH15: 39368910 | AI15: 23621346 | AJ15: 17528274 | AK15: 17002425 | AL15: 17322909 | AM15: 16803222 | AN15: 11398877 | AO15: 11056912 | AQ15: =G15*12.5% -> 1678806.2 | AR15: =I15*12.5% -> 2148100.8 | AS15: =K15*12.5% -> 2778322.1 | AT15: =M15*12.5% -> 2196241.6 | AU15: =O15*12.5% -> 2383370.5 | AV15: =Q15*12.5% -> 1430747.4 | AW15: =S15*12.5% -> 5992736.8 | AX15: =U15*12.5% -> 2026931.2 | AY15: =W15*12.5% -> 2683406 | AZ15: =Y15*12.5% -> 2091246 | BA15: =AA15*12.5% -> 2237658.8 | BB15: =AC15*12.5% -> 2094557.9 | BC15: =AE15*12.5% -> 2094557.9 | BD15: =AG15*12.5% -> 1043776.2 | BE15: =AI15*12.5% -> 2952668.2 | BF15: =AK15*12.5% -> 2125303.1 | BG15: =AM15*12.5% -> 2100402.8 | BH15: =AO15*12.5% -> 1382114
C17: TOTAL SUMATORIA VALORES TECHO | D17: =SUM(G15,I15,K15,M15,O15,Q15,S15,U15,W15,Y15,AA15,AC15,AE15,AG15,AI15,AK15,AM15,AO15) -> 331527580 | AQ17: =+AQ15+AR15+AS15+AT15+AU15+AV15+AW15+AX15+AY15+AZ15+BA15+BB15+BC15+BD15+BE15+BF15+BG15+BH15 -> 41440948

Sheet III.ITEMS PIEZAS EN SISTEMAS DE
C2: FORMATO ECONÓMICO
B5: III. CUADRO DE ITEMS - PIEZAS EN SISTEMAS DE TRANSPORTE MASIVO DE PASAJEROS
E6: OFERTA INICIAL | T6: OFERTA DESPUÉS DE DESCUENTO
B7: ITEM | C7: DESCRIPCIÓN | D7: CANTIDAD
E8: Bogotá (Transmilenio) | G8: Medellín (Metro) | I8: Cali (Mio) | K8: Barranquilla (Transmetro) | M8: Bucaramanga (Metrolínea) | O8: Pereira (Megabús) | Q8: Cartagena (Transcaribe) | T8: Bogotá (Transmilenio) | U8: Medellín (Metro) | V8: Cali (Mio) | W8: Barranquilla (Transmetro) | X8: Bucaramanga (Metrolínea) | Y8: Pereira (Megabús) | Z8: Cartagena (Transcaribe)
E9: PRESUPUESTO ESTIMADO | F9: OFERTA ECONOMICA | G9: PRESUPUESTO ESTIMADO | H9: OFERTA ECONOMICA | I9: PRESUPUESTO ESTIMADO | J9: OFERTA ECONOMICA | K9: PRESUPUESTO ESTIMADO | L9: OFERTA ECONOMICA | M9: PRESUPUESTO ESTIMADO | N9: OFERTA ECONOMICA | O9: PRESUPUESTO ESTIMADO | P9: OFERTA ECONOMICA | Q9: PRESUPUESTO ESTIMADO | R9: OFERTA ECONOMICA | T9: OFERTA ECONOMICA | U9: OFERTA ECONOMICA | V9: OFERTA ECONOMICA | W9: OFERTA ECONOMICA | X9: OFERTA ECONOMICA | Y9: OFERTA ECONOMICA | Z9: OFERTA ECONOMICA
B10: 176 | C10: Bastidor 2.00 X 2.00 Mts, 4x0 tintas, en estaciones de servicio de transporte público y portales del sistema. (incluye producción, arrendamiento o tarifa de pauta e instalación y desistalación) | D10: 1 bastidor | E10: 4198629 | F10: 3946711 | G10: 4153581 | H10: 3904366 | I10: 4517396 | J10: 4246352 | K10: 3318110 | L10: 3119023 | M10: 3234980 | N10: 3040881 | O10: 3294657 | P10: 3096978 | Q10: 4336731 | R10: 4076527 | T10: =F10*12.5% -> 493338.88 | U10: =H10*12.5% -> 488045.75 | V10: =J10*12.5% -> 530794 | W10: =L10*12.5% -> 389877.88 | X10: =N10*12.5% -> 380110.12 | Y10: =P10*12.5% -> 387122.25 | Z10: =R10*12.5% -> 509565.88
B11: 177 | C11: Bastidor 4.00 X 2.00 Mts, 4x0 tintas, en estaciones de servicio de transporte público y portales del sistema. (incluye producción, arrendamiento o tarifa de pauta e instalación y desistalación). | D11: 1 bastidor | E11: 6848398 | F11: 6437494 | G11: 6740894 | H11: 6336440 | I11: 6854939 | J11: 6443643 | K11: 5797886 | L11: 5450013 | M11: 5689858 | N11: 5348467 | O11: 5656548 | P11: 5317155 | Q11: 5653007 | R11: 5313827 | T11: =F11*12.5% -> 804686.75 | U11: =H11*12.5% -> 792055 | V11: =J11*12.5% -> 805455.38 | W11: =L11*12.5% -> 681251.62 | X11: =N11*12.5% -> 668558.38 | Y11: =P11*12.5% -> 664644.38 | Z11: =R11*12.5% -> 664228.38
B12: 178 | C12: Activación pedagógica - Arrendamiento del espacio dentro de la estación, portal o troncal. Debe incluir arrendamiento del espacio, incluye gestión de permisos y condiciones de la locación. Incluye la producción y montaje de un stand con branding cuyas medidas son ancho 90 cm, Alto 2.00 mts. | D12: 1 stand por una semana | E12: 26395700 | F12: 24811958 | G12: 25348714 | H12: 23827791 | I12: 25893674 | J12: 24340054 | K12: 16263805 | L12: 15287977 | M12: 16167341 | N12: 15197301 | O12: 15130153 | P12: 14222344 | Q12: 52189144 | R12: 30000000 | T12: =F12*12.5% -> 3101494.8 | U12: =H12*12.5% -> 2978473.9 | V12: =J12*12.5% -> 3042506.8 | W12: =L12*12.5% -> 1910997.1 | X12: =N12*12.5% -> 1899662.6 | Y12: =P12*12.5% -> 1777793 | Z12: =R12*12.5% -> 3750000
B13: 179 | C13: Servicio de Branding interior bus del sistema. (incluye producción, arrendamiento o tarifa de pauta e instalación y desistalación). Incluye vinilo adhesivo semi translúcido en 6 lamparas, stickers techo x 8, franjas de techo x3 y franja techo central x1. | D13: 1 branding bus | E13: 10871008 | F13: 10218748 | G13: 10523968 | H13: 9892530 | I13: 10651890 | J13: 10012777 | K13: 9611627 | L13: 9034929 | M13: 10347864 | N13: 9726992 | O13: 10056975 | P13: 9453557 | Q13: 7223372 | R13: 6789970 | T13: =F13*12.5% -> 1277343.5 | U13: =H13*12.5% -> 1236566.2 | V13: =J13*12.5% -> 1251597.1 | W13: =L13*12.5% -> 1129366.1 | X13: =N13*12.5% -> 1215874 | Y13: =P13*12.5% -> 1181694.6 | Z13: =R13*12.5% -> 848746.25
B14: 180 | C14: Servicio de Branding interior bus zonal del sistema. (incluye producción, arrendamiento o tarifa de pauta e instalación y desistalación). Paquete de 6 lamparas por bus. | D14: 1 branding bus | E14: 3089139 | F14: 2903791 | G14: 3248264 | H14: 3053368 | I14: 3175673 | J14: 2985133 | K14: 2444118 | L14: 2297471 | M14: 2753449 | N14: 2588242 | O14: 2562457 | P14: 2408710 | Q14: 3988685 | R14: 3749364 | T14: =F14*12.5% -> 362973.88 | U14: =H14*12.5% -> 381671 | V14: =J14*12.5% -> 373141.62 | W14: =L14*12.5% -> 287183.88 | X14: =N14*12.5% -> 323530.25 | Y14: =P14*12.5% -> 301088.75 | Z14: =R14*12.5% -> 468670.5
B15: TOTAL | E15: 51402874 | F15: 48318702 | G15: 50015421 | H15: 47014495 | I15: 51093572 | J15: 48027959 | K15: 37435546 | L15: 35189413 | M15: 38193492 | N15: 35901883 | O15: 36700790 | P15: 34498744 | Q15: 73390939 | R15: 49929688 | T15: =F15*12.5% -> 6039837.8 | U15: =H15*12.5% -> 5876811.9 | V15: =J15*12.5% -> 6003494.9 | W15: =L15*12.5% -> 4398676.6 | X15: =N15*12.5% -> 4487735.4 | Y15: =P15*12.5% -> 4312343 | Z15: =R15*12.5% -> 6241211
C18: TOTAL VALORES | D18: =SUM(F15,H15,J15,L15,N15,P15,R15) -> 298880884 | T18: =+T15+U15+V15+W15+X15+Y15+Z15 -> 37360110

Sheet IV. ITEMS PIEZAS EN AEROPUERTOS
C2: FORMATO ECONÓMICO
B4: IV. CUADRO DE ITEMS - PIEZAS EN AEROPUERTOS Y BUSES URBANOS
F5: OFERTA INICIAL
B6: ITEM | C6: DESCRIPCIÓN | D6: CANTIDAD | E6: CANTIDAD
F7: Bogotá | H7: Cali | J7: Medellín | L7: Barranquilla | N7: Bucaramanga | P7: Santa Marta | R7: Quibdó | T7: Barrancabermeja | V7: Cúcuta | X7: Manizales | Z7: Pereira | AB7: Armenia | AD7: Florencia | AF7: Neiva | AH7: Mocoa | AJ7: Popayán | AL7: Pasto | AN7: Sincelejo | AP7: Valledupar | AR7: Apartadó | AT7: Montería | AV7: Ibagué | AX7: Tunja | AZ7: Villavicencio | BB7: Arauca | BD7: Yopal | BF7: San José de Guaviare | BI7: Bogotá | BJ7: Cali | BK7: Medellín | BL7: Barranquilla | BM7: Bucaramanga | BN7: Santa Marta | BO7: Quibdó | BP7: Barrancabermeja | BQ7: Cúcuta | BR7: Manizales | BS7: Pereira | BT7: Armenia | BU7: Florencia | BV7: Neiva | BW7: Mocoa | BX7: Popayán | BY7: Pasto | BZ7: Sincelejo | CA7: Valledupar | CB7: Apartadó | CC7: Montería | CD7: Montería | CE7: Ibagué | CF7: Tunja | CG7: Villavicencio | CH7: Arauca | CI7: Yopal | CJ7: San José de Guaviare
B8: A. PIEZAS EN AEROPUERTOS | F8: PRESUPUESTO ESTIMADO | G8: OFERTA ECONOMICA | H8: PRESUPUESTO ESTIMADO | I8: OFERTA ECONOMICA | J8: PRESUPUESTO ESTIMADO | K8: OFERTA ECONOMICA | L8: PRESUPUESTO ESTIMADO | M8: OFERTA ECONOMICA | N8: PRESUPUESTO ESTIMADO | O8: OFERTA ECONOMICA | P8: PRESUPUESTO ESTIMADO | Q8: OFERTA ECONOMICA | R8: PRESUPUESTO ESTIMADO | S8: OFERTA ECONOMICA | T8: PRESUPUESTO ESTIMADO | U8: OFERTA ECONOMICA | V8: PRESUPUESTO ESTIMADO | W8: OFERTA ECONOMICA | X8: PRESUPUESTO ESTIMADO | Y8: OFERTA ECONOMICA | Z8: PRESUPUESTO ESTIMADO | AA8: OFERTA ECONOMICA | AB8: PRESUPUESTO ESTIMADO | AC8: OFERTA ECONOMICA | AD8: PRESUPUESTO ESTIMADO | AE8: OFERTA ECONOMICA | AF8: PRESUPUESTO ESTIMADO | AG8: OFERTA ECONOMICA | AH8: PRESUPUESTO ESTIMADO | AI8: OFERTA ECONOMICA | AJ8: PRESUPUESTO ESTIMADO | AK8: OFERTA ECONOMICA | AL8: PRESUPUESTO ESTIMADO | AM8: OFERTA ECONOMICA | AN8: PRESUPUESTO ESTIMADO | AO8: OFERTA ECONOMICA | AP8: PRESUPUESTO ESTIMADO | AQ8: OFERTA ECONOMICA | AR8: PRESUPUESTO ESTIMADO | AS8: OFERTA ECONOMICA | AT8: PRESUPUESTO ESTIMADO | AU8: OFERTA ECONOMICA | AV8: PRESUPUESTO ESTIMADO | AW8: OFERTA ECONOMICA | AX8: PRESUPUESTO ESTIMADO | AY8: OFERTA ECONOMICA | AZ8: PRESUPUESTO ESTIMADO | BA8: OFERTA ECONOMICA | BB8: PRESUPUESTO ESTIMADO | BC8: OFERTA ECONOMICA | BD8: PRESUPUESTO ESTIMADO | BE8: OFERTA ECONOMICA | BF8: PRESUPUESTO ESTIMADO | BG8: OFERTA ECONOMICA | BI8: OFERTA ECONOMICA | BJ8: OFERTA ECONOMICA | BK8: OFERTA ECONOMICA | BL8: OFERTA ECONOMICA | BM8: OFERTA ECONOMICA | BN8: OFERTA ECONOMICA | BO8: OFERTA ECONOMICA | BP8: OFERTA ECONOMICA | BQ8: OFERTA ECONOMICA | BR8: OFERTA ECONOMICA | BS8: OFERTA ECONOMICA | BT8: OFERTA ECONOMICA | BU8: OFERTA ECONOMICA | BV8: OFERTA ECONOMICA | BW8: OFERTA ECONOMICA | BX8: OFERTA ECONOMICA | BY8: OFERTA ECONOMICA | BZ8: OFERTA ECONOMICA | CA8: OFERTA ECONOMICA | CB8: OFERTA ECONOMICA | CC8: PRESUPUESTO ESTIMADO | CD8: OFERTA ECONOMICA | CE8: OFERTA ECONOMICA | CF8: OFERTA ECONOMICA | CG8: OFERTA ECONOMICA | CH8: OFERTA ECONOMICA | CI8: OFERTA ECONOMICA | CJ8: OFERTA ECONOMICA
B9: 337 | C9: Arco ingreso y/o salida escaleras en aeropuerto, 4x0 tintas, incluye producción e instalación en el sitio donde se requiera. | D9: 1 arco | E9: 1 arco | F9: 18078583 | G9: 6000000 | H9: 15874065 | I9: 6000000 | J9: 15926804 | K9: 6000000 | L9: 15979717 | M9: 6000000 | N9: 13968194 | O9: 6000000 | P9: 14014600 | Q9: 6000000 | R9: 10881224 | S9: 6000000 | T9: 10917375 | U9: 6000000 | V9: 14154746 | W9: 6000000 | X9: 12725903 | Y9: 6000000 | Z9: 14248955 | AA9: 6000000 | AB9: 12810601 | AC9: 6000000 | AD9: 11099937 | AE9: 6000000 | AF9: 12895864 | AG9: 6000000 | AH9: 11136814 | AI9: 6000000 | AJ9: 12981693 | AK9: 6000000 | AL9: 13024822 | AM9: 6000000 | AN9: 13024822 | AO9: 6000000 | AP9: 13111510 | AQ9: 6000000 | AR9: 11811887 | AS9: 6000000 | AT9: 14729486 | AU9: 6000000 | AV9: 13242626 | AW9: 6000000 | AX9: 10200696 | AY9: 6000000 | AZ9: 11811887 | BA9: 6000000 | BB9: 10200696 | BC9: 6000000 | BD9: 11811887 | BE9: 6000000 | BF9: 14763158 | BG9: 6000000 | BI9: =G9*12.5% -> 750000 | BJ9: =I9*12.5% -> 750000 | BK9: =K9*12.5% -> 750000 | BL9: =M9*12.5% -> 750000 | BM9: =O9*12.5% -> 750000 | BN9: =Q9*12.5% -> 750000 | BO9: =S9*12.5% -> 750000 | BP9: =U9*12.5% -> 750000 | BQ9: =W9*12.5% -> 750000 | BR9: =Y9*12.5% -> 750000 | BS9: =AA9*12.5% -> 750000 | BT9: =AC9*12.5% -> 750000 | BU9: =AE9*12.5% -> 750000 | BV9: =AG9*12.5% -> 750000 | BW9: =AI9*12.5% -> 750000 | BX9: =AK9*12.5% -> 750000 | BY9: =AM9*12.5% -> 750000 | BZ9: =AO9*12.5% -> 750000 | CA9: =AQ9*12.5% -> 750000 | CB9: =AS9*12.5% -> 750000 | CC9: =AT9*12.5% -> 1841185.8 | CD9: =AU9*12.5% -> 750000 | CE9: =AW9*12.5% -> 750000 | CF9: =AY9*12.5% -> 750000 | CG9: =BA9*12.5% -> 750000 | CH9: =BC9*12.5% -> 750000 | CI9: =BE9*12.5% -> 750000 | CJ9: =BG9*12.5% -> 750000
B10: 338 | C10: Arco ingreso y/o salida escaleras en aeropuerto, 4x0 tintas, incluye producción e instalación en el sitio donde se requiera. Además incluye arrendamiento del espacio por una semana. | D10: 1 arco por una semana | E10: 1 arco por una semana | F10: 18078583 | G10: 16993868 | H10: 15874065 | I10: 14921621 | J10: 15926804 | K10: 14971196 | L10: 15979717 | M10: 15020934 | N10: 13968194 | O10: 13130102 | P10: 14014600 | Q10: 13173724 | R10: 10881224 | S10: 10228351 | T10: 10917375 | U10: 10262333 | V10: 14154746 | W10: 13305461 | X10: 12725903 | Y10: 11962349 | Z10: 14248955 | AA10: 13394018 | AB10: 12810601 | AC10: 12041965 | AD10: 11099937 | AE10: 10433941 | AF10: 12895864 | AG10: 12122112 | AH10: 9711351 | AI10: 9128670 | AJ10: 12981693 | AK10: 12202791 | AL10: 13024822 | AM10: 12000000 | AN10: 11357703 | AO10: 10000000 | AP10: 13111510 | AQ10: 12000000 | AR10: 11433296 | AS10: 10747298 | AT10: 14729486 | AU10: 13845717 | AV10: 13242626 | AW10: 12448068 | AX10: 9972484 | AY10: 1200000 | AZ10: 10003007 | BA10: 9402827 | BB10: 9972484 | BC10: 9374135 | BD10: 11547628 | BE10: 10854770 | BF10: 14745588 | BG10: 13860853 | BI10: =G10*12.5% -> 2124233.5 | BJ10: =I10*12.5% -> 1865202.6 | BK10: =K10*12.5% -> 1871399.5 | BL10: =M10*12.5% -> 1877616.8 | BM10: =O10*12.5% -> 1641262.8 | BN10: =Q10*12.5% -> 1646715.5 | BO10: =S10*12.5% -> 1278543.9 | BP10: =U10*12.5% -> 1282791.6 | BQ10: =W10*12.5% -> 1663182.6 | BR10: =Y10*12.5% -> 1495293.6 | BS10: =AA10*12.5% -> 1674252.2 | BT10: =AC10*12.5% -> 1505245.6 | BU10: =AE10*12.5% -> 1304242.6 | BV10: =AG10*12.5% -> 1515264 | BW10: =AI10*12.5% -> 1141083.8 | BX10: =AK10*12.5% -> 1525348.9 | BY10: =AM10*12.5% -> 1500000 | BZ10: =AO10*12.5% -> 1250000 | CA10: =AQ10*12.5% -> 1500000 | CB10: =AS10*12.5% -> 1343412.2 | CC10: =AT10*12.5% -> 1841185.8 | CD10: =AU10*12.5% -> 1730714.6 | CE10: =AW10*12.5% -> 1556008.5 | CF10: =AY10*12.5% -> 150000 | CG10: =BA10*12.5% -> 1175353.4 | CH10: =BC10*12.5% -> 1171766.9 | CI10: =BE10*12.5% -> 1356846.2 | CJ10: =BG10*12.5% -> 1732606.6
B11: 339 | C11: Frontal ascensor en aeropuerto, 4x0 tintas, incluye producción e instalación en el sitio donde se requiera. | D11: 1 frontal | E11: 1 frontal | F11: 24732067 | G11: 2000000 | H11: 16607734 | I11: 2000000 | J11: 16662910 | K11: 12000000 | L11: 16718269 | M11: 12000000 | N11: 14721748 | O11: 12000000 | P11: 14770658 | Q11: 8000000 | R11: 11250357 | S11: 9000000 | T11: 11287734 | U11: 5000000 | V11: 14918365 | W11: 4000000 | X11: 13075689 | Y11: 9500000 | Z11: 15017656 | AA11: 9500000 | AB11: 13162716 | AC11: 8000000 | AD11: 11476490 | AE11: 500000 | AF11: 13250322 | AG11: 1200000 | AH11: 10040798 | AI11: 1200000 | AJ11: 13338511 | AK11: 1200000 | AL11: 13382825 | AM11: 9500000 | AN11: 11669883 | AO11: 1200000 | AP11: 13471896 | AQ11: 1200000 | AR11: 11747553 | AS11: 1200000 | AT11: 15524110 | AU11: 14592663 | AV11: 13606615 | AW11: 1100000 | AX11: 10310789 | AY11: 1100000 | AZ11: 10277952 | BA11: 7000000 | BB11: 10310789 | BC11: 7000000 | BD11: 11865029 | BE11: 7000000 | BF11: 14771501 | BG11: 7000000 | BI11: =G11*12.5% -> 250000 | BJ11: =I11*12.5% -> 250000 | BK11: =K11*12.5% -> 1500000 | BL11: =M11*12.5% -> 1500000 | BM11: =O11*12.5% -> 1500000 | BN11: =Q11*12.5% -> 1000000 | BO11: =S11*12.5% -> 1125000 | BP11: =U11*12.5% -> 625000 | BQ11: =W11*12.5% -> 500000 | BR11: =Y11*12.5% -> 1187500 | BS11: =AA11*12.5% -> 1187500 | BT11: =AC11*12.5% -> 1000000 | BU11: =AE11*12.5% -> 62500 | BV11: =AG11*12.5% -> 150000 | BW11: =AI11*12.5% -> 150000 | BX11: =AK11*12.5% -> 150000 | BY11: =AM11*12.5% -> 1187500 | BZ11: =AO11*12.5% -> 150000 | CA11: =AQ11*12.5% -> 150000 | CB11: =AS11*12.5% -> 150000 | CC11: =AT11*12.5% -> 1940513.8 | CD11: =AU11*12.5% -> 1824082.9 | CE11: =AW11*12.5% -> 137500 | CF11: =AY11*12.5% -> 137500 | CG11: =BA11*12.5% -> 875000 | CH11: =BC11*12.5% -> 875000 | CI11: =BE11*12.5% -> 875000 | CJ11: =BG11*12.5% -> 875000
B12: 340 | C12: Frontal ascensor en aeropuerto, 4x0 tintas, incluye producción e instalación en el sitio donde se requiera. Además incluye arrendamiento del espacio por una semana. | D12: 1 frontal por una semana | E12: 1 frontal por una semana | F12: 24732067 | G12: 23248143 | H12: 16607734 | I12: 15611270 | J12: 16662910 | K12: 15663135 | L12: 16718269 | M12: 15715173 | N12: 14721748 | O12: 1000000 | P12: 14770658 | Q12: 13884419 | R12: 11250357 | S12: 11000000 | T12: 11287734 | U12: 10610470 | V12: 14918365 | W12: 10000000 | X12: 13075689 | Y12: 12291148 | Z12: 15017656 | AA12: 14116597 | AB12: 13162716 | AC12: 12372953 | AD12: 11476490 | AE12: 500000 | AF12: 13250322 | AG12: 2200000 | AH12: 10040798 | AI12: 2200000 | AJ12: 13338511 | AK12: 2200000 | AL12: 13382825 | AM12: 2200000 | AN12: 11669883 | AO12: 2200000 | AP12: 13471896 | AQ12: 2200000 | AR12: 11747553 | AS12: 2200000 | AT12: 15524110 | AU12: 14592663 | AV12: 13606615 | AW12: 1200000 | AX12: 10310789 | AY12: 1200000 | AZ12: 10277952 | BA12: 3500000 | BB12: 10310789 | BC12: 3500000 | BD12: 11865029 | BE12: 3500000 | BF12: 14771501 | BG12: 3500000 | BI12: =G12*12.5% -> 2906017.9 | BJ12: =I12*12.5% -> 1951408.8 | BK12: =K12*12.5% -> 1957891.9 | BL12: =M12*12.5% -> 1964396.6 | BM12: =O12*12.5% -> 125000 | BN12: =Q12*12.5% -> 1735552.4 | BO12: =S12*12.5% -> 1375000 | BP12: =U12*12.5% -> 1326308.8 | BQ12: =W12*12.5% -> 1250000 | BR12: =Y12*12.5% -> 1536393.5 | BS12: =AA12*12.5% -> 1764574.6 | BT12: =AC12*12.5% -> 1546619.1 | BU12: =AE12*12.5% -> 62500 | BV12: =AG12*12.5% -> 275000 | BW12: =AI12*12.5% -> 275000 | BX12: =AK12*12.5% -> 275000 | BY12: =AM12*12.5% -> 275000 | BZ12: =AO12*12.5% -> 275000 | CA12: =AQ12*12.5% -> 275000 | CB12: =AS12*12.5% -> 275000 | CC12: =AT12*12.5% -> 1940513.8 | CD12: =AU12*12.5% -> 1824082.9 | CE12: =AW12*12.5% -> 150000 | CF12: =AY12*12.5% -> 150000 | CG12: =BA12*12.5% -> 437500 | CH12: =BC12*12.5% -> 437500 | CI12: =BE12*12.5% -> 437500 | CJ12: =BG12*12.5% -> 437500
B13: 341 | C13: Laterales escaleras electricas (2 caras) en aeropuerto, 4x0 tintas, incluye producción e instalación en el sitio donde se requiera. | D13: 1 par de laterales | E13: 1 par de laterales | F13: 19853139 | G13: 4000000 | H13: 17565103 | I13: 4000000 | J13: 17623459 | K13: 15000000 | L13: 17682009 | M13: 12000000 | N13: 15497976 | O13: 1000000 | P13: 15549465 | Q13: 10000000 | R13: 11160351 | S13: 10490730 | T13: 11197429 | U13: 5000000 | V13: 15704959 | W13: 10000000 | X13: 13724036 | Y13: 12900594 | Z13: 15809485 | AA13: 9000000 | AB13: 13815377 | AC13: 10000000 | AD13: 11384674 | AE13: 500000 | AF13: 13907327 | AG13: 500000 | AH13: 9960468 | AI13: 500000 | AJ13: 13999889 | AK13: 500000 | AL13: 14046401 | AM13: 500000 | AN13: 12248524 | AO13: 500000 | AP13: 14139888 | AQ13: 500000 | AR13: 12330045 | AS13: 500000 | AT13: 16342644 | AU13: 10000000 | AV13: 14281287 | AW13: 1100000 | AX13: 10228299 | AY13: 1100000 | AZ13: 10787575 | BA13: 6900000 | BB13: 10228299 | BC13: 6900000 | BD13: 12453346 | BE13: 6900000 | BF13: 14765258 | BG13: 6900000 | BI13: =G13*12.5% -> 500000 | BJ13: =I13*12.5% -> 500000 | BK13: =K13*12.5% -> 1875000 | BL13: =M13*12.5% -> 1500000 | BM13: =O13*12.5% -> 125000 | BN13: =Q13*12.5% -> 1250000 | BO13: =S13*12.5% -> 1311341.2 | BP13: =U13*12.5% -> 625000 | BQ13: =W13*12.5% -> 1250000 | BR13: =Y13*12.5% -> 1612574.2 | BS13: =AA13*12.5% -> 1125000 | BT13: =AC13*12.5% -> 1250000 | BU13: =AE13*12.5% -> 62500 | BV13: =AG13*12.5% -> 62500 | BW13: =AI13*12.5% -> 62500 | BX13: =AK13*12.5% -> 62500 | BY13: =AM13*12.5% -> 62500 | BZ13: =AO13*12.5% -> 62500 | CA13: =AQ13*12.5% -> 62500 | CB13: =AS13*12.5% -> 62500 | CC13: =AT13*12.5% -> 2042830.5 | CD13: =AU13*12.5% -> 1250000 | CE13: =AW13*12.5% -> 137500 | CF13: =AY13*12.5% -> 137500 | CG13: =BA13*12.5% -> 862500 | CH13: =BC13*12.5% -> 862500 | CI13: =BE13*12.5% -> 862500 | CJ13: =BG13*12.5% -> 862500
B14: 342 | C14: Laterales escaleras electricas (2 caras) en aeropuerto, 4x0 tintas, incluye producción e instalación en el sitio donde se requiera. Además incluye arrendamiento del espacio por una semana. | D14: 1 par de laterales por una semana | E14: 1 par de laterales por una semana | F14: 19853139 | G14: 18661951 | H14: 17565103 | I14: 16511197 | J14: 17623459 | K14: 16566051 | L14: 17682009 | M14: 16621088 | N14: 15497976 | O14: 1000000 | P14: 15549465 | Q14: 14616497 | R14: 11160351 | S14: 10490730 | T14: 11197429 | U14: 10525583 | V14: 15704959 | W14: 14762661 | X14: 13724036 | Y14: 12900594 | Z14: 15809485 | AA14: 14860916 | AB14: 13815377 | AC14: 12986454 | AD14: 11384674 | AE14: 500000 | AF14: 13907327 | AG14: 500000 | AH14: 9960468 | AI14: 500000 | AJ14: 13999889 | AK14: 500000 | AL14: 14046401 | AM14: 500000 | AN14: 12248524 | AO14: 500000 | AP14: 14139888 | AQ14: 500000 | AR14: 12330045 | AS14: 500000 | AT14: 16342644 | AU14: 15000000 | AV14: 14281287 | AW14: 1200000 | AX14: 10228299 | AY14: 1200000 | AZ14: 10787575 | BA14: 1500000 | BB14: 10228299 | BC14: 1500000 | BD14: 12453346 | BE14: 1500000 | BF14: 14765258 | BG14: 1500000 | BI14: =G14*12.5% -> 2332743.9 | BJ14: =I14*12.5% -> 2063899.6 | BK14: =K14*12.5% -> 2070756.4 | BL14: =M14*12.5% -> 2077636 | BM14: =O14*12.5% -> 125000 | BN14: =Q14*12.5% -> 1827062.1 | BO14: =S14*12.5% -> 1311341.2 | BP14: =U14*12.5% -> 1315697.9 | BQ14: =W14*12.5% -> 1845332.6 | BR14: =Y14*12.5% -> 1612574.2 | BS14: =AA14*12.5% -> 1857614.5 | BT14: =AC14*12.5% -> 1623306.8 | BU14: =AE14*12.5% -> 62500 | BV14: =AG14*12.5% -> 62500 | BW14: =AI14*12.5% -> 62500 | BX14: =AK14*12.5% -> 62500 | BY14: =AM14*12.5% -> 62500 | BZ14: =AO14*12.5% -> 62500 | CA14: =AQ14*12.5% -> 62500 | CB14: =AS14*12.5% -> 62500 | CC14: =AT14*12.5% -> 2042830.5 | CD14: =AU14*12.5% -> 1875000 | CE14: =AW14*12.5% -> 150000 | CF14: =AY14*12.5% -> 150000 | CG14: =BA14*12.5% -> 187500 | CH14: =BC14*12.5% -> 187500 | CI14: =BE14*12.5% -> 187500 | CJ14: =BG14*12.5% -> 187500
B15: 343 | C15: Pendones en vacio en aeropuerto. 150cm x 700cm, 4x4 tintas, incluye producción e instalación en el sitio donde se requiera. | D15: 1 pendón | E15: 1 pendón | F15: 21813981 | G15: 4000000 | H15: 19040815 | I15: 4000000 | J15: 19104074 | K15: 4000000 | L15: 19167543 | M15: 4000000 | N15: 17006811 | O15: 2000000 | P15: 17063312 | Q15: 4000000 | R15: 12528312 | S15: 4000000 | T15: 12569935 | U15: 2000000 | V15: 17233945 | W15: 4000000 | X15: 14757084 | Y15: 4000000 | Z15: 17348648 | AA15: 4000000 | AB15: 14855301 | AC15: 4000000 | AD15: 12780131 | AE15: 4000000 | AF15: 14954172 | AG15: 4000000 | AH15: 9321832 | AI15: 4000000 | AJ15: 15053701 | AK15: 4000000 | AL15: 15103714 | AM15: 4000000 | AN15: 10871460 | AO15: 4000000 | AP15: 15204238 | AQ15: 4000000 | AR15: 10871460 | AS15: 4000000 | AT15: 17933713 | AU15: 4000000 | AV15: 15356281 | AW15: 4000000 | AX15: 9321832 | AY15: 4000000 | AZ15: 10871460 | BA15: 4000000 | BB15: 9321832 | BC15: 4000000 | BD15: 10871460 | BE15: 4000000 | BF15: 14693318 | BG15: 4000000 | BI15: =G15*12.5% -> 500000 | BJ15: =I15*12.5% -> 500000 | BK15: =K15*12.5% -> 500000 | BL15: =M15*12.5% -> 500000 | BM15: =O15*12.5% -> 250000 | BN15: =Q15*12.5% -> 500000 | BO15: =S15*12.5% -> 500000 | BP15: =U15*12.5% -> 250000 | BQ15: =W15*12.5% -> 500000 | BR15: =Y15*12.5% -> 500000 | BS15: =AA15*12.5% -> 500000 | BT15: =AC15*12.5% -> 500000 | BU15: =AE15*12.5% -> 500000 | BV15: =AG15*12.5% -> 500000 | BW15: =AI15*12.5% -> 500000 | BX15: =AK15*12.5% -> 500000 | BY15: =AM15*12.5% -> 500000 | BZ15: =AO15*12.5% -> 500000 | CA15: =AQ15*12.5% -> 500000 | CB15: =AS15*12.5% -> 500000 | CC15: =AT15*12.5% -> 2241714.1 | CD15: =AU15*12.5% -> 500000 | CE15: =AW15*12.5% -> 500000 | CF15: =AY15*12.5% -> 500000 | CG15: =BA15*12.5% -> 500000 | CH15: =BC15*12.5% -> 500000 | CI15: =BE15*12.5% -> 500000 | CJ15: =BG15*12.5% -> 500000
B16: 344 | C16: Pendones en vacio en aeropuerto. 150cm x 700cm, 4x4 tintas, incluye producción e instalación en el sitio donde se requiera. Además incluye arrendamiento del espacio por una semana. | D16: 1 pendón por una semana | E16: 1 pendón por una semana | F16: 21813981 | G16: 20505142 | H16: 19040815 | I16: 17898366 | J16: 19104074 | K16: 17957830 | L16: 19167543 | M16: 18017490 | N16: 17006811 | O16: 3000000 | P16: 17063312 | Q16: 6000000 | R16: 12528312 | S16: 11776613 | T16: 12569935 | U16: 5000000 | V16: 17233945 | W16: 13000000 | X16: 14757084 | Y16: 13871659 | Z16: 17348648 | AA16: 16307729 | AB16: 14855301 | AC16: 13963983 | AD16: 12780131 | AE16: 1200000 | AF16: 14954172 | AG16: 1200000 | AH16: 9000130 | AI16: 1200000 | AJ16: 15053701 | AK16: 14150479 | AL16: 15103714 | AM16: 10000000 | AN16: 10496279 | AO16: 1200000 | AP16: 15204238 | AQ16: 1200000 | AR16: 10496279 | AS16: 1200000 | AT16: 17933713 | AU16: 16000000 | AV16: 15356281 | AW16: 800000 | AX16: 9000130 | AY16: 1200000 | AZ16: 10496279 | BA16: 2500000 | BB16: 9000130 | BC16: 2500000 | BD16: 10496279 | BE16: 2500000 | BF16: 14666183 | BG16: 2500000 | BI16: =G16*12.5% -> 2563142.8 | BJ16: =I16*12.5% -> 2237295.8 | BK16: =K16*12.5% -> 2244728.8 | BL16: =M16*12.5% -> 2252186.2 | BM16: =O16*12.5% -> 375000 | BN16: =Q16*12.5% -> 750000 | BO16: =S16*12.5% -> 1472076.6 | BP16: =U16*12.5% -> 625000 | BQ16: =W16*12.5% -> 1625000 | BR16: =Y16*12.5% -> 1733957.4 | BS16: =AA16*12.5% -> 2038466.1 | BT16: =AC16*12.5% -> 1745497.9 | BU16: =AE16*12.5% -> 150000 | BV16: =AG16*12.5% -> 150000 | BW16: =AI16*12.5% -> 150000 | BX16: =AK16*12.5% -> 1768809.9 | BY16: =AM16*12.5% -> 1250000 | BZ16: =AO16*12.5% -> 150000 | CA16: =AQ16*12.5% -> 150000 | CB16: =AS16*12.5% -> 150000 | CC16: =AT16*12.5% -> 2241714.1 | CD16: =AU16*12.5% -> 2000000 | CE16: =AW16*12.5% -> 100000 | CF16: =AY16*12.5% -> 150000 | CG16: =BA16*12.5% -> 312500 | CH16: =BC16*12.5% -> 312500 | CI16: =BE16*12.5% -> 312500 | CJ16: =BG16*12.5% -> 312500
