Workbook
Name __123Graph_A: #REF!
Name __123Graph_AGraph2: #REF!
Name __123Graph_X: #REF!
Name _Fill: #REF!
Name _Key1: #REF!
Name _MttoRp2: #REF!
Name _scenchg1: #REF!
Name _Sort: #REF!
Name _X: #REF!
Name _X_10: #REF!
Name _X_3: #REF!
Name _X_4: #REF!
Name _X_5: #REF!
Name _X_6: #REF!
Name _X_7: #REF!
Name _X_8: #REF!
Name _X_9: #REF!
Name _Z: #REF!
Name _Z_10: #REF!
Name _Z_3: #REF!
Name _Z_4: #REF!
Name _Z_5: #REF!
Name _Z_6: #REF!
Name _Z_7: #REF!
Name _Z_8: #REF!
Name _Z_9: #REF!
Name a: #REF!
Name A_ARCINIEGAS: #REF!
Name A_impresión_IM: #REF!
Name AAA_10: #REF!
Name AAA_3: #REF!
Name AAA_4: #REF!
Name AAA_5: #REF!
Name AAA_6: #REF!
Name AAA_7: #REF!
Name AAA_8: #REF!
Name AAA_9: #REF!
Name aas: #REF!
Name ACTA1: #REF!
Name ACTA2: #REF!
Name ads: #REF!
Name AIU: #REF!
Name asdda: #REF!
Name asdf: #REF!
Name asdfds: #REF!
Name asdflkjh: #REF!
Name Base_datos_IM: #REF!
Name BOX__: #REF!
Name Buscar: #REF!
Name CANTIDAD: #REF!
Name CARRO: #REF!
Name CINCUENTA: #REF!
Name COSTODIRECTO: #REF!
Name Criterios_IM: #REF!
Name CUAL_10: #REF!
Name CUAL_3: #REF!
Name CUAL_4: #REF!
Name CUAL_5: #REF!
Name CUAL_6: #REF!
Name CUAL_7: #REF!

Sheet Estudio de Mercado
A1: COTIZACIONES HERRAMIENTAS E INSUMOS
A2: ELEMENTO | B2: DESCRIPCION | C2: UNIDAD | D2: DOTACIONES DEL TOLIMA | E2: DISTRIDOTACIONES | F2: DORA EXPRESS DEL TOLIMA | G2: FERREFLEJES | H2: CENTRAL PECUARIA | I2: ACEROS P&G | J2: COLFRUTALES | K2: CEMPROFOREST | L2: SEV COLOMBIA | M2: ALVARO RODRIGUEZ S. | N2: PROMEDIOS | O2: KILO | P2: GRAMO
A3: INSUMOS AGRICOLAS
A4: Abono orgánico compostado -Lombriabono | B4: Lombroabono: polvo granular color café oscuro con olor caracteristico a tierra húmeda, obtenido por medio de la transformacion de la materia orgánica con lombriz roja californiana. Con Registro ICA y etiquetado cada bulto indicando las caracteristicas fisicoquimicas y biologicas del lombriabono. | C4: Bulto 50 Kg | G4: 72100 | I4: 69300 | J4: 52500 | K4: 71334 | L4: 74550 | N4: =+(J4+K4+L4+G4+I4)/5 -> 67956.8 | O4: =+N4/50 -> 1359.136
A5: Insecticida granular (hormiga) | B5: Cebo toxico control hormiga cortadora de hoja (Ingrediente Activo: Abamectina: Avermectina B1a, mezcla de avermectinas) | C5: Libra 500 gr | G5: 39500 | H5: 25450 | I5: 42500 | N5: =+(G5+H5+I5)/3 -> 35816.667
A6: Fertilizante Quimico Compuesto (Tripe 15) | B6: Fertilizante quimico compuesto N-P-K: Nitrógeno Total 15% (con mayor contenido de Nitrógeno Amoniacal) Fósforo asimilable como (P2O5) ………… 15% Potasio Soluble en Agua (K2O) 15% Apariencia sólida granulado de color beige. Inoloro o débil olor. Ph (solución 5%) 5,5-6,0. Con REGISTRO ICA. | C6: Bulto 50 Kg | G6: 210000 | H6: 128700 | I6: 205480 | N6: =+(G6+H6+I6)/3 -> 181393.33 | O6: =+N6/50 -> 3627.8667
A7: Fertilizante Quimico Compuesto | B7: Agrimins (NPK. Em) | C7: Bulto 46 Kg | G7: 185000 | H7: 133800 | I7: 190000 | N7: =+(G7+H7+I7)/3 -> 169600 | O7: =+N7/46 -> 3686.9565
A8: Fertilizante Quimico Compuesto (Triple 18) | B8: Fertilizante quimico compuesto N-P-K: Nitrógeno Total 18,4% (con mayor contenido de Nitrógeno organico) Fósforo asimilable como (P2O5) ………… 18% Potasio Soluble en Agua (K2O) 18% Totalmente soluble en agua, 100 % asimilable diseñado para preparar soluciones nutritivas para uso foliar y radicular en todo tipo de cultivos. Con REGISTRO ICA. | C8: =+C6 -> Bulto 50 Kg | G8: 180000 | H8: 141800 | I8: 182300 | N8: =+(G8+H8+I8)/3 -> 168033.33 | O8: =+N8/50 -> 3360.6667
A9: Fertilizante | B9: Fosfato Diamonico DAP | C9: =+C7 -> Bulto 46 Kg | G9: 190200 | H9: 177400 | I9: 193450 | N9: =+(G9+H9+I9)/3 -> 187016.67 | O9: =+N9/46 -> 4065.5797
A10: Fertilizante Quimico Simple | B10: Urea | C10: =+C8 -> Bulto 50 Kg | G10: 180000 | H10: 116400 | I10: 182300 | N10: =+(G10+H10+I10)/3 -> 159566.67 | O10: =+N10/50 -> 3191.3333
A11: Herbicida graminicida (Galón/Ha) | B11: SOCIO | G11: 49200 | H11: 25150 | I11: 49750 | N11: =+(G11+H11+I11)/3 -> 41366.667
A12: GRAMINICIDA Lt | B12: CAMPERO | C12: Litro | G12: 49200 | H12: 33450 | I12: 48600 | N12: =+(G12+H12+I12)/3 -> 43750
A13: Insecticida Liquido | B13: Cipermitrina | C13: Litro | G13: 38650 | H13: 31250 | I13: 39650 | N13: =+(G13+H13+I13)/3 -> 36516.667
A14: Insecticida Liquido | B14: Amulet | C14: Litro | G14: 71000 | I14: 69780 | N14: =+(G14+H14+I14)/2 -> 70390
A15: Abonaza (Gr./Arb.) | B15: Gallinaza - Compost | C15: Bulto | G15: 41500 | H15: 27500 | I15: 42500 | N15: =+(G15+H15+I15)/3 -> 37166.667
A16: Correctivo | B16: Cal dolomita | C16: Bulto 50 Kg | G16: 36700 | H16: 21500 | I16: 37100 | N16: =+(G16+H16+I16)/3 -> 31766.667 | O16: =+N16/50 -> 635.33333
A17: Correctivo | B17: Hidroretenedor (Debe ser con copolimero de acrilamida y crilato de potasio. | C17: Kilo | G17: 65000 | H17: 70000 | I17: 68550 | N17: =+(G17+H17+I17)/3 -> 67850
A18: Pintura (Color Amarillo) | B18: Aceite | C18: Galon | G18: 48500 | I18: 49600 | N18: =+(G18+H18+I18)/2 -> 49050
A19: Disolvente | B19: Tiner | C19: Galon | G19: 38600 | I19: 39500 | N19: =+(G19+H19+I19)/2 -> 39050
A20: HERRAMIENTAS AGRICOLAS
A22: Lima | B22: Triangular 6" | C22: Unidad | G22: 5900 | H22: 4150 | I22: 7500 | N22: =+(G22+H22+I22)/3 -> 5850
A23: Machete | B23: Tres Canales 20" | C23: Unidad | G23: 29500 | H23: 25400 | I23: 29900 | N23: =+(G23+H23+I23)/3 -> 28266.667
A24: Azadon | B24: Pachuno con Cabo | C24: Unidad | G24: 48600 | H24: 42100 | I24: 45300 | N24: =+(G24+H24+I24)/3 -> 45333.333
A25: Paladraga | B25: Con Mango | C25: Unidad | G25: 73500 | H25: 59200 | I25: 75000 | N25: =+(G25+H25+I25)/3 -> 69233.333
A26: Palin | B26: Ahoyador con Cabo | C26: Unidad | G26: 38500 | H26: =19000+8613 -> 27613 | I26: 39500 | N26: =+(G26+H26+I26)/3 -> 35204.333
A27: Alambre | B27: Pua 12.5 x 350 Mts. | C27: Rollo | G27: 298500 | H27: 268000 | I27: 272180 | N27: =+(G27+H27+I27)/3 -> 279560
A28: Alambre dulce | B28: Galvanizado 12.5 x 25 Kilos | C28: Rollo | H28: 259777 | I28: 220000 | N28: =(H28+I28)/2 -> 239888.5 | O28: =+N28/25 -> 9595.54
A29: Pivotes | B29: Aislador Pivote Amarillo x 100 unidades (con puntilla) | C29: Bolsa | H29: 31535 | N29: =+H29 -> 31535
A30: Grapa | B30: Galvanizada 1 1/4" | C30: Kilo | G30: 8900 | H30: 7400 | I30: 8550 | N30: =+(G30+H30+I30)/3 -> 8283.3333
A31: Barra Acero | B31: 16 Lbs. | C31: Unidad | G31: 98500 | H31: 90800 | I31: 99500 | N31: =+(G31+H31+I31)/3 -> 96266.667
A32: Martillo | B32: Acero 27" | C32: Unidad | G32: 28500 | H32: 17500 | I32: 27900 | N32: =+(G32+H32+I32)/3 -> 24633.333
A33: Alicate | B33: Tipo Diablo | C33: Unidad | G33: 47600 | H33: 39100 | I33: 49200 | N33: =+(G33+H33+I33)/3 -> 45300
A34: Brocha | B34: Punta Verde 3" | C34: Unidad | G34: 14800 | I34: 15500 | N34: =+(G34+H34+I34)/2 -> 15150
A35: Fumigadora | B35: Bomba espalda 20 Lts | C35: Unidad | G35: 430600 | H35: 378550 | I35: 445000 | N35: =+(G35+H35+I35)/3 -> 418050
A36: ELEMENTOS DE PROTECCION PERSONAL
A37: Bota | B37: Caucho Caña Alta | C37: Par | D37: 60000 | E37: 75000 | F37: 68000 | N37: =+(D37+E37+F37)/3 -> 67666.667
A38: Guantes | B38: Carnaza | C38: Par | D38: 18000 | E38: 25000 | F38: 22000 | N38: =+(D38+E38+F38)/3 -> 21666.667
A39: Guantes | B39: nitrilo | C39: par | D39: 9000 | E39: 13000 | F39: 11000 | N39: =+(D39+E39+F39)/3 -> 11000
A40: Tapabocas | B40: Desechable, De tres pliegues, Con cordón elástico, Empaque individual | C40: Unidad | D40: 300 | E40: 1000 | F40: 360 | N40: =+(D40+E40+F40)/3 -> 553.33333
A41: Gafas | B41: Seguridad | C41: Unidad | D41: 15000 | E41: 19000 | F41: 17000 | N41: =+(D41+E41+F41)/3 -> 17000
...

Sheet CERCA VIVA
B3: COSTOS ENRIQUECIMIENTO FORESTAL CORTOLIMA
B4: SISTEMA A IMPLEMENTAR: | C4: CERCA VIVA-Y/O ENRIQUECIMIENTO FORESTAL
B5: CORPORACIÓN / AAU: | C5: CORTOLIMA
B6: NOMBRE DEL PROYECTO : | C6: RESTAURACION ECOLOGICA PAI GUARINO- AMOYA 2026
B8: DISEÑO DE LA PLANTACIÓN | C8: ALEATORIO | E8: Costo Unitario ($)
B10: 1. Numero de plantulas arboreas por Ha (RP) | C10: frio | E10: 0
B11: 2. Número de Plántulas Arboreas por Ha (RP) | C11: Caliente | E11: 0
B12: 3. Número de Plántulas Arboreas por Ha (EF) | D12: 11126 | E12: ='Estudio de Mercado'!N50 -> 5450
B13: 4. Porcentaje de reposición % | C13: 0.15 | D13: =+D12*C13 -> 1668.9
B14: 6. Insumos Agricolas. | C14: Descripcion | D14: Cantidad Aplicación | E14: Costo $ / kg ó Lt
B15: Fertilizante Quimico Compuesto (Gr./Arb.) | C15: Agrimins (NPK.Em) | D15: 70 | E15: ='Estudio de Mercado'!O7 -> 3686.9565
B16: Fertilizante Quimico Simple (Gr./Arb.) | C16: UREA | D16: 75 | E16: ='Estudio de Mercado'!O10 -> 3191.3333
B17: Lombriabono (Gr./Arb.) | C17: Humus | D17: 400 | E17: ='Estudio de Mercado'!O4 -> 1359.136
B18: Fertilizante Quimico Compuesto (Gr./Arb.) | C18: Triple 15 | D18: 75 | E18: ='Estudio de Mercado'!O6 -> 3627.8667
B19: Correctivo (Gr./Arb.) | C19: Hidroretenedor | D19: 4.5 | E19: ='Estudio de Mercado'!N17 -> 67850
B20: Correctivo (Kg./Ha.) | C20: Cal dolomita | D20: 60 | E20: ='Estudio de Mercado'!O16 -> 635.33333
B21: Insecicida líquido (Lts/Ha.) | C21: Amulet | D21: 1 | E21: ='Estudio de Mercado'!N14 -> 70390
B22: Insecicida líquido (Lts/Ha.) | C22: Cipermetryna | D22: 1 | E22: ='Estudio de Mercado'!N13 -> 36516.667
B23: 7. Costo Jornal Promedio Region (seguridad social, aportes parafiscales, prestaciones sociales) | C23: Jornal | D23: Global | E23: ='Estudio de Mercado'!B71 -> 77421
B24: 8. Herramientas (5% de la MAO) | C24: Global | D24: 0.05
B25: 9. Elementos de Proteccion Personal (5% de la MO) | C25: Global | D25: 0.05
B26: 10. Costo Flete Promedio Mula (Trans Interno) | C26: Flete | D26: 85000
B27: 11. Transporte Mayor Insumos (15% de Insumos) | C27: Global | D27: 0.15
B29: A. ESTABLECIMIENTO CERCO VIVO Y/O ENRIQUECIMIENTO FORESTAL
B30: CATEGORIA DE INVERSION | C30: Unidad | D30: Cantidad / Ha | E30: Valor Unitario ($) | F30: Valor Total/Ha ($) | G30: Valor Total Proyecto ($)
B31: 1, COSTOS DIRECTOS
B32: 1.1. MANO DE OBRA
B33: Preparación del terreno | C33: Mts Cuadrados | D33: 10000 | E33: =+(($E$23*D69)/D33) -> 77.421 | F33: =+D33*E33 -> 774210 | G33: =+F33 -> 774210
B34: Trazado | C34: Arboles | D34: =+$D$12 -> 11126 | E34: =+(($E$23*D70)/D34) -> 41.751393 | F34: =+D34*E34 -> 464526 | G34: =+F34 -> 464526
B35: Plateo (2) | C35: Plateo | D35: =+$D$12 -> 11126 | E35: =+(($E$23*D71)/D35) -> 83.502786 | F35: =+D35*E35 -> 929052 | G35: =+F35*2 -> 1858104
B36: Ahoyado y Repique | C36: Arboles | D36: =+$D$12 -> 11126 | E36: =+(($E$23*D72)/D36) -> 97.419917 | F36: =+D36*E36 -> 1083894 | G36: =+F36 -> 1083894
B37: Aplicación de Correctivos | C37: Arboles | D37: =+$D$12 -> 11126 | E37: =+(($E$23*D73)/D37) -> 42.564289 | F37: =+D37*E37 -> 473570.28 | G37: =+F37 -> 473570.28
B38: Aplicación de Fertilizantes (2) | C38: Arboles | D38: =+$D$12 -> 11126 | E38: =+(($E$23*D74)/D38) -> 41.751393 | F38: =+D38*E38 -> 464526 | G38: =+F38*2 -> 929052
B39: Transporte interno de insumos | C39: Flete | D39: =+D75 -> 243.97567 | E39: =+D26 -> 85000 | F39: =+D39*E39 -> 20737932 | G39: =+F39 -> 20737932
B40: Siembra | C40: Arboles | D40: =+$D$12 -> 11126 | E40: =+(($E$23*D76)/D40) -> 104.37848 | F40: =+D40*E40 -> 1161315 | G40: =+F40 -> 1161315
B41: Control fitosanitario (2) | C41: Arboles | D41: =+$D$12 -> 11126 | E41: =+(($E$23*D77)/D41) -> 41.751393 | F41: =+D41*E41 -> 464526 | G41: =+F41*2 -> 929052
B42: Reposición (Replante) | C42: Arboles | D42: =D13 -> 1668.9 | E42: =+(($E$23*D78)/D42) -> 463.90437 | F42: =+D42*E42 -> 774210 | G42: =+F42 -> 774210
B43: Limpias (2) | C43: Mts Cuadrados | D43: 10000 | E43: =+(($E$23*D79)/D43) -> 76.64679 | F43: =+D43*E43 -> 766467.9 | G43: =+F43*2 -> 1532935.8
B44: Adecuación de Barreras Cortafuego (2) | C44: Mts Lineales | D44: 1000 | E44: =+(($E$23*D80)/D44) -> 696.789 | F44: =+D44*E44 -> 696789 | G44: =+F44*2 -> 1393578
B45: SUBTOTAL MANO DE OBRA | F45: =+SUM(F33:F44) -> 28791018 | G45: =+SUM(G33:G44) -> 32112379
...

Sheet AISLAMIENTO
B3: COSTOS AISLAMIENTO
B4: SISTEMA A IMPLEMENTAR: | C4: AISLAMIENTO PROTECTOR TRADICIONAL
B5: CORPORACIÓN / AAU: | C5: CORTOLIMA
B6: NOMBRE DEL PROYECTO : | C6: RESTAURACION ECOLOGICA PAI GUARINO- AMOYA 2026
B8: META RESTAURACIÓN PASIVA (Has) | C8: 0 | D8: Metros/Has
B10: DISEÑO DE AISLAMIENTO | D10: Costo Unitario $ | E10: ESPECIFICACIONES TECNICAS
B11: # Postes plasticos/KM | C11: 400 | D11: ='Estudio de Mercado'!N46 -> 45166.667 | E11: Dimensión del poste | G11: (8x8x210cm)
B12: # Postes Piedeamigo/KM | C12: 47 | D12: ='Estudio de Mercado'!N47 -> 29550 | E12: Dimension poste madera (Inmunizado) | G12: (10x10x220 cm)
B13: # Postes de reemplazo/ KM (Mantenimiento) (5%) | C13: =+C11*5% -> 20 | D13: =+'[1]Estudio de Mercado'!N47 -> 29333.333 | E13: Peso poste plastico Aprox. (Kg) | G13: 10
B14: Alambre de pua/Rollos alambre/KM | C14: 9 | D14: ='Estudio de Mercado'!N27 -> 279560 | E14: Peso poste madera Aprox. (Kg) | G14: 16
B15: Alambre galvanizado Kg/Km | C15: 42 | D15: =+'[1]Estudio de Mercado'!O28 -> 10391.08 | E15: Distancia entre postes (m) | G15: 2.5
B16: Grapas/km en kg. (180 Grapas/Kg) | C16: 7.5 | D16: =+'[1]Estudio de Mercado'!N30 -> 8283.3333 | E16: Distancia entre pie de amigos (m) | G16: 20
B17: Aislador pivote x100 unidades(Bolsa) (con puntilla) | C17: 4.5 | D17: =+'[1]Estudio de Mercado'!H29 -> 31535 | E17: Calibre alambre de púa | G17: 12.5
B18: Galon Pintura (Galon) (Señalizacion) / Km | C18: 1 | D18: =+'[1]Estudio de Mercado'!N18 -> 49050 | E18: Calibre alambre dulce | G18: 12.5
B19: Disolvente THINER (Galon) (Señalizacion) / Km | C19: 1 | D19: =+'[1]Estudio de Mercado'!N19 -> 39050 | E19: Metros de alambre dulce x kilo | G19: 27
B20: Costo Flete zona promedio | D20: 85000 | E20: Metros de alambre de pua/rolllo | G20: 350
B21: Costo por Jornal | D21: ='Estudio de Mercado'!B71 -> 77421 | E21: Hilos alambre pua | G21: 3
B22: Costo Transp. mayor (% de insumos) | C22: 0.15 | E22: Hilos de alambre dulce | G22: 1
B23: Herramientas (%M.O.) | C23: 0.05 | E23: Distancia entre hilos (cm) | G23: 25 cm
B24: Elementos de Proteccion Personal (%M.O.) | C24: 0.05 | E24: Dimensión del hoyo cms. (prof. x lados) | G24: 50x40x40
E25: Número de grapas por Poste | G25: 3
E26: Numero de pivotes por poste | G26: 1
E29: META AISLAMIENTO
E30: 12 | G30: KM
B32: ITEM | C32: COSTOS / KM (1000 ML) | G32: COSTO TOTAL AISLAMIENTO
C33: Unidad | D33: Cantidad | E33: Valor Unitario $ | F33: Valor total/Km
B34: 1.COSTOS DIRECTOS
B35: 1.1 Mano de obra
B36: Limpia | C36: ML | D36: 1000 | E36: =+(($D$21*D75)/D36) -> 154.842 | F36: =+D36*E36 -> 154842 | G36: =+F36*$E$30 -> 1858104
B37: Trazado | C37: ML | D37: 1000 | E37: =+(($D$21*D76)/D37) -> 154.842 | F37: =+D37*E37 -> 154842 | G37: =+F37*$E$30 -> 1858104
B38: Ahoyado | C38: ML | D38: 1000 | E38: =+(($D$21*D77)/D38) -> 372.89153 | F38: =+D38*E38 -> 372891.53 | G38: =+F38*$E$30 -> 4474698.3
B39: Transporte menor | C39: Flete | D39: =D82 -> 102.14975 | E39: =+D20 -> 85000 | F39: =+D39*E39 -> 8682728.5 | G39: =+F39*$E$30 -> 1.0419274e+08
B40: Hincado | C40: ML | D40: 1000 | E40: =+(($D$21*D79)/D40) -> 387.105 | F40: =+D40*E40 -> 387105 | G40: =+F40*$E$30 -> 4645260
B41: Templado y grapado | C41: ML | D41: 1000 | E41: =+(($D$21*D80)/D41) -> 232.263 | F41: =+D41*E41 -> 232263 | G41: =+F41*$E$30 -> 2787156
B42: Pintado y Señalizado | C42: ML | D42: 1000 | E42: =+(($D$21*D81)/D42) -> 154.842 | F42: =+D42*E42 -> 154842 | G42: =+F42*$E$30 -> 1858104
B43: Subtotal mano de obra | F43: =+SUM(F36:F42) -> 10139514 | G43: =+SUM(G36:G42) -> 1.2167417e+08
B44: 1.2 Insumos
B45: Alambre de pua (Rollo) | C45: Rollo | D45: =+C14 -> 9 | E45: =+D14 -> 279560 | F45: =+D45*E45 -> 2516040 | G45: =+F45*$E$30 -> 30192480
B46: Alambre dulce | C46: Kg | D46: =+C15 -> 42 | E46: =+D15 -> 10391.08 | F46: =+D46*E46 -> 436425.36 | G46: =+F46*$E$30 -> 5237104.3
B47: Postes plasticos | C47: Poste | D47: =+C11 -> 400 | E47: =+D11 -> 45166.667 | F47: =+D47*E47 -> 18066667 | G47: =+F47*$E$30 -> 2.168e+08
...

Sheet TOTAL PROYECTO
D7: ACTIVIDAD | E7: UNIDAD | F7: CANTTIDAD | G7: VALOR UNITARIO | H7: COSTO TOTAL/ACTIVIDAD
D8: CERVA VIVA/ ENR. FORESTAL | E8: arbol | F8: ='CERCA VIVA'!D12 -> 11126 | G8: ='CERCA VIVA'!G63/'CERCA VIVA'!D12 -> 12587.832 | H8: ='CERCA VIVA'!G63 -> 1.4005222e+08
D9: AISLAMIENTO | E9: km | F9: =AISLAMIENTO!E30 -> 12 | G9: =AISLAMIENTO!G60/AISLAMIENTO!E30 -> 37258597 | H9: =AISLAMIENTO!G60 -> 4.4710317e+08
D10: PRESUPUESTO OFICIAL | H10: =SUM(H8:H9) -> 5.8715538e+08
