Workbook
Name \a: #REF!
Name \b: #REF!
Name \c: #REF!
Name \i: #REF!
Name \L: #REF!
Name \m: #REF!
Name \o: #REF!
Name \P: #REF!
Name \t: #REF!
Name \x: #REF!
Name \z: #REF!
Name _____________cua1: #REF!
Name _____________DMD1: #REF!
Name _____________VPD1: #REF!
Name _____________VPI1: #REF!
Name _____________VRA1: #REF!
Name ____________cua1: #REF!
Name ____________DMD1: #REF!
Name ____________VPD1: #REF!
Name ____________VPI1: #REF!
Name ____________VRA1: #REF!
Name ___________cua1: #REF!
Name ___________DMD1: #REF!
Name ___________VPD1: #REF!
Name ___________VPI1: #REF!
Name ___________VRA1: #REF!
Name __________cua1: #REF!
Name __________DMD1: #REF!
Name __________INF1: #REF!
Name __________MA2: #REF!
Name __________Rc: #REF!
Name __________VPD1: #REF!
Name __________VPI1: #REF!
Name __________VRA1: #REF!
Name _________cua1: #REF!
Name _________DMD1: #REF!
Name _________INF1: #REF!
Name _________MA2: #REF!
Name _________Rc: #REF!
Name _________VPD1: #REF!
Name _________VPI1: #REF!
Name _________VRA1: #REF!
Name ________cua1: #REF!
Name ________DMD1: #REF!
Name ________INF1: #REF!
Name ________MA2: #REF!
Name ________Rc: #REF!
Name ________VPD1: #REF!
Name ________VPI1: #REF!
Name ________VRA1: #REF!
Name _______ALL4: #REF!
Name _______cua1: #REF!
Name _______DMD1: #REF!
Name _______INF1: #REF!
Name _______MA2: #REF!
Name _______mor15: #REF!
Name _______PRE12: #REF!
Name _______rc: #REF!
Name _______VPD1: #REF!
Name _______VPI1: #REF!

Sheet P
A1: PRESUPUESTO GENERAL
A2: ÍTEM | B2: CAPITULOS Y ACTIVIDADES | C2: UNIDAD DE MEDIDA | D2: CANTIDAD | E2: VALOR UNITARIO | F2: VALOR PARCIAL
A3: 1 | B3: PROVISIONAL
A4: 1.0 | B4: Instalación de CERRAMIENTO PROVISIONAL en tela naranja con una altura de 2,1 m, y estructura en larguero común, concreto de 17.5 Mpa para fijación de estructura en madera común. Incluye suministro, transporte, instalación y desmonte de la tela, excavación manual en cualquier material, cargue, transporte y botada de material y todos los demás elementos necesarios para su correcta instalación. | C4: m | E4: =+#REF! -> #REF! | F4: =ROUND((E4*D4),0) -> #REF!
A5: 2 | B5: EXCAVACIÓN MANUAL
A6: 2.1 | B6: EXCAVACIÓN MANUAL de material heterogéneo DE 0-2 m., bajo cualquier grado de humedad. Incluye: roca descompuesta, bolas de roca de volumen inferior a 0.35 m³. el cargue, transporte interno del material proveniente de las excavaciones en los sitios donde lo indique la interventoría y su medida será en el sitio. No incluye entibado. | C6: m3 | E6: =+#REF! -> #REF! | F6: =ROUND((E6*D6),0) -> #REF!
A7: 3 | B7: LLENOS
A8: 3.1 | B8: Suministro, transporte y colocación de AFIRMADO y todo lo necesario para su correcta construcción y funcionamiento. Su medida será tomada en sitio ya compactado. | C8: m3 | E8: =+#REF! -> #REF! | F8: =ROUND((E8*D8),0) -> #REF!
A9: 3.2 | B9: LLENOS EN ARENILLA, compactados mecánicamente hasta obtener una densidad del 98% de la máxima obtenida en el ensayo del próctor modificado. Incluye el suministro, transporte, colocación de la arenilla, la compactación de la misma y transporte interno. Y su medida será en sitio ya compactado. | C9: m3 | E9: =+#REF! -> #REF! | F9: =ROUND((E9*D9),0) -> #REF!
A10: 4 | B10: RETIROS
A11: 4.1 | B11: RETIRO DE APARATOS SANITARIOS, incluye el cargue, transporte, botada o recuperación de aparatos sanitarios, lavamanos, lavaderos, orinales. Incluye botada en botaderos oficiales y la recuperación de los materiales aprovechables y/o su transporte hasta la bodega o el sitio que indique la interventoría. | C11: un | E11: =+#REF! -> #REF! | F11: =ROUND((E11*D11),0) -> #REF!
A12: 4.2 | B12: RETIRO DE PUERTAS (marco y ala) metálicas, en aluminio, en madera o puerta reja. Incluye el retiro, cargue, transporte, botada de escombros en botaderos oficiales y recuperación de los materiales aprovechables y su transporte hasta la bodega o el sitio que lo indique la interventoría. Ancho variable desde 0,60 a 1,20 m. | C12: un | E12: =+#REF! -> #REF! | F12: =ROUND((E12*D12),0) -> #REF!
A13: 4.3 | B13: RETIRO, CARGUE, TRANSPORTE Y BOTADA DE ESCOMBROS, incluye, el cargue con máquina, repaleo, transporte interno y externo y botada de material tipo escombro en los sitios donde lo indique la interventoría y su medida será en el sitio. | C13: m3 | E13: =+#REF! -> #REF! | F13: =ROUND((E13*D13),0) -> #REF!
A14: 4.4 | B14: RETIRO DE VENTANAS con vidrio, metálicas, en aluminio, en madera o ventana reja. Incluye botada de escombros en botaderos oficiales y recuperación de los materiales aprovechables y su transporte hasta el sitio que lo indique la interventoría. Dimensión variable. | C14: un | E14: =+#REF! -> #REF! | F14: =ROUND((E14*D14),0) -> #REF!
A15: 4.5 | B15: RETIRO DE CANOAS, RUANAS, BAJANTES y TUBERÍAS. Incluye el cargue, transporte, botada escombros en botaderos oficiales, recuperación de los materiales aprovechables y su transporte hasta el sitio que lo indique la interventoría. | C15: m | E15: =+#REF! -> #REF! | F15: =ROUND((E15*D15),0) -> #REF!
A16: 4.6 | B16: RETIRO DE CERRAMIENTO EN MALLA ESLABONADA. Incluye el retiro, cargue y transporte de los materiales, recuperación de los materiales aprovechables como tubería, malla eslabonada y alambre de púas y su transporte hasta el sitio que indique la interventoría, demolición de concreto, cargue, transporte y botada de escombros provenientes de este retiro en botaderos oficiales o donde indique la interventoría. | C16: m2 | E16: =+#REF! -> #REF! | F16: =ROUND((E16*D16),0) -> #REF!
A17: 4.7 | B17: RETIRO DE CUBIERTA EN TEJA DE ASBESTO - CEMENTO, teja plástica o teja similar. Incluye cargue, transporte, botada o recuperación de tablilla, alfardas, cargueras y soleras, cargue, transporte y botada de escombros en botaderos oficiales, recuperación de los materiales aprovechables o su transporte hasta el sitio que lo indique la interventoría. Medido en proyección horizontal. | C17: m2 | E17: =+#REF! -> #REF! | F17: =ROUND((E17*D17),0) -> #REF!
A18: 4.8 | B18: RETIRO DE PIEDRA DE ENTRESUELO para su reutilización en la obra. Incluye cargue, transporte interno para su almacenaje y botada de la arenilla y del material que no se pueda recuperar. | C18: m2 | E18: =+#REF! -> #REF! | F18: =ROUND((E18*D18),0) -> #REF!
A19: 5 | B19: DEMOLICIÓN
A20: 5.1 | B20: DEMOLICIÓN ANDENES O PISOS, cargue, transporte y botada de escombros de ESPESOR MÁXIMO DE 0.20m, en CONCRETO. Incluye retiro de cordones, retiro de enchape (baldosa, baldosín forros en arenón, madera, vinilo, granito esmerilado, concreto, pisos en gres, entre otros), placa de concreto si existe, entresuelo de recebo; retiro y reinstalación de tapas de medidores de acueducto cualquier diámetro, tapas de energía y tapas cajas de teléfono. Incluye compresor neumático con martillo, además recuperación de los materiales aprovechables o su transporte hasta el sitio que lo indique la interventoría. | C20: m2 | E20: =+#REF! -> #REF! | F20: =ROUND((E20*D20),0) -> #REF!
A21: 5.2 | B21: DEMOLICIÓN LOSAS DE CONCRETO cargue, transporte y botada de escombros, manual o mecánicamente, de cualquier resistencia, reforzado o ciclópeo, y en cualquier clase de estructura. Incluye retiro de refuerzo y cualquier tipo de acabado (revoques y enchapes) o piso (en losas) e instalaciones embebidas, compresor neumático con martillo, además recuperación de los materiales aprovechables o su transporte hasta el sitio que lo indique la interventoría. | C21: m3 | E21: =+#REF! -> #REF! | F21: =ROUND((E21*D21),0) -> #REF!
A22: 5.3 | B22: DEMOLICIÓN MAMPOSTERÍA EN LADRILLO DE 10 a 15 cm DE ESPESOR, incluye cargue, transporte y botada de escombros en botaderos oficiales, demolición de revoques y enchapes aplicados en el muro a demoler e instalaciones embebidas, además recuperación de los materiales aprovechables o su transporte hasta el sitio que lo indique la interventoría; se debe de utilizar cortadora para garantizar que los filetes de la demolición queden ortogonales. | C22: m2 | E22: =+#REF! -> #REF! | F22: =ROUND((E22*D22),0) -> #REF!
A23: 5.4 | B23: DEMOLICIÓN MESÓN EN GRANO, cargue, transporte y botada de escombros. Incluye refuerzo e instalaciones embebidas. Además su transporte hasta el sitio que lo indique la interventoría. | C23: m | E23: =+#REF! -> #REF! | F23: =ROUND((E23*D23),0) -> #REF!
A24: 5.5 | B24: DEMOLICIÓN DE ENCHAPE, espesores entre 0.03 y 0.05 m. Incluye cargue, transporte y botada de escombros en botaderos oficiales, demolición de revoques y enchapes aplicados en el muro a demoler e instalaciones embebidas, además recuperación de los materiales aprovechables o su transporte hasta el sitio que lo indique la interventoría. | C24: m2 | E24: =+#REF! -> #REF! | F24: =ROUND((E24*D24),0) -> #REF!
A25: 6 | B25: CONCRETOS
A26: 6.1 | B26: Construcción de ANDÉN en concreto de 21 Mpa. espesor de 0.10m., con vaciado alternado cada metro. Incluye suministro y transporte de los materiales, nivelación del terreno y adecuación de la superficie, acabado escobillado y llaneado 0.10m en los bordes, entresuelo, formaleta en súper T para acabado a la vista, curado y todo lo necesario para su correcta construcción y funcionamiento. Según diseño. Las excavaciones o descapotes se pagarán en su ítem respectivo. | C26: m2 | E26: =+#REF! -> #REF! | F26: =ROUND((E26*D26),0) -> #REF!
A27: 6.2 | B27: Construcción de LOSA DE PISO en concreto de 21 MPa. con un ESPESOR DE 0.12 m. Incluye suministro, transporte, y colocación del concreto, formaleta, vibrado, protección antisol, curado y todos los demás elementos necesarios para su correcta construcción. El entresuelo y el acero de refuerzo se pagará en su respectivo ítem. | C27: m2 | E27: =+#REF! -> #REF! | F27: =ROUND((E27*D27),0) -> #REF!
A28: 6.3 | B28: Construcción de COLUMNAS DE 0.30 x 0.30m. en concreto de 21 MPa, acabado a la vista. Incluye suministro, transporte y colocación del concreto, formaleta en súper "T" de 19mm., aristas biseladas, desmoldante, fluidificante para mezclas de concreto, vibrado, protección, curado y todos los demás elementos necesarios para su correcta construcción según diseño. El acero de refuerzo se pagará en su respectivo ítem. En el vaciado se deben dejar los hierros para el amarre de la mampostería no estructural, por ningún motivo se pagarán anclajes. | C28: m | E28: =+#REF! -> #REF! | F28: =ROUND((E28*D28),0) -> #REF!
A29: 6.4 | B29: Colocación de REVOQUE con mortero 1:4 EN MUROS. Incluye suministro y transporte de los materiales, fajas, ranuras, filetes y todos los demás elementos necesarios para su correcta construcción. | C29: m2 | E29: =+#REF! -> #REF! | F29: =ROUND((E29*D29),0) -> #REF!
A30: 6.5 | B30: Colocación de MORTERO DE NIVELACION con mortero 1:4 EN PISOS, espesor hasta 8 cm. Incluye suministro y transporte de los materiales, fajas, ranuras, filetes y todos los demás elementos necesarios para su correcta construcción. | C30: m2 | E30: =+#REF! -> #REF! | F30: =ROUND((E30*D30),0) -> #REF!
A31: 6.6 | B31: Construcción de DINTELES EN CONCRETO DE 21 Mpa DE 0.10 X 0.20 m. Incluye suministro, transporte y colocación del concreto, formaleta completa, vibrado, curado, este elemento va revocado o enchapado en el mismo material de la mampostería, el acabado se pagará en el ítem respectivo y todos los elementos necesarios para su correcta ejecución. No incluye refuerzo. | C31: m | E31: =+#REF! -> #REF! | F31: =ROUND((E31*D31),0) -> #REF!
A32: 6.7 | B32: Construcción de CUNETA EN "V" en concreto de 21 Mpa., DESARROLLO DE 0.50 m., ESPESOR DE 0.08 m. Incluye suministro, transporte y colocación del concreto, entresuelo 15 cm de piedra y 5 cm de arenilla y todos los demás elementos necesarios para su correcta construcción. Según diseño. | C32: m | E32: =+#REF! -> #REF! | F32: =ROUND((E32*D32),0) -> #REF!
A33: 7 | B33: ACERO DE REFUERZO
A34: 7.1 | B34: Suministro, transporte e instalación de ACERO DE REFUERZO FIGURADO FY= 420 Mpa-60000 PSI, corrugado. Incluye transporte con descarga, transporte interno, alambre de amarre, certificados y todos los elementos necesarios para su correcta instalación, según diseño y recomendaciones estructurales. | C34: kg | E34: =+#REF! -> #REF! | F34: =ROUND((E34*D34),0) -> #REF!
A35: 8 | B35: MALLA ELECTROSOLDADA
A36: 8.1 | B36: Colocación de MALLA ELECTROSOLDADA TIPO D 84. Incluye el suministro y el transporte del material y todos los elementos necesarios para su correcta colocación. | C36: m2 | E36: =+#REF! -> #REF! | F36: =ROUND((E36*D36),0) -> #REF!
A37: 9 | B37: PINTURA
A38: 9.1 | B38: RESANE Y REPINTE de PINTURA ACRÍLICA tipo Koraza o equivalente para exteriores (hidrorepelente) de primera calidad que cumpla con la Norma NTC 1335, 2 manos o las que sean necesarias para obtener una superficie pareja y homogénea, a satisfacción de la interventoría. Incluye suministro y transporte de los materiales, preparada, retiro de pintura vieja existente, lijada y adecuación de la superficie a intervenir. Color a definir según aprobación de la interventoría. | C38: m2 | E38: =+#REF! -> #REF! | F38: =ROUND((E38*D38),0) -> #REF!
A39: 9.2 | B39: Aplicación de PINTURA A BASE DE AGUA EN MUROS, CON VINILO TIPO 1 de primera calidad sobre muros revocados y/o estucados, tres manos o las necesarias hasta obtener una superficie pareja y homogénea. Incluye suministro y transporte de los materiales, resanes, tapa poros en estuco plástico tipo plastestuco o equivalente diluido en agua proporción 1:2, adecuación de la superficie a intervenir hasta obtener una superficie pareja y homogénea, color a definir según aprobación de la interventoría. | C39: m2 | E39: =+#REF! -> #REF! | F39: =ROUND((E39*D39),0) -> #REF!
A40: 9.3 | B40: Aplicación de ESMALTE A BASE DE ACEITE ENTRE 0,4 - 0,5 m DE ALTURA PARA ZOCALO, dos manos o las necesarias hasta obtener una superficie pareja y homogénea. Incluye suministro y transporte de los materiales, disolvente para pinturas a base de aceite, adecuación de la superficie a intervenir hasta obtener una superficie pareja y homogénea, color a definir según aprobación de la interventoría. | C40: ml | E40: =+#REF! -> #REF! | F40: =ROUND((E40*D40),0) -> #REF!
...

Sheet BALANCE
B6: ACTA MODIFICATORIA N°1
B7: OBJETO: OBJETO: MEJORAMIENTO Y ADECUACIÓN DE LAS VIAS URBANAS DEL MUNICIPIO DE SANTA FE DE ANTIOQUIA | D7: CONTRATO DE OBRA PUBLICA No: CD-020-2026
B8: DEPARTAMENTO: ANTIOQUIA | D8: VALOR CONTRATO: $ 319.722.077 (TRESCIENTOS DIECINUEVE SETESCIENTOS VEINTIDOS MIL SETENTA Y SIETE PESOS M/CTE)
B9: ENTIDAD CONTRATANTE: ALCALDÍA DE SANTA FE DE ANTIOQUIA | D9: VALOR ACTA ANTICIPADA :
B10: SUPERVISOR: VALENTINA | D10: CONTRATISTA: GRUPO BAW S.A.S
B11: REPRESENTANTE LEGAL: | D11: REPRESENTANTE LEGAL: ANDERSON STEVE BARRERA ARIAS
D12: PLAZO INICIAL: UN (01) MES Y QUINCE (15) DIAS A PARTIR DE LA FIRMA DEL ACTA DE INICIO
D13: FECHA DE TERMINACION: 13 DE JUNIO DE 2026
B15: CONDICIONES CONTRACTUALES | H15: CONDICIONES REALES | I15: MODIFICACIONES | K15: CONDICIONES ACTUALIZADAS
B18: ITEM | C18: DESCRIPCION | D18: UND. | E18: CANT. | F18: V/UNIT. | G18: VALOR | H18: CANT. REAL A EJEC. | I18: (+/-) CANT | J18: VALOR | K18: CANT. | L18: VALOR
B19: 1 | C19: PRELIMINARES
B20: 1.1 | C20: Localización, trazado y replanteo del proyecto. Se utilizará equipo de precisión, personal experto. Se hará con la frecuencia que lo indique la interventoria. incluye demarcación con pintura, línea de trazado, corte de piso, libretas, planos. | D20: día | E20: 6 | F20: 969157 | G20: =+ROUND(E20*F20,0) -> 5814942 | H20: 6 | I20: =H20-E20 -> 0 | J20: =+I20*F20 -> 0 | K20: =I20+E20 -> 6 | L20: =ROUND(K20*F20,0) -> 5814942
B21: 2 | C21: MOVIMIENTOS DE TIERRA
B22: 2.1 | C22: Excavación mecanica en material heterogéneo, bajo cualquier grado de humedad, medido in situ, no incluye botada. | D22: m3 | E22: 129.591 | F22: 26235 | G22: =+ROUND(E22*F22,0) -> 3399820 | H22: 456 | I22: =H22-E22 -> 326.409 | J22: =I22*F22 -> 8563340.1 | K22: =I22+E22 -> 456 | L22: =ROUND(K22*F22,0) -> 11963160
B23: 2.2 | C23: Cargue, transporte y botada de material proveniente de las excavaciones y demoliciones. Hasta el sitio que indique la interventoria. | D23: m3 | E23: 276.969 | F23: 66929 | G23: =+ROUND(E23*F23,0) -> 18537258 | H23: 456 | I23: =H23-E23 -> 179.031 | J23: =I23*F23 -> 11982366 | K23: =I23+E23 -> 456 | L23: =ROUND(K23*F23,0) -> 30519624
B24: 2.3 | C24: Confomacion de calzada existente despues de cajeo y al final de instalacio estructura pavimento | D24: m2 | E24: 508.2 | F24: 2243 | G24: =+ROUND(E24*F24,0) -> 1139893 | H24: 607.5 | I24: =H24-E24 -> 99.3 | J24: =I24*F24 -> 222729.9 | K24: =I24+E24 -> 607.5 | L24: =ROUND(K24*F24,0) -> 1362623
B25: 2.4 | C25: Suministro, transporte y colocación de base granular de máximo Ø 1½", reacomodado con medios mecánicos y compactado al 100% mínimo del ensayo del proctor modificado, según normas para la construcción de pavimentos, y todo lo necesario para su correcta construcción y funcionamiento Su medida sera tomada en sitio ya compactado, debe cumplir con los requisitos de invias 301 | D25: m3 | E25: 119.427 | F25: 422886 | G25: =+ROUND(E25*F25,0) -> 50504006 | H25: 90 | I25: =H25-E25 -> -29.427 | J25: =I25*F25 -> -12444266 | K25: =I25+E25 -> 90 | L25: =ROUND(K25*F25,0) -> 38059740
B26: 3 | C26: ESTRUCTURA DE PAVIMENTO
B27: 3,1 | C27: Suministro, transporte y colocación de mezcla asfáltica en caliente MDC - 19. Compactada con medios mecánicos. Según normas para la construcción de pavimentos. Según Normas INVIAS. | D27: m3 | E27: 50.82 | F27: 1977771 | G27: =+ROUND(E27*F27,0) -> 100510322 | H27: 36.714 | I27: =H27-E27 -> -14.106 | J27: =+I27*F27 -> -27898438 | K27: =I27+E27 -> 36.714 | L27: =ROUND(K27*F27,0) -> 72611884
B28: 3,2 | C28: Suministro, transporte y colocación de emulsión asfáltica catiónica de rompimiento lento C.R.L. para imprimación de superficie a pavimentar. Incluye todo lo necesario para su correcta construcción y funcionamiento. | D28: m2 | E28: 1016.4 | F28: 8291 | G28: =+ROUND(E28*F28,0) -> 8426972 | H28: 504 | I28: =H28-E28 -> -512.4 | J28: =+I28*F28 -> -4248308.4 | K28: =I28+E28 -> 504 | L28: =ROUND(K28*F28,0) -> 4178664
B29: 4.0 | C29: CONCRETOS
B30: 4,1 | C30: Concreto clase D (210 kg/cm2 ó 3000 PSI) - para anden | D30: m3 | E30: 17.787 | F30: 935515 | G30: =+ROUND(E30*F30,0) -> 16640005 | H30: 12.5 | I30: =H30-E30 -> -5.287 | J30: =+I30*F30 -> -4946067.8 | K30: =I30+E30 -> 12.5 | L30: =ROUND(K30*F30,0) -> 11693938
B31: 4,2 | C31: Suministro, transporte y colocación de cordón prefabricado de 0.15 x 0.45 x 0.80 m de concreto de 21 Mpa, tres caras, juntas ranuradas, referencia Bordillo Barrera Recto Tipo U10 (según M.E.P). Incluye excavación, conformación del terreno, ajustes de concreto o pavimento donde sea necesario, mortero 1:4 de asiento y pega en las longitudes más adecuadas para el desarrollo de la obra, y todo lo necesario para su correcta construcción y funcionamiento. Según diseño. | D31: ml | E31: 169.4 | F31: 116256 | G31: =+ROUND(E31*F31,0) -> 19693766 | H31: 160 | I31: =H31-E31 -> -9.4 | J31: =+I31*F31 -> -1092806.4 | K31: =I31+E31 -> 160 | L31: =ROUND(K31*F31,0) -> 18600960
B32: NP | C32: NO PREVISTOS
B33: NP1 | C33: Suministro, transporte e instalación de malla electrosoldada. Hueco 15X15Cm. Diametro 4.0Mm (Xx-084) en el area de anden | D33: m2 | E33: 110 | F33: ='NP1'!H38 -> 55448 | G33: =E33*F33 -> 6099280 | H33: 110 | I33: =H33-E33 -> 0 | J33: =+I33*F33 -> 0 | K33: =I33+E33 -> 110 | L33: =ROUND(K33*F33,0) -> 6099280
B34: NP2 | C34: Suministro, transporte e aplicación de antisol sobre concreto para anden | D34: m2 | E34: 110 | F34: ='NP2'!H37 -> 38732 | G34: =E34*F34 -> 4260520 | H34: 110 | I34: =H34-E34 -> 0 | J34: =+I34*F34 -> 0 | K34: =I34+E34 -> 110 | L34: =ROUND(K34*F34,0) -> 4260520
B35: NP3 | C35: Suministro, transporte y colocación de base granular de máximo Ø 1½", reacomodado con medios mecánicos y compactado al 100% mínimo del ensayo del proctor modificado, según normas para la construcción de andenes, y todo lo necesario para su correcta construcción y funcionamiento Su medida sera tomada en sitio ya compactado. | D35: m3 | E35: 13 | F35: ='NP3'!H38 -> 416279 | G35: =E35*F35 -> 5411627 | H35: 13 | I35: =H35-E35 -> 0 | J35: =+I35*F35 -> 0 | K35: =I35+E35 -> 13 | L35: =ROUND(K35*F35,0) -> 5411627
B36: NP4 | C36: Muro de contención aligerado en bloque de 20 cm | D36: m2 | E36: 20 | F36: ='NP4'!H42 -> 808510 | G36: =E36*F36 -> 16170200 | H36: 20 | I36: =H36-E36 -> 0 | J36: =+I36*F36 -> 0 | K36: =I36+E36 -> 20 | L36: =ROUND(K36*F36,0) -> 16170200
C38: SUBTOTAL | G38: =SUM(G20:G36) -> 256608611 | L38: =SUM(L20:L37) -> 226747162
C39: =CONCATENATE("ADMINISTRACION (",TEXT(F39,"0.00%"),")") -> ADMINISTRACION (028%) | F39: 0.284 | G39: =ROUND(G38*$F39,0) -> 72876846 | L39: =ROUND(L38*$F39,0) -> 64396194
C40: =CONCATENATE("UTILIDAD (",TEXT(F40,"0.00%"),")") -> UTILIDAD (005%) | F40: 0.05 | G40: =ROUND(G38*$F40,0) -> 12830431 | L40: =ROUND(L38*$F40,0) -> 11337358
C41: PLAN DE ADAPTACIÓN DE LA GUÍA AMBIENTAL (PAGA), GESTION SOCIAL Y SST (Incluye IVA) | F41: PAGA, GS Y SST
C42: PROVISIÓN PARA EL PAGO DE PRIMAS DE GARANTÍAS | F42: POLIZAS
C43: VALOR TOTAL | G43: =ROUND(SUM(G38:G40),0) -> 342315888 | H43: . | J43: =L43-G43 -> -39835174 | L43: =ROUND(SUM(L38:L40),0) -> 302480714
C44: HONORARIOS | G44: =+G43*0.057 -> 19512006 | L44: =+L43*0.0569998777 -> 17241364
C45: VALOR TOTAL DEL PROYECTO CON NO PREVISTOS Y CON CANTIDADES CONTRACTUALES | G45: =SUM(G43:G44) -> 3.6182789e+08 | J45: =-G45+L46 -> -42105816
C46: VALOR TOTAL DEL PROYECTO CON NO PREVISTOS Y CON CANTIDADES REALES | L46: =SUM(L43:L44) -> 3.1972208e+08
C47: DIFERENCIA DEL VALOR DE CONTRATO PARA AJUSTE CON NO PREVISTOS , CANTIDADES REALES, AIU MAS HONORARIOS | G47: 3.1972208e+08 | J47: =L47-G47 -> 0.0016086698 | L47: =L46 -> 3.1972208e+08
C52: SE SOLICITA FECHA DE TERMINACÍON PARA EL 30 DE JUNIO YA QUE EL NO PREVISTO DE MUROS DE CONTENCIÓN EXIGE TIEMPO DEMAS PARA EJECUTAR ESTE ITEM

Sheet PRESUPUESTO
A1: ALCALDÍA DE SANTA FE DE ANTIOQUIA
A2: OBJETO: MEJORAMIENTO Y ADECUACIÓN DE LAS VIAS URBANAS DEL MUNICIPIO DE SANTA FE DE ANTIOQUIA
A3: PRESUPUESTO GENERAL
A4: ITEM | B4: DESCRIPCION | C4: UNIDAD | D4: CANTIDAD | E4: VALOR UNITARIO | F4: VALOR TOTAL | G4: INCIDENCIA (%)
A5: 1 | B5: PRELIMINARES
A6: 1.1 | B6: Localización, trazado y replanteo del proyecto. Se utilizará equipo de precisión, personal experto. Se hará con la frecuencia que lo indique la interventoria. incluye demarcación con pintura, línea de trazado, corte de piso, libretas, planos. | C6: día | D6: =+'MEMORIA DE CALCULO'!L9 -> 6 | E6: =+'1,1'!H38 -> 969157 | F6: =+ROUND(D6*E6,0) -> 5814942 | G6: =+F6/$F$19 -> 0.025882495
A7: 2 | B7: MOVIMIENTOS DE TIERRA
A8: 2.1 | B8: Excavación mecanica en material heterogéneo, bajo cualquier grado de humedad, medido in situ, no incluye botada. | C8: m³ | D8: =+'MEMORIA DE CALCULO'!L39 -> 129.591 | E8: =+'2,1'!G39 -> 26235 | F8: =+ROUND(D8*E8,0) -> 3399820 | G8: =+F8/$F$19 -> 0.015132709
A9: 2.2 | B9: Cargue, transporte y botada de material proveniente de las excavaciones y demoliciones. Hasta el sitio que indique la interventoria. | C9: m³ | D9: =+'MEMORIA DE CALCULO'!L123 -> 276.969 | E9: =+'2,2'!G38 -> 66929 | F9: =+ROUND(D9*E9,0) -> 18537258 | G9: =+F9/$F$19 -> 0.082509934
A10: 2.3 | B10: Confomacion de calzada existente despues de cajeo y al final de instalacio estructura pavimento | C10: m2 | D10: =+'MEMORIA DE CALCULO'!L172 -> 508.2 | E10: =+'2,3'!G40 -> 2243 | F10: =+ROUND(D10*E10,0) -> 1139893 | G10: =+F10/$F$19 -> 0.0050737005
A11: 2.4 | B11: Suministro, transporte y colocación de base granular de máximo Ø 1½", reacomodado con medios mecánicos y compactado al 100% mínimo del ensayo del proctor modificado, según normas para la construcción de pavimentos, y todo lo necesario para su correcta construcción y funcionamiento Su medida sera tomada en sitio ya compactado, debe cumplir con los requisitos de invias 301 | C11: m³ | D11: =+'MEMORIA DE CALCULO'!L228 -> 119.427 | E11: =+'2,4'!H40 -> 422886 | F11: =+ROUND(D11*E11,0) -> 50504006 | G11: =+F11/$F$19 -> 0.22479496
A12: 3 | B12: ESTRUCTURA DE PAVIMENTO
A13: 3,1 | B13: Suministro, transporte y colocación de mezcla asfáltica en caliente MDC - 19. Compactada con medios mecánicos. Según normas para la construcción de pavimentos. Según Normas INVIAS. | C13: m3 | D13: =+'MEMORIA DE CALCULO'!L284 -> 50.82 | E13: =+'3,1'!H45 -> 1977771 | F13: =+ROUND(D13*E13,0) -> 100510322 | G13: =+F13/$F$19 -> 0.44737469
A14: 3,2 | B14: Suministro, transporte y colocación de emulsión asfáltica catiónica de rompimiento lento C.R.L. para imprimación de superficie a pavimentar. Incluye todo lo necesario para su correcta construcción y funcionamiento. | C14: m2 | D14: =+'MEMORIA DE CALCULO'!L312 -> 1016.4 | E14: =+'3,2'!H42 -> 8291 | F14: =+ROUND(D14*E14,0) -> 8426972 | G14: =+F14/$F$19 -> 0.037508724
A15: 4.0 | B15: CONCRETOS
A16: 4,1 | B16: Concreto clase D (210 kg/cm2 ó 3000 PSI) - para anden | C16: m3 | D16: =+'MEMORIA DE CALCULO'!L396 -> 17.787 | E16: =+'4,1'!H42 -> 935515 | F16: =+ROUND(D16*E16,0) -> 16640005 | G16: =+F16/$F$19 -> 0.0740652
A17: 4,2 | B17: Suministro, transporte y colocación de cordón prefabricado de 0.15 x 0.45 x 0.80 m de concreto de 21 Mpa, tres caras, juntas ranuradas, referencia Bordillo Barrera Recto Tipo U10 (según M.E.P). Incluye excavación, conformación del terreno, ajustes de concreto o pavimento donde sea necesario, mortero 1:4 de asiento y pega en las longitudes más adecuadas para el desarrollo de la obra, y todo lo necesario para su correcta construcción y funcionamiento. Según diseño. | C17: ml | D17: =+'MEMORIA DE CALCULO'!L340 -> 169.4 | E17: =+'4,2'!H42 -> 116256 | F17: =+ROUND(D17*E17,0) -> 19693766 | G17: =+F17/$F$19 -> 0.087657588
A19: Valor Total Costo Directo Obra. | F19: =+SUM(F6:F17) -> 224666984
A20: ADMINISTRACIÓN Y UTILIDAD DE OBRA CIVIL | D20: Administración | E20: =+AU!I29 -> 0.2835 | F20: =ROUND($F$19*E20,0) -> 63693090
D21: Utilidad | E21: 0.05 | F21: =$F$19*E21 -> 11233349
D22: TOTAL AU | F22: =+F20+F21 -> 74926439
A23: PLAN DE MANEJO DE TRANSITO | D23: PMT
A24: PLAN DE ADAPTACIÓN DE LA GUÍA AMBIENTAL (PAGA), GESTION SOCIAL Y SST (Incluye IVA) | D24: PAGA, GS Y SST | F24: =+'PAGA-GS-SST'!F113 -> 1401867
A25: PROVISIÓN PARA EL PAGO DE PRIMAS DE GARANTÍAS | D25: POLIZAS | F25: =+'POLIZAS OBRA'!G29 -> 0
A27: VALOR TOTAL DE OBRA | F27: =ROUNDUP(F19+F22+SUM(F23:F25),0) -> 302480679
A29: Honorarios | F29: =+F27*0.057 -> 0
A31: VALOR TOTAL DEL PROYECTO | F31: =+F27+F29 -> 3.1972208e+08

Sheet M.O.
A1: =+PRESUPUESTO!A2 -> OBJETO: MEJORAMIENTO Y ADECUACIÓN DE LAS VIAS URBANAS DEL MUNICIPIO DE SANTA FE DE ANTIOQUIA
A3: Cuadrilla | B3: Valor Jornal | C3: Total Salario | D3: RANGO | E3: Factor prestacional | F3: V/HORA | G3: Total jornal con prestaciones | H3: Total Salario con prestaciones
A4: AY (Ayudante) | B4: =+C15 -> 83333.333 | C4: =+B4*24 -> 2000000 | D4: 1 | E4: =+'FP OPERATIVO'!D32 -> 1.77 | F4: =+B4*E4/8 -> 18437.5 | G4: =+B4*E4 -> 147500 | H4: =+G4*24 -> 3540000
A5: AE(Ayudante entendido) | B5: =+B4*D5 -> 93333.333 | C5: =+B5*24 -> 2240000 | D5: 1.12 | E5: =+'FP OPERATIVO'!F32 -> 1.6878931 | F5: =+B5*E5/8 -> 19692.086 | G5: =+B5*E5 -> 157536.69 | H5: =+G5*24 -> 3780880.6
A6: OF (Oficial) | B6: =+$C$15*D6 -> 125000 | C6: =+B6*24 -> 3000000 | D6: =+'FP OPERATIVO'!H8 -> 1.5 | E6: =+'FP OPERATIVO'!H32 -> 1.6533655 | F6: =+B6*E6/8 -> 25833.836 | G6: =+B6*E6 -> 206670.69 | H6: =+G6*24 -> 4960096.6
A7: TOPÓGRAFO | B7: =+$C$15*D7 -> 208333.33 | C7: =+B7*24 -> 5000000 | D7: 2.5 | E7: =+'FP OPERATIVO'!N32 -> 1.5622612 | F7: =+B7*E7/8 -> 40683.884 | G7: =+ROUND(B7*E7,0) -> 325471 | H7: =+G7*24 -> 7811304
A8: CADENERO 1 | B8: =+$C$15*D8 -> 125000 | C8: =+B8*24 -> 3000000 | D8: 1.5 | E8: =+'FP OPERATIVO'!H32 -> 1.6533655 | F8: =+B8*E8/8 -> 25833.836 | G8: =+ROUND(B8*E8,0) -> 206671 | H8: =+G8*24 -> 4960104
A9: CADENERO 2 | B9: =+$C$15*D9 -> 125000 | C9: =+B9*24 -> 3000000 | D9: 1.5 | E9: =+'FP OPERATIVO'!D32 -> 1.77 | F9: =+B9*E9/8 -> 27656.25 | G9: =+ROUND(B9*E9,0) -> 221250 | H9: =+G9*24 -> 5310000
B12: SALARIO NOMINAL
B13: ANUAL | C13: =+'FP OPERATIVO'!D13*12 -> 24000000
B14: MENSUAL | C14: =+C13/12 -> 2000000
B15: DIA | C15: =+C14/24 -> 83333.333
B16: HORA | C16: =+C15/8 -> 10416.667

Sheet FP OPERATIVO
A1: =+PRESUPUESTO!A2 -> OBJETO: MEJORAMIENTO Y ADECUACIÓN DE LAS VIAS URBANAS DEL MUNICIPIO DE SANTA FE DE ANTIOQUIA
A2: FACTOR PRESTACIÓN DE ACUERDO CON SALARIO MÍNIMO DEVENGADO
A6: FACTOR PRESTACIONAL ADMINISTRACIÓN
A8: SMMLV | D8: 1 | F8: 1.12 | H8: 1.5 | J8: 1.8 | L8: 2 | N8: 2.5 | P8: 2.8 | R8: 3.3 | T8: 3.8 | V8: 4 | X8: 4.6 | Z8: 5.8 | AB8: 7.8 | AD8: 10
A9: CONCEPTO | B9: BASE | C9: FACTOR | D9: VALOR | E9: % | F9: VALOR | G9: % | H9: VALOR | I9: % | J9: VALOR | K9: % | L9: VALOR | M9: % | N9: VALOR | O9: % | P9: VALOR | Q9: % | R9: VALOR | S9: % | T9: VALOR | U9: % | V9: VALOR | W9: % | X9: VALOR | Y9: % | Z9: VALOR | AA9: % | AB9: VALOR | AC9: % | AD9: VALOR | AE9: %
A10: SALARIO NOMINAL
A11: Salario mensual | B11: A | D11: 1750905 | E11: 1 | F11: =D11*F8 -> 1961013.6 | G11: 1 | H11: =D11*H8 -> 2626357.5 | I11: 1 | J11: =D11*J8 -> 3151629 | K11: 1 | L11: =D11*L8 -> 3501810 | M11: 1 | N11: =ROUND($D$11*N8,0) -> 4377263 | O11: 1 | P11: =ROUND($D$11*P8,0) -> 4902534 | Q11: 1 | R11: =ROUND($D$11*R8,0) -> 5777987 | S11: 1 | T11: =ROUND($D$11*T8,0) -> 6653439 | U11: 1 | V11: =ROUND($D$11*V8,0) -> 7003620 | W11: 1 | X11: =ROUND($D$11*X8,0) -> 8054163 | Y11: 1 | Z11: =ROUND($D$11*Z8,0) -> 10155249 | AA11: 1 | AB11: =ROUND($D$11*AB8,0) -> 13657059 | AC11: 1 | AD11: =ROUND($D$11*AD8,0) -> 17509050 | AE11: 1
A12: Subsidio de transporte mensual | B12: B | D12: 249095 | E12: =D12/D11 -> 0.14226643 | F12: =IF(F8<=2,140606,0) -> 140606 | G12: =F12/F11 -> 0.071700676 | H12: =IF(H8<=2,140606,0) -> 140606 | I12: =H12/H11 -> 0.053536504 | J12: =IF(J8<=2,140606,0) -> 140606 | K12: =J12/J11 -> 0.044613754 | L12: =IF(L8<=2,140606,0) -> 140606 | M12: =L12/L11 -> 0.040152378 | N12: =IF(N8<=2,140606,0) -> 0 | O12: =N12/N11 -> 0 | P12: =IF(P8<=2,140606,0) -> 0 | Q12: =P12/P11 -> 0 | R12: =IF(R8<=2,140606,0) -> 0 | S12: =R12/R11 -> 0 | T12: =IF(T8<=2,140606,0) -> 0 | U12: =T12/T11 -> 0 | V12: =IF(V8<=2,140606,0) -> 0 | W12: =V12/V11 -> 0 | X12: =IF(X8<=2,140606,0) -> 0 | Y12: =X12/X11 -> 0 | Z12: =IF(Z8<=2,140606,0) -> 0 | AA12: =Z12/Z11 -> 0 | AB12: =IF(AB8<=2,140606,0) -> 0 | AC12: =AB12/AB11 -> 0 | AD12: =IF(AD8<=2,140606,0) -> 0 | AE12: =AD12/AD11 -> 0
A13: Total mensual | B13: C | D13: =D11+D12 -> 2000000 | F13: =F11+F12 -> 2101619.6 | H13: =H11+H12 -> 2766963.5 | J13: =J11+J12 -> 3292235 | L13: =L11+L12 -> 3642416 | N13: =N11+N12 -> 4377263 | P13: =P11+P12 -> 4902534 | R13: =R11+R12 -> 5777987 | T13: =T11+T12 -> 6653439 | V13: =V11+V12 -> 7003620 | X13: =X11+X12 -> 8054163 | Z13: =Z11+Z12 -> 10155249 | AB13: =AB11+AB12 -> 13657059 | AD13: =AD11+AD12 -> 17509050
A14: PRESTACIONES SOCIALES
A15: Cesantías mensuales | B15: D | C15: C*36/360 | D15: =D13*36/360 -> 200000 | E15: =D15/D13 -> 0.1 | F15: =F13*36/360 -> 210161.96 | G15: =F15/F13 -> 0.1 | H15: =H13*36/360 -> 276696.35 | I15: =H15/H13 -> 0.1 | J15: =J13*36/360 -> 329223.5 | K15: =J15/J13 -> 0.1 | L15: =L13*36/360 -> 364241.6 | M15: =L15/L13 -> 0.1 | N15: =N13*36/360 -> 437726.3 | O15: =N15/N13 -> 0.1 | P15: =P13*36/360 -> 490253.4 | Q15: =P15/P13 -> 0.1 | R15: =R13*36/360 -> 577798.7 | S15: =R15/R13 -> 0.1 | T15: =T13*36/360 -> 665343.9 | U15: =T15/T13 -> 0.1 | V15: =V13*36/360 -> 700362 | W15: =V15/V13 -> 0.1 | X15: =X13*36/360 -> 805416.3 | Y15: =X15/X13 -> 0.1 | Z15: =Z13*36/360 -> 1015524.9 | AA15: =Z15/Z13 -> 0.1 | AB15: =AB13*36/360 -> 1365705.9 | AC15: =AB15/AB13 -> 0.1 | AD15: =AD13*36/360 -> 1750905 | AE15: =AD15/AD13 -> 0.1
A16: Intereses sobre cesantías | C16: 12%*D | D16: =D15*12% -> 24000 | E16: =D16/D13 -> 0.012 | F16: =F15*12% -> 25219.435 | G16: =F16/F13 -> 0.012 | H16: =H15*12% -> 33203.562 | I16: =H16/H13 -> 0.012 | J16: =J15*12% -> 39506.82 | K16: =J16/J13 -> 0.012 | L16: =L15*12% -> 43708.992 | M16: =L16/L13 -> 0.012 | N16: =N15*12% -> 52527.156 | O16: =N16/N13 -> 0.012 | P16: =P15*12% -> 58830.408 | Q16: =P16/P13 -> 0.012 | R16: =R15*12% -> 69335.844 | S16: =R16/R13 -> 0.012 | T16: =T15*12% -> 79841.268 | U16: =T16/T13 -> 0.012 | V16: =V15*12% -> 84043.44 | W16: =V16/V13 -> 0.012 | X16: =X15*12% -> 96649.956 | Y16: =X16/X13 -> 0.012 | Z16: =Z15*12% -> 121862.99 | AA16: =Z16/Z13 -> 0.012 | AB16: =AB15*12% -> 163884.71 | AC16: =AB16/AB13 -> 0.012 | AD16: =AD15*12% -> 210108.6 | AE16: =AD16/AD13 -> 0.012
A17: Prima - 30 días | C17: 100%*C/12 | D17: =D13*100%/12 -> 166666.67 | E17: =D17/D13 -> 0.083333333 | F17: =F13*100%/12 -> 175134.97 | G17: =F17/F13 -> 0.083333333 | H17: =H13*100%/12 -> 230580.29 | I17: =H17/H13 -> 0.083333333 | J17: =J13*100%/12 -> 274352.92 | K17: =J17/J13 -> 0.083333333 | L17: =L13*100%/12 -> 303534.67 | M17: =L17/L13 -> 0.083333333 | N17: =N13*100%/12 -> 364771.92 | O17: =N17/N13 -> 0.083333333 | P17: =P13*100%/12 -> 408544.5 | Q17: =P17/P13 -> 0.083333333 | R17: =R13*100%/12 -> 481498.92 | S17: =R17/R13 -> 0.083333333 | T17: =T13*100%/12 -> 554453.25 | U17: =T17/T13 -> 0.083333333 | V17: =V13*100%/12 -> 583635 | W17: =V17/V13 -> 0.083333333 | X17: =X13*100%/12 -> 671180.25 | Y17: =X17/X13 -> 0.083333333 | Z17: =Z13*100%/12 -> 846270.75 | AA17: =Z17/Z13 -> 0.083333333 | AB17: =AB13*100%/12 -> 1138088.2 | AC17: =AB17/AB13 -> 0.083333333 | AD17: =AD13*100%/12 -> 1459087.5 | AE17: =AD17/AD13 -> 0.083333333
A18: Vacaciones - 15 días | C18: 50%*A/12 | D18: =D11*50%/12 -> 72954.375 | E18: =D18/D11 -> 0.041666667 | F18: =F11*50%/12 -> 81708.9 | G18: =F18/F11 -> 0.041666667 | H18: =H11*50%/12 -> 109431.56 | I18: =H18/H11 -> 0.041666667 | J18: =J11*50%/12 -> 131317.88 | K18: =J18/J11 -> 0.041666667 | L18: =L11*50%/12 -> 145908.75 | M18: =L18/L11 -> 0.041666667 | N18: =N11*50%/12 -> 182385.96 | O18: =N18/N11 -> 0.041666667 | P18: =P11*50%/12 -> 204272.25 | Q18: =P18/P11 -> 0.041666667 | R18: =R11*50%/12 -> 240749.46 | S18: =R18/R11 -> 0.041666667 | T18: =T11*50%/12 -> 277226.62 | U18: =T18/T11 -> 0.041666667 | V18: =V11*50%/12 -> 291817.5 | W18: =V18/V11 -> 0.041666667 | X18: =X11*50%/12 -> 335590.12 | Y18: =X18/X11 -> 0.041666667 | Z18: =Z11*50%/12 -> 423135.38 | AA18: =Z18/Z11 -> 0.041666667 | AB18: =AB11*50%/12 -> 569044.12 | AC18: =AB18/AB11 -> 0.041666667 | AD18: =AD11*50%/12 -> 729543.75 | AE18: =AD18/AD11 -> 0.041666667
A19: SEGURIDAD SOCIAL
A20: Pensiones | C20: 12%*A | D20: =D11*12% -> 210108.6 | E20: =D20/D11 -> 0.12 | F20: =F11*12% -> 235321.63 | G20: =F20/F11 -> 0.12 | H20: =H11*12% -> 315162.9 | I20: =H20/H11 -> 0.12 | J20: =J11*12% -> 378195.48 | K20: =J20/J11 -> 0.12 | L20: =L11*12% -> 420217.2 | M20: =L20/L11 -> 0.12 | N20: =N11*12% -> 525271.56 | O20: =N20/N11 -> 0.12 | P20: =P11*12% -> 588304.08 | Q20: =P20/P11 -> 0.12 | R20: =R11*12% -> 693358.44 | S20: =R20/R11 -> 0.12 | T20: =T11*12% -> 798412.68 | U20: =T20/T11 -> 0.12 | V20: =V11*12% -> 840434.4 | W20: =V20/V11 -> 0.12 | X20: =X11*12% -> 966499.56 | Y20: =X20/X11 -> 0.12 | Z20: =Z11*12% -> 1218629.9 | AA20: =Z20/Z11 -> 0.12 | AB20: =AB11*12% -> 1638847.1 | AC20: =AB20/AB11 -> 0.12 | AD20: =AD11*12% -> 2101086 | AE20: =AD20/AD11 -> 0.12
A21: Salud | C21: 8.5%*A | D21: =D11*8.5% -> 148826.93 | E21: =D21/D11 -> 0.085 | F21: =F11*8.5% -> 166686.16 | G21: =F21/F11 -> 0.085 | H21: =H11*8.5% -> 223240.39 | I21: =H21/H11 -> 0.085 | J21: =J11*8.5% -> 267888.47 | K21: =J21/J11 -> 0.085 | L21: =L11*8.5% -> 297653.85 | M21: =L21/L11 -> 0.085 | N21: =N11*8.5% -> 372067.36 | O21: =N21/N11 -> 0.085 | P21: =P11*8.5% -> 416715.39 | Q21: =P21/P11 -> 0.085 | R21: =R11*8.5% -> 491128.9 | S21: =R21/R11 -> 0.085 | T21: =T11*8.5% -> 565542.32 | U21: =T21/T11 -> 0.085 | V21: =V11*8.5% -> 595307.7 | W21: =V21/V11 -> 0.085 | X21: =X11*8.5% -> 684603.86 | Y21: =X21/X11 -> 0.085 | Z21: =Z11*8.5% -> 863196.17 | AA21: =Z21/Z11 -> 0.085 | AB21: =AB11*8.5% -> 1160850 | AC21: =AB21/AB11 -> 0.085 | AD21: =AD11*8.5% -> 1488269.2 | AE21: =AD21/AD11 -> 0.085
A22: Riesgos laborales | C22: 6.96%*A | D22: =D11*6.96% -> 121862.99 | E22: =D22/D11 -> 0.0696 | F22: =F11*6.96% -> 136486.55 | G22: =F22/F11 -> 0.0696 | H22: =H11*6.96% -> 182794.48 | I22: =H22/H11 -> 0.0696 | J22: =J11*6.96% -> 219353.38 | K22: =J22/J11 -> 0.0696 | L22: =L11*6.96% -> 243725.98 | M22: =L22/L11 -> 0.0696 | N22: =N11*6.96% -> 304657.5 | O22: =N22/N11 -> 0.0696 | P22: =P11*6.96% -> 341216.37 | Q22: =P22/P11 -> 0.0696 | R22: =R11*6.96% -> 402147.9 | S22: =R22/R11 -> 0.0696 | T22: =T11*6.96% -> 463079.35 | U22: =T22/T11 -> 0.0696 | V22: =V11*6.96% -> 487451.95 | W22: =V22/V11 -> 0.0696 | X22: =X11*6.96% -> 560569.74 | Y22: =X22/X11 -> 0.0696 | Z22: =Z11*6.96% -> 706805.33 | AA22: =Z22/Z11 -> 0.0696 | AB22: =AB11*6.96% -> 950531.31 | AC22: =AB22/AB11 -> 0.0696 | AD22: =AD11*6.96% -> 1218629.9 | AE22: =AD22/AD11 -> 0.0696
A23: APORTES PARAFISCALES
A24: SENA | C24: 2%*A | E24: =D24/D11 -> 0 | G24: =F24/F11 -> 0 | I24: =H24/H11 -> 0 | K24: =J24/J11 -> 0 | M24: =L24/L11 -> 0 | O24: =N24/N11 -> 0 | Q24: =P24/P11 -> 0 | S24: =R24/R11 -> 0 | U24: =T24/T11 -> 0 | W24: =V24/V11 -> 0 | Y24: =X24/X11 -> 0 | AA24: =Z24/Z11 -> 0 | AC24: =AB24/AB11 -> 0 | AE24: =AD24/AD11 -> 0
A25: ICBF | C25: 3%*A | E25: =D25/D11 -> 0 | G25: =F25/F11 -> 0 | I25: =H25/H11 -> 0 | K25: =J25/J11 -> 0 | M25: =L25/L11 -> 0 | O25: =N25/N11 -> 0 | Q25: =P25/P11 -> 0 | S25: =R25/R11 -> 0 | U25: =T25/T11 -> 0 | W25: =V25/V11 -> 0 | Y25: =X25/X11 -> 0 | AA25: =Z25/Z11 -> 0 | AC25: =AB25/AB11 -> 0 | AE25: =AD25/AD11 -> 0
A26: CCF | C26: 4%*A | D26: =D11*4% -> 70036.2 | E26: =D26/D11 -> 0.04 | F26: =F11*4% -> 78440.544 | G26: =F26/F11 -> 0.04 | H26: =H11*4% -> 105054.3 | I26: =H26/H11 -> 0.04 | J26: =J11*4% -> 126065.16 | K26: =J26/J11 -> 0.04 | L26: =L11*4% -> 140072.4 | M26: =L26/L11 -> 0.04 | N26: =N11*4% -> 175090.52 | O26: =N26/N11 -> 0.04 | P26: =P11*4% -> 196101.36 | Q26: =P26/P11 -> 0.04 | R26: =R11*4% -> 231119.48 | S26: =R26/R11 -> 0.04 | T26: =T11*4% -> 266137.56 | U26: =T26/T11 -> 0.04 | V26: =V11*4% -> 280144.8 | W26: =V26/V11 -> 0.04 | X26: =X11*4% -> 322166.52 | Y26: =X26/X11 -> 0.04 | Z26: =Z11*4% -> 406209.96 | AA26: =Z26/Z11 -> 0.04 | AB26: =AB11*4% -> 546282.36 | AC26: =AB26/AB11 -> 0.04 | AD26: =AD11*4% -> 700362 | AE26: =AD26/AD11 -> 0.04
A27: FIC | C27: A/40 | E27: =D27/D11 -> 0 | G27: =F27/F11 -> 0 | I27: =H27/H11 -> 0 | K27: =J27/J11 -> 0 | M27: =L27/L11 -> 0 | O27: =N27/N11 -> 0 | Q27: =P27/P11 -> 0 | S27: =R27/R11 -> 0 | U27: =T27/T11 -> 0 | W27: =V27/V11 -> 0 | Y27: =X27/X11 -> 0 | AA27: =Z27/Z11 -> 0 | AC27: =AB27/AB11 -> 0 | AE27: =AD27/AD11 -> 0
A28: DOTACIÓN Y SEGURIDAD INDUSTRIAL
A29: Dotación | C29: %A | D29: =IF(D8<=2,480000*2,0)/12 -> 80000 | E29: =D29/D11 -> 0.045690657 | F29: =IF(F8<=2,480000*2,0)/12 -> 80000 | G29: =F29/F11 -> 0.04079523 | H29: =IF(H8<=2,480000*2,0)/12 -> 80000 | I29: =H29/H11 -> 0.030460438 | J29: =IF(J8<=2,480000*2,0)/12 -> 80000 | K29: =J29/J11 -> 0.025383698 | L29: =IF(L8<=2,480000*2,0)/12 -> 80000 | M29: =L29/L11 -> 0.022845329 | N29: =IF(N8<=2,480000*2,0)/12 -> 0 | O29: =N29/N11 -> 0 | P29: =IF(P8<=2,480000*2,0)/12 -> 0 | Q29: =P29/P11 -> 0 | R29: =IF(R8<=2,480000*2,0)/12 -> 0 | S29: =R29/R11 -> 0 | T29: =IF(T8<=2,480000*2,0)/12 -> 0 | U29: =T29/T11 -> 0 | V29: =IF(V8<=2,480000*2,0)/12 -> 0 | W29: =V29/V11 -> 0 | X29: =IF(X8<=2,480000*2,0)/12 -> 0 | Y29: =X29/X11 -> 0 | Z29: =IF(Z8<=2,480000*2,0)/12 -> 0 | AA29: =Z29/Z11 -> 0 | AB29: =IF(AB8<=2,480000*2,0)/12 -> 0 | AC29: =AB29/AB11 -> 0 | AD29: =IF(AD8<=2,480000*2,0)/12 -> 0 | AE29: =AD29/AD11 -> 0
A30: Implementos de seguridad industrial | C30: %A | D30: =280000*2/12 -> 46666.667 | E30: =D30/D11 -> 0.026652883 | F30: =280000*2/12 -> 46666.667 | G30: =F30/F11 -> 0.023797217 | H30: =280000*2/12 -> 46666.667 | I30: =H30/H11 -> 0.017768589 | J30: =280000*2/12 -> 46666.667 | K30: =J30/J11 -> 0.014807157 | L30: =280000*2/12 -> 46666.667 | M30: =L30/L11 -> 0.013326442 | N30: =280000*2/12 -> 46666.667 | O30: =N30/N11 -> 0.010661152 | P30: =280000*2/12 -> 46666.667 | Q30: =P30/P11 -> 0.0095188869 | R30: =280000*2/12 -> 46666.667 | S30: =R30/R11 -> 0.0080766306 | T30: =280000*2/12 -> 46666.667 | U30: =T30/T11 -> 0.0070139167 | V30: =280000*2/12 -> 46666.667 | W30: =V30/V11 -> 0.0066632208 | X30: =280000*2/12 -> 46666.667 | Y30: =X30/X11 -> 0.0057941051 | Z30: =280000*2/12 -> 46666.667 | AA30: =Z30/Z11 -> 0.0045953247 | AB30: =280000*2/12 -> 46666.667 | AC30: =AB30/AB11 -> 0.0034170363 | AD30: =280000*2/12 -> 46666.667 | AE30: =AD30/AD11 -> 0.0026652883
A32: FACTOR PRESTACIONAL | D32: =ROUND(SUM(E11:E31),2) -> 1.77 | F32: =SUM(G11:G31) -> 1.6878931 | H32: =SUM(I11:I31) -> 1.6533655 | J32: =SUM(K11:K31) -> 1.6364046 | L32: =SUM(M11:M31) -> 1.6279241 | N32: =SUM(O11:O31) -> 1.5622612 | P32: =SUM(Q11:Q31) -> 1.5611189 | R32: =SUM(S11:S31) -> 1.5596766 | T32: =SUM(U11:U31) -> 1.5586139 | V32: =SUM(W11:W31) -> 1.5582632 | X32: =SUM(Y11:Y31) -> 1.5573941 | Z32: =SUM(AA11:AA31) -> 1.5561953 | AB32: =SUM(AC11:AC31) -> 1.555017 | AD32: =SUM(AE11:AE31) -> 1.5542653
F34: V. JORNAL
E35: 1 AY + 1 OF | F35: =+((SUM(D13:D30)+SUM(L13:L30))/30) -> 295642.28
E36: 1 OF + 1 AE | F36: =+((SUM(F13:F30)+SUM(L13:L30))/30) -> 302186.42
E37: 1 OF + 2 AY | F37: =+((SUM(D13:D30)*2+SUM(L13:L30))/30) -> 400346.36
E38: 1 OF +1 AE + 1 AY | F38: =+((SUM(D13:D30)+SUM(F13:F30)+SUM(L13:L30))/30) -> 406890.5
E39: 1 AY | F39: =+SUM(D13:D30)/30 -> 104704.08
E40: 1 AE | F40: =+SUM(F13:F30)/30 -> 111248.21
E41: 1 RASTRILLERO | F41: =+SUM(V13:V30)/30 -> 363782.78
E42: 1 OF | F42: =+SUM(L13:L30)/30 -> 190938.2

Sheet 1,1
C2: SECRETARIA DE OBRAS PUBLICAS DEL MUNICIPIO DE SANTA FE DE ANTIOQUIA
B7: ANÁLISIS DE PRECIOS UNITARIOS | F7: Código:
F9: Fecha:
F10: Versión:
F11: Página:
B13: =+PRESUPUESTO!A2 -> OBJETO: MEJORAMIENTO Y ADECUACIÓN DE LAS VIAS URBANAS DEL MUNICIPIO DE SANTA FE DE ANTIOQUIA
B15: ÍTEM | H15: UNIDAD
B16: 1,1 | D16: =+PRESUPUESTO!B6 -> Localización, trazado y replanteo del proyecto. Se utilizará equipo de precisión, personal experto. Se hará con la frecuencia que lo indique la interventoria. incluye demarcación con pintura, línea de trazado, corte de piso, libretas, planos. | H16: =+P!$C$4 -> m
B17: I. Materiales
B18: Descripción | D18: Unidad | E18: Cantidad | F18: V/Unitario | G18: V/Total
B19: =+MATERIALES!B23 -> Clavos 2" | D19: =+MATERIALES!C23 -> lb | E19: 0.7445 | F19: =+MATERIALES!D23 -> 5500 | G19: =+ROUND((E19*F19),0) -> 4095
B20: =+MATERIALES!B24 -> Estaca para topografía | D20: =+MATERIALES!C24 -> un | E20: 8 | F20: =+MATERIALES!D24 -> 3000 | G20: =+ROUND((E20*F20),0) -> 24000
D21: =+H21/$H$38 -> 0.028989111 | G21: SUBTOTAL | H21: =+ROUND(SUM(G19:G20),0) -> 28095
B22: II. Mano de Obra
B23: Descripción | C23: Jornal | D23: Prestaciones (%) | E23: Cantidad | F23: V/Unitario | G23: V/Total
B24: =+M.O.!A7 -> TOPÓGRAFO | C24: =+M.O.!G7 -> 325471 | E24: 1 | G24: =+C24*E24 -> 325471
B25: =+M.O.!A8 -> CADENERO 1 | C25: =+M.O.!G8 -> 206671 | E25: 1 | G25: =+C25*E25 -> 206671
B26: =+M.O.!A9 -> CADENERO 2 | C26: =+M.O.!G9 -> 221250 | E26: 1 | G26: =+E26*C26 -> 221250
D27: =+H27/$H$38 -> 0.77736837 | G27: SUBTOTAL | H27: =+ROUND(SUM(G24:G26),0) -> 753392
B28: III. Equipo y Herramienta
B29: Descripción | D29: Unidad | E29: Cantidad | F29: V/Unitario | G29: V/Total
B30: =+EQUIPOS!A6 -> Equipo de topografía (estación total) | D30: =+EQUIPOS!B6 -> Día | E30: 1 | F30: =+EQUIPOS!C6 -> 150000 | G30: =+ROUND((E30*F30),0) -> 150000
B31: Herramienta menor | D31: (%)mo | E31: 0.05 | F31: =+H27 -> 753392 | G31: =+ROUND((E31*F31),0) -> 37670
D32: =+H32/$H$38 -> 0.19364252 | G32: SUBTOTAL | H32: =+ROUND(SUM(G30:G31),0) -> 187670
B33: IV. Conceptos
B34: Descripción | D34: Unidad | E34: Cantidad | F34: V/Unitario | G34: V/Total
D36: =+H36/$H$38 -> 0 | G36: SUBTOTAL | H36: =+ROUND(SUM(G35),0) -> 0
E38: Total Costo Directo | H38: =ROUNDUP(SUM(H18:H36),0) -> 969157

Sheet 2,1
C2: SECRETARIA DE INFRAESTRUCTURA DEL MUNICIPIO DE SANTA FE DE ANTIOQUIA
B7: ANÁLISIS DE PRECIOS UNITARIOS | E7: Código:
E9: Fecha:
E10: Versión:
E11: Página:
B13: =+PRESUPUESTO!A2 -> OBJETO: MEJORAMIENTO Y ADECUACIÓN DE LAS VIAS URBANAS DEL MUNICIPIO DE SANTA FE DE ANTIOQUIA
B15: ÍTEM | G15: UNIDAD
B16: 2,1 | C16: =+PRESUPUESTO!B8 -> Excavación mecanica en material heterogéneo, bajo cualquier grado de humedad, medido in situ, no incluye botada. | G16: =+PRESUPUESTO!C8 -> m³
B17: I. Materiales
B18: Descripción | C18: Unidad | D18: Cantidad | E18: V/Unitario | F18: V/Total
C23: =+G23/$G$39 -> 0 | F23: SUBTOTAL | G23: =+ROUND(SUM(F19:F22),0) -> 0
B24: II. Mano de Obra
B25: Descripción | C25: Unidad | D25: Cantidad | E25: V/Unitario | F25: V/Total
B26: Cuadrilla 1 Oficial + 1 Ayudante Entendido | C26: jor | D26: 0.041245 | E26: =+'FP OPERATIVO'!F36 -> 302186.42 | F26: =+ROUND((D26*E26),0) -> 12464
C27: =+G27/$G$39 -> 0.47509053 | F27: SUBTOTAL | G27: =+ROUND(SUM(F26),0) -> 12464
B28: III. Equipo y Herramienta
B29: Descripción | C29: Unidad | D29: Cantidad | E29: V/Unitario | F29: V/Total
B30: =+EQUIPOS!A8 -> Retroexcavadora sobre oruga, potencia 138 HP, balde de 1,5 m3. | C30: =+EQUIPOS!B8 -> Hr | D30: =1/25 -> 0.04 | E30: =+EQUIPOS!C8 -> 230000 | F30: =+ROUND((D30*E30),0) -> 9200
B31: =+EQUIPOS!A26 -> Compresor Neumático con martillo demoledor o perforador en superficie, punta, combustible y operador. | C31: =+EQUIPOS!B26 -> Hr | D31: =1/25 -> 0.04 | E31: =+EQUIPOS!C26 -> 98705 | F31: =+ROUND((D31*E31),0) -> 3948
B32: Herramienta menor | C32: (%)mo | D32: 0.05 | E32: =+G27 -> 12464 | F32: =+ROUND((D32*E32),0) -> 623
C33: =+G33/$G$39 -> 0.52490947 | F33: SUBTOTAL | G33: =+ROUND(SUM(F30:F32),0) -> 13771
B34: IV. Conceptos
B35: Descripción | C35: Unidad | D35: Cantidad | E35: V/Unitario | F35: V/Total
C37: =+G37/$G$39 -> 0 | F37: SUBTOTAL | G37: =+ROUND(SUM(F36),0) -> 0
D39: Total Costo Directo | G39: =ROUNDUP(SUM(G18:G37),0) -> 26235

Sheet 2,2
C2: SECRETARIA DE INFRAESTRUCTURA DEL MUNICIPIO DE SANTA FE DE ANTIOQUIA
B7: ANÁLISIS DE PRECIOS UNITARIOS | E7: Código:
E9: Fecha:
E10: Versión:
E11: Página:
B13: =+PRESUPUESTO!A2 -> OBJETO: MEJORAMIENTO Y ADECUACIÓN DE LAS VIAS URBANAS DEL MUNICIPIO DE SANTA FE DE ANTIOQUIA
B15: ÍTEM | G15: UNIDAD
B16: 2,2 | C16: =+PRESUPUESTO!B9 -> Cargue, transporte y botada de material proveniente de las excavaciones y demoliciones. Hasta el sitio que indique la interventoria. | G16: =+PRESUPUESTO!C9 -> m³
B17: I. Materiales
B18: Descripción | C18: Unidad | D18: Cantidad | E18: V/Unitario | F18: V/Total
C23: =+G23/$G$38 -> 0 | F23: SUBTOTAL | G23: =+ROUND(SUM(F19:F22),0) -> 0
B24: II. Mano de Obra
B25: Descripción | C25: Unidad | D25: Cantidad | E25: V/Unitario | F25: V/Total
B26: 1 Ayudante | C26: jor | D26: 0.125 | E26: =+'FP OPERATIVO'!F39 -> 104704.08 | F26: =+ROUND((D26*E26),0) -> 13088
C27: =+G27/$G$38 -> 0.19555051 | F27: SUBTOTAL | G27: =+ROUND(SUM(F26),0) -> 13088
B28: III. Equipo y Herramienta
B29: Descripción | C29: Unidad | D29: Cantidad | E29: V/Unitario | F29: V/Total
B30: =+EQUIPOS!A7 -> Retroexcavadora de llantas | C30: =+EQUIPOS!B7 -> Hr | D30: 0.125 | E30: =+EQUIPOS!C7 -> 131534 | F30: =+ROUND((D30*E30),0) -> 16442
B31: Herramienta menor | C31: (%)mo | D31: 0.05 | E31: =+G27 -> 13088 | F31: =+ROUND((D31*E31),0) -> 654
C32: =+G32/$G$38 -> 0.25543486 | F32: SUBTOTAL | G32: =+ROUND(SUM(F30:F31),0) -> 17096
B33: IV. Transportes
B34: Descripción | C34: Unidad | D34: Cantidad | E34: V/Unitario | F34: V/Total
B35: Botada y derechos de botadero | C35: m3-km | D35: =1*7*3 -> 21 | E35: 1749.75 | F35: =+D35*E35 -> 36744.75
C36: =+G36/$G$38 -> 0.54901463 | F36: SUBTOTAL | G36: =+ROUND(SUM(F35),0) -> 36745
D38: Total Costo Directo | G38: =ROUNDUP(SUM(G18:G36),0) -> 66929

Sheet 2,3
C2: SECRETARIA DE INFRAESTRUCTURA DEL MUNICIPIO DE SANTA FE DE ANTIOQUIA
B7: ANÁLISIS DE PRECIOS UNITARIOS | E7: Código:
E9: Fecha:
E10: Versión:
E11: Página:
B13: =+PRESUPUESTO!A2 -> OBJETO: MEJORAMIENTO Y ADECUACIÓN DE LAS VIAS URBANAS DEL MUNICIPIO DE SANTA FE DE ANTIOQUIA
B15: ÍTEM | G15: UNIDAD
B16: 2,3 | C16: =+PRESUPUESTO!B10 -> Confomacion de calzada existente despues de cajeo y al final de instalacio estructura pavimento | G16: =+PRESUPUESTO!C10 -> m2
B17: I. Materiales
B18: Descripción | C18: Unidad | D18: Cantidad | E18: V/Unitario | F18: V/Total
B19: =+MATERIALES!B25 -> Agua | C19: =+MATERIALES!C25 -> L | D19: 0.29 | E19: =+MATERIALES!D25 -> 500 | F19: =+ROUND((D19*E19),0) -> 145
C23: =+G23/$G$40 -> 0.064645564 | F23: SUBTOTAL | G23: =+ROUND(SUM(F19:F22),0) -> 145
B24: II. Mano de Obra
B25: Descripción | C25: Unidad | D25: Cantidad | E25: V/Unitario | F25: V/Total
B26: cuadrilla 1 oficial + 1 Ayudante E | C26: jor | D26: 0.00030833333 | E26: =+'FP OPERATIVO'!F36 -> 302186.42 | F26: =+ROUND((D26*E26),0) -> 93
C27: =+G27/$G$40 -> 0.041462327 | F27: SUBTOTAL | G27: =+ROUND(SUM(F26),0) -> 93
B28: III. Equipo y Herramienta
B29: Descripción | C29: Unidad | D29: Cantidad | E29: V/Unitario | F29: V/Total
B30: =+EQUIPOS!A11 -> Motoniveladora 120hp | C30: =+EQUIPOS!B11 -> Hr | D30: =1/250 -> 0.004 | E30: =+EQUIPOS!C11 -> 250000 | F30: =+ROUND((D30*E30),0) -> 1000
B31: =+EQUIPOS!A15 -> Carrotanque de agua (1000 galones) | C31: =+EQUIPOS!B15 -> Hr | D31: =1/250 -> 0.004 | E31: =+EQUIPOS!C15 -> 100000 | F31: =+ROUND((D31*E31),0) -> 400
B32: =+EQUIPOS!A12 -> Vibrocompactador | C32: =+EQUIPOS!B12 -> Hr | D32: =1/250 -> 0.004 | E32: =+EQUIPOS!C12 -> 150000 | F32: =+ROUND((D32*E32),0) -> 600
B33: Herramienta menor | C33: (%)mo | D33: 0.05 | E33: =+G27 -> 93 | F33: =+ROUND((D33*E33),0) -> 5
C34: =+G34/$G$40 -> 0.89389211 | F34: SUBTOTAL | G34: =+ROUND(SUM(F30:F33),0) -> 2005
B35: IV. Transportes
B36: Descripción | C36: Unidad | D36: Cantidad | E36: V/Unitario | F36: V/Total
C38: =+G38/$G$40 -> 0 | F38: SUBTOTAL | G38: =+ROUND(SUM(F37),0) -> 0
D40: Total Costo Directo | G40: =ROUNDUP(SUM(G18:G38),0) -> 2243

Sheet 2,4
C2: SECRETARIA DE INFRAESTRUCTURA DEL MUNICIPIO DE SANTA FE DE ANTIOQUIA
B7: ANÁLISIS DE PRECIOS UNITARIOS | F7: Código:
F9: Fecha:
F10: Versión:
F11: Página:
B13: =+PRESUPUESTO!A2 -> OBJETO: MEJORAMIENTO Y ADECUACIÓN DE LAS VIAS URBANAS DEL MUNICIPIO DE SANTA FE DE ANTIOQUIA
B15: ÍTEM | H15: UNIDAD
B16: 2,4 | C16: =+PRESUPUESTO!B11 -> Suministro, transporte y colocación de base granular de máximo Ø 1½", reacomodado con medios mecánicos y compactado al 100% mínimo del ensayo del proctor modificado, según normas para la construcción de pavimentos, y todo lo necesario para su correcta construcción y funcionamiento Su medida sera tomada en sitio ya compactado, debe cumplir con los requisitos de invias 301 | H16: =+PRESUPUESTO!C11 -> m³
B17: I. Materiales
B18: Descripción | D18: Unidad | E18: Cantidad | F18: V/Unitario | G18: V/Total
B19: =+MATERIALES!B25 -> Agua | D19: =+MATERIALES!C25 -> L | E19: 0.29 | F19: =+MATERIALES!D25 -> 500 | G19: =+ROUND((E19*F19),0) -> 145
B20: =+MATERIALES!B13 -> Base granular | D20: =+MATERIALES!C14 -> m3 | E20: 1.25 | F20: 112500 | G20: =+ROUND((E20*F20),0) -> 140625
D23: =+H23/$H$40 -> 0.33287931 | G23: SUBTOTAL | H23: =+ROUND(SUM(G19:G22),0) -> 140770
B24: II. Mano de Obra
B25: Descripción | D25: Unidad | E25: Cantidad | F25: V/Unitario | G25: V/Total
B26: cuadrilla 1 oficial + 1 Ayudante E | D26: jor | E26: 0.025 | F26: =+'FP OPERATIVO'!F36 -> 302186.42 | G26: =+ROUND((E26*F26),0) -> 7555
D27: =+H27/$H$40 -> 0.017865335 | G27: SUBTOTAL | H27: =+ROUND(SUM(G26),0) -> 7555
B28: III. Equipo y Herramienta
B29: Descripción | D29: Unidad | E29: Cantidad | F29: V/Unitario | G29: V/Total
B30: =+EQUIPOS!A11 -> Motoniveladora 120hp | D30: =+EQUIPOS!B11 -> Hr | E30: =1/65.08 -> 0.015365704 | F30: =+EQUIPOS!C11 -> 250000 | G30: =+ROUND((E30*F30),0) -> 3841
B31: =+EQUIPOS!A15 -> Carrotanque de agua (1000 galones) | D31: =+EQUIPOS!B15 -> Hr | E31: =1/65.08 -> 0.015365704 | F31: =+EQUIPOS!C15 -> 100000 | G31: =+ROUND((E31*F31),0) -> 1537
B32: =+EQUIPOS!A12 -> Vibrocompactador | D32: =+EQUIPOS!B12 -> Hr | E32: =1/65.08 -> 0.015365704 | F32: =+EQUIPOS!C12 -> 150000 | G32: =+ROUND((E32*F32),0) -> 2305
B33: Herramienta menor | D33: (%)mo | E33: 0.05 | F33: =+H27 -> 7555 | G33: =+ROUND((E33*F33),0) -> 378
D34: =+H34/$H$40 -> 0.019061875 | G34: SUBTOTAL | H34: =+ROUND(SUM(G30:G33),0) -> 8061
B35: IV. Transportes
B36: Descripción | C36: Unidad | D36: Cantidad | E36: Distancia | F36: V/Unitario | G36: V/Total
B37: =+TRANSPORTES!B9 -> Transporte de material de base y subbase | C37: m3-km | D37: 1.3 | E37: 41 | F37: =+TRANSPORTES!D9 -> 5000 | G37: =+D37*E37*F37 -> 266500
D38: =+H38/$H$40 -> 0.63019348 | G38: SUBTOTAL | H38: =+ROUND(SUM(G37),0) -> 266500
E40: Total Costo Directo | H40: =ROUNDUP(SUM(H18:H38),0) -> 422886

Sheet 3,1
C2: SECRETARIA DE INFRAESTRUCTURA DEL MUNICIPIO DE SANTA FE DE ANTIOQUIA
B7: ANÁLISIS DE PRECIOS UNITARIOS | F7: Código:
F9: Fecha:
F10: Versión:
F11: Página:
B13: =+PRESUPUESTO!A2 -> OBJETO: MEJORAMIENTO Y ADECUACIÓN DE LAS VIAS URBANAS DEL MUNICIPIO DE SANTA FE DE ANTIOQUIA
B15: ÍTEM | H15: UNIDAD
B16: 3,2 | C16: =+PRESUPUESTO!B13 -> Suministro, transporte y colocación de mezcla asfáltica en caliente MDC - 19. Compactada con medios mecánicos. Según normas para la construcción de pavimentos. Según Normas INVIAS. | H16: =+PRESUPUESTO!C13 -> m3
B17: I. Materiales
B18: Descripción | D18: Unidad | E18: Cantidad | F18: V/Unitario | G18: V/Total
B19: =+MATERIALES!B15 -> Mezcla densa en caliente | D19: =+MATERIALES!C15 -> m3 | E19: 1.1 | F19: =+MATERIALES!D15 -> 1220000 | G19: =+ROUND((E19*F19),0) -> 1342000
D23: =+H23/$H$45 -> 0.67854165 | G23: SUBTOTAL | H23: =+ROUND(SUM(G19:G22),0) -> 1342000
B24: II. Mano de Obra
B25: Descripción | D25: Unidad | E25: Cantidad | F25: V/Unitario | G25: V/Total
B26: 1 Oficial | D26: jor | E26: =1/6.6 -> 0.15151515 | F26: =+'FP OPERATIVO'!F42 -> 190938.2 | G26: =+E26*F26 -> 28930.031
B27: 8 Ayudante | D27: jor | E27: =1/6.6 -> 0.15151515 | F27: =+'FP OPERATIVO'!F39 -> 104704.08 | G27: =+E27*F27 -> 15864.255
B28: 2 Rastrillero | D28: jor | E28: =1/6.6 -> 0.15151515 | F28: =+'FP OPERATIVO'!F41 -> 363782.78 | G28: =+E28*F28 -> 55118.603
D29: =+H29/$H$45 -> 0.050517982 | G29: SUBTOTAL | H29: =+ROUND(SUM(G26:G28),0) -> 99913
B30: III. Equipo y Herramienta
B31: Descripción | D31: Unidad | E31: Cantidad | F31: V/Unitario | G31: V/Total
B32: =+EQUIPOS!A21 -> Compactador neumático de Potencia 70 HP, peso de 13 ton | D32: =+EQUIPOS!B21 -> Hr | E32: =1/9.5 -> 0.10526316 | F32: =+EQUIPOS!C21 -> 150000 | G32: =+ROUND((E32*F32),0) -> 15789
B33: =+EQUIPOS!A22 -> Compactador de Rodillo POTENCIA: 99HP, PESO: 8 ton | D33: =+EQUIPOS!B22 -> Hr | E33: =1/9.5 -> 0.10526316 | F33: =+EQUIPOS!C22 -> 150000 | G33: =+ROUND((E33*F33),0) -> 15789
B34: =+EQUIPOS!A13 -> Finisher de Pavimento | D34: =+EQUIPOS!B13 -> Hr | E34: =1/9.5 -> 0.10526316 | F34: =+EQUIPOS!C13 -> 225000 | G34: =+ROUND((E34*F34),0) -> 23684
B35: Herramienta menor | D35: (%)mo | E35: 0.05 | F35: =+H29 -> 99913 | G35: =+ROUND((E35*F35),0) -> 4996
D36: =+H36/$H$45 -> 0.030467633 | G36: SUBTOTAL | H36: =+ROUND(SUM(G32:G35),0) -> 60258
B37: IV. Transportes
B38: Descripción | C38: Unidad | D38: Cantidad | E38: Distancia | F38: V/Unitario | G38: V/Total
B39: =+TRANSPORTES!B22 -> Transporte Mezcla asfaltica | C39: =+TRANSPORTES!C22 -> m3/km | D39: 2.4 | E39: 55 | F39: =+TRANSPORTES!D22 -> 3300 | G39: =+D39*E39*F39 -> 435600
B40: =+TRANSPORTES!B19 -> Transporte Finsher | C40: =+TRANSPORTES!C18 -> Viaje | D40: 0.008 | F40: =+TRANSPORTES!D19 -> 3000000 | G40: =+D40*F40 -> 24000
B41: =+TRANSPORTES!B20 -> Transporte Compactador de Rodillo | C41: =+TRANSPORTES!C19 -> Viaje | D41: 0.008 | F41: =+TRANSPORTES!D20 -> 1000000 | G41: =+D41*F41 -> 8000
B42: =+TRANSPORTES!B21 -> Transporte Compactador de Cilindro | C42: Viaje | D42: 0.008 | F42: =+TRANSPORTES!D21 -> 1000000 | G42: =+D42*F42 -> 8000
D43: =+H43/$H$45 -> 0.24047273 | G43: SUBTOTAL | H43: =+ROUND(SUM(G39:G42),0) -> 475600
E45: Total Costo Directo | H45: =ROUNDUP(SUM(H18:H43),0) -> 1977771

Sheet 3,2
C2: SECRETARIA DE INFRAESTRUCTURA DEL MUNICIPIO DE SANTA FE DE ANTIOQUIA
B7: ANÁLISIS DE PRECIOS UNITARIOS | F7: Código:
F9: Fecha:
F10: Versión:
F11: Página:
B13: =+PRESUPUESTO!A2 -> OBJETO: MEJORAMIENTO Y ADECUACIÓN DE LAS VIAS URBANAS DEL MUNICIPIO DE SANTA FE DE ANTIOQUIA
B15: ÍTEM | H15: UNIDAD
B16: 3,3 | C16: =+PRESUPUESTO!B14 -> Suministro, transporte y colocación de emulsión asfáltica catiónica de rompimiento lento C.R.L. para imprimación de superficie a pavimentar. Incluye todo lo necesario para su correcta construcción y funcionamiento. | H16: =+PRESUPUESTO!C14 -> m2
B17: I. Materiales
B18: Descripción | D18: Unidad | E18: Cantidad | F18: V/Unitario | G18: V/Total
B19: =+MATERIALES!B16 -> Emulsion Asfaltica CRL-0 o CRL-1 | D19: =+MATERIALES!C16 -> gl | E19: 0.4 | F19: =+MATERIALES!D16 -> 14000 | G19: =+ROUND((E19*F19),0) -> 5600
D23: =+H23/$H$42 -> 0.67543119 | G23: SUBTOTAL | H23: =+ROUND(SUM(G19:G22),0) -> 5600
B24: II. Mano de Obra
B25: Descripción | D25: Unidad | E25: Cantidad | F25: V/Unitario | G25: V/Total
B26: 1 Ayudante entendido | D26: jor | E26: =1/100 -> 0.01 | F26: =+'FP OPERATIVO'!F40 -> 111248.21 | G26: =+E26*F26 -> 1112.4821
D27: =+H27/$H$42 -> 0.13412134 | G27: SUBTOTAL | H27: =+ROUND(SUM(G26:G26),0) -> 1112
B28: III. Equipo y Herramienta
B29: Descripción | D29: Unidad | E29: Cantidad | F29: V/Unitario | G29: V/Total
B30: =+EQUIPOS!A16 -> Carro Irrigador | D30: =+EQUIPOS!B21 -> Hr | E30: 0.0066 | F30: =+EQUIPOS!C16 -> 150000 | G30: =+ROUND((E30*F30),0) -> 990
B31: =+EQUIPOS!A17 -> Compresor (barrido y soplador) | D31: =+EQUIPOS!B22 -> Hr | E31: 0.0066666667 | F31: =+EQUIPOS!C17 -> 80000 | G31: =+ROUND((E31*F31),0) -> 533
B32: Herramienta menor | D32: (%)mo | E32: 0.05 | F32: =+H27 -> 1112 | G32: =+ROUND((E32*F32),0) -> 56
D33: =+H33/$H$42 -> 0.19044747 | G33: SUBTOTAL | H33: =+ROUND(SUM(G30:G32),0) -> 1579
B34: IV. Transportes
B35: Descripción | C35: Unidad | D35: Cantidad | E35: Distancia | F35: V/Unitario | G35: V/Total
D40: =+H40/$H$42 -> 0 | G40: SUBTOTAL | H40: =+ROUND(SUM(G36:G39),0) -> 0
E42: Total Costo Directo | H42: =ROUNDUP(SUM(H18:H40),0) -> 8291

Sheet 4,1
C2: SECRETARIA DE INFRAESTRUCTURA DEL MUNICIPIO DE SANTA FE DE ANTIOQUIA
B7: ANÁLISIS DE PRECIOS UNITARIOS | F7: Código:
F9: Fecha:
F10: Versión:
F11: Página:
B13: =+PRESUPUESTO!A2 -> OBJETO: MEJORAMIENTO Y ADECUACIÓN DE LAS VIAS URBANAS DEL MUNICIPIO DE SANTA FE DE ANTIOQUIA
B15: ÍTEM | H15: UNIDAD
B16: 4,1 | C16: =+PRESUPUESTO!B16 -> Concreto clase D (210 kg/cm2 ó 3000 PSI) - para anden | H16: =+PRESUPUESTO!C16 -> m3
B17: I. Materiales
B18: Descripción | D18: Unidad | E18: Cantidad | F18: V/Unitario | G18: V/Total
B19: =+'CONCRETOS Y MORTERO'!B61 -> Concreto 3.000 psi | D19: =+'CONCRETOS Y MORTERO'!C64 -> m³ | E19: 1.05 | F19: =+'CONCRETOS Y MORTERO'!G75 -> 591127 | G19: =+ROUND((E19*F19),0) -> 620683
B20: =+MATERIALES!B40 -> Formaleta MDF 1.83mX2.44m | D20: =+MATERIALES!C40 -> Und | E20: 0.5 | F20: =+MATERIALES!D40 -> 275000 | G20: =+ROUND((E20*F20),0) -> 137500
B21: =+MATERIALES!B20 -> Larguero madera común 4cmx8cmx2.80m. | D21: =+MATERIALES!C20 -> Und | E21: 2 | F21: =+MATERIALES!D20 -> 13500 | G21: =+ROUND((E21*F21),0) -> 27000
B22: =+MATERIALES!B23 -> Clavos 2" | D22: =+MATERIALES!C23 -> lb | E22: 0.5 | F22: =+MATERIALES!D23 -> 5500 | G22: =+ROUND((E22*F22),0) -> 2750
B23: =+MATERIALES!B44 -> Separol o equivalente (Desmoldante para evitar adherencia de concretos a formaletas.Presentación 15Kg. Rendimiento metal :45g/m2 madera:55g/m2 (15 kg)). para metal puro, para madera diluir hasta 5 partes de agua segun porosidad de la madera. | D23: =+MATERIALES!C44 -> Und | E23: 0.01 | F23: =+MATERIALES!D44 -> 380900 | G23: =+ROUND((E23*F23),0) -> 3809
B24: =+MATERIALES!B30 -> Antisol blanco | D24: =+MATERIALES!C30 -> kg | E24: 0.5 | F24: =+MATERIALES!D30 -> 17500 | G24: =+ROUND((E24*F24),0) -> 8750
D25: =+H25/$H$42 -> 0.85566987 | G25: SUBTOTAL | H25: =+ROUND(SUM(G19:G24),0) -> 800492
B26: II. Mano de Obra
B27: Descripción | D27: Unidad | E27: Cantidad | F27: V/Unitario | G27: V/Total
B28: Cuadrilla 1 Oficial + 5 ayudante | D28: jor | E28: =1/6 -> 0.16666667 | F28: =+'FP OPERATIVO'!F42+'FP OPERATIVO'!F39*5 -> 714458.61 | G28: =+E28*F28 -> 119076.43 | I28: =1/E28 -> 6
D31: =+H31/$H$42 -> 0.1272839 | G31: SUBTOTAL | H31: =+ROUND(SUM(G28:G30),0) -> 119076
