Workbook
Name a: #REF!
Name ABRIL: #REF!
Name add: #REF!
Name ADR: #REF!
Name ADRIANA: #REF!
Name AGOSTO: #REF!
Name ALEJA: #REF!
Name Construccion_en_Sitio_Propio___CSP: #REF!
Name d: #REF!
Name DICIEMBRE: #REF!
Name e: #REF!
Name EFECTIVO: #REF!
Name ENERO: #REF!
Name FEBRERO: #REF!
Name H: #REF!
Name jsjsjsjsjsj: #REF!
Name JULIO: #REF!
Name JUNIO: #REF!
Name juun: #REF!
Name lulu: #REF!
Name MARZO: #REF!
Name MAYO: #REF!
Name migue: #REF!
Name MIGUEL: #REF!
Name NOVIEMBRE: #REF!
Name OCTUBRE: #REF!
Name OTROS_ACT_CORRIENTES: #REF!
Name PABLO: #REF!
Name Q: #REF!
Name QQQQ: #REF!
Name RACImayO: #REF!
Name RACIONESMayo: #REF!
Name racmayo2013: #REF!
Name ROBERTO: #REF!
Name S: #REF!
Name SANDRA: #REF!
Name SEPTIEMBRE: #REF!
Name ss: #REF!
Name SSSSSSSSSSS: #REF!
Name UNO: #REF!
Name Usuarios_: #REF!
Name USUARIOS_ACUEDUCTO: #REF!
Name VEINTE: #REF!
Name wrn.INFORME1.: #REF!

Sheet EVALUACIÓN 2026_lote_1_MES1
A1: EVALUACIÓN PROPUESTA ECONÓMICA
A2: SDMUJER-SAMC-001-2026
A4: Objeto: LOTE 1 MODALIDAD INTEGRAL:“Prestar el servicio integral para la puesta en marcha y funcionamiento de las Casas Refugio para la atención a mujeres victimas de violencias y sus personas a cargo, de acuerdo con las características técnicas descritas en el anexo técnico y las normas vigentes que regulan la materia.” | H4: SECOP II
A5: PROPONENTES PRESENTADOS
A7: Proponente | B7: Nombre | C7: Valor Propuesta
A8: Proponente 1 | B8: CORPORACIÓN ORIENTAR PARA CRECER (CASA 1) | C8: 229760870
B9: CORPORACIÓN ORIENTAR PARA CRECER (CASA 2) | C9: 229760870
A10: Proponente 2 | B10: FEZ INVERSIONES SAS | C10: 229532870
A11: Proponente 3 | B11: UNIÓN TEMPORAL HOGARES DE ESPERANZA | C11: 228782904
A12: Proponente 4 | B12: ASOCIACION CRISTIANA NUEVO NACIMIENTO -ACNN | C12: 218643020
A13: Proponente 5 | B13: UNIÓN TEMPORAL REFUGIO DE VIDA | C13: 228875996
A14: Proponente 6 | B14: SOCIEDAD INVERSIONES PF SAS | C14: 221055475
A15: Proponente 7 | B15: CORPORACION SOCIAL PARA EL DESARROLLO DE LOS GRUPOS ETNICOS Y CULTURALES MULTIETNIAS | C15: 226649570
A18: Proponente | B18: Nombre | C18: CASA | D18: Propuesta Habilitada | E18: Valor Propuesta Primer Mes | F18: Puntaje Factor Económico
A19: Proponente 1 | B19: CORPORACIÓN ORIENTAR PARA CRECER (CASA 1) | C19: CASA 1 | D19: HABILITADA | E19: 229760870 | F19: =IF(E19<=$E$43,(30*(1-(($E$43-E19)/$E$43))),(30*(1-(2*(ABS($E$43-E19)/$E$43))))) -> 29.683806
B20: CORPORACIÓN ORIENTAR PARA CRECER (CASA 2) | C20: CASA 2 | D20: HABILITADA | E20: 229760870 | F20: =IF(E20<=$E$43,(30*(1-(($E$43-E20)/$E$43))),(30*(1-(2*(ABS($E$43-E20)/$E$43))))) -> 29.683806
A21: Proponente 2 | B21: FEZ INVERSIONES SAS | C21: CASA 1 | D21: HABILITADA | E21: 229532870 | F21: =IF(E21<=$E$43,(30*(1-(($E$43-E21)/$E$43))),(30*(1-(2*(ABS($E$43-E21)/$E$43))))) -> 29.74366
A22: Proponente 3 | B22: UNIÓN TEMPORAL HOGARES DE ESPERANZA | C22: CASA 1 | D22: NO HABILITADA | F22: =IF(E22<=$E$43,(30*(1-(($E$43-E22)/$E$43))),(30*(1-(2*(ABS($E$43-E22)/$E$43))))) -> 0
A23: Proponente 4 | B23: ASOCIACION CRISTIANA NUEVO NACIMIENTO -ACNN | C23: CASA 1 | D23: NO HABILITADA | F23: =IF(E23<=$E$43,(30*(1-(($E$43-E23)/$E$43))),(30*(1-(2*(ABS($E$43-E23)/$E$43))))) -> 0
A24: Proponente 5 | B24: UNIÓN TEMPORAL REFUGIO DE VIDA | C24: CASA 1 | D24: NO HABILITADA | F24: =IF(E24<=$E$43,(30*(1-(($E$43-E24)/$E$43))),(30*(1-(2*(ABS($E$43-E24)/$E$43))))) -> 0 | H24: PLIEGO
A25: Proponente 6 | B25: SOCIEDAD INVERSIONES PF SAS | C25: CASA 1 | D25: HABILITADA | E25: 221055475 | F25: =IF(E25<=$E$43,(30*(1-(($E$43-E25)/$E$43))),(30*(1-(2*(ABS($E$43-E25)/$E$43))))) -> 29.015439
A26: Proponente 7 | B26: CORPORACION SOCIAL PARA EL DESARROLLO DE LOS GRUPOS ETNICOS Y CULTURALES MULTIETNIAS | C26: CASA 1 | D26: HABILITADA | E26: 226649570 | F26: =IF(E26<=$E$43,(30*(1-(($E$43-E26)/$E$43))),(30*(1-(2*(ABS($E$43-E26)/$E$43))))) -> 29.749712
A28: Asignación de método de evaluación según TRM
A30: Rango (inclusive) | B30: Número Método | C30: Método
A31: 0.00 a 0.33 | B31: 1 | C31: Media aritmética
A32: 0.34 a 0.66 | B32: 2 | C32: Media aritmética alta
A33: 0.67 a 0.99 | B33: 3 | C33: Media geométrica con presupuesto oficial
A35: TRM | B35: 3730.49
E41: =+C32 -> Media aritmética alta
E43: =AVERAGE(E19,AVERAGE(E19:E26)) -> 2.285564e+08 | F43: =(MAX(E19:E26)+AVERAGE(E19:E26))/2 -> 2.285564e+08
E45: Presupuesto Oficial mensual por casa MES 1
E46: 229760870

Sheet EVAL PROP ARTIFI BAJA_MES1
B2: =+'EVALUACIÓN PROPONENTES_MES1'!B3 -> Objeto: LOTE 1 MODALIDAD INTEGRAL:“Prestar el servicio integral para la puesta en marcha y funcionamiento de las Casas Refugio para la atención a mujeres victimas de violencias y sus personas a cargo, de acuerdo con las características técnicas descritas en el anexo técnico y las normas vigentes que regulan la materia.”
B4: DATOS PRESUPUESTALES DEL CONTRATO:
B5: =+'EVALUACIÓN PROPONENTES_MES1'!B7 -> VALOR PRESUPUESTO MENSUAL | D5: =+'EVALUACIÓN PROPONENTES_MES1'!D7 -> 229760870
B9: VERIFICACIÓN COTIZACIONES QUE PUEDEN SER ARTIFICIALMENTE BAJAS
B11: INSUMOS PARA EL ANÁLISIS DE INFORMACIÓN
B14: N° | C14: PROPONENTE | D14: FECHA | E14: HORA | F14: VALOR PROPUESTA ECONÓMICA | G14: DIFERENCIA ENTRE EL COSTO ESTIMADO DEL CONTRATO Y LA MEDIANA DEL VALOR DE LAS OFERTAS. | H14: DIFERENCIA ENTRE EL COSTO ESTIMADO DEL CONTRATO Y EL PROMEDIO DEL VALOR DE LAS OFERTAS. | I14: DIFERENCIA ENTRE EL VALOR DE LA OFERTA QUE PUEDE SER ARTIFICIALMENTE BAJA Y EL PROMEDIO DEL VALOR DE LAS OFERTAS | J14: DIFERENCIA ENTRE EL VALOR DE LA OFERTA Y EL COSTO ESTIMADO DEL CONTRATO | K14: DIFERENCIA ENTRE EL VALOR DE LA OFERTA Y EL COSTO ESTIMADO DEL CONTRATO (PORCENTAJE)
B15: =+'EVALUACIÓN PROPONENTES_MES1'!B16 -> 1 | C15: =+'EVALUACIÓN PROPONENTES_MES1'!C16 -> CORPORACIÓN ORIENTAR PARA CRECER (CASA 1) | D15: =+'EVALUACIÓN PROPONENTES_MES1'!D16 -> 46161 | E15: =+'EVALUACIÓN PROPONENTES_MES1'!E16 -> 7:28AM | F15: 229760870 | G15: =+D5-F37 -> 1669650 | H15: =+D5-F39 -> 3860424.2 | I15: =+F15-$F$39 -> 3860424.2 | J15: =+F15-$D$5 -> 0 | K15: =-($D$5-F15)/$D$5 -> 0
B16: =+'EVALUACIÓN PROPONENTES_MES1'!B17 -> 2 | C16: =+'EVALUACIÓN PROPONENTES_MES1'!C17 -> CORPORACIÓN ORIENTAR PARA CRECER (CASA 2) | D16: =+'EVALUACIÓN PROPONENTES_MES1'!D17 -> 46161 | E16: =+'EVALUACIÓN PROPONENTES_MES1'!E17 -> 7:28AM | F16: 229760870 | I16: =+F16-$F$39 -> 3860424.2 | J16: =+F16-$D$5 -> 0 | K16: =-($D$5-F16)/$D$5 -> 0
B17: =+'EVALUACIÓN PROPONENTES_MES1'!B18 -> 3 | C17: =+'EVALUACIÓN PROPONENTES_MES1'!C18 -> FEZ INVERSIONES SAS | D17: =+'EVALUACIÓN PROPONENTES_MES1'!D18 -> 46161 | E17: =+'EVALUACIÓN PROPONENTES_MES1'!E18 -> 3:22PM | F17: 229532870 | I17: =+F17-$F$39 -> 3632424.2 | J17: =+F17-$D$5 -> -228000 | K17: =-($D$5-F17)/$D$5 -> -0.00099233608
B18: =+'EVALUACIÓN PROPONENTES_MES1'!B19 -> 5 | C18: =+'EVALUACIÓN PROPONENTES_MES1'!C19 -> ASOCIACION CRISTIANA NUEVO NACIMIENTO -ACNN | D18: =+'EVALUACIÓN PROPONENTES_MES1'!D19 -> 46161 | E18: =+'EVALUACIÓN PROPONENTES_MES1'!E19 -> 6:11PM | F18: 218643020 | I18: =+F18-$F$39 -> -7257425.8 | J18: =+F18-$D$5 -> -11117850 | K18: =-($D$5-F18)/$D$5 -> -0.048388788
B19: =+'EVALUACIÓN PROPONENTES_MES1'!B20 -> 7 | C19: =+'EVALUACIÓN PROPONENTES_MES1'!C20 -> SOCIEDAD INVERSIONES PF SAS | D19: =+'EVALUACIÓN PROPONENTES_MES1'!D20 -> 46161 | E19: =+'EVALUACIÓN PROPONENTES_MES1'!E20 -> 6:41PM | F19: 221055475 | I19: =+F19-$F$39 -> -4844970.8 | J19: =+F19-$D$5 -> -8705395 | K19: =-($D$5-F19)/$D$5 -> -0.037888936
B20: =+'EVALUACIÓN PROPONENTES_MES1'!B21 -> 8 | C20: =+'EVALUACIÓN PROPONENTES_MES1'!C21 -> CORPORACION SOCIAL PARA EL DESARROLLO DE LOS GRUPOS ETNICOS Y CULTURALES MULTIETNIAS | D20: =+'EVALUACIÓN PROPONENTES_MES1'!D21 -> 46161 | E20: =+'EVALUACIÓN PROPONENTES_MES1'!E21 -> 9:07PM | F20: 226649570 | I20: =+F20-$F$39 -> 749124.17 | J20: =+F20-$D$5 -> -3111300 | K20: =-($D$5-F20)/$D$5 -> -0.01354147
B23: COMPROBACIÓN RELATIVA
B25: 1. PASO. Se tomaron las propuestas que no sobrepasaron el costo estimado:
B27: N° | C27: PROPONENTE | D27: FECHA | E27: HORA | F27: VALOR PROPUESTA ECONÓMICA
B28: =+B15 -> 1 | C28: =+C15 -> CORPORACIÓN ORIENTAR PARA CRECER (CASA 1) | D28: =+D15 -> 46161 | E28: =+E15 -> 7:28AM | F28: =+F15 -> 229760870
B29: =+B16 -> 2 | C29: =+C16 -> CORPORACIÓN ORIENTAR PARA CRECER (CASA 2) | D29: =+D16 -> 46161 | E29: =+E16 -> 7:28AM | F29: =+F16 -> 229760870
B30: =+B17 -> 3 | C30: =+C17 -> FEZ INVERSIONES SAS | D30: =+D17 -> 46161 | E30: =+E17 -> 3:22PM | F30: =+F17 -> 229532870
B31: =+B18 -> 5 | C31: =+C18 -> ASOCIACION CRISTIANA NUEVO NACIMIENTO -ACNN | D31: =+D18 -> 46161 | E31: =+E18 -> 6:11PM | F31: =+F18 -> 218643020
B32: =+B19 -> 7 | C32: =+C19 -> SOCIEDAD INVERSIONES PF SAS | D32: =+D19 -> 46161 | E32: =+E19 -> 6:41PM | F32: =+F19 -> 221055475
B33: =+B20 -> 8 | C33: =+C20 -> CORPORACION SOCIAL PARA EL DESARROLLO DE LOS GRUPOS ETNICOS Y CULTURALES MULTIETNIAS | D33: =+D20 -> 46161 | E33: =+E20 -> 9:07PM | F33: =+F20 -> 226649570
B35: 2. PASO. Se calcula la mediana y el promedio con los datos relacionados en el paso 1:
C37: CÁLCULO DE LA MEDIANA | F37: =MEDIAN(F28:F33) -> 228091220
C39: PROMEDIO | F39: =AVERAGE(F28:F33) -> 2.2590045e+08
B41: 3. PASO. Se calcula la desviación estandar del conjunto con la siguiente fórmula:
B44: N° | C44: PROPONENTE | D44: FECHA | E44: HORA | F44: VALOR PROPUESTA ECONÓMICA
B45: =+B28 -> 1 | C45: =+C28 -> CORPORACIÓN ORIENTAR PARA CRECER (CASA 1) | D45: =+D28 -> 46161 | E45: =+E28 -> 7:28AM | F45: =+F28 -> 229760870 | G45: =+(F45-$F$39)^2 -> 1.4902875e+13
B46: =+B29 -> 2 | C46: =+C29 -> CORPORACIÓN ORIENTAR PARA CRECER (CASA 2) | D46: =+D29 -> 46161 | E46: =+E29 -> 7:28AM | F46: =+F29 -> 229760870 | G46: =+(F46-$F$39)^2 -> 1.4902875e+13
B47: =+B30 -> 3 | C47: =+C30 -> FEZ INVERSIONES SAS | D47: =+D30 -> 46161 | E47: =+E30 -> 3:22PM | F47: =+F30 -> 229532870 | G47: =+(F47-$F$39)^2 -> 1.3194505e+13
B48: =+B31 -> 5 | C48: =+C31 -> ASOCIACION CRISTIANA NUEVO NACIMIENTO -ACNN | D48: =+D31 -> 46161 | E48: =+E31 -> 6:11PM | F48: =+F31 -> 218643020 | G48: =+(F48-$F$39)^2 -> 5.267023e+13
B49: =+B32 -> 7 | C49: =+C32 -> SOCIEDAD INVERSIONES PF SAS | D49: =+D32 -> 46161 | E49: =+E32 -> 6:41PM | F49: =+F32 -> 221055475 | G49: =+(F49-$F$39)^2 -> 2.3473742e+13
B50: =+B33 -> 8 | C50: =+C33 -> CORPORACION SOCIAL PARA EL DESARROLLO DE LOS GRUPOS ETNICOS Y CULTURALES MULTIETNIAS | D50: =+D33 -> 46161 | E50: =+E33 -> 9:07PM | F50: =+F33 -> 226649570 | G50: =+(F50-$F$39)^2 -> 5.6118702e+11
F51: S | G51: =SUM(G45:G50)/(D52) -> 1.9950902e+13
C52: Número de ofertas (n) | D52: =COUNT(B45:B50) -> 6
C54: DESVIACIÓN ESTÁNDAR DEL CONJUNTO | F54: =SQRT(G51) -> 4466643.3
B56: 4. PASO. Se determina el valor mínimo aceptable para la entidad con la siguiente fórmula: Mediana - desviación estándar
C58: VALOR MÍNIMO ACEPTABLE | F58: =+F37-F54 -> 2.2362458e+08
B61: 5. PASO. Se determinan las propuestas que pueden ser artificialmente bajas
B63: N° | C63: PROPONENTE | D63: FECHA | E63: HORA | F63: VALOR PROPUESTA ECONÓMICA | G63: VALOR MÍNIMO ACEPTABLE | H63: DIFERENCIA | I63: OBSERVACIÓN
B64: =+B45 -> 1 | C64: =+C45 -> CORPORACIÓN ORIENTAR PARA CRECER (CASA 1) | D64: =+D45 -> 46161 | E64: =+E45 -> 7:28AM | F64: =+F45 -> 229760870 | G64: =+$F$58 -> 2.2362458e+08 | H64: =+F64-G64 -> 6136293.3 | I64: Propuesta incluida dentro de la minima aceptable
...

Sheet EVALUACIÓN PROPONENTES_MES1
B2: =+'EVALUACIÓN 2026_lote_1_MES1'!A2 -> SDMUJER-SAMC-001-2026
B3: =+'EVALUACIÓN 2026_lote_1_MES1'!A4 -> Objeto: LOTE 1 MODALIDAD INTEGRAL:“Prestar el servicio integral para la puesta en marcha y funcionamiento de las Casas Refugio para la atención a mujeres victimas de violencias y sus personas a cargo, de acuerdo con las características técnicas descritas en el anexo técnico y las normas vigentes que regulan la materia.”
B5: DATOS PRESUPUESTALES DEL CONTRATO:
B7: VALOR PRESUPUESTO MENSUAL | D7: =+'EVALUACIÓN 2026_lote_1_MES1'!E46 -> 229760870
B10: VERIFICACIÓN CONDICIONES DE LAS PROPUESTAS ECONÓMICAS MODALIDAD INTEGRAL
B12: Durante el proceso de contratación se recibieron 8 ofertas por parte de las siguientes empresas que se detallan a continuación:
B14: COMPROBACIÓN RELATIVA
B15: N° | C15: PROPONENTE | D15: FECHA | E15: HORA | F15: VALOR PROPUESTA ECONÓMICA | G15: OBSERVACIONES
B16: 1 | C16: =+'EVALUACIÓN 2026_lote_1_MES1'!B19 -> CORPORACIÓN ORIENTAR PARA CRECER (CASA 1) | D16: 46161 | E16: 7:28AM | F16: =+'EVAL PROP ARTIFI BAJA_MES1'!F15 -> 229760870 | G16: =+'EVAL PROP ARTIFI BAJA_MES1'!I64 -> Propuesta incluida dentro de la minima aceptable
B17: 2 | C17: =+'EVALUACIÓN 2026_lote_1_MES1'!B20 -> CORPORACIÓN ORIENTAR PARA CRECER (CASA 2) | D17: 46161 | E17: 7:28AM | F17: =+'EVAL PROP ARTIFI BAJA_MES1'!F16 -> 229760870 | G17: =+'EVAL PROP ARTIFI BAJA_MES1'!I65 -> Propuesta incluida dentro de la minima aceptable
B18: 3 | C18: =+'EVALUACIÓN 2026_lote_1_MES1'!B21 -> FEZ INVERSIONES SAS | D18: 46161 | E18: 3:22PM | F18: =+'EVAL PROP ARTIFI BAJA_MES1'!F17 -> 229532870 | G18: =+'EVAL PROP ARTIFI BAJA_MES1'!I66 -> Propuesta incluida dentro de la minima aceptable
B19: 5 | C19: =+'EVALUACIÓN 2026_lote_1_MES1'!B23 -> ASOCIACION CRISTIANA NUEVO NACIMIENTO -ACNN | D19: 46161 | E19: 6:11PM | F19: =+'EVAL PROP ARTIFI BAJA_MES1'!F18 -> 218643020 | G19: =+'EVAL PROP ARTIFI BAJA_MES1'!I67 -> Propuesta artificialmente baja
B20: 7 | C20: =+'EVALUACIÓN 2026_lote_1_MES1'!B25 -> SOCIEDAD INVERSIONES PF SAS | D20: 46161 | E20: 6:41PM | F20: =+'EVAL PROP ARTIFI BAJA_MES1'!F19 -> 221055475 | G20: =+'EVAL PROP ARTIFI BAJA_MES1'!I68 -> Propuesta artificialmente baja
B21: 8 | C21: =+'EVALUACIÓN 2026_lote_1_MES1'!B26 -> CORPORACION SOCIAL PARA EL DESARROLLO DE LOS GRUPOS ETNICOS Y CULTURALES MULTIETNIAS | D21: 46161 | E21: 9:07PM | F21: =+'EVAL PROP ARTIFI BAJA_MES1'!F20 -> 226649570 | G21: =+'EVAL PROP ARTIFI BAJA_MES1'!I69 -> Propuesta incluida dentro de la minima aceptable

Sheet EVALUACIÓN 2026_lote_1_MES2
A1: EVALUACIÓN PROPUESTA ECONÓMICA
A2: SDMUJER-SAMC-001-2026
A4: Objeto: LOTE 1 MODALIDAD INTEGRAL:“Prestar el servicio integral para la puesta en marcha y funcionamiento de las Casas Refugio para la atención a mujeres victimas de violencias y sus personas a cargo, de acuerdo con las características técnicas descritas en el anexo técnico y las normas vigentes que regulan la materia.” | H4: SECOP II
A6: Proponente | B6: Nombre | C6: CASA | D6: Valor Propuesta
A7: Proponente 1 | B7: CORPORACIÓN ORIENTAR PARA CRECER (CASA 1) | C7: CASA 1 | D7: 228044070
B8: CORPORACIÓN ORIENTAR PARA CRECER (CASA 2) | C8: CASA 2 | D8: 228044070
A9: Proponente 2 | B9: FEZ INVERSIONES SAS | C9: CASA 1 | D9: 227816070
A10: Proponente 3 | B10: UNIÓN TEMPORAL HOGARES DE ESPERANZA | C10: CASA 1 | D10: 227066104
A11: Proponente 4 | B11: ASOCIACION CRISTIANA NUEVO NACIMIENTO -ACNN | C11: CASA 1 | D11: 216926220
A12: Proponente 5 | B12: UNIÓN TEMPORAL REFUGIO DE VIDA | C12: CASA 1 | D12: 227159196
A13: Proponente 6 | B13: SOCIEDAD INVERSIONES PF SAS | C13: CASA 1 | D13: 219424515
A14: Proponente 7 | B14: CORPORACION SOCIAL PARA EL DESARROLLO DE LOS GRUPOS ETNICOS Y CULTURALES MULTIETNIAS | C14: CASA 1 | D14: 224932770
A17: Proponente | B17: Nombre | C17: CASA | D17: Propuesta Habilitada | E17: Valor Propuesta Segudo Mes en Adelante | F17: Puntaje Factor Económico
A18: Proponente 1 | B18: CORPORACIÓN ORIENTAR PARA CRECER (CASA 1) | C18: CASA 1 | D18: HABILITADA | E18: 228044070 | F18: =IF(E18<=$E$42,(30*(1-(($E$42-E18)/$E$42))),(30*(1-(2*(ABS($E$42-E18)/$E$42))))) -> 29.683695
B19: CORPORACIÓN ORIENTAR PARA CRECER (CASA 2) | C19: CASA 2 | D19: HABILITADA | E19: 228044070 | F19: =IF(E19<=$E$42,(30*(1-(($E$42-E19)/$E$42))),(30*(1-(2*(ABS($E$42-E19)/$E$42))))) -> 29.683695
A20: Proponente 2 | B20: FEZ INVERSIONES SAS | C20: CASA 1 | D20: HABILITADA | E20: 227816070 | F20: =IF(E20<=$E$42,(30*(1-(($E$42-E20)/$E$42))),(30*(1-(2*(ABS($E$42-E20)/$E$42))))) -> 29.744
A21: Proponente 3 | B21: UNIÓN TEMPORAL HOGARES DE ESPERANZA | C21: CASA 1 | D21: NO HABILITADA | F21: =IF(E21<=$E$42,(30*(1-(($E$42-E21)/$E$42))),(30*(1-(2*(ABS($E$42-E21)/$E$42))))) -> 0
A22: Proponente 4 | B22: ASOCIACION CRISTIANA NUEVO NACIMIENTO -ACNN | C22: CASA 1 | D22: NO HABILITADA | F22: =IF(E22<=$E$42,(30*(1-(($E$42-E22)/$E$42))),(30*(1-(2*(ABS($E$42-E22)/$E$42))))) -> 0
A23: Proponente 5 | B23: UNIÓN TEMPORAL REFUGIO DE VIDA | C23: CASA 1 | D23: NO HABILITADA | F23: =IF(E23<=$E$42,(30*(1-(($E$42-E23)/$E$42))),(30*(1-(2*(ABS($E$42-E23)/$E$42))))) -> 0 | H23: PLIEGO
A24: Proponente 6 | B24: SOCIEDAD INVERSIONES PF SAS | C24: CASA 1 | D24: HABILITADA | E24: 219424515 | F24: =IF(E24<=$E$42,(30*(1-(($E$42-E24)/$E$42))),(30*(1-(2*(ABS($E$42-E24)/$E$42))))) -> 29.018242
A25: Proponente 7 | B25: CORPORACION SOCIAL PARA EL DESARROLLO DE LOS GRUPOS ETNICOS Y CULTURALES MULTIETNIAS | C25: CASA 1 | D25: HABILITADA | E25: 224932770 | F25: =IF(E25<=$E$42,(30*(1-(($E$42-E25)/$E$42))),(30*(1-(2*(ABS($E$42-E25)/$E$42))))) -> 29.746692
A27: Asignación de método de evaluación según TRM
A29: Rango (inclusive) | B29: Número Método | D29: Método
A30: 0.00 a 0.33 | B30: 1 | D30: Media aritmética
A31: 0.34 a 0.66 | B31: 2 | D31: Media aritmética alta
A32: 0.67 a 0.99 | B32: 3 | D32: Media geométrica con presupuesto oficial
A34: TRM | B34: 3730.49
E40: =+D31 -> Media aritmética alta
E42: =AVERAGE(E18,AVERAGE(E18:E25)) -> 2.2684818e+08 | F42: =(MAX(E18:E25)+AVERAGE(E18:E25))/2 -> 2.2684818e+08
E44: Presupuesto Oficial mensual por casa
E45: 228044070

Sheet EVAL PROP ARTIFI BAJA_MES2
B2: =+'EVALUACIÓN PROPONENTES_MES2'!B3 -> Objeto: LOTE 1 MODALIDAD INTEGRAL:“Prestar el servicio integral para la puesta en marcha y funcionamiento de las Casas Refugio para la atención a mujeres victimas de violencias y sus personas a cargo, de acuerdo con las características técnicas descritas en el anexo técnico y las normas vigentes que regulan la materia.”
B4: DATOS PRESUPUESTALES DEL CONTRATO:
B5: =+'EVALUACIÓN PROPONENTES_MES2'!B7 -> VALOR PRESUPUESTO MENSUAL | D5: =+'EVALUACIÓN PROPONENTES_MES2'!D7 -> 228044070
B9: VERIFICACIÓN COTIZACIONES QUE PUEDEN SER ARTIFICIALMENTE BAJAS
B11: INSUMOS PARA EL ANÁLISIS DE INFORMACIÓN
B14: N° | C14: PROPONENTE | D14: FECHA | E14: HORA | F14: VALOR PROPUESTA ECONÓMICA | G14: DIFERENCIA ENTRE EL COSTO ESTIMADO DEL CONTRATO Y LA MEDIANA DEL VALOR DE LAS OFERTAS. | H14: DIFERENCIA ENTRE EL COSTO ESTIMADO DEL CONTRATO Y EL PROMEDIO DEL VALOR DE LAS OFERTAS. | I14: DIFERENCIA ENTRE EL VALOR DE LA OFERTA QUE PUEDE SER ARTIFICIALMENTE BAJA Y EL PROMEDIO DEL VALOR DE LAS OFERTAS | J14: DIFERENCIA ENTRE EL VALOR DE LA OFERTA Y EL COSTO ESTIMADO DEL CONTRATO | K14: DIFERENCIA ENTRE EL VALOR DE LA OFERTA Y EL COSTO ESTIMADO DEL CONTRATO (PORCENTAJE)
B15: =+'EVALUACIÓN PROPONENTES_MES2'!B16 -> 1 | C15: =+'EVALUACIÓN PROPONENTES_MES2'!C16 -> CORPORACIÓN ORIENTAR PARA CRECER (CASA 1) | D15: =+'EVALUACIÓN PROPONENTES_MES2'!D16 -> 46161 | E15: =+'EVALUACIÓN PROPONENTES_MES2'!E16 -> 7:28AM | F15: 228044070 | G15: =+D5-F37 -> 1669650 | H15: =+D5-F39 -> 3846117.5 | I15: =+F15-$F$39 -> 3846117.5 | J15: =+F15-$D$5 -> 0 | K15: =-($D$5-F15)/$D$5 -> 0
B16: =+'EVALUACIÓN PROPONENTES_MES2'!B17 -> 2 | C16: =+'EVALUACIÓN PROPONENTES_MES2'!C17 -> CORPORACIÓN ORIENTAR PARA CRECER (CASA 2) | D16: =+'EVALUACIÓN PROPONENTES_MES2'!D17 -> 46161 | E16: =+'EVALUACIÓN PROPONENTES_MES2'!E17 -> 7:28AM | F16: 228044070 | I16: =+F16-$F$39 -> 3846117.5 | J16: =+F16-$D$5 -> 0 | K16: =-($D$5-F16)/$D$5 -> 0
B17: =+'EVALUACIÓN PROPONENTES_MES2'!B18 -> 3 | C17: =+'EVALUACIÓN PROPONENTES_MES2'!C18 -> FEZ INVERSIONES SAS | D17: =+'EVALUACIÓN PROPONENTES_MES2'!D18 -> 46161 | E17: =+'EVALUACIÓN PROPONENTES_MES2'!E18 -> 3:22PM | F17: 227816070 | I17: =+F17-$F$39 -> 3618117.5 | J17: =+F17-$D$5 -> -228000 | K17: =-($D$5-F17)/$D$5 -> -0.00099980675
B18: =+'EVALUACIÓN PROPONENTES_MES2'!B19 -> 5 | C18: =+'EVALUACIÓN PROPONENTES_MES2'!C19 -> ASOCIACION CRISTIANA NUEVO NACIMIENTO -ACNN | D18: =+'EVALUACIÓN PROPONENTES_MES2'!D19 -> 46161 | E18: =+'EVALUACIÓN PROPONENTES_MES2'!E19 -> 6:11PM | F18: 216926220 | I18: =+F18-$F$39 -> -7271732.5 | J18: =+F18-$D$5 -> -11117850 | K18: =-($D$5-F18)/$D$5 -> -0.048753077
B19: =+'EVALUACIÓN PROPONENTES_MES2'!B20 -> 7 | C19: =+'EVALUACIÓN PROPONENTES_MES2'!C20 -> SOCIEDAD INVERSIONES PF SAS | D19: =+'EVALUACIÓN PROPONENTES_MES2'!D20 -> 46161 | E19: =+'EVALUACIÓN PROPONENTES_MES2'!E20 -> 6:41PM | F19: 219424515 | I19: =+F19-$F$39 -> -4773437.5 | J19: =+F19-$D$5 -> -8619555 | K19: =-($D$5-F19)/$D$5 -> -0.03779776
B20: =+'EVALUACIÓN PROPONENTES_MES2'!B21 -> 8 | C20: =+'EVALUACIÓN PROPONENTES_MES2'!C21 -> CORPORACION SOCIAL PARA EL DESARROLLO DE LOS GRUPOS ETNICOS Y CULTURALES MULTIETNIAS | D20: =+'EVALUACIÓN PROPONENTES_MES2'!D21 -> 46161 | E20: =+'EVALUACIÓN PROPONENTES_MES2'!E21 -> 9:07PM | F20: 224932770 | I20: =+F20-$F$39 -> 734817.5 | J20: =+F20-$D$5 -> -3111300 | K20: =-($D$5-F20)/$D$5 -> -0.013643416
B23: COMPROBACIÓN RELATIVA
B25: 1. PASO. Se tomaron las propuestas que no sobrepasaron el costo estimado:
B27: N° | C27: PROPONENTE | D27: FECHA | E27: HORA | F27: VALOR PROPUESTA ECONÓMICA
B28: =+B15 -> 1 | C28: =+C15 -> CORPORACIÓN ORIENTAR PARA CRECER (CASA 1) | D28: =+D15 -> 46161 | E28: =+E15 -> 7:28AM | F28: =+F15 -> 228044070
B29: =+B16 -> 2 | C29: =+C16 -> CORPORACIÓN ORIENTAR PARA CRECER (CASA 2) | D29: =+D16 -> 46161 | E29: =+E16 -> 7:28AM | F29: =+F16 -> 228044070
B30: =+B17 -> 3 | C30: =+C17 -> FEZ INVERSIONES SAS | D30: =+D17 -> 46161 | E30: =+E17 -> 3:22PM | F30: =+F17 -> 227816070
B31: =+B18 -> 5 | C31: =+C18 -> ASOCIACION CRISTIANA NUEVO NACIMIENTO -ACNN | D31: =+D18 -> 46161 | E31: =+E18 -> 6:11PM | F31: =+F18 -> 216926220
B32: =+B19 -> 7 | C32: =+C19 -> SOCIEDAD INVERSIONES PF SAS | D32: =+D19 -> 46161 | E32: =+E19 -> 6:41PM | F32: =+F19 -> 219424515
B33: =+B20 -> 8 | C33: =+C20 -> CORPORACION SOCIAL PARA EL DESARROLLO DE LOS GRUPOS ETNICOS Y CULTURALES MULTIETNIAS | D33: =+D20 -> 46161 | E33: =+E20 -> 9:07PM | F33: =+F20 -> 224932770
B35: 2. PASO. Se calcula la mediana y el promedio con los datos relacionados en el paso 1:
C37: CÁLCULO DE LA MEDIANA | F37: =MEDIAN(F28:F33) -> 226374420
C39: PROMEDIO | F39: =AVERAGE(F28:F33) -> 2.2419795e+08
B41: 3. PASO. Se calcula la desviación estandar del conjunto con la siguiente fórmula:
B44: N° | C44: PROPONENTE | D44: FECHA | E44: HORA | F44: VALOR PROPUESTA ECONÓMICA
B45: =+B28 -> 1 | C45: =+C28 -> CORPORACIÓN ORIENTAR PARA CRECER (CASA 1) | D45: =+D28 -> 46161 | E45: =+E28 -> 7:28AM | F45: =+F28 -> 228044070 | G45: =+(F45-$F$39)^2 -> 1.479262e+13
B46: =+B29 -> 2 | C46: =+C29 -> CORPORACIÓN ORIENTAR PARA CRECER (CASA 2) | D46: =+D29 -> 46161 | E46: =+E29 -> 7:28AM | F46: =+F29 -> 228044070 | G46: =+(F46-$F$39)^2 -> 1.479262e+13
B47: =+B30 -> 3 | C47: =+C30 -> FEZ INVERSIONES SAS | D47: =+D30 -> 46161 | E47: =+E30 -> 3:22PM | F47: =+F30 -> 227816070 | G47: =+(F47-$F$39)^2 -> 1.3090774e+13
B48: =+B31 -> 5 | C48: =+C31 -> ASOCIACION CRISTIANA NUEVO NACIMIENTO -ACNN | D48: =+D31 -> 46161 | E48: =+E31 -> 6:11PM | F48: =+F31 -> 216926220 | G48: =+(F48-$F$39)^2 -> 5.2878094e+13
B49: =+B32 -> 7 | C49: =+C32 -> SOCIEDAD INVERSIONES PF SAS | D49: =+D32 -> 46161 | E49: =+E32 -> 6:41PM | F49: =+F32 -> 219424515 | G49: =+(F49-$F$39)^2 -> 2.2785706e+13
B50: =+B33 -> 8 | C50: =+C33 -> CORPORACION SOCIAL PARA EL DESARROLLO DE LOS GRUPOS ETNICOS Y CULTURALES MULTIETNIAS | D50: =+D33 -> 46161 | E50: =+E33 -> 9:07PM | F50: =+F33 -> 224932770 | G50: =+(F50-$F$39)^2 -> 5.3995676e+11
F51: S | G51: =SUM(G45:G50)/(D52) -> 1.9813295e+13
C52: Número de ofertas (n) | D52: =COUNT(B45:B50) -> 6
C54: DESVIACIÓN ESTÁNDAR DEL CONJUNTO | F54: =SQRT(G51) -> 4451212.8
B56: 4. PASO. Se determina el valor mínimo aceptable para la entidad con la siguiente fórmula: Mediana - desviación estándar
C58: VALOR MÍNIMO ACEPTABLE | F58: =+F37-F54 -> 2.2192321e+08
B61: 5. PASO. Se determinan las propuestas que pueden ser artificialmente bajas
B63: N° | C63: PROPONENTE | D63: FECHA | E63: HORA | F63: VALOR PROPUESTA ECONÓMICA | G63: VALOR MÍNIMO ACEPTABLE | H63: DIFERENCIA | I63: OBSERVACIÓN
B64: =+B45 -> 1 | C64: =+C45 -> CORPORACIÓN ORIENTAR PARA CRECER (CASA 1) | D64: =+D45 -> 46161 | E64: =+E45 -> 7:28AM | F64: =+F45 -> 228044070 | G64: =+$F$58 -> 2.2192321e+08 | H64: =+F64-G64 -> 6120862.8 | I64: Propuesta incluida dentro de la minima aceptable
...

Sheet EVALUACIÓN PROPONENTES_MES2
B2: =+'EVALUACIÓN 2026_lote_1_MES2'!A2 -> SDMUJER-SAMC-001-2026
B3: =+'EVALUACIÓN 2026_lote_1_MES2'!A4 -> Objeto: LOTE 1 MODALIDAD INTEGRAL:“Prestar el servicio integral para la puesta en marcha y funcionamiento de las Casas Refugio para la atención a mujeres victimas de violencias y sus personas a cargo, de acuerdo con las características técnicas descritas en el anexo técnico y las normas vigentes que regulan la materia.”
B5: DATOS PRESUPUESTALES DEL CONTRATO:
B7: VALOR PRESUPUESTO MENSUAL | D7: =+'EVALUACIÓN 2026_lote_1_MES2'!E45 -> 228044070
B10: VERIFICACIÓN CONDICIONES DE LAS PROPUESTAS ECONÓMICAS MODALIDAD INTEGRAL
B12: Durante el proceso de contratación se recibieron 8 ofertas por parte de las siguientes empresas que se detallan a continuación:
B14: COMPROBACIÓN RELATIVA
B15: N° | C15: PROPONENTE | D15: FECHA | E15: HORA | F15: VALOR PROPUESTA ECONÓMICA | G15: OBSERVACIONES
B16: 1 | C16: =+'EVALUACIÓN 2026_lote_1_MES2'!B18 -> CORPORACIÓN ORIENTAR PARA CRECER (CASA 1) | D16: 46161 | E16: 7:28AM | F16: =+'EVAL PROP ARTIFI BAJA_MES2'!F15 -> 228044070 | G16: =+'EVAL PROP ARTIFI BAJA_MES2'!I64 -> Propuesta incluida dentro de la minima aceptable
B17: 2 | C17: =+'EVALUACIÓN 2026_lote_1_MES2'!B19 -> CORPORACIÓN ORIENTAR PARA CRECER (CASA 2) | D17: 46161 | E17: 7:28AM | F17: =+'EVAL PROP ARTIFI BAJA_MES2'!F16 -> 228044070 | G17: =+'EVAL PROP ARTIFI BAJA_MES2'!I65 -> Propuesta incluida dentro de la minima aceptable
B18: 3 | C18: =+'EVALUACIÓN 2026_lote_1_MES2'!B20 -> FEZ INVERSIONES SAS | D18: 46161 | E18: 3:22PM | F18: =+'EVAL PROP ARTIFI BAJA_MES2'!F17 -> 227816070 | G18: =+'EVAL PROP ARTIFI BAJA_MES2'!I66 -> Propuesta incluida dentro de la minima aceptable
B19: 5 | C19: =+'EVALUACIÓN 2026_lote_1_MES2'!B22 -> ASOCIACION CRISTIANA NUEVO NACIMIENTO -ACNN | D19: 46161 | E19: 6:11PM | F19: =+'EVAL PROP ARTIFI BAJA_MES2'!F18 -> 216926220 | G19: =+'EVAL PROP ARTIFI BAJA_MES2'!I67 -> Propuesta artificialmente baja
B20: 7 | C20: =+'EVALUACIÓN 2026_lote_1_MES2'!B24 -> SOCIEDAD INVERSIONES PF SAS | D20: 46161 | E20: 6:41PM | F20: =+'EVAL PROP ARTIFI BAJA_MES2'!F19 -> 219424515 | G20: =+'EVAL PROP ARTIFI BAJA_MES2'!I68 -> Propuesta artificialmente baja
B21: 8 | C21: =+'EVALUACIÓN 2026_lote_1_MES2'!B25 -> CORPORACION SOCIAL PARA EL DESARROLLO DE LOS GRUPOS ETNICOS Y CULTURALES MULTIETNIAS | D21: 46161 | E21: 9:07PM | F21: =+'EVAL PROP ARTIFI BAJA_MES2'!F20 -> 224932770 | G21: =+'EVAL PROP ARTIFI BAJA_MES2'!I69 -> Propuesta incluida dentro de la minima aceptable

Sheet EVALUACIÓN 2026_lote_1_Total
A1: EVALUACIÓN PROPUESTA ECONÓMICA
A2: SDMUJER-SAMC-001-2026
A4: Objeto: LOTE 1 MODALIDAD INTEGRAL:“Prestar el servicio integral para la puesta en marcha y funcionamiento de las Casas Refugio para la atención a mujeres victimas de violencias y sus personas a cargo, de acuerdo con las características técnicas descritas en el anexo técnico y las normas vigentes que regulan la materia.” | H4: SECOP II
A5: Proponente | B5: Nombre | C5: CASA | D5: Valor Propuesta
A6: Proponente 1 | B6: CORPORACIÓN ORIENTAR PARA CRECER (CASA 1) | C6: CASA 1 | D6: 1141937150
B7: CORPORACIÓN ORIENTAR PARA CRECER (CASA 2) | C7: CASA 2 | D7: 1141937150
A8: Proponente 2 | B8: FEZ INVERSIONES SAS | C8: CASA 1 | D8: 1140797150
A9: Proponente 3 | B9: UNIÓN TEMPORAL HOGARES DE ESPERANZA | C9: CASA 1 | D9: 1137047316
A10: Proponente 4 | B10: ASOCIACION CRISTIANA NUEVO NACIMIENTO -ACNN | C10: CASA 1 | D10: 1086347900
A11: Proponente 5 | B11: UNIÓN TEMPORAL REFUGIO DE VIDA | C11: CASA 1 | D11: 1137512774
A12: Proponente 6 | B12: SOCIEDAD INVERSIONES PF SAS | C12: CASA 1 | D12: 1098753550
A13: Proponente 7 | B13: CORPORACION SOCIAL PARA EL DESARROLLO DE LOS GRUPOS ETNICOS Y CULTURALES MULTIETNIAS | C13: CASA 1 | D13: 1126380650
A16: Proponente | B16: Nombre | C16: CASA | D16: Propuesta Habilitada | E16: Valor Propuesta Total | F16: Puntaje Factor Económico
A17: Proponente 1 | B17: CORPORACIÓN ORIENTAR PARA CRECER (CASA 1) | C17: CASA 1 | D17: HABILITADA | E17: 1141937150 | F17: =IF(E17<=$E$41,(30*(1-(($E$41-E17)/$E$41))),(30*(1-(2*(ABS($E$41-E17)/$E$41))))) -> 29.683718
B18: CORPORACIÓN ORIENTAR PARA CRECER (CASA 2) | C18: CASA 2 | D18: HABILITADA | E18: 1141937150 | F18: =IF(E18<=$E$41,(30*(1-(($E$41-E18)/$E$41))),(30*(1-(2*(ABS($E$41-E18)/$E$41))))) -> 29.683718
A19: Proponente 2 | B19: FEZ INVERSIONES SAS | C19: CASA 1 | D19: HABILITADA | E19: 1140797150 | F19: =IF(E19<=$E$41,(30*(1-(($E$41-E19)/$E$41))),(30*(1-(2*(ABS($E$41-E19)/$E$41))))) -> 29.743932
A20: Proponente 3 | B20: UNIÓN TEMPORAL HOGARES DE ESPERANZA | C20: CASA 1 | D20: NO HABILITADA | F20: =IF(E20<=$E$41,(30*(1-(($E$41-E20)/$E$41))),(30*(1-(2*(ABS($E$41-E20)/$E$41))))) -> 0
A21: Proponente 4 | B21: ASOCIACION CRISTIANA NUEVO NACIMIENTO -ACNN | C21: CASA 1 | D21: NO HABILITADA | F21: =IF(E21<=$E$41,(30*(1-(($E$41-E21)/$E$41))),(30*(1-(2*(ABS($E$41-E21)/$E$41))))) -> 0
A22: Proponente 5 | B22: UNIÓN TEMPORAL REFUGIO DE VIDA | C22: CASA 1 | D22: NO HABILITADA | F22: =IF(E22<=$E$41,(30*(1-(($E$41-E22)/$E$41))),(30*(1-(2*(ABS($E$41-E22)/$E$41))))) -> 0 | H22: PLIEGO
A23: Proponente 6 | B23: SOCIEDAD INVERSIONES PF SAS | C23: CASA 1 | D23: HABILITADA | E23: 1098753550 | F23: =IF(E23<=$E$41,(30*(1-(($E$41-E23)/$E$41))),(30*(1-(2*(ABS($E$41-E23)/$E$41))))) -> 29.017678
A24: Proponente 7 | B24: CORPORACION SOCIAL PARA EL DESARROLLO DE LOS GRUPOS ETNICOS Y CULTURALES MULTIETNIAS | C24: CASA 1 | D24: HABILITADA | E24: 1126380650 | F24: =IF(E24<=$E$41,(30*(1-(($E$41-E24)/$E$41))),(30*(1-(2*(ABS($E$41-E24)/$E$41))))) -> 29.7473
A26: Asignación de método de evaluación según TRM
A28: Rango (inclusive) | B28: Número Método | D28: Método
A29: 0.00 a 0.33 | B29: 1 | D29: Media aritmética
A30: 0.34 a 0.66 | B30: 2 | D30: Media aritmética alta
A31: 0.67 a 0.99 | B31: 3 | D31: Media geométrica con presupuesto oficial
A33: TRM | B33: 3730.49
E39: =+D30 -> Media aritmética alta
E41: =AVERAGE(E17,AVERAGE(E17:E24)) -> 1135949140 | F41: =(MAX(E17:E24)+AVERAGE(E17:E24))/2 -> 1135949140
E43: Presupuesto Oficial mensual por casa Total
E44: 1141937150

Sheet EVAL PROP ARTIFI BAJA_Total
B2: =+'EVALUACIÓN PROPONENTES_Total'!B3 -> Objeto: LOTE 1 MODALIDAD INTEGRAL:“Prestar el servicio integral para la puesta en marcha y funcionamiento de las Casas Refugio para la atención a mujeres victimas de violencias y sus personas a cargo, de acuerdo con las características técnicas descritas en el anexo técnico y las normas vigentes que regulan la materia.”
B4: DATOS PRESUPUESTALES DEL CONTRATO:
B5: =+'EVALUACIÓN PROPONENTES_Total'!B7 -> VALOR PRESUPUESTO MENSUAL | D5: =+'EVALUACIÓN PROPONENTES_Total'!D7 -> 1141937150
B9: VERIFICACIÓN COTIZACIONES QUE PUEDEN SER ARTIFICIALMENTE BAJAS
B11: INSUMOS PARA EL ANÁLISIS DE INFORMACIÓN
B14: N° | C14: PROPONENTE | D14: FECHA | E14: HORA | F14: VALOR PROPUESTA ECONÓMICA | G14: DIFERENCIA ENTRE EL COSTO ESTIMADO DEL CONTRATO Y LA MEDIANA DEL VALOR DE LAS OFERTAS. | H14: DIFERENCIA ENTRE EL COSTO ESTIMADO DEL CONTRATO Y EL PROMEDIO DEL VALOR DE LAS OFERTAS. | I14: DIFERENCIA ENTRE EL VALOR DE LA OFERTA QUE PUEDE SER ARTIFICIALMENTE BAJA Y EL PROMEDIO DEL VALOR DE LAS OFERTAS | J14: DIFERENCIA ENTRE EL VALOR DE LA OFERTA Y EL COSTO ESTIMADO DEL CONTRATO | K14: DIFERENCIA ENTRE EL VALOR DE LA OFERTA Y EL COSTO ESTIMADO DEL CONTRATO (PORCENTAJE)
B15: =+'EVALUACIÓN PROPONENTES_Total'!B16 -> 1 | C15: =+'EVALUACIÓN PROPONENTES_Total'!C16 -> CORPORACIÓN ORIENTAR PARA CRECER (CASA 1) | D15: =+'EVALUACIÓN PROPONENTES_Total'!D16 -> 46161 | E15: =+'EVALUACIÓN PROPONENTES_Total'!E16 -> 7:28AM | F15: 1141937150 | G15: =+D5-F37 -> 8348250 | H15: =+D5-F39 -> 19244892 | I15: =+F15-$F$39 -> 19244892 | J15: =+F15-$D$5 -> 0 | K15: =-($D$5-F15)/$D$5 -> 0
B16: =+'EVALUACIÓN PROPONENTES_Total'!B17 -> 2 | C16: =+'EVALUACIÓN PROPONENTES_Total'!C17 -> CORPORACIÓN ORIENTAR PARA CRECER (CASA 2) | D16: =+'EVALUACIÓN PROPONENTES_Total'!D17 -> 46161 | E16: =+'EVALUACIÓN PROPONENTES_Total'!E17 -> 7:28AM | F16: 1141937150 | I16: =+F16-$F$39 -> 19244892 | J16: =+F16-$D$5 -> 0 | K16: =-($D$5-F16)/$D$5 -> 0
B17: =+'EVALUACIÓN PROPONENTES_Total'!B18 -> 3 | C17: =+'EVALUACIÓN PROPONENTES_Total'!C18 -> FEZ INVERSIONES SAS | D17: =+'EVALUACIÓN PROPONENTES_Total'!D18 -> 46161 | E17: =+'EVALUACIÓN PROPONENTES_Total'!E18 -> 3:22PM | F17: 1140797150 | I17: =+F17-$F$39 -> 18104892 | J17: =+F17-$D$5 -> -1140000 | K17: =-($D$5-F17)/$D$5 -> -0.00099830363
B18: =+'EVALUACIÓN PROPONENTES_Total'!B19 -> 5 | C18: =+'EVALUACIÓN PROPONENTES_Total'!C19 -> ASOCIACION CRISTIANA NUEVO NACIMIENTO -ACNN | D18: =+'EVALUACIÓN PROPONENTES_Total'!D19 -> 46161 | E18: =+'EVALUACIÓN PROPONENTES_Total'!E19 -> 6:11PM | F18: 1086347900 | I18: =+F18-$F$39 -> -36344358 | J18: =+F18-$D$5 -> -55589250 | K18: =-($D$5-F18)/$D$5 -> -0.048679781
B19: =+'EVALUACIÓN PROPONENTES_Total'!B20 -> 7 | C19: =+'EVALUACIÓN PROPONENTES_Total'!C20 -> SOCIEDAD INVERSIONES PF SAS | D19: =+'EVALUACIÓN PROPONENTES_Total'!D20 -> 46161 | E19: =+'EVALUACIÓN PROPONENTES_Total'!E20 -> 6:41PM | F19: 1098753550 | I19: =+F19-$F$39 -> -23938708 | J19: =+F19-$D$5 -> -43183600 | K19: =-($D$5-F19)/$D$5 -> -0.037816092
B20: =+'EVALUACIÓN PROPONENTES_Total'!B21 -> 8 | C20: =+'EVALUACIÓN PROPONENTES_Total'!C21 -> CORPORACION SOCIAL PARA EL DESARROLLO DE LOS GRUPOS ETNICOS Y CULTURALES MULTIETNIAS | D20: =+'EVALUACIÓN PROPONENTES_Total'!D21 -> 46161 | E20: =+'EVALUACIÓN PROPONENTES_Total'!E21 -> 9:07PM | F20: 1126380650 | I20: =+F20-$F$39 -> 3688391.7 | J20: =+F20-$D$5 -> -15556500 | K20: =-($D$5-F20)/$D$5 -> -0.013622904
B23: COMPROBACIÓN RELATIVA
B25: 1. PASO. Se tomaron las propuestas que no sobrepasaron el costo estimado:
B27: N° | C27: PROPONENTE | D27: FECHA | E27: HORA | F27: VALOR PROPUESTA ECONÓMICA
B28: =+B15 -> 1 | C28: =+C15 -> CORPORACIÓN ORIENTAR PARA CRECER (CASA 1) | D28: =+D15 -> 46161 | E28: =+E15 -> 7:28AM | F28: =+F15 -> 1141937150
B29: =+B16 -> 2 | C29: =+C16 -> CORPORACIÓN ORIENTAR PARA CRECER (CASA 2) | D29: =+D16 -> 46161 | E29: =+E16 -> 7:28AM | F29: =+F16 -> 1141937150
B30: =+B17 -> 3 | C30: =+C17 -> FEZ INVERSIONES SAS | D30: =+D17 -> 46161 | E30: =+E17 -> 3:22PM | F30: =+F17 -> 1140797150
B31: =+B18 -> 5 | C31: =+C18 -> ASOCIACION CRISTIANA NUEVO NACIMIENTO -ACNN | D31: =+D18 -> 46161 | E31: =+E18 -> 6:11PM | F31: =+F18 -> 1086347900
B32: =+B19 -> 7 | C32: =+C19 -> SOCIEDAD INVERSIONES PF SAS | D32: =+D19 -> 46161 | E32: =+E19 -> 6:41PM | F32: =+F19 -> 1098753550
B33: =+B20 -> 8 | C33: =+C20 -> CORPORACION SOCIAL PARA EL DESARROLLO DE LOS GRUPOS ETNICOS Y CULTURALES MULTIETNIAS | D33: =+D20 -> 46161 | E33: =+E20 -> 9:07PM | F33: =+F20 -> 1126380650
B35: 2. PASO. Se calcula la mediana y el promedio con los datos relacionados en el paso 1:
C37: CÁLCULO DE LA MEDIANA | F37: =MEDIAN(F28:F33) -> 1133588900
C39: PROMEDIO | F39: =AVERAGE(F28:F33) -> 1.1226923e+09
B41: 3. PASO. Se calcula la desviación estandar del conjunto con la siguiente fórmula:
B44: N° | C44: PROPONENTE | D44: FECHA | E44: HORA | F44: VALOR PROPUESTA ECONÓMICA
B45: =+B28 -> 1 | C45: =+C28 -> CORPORACIÓN ORIENTAR PARA CRECER (CASA 1) | D45: =+D28 -> 46161 | E45: =+E28 -> 7:28AM | F45: =+F28 -> 1141937150 | G45: =+(F45-$F$39)^2 -> 3.7036586e+14
B46: =+B29 -> 2 | C46: =+C29 -> CORPORACIÓN ORIENTAR PARA CRECER (CASA 2) | D46: =+D29 -> 46161 | E46: =+E29 -> 7:28AM | F46: =+F29 -> 1141937150 | G46: =+(F46-$F$39)^2 -> 3.7036586e+14
B47: =+B30 -> 3 | C47: =+C30 -> FEZ INVERSIONES SAS | D47: =+D30 -> 46161 | E47: =+E30 -> 3:22PM | F47: =+F30 -> 1140797150 | G47: =+(F47-$F$39)^2 -> 327787102261739
B48: =+B31 -> 5 | C48: =+C31 -> ASOCIACION CRISTIANA NUEVO NACIMIENTO -ACNN | D48: =+D31 -> 46161 | E48: =+E31 -> 6:11PM | F48: =+F31 -> 1086347900 | G48: =+(F48-$F$39)^2 -> 1.3209124e+15
B49: =+B32 -> 7 | C49: =+C32 -> SOCIEDAD INVERSIONES PF SAS | D49: =+D32 -> 46161 | E49: =+E32 -> 6:41PM | F49: =+F32 -> 1098753550 | G49: =+(F49-$F$39)^2 -> 573061756668399
B50: =+B33 -> 8 | C50: =+C33 -> CORPORACION SOCIAL PARA EL DESARROLLO DE LOS GRUPOS ETNICOS Y CULTURALES MULTIETNIAS | D50: =+D33 -> 46161 | E50: =+E33 -> 9:07PM | F50: =+F33 -> 1126380650 | G50: =+(F50-$F$39)^2 -> 1.3604233e+13
F51: S | G51: =SUM(G45:G50)/(D52) -> 4.960162e+14
C52: Número de ofertas (n) | D52: =COUNT(B45:B50) -> 6
C54: DESVIACIÓN ESTÁNDAR DEL CONJUNTO | F54: =SQRT(G51) -> 22271421
B56: 4. PASO. Se determina el valor mínimo aceptable para la entidad con la siguiente fórmula: Mediana - desviación estándar
C58: VALOR MÍNIMO ACEPTABLE | F58: =+F37-F54 -> 1.1113175e+09
B61: 5. PASO. Se determinan las propuestas que pueden ser artificialmente bajas
B63: N° | C63: PROPONENTE | D63: FECHA | E63: HORA | F63: VALOR PROPUESTA ECONÓMICA | G63: VALOR MÍNIMO ACEPTABLE | H63: DIFERENCIA | I63: OBSERVACIÓN
B64: =+B45 -> 1 | C64: =+C45 -> CORPORACIÓN ORIENTAR PARA CRECER (CASA 1) | D64: =+D45 -> 46161 | E64: =+E45 -> 7:28AM | F64: =+F45 -> 1141937150 | G64: =+$F$58 -> 1.1113175e+09 | H64: =+F64-G64 -> 30619671 | I64: Propuesta incluida dentro de la minima aceptable
...

Sheet EVALUACIÓN PROPONENTES_Total
B2: =+'EVALUACIÓN 2026_lote_1_Total'!A2 -> SDMUJER-SAMC-001-2026
B3: =+'EVALUACIÓN 2026_lote_1_Total'!A4 -> Objeto: LOTE 1 MODALIDAD INTEGRAL:“Prestar el servicio integral para la puesta en marcha y funcionamiento de las Casas Refugio para la atención a mujeres victimas de violencias y sus personas a cargo, de acuerdo con las características técnicas descritas en el anexo técnico y las normas vigentes que regulan la materia.”
B5: DATOS PRESUPUESTALES DEL CONTRATO:
B7: VALOR PRESUPUESTO MENSUAL | D7: =+'EVALUACIÓN 2026_lote_1_Total'!E44 -> 1141937150
B10: VERIFICACIÓN CONDICIONES DE LAS PROPUESTAS ECONÓMICAS MODALIDAD INTEGRAL
B12: Durante el proceso de contratación se recibieron 8 ofertas por parte de las siguientes empresas que se detallan a continuación:
B14: COMPROBACIÓN RELATIVA
B15: N° | C15: PROPONENTE | D15: FECHA | E15: HORA | F15: VALOR PROPUESTA ECONÓMICA | G15: OBSERVACIONES
B16: 1 | C16: =+'EVALUACIÓN 2026_lote_1_Total'!B17 -> CORPORACIÓN ORIENTAR PARA CRECER (CASA 1) | D16: 46161 | E16: 7:28AM | F16: =+'EVAL PROP ARTIFI BAJA_Total'!F15 -> 1141937150 | G16: =+'EVAL PROP ARTIFI BAJA_Total'!I64 -> Propuesta incluida dentro de la minima aceptable
B17: 2 | C17: =+'EVALUACIÓN 2026_lote_1_Total'!B18 -> CORPORACIÓN ORIENTAR PARA CRECER (CASA 2) | D17: 46161 | E17: 7:28AM | F17: =+'EVAL PROP ARTIFI BAJA_Total'!F16 -> 1141937150 | G17: =+'EVAL PROP ARTIFI BAJA_Total'!I65 -> Propuesta incluida dentro de la minima aceptable
B18: 3 | C18: =+'EVALUACIÓN 2026_lote_1_Total'!B19 -> FEZ INVERSIONES SAS | D18: 46161 | E18: 3:22PM | F18: =+'EVAL PROP ARTIFI BAJA_Total'!F17 -> 1140797150 | G18: =+'EVAL PROP ARTIFI BAJA_Total'!I66 -> Propuesta incluida dentro de la minima aceptable
B19: 5 | C19: =+'EVALUACIÓN 2026_lote_1_Total'!B21 -> ASOCIACION CRISTIANA NUEVO NACIMIENTO -ACNN | D19: 46161 | E19: 6:11PM | F19: =+'EVAL PROP ARTIFI BAJA_Total'!F18 -> 1086347900 | G19: =+'EVAL PROP ARTIFI BAJA_Total'!I67 -> Propuesta artificialmente baja
B20: 7 | C20: =+'EVALUACIÓN 2026_lote_1_Total'!B23 -> SOCIEDAD INVERSIONES PF SAS | D20: 46161 | E20: 6:41PM | F20: =+'EVAL PROP ARTIFI BAJA_Total'!F19 -> 1098753550 | G20: =+'EVAL PROP ARTIFI BAJA_Total'!I68 -> Propuesta artificialmente baja
B21: 8 | C21: =+'EVALUACIÓN 2026_lote_1_Total'!B24 -> CORPORACION SOCIAL PARA EL DESARROLLO DE LOS GRUPOS ETNICOS Y CULTURALES MULTIETNIAS | D21: 46161 | E21: 9:07PM | F21: =+'EVAL PROP ARTIFI BAJA_Total'!F20 -> 1126380650 | G21: =+'EVAL PROP ARTIFI BAJA_Total'!I69 -> Propuesta incluida dentro de la minima aceptable

Sheet VALOR CASA CRECER CASA 1 
A1: CASA 1:
A2: PARA CONTRATO ACTUAL INTEGRAL 2026:
A3: DETALLE | B3: AÑO 2026
A4: PRIMER MES (NO INCLUYE ELEMENTOS DE ÚNICO RECONOCIMIENTO) | B4: 228044070
A5: VALOR ÚNICO RECONOCIMIENTO | B5: 1716800
A6: VALOR TOTAL FUNCIONAMIENTO ESTIMADO PARA UNA CASA REFUGIO MODALIDAD INTEGRAL (PRIMER MES TOTAL) | B6: =SUM(B4:B5) -> 229760870
A7: VALOR POR MES SEGUNDO MES EN ADELANTE | B7: 228044070
A8: VALOR POR DÍA | B8: =+ROUND(B4/30,0) -> 7601469
A9: DÍAS JUNIO 2026 EMPEZANDO EL 5 DE JUNIO 2026 | B9: 26
A10: VALOR JUNIO 2026 | B10: =+(B8*B9)+B5 -> 199354994
A11: MESES | B11: 4
A12: DÍAS | B12: 4
A13: CANTIDAD CASAS | B13: 4
A14: VALOR POR 1 CASA | B14: =+B10+(B11*B7)+(B12*B8) -> 1141937150
A16: Meses - días | B16: valor
A17: junio 26 días | B17: =+B10 -> 199354994
A18: julio 30 días | B18: =+B7 -> 228044070
A19: agosto 30 días | B19: =+B7 -> 228044070
A20: septiembre 30 días | B20: =+B7 -> 228044070
A21: octubre 30 días | B21: =+B7 -> 228044070
A22: noviembre 4 días | B22: =+(B12*B8) -> 30405876
A23: TOTAL CASA | B23: =SUM(B17:B22) -> 1141937150

Sheet VALOR CASA CRECER CASA 2
A1: CASA 2:
A2: PARA CONTRATO ACTUAL INTEGRAL 2026:
A3: DETALLE | B3: AÑO 2026
A4: PRIMER MES (NO INCLUYE ELEMENTOS DE ÚNICO RECONOCIMIENTO) | B4: 228044070
A5: VALOR ÚNICO RECONOCIMIENTO | B5: 1716800
A6: VALOR TOTAL FUNCIONAMIENTO ESTIMADO PARA UNA CASA REFUGIO MODALIDAD INTEGRAL (PRIMER MES TOTAL) | B6: =SUM(B4:B5) -> 229760870
A7: VALOR POR MES SEGUNDO MES EN ADELANTE | B7: 228044070
A8: VALOR POR DÍA | B8: =+ROUND(B4/30,0) -> 7601469
A9: DÍAS JUNIO 2026 EMPEZANDO EL 5 DE JUNIO 2026 | B9: 26
A10: VALOR JUNIO 2026 | B10: =+(B8*B9)+B5 -> 199354994
A11: MESES | B11: 4
A12: DÍAS | B12: 4
A13: CANTIDAD CASAS | B13: 4
A14: VALOR POR 1 CASA | B14: =+B10+(B11*B7)+(B12*B8) -> 1141937150
A16: Meses - días | B16: valor
A17: junio 26 días | B17: =+B10 -> 199354994
A18: julio 30 días | B18: =+B7 -> 228044070
A19: agosto 30 días | B19: =+B7 -> 228044070
A20: septiembre 30 días | B20: =+B7 -> 228044070
A21: octubre 30 días | B21: =+B7 -> 228044070
A22: noviembre 4 días | B22: =+(B12*B8) -> 30405876
A23: TOTAL CASA | B23: =SUM(B17:B22) -> 1141937150

Sheet VALOR CASA FEZ
A1: CASA 1:
A2: PARA CONTRATO ACTUAL INTEGRAL 2026:
A3: DETALLE | B3: AÑO 2026
A4: PRIMER MES (NO INCLUYE ELEMENTOS DE ÚNICO RECONOCIMIENTO) | B4: 227816070
A5: VALOR ÚNICO RECONOCIMIENTO | B5: 1716800
A6: VALOR TOTAL FUNCIONAMIENTO ESTIMADO PARA UNA CASA REFUGIO MODALIDAD INTEGRAL (PRIMER MES TOTAL) | B6: 229532870
A7: VALOR POR MES SEGUNDO MES EN ADELANTE | B7: =+B4 -> 227816070
A8: VALOR POR DÍA | B8: =+ROUND(B4/30,0) -> 7593869
A9: DÍAS JUNIO 2026 EMPEZANDO EL 5 DE JUNIO 2026 | B9: 26
A10: VALOR JUNIO 2026 | B10: =+(B8*B9)+B5 -> 199157394
A11: MESES | B11: 4
A12: DÍAS | B12: 4
A13: CANTIDAD CASAS | B13: 4
A14: VALOR POR 1 CASA | B14: =+B10+(B11*B7)+(B12*B8) -> 1140797150
A15: VALOR POR 4 CASAS CONTRATO | B15: =+B13*B14 -> 4563188600
A17: Meses - días | B17: valor
A18: junio 26 días | B18: =+B10 -> 199157394
A19: julio 30 días | B19: =+B7 -> 227816070
A20: agosto 30 días | B20: =+B7 -> 227816070
A21: septiembre 30 días | B21: =+B7 -> 227816070
A22: octubre 30 días | B22: =+B7 -> 227816070
A23: noviembre 4 días | B23: =+(B12*B8) -> 30375476
A24: TOTAL CASA | B24: =SUM(B18:B23) -> 1140797150

Sheet VALOR CASA UTHOGARES
A1: CASA 1:
A2: PARA CONTRATO ACTUAL INTEGRAL 2026:
A3: DETALLE | B3: AÑO 2026
A4: PRIMER MES (NO INCLUYE ELEMENTOS DE ÚNICO RECONOCIMIENTO) | B4: 227066104
A5: VALOR ÚNICO RECONOCIMIENTO | B5: 1716800
A6: VALOR TOTAL FUNCIONAMIENTO ESTIMADO PARA UNA CASA REFUGIO MODALIDAD INTEGRAL (PRIMER MES TOTAL) | B6: 228782904
A7: VALOR POR MES SEGUNDO MES EN ADELANTE | B7: =+B4 -> 227066104
A8: VALOR POR DÍA | B8: =+ROUND(B4/30,0) -> 7568870
A9: DÍAS JUNIO 2026 EMPEZANDO EL 5 DE JUNIO 2026 | B9: 26
A10: VALOR JUNIO 2026 | B10: =+(B8*B9)+B5 -> 198507420
A11: MESES | B11: 4
A12: DÍAS | B12: 4
A13: CANTIDAD CASAS | B13: 4
A14: VALOR POR 1 CASA | B14: =+B10+(B11*B7)+(B12*B8) -> 1137047316
A15: VALOR POR 4 CASAS CONTRATO | B15: =+B13*B14 -> 4548189264
A17: Meses - días | B17: valor
A18: junio 26 días | B18: =+B10 -> 198507420
A19: julio 30 días | B19: =+B7 -> 227066104
A20: agosto 30 días | B20: =+B7 -> 227066104
A21: septiembre 30 días | B21: =+B7 -> 227066104
A22: octubre 30 días | B22: =+B7 -> 227066104
A23: noviembre 4 días | B23: =+(B12*B8) -> 30275480
A24: TOTAL CASA | B24: =SUM(B18:B23) -> 1137047316

Sheet VALOR CASA  (ACNN)
A1: CASA 1:
A2: PARA CONTRATO ACTUAL INTEGRAL 2026:
A3: DETALLE | B3: AÑO 2026
A4: PRIMER MES (NO INCLUYE ELEMENTOS DE ÚNICO RECONOCIMIENTO) | B4: 216926220
A5: VALOR ÚNICO RECONOCIMIENTO | B5: 1716800
A6: VALOR TOTAL FUNCIONAMIENTO ESTIMADO PARA UNA CASA REFUGIO MODALIDAD INTEGRAL (PRIMER MES TOTAL) | B6: 218643020
A7: VALOR POR MES SEGUNDO MES EN ADELANTE | B7: =+B4 -> 216926220
A8: VALOR POR DÍA | B8: =+ROUND(B4/30,0) -> 7230874
A9: DÍAS JUNIO 2026 EMPEZANDO EL 5 DE JUNIO 2026 | B9: 26
A10: VALOR JUNIO 2026 | B10: =+(B8*B9)+B5 -> 189719524
A11: MESES | B11: 4
A12: DÍAS | B12: 4
A13: CANTIDAD CASAS | B13: 4
A14: VALOR POR 1 CASA | B14: =+B10+(B11*B7)+(B12*B8) -> 1086347900
A15: VALOR POR 4 CASAS CONTRATO | B15: =+B13*B14 -> 4345391600
A17: Meses - días | B17: valor
A18: junio 26 días | B18: =+B10 -> 189719524
A19: julio 30 días | B19: =+B7 -> 216926220
A20: agosto 30 días | B20: =+B7 -> 216926220
A21: septiembre 30 días | B21: =+B7 -> 216926220
A22: octubre 30 días | B22: =+B7 -> 216926220
A23: noviembre 4 días | B23: =+(B12*B8) -> 28923496
A24: TOTAL CASA | B24: =SUM(B18:B23) -> 1086347900

Sheet VALOR CASA UTRVIDA
A1: CASA 1:
A2: PARA CONTRATO ACTUAL INTEGRAL 2026:
A3: DETALLE | B3: AÑO 2026
A4: PRIMER MES (NO INCLUYE ELEMENTOS DE ÚNICO RECONOCIMIENTO) | B4: 227159196
A5: VALOR ÚNICO RECONOCIMIENTO | B5: 1716800
A6: VALOR TOTAL FUNCIONAMIENTO ESTIMADO PARA UNA CASA REFUGIO MODALIDAD INTEGRAL (PRIMER MES TOTAL) | B6: 228875996
A7: VALOR POR MES SEGUNDO MES EN ADELANTE | B7: =+B4 -> 227159196
A8: VALOR POR DÍA | B8: =+ROUND(B4/30,0) -> 7571973
A9: DÍAS JUNIO 2026 EMPEZANDO EL 5 DE JUNIO 2026 | B9: 26
A10: VALOR JUNIO 2026 | B10: =+(B8*B9)+B5 -> 198588098
A11: MESES | B11: 4
A12: DÍAS | B12: 4
A13: CANTIDAD CASAS | B13: 4
A14: VALOR POR 1 CASA | B14: =+B10+(B11*B7)+(B12*B8) -> 1137512774
A15: VALOR POR 4 CASAS CONTRATO | B15: =+B13*B14 -> 4550051096
A17: Meses - días | B17: valor
A18: junio 26 días | B18: =+B10 -> 198588098
A19: julio 30 días | B19: =+B7 -> 227159196
A20: agosto 30 días | B20: =+B7 -> 227159196
A21: septiembre 30 días | B21: =+B7 -> 227159196
A22: octubre 30 días | B22: =+B7 -> 227159196
A23: noviembre 4 días | B23: =+(B12*B8) -> 30287892
A24: TOTAL CASA | B24: =SUM(B18:B23) -> 1137512774

Sheet VALOR CASA SOCIEDADPF
A1: CASA 1:
A2: PARA CONTRATO ACTUAL INTEGRAL 2026:
A3: DETALLE | B3: AÑO 2026
A4: PRIMER MES (NO INCLUYE ELEMENTOS DE ÚNICO RECONOCIMIENTO) | B4: 219424515
A5: VALOR ÚNICO RECONOCIMIENTO | B5: =+B6-B4 -> 1630960
A6: VALOR TOTAL FUNCIONAMIENTO ESTIMADO PARA UNA CASA REFUGIO MODALIDAD INTEGRAL (PRIMER MES TOTAL) | B6: 221055475
A7: VALOR POR MES SEGUNDO MES EN ADELANTE | B7: =+B4 -> 219424515
A8: VALOR POR DÍA | B8: =+ROUND(B4/30,0) -> 7314151
A9: DÍAS JUNIO 2026 EMPEZANDO EL 5 DE JUNIO 2026 | B9: 26
A10: VALOR JUNIO 2026 | B10: =+(B8*B9)+B5 -> 191798886
A11: MESES | B11: 4
A12: DÍAS | B12: 4
A13: CANTIDAD CASAS | B13: 4
A14: VALOR POR 1 CASA | B14: =+B10+(B11*B7)+(B12*B8) -> 1098753550
A15: VALOR POR 4 CASAS CONTRATO | B15: =+B13*B14 -> 4395014200
A17: Meses - días | B17: valor
A18: junio 26 días | B18: =+B10 -> 191798886
A19: julio 30 días | B19: =+B7 -> 219424515
A20: agosto 30 días | B20: =+B7 -> 219424515
A21: septiembre 30 días | B21: =+B7 -> 219424515
A22: octubre 30 días | B22: =+B7 -> 219424515
A23: noviembre 4 días | B23: =+(B12*B8) -> 29256604
A24: TOTAL CASA | B24: =SUM(B18:B23) -> 1098753550

Sheet VALOR CASA  (MULTIETNIAS)
A1: CASA 1:
A2: PARA CONTRATO ACTUAL INTEGRAL 2026:
A3: DETALLE | B3: AÑO 2026
A4: PRIMER MES (NO INCLUYE ELEMENTOS DE ÚNICO RECONOCIMIENTO) | B4: 224932770
A5: VALOR ÚNICO RECONOCIMIENTO | B5: 1716800
A6: VALOR TOTAL FUNCIONAMIENTO ESTIMADO PARA UNA CASA REFUGIO MODALIDAD INTEGRAL (PRIMER MES TOTAL) | B6: 226649570
A7: VALOR POR MES SEGUNDO MES EN ADELANTE | B7: =+B4 -> 224932770
A8: VALOR POR DÍA | B8: =+ROUND(B4/30,0) -> 7497759
A9: DÍAS JUNIO 2026 EMPEZANDO EL 5 DE JUNIO 2026 | B9: 26
A10: VALOR JUNIO 2026 | B10: =+(B8*B9)+B5 -> 196658534
A11: MESES | B11: 4
A12: DÍAS | B12: 4
A13: CANTIDAD CASAS | B13: 4
A14: VALOR POR 1 CASA | B14: =+B10+(B11*B7)+(B12*B8) -> 1126380650
A15: VALOR POR 4 CASAS CONTRATO | B15: =+B13*B14 -> 4505522600
A17: Meses - días | B17: valor
A18: junio 26 días | B18: =+B10 -> 196658534
A19: julio 30 días | B19: =+B7 -> 224932770
A20: agosto 30 días | B20: =+B7 -> 224932770
A21: septiembre 30 días | B21: =+B7 -> 224932770
A22: octubre 30 días | B22: =+B7 -> 224932770
A23: noviembre 4 días | B23: =+(B12*B8) -> 29991036
A24: TOTAL CASA | B24: =SUM(B18:B23) -> 1126380650

Sheet EVAL TH ARTIFI BAJA (ACNN)
B2: =+'[1]EVALUACIÓN PROPONENTES_MES1'!B3 -> Objeto: LOTE 1 MODALIDAD INTEGRAL:“Prestar el servicio integral para la puesta en marcha y funcionamiento de las Casas Refugio para la atención a mujeres victimas de violencias y sus personas a cargo, de acuerdo con las características técnicas descritas en el anexo técnico y las normas vigentes que regulan la materia.”
B4: DATOS PRESUPUESTALES DEL CONTRATO:
B5: =+'EVALUACIÓN TH (ACNN) '!B6 -> VALOR PRESUPUESTO TALENTO HUMANO | D5: =+'EVALUACIÓN TH (ACNN) '!D6 -> 114843300
B9: VERIFICACIÓN COTIZACIONES QUE PUEDEN SER ARTIFICIALMENTE BAJAS
B11: INSUMOS PARA EL ANÁLISIS DE INFORMACIÓN
B14: N° | C14: PROPONENTE | D14: FECHA | E14: HORA | F14: VALOR PROPUESTA ECONÓMICA | G14: DIFERENCIA ENTRE EL COSTO ESTIMADO DEL CONTRATO Y LA MEDIANA DEL VALOR DE LAS OFERTAS. | H14: DIFERENCIA ENTRE EL COSTO ESTIMADO DEL CONTRATO Y EL PROMEDIO DEL VALOR DE LAS OFERTAS. | I14: DIFERENCIA ENTRE EL VALOR DE LA OFERTA QUE PUEDE SER ARTIFICIALMENTE BAJA Y EL PROMEDIO DEL VALOR DE LAS OFERTAS | J14: DIFERENCIA ENTRE EL VALOR DE LA OFERTA Y EL COSTO ESTIMADO DEL CONTRATO | K14: DIFERENCIA ENTRE EL VALOR DE LA OFERTA Y EL COSTO ESTIMADO DEL CONTRATO (PORCENTAJE)
B15: =+'EVALUACIÓN TH (ACNN) '!B14 -> 1 | C15: =+'EVALUACIÓN TH (ACNN) '!C14 -> CORPORACIÓN ORIENTAR PARA CRECER (CASA 1) | D15: =+'EVALUACIÓN TH (ACNN) '!D14 -> 46161 | E15: =+'EVALUACIÓN TH (ACNN) '!E14 -> 7:28AM | F15: 114843300 | G15: =+D5-F37 -> 1354800 | H15: =+D5-F39 -> 3016033.3 | I15: =+F15-$F$39 -> 3016033.3 | J15: =+F15-$D$5 -> 0 | K15: =-($D$5-F15)/$D$5 -> 0
B16: =+'EVALUACIÓN TH (ACNN) '!B15 -> 2 | C16: =+'EVALUACIÓN TH (ACNN) '!C15 -> CORPORACIÓN ORIENTAR PARA CRECER (CASA 2) | D16: =+'EVALUACIÓN TH (ACNN) '!D15 -> 46161 | E16: =+'EVALUACIÓN TH (ACNN) '!E15 -> 7:28AM | F16: 114843300 | I16: =+F16-$F$39 -> 3016033.3 | J16: =+F16-$D$5 -> 0 | K16: =-($D$5-F16)/$D$5 -> 0
B17: =+'EVALUACIÓN TH (ACNN) '!B16 -> 3 | C17: =+'EVALUACIÓN TH (ACNN) '!C16 -> FEZ INVERSIONES SAS | D17: =+'EVALUACIÓN TH (ACNN) '!D16 -> 46161 | E17: =+'EVALUACIÓN TH (ACNN) '!E16 -> 3:22PM | F17: 114837000 | I17: =+F17-$F$39 -> 3009733.3 | J17: =+F17-$D$5 -> -6300 | K17: =-($D$5-F17)/$D$5 -> -5.4857358e-05
B18: =+'EVALUACIÓN TH (ACNN) '!B17 -> 5 | C18: =+'EVALUACIÓN TH (ACNN) '!C17 -> ASOCIACION CRISTIANA NUEVO NACIMIENTO -ACNN | D18: =+'EVALUACIÓN TH (ACNN) '!D17 -> 46161 | E18: =+'EVALUACIÓN TH (ACNN) '!E17 -> 6:11PM | F18: 104300000 | I18: =+F18-$F$39 -> -7527266.7 | J18: =+F18-$D$5 -> -10543300 | K18: =-($D$5-F18)/$D$5 -> -0.091805965
B19: =+'EVALUACIÓN TH (ACNN) '!B18 -> 7 | C19: =+'EVALUACIÓN TH (ACNN) '!C18 -> SOCIEDAD INVERSIONES PF SAS | D19: =+'EVALUACIÓN TH (ACNN) '!D18 -> 46161 | E19: =+'EVALUACIÓN TH (ACNN) '!E18 -> 6:41PM | F19: 110000000 | I19: =+F19-$F$39 -> -1827266.7 | J19: =+F19-$D$5 -> -4843300 | K19: =-($D$5-F19)/$D$5 -> -0.042173118
B20: =+'EVALUACIÓN TH (ACNN) '!B19 -> 8 | C20: =+'EVALUACIÓN TH (ACNN) '!C19 -> CORPORACION SOCIAL PARA EL DESARROLLO DE LOS GRUPOS ETNICOS Y CULTURALES MULTIETNIAS | D20: =+'EVALUACIÓN TH (ACNN) '!D19 -> 46161 | E20: =+'EVALUACIÓN TH (ACNN) '!E19 -> 9:07PM | F20: 112140000 | I20: =+F20-$F$39 -> 312733.33 | J20: =+F20-$D$5 -> -2703300 | K20: =-($D$5-F20)/$D$5 -> -0.023539031
B23: COMPROBACIÓN RELATIVA
B25: 1. PASO. Se tomaron las propuestas que no sobrepasaron el costo estimado:
B27: N° | C27: PROPONENTE | D27: FECHA | E27: HORA | F27: VALOR PROPUESTA ECONÓMICA
B28: =+B15 -> 1 | C28: =+C15 -> CORPORACIÓN ORIENTAR PARA CRECER (CASA 1) | D28: =+D15 -> 46161 | E28: =+E15 -> 7:28AM | F28: =+F15 -> 114843300
B29: =+B16 -> 2 | C29: =+C16 -> CORPORACIÓN ORIENTAR PARA CRECER (CASA 2) | D29: =+D16 -> 46161 | E29: =+E16 -> 7:28AM | F29: =+F16 -> 114843300
B30: =+B17 -> 3 | C30: =+C17 -> FEZ INVERSIONES SAS | D30: =+D17 -> 46161 | E30: =+E17 -> 3:22PM | F30: =+F17 -> 114837000
B31: =+B18 -> 5 | C31: =+C18 -> ASOCIACION CRISTIANA NUEVO NACIMIENTO -ACNN | D31: =+D18 -> 46161 | E31: =+E18 -> 6:11PM | F31: =+F18 -> 104300000
B32: =+B19 -> 7 | C32: =+C19 -> SOCIEDAD INVERSIONES PF SAS | D32: =+D19 -> 46161 | E32: =+E19 -> 6:41PM | F32: =+F19 -> 110000000
B33: =+B20 -> 8 | C33: =+C20 -> CORPORACION SOCIAL PARA EL DESARROLLO DE LOS GRUPOS ETNICOS Y CULTURALES MULTIETNIAS | D33: =+D20 -> 46161 | E33: =+E20 -> 9:07PM | F33: =+F20 -> 112140000
B35: 2. PASO. Se calcula la mediana y el promedio con los datos relacionados en el paso 1:
C37: CÁLCULO DE LA MEDIANA | F37: =MEDIAN(F28:F33) -> 113488500
C39: PROMEDIO | F39: =AVERAGE(F28:F33) -> 1.1182727e+08
B41: 3. PASO. Se calcula la desviación estandar del conjunto con la siguiente fórmula:
B44: N° | C44: PROPONENTE | D44: FECHA | E44: HORA | F44: VALOR PROPUESTA ECONÓMICA
B45: =+B28 -> 1 | C45: =+C28 -> CORPORACIÓN ORIENTAR PARA CRECER (CASA 1) | D45: =+D28 -> 46161 | E45: =+E28 -> 7:28AM | F45: =+F28 -> 114843300 | G45: =+(F45-$F$39)^2 -> 9.0964571e+12
B46: =+B29 -> 2 | C46: =+C29 -> CORPORACIÓN ORIENTAR PARA CRECER (CASA 2) | D46: =+D29 -> 46161 | E46: =+E29 -> 7:28AM | F46: =+F29 -> 114843300 | G46: =+(F46-$F$39)^2 -> 9.0964571e+12
B47: =+B30 -> 3 | C47: =+C30 -> FEZ INVERSIONES SAS | D47: =+D30 -> 46161 | E47: =+E30 -> 3:22PM | F47: =+F30 -> 114837000 | G47: =+(F47-$F$39)^2 -> 9.0584947e+12
B48: =+B31 -> 5 | C48: =+C31 -> ASOCIACION CRISTIANA NUEVO NACIMIENTO -ACNN | D48: =+D31 -> 46161 | E48: =+E31 -> 6:11PM | F48: =+F31 -> 104300000 | G48: =+(F48-$F$39)^2 -> 5.6659743e+13
B49: =+B32 -> 7 | C49: =+C32 -> SOCIEDAD INVERSIONES PF SAS | D49: =+D32 -> 46161 | E49: =+E32 -> 6:41PM | F49: =+F32 -> 110000000 | G49: =+(F49-$F$39)^2 -> 3.3389035e+12
B50: =+B33 -> 8 | C50: =+C33 -> CORPORACION SOCIAL PARA EL DESARROLLO DE LOS GRUPOS ETNICOS Y CULTURALES MULTIETNIAS | D50: =+D33 -> 46161 | E50: =+E33 -> 9:07PM | F50: =+F33 -> 112140000 | G50: =+(F50-$F$39)^2 -> 9.7802138e+10
F51: S | G51: =SUM(G45:G50)/(D52) -> 1.4557976e+13
C52: Número de ofertas (n) | D52: =COUNT(B45:B50) -> 6
C54: DESVIACIÓN ESTÁNDAR DEL CONJUNTO | F54: =SQRT(G51) -> 3815491.6
B56: 4. PASO. Se determina el valor mínimo aceptable para la entidad con la siguiente fórmula: Mediana - desviación estándar
C58: VALOR MÍNIMO ACEPTABLE | F58: =+F37-F54 -> 1.0967301e+08
B61: 5. PASO. Se determinan las propuestas que pueden ser artificialmente bajas
B63: N° | C63: PROPONENTE | D63: FECHA | E63: HORA | F63: VALOR PROPUESTA ECONÓMICA | G63: VALOR MÍNIMO ACEPTABLE | H63: DIFERENCIA | I63: OBSERVACIÓN
B64: =+B45 -> 1 | C64: =+C45 -> CORPORACIÓN ORIENTAR PARA CRECER (CASA 1) | D64: =+D45 -> 46161 | E64: =+E45 -> 7:28AM | F64: =+F45 -> 114843300 | G64: =+$F$58 -> 1.0967301e+08 | H64: =+F64-G64 -> 5170291.6 | I64: Propuesta incluida dentro de la minima aceptable
...

Sheet EVALUACIÓN TH (ACNN) 
B2: =+'[1]EVALUACIÓN 2026_lote_1_MES1'!A4 -> Objeto: LOTE 1 MODALIDAD INTEGRAL:“Prestar el servicio integral para la puesta en marcha y funcionamiento de las Casas Refugio para la atención a mujeres victimas de violencias y sus personas a cargo, de acuerdo con las características técnicas descritas en el anexo técnico y las normas vigentes que regulan la materia.”
B4: DATOS PRESUPUESTALES DEL CONTRATO:
B6: VALOR PRESUPUESTO TALENTO HUMANO | D6: 114843300
B9: VERIFICACIÓN CONDICIONES DE LAS PROPUESTAS ECONÓMICAS MODALIDAD INTEGRAL
B11: Durante el proceso de contratación se recibieron 8 ofertas por parte de las siguientes empresas que se detallan a continuación:
B13: N° | C13: PROPONENTE | D13: FECHA | E13: HORA | F13: VALOR PROPUESTA ECONÓMICA | G13: OBSERVACIONES
B14: 1 | C14: ='EVAL PROP ARTIFI BAJA_Total'!C15 -> CORPORACIÓN ORIENTAR PARA CRECER (CASA 1) | D14: ='EVAL PROP ARTIFI BAJA_Total'!D15 -> 46161 | E14: ='EVAL PROP ARTIFI BAJA_Total'!E15 -> 7:28AM | F14: =+'EVAL TH ARTIFI BAJA (ACNN)'!F15 -> 114843300 | G14: =+'EVAL TH ARTIFI BAJA (ACNN)'!I64 -> Propuesta incluida dentro de la minima aceptable
B15: 2 | C15: ='EVAL PROP ARTIFI BAJA_Total'!C16 -> CORPORACIÓN ORIENTAR PARA CRECER (CASA 2) | D15: ='EVAL PROP ARTIFI BAJA_Total'!D16 -> 46161 | E15: ='EVAL PROP ARTIFI BAJA_Total'!E16 -> 7:28AM | F15: =+'EVAL TH ARTIFI BAJA (ACNN)'!F16 -> 114843300 | G15: =+'EVAL TH ARTIFI BAJA (ACNN)'!I65 -> Propuesta incluida dentro de la minima aceptable
B16: 3 | C16: ='EVAL PROP ARTIFI BAJA_Total'!C17 -> FEZ INVERSIONES SAS | D16: ='EVAL PROP ARTIFI BAJA_Total'!D17 -> 46161 | E16: ='EVAL PROP ARTIFI BAJA_Total'!E17 -> 3:22PM | F16: =+'EVAL TH ARTIFI BAJA (ACNN)'!F17 -> 114837000 | G16: =+'EVAL TH ARTIFI BAJA (ACNN)'!I66 -> Propuesta incluida dentro de la minima aceptable
B17: 5 | C17: ='EVAL PROP ARTIFI BAJA_Total'!C18 -> ASOCIACION CRISTIANA NUEVO NACIMIENTO -ACNN | D17: ='EVAL PROP ARTIFI BAJA_Total'!D18 -> 46161 | E17: ='EVAL PROP ARTIFI BAJA_Total'!E18 -> 6:11PM | F17: =+'EVAL TH ARTIFI BAJA (ACNN)'!F18 -> 104300000 | G17: =+'EVAL TH ARTIFI BAJA (ACNN)'!I67 -> Propuesta artificialmente baja
B18: 7 | C18: ='EVAL PROP ARTIFI BAJA_Total'!C19 -> SOCIEDAD INVERSIONES PF SAS | D18: ='EVAL PROP ARTIFI BAJA_Total'!D19 -> 46161 | E18: ='EVAL PROP ARTIFI BAJA_Total'!E19 -> 6:41PM | F18: =+'EVAL TH ARTIFI BAJA (ACNN)'!F19 -> 110000000 | G18: =+'EVAL TH ARTIFI BAJA (ACNN)'!I68 -> Propuesta incluida dentro de la minima aceptable
B19: 8 | C19: ='EVAL PROP ARTIFI BAJA_Total'!C20 -> CORPORACION SOCIAL PARA EL DESARROLLO DE LOS GRUPOS ETNICOS Y CULTURALES MULTIETNIAS | D19: ='EVAL PROP ARTIFI BAJA_Total'!D20 -> 46161 | E19: ='EVAL PROP ARTIFI BAJA_Total'!E20 -> 9:07PM | F19: =+'EVAL TH ARTIFI BAJA (ACNN)'!F20 -> 112140000 | G19: =+'EVAL TH ARTIFI BAJA (ACNN)'!I69 -> Propuesta incluida dentro de la minima aceptable

Sheet EVAL ALIMENT ARTIFI BAJA (ACNN)
B2: =+'[1]EVALUACIÓN PROPONENTES_MES1'!B3 -> Objeto: LOTE 1 MODALIDAD INTEGRAL:“Prestar el servicio integral para la puesta en marcha y funcionamiento de las Casas Refugio para la atención a mujeres victimas de violencias y sus personas a cargo, de acuerdo con las características técnicas descritas en el anexo técnico y las normas vigentes que regulan la materia.”
B4: DATOS PRESUPUESTALES DEL CONTRATO:
B5: =+'EVALUACIÓN ALIMENT (ACNN) '!B6 -> VALOR PRESUPUESTO ASISTENCIA ALIMENTARIA | D5: =+'EVALUACIÓN ALIMENT (ACNN) '!D6 -> 35363900
B9: VERIFICACIÓN COTIZACIONES QUE PUEDEN SER ARTIFICIALMENTE BAJAS
B11: INSUMOS PARA EL ANÁLISIS DE INFORMACIÓN
B14: N° | C14: PROPONENTE | D14: FECHA | E14: HORA | F14: VALOR PROPUESTA ECONÓMICA | G14: DIFERENCIA ENTRE EL COSTO ESTIMADO DEL CONTRATO Y LA MEDIANA DEL VALOR DE LAS OFERTAS. | H14: DIFERENCIA ENTRE EL COSTO ESTIMADO DEL CONTRATO Y EL PROMEDIO DEL VALOR DE LAS OFERTAS. | I14: DIFERENCIA ENTRE EL VALOR DE LA OFERTA QUE PUEDE SER ARTIFICIALMENTE BAJA Y EL PROMEDIO DEL VALOR DE LAS OFERTAS | J14: DIFERENCIA ENTRE EL VALOR DE LA OFERTA Y EL COSTO ESTIMADO DEL CONTRATO | K14: DIFERENCIA ENTRE EL VALOR DE LA OFERTA Y EL COSTO ESTIMADO DEL CONTRATO (PORCENTAJE)
B15: =+'EVALUACIÓN ALIMENT (ACNN) '!B14 -> 1 | C15: =+'EVALUACIÓN ALIMENT (ACNN) '!C14 -> CORPORACIÓN ORIENTAR PARA CRECER (CASA 1) | D15: =+'EVALUACIÓN ALIMENT (ACNN) '!D14 -> 46161 | E15: =+'EVALUACIÓN ALIMENT (ACNN) '!E14 -> 7:28AM | F15: 35363900 | G15: =+D5-F37 -> 0 | H15: =+D5-F39 -> 95758.333 | I15: =+F15-$F$39 -> 95758.333 | J15: =+F15-$D$5 -> 0 | K15: =-($D$5-F15)/$D$5 -> 0
