Workbook
Name a: #REF!
Name ABRIL: #REF!
Name add: #REF!
Name ADR: #REF!
Name ADRIANA: #REF!
Name AGOSTO: #REF!
Name ALEJA: #REF!
Name Construccion_en_Sitio_Propio___CSP: #REF!
Name d: #REF!
Name DICIEMBRE: #REF!
Name e: #REF!
Name EFECTIVO: #REF!
Name ENERO: #REF!
Name FEBRERO: #REF!
Name H: #REF!
Name jsjsjsjsjsj: #REF!
Name JULIO: #REF!
Name JUNIO: #REF!
Name juun: #REF!
Name lulu: #REF!
Name MARZO: #REF!
Name MAYO: #REF!
Name migue: #REF!
Name MIGUEL: #REF!
Name NOVIEMBRE: #REF!
Name OCTUBRE: #REF!
Name OTROS_ACT_CORRIENTES: #REF!
Name PABLO: #REF!
Name Q: #REF!
Name QQQQ: #REF!
Name RACImayO: #REF!
Name RACIONESMayo: #REF!
Name racmayo2013: #REF!
Name ROBERTO: #REF!
Name S: #REF!
Name SANDRA: #REF!
Name SEPTIEMBRE: #REF!
Name ss: #REF!
Name SSSSSSSSSSS: #REF!
Name UNO: #REF!
Name Usuarios_: #REF!
Name USUARIOS_ACUEDUCTO: #REF!
Name VEINTE: #REF!
Name wrn.INFORME1.: #REF!

Sheet EVALUACIÓN 2026_lote_2_MES1
A1: EVALUACIÓN PROPUESTA ECONÓMICA
A2: SDMUJER-SAMC-001-2026
A4: OBJETO LOTE 2 MODALIDAD RURAL: “Prestar el servicio integral para la puesta en marcha y funcionamiento de la modalidad rural de las Casas Refugio para la atención a mujeres rurales y/ocampesinas víctimas de violencias y sus personas a cargo de acuerdo con las características técnicas descritas en el anexo técnico y las normas vigentes que regulan la materia.” | H4: SECOP II
A6: Proponente | B6: Nombre | C6: CASA | D6: Propuesta Habilitada | E6: Valor Propuesta Primer Mes | F6: Puntaje Factor Económico
A7: Proponente 1 | B7: CORPORACIÓN ORIENTAR PARA CRECER | C7: CASA 1 | D7: HABILITADO | E7: 184082890 | F7: =IF(E7<=$E$26,(30*(1-(($E$26-E7)/$E$26))),(30*(1-(2*(ABS($E$26-E7)/$E$26))))) -> 29.796053
A8: Proponente 2 | B8: ASOCIACION CRISTIANA NUEVO NACIMIENTO -ACNN | C8: CASA 1 | D8: NO HABILITADO | F8: =IF(E8<=$E$26,(30*(1-(($E$26-E8)/$E$26))),(30*(1-(2*(ABS($E$26-E8)/$E$26))))) -> 0
A9: Proponente 3 | B9: CORPORACION SOCIAL PARA EL DESARROLLO DE LOS GRUPOS ETNICOS Y CULTURALES MULTIETNIAS | C9: CASA 1 | D9: HABILITADO | E9: 181588490 | F9: =IF(E9<=$E$26,(30*(1-(($E$26-E9)/$E$26))),(30*(1-(2*(ABS($E$26-E9)/$E$26))))) -> 29.694079
A11: Asignación de método de evaluación según TRM
A13: Rango (inclusive) | B13: Número Método | D13: Método
A14: 0.00 a 0.33 | B14: 1 | D14: Media aritmética
A15: 0.34 a 0.66 | B15: 2 | D15: Media aritmética alta
A16: 0.67 a 0.99 | B16: 3 | D16: Media geométrica con presupuesto oficial
A18: TRM | B18: 3730.49
E24: =+D15 -> Media aritmética alta
E26: =AVERAGE(E7,AVERAGE(E7:E9)) -> 183459290 | F26: =(MAX(E7:E9)+AVERAGE(E7:E9))/2 -> 183459290
E28: Presupuesto Oficial mensual por casa Mes 1
E29: 184082890
A60: https://www.banrep.gov.co/es/glosario/tasa-cambio-trm
A61: https://www.colombiacompra.gov.co/archivos/manual/guia-para-el-manejo-de-ofertas-artificialmente-bajas-en-procesos-de-contratacion-2
A62: https://www.colombiacompra.gov.co/archivos/manual/secop-ii-modalidades-de-contratacion-seleccion-abreviada-de-menor-cuantia
A63: https://www.secop.gov.co/CO1BusinessLine/Tendering/ContractNoticeView/Index?prevCtxLbl=Buscar+procesos&prevCtxUrl=https%3a%2f%2fwww.secop.gov.co%3a443%2fCO1BusinessLine%2fTendering%2fContractNoticeManagement%2fIndex&notice=CO1.NTC.10300390

Sheet EVAL PROP ARTIFI BAJA_MES1
B2: =+'EVALUACIÓN PROPONENTES_MES1'!B3 -> OBJETO LOTE 2 MODALIDAD RURAL: “Prestar el servicio integral para la puesta en marcha y funcionamiento de la modalidad rural de las Casas Refugio para la atención a mujeres rurales y/ocampesinas víctimas de violencias y sus personas a cargo de acuerdo con las características técnicas descritas en el anexo técnico y las normas vigentes que regulan la materia.”
B4: DATOS PRESUPUESTALES DEL CONTRATO:
B5: =+'EVALUACIÓN PROPONENTES_MES1'!B7 -> VALOR PRESUPUESTO MENSUAL | D5: =+'EVALUACIÓN PROPONENTES_MES1'!D7 -> 184082890
B9: VERIFICACIÓN COTIZACIONES QUE PUEDEN SER ARTIFICIALMENTE BAJAS
B11: INSUMOS PARA EL ANÁLISIS DE INFORMACIÓN
B13: COMPROBACIÓN ABSOLUTA
B16: 1. PASO. Se tomaron las propuestas que no sobrepasaron el costo estimado:
B18: N° | C18: PROPONENTE | D18: FECHA | E18: HORA | F18: VALOR PROPUESTA ECONÓMICA
B19: 1 | C19: ='EVALUACIÓN 2026_lote_2_MES1'!B7 -> CORPORACIÓN ORIENTAR PARA CRECER | D19: 46161 | E19: 7:28AM | F19: 184082890
B20: 2 | C20: ='EVALUACIÓN 2026_lote_2_MES1'!B8 -> ASOCIACION CRISTIANA NUEVO NACIMIENTO -ACNN | D20: 46161 | E20: 6:11PM | F20: 176174640
B21: 3 | C21: ='EVALUACIÓN 2026_lote_2_MES1'!B9 -> CORPORACION SOCIAL PARA EL DESARROLLO DE LOS GRUPOS ETNICOS Y CULTURALES MULTIETNIAS | D21: 46161 | E21: 9:07PM | F21: 181588490
B23: 2. PASO. Se calcula el 20% del costo estimado:
C25: CÁLCULO DEL 20% | F25: =+D5*20% -> 36816578
B27: 3. PASO. Se determina el valor mínimo aceptable para la entidad con la siguiente fórmula: Costo estimado - el valor del cálculo del 20%
C29: VALOR MÍNIMO ACEPTABLE
F30: =+D5-F25 -> 147266312
B31: 4. PASO. Se determinan las ofertas que pueden ser artificialmente bajas
B33: N° | C33: PROPONENTE | D33: FECHA | E33: HORA | F33: VALOR PROPUESTA ECONÓMICA | G33: VALOR MÍNIMO ACEPTABLE | H33: DIFERENCIA | I33: PORCENTAJE DIFERENCIA | J33: OBSERVACIÓN
B34: =+B19 -> 1 | C34: =+C19 -> CORPORACIÓN ORIENTAR PARA CRECER | D34: =+D19 -> 46161 | E34: =+E19 -> 7:28AM | F34: =+F19 -> 184082890 | G34: =+$F$30 -> 147266312 | H34: =+F34-G34 -> 36816578 | I34: =-($D$5-F34)/$D$5 -> 0 | J34: Propuesta incluida dentro de la minima aceptable
B35: =+B20 -> 2 | C35: =+C20 -> ASOCIACION CRISTIANA NUEVO NACIMIENTO -ACNN | D35: =+D20 -> 46161 | E35: =+E20 -> 6:11PM | F35: =+F20 -> 176174640 | G35: =+$F$30 -> 147266312 | H35: =+F35-G35 -> 28908328 | I35: =-($D$5-F35)/$D$5 -> -0.042960266 | J35: Propuesta incluida dentro de la minima aceptable
B36: =+B21 -> 3 | C36: =+C21 -> CORPORACION SOCIAL PARA EL DESARROLLO DE LOS GRUPOS ETNICOS Y CULTURALES MULTIETNIAS | D36: =+D21 -> 46161 | E36: =+E21 -> 9:07PM | F36: =+F21 -> 181588490 | G36: =+$F$30 -> 147266312 | H36: =+F36-G36 -> 34322178 | I36: =-($D$5-F36)/$D$5 -> -0.013550417 | J36: Propuesta incluida dentro de la minima aceptable

Sheet EVALUACIÓN PROPONENTES_MES1
B2: =+'EVALUACIÓN 2026_lote_2_MES1'!A2 -> SDMUJER-SAMC-001-2026
B3: =+'EVALUACIÓN 2026_lote_2_MES1'!A4 -> OBJETO LOTE 2 MODALIDAD RURAL: “Prestar el servicio integral para la puesta en marcha y funcionamiento de la modalidad rural de las Casas Refugio para la atención a mujeres rurales y/ocampesinas víctimas de violencias y sus personas a cargo de acuerdo con las características técnicas descritas en el anexo técnico y las normas vigentes que regulan la materia.”
B5: DATOS PRESUPUESTALES DEL CONTRATO:
B7: VALOR PRESUPUESTO MENSUAL | D7: =+'EVALUACIÓN 2026_lote_2_MES1'!E29 -> 184082890
B10: VERIFICACIÓN CONDICIONES DE LAS PROPUESTAS ECONÓMICAS MODALIDAD RURAL
B12: Durante el proceso de contratación se recibieron 3 ofertas por parte de las siguientes empresas que se detallan a continuación:
B15: COMPROBACIÓN ABSOLUTA
B16: N° | C16: PROPONENTE | D16: FECHA | E16: HORA | F16: VALOR PROPUESTA ECONÓMICA | G16: OBSERVACIONES
B17: 1 | C17: ='EVAL PROP ARTIFI BAJA_MES1'!C19 -> CORPORACIÓN ORIENTAR PARA CRECER | D17: 46161 | E17: 7:28AM | F17: ='EVAL PROP ARTIFI BAJA_MES1'!F19 -> 184082890 | G17: ='EVAL PROP ARTIFI BAJA_MES1'!J34 -> Propuesta incluida dentro de la minima aceptable
B18: 2 | C18: ='EVAL PROP ARTIFI BAJA_MES1'!C20 -> ASOCIACION CRISTIANA NUEVO NACIMIENTO -ACNN | D18: 46161 | E18: 6:11PM | F18: ='EVAL PROP ARTIFI BAJA_MES1'!F20 -> 176174640 | G18: ='EVAL PROP ARTIFI BAJA_MES1'!J35 -> Propuesta incluida dentro de la minima aceptable
B19: 3 | C19: ='EVAL PROP ARTIFI BAJA_MES1'!C21 -> CORPORACION SOCIAL PARA EL DESARROLLO DE LOS GRUPOS ETNICOS Y CULTURALES MULTIETNIAS | D19: 46161 | E19: 9:07PM | F19: ='EVAL PROP ARTIFI BAJA_MES1'!F21 -> 181588490 | G19: ='EVAL PROP ARTIFI BAJA_MES1'!J36 -> Propuesta incluida dentro de la minima aceptable

Sheet EVALUACIÓN 2026_lote_2_MES2
A1: EVALUACIÓN PROPUESTA ECONÓMICA
A2: SDMUJER-SAMC-001-2026
A4: OBJETO LOTE 2 MODALIDAD RURAL: “Prestar el servicio integral para la puesta en marcha y funcionamiento de la modalidad rural de las Casas Refugio para la atención a mujeres rurales y/ocampesinas víctimas de violencias y sus personas a cargo de acuerdo con las características técnicas descritas en el anexo técnico y las normas vigentes que regulan la materia.” | H4: SECOP II
A6: Proponente | B6: Nombre | C6: CASA | D6: Propuesta Habilitada | E6: Valor Propuesta Segundo Mes en Adelante | F6: Puntaje Factor Económico
A7: Proponente 1 | B7: CORPORACIÓN ORIENTAR PARA CRECER | C7: CASA 1 | D7: HABILITADO | E7: 182261590 | F7: =IF(E7<=$E$26,(30*(1-(($E$26-E7)/$E$26))),(30*(1-(2*(ABS($E$26-E7)/$E$26))))) -> 29.794008
A8: Proponente 2 | B8: ASOCIACION CRISTIANA NUEVO NACIMIENTO -ACNN | C8: CASA 1 | D8: NO HABILITADO | F8: =IF(E8<=$E$26,(30*(1-(($E$26-E8)/$E$26))),(30*(1-(2*(ABS($E$26-E8)/$E$26))))) -> 0
A9: Proponente 3 | B9: CORPORACION SOCIAL PARA EL DESARROLLO DE LOS GRUPOS ETNICOS Y CULTURALES MULTIETNIAS | C9: CASA 1 | D9: HABILITADO | E9: 179767190 | F9: =IF(E9<=$E$26,(30*(1-(($E$26-E9)/$E$26))),(30*(1-(2*(ABS($E$26-E9)/$E$26))))) -> 29.691012
A11: Asignación de método de evaluación según TRM
A13: Rango (inclusive) | B13: Número Método | D13: Método
A14: 0.00 a 0.33 | B14: 1 | D14: Media aritmética
A15: 0.34 a 0.66 | B15: 2 | D15: Media aritmética alta
A16: 0.67 a 0.99 | B16: 3 | D16: Media geométrica con presupuesto oficial
A18: TRM | B18: 3730.49
E24: =+D15 -> Media aritmética alta
E26: =AVERAGE(E7,AVERAGE(E7:E9)) -> 181637990 | F26: =(MAX(E7:E9)+AVERAGE(E7:E9))/2 -> 181637990
E28: Presupuesto Oficial mensual por casa Mes 2 en Adelante
E29: 182261590

Sheet EVAL PROP ARTIFI BAJA_MES2
B2: =+'EVALUACIÓN PROPONENTES_MES2'!B3 -> OBJETO LOTE 2 MODALIDAD RURAL: “Prestar el servicio integral para la puesta en marcha y funcionamiento de la modalidad rural de las Casas Refugio para la atención a mujeres rurales y/ocampesinas víctimas de violencias y sus personas a cargo de acuerdo con las características técnicas descritas en el anexo técnico y las normas vigentes que regulan la materia.”
B4: DATOS PRESUPUESTALES DEL CONTRATO:
B5: =+'EVALUACIÓN PROPONENTES_MES2'!B7 -> VALOR PRESUPUESTO MENSUAL | D5: =+'EVALUACIÓN PROPONENTES_MES2'!D7 -> 182261590
B9: VERIFICACIÓN COTIZACIONES QUE PUEDEN SER ARTIFICIALMENTE BAJAS
B11: INSUMOS PARA EL ANÁLISIS DE INFORMACIÓN
B13: COMPROBACIÓN ABSOLUTA
B16: 1. PASO. Se tomaron las propuestas que no sobrepasaron el costo estimado:
B18: N° | C18: PROPONENTE | D18: FECHA | E18: HORA | F18: VALOR PROPUESTA ECONÓMICA
B19: 1 | C19: ='EVALUACIÓN 2026_lote_2_MES2'!B7 -> CORPORACIÓN ORIENTAR PARA CRECER | D19: 46161 | E19: 7:28AM | F19: 182261590
B20: 2 | C20: ='EVALUACIÓN 2026_lote_2_MES2'!B8 -> ASOCIACION CRISTIANA NUEVO NACIMIENTO -ACNN | D20: 46161 | E20: 6:11PM | F20: 174353340
B21: 3 | C21: ='EVALUACIÓN 2026_lote_2_MES2'!B9 -> CORPORACION SOCIAL PARA EL DESARROLLO DE LOS GRUPOS ETNICOS Y CULTURALES MULTIETNIAS | D21: 46161 | E21: 9:07PM | F21: 179767190
B23: 2. PASO. Se calcula el 20% del costo estimado:
C25: CÁLCULO DEL 20% | F25: =+D5*20% -> 36452318
B27: 3. PASO. Se determina el valor mínimo aceptable para la entidad con la siguiente fórmula: Costo estimado - el valor del cálculo del 20%
C29: VALOR MÍNIMO ACEPTABLE | F29: =+D5-F25 -> 145809272
B31: 4. PASO. Se determinan las ofertas que pueden ser artificialmente bajas
B33: N° | C33: PROPONENTE | D33: FECHA | E33: HORA | F33: VALOR PROPUESTA ECONÓMICA | G33: VALOR MÍNIMO ACEPTABLE | H33: DIFERENCIA | I33: PORCENTAJE DIFERENCIA | J33: OBSERVACIÓN
B34: =+B19 -> 1 | C34: =+C19 -> CORPORACIÓN ORIENTAR PARA CRECER | D34: =+D19 -> 46161 | E34: =+E19 -> 7:28AM | F34: =+F19 -> 182261590 | G34: =+$F$29 -> 145809272 | H34: =+F34-G34 -> 36452318 | I34: =-($D$5-F34)/$D$5 -> 0 | J34: Propuesta incluida dentro de la minima aceptable
B35: =+B20 -> 2 | C35: =+C20 -> ASOCIACION CRISTIANA NUEVO NACIMIENTO -ACNN | D35: =+D20 -> 46161 | E35: =+E20 -> 6:11PM | F35: =+F20 -> 174353340 | G35: =+$F$29 -> 145809272 | H35: =+F35-G35 -> 28544068 | I35: =-($D$5-F35)/$D$5 -> -0.043389559 | J35: Propuesta incluida dentro de la minima aceptable
B36: =+B21 -> 3 | C36: =+C21 -> CORPORACION SOCIAL PARA EL DESARROLLO DE LOS GRUPOS ETNICOS Y CULTURALES MULTIETNIAS | D36: =+D21 -> 46161 | E36: =+E21 -> 9:07PM | F36: =+F21 -> 179767190 | G36: =+$F$29 -> 145809272 | H36: =+F36-G36 -> 33957918 | I36: =-($D$5-F36)/$D$5 -> -0.013685824 | J36: Propuesta incluida dentro de la minima aceptable

Sheet EVALUACIÓN PROPONENTES_MES2
B2: =+'EVALUACIÓN 2026_lote_2_MES2'!A2 -> SDMUJER-SAMC-001-2026
B3: =+'EVALUACIÓN 2026_lote_2_MES2'!A4 -> OBJETO LOTE 2 MODALIDAD RURAL: “Prestar el servicio integral para la puesta en marcha y funcionamiento de la modalidad rural de las Casas Refugio para la atención a mujeres rurales y/ocampesinas víctimas de violencias y sus personas a cargo de acuerdo con las características técnicas descritas en el anexo técnico y las normas vigentes que regulan la materia.”
B5: DATOS PRESUPUESTALES DEL CONTRATO:
B7: VALOR PRESUPUESTO MENSUAL | D7: =+'EVALUACIÓN 2026_lote_2_MES2'!E29 -> 182261590
B10: VERIFICACIÓN CONDICIONES DE LAS PROPUESTAS ECONÓMICAS MODALIDAD RURAL
B13: COMPROBACIÓN ABSOLUTA
B14: N° | C14: PROPONENTE | D14: FECHA | E14: HORA | F14: VALOR PROPUESTA ECONÓMICA | G14: OBSERVACIONES
B15: 1 | C15: ='EVALUACIÓN 2026_lote_2_MES2'!B7 -> CORPORACIÓN ORIENTAR PARA CRECER | D15: 46161 | E15: 7:28AM | F15: =+'EVAL PROP ARTIFI BAJA_MES2'!F19 -> 182261590 | G15: ='EVAL PROP ARTIFI BAJA_MES2'!J34 -> Propuesta incluida dentro de la minima aceptable
B16: 2 | C16: ='EVALUACIÓN 2026_lote_2_MES2'!B8 -> ASOCIACION CRISTIANA NUEVO NACIMIENTO -ACNN | D16: 46161 | E16: 6:11PM | F16: =+'EVAL PROP ARTIFI BAJA_MES2'!F20 -> 174353340 | G16: ='EVAL PROP ARTIFI BAJA_MES2'!J35 -> Propuesta incluida dentro de la minima aceptable
B17: 3 | C17: ='EVALUACIÓN 2026_lote_2_MES2'!B9 -> CORPORACION SOCIAL PARA EL DESARROLLO DE LOS GRUPOS ETNICOS Y CULTURALES MULTIETNIAS | D17: 46161 | E17: 9:07PM | F17: =+'EVAL PROP ARTIFI BAJA_MES2'!F21 -> 179767190 | G17: ='EVAL PROP ARTIFI BAJA_MES2'!J36 -> Propuesta incluida dentro de la minima aceptable

Sheet EVALUACIÓN 2026_lote_2_Total
A1: EVALUACIÓN PROPUESTA ECONÓMICA
A2: SDMUJER-SAMC-001-2026
A4: OBJETO LOTE 2 MODALIDAD RURAL: “Prestar el servicio integral para la puesta en marcha y funcionamiento de la modalidad rural de las Casas Refugio para la atención a mujeres rurales y/ocampesinas víctimas de violencias y sus personas a cargo de acuerdo con las características técnicas descritas en el anexo técnico y las normas vigentes que regulan la materia.” | H4: SECOP II
A6: Proponente | B6: Nombre | C6: CASA | D6: Propuesta Habilitada | E6: Valor Propuesta Total | F6: Puntaje Factor Económico
A7: Proponente 1 | B7: CORPORACIÓN ORIENTAR PARA CRECER | C7: CASA 1 | D7: HABILITADO | E7: 1186521630 | F7: =IF(E7<=$E$26,(30*(1-(($E$26-E7)/$E$26))),(30*(1-(2*(ABS($E$26-E7)/$E$26))))) -> 29.794325
A8: Proponente 2 | B8: ASOCIACION CRISTIANA NUEVO NACIMIENTO -ACNN | C8: CASA 1 | D8: NO HABILITADO | F8: =IF(E8<=$E$26,(30*(1-(($E$26-E8)/$E$26))),(30*(1-(2*(ABS($E$26-E8)/$E$26))))) -> 0
A9: Proponente 3 | B9: CORPORACION SOCIAL PARA EL DESARROLLO DE LOS GRUPOS ETNICOS Y CULTURALES MULTIETNIAS | C9: CASA 1 | D9: HABILITADO | E9: 1170308040 | F9: =IF(E9<=$E$26,(30*(1-(($E$26-E9)/$E$26))),(30*(1-(2*(ABS($E$26-E9)/$E$26))))) -> 29.691488
A11: Asignación de método de evaluación según TRM
A13: Rango (inclusive) | B13: Número Método | D13: Método
A14: 0.00 a 0.33 | B14: 1 | D14: Media aritmética
A15: 0.34 a 0.66 | B15: 2 | D15: Media aritmética alta
A16: 0.67 a 0.99 | B16: 3 | D16: Media geométrica con presupuesto oficial
A18: TRM | B18: 3730.49
E24: =+D15 -> Media aritmética alta
E26: =AVERAGE(E7,AVERAGE(E7:E9)) -> 1.1824682e+09 | F26: =(MAX(E7:E9)+AVERAGE(E7:E9))/2 -> 1.1824682e+09
E28: Presupuesto Oficial por casa
E29: 1186521630

Sheet EVAL PROP ARTIFI BAJA_Total
B2: =+'EVALUACIÓN PROPONENTES_Total'!B3 -> OBJETO LOTE 2 MODALIDAD RURAL: “Prestar el servicio integral para la puesta en marcha y funcionamiento de la modalidad rural de las Casas Refugio para la atención a mujeres rurales y/ocampesinas víctimas de violencias y sus personas a cargo de acuerdo con las características técnicas descritas en el anexo técnico y las normas vigentes que regulan la materia.”
B4: DATOS PRESUPUESTALES DEL CONTRATO:
B5: =+'EVALUACIÓN PROPONENTES_Total'!B7 -> VALOR PRESUPUESTO MENSUAL | D5: =+'EVALUACIÓN PROPONENTES_Total'!D7 -> 1186521630
B9: VERIFICACIÓN COTIZACIONES QUE PUEDEN SER ARTIFICIALMENTE BAJAS
B11: INSUMOS PARA EL ANÁLISIS DE INFORMACIÓN
B13: COMPROBACIÓN ABSOLUTA
B16: 1. PASO. Se tomaron las propuestas que no sobrepasaron el costo estimado:
B18: N° | C18: PROPONENTE | D18: FECHA | E18: HORA | F18: VALOR PROPUESTA ECONÓMICA
B19: 1 | C19: ='EVALUACIÓN 2026_lote_2_Total'!B7 -> CORPORACIÓN ORIENTAR PARA CRECER | D19: 46161 | E19: 7:28AM | F19: 1186521630
B20: 2 | C20: ='EVALUACIÓN 2026_lote_2_Total'!B8 -> ASOCIACION CRISTIANA NUEVO NACIMIENTO -ACNN | D20: 46161 | E20: 6:11PM | F20: 1135118010
B21: 3 | C21: ='EVALUACIÓN 2026_lote_2_Total'!B9 -> CORPORACION SOCIAL PARA EL DESARROLLO DE LOS GRUPOS ETNICOS Y CULTURALES MULTIETNIAS | D21: 46161 | E21: 9:07PM | F21: 1170308040
B23: 2. PASO. Se calcula el 20% del costo estimado:
C25: CÁLCULO DEL 20% | F25: =+D5*20% -> 237304326
B27: 3. PASO. Se determina el valor mínimo aceptable para la entidad con la siguiente fórmula: Costo estimado - el valor del cálculo del 20%
C29: VALOR MÍNIMO ACEPTABLE | F29: =+D5-F25 -> 949217304
B31: 4. PASO. Se determinan las ofertas que pueden ser artificialmente bajas
B33: N° | C33: PROPONENTE | D33: FECHA | E33: HORA | F33: VALOR PROPUESTA ECONÓMICA | G33: VALOR MÍNIMO ACEPTABLE | H33: DIFERENCIA | I33: PORCENTAJE DIFERENCIA | J33: OBSERVACIÓN
B34: =+B19 -> 1 | C34: =+C19 -> CORPORACIÓN ORIENTAR PARA CRECER | D34: =+D19 -> 46161 | E34: =+E19 -> 7:28AM | F34: =+F19 -> 1186521630 | G34: =+$F$29 -> 949217304 | H34: =+F34-G34 -> 237304326 | I34: =-($D$5-F34)/$D$5 -> 0 | J34: Propuesta incluida dentro de la minima aceptable
B35: =+B20 -> 2 | C35: =+C20 -> ASOCIACION CRISTIANA NUEVO NACIMIENTO -ACNN | D35: =+D20 -> 46161 | E35: =+E20 -> 6:11PM | F35: =+F20 -> 1135118010 | G35: =+$F$29 -> 949217304 | H35: =+F35-G35 -> 185900706 | I35: =-($D$5-F35)/$D$5 -> -0.043322952 | J35: Propuesta incluida dentro de la minima aceptable
B36: =+B21 -> 3 | C36: =+C21 -> CORPORACION SOCIAL PARA EL DESARROLLO DE LOS GRUPOS ETNICOS Y CULTURALES MULTIETNIAS | D36: =+D21 -> 46161 | E36: =+E21 -> 9:07PM | F36: =+F21 -> 1170308040 | G36: =+$F$29 -> 949217304 | H36: =+F36-G36 -> 221090736 | I36: =-($D$5-F36)/$D$5 -> -0.013664808 | J36: Propuesta incluida dentro de la minima aceptable

Sheet EVALUACIÓN PROPONENTES_Total
B2: =+'EVALUACIÓN 2026_lote_2_Total'!A2 -> SDMUJER-SAMC-001-2026
B3: =+'EVALUACIÓN 2026_lote_2_Total'!A4 -> OBJETO LOTE 2 MODALIDAD RURAL: “Prestar el servicio integral para la puesta en marcha y funcionamiento de la modalidad rural de las Casas Refugio para la atención a mujeres rurales y/ocampesinas víctimas de violencias y sus personas a cargo de acuerdo con las características técnicas descritas en el anexo técnico y las normas vigentes que regulan la materia.”
B5: DATOS PRESUPUESTALES DEL CONTRATO:
B7: VALOR PRESUPUESTO MENSUAL | D7: =+'EVALUACIÓN 2026_lote_2_Total'!E29 -> 1186521630
B10: VERIFICACIÓN CONDICIONES DE LAS PROPUESTAS ECONÓMICAS MODALIDAD RURAL
B12: Durante el proceso de contratación se recibieron 3 ofertas por parte de las siguientes empresas que se detallan a continuación:
B14: COMPROBACIÓN ABSOLUTA
B15: N° | C15: PROPONENTE | D15: FECHA | E15: HORA | F15: VALOR PROPUESTA ECONÓMICA | G15: OBSERVACIONES
B16: 1 | C16: =+'EVALUACIÓN 2026_lote_2_Total'!B7 -> CORPORACIÓN ORIENTAR PARA CRECER | D16: 46161 | E16: 7:28AM | F16: =+'EVAL PROP ARTIFI BAJA_Total'!F19 -> 1186521630 | G16: ='EVAL PROP ARTIFI BAJA_Total'!J34 -> Propuesta incluida dentro de la minima aceptable
B17: 2 | C17: =+'EVALUACIÓN 2026_lote_2_Total'!B8 -> ASOCIACION CRISTIANA NUEVO NACIMIENTO -ACNN | D17: 46161 | E17: 6:11PM | F17: =+'EVAL PROP ARTIFI BAJA_Total'!F20 -> 1135118010 | G17: ='EVAL PROP ARTIFI BAJA_Total'!J35 -> Propuesta incluida dentro de la minima aceptable
B18: 3 | C18: =+'EVALUACIÓN 2026_lote_2_Total'!B9 -> CORPORACION SOCIAL PARA EL DESARROLLO DE LOS GRUPOS ETNICOS Y CULTURALES MULTIETNIAS | D18: 46161 | E18: 9:07PM | F18: =+'EVAL PROP ARTIFI BAJA_Total'!F21 -> 1170308040 | G18: ='EVAL PROP ARTIFI BAJA_Total'!J36 -> Propuesta incluida dentro de la minima aceptable
C20: CONCLUSIÓN
C21: La metodología principal aplicada para la identificación de posibles ofertas artificialmente bajas corresponde a la comparación absoluta, conforme a la Guía para el Manejo de Ofertas Artificialmente Bajas de Colombia Compra Eficiente. Como resultado del análisis, ninguna de las ofertas evaluadas presenta una disminución igual o superior al 20% frente al costo estimado por la Entidad, razón por la cual no se configura alerta de oferta artificialmente baja bajo la metodología principal aplicable. No se identifican ofertas artificialmente bajas bajo comparación absoluta

Sheet VALOR CASA CRECER 
A2: PARA CONTRATO ACTUAL RURAL 2026:
A3: DETALLE | B3: AÑO 2026
A4: PRIMER MES (NO INCLUYE ELEMENTOS DE ÚNICO RECONOCIMIENTO) | B4: 182261590
A5: VALOR ÚNICO RECONOCIMIENTO | B5: 1821300
A6: VALOR TOTAL FUNCIONAMIENTO ESTIMADO PARA UNA CASA REFUGIO MODALIDAD INTEGRAL (PRIMER MES TOTAL) | B6: =SUM(B4:B5) -> 184082890
A7: VALOR POR MES SEGUNDO MES EN ADELANTE | B7: 182261590
A8: VALOR POR DÍA | B8: =+ROUND(B4/30,0) -> 6075386
A9: DÍAS JUNIO 2026 EMPEZANDO EL 15 DE JUNIO 2026 | B9: 15
A10: VALOR JUNIO 2026 | B10: =+(B8*B9)+B5 -> 92952090
A11: MESES | B11: 6
A12: DÍAS | B12: 0
A13: CANTIDAD CASAS | B13: 1
A14: VALOR POR 1 CASA | B14: =+B10+(B11*B7)+(B12*B8) -> 1186521630
A16: Meses - días | B16: valor
A17: junio 15 días | B17: =+B10 -> 92952090
A18: julio 30 días | B18: =+$B$7 -> 182261590
A19: agosto 30 días | B19: =+$B$7 -> 182261590
A20: septiembre 30 días | B20: =+$B$7 -> 182261590
A21: octubre 30 días | B21: =+$B$7 -> 182261590
A22: noviembre 30 días | B22: =+$B$7 -> 182261590
A23: diciembre 30 días | B23: =+$B$7 -> 182261590
A24: TOTAL CASA | B24: =SUM(B17:B23) -> 1186521630

Sheet VALOR CASA  (ACNN 
A2: PARA CONTRATO ACTUAL RURAL 2026:
A3: DETALLE | B3: AÑO 2026
A4: PRIMER MES (NO INCLUYE ELEMENTOS DE ÚNICO RECONOCIMIENTO) | B4: 174353340
A5: VALOR ÚNICO RECONOCIMIENTO | B5: 1821300
A6: VALOR TOTAL FUNCIONAMIENTO ESTIMADO PARA UNA CASA REFUGIO MODALIDAD INTEGRAL (PRIMER MES TOTAL) | B6: 176174640
A7: VALOR POR MES SEGUNDO MES EN ADELANTE | B7: =+B4 -> 174353340
A8: VALOR POR DÍA | B8: =+ROUND(B4/30,0) -> 5811778
A9: DÍAS JUNIO 2026 EMPEZANDO EL 15 DE JUNIO 2026 | B9: 15
A10: VALOR JUNIO 2026 | B10: =+(B8*B9)+B5 -> 88997970
A11: MESES | B11: 6
A12: DÍAS | B12: 0
A13: CANTIDAD CASAS | B13: 1
A14: VALOR POR 1 CASA | B14: =+B10+(B11*B7)+(B12*B8) -> 1135118010
A16: Meses - días | B16: valor
A17: junio 15 días | B17: =+B10 -> 88997970
A18: julio 30 días | B18: =+$B$7 -> 174353340
A19: agosto 30 días | B19: =+$B$7 -> 174353340
A20: septiembre 30 días | B20: =+$B$7 -> 174353340
A21: octubre 30 días | B21: =+$B$7 -> 174353340
A22: noviembre 30 días | B22: =+$B$7 -> 174353340
A23: diciembre 30 días | B23: =+$B$7 -> 174353340
A24: TOTAL CASA | B24: =SUM(B17:B23) -> 1135118010

Sheet VALOR CASA  (MULTIETNIAS)
A2: PARA CONTRATO ACTUAL RURAL 2026:
A3: DETALLE | B3: AÑO 2026
A4: PRIMER MES (NO INCLUYE ELEMENTOS DE ÚNICO RECONOCIMIENTO) | B4: 179767190
A5: VALOR ÚNICO RECONOCIMIENTO | B5: 1821300
A6: VALOR TOTAL FUNCIONAMIENTO ESTIMADO PARA UNA CASA REFUGIO MODALIDAD INTEGRAL (PRIMER MES TOTAL) | B6: 181588490
A7: VALOR POR MES SEGUNDO MES EN ADELANTE | B7: =+B4 -> 179767190
A8: VALOR POR DÍA | B8: =+ROUND(B4/30,0) -> 5992240
A9: DÍAS JUNIO 2026 EMPEZANDO EL 15 DE JUNIO 2026 | B9: 15
A10: VALOR JUNIO 2026 | B10: =+(B8*B9)+B5 -> 91704900
A11: MESES | B11: 6
A12: DÍAS | B12: 0 | C12: DÍAS
A13: CANTIDAD CASAS | B13: 1
A14: VALOR POR 1 CASA | B14: =+B10+(B11*B7)+(B12*B8) -> 1170308040
A16: Meses - días | B16: valor
A17: junio 15 días | B17: =+B10 -> 91704900
A18: julio 30 días | B18: =+$B$7 -> 179767190
A19: agosto 30 días | B19: =+$B$7 -> 179767190
A20: septiembre 30 días | B20: =+$B$7 -> 179767190
A21: octubre 30 días | B21: =+$B$7 -> 179767190
A22: noviembre 30 días | B22: =+$B$7 -> 179767190
A23: diciembre 30 días | B23: =+$B$7 -> 179767190
A24: TOTAL CASA | B24: =SUM(B17:B23) -> 1170308040
