Workbook

Sheet PRESU
A1: ABASTO DE LA VEREDA VILLA FATIMA
A2: ITEM | B2: DESCRIPCION | C2: UND | D2: CANT. | E2: VR UNITARIO CONTRACTUAL | F2: VR PARCIAL CONTRACTUAL
A3: 1 | B3: Campamento o almacenamiento de obra. | C3: Glb | D3: 1 | E3: ='1'!$M$65 -> 1568711 | F3: =ROUND(E3*D3,0) -> 1568711
A4: 2 | B4: Localización, trazado y replanteo de tubería de redes de Distribución incluye comision topografica | C4: ml | D4: 4000 | E4: ='2'!$M$78 -> 1857 | F4: =ROUND(E4*D4,0) -> 7428000
A5: 3 | B5: Excavación manual de 0,00 a 2,00m en material comun | C5: m3 | D5: 315 | E5: ='3'!$M$78 -> 41694 | F5: =ROUND(E5*D5,0) -> 13133610
A6: 4 | B6: Perforaciones de concreto de bocatoma y desarenador para la instalaciones de la tuberia de aduccion de 2" | C6: un | D6: 10 | E6: ='4'!$M$78 -> 132733 | F6: =ROUND(E6*D6,0) -> 1327330
A7: 5 | B7: demolicion de losa del desarenador y bocatoma | C7: un | D7: 1 | E7: ='5'!$M$78 -> 2201368 | F7: =ROUND(E7*D7,0) -> 2201368
A8: 6 | B8: lleno con material comun de la zona | C8: m3 | D8: 10 | E8: ='6'!$M$78 -> 54500 | F8: =ROUND(E8*D8,0) -> 545000
A9: 7 | B9: Suministro, transporte e instalacion de ampliacion de rejilla de bocatoma en acero 0,30x1,20 incluye bisagra varilla y angulos | C9: un | D9: 1 | E9: =+'7'!M68 -> 616518 | F9: =ROUND(E9*D9,0) -> 616518
A10: 8 | B10: Suministro, transporte e instalacion de tuberia de presion 60,000RD de 2" | C10: ml | D10: 50 | E10: =+'8'!M68 -> 34963 | F10: =ROUND(E10*D10,0) -> 1748150
A11: 9 | B11: Suministro, transporte e instalacion de codo de 45° de presion 60,000RD de 2" | C11: un | D11: 5 | E11: ='9'!$M$78 -> 27556 | F11: =ROUND(E11*D11,0) -> 137780
A12: 10 | B12: Suministro, transporte e instalacion de rejilla tipo cúpula de 2" en acero inoxidable | C12: un | D12: 1 | E12: ='10'!$M$78 -> 130571 | F12: =ROUND(E12*D12,0) -> 130571
A13: 11 | B13: Suministro, transporte e instalación de tapas en lamina alfajor de 1/4", incluye marco en angulo de 1/4" x 2" con pintura anticorrosivo y acabado en pintura epoxica para zonas con altra humedad, Tapas para desarenador y para bocatoma. Medidad de 60cm x 60cm. | C13: Und | D13: 10 | E13: =+'11'!M68 -> 378860 | F13: =ROUND(E13*D13,0) -> 3788600
A14: 12 | B14: Suministro, transporte e instalacion de tuberia de polietileno de 1" para agua potable de 16 PN | C14: ml | D14: 2340 | E14: =+'12'!M68 -> 12661 | F14: =ROUND(E14*D14,0) -> 29626740
A15: 13 | B15: Suministro, transporte e instalacion de tuberia de polietileno de 1"1/2" para agua potable de 16 PN | C15: ml | D15: =580+600 -> 1180 | E15: =+'13'!M68 -> 19959 | F15: =ROUND(E15*D15,0) -> 23551620
A16: 14 | B16: Suministro, transporte e instalacion de tuberia calibre 60 de polietileno de 2" para agua potable de 16 PN | C16: ml | D16: 480 | E16: =+'14'!M68 -> 27334 | F16: =ROUND(E16*D16,0) -> 13120320
A17: 15 | B17: suministo, transporte e instalacion de union rapida de 2" | C17: un | D17: 10 | E17: =+'15'!M68 -> 68002 | F17: =ROUND(E17*D17,0) -> 680020
A18: 16 | B18: suministo, transporte y colocacion de union rapida de 1"1/2" | C18: un | D18: 12 | E18: =+'16'!M68 -> 53250 | F18: =ROUND(E18*D18,0) -> 639000
A19: 17 | B19: suministo, transporte e instalacion de union rapida de 1" | C19: un | D19: 50 | E19: =+'17'!M68 -> 28966 | F19: =ROUND(E19*D19,0) -> 1448300
A20: 18 | B20: suministo, transporte e instalacion de reducion rapida de 2" a 1"1/2" | C20: un | D20: 1 | E20: =+'18'!M68 -> 50073.64 | F20: =ROUND(E20*D20,0) -> 50074
A21: 19 | B21: suministo, instalacion y transporte de reducion rapida de 1"1/2" a 1" | C21: un | D21: 1 | E21: =+'19'!M68 -> 35928 | F21: =ROUND(E21*D21,0) -> 35928
A22: 20 | B22: suministro, transporte e instalacion de tuberia 1" | C22: ml | D22: 18 | E22: =+'20'!M68 -> 9210 | F22: =ROUND(E22*D22,0) -> 165780
A23: 21 | B23: suministo, transporte e instalacion de uniones 1" | C23: un | D23: 6 | E23: =+'21'!M68 -> 23045 | F23: =ROUND(E23*D23,0) -> 138270
A24: 22 | B24: suministo, transporte e instalacion de adaptador macho 1" | C24: un | D24: 6 | E24: =+'22'!M68 -> 8949 | F24: =ROUND(E24*D24,0) -> 53694
A25: 23 | B25: suministo, transporte e instalacion tapon de rosca 1" | C25: un | D25: 24 | E25: =+'23'!M68 -> 8713 | F25: =ROUND(E25*D25,0) -> 209112
A26: 24 | B26: Suministro, transporte e instalacion de tubería PVC 6" | C26: ml | D26: 10 | E26: =+'24'!M68 -> 84534 | F26: =ROUND(E26*D26,0) -> 845340
A27: 25 | B27: Suministro, trasnporte e instalacion de Válvula Waffer 6" | C27: un | D27: 1 | E27: =+'25'!M68 -> 827799 | F27: =ROUND(E27*D27,0) -> 827799
A28: 26 | B28: Suministro, trasnporte e instalacion de Válvula de Compuerta De Latón 2" | C28: un | D28: 2 | E28: =+'26'!M68 -> 141717 | F28: =ROUND(E28*D28,0) -> 283434
A29: 27 | B29: suministro, transporte e instalacion de adaptadores macho de 2" incluye teflon | C29: un | D29: 4 | E29: =+'27'!M68 -> 14866 | F29: =ROUND(E29*D29,0) -> 59464
A30: 28 | B30: suministro, transporte e instalacion de collarines de derivacion de 2" | C30: un | D30: 3 | E30: =+'28'!M68 -> 71617 | F30: =ROUND(E30*D30,0) -> 214851
A31: 29 | B31: suministro, transporte e instalacion de collarines de derivacion de 1"1/2" | C31: un | D31: 4 | E31: =+'29'!M68 -> 64500 | F31: =ROUND(E31*D31,0) -> 258000
A32: 30 | B32: suministro, transporte e instalacion de collarines de derivacion de 1" | C32: un | D32: 10 | E32: =+'30'!M68 -> 46623 | F32: =ROUND(E32*D32,0) -> 466230
A33: 31 | B33: Suministro, transporte e instalacion de Acero de refuerzo fy=420 Mpa (Grado 60) para losa de soporte del tanque en fibra de 40m3 | C33: kg | D33: 120 | E33: =+'31'!M68 -> 13168 | F33: =ROUND(E33*D33,0) -> 1580160
A34: 32 | B34: Suministro, transporte e instalacion de Cable galvanizado 1/2" (Tipo BOA 6x19) para los viaductos | C34: ml | D34: 800 | E34: =+'32'!M68 -> 60058 | F34: =ROUND(E34*D34,0) -> 48046400
A35: 33 | B35: suministro, transporte e instalacion Perro Para Guaya 1/2" Pulgadas Galvanizado Toolcraft Tc0961 | C35: un | D35: 40 | E35: =+'33'!M68 -> 54619 | F35: =ROUND(E35*D35,0) -> 2184760
A36: 34 | B36: Suministro, transporte y construcción de pedestales en concreto de 3000 psi para anclaje de cable galvanizado de viaducto, medidas de 0,4x0,4 x 1,2m de profuncidad, incluye varilla de 1/2", alambre, aditivos y demas insumos para su correcto funcionamiento. | C36: Und | D36: 10 | E36: =+'34'!M68 -> 743923 | F36: =ROUND(E36*D36,0) -> 7439230
A37: 35 | B37: suministro, transporte e instalacion de tanque en fibra de vidrio de 30 metros cúbicos, incluye escaleras | C37: un | D37: 1 | E37: =+'35'!M68 -> 31217875 | F37: =ROUND(E37*D37,0) -> 31217875
A38: 36 | B38: Suministro, transporte e instalacion concreto de 3000 psi para base de tanque en fibra de vidrio de 30000 lt. Incluye formaleta en madera ( acero se paga en su ITEM) | C38: m3 | D38: 1.8 | E38: =+'36'!M68 -> 1362855 | F38: =ROUND(E38*D38,0) -> 2453139
A39: 37 | B39: Corte de losa en concreto para habilitar limpieza y lavados del tanque desarenador | C39: un | D39: 1 | E39: =+'37'!M68 -> 436515 | F39: =ROUND(E39*D39,0) -> 436515
A40: 38 | B40: Suministro, transporte y aplicación de impermeabilizante Sikatop 107 seal de 4mm de espesor para losa inferior de desarenador. | C40: m2 | D40: 60 | E40: =+'38'!M68 -> 75825 | F40: =ROUND(E40*D40,0) -> 4549500
...

Sheet 1
B2: MUNICIPIO DE ANORI
B4: SECRETARÍA DE INFRAESTRUCTURA Y SERVICIOS PÚBLICOS
B5: SOLUCIÓN ACUEDUCTO ABASTOS VEREDALES
B6: ANÁLISIS DE PRECIOS UNITARIOS
A9: DATOS ESPECÍFICOS
A11: ITEM | B11: DESCRIPCIÓN | J11: GRUPO AJUSTE | K11: UNIDAD | M11: CANTIDAD
A12: 1 | B12: Campamento o almacenamiento de obra. | J12: =+IFERROR(VLOOKUP(A12,[1]PRESUPUESTO!C:R,2,0),"") | K12: GLB | M12: 1
A14: I. EQUIPO
A16: DESCRIPCIÓN | F16: MARCA | H16: TIPO | J16: TARIFA/HORA | K16: RENDIMIENTO | M16: Vr. UNITARIO
F17: =+IFERROR(VLOOKUP($A17,'[1]I. EQUIPO'!$A:$D,2,FALSE),"") | H17: =+IFERROR(VLOOKUP($A17,'[1]I. EQUIPO'!$A:$D,3,FALSE),"") | J17: =+IFERROR(VLOOKUP($A17,'[1]I. EQUIPO'!$A:$D,4,FALSE),"") | M17: =IFERROR(ROUND(J17/K17,2),"")
F18: =+IFERROR(VLOOKUP($A18,'[1]I. EQUIPO'!$A:$D,2,FALSE),"") | H18: =+IFERROR(VLOOKUP($A18,'[1]I. EQUIPO'!$A:$D,3,FALSE),"") | J18: =+IFERROR(VLOOKUP($A18,'[1]I. EQUIPO'!$A:$D,4,FALSE),"") | M18: =IFERROR(ROUND(J18/K18,2),"")
F19: =+IFERROR(VLOOKUP($A19,'[1]I. EQUIPO'!$A:$D,2,FALSE),"") | H19: =+IFERROR(VLOOKUP($A19,'[1]I. EQUIPO'!$A:$D,3,FALSE),"") | J19: =+IFERROR(VLOOKUP($A19,'[1]I. EQUIPO'!$A:$D,4,FALSE),"") | M19: =IFERROR(ROUND(J19/K19,2),"")
F20: =+IFERROR(VLOOKUP($A20,'[1]I. EQUIPO'!$A:$D,2,FALSE),"") | H20: =+IFERROR(VLOOKUP($A20,'[1]I. EQUIPO'!$A:$D,3,FALSE),"") | J20: =+IFERROR(VLOOKUP($A20,'[1]I. EQUIPO'!$A:$D,4,FALSE),"") | M20: =IFERROR(ROUND(J20/K20,2),"")
F21: =+IFERROR(VLOOKUP($A21,'[1]I. EQUIPO'!$A:$D,2,FALSE),"") | H21: =+IFERROR(VLOOKUP($A21,'[1]I. EQUIPO'!$A:$D,3,FALSE),"") | J21: =+IFERROR(VLOOKUP($A21,'[1]I. EQUIPO'!$A:$D,4,FALSE),"") | M21: =IFERROR(ROUND(J21/K21,2),"")
A22: HERRAMIENTA MENOR (5% MO) | K22: 0.05 | M22: =ROUND(M53*K22,2) -> 891
A23: SUBTOTAL $ | M23: =ROUND(SUM(M17:M22),2) -> 891
A25: II. MATERIALES
A27: DESCRIPCIÓN | I27: UNIDAD | J27: CANTIDAD | K27: PRECIO UNIT. | M27: Vr. UNITARIO
A28: Campamento provisional de obra incluye techo en hoja de zinc, tabala comun, largueros de madera y los demas elementos necesarios para su construccion | I28: glb | J28: 1 | K28: 1550000 | M28: =IFERROR(ROUND(J28*K28,2),"") -> 1550000
I30: =+IFERROR(VLOOKUP($A30,'[1]II. MATERIALES'!$A:$C,2,FALSE),"") | K30: =+IFERROR(VLOOKUP($A30,'[1]II. MATERIALES'!$A:$C,3,FALSE),"") | L30: =+VLOOKUP($A30,'[1]II. MATERIALES'!$A:$C,2,FALSE) -> #N/A | M30: =IFERROR(ROUND(J30*K30,2),"")
I31: =+IFERROR(VLOOKUP($A31,'[1]II. MATERIALES'!$A:$C,2,FALSE),"") | K31: =+IFERROR(VLOOKUP($A31,'[1]II. MATERIALES'!$A:$C,3,FALSE),"") | L31: =+VLOOKUP($A31,'[1]II. MATERIALES'!$A:$C,2,FALSE) -> #N/A | M31: =IFERROR(ROUND(J31*K31,2),"")
I32: =+IFERROR(VLOOKUP($A32,'[1]II. MATERIALES'!$A:$C,2,FALSE),"") | K32: =+IFERROR(VLOOKUP($A32,'[1]II. MATERIALES'!$A:$C,3,FALSE),"") | L32: =+VLOOKUP($A32,'[1]II. MATERIALES'!$A:$C,2,FALSE) -> #N/A | M32: =IFERROR(ROUND(J32*K32,2),"")
A33: SUBTOTAL $ | M33: =ROUND(SUM(M28:M32),2) -> 1550000
A35: III. TRANSPORTES
A37: MATERIAL | H37: VOL. o PESO | I37: DISTANCIA | J37: M3 o Ton/Km | K37: TARIFA | M37: Vr. UNITARIO
J38: =I38*H38 -> 0 | K38: =+IFERROR(VLOOKUP($A38,'[1]III. TRANSPORTES'!$A:$B,2,FALSE),"") | M38: =IFERROR(ROUND(J38*K38,2),"")
K39: =+IFERROR(VLOOKUP($A39,'[1]III. TRANSPORTES'!$A:$B,2,FALSE),"") | M39: =IFERROR(ROUND(J39*K39,2),"")
K40: =+IFERROR(VLOOKUP($A40,'[1]III. TRANSPORTES'!$A:$B,2,FALSE),"") | M40: =IFERROR(ROUND(J40*K40,2),"")
K41: =+IFERROR(VLOOKUP($A41,'[1]III. TRANSPORTES'!$A:$B,2,FALSE),"") | M41: =IFERROR(ROUND(J41*K41,2),"")
K42: =+IFERROR(VLOOKUP($A42,'[1]III. TRANSPORTES'!$A:$B,2,FALSE),"") | M42: =IFERROR(ROUND(J42*K42,2),"")
A43: SUBTOTAL $ | M43: =ROUND(SUM(M38:M42),2) -> 0
A45: IV. MANO DE OBRA
A47: TRABAJADOR | H47: JORNAL | I47: PRESTACIONES | J47: JORNAL TOTAL | K47: RENDIMIENTO | M47: Vr. UNITARIO
A48: OFICIAL (1) | H48: 165000 | I48: 0.62 | J48: =+IFERROR(ROUND(H48*(1+I48),0),"") -> 267300 | K48: 15 | M48: =IFERROR(ROUND(1/K48*J48,2),"") -> 17820
H49: =+IFERROR(VLOOKUP($A49,'[1]IV. MANO DE OBRA'!$A:$D,2,FALSE),"") | I49: =+IFERROR(VLOOKUP($A49,'[1]IV. MANO DE OBRA'!$A:$D,3,FALSE),"") | J49: =+IFERROR(ROUND(H49*(1+I49),0),"") | M49: =IFERROR(ROUND(1/K49*J49,2),"")
H50: =+IFERROR(VLOOKUP($A50,'[1]IV. MANO DE OBRA'!$A:$D,2,FALSE),"") | I50: =+IFERROR(VLOOKUP($A50,'[1]IV. MANO DE OBRA'!$A:$D,3,FALSE),"") | J50: =+IFERROR(ROUND(H50*(1+I50),0),"") | M50: =IFERROR(ROUND(1/K50*J50,2),"")
H51: =+IFERROR(VLOOKUP($A51,'[1]IV. MANO DE OBRA'!$A:$D,2,FALSE),"") | I51: =+IFERROR(VLOOKUP($A51,'[1]IV. MANO DE OBRA'!$A:$D,3,FALSE),"") | J51: =+IFERROR(ROUND(H51*(1+I51),0),"") | M51: =IFERROR(ROUND(1/K51*J51,2),"")
H52: =+IFERROR(VLOOKUP($A52,'[1]IV. MANO DE OBRA'!$A:$D,2,FALSE),"") | I52: =+IFERROR(VLOOKUP($A52,'[1]IV. MANO DE OBRA'!$A:$D,3,FALSE),"") | J52: =+IFERROR(ROUND(H52*(1+I52),0),"") | M52: =IFERROR(ROUND(1/K52*J52,2),"")
A53: SUBTOTAL $ | M53: =ROUND(SUM(M48:M52),2) -> 17820
A55: TOTAL COSTO DIRECTO $ | M55: =ROUND(M53+M43+M33+M23,2) -> 1568711
...

Sheet 2
B2: MUNICIPIO DE ANORI
B4: SECRETARÍA DE INFRAESTRUCTURA Y SERVICIOS PÚBLICOS
B5: SOLUCIÓN ACUEDUCTO ABASTOS VEREDALES
B6: ANÁLISIS DE PRECIOS UNITARIOS
A10: CONTRATO No. | J10: FECHA
A11: OBJETO DEL CONTRATO
A14: CONTRATISTA
A16: INTERVENTOR
A18: SUPERVISOR DEL CONTRATO
A20: FECHA CIERRE DE LICITACIÓN
A22: DATOS ESPECÍFICOS
A24: ITEM | B24: DESCRIPCIÓN | J24: GRUPO AJUSTE | K24: UNIDAD | M24: CANTIDAD
A25: 2 | B25: Localización, trazado y replanteo de tubería de redes de Distribución incluye comision topografica | J25: =+IFERROR(VLOOKUP(A25,[1]PRESUPUESTO!C:R,2,0),"") | K25: ML | M25: 4000
A27: I. EQUIPO
A29: DESCRIPCIÓN | F29: MARCA | H29: TIPO | J29: TARIFA/HORA | K29: RENDIMIENTO | M29: Vr. UNITARIO
A30: EQUIPO DE TOPOGRAFIA | J30: 23400 | K30: 2000 | M30: =IFERROR(ROUND(J30/K30,2),"") -> 11.7
A31: ESTACION | J31: 29200 | K31: =+K30 -> 2000 | M31: =IFERROR(ROUND(J31/K31,2),"") -> 14.6
F32: =+IFERROR(VLOOKUP($A32,'[1]I. EQUIPO'!$A:$D,2,FALSE),"") | H32: =+IFERROR(VLOOKUP($A32,'[1]I. EQUIPO'!$A:$D,3,FALSE),"") | J32: =+IFERROR(VLOOKUP($A32,'[1]I. EQUIPO'!$A:$D,4,FALSE),"") | M32: =IFERROR(ROUND(J32/K32,2),"")
F33: =+IFERROR(VLOOKUP($A33,'[1]I. EQUIPO'!$A:$D,2,FALSE),"") | H33: =+IFERROR(VLOOKUP($A33,'[1]I. EQUIPO'!$A:$D,3,FALSE),"") | J33: =+IFERROR(VLOOKUP($A33,'[1]I. EQUIPO'!$A:$D,4,FALSE),"") | M33: =IFERROR(ROUND(J33/K33,2),"")
F34: =+IFERROR(VLOOKUP($A34,'[1]I. EQUIPO'!$A:$D,2,FALSE),"") | H34: =+IFERROR(VLOOKUP($A34,'[1]I. EQUIPO'!$A:$D,3,FALSE),"") | J34: =+IFERROR(VLOOKUP($A34,'[1]I. EQUIPO'!$A:$D,4,FALSE),"") | M34: =IFERROR(ROUND(J34/K34,2),"")
A35: HERRAMIENTA MENOR (5% MO) | K35: 0.05 | M35: =ROUND(M66*K35,2) -> 10.97
A36: SUBTOTAL $ | M36: =ROUND(SUM(M30:M35),2) -> 37.27
A38: II. MATERIALES
A40: DESCRIPCIÓN | I40: UNIDAD | J40: CANTIDAD | K40: PRECIO UNIT. | M40: Vr. UNITARIO
A41: ESTACAS, PINTURA, TACHUELAS, HILO | I41: =+IFERROR(VLOOKUP($A41,'[1]II. MATERIALES'!$A:$C,2,FALSE),"") -> GL | J41: 0.5 | K41: 3200 | L41: =+VLOOKUP($A41,'[1]II. MATERIALES'!$A:$C,2,FALSE) -> GL | M41: =IFERROR(ROUND(J41*K41,2),"") -> 1600
I42: =+IFERROR(VLOOKUP($A42,'[1]II. MATERIALES'!$A:$C,2,FALSE),"") | K42: =+IFERROR(VLOOKUP($A42,'[1]II. MATERIALES'!$A:$C,3,FALSE),"") | L42: =+VLOOKUP($A42,'[1]II. MATERIALES'!$A:$C,2,FALSE) -> #N/A | M42: =IFERROR(ROUND(J42*K42,2),"")
I43: =+IFERROR(VLOOKUP($A43,'[1]II. MATERIALES'!$A:$C,2,FALSE),"") | K43: =+IFERROR(VLOOKUP($A43,'[1]II. MATERIALES'!$A:$C,3,FALSE),"") | L43: =+VLOOKUP($A43,'[1]II. MATERIALES'!$A:$C,2,FALSE) -> #N/A | M43: =IFERROR(ROUND(J43*K43,2),"")
I44: =+IFERROR(VLOOKUP($A44,'[1]II. MATERIALES'!$A:$C,2,FALSE),"") | K44: =+IFERROR(VLOOKUP($A44,'[1]II. MATERIALES'!$A:$C,3,FALSE),"") | L44: =+VLOOKUP($A44,'[1]II. MATERIALES'!$A:$C,2,FALSE) -> #N/A | M44: =IFERROR(ROUND(J44*K44,2),"")
I45: =+IFERROR(VLOOKUP($A45,'[1]II. MATERIALES'!$A:$C,2,FALSE),"") | K45: =+IFERROR(VLOOKUP($A45,'[1]II. MATERIALES'!$A:$C,3,FALSE),"") | L45: =+VLOOKUP($A45,'[1]II. MATERIALES'!$A:$C,2,FALSE) -> #N/A | M45: =IFERROR(ROUND(J45*K45,2),"")
A46: SUBTOTAL $ | M46: =ROUND(SUM(M41:M45),2) -> 1600
A48: III. TRANSPORTES
A50: MATERIAL | H50: VOL. o PESO | I50: DISTANCIA | J50: M3 o Ton/Km | K50: TARIFA | M50: Vr. UNITARIO
J51: =I51*H51 -> 0 | K51: =+IFERROR(VLOOKUP($A51,'[1]III. TRANSPORTES'!$A:$B,2,FALSE),"") | M51: =IFERROR(ROUND(J51*K51,2),"")
K52: =+IFERROR(VLOOKUP($A52,'[1]III. TRANSPORTES'!$A:$B,2,FALSE),"") | M52: =IFERROR(ROUND(J52*K52,2),"")
K53: =+IFERROR(VLOOKUP($A53,'[1]III. TRANSPORTES'!$A:$B,2,FALSE),"") | M53: =IFERROR(ROUND(J53*K53,2),"")
K54: =+IFERROR(VLOOKUP($A54,'[1]III. TRANSPORTES'!$A:$B,2,FALSE),"") | M54: =IFERROR(ROUND(J54*K54,2),"")
K55: =+IFERROR(VLOOKUP($A55,'[1]III. TRANSPORTES'!$A:$B,2,FALSE),"") | M55: =IFERROR(ROUND(J55*K55,2),"")
A56: SUBTOTAL $ | M56: =ROUND(SUM(M51:M55),2) -> 0
A58: IV. MANO DE OBRA
A60: TRABAJADOR | H60: JORNAL | I60: PRESTACIONES | J60: JORNAL TOTAL | K60: RENDIMIENTO | M60: Vr. UNITARIO
...

Sheet 3
B2: MUNICIPIO DE ANORI
B4: SECRETARÍA DE INFRAESTRUCTURA Y SERVICIOS PÚBLICOS
B5: SOLUCIÓN ACUEDUCTO ABASTOS VEREDALES
B6: ANÁLISIS DE PRECIOS UNITARIOS
A10: CONTRATO No. | J10: FECHA
A11: OBJETO DEL CONTRATO
A14: CONTRATISTA
A16: INTERVENTOR
A18: SUPERVISOR DEL CONTRATO
A20: FECHA CIERRE DE LICITACIÓN
A22: DATOS ESPECÍFICOS
A24: ITEM | B24: DESCRIPCIÓN | J24: GRUPO AJUSTE | K24: UNIDAD | M24: CANTIDAD
A25: 3 | B25: Excavación manual de 0,00 a 2,00m en material comun | J25: =+IFERROR(VLOOKUP(A25,[1]PRESUPUESTO!C:R,2,0),"") | K25: m3 | M25: 315
A27: I. EQUIPO
A29: DESCRIPCIÓN | F29: MARCA | H29: TIPO | J29: TARIFA/HORA | K29: RENDIMIENTO | M29: Vr. UNITARIO
F30: =+IFERROR(VLOOKUP($A30,'[1]I. EQUIPO'!$A:$D,2,FALSE),"") | H30: =+IFERROR(VLOOKUP($A30,'[1]I. EQUIPO'!$A:$D,3,FALSE),"") | J30: =+IFERROR(VLOOKUP($A30,'[1]I. EQUIPO'!$A:$D,4,FALSE),"") | M30: =IFERROR(ROUND(J30/K30,2),"")
F31: =+IFERROR(VLOOKUP($A31,'[1]I. EQUIPO'!$A:$D,2,FALSE),"") | H31: =+IFERROR(VLOOKUP($A31,'[1]I. EQUIPO'!$A:$D,3,FALSE),"") | J31: =+IFERROR(VLOOKUP($A31,'[1]I. EQUIPO'!$A:$D,4,FALSE),"") | M31: =IFERROR(ROUND(J31/K31,2),"")
F32: =+IFERROR(VLOOKUP($A32,'[1]I. EQUIPO'!$A:$D,2,FALSE),"") | H32: =+IFERROR(VLOOKUP($A32,'[1]I. EQUIPO'!$A:$D,3,FALSE),"") | J32: =+IFERROR(VLOOKUP($A32,'[1]I. EQUIPO'!$A:$D,4,FALSE),"") | M32: =IFERROR(ROUND(J32/K32,2),"")
F33: =+IFERROR(VLOOKUP($A33,'[1]I. EQUIPO'!$A:$D,2,FALSE),"") | H33: =+IFERROR(VLOOKUP($A33,'[1]I. EQUIPO'!$A:$D,3,FALSE),"") | J33: =+IFERROR(VLOOKUP($A33,'[1]I. EQUIPO'!$A:$D,4,FALSE),"") | M33: =IFERROR(ROUND(J33/K33,2),"")
B34: =B32+1 -> 1 | F34: =+IFERROR(VLOOKUP($A34,'[1]I. EQUIPO'!$A:$D,2,FALSE),"") | H34: =+IFERROR(VLOOKUP($A34,'[1]I. EQUIPO'!$A:$D,3,FALSE),"") | J34: =+IFERROR(VLOOKUP($A34,'[1]I. EQUIPO'!$A:$D,4,FALSE),"") | M34: =IFERROR(ROUND(J34/K34,2),"")
A35: HERRAMIENTA MENOR (5% MO) | K35: 0.05 | M35: =ROUND(M66*K35,2) -> 1518.75
A36: SUBTOTAL $ | M36: =ROUND(SUM(M30:M35),2) -> 1518.75
A38: II. MATERIALES
A40: DESCRIPCIÓN | I40: UNIDAD | J40: CANTIDAD | K40: PRECIO UNIT. | M40: Vr. UNITARIO
I41: =+IFERROR(VLOOKUP($A41,'[1]II. MATERIALES'!$A:$C,2,FALSE),"") | K41: =+IFERROR(VLOOKUP($A41,'[1]II. MATERIALES'!$A:$C,3,FALSE),"") | L41: =+VLOOKUP($A41,'[1]II. MATERIALES'!$A:$C,2,FALSE) -> #N/A | M41: =IFERROR(ROUND(J41*K41,2),"")
I42: =+IFERROR(VLOOKUP($A42,'[1]II. MATERIALES'!$A:$C,2,FALSE),"") | K42: =+IFERROR(VLOOKUP($A42,'[1]II. MATERIALES'!$A:$C,3,FALSE),"") | L42: =+VLOOKUP($A42,'[1]II. MATERIALES'!$A:$C,2,FALSE) -> #N/A | M42: =IFERROR(ROUND(J42*K42,2),"")
I43: =+IFERROR(VLOOKUP($A43,'[1]II. MATERIALES'!$A:$C,2,FALSE),"") | K43: =+IFERROR(VLOOKUP($A43,'[1]II. MATERIALES'!$A:$C,3,FALSE),"") | L43: =+VLOOKUP($A43,'[1]II. MATERIALES'!$A:$C,2,FALSE) -> #N/A | M43: =IFERROR(ROUND(J43*K43,2),"")
I44: =+IFERROR(VLOOKUP($A44,'[1]II. MATERIALES'!$A:$C,2,FALSE),"") | K44: =+IFERROR(VLOOKUP($A44,'[1]II. MATERIALES'!$A:$C,3,FALSE),"") | L44: =+VLOOKUP($A44,'[1]II. MATERIALES'!$A:$C,2,FALSE) -> #N/A | M44: =IFERROR(ROUND(J44*K44,2),"")
I45: =+IFERROR(VLOOKUP($A45,'[1]II. MATERIALES'!$A:$C,2,FALSE),"") | K45: =+IFERROR(VLOOKUP($A45,'[1]II. MATERIALES'!$A:$C,3,FALSE),"") | L45: =+VLOOKUP($A45,'[1]II. MATERIALES'!$A:$C,2,FALSE) -> #N/A | M45: =IFERROR(ROUND(J45*K45,2),"")
A46: SUBTOTAL $ | M46: =ROUND(SUM(M41:M45),2) -> 0
A48: III. TRANSPORTES
A50: MATERIAL | H50: VOL. o PESO | I50: DISTANCIA | J50: M3 o Ton/Km | K50: TARIFA | M50: Vr. UNITARIO
A51: TRANSPORTE DEL MATERIAL | H51: 0.07 | I51: 40 | J51: =I51*H51 -> 2.8 | K51: 3500 | M51: =IFERROR(ROUND(J51*K51,2),"") -> 9800
K52: =+IFERROR(VLOOKUP($A52,'[1]III. TRANSPORTES'!$A:$B,6,FALSE),"") | M52: =IFERROR(ROUND(J52*K52,2),"")
K53: =+IFERROR(VLOOKUP($A53,'[1]III. TRANSPORTES'!$A:$B,6,FALSE),"") | M53: =IFERROR(ROUND(J53*K53,2),"")
K54: =+IFERROR(VLOOKUP($A54,'[1]III. TRANSPORTES'!$A:$B,6,FALSE),"") | M54: =IFERROR(ROUND(J54*K54,2),"")
K55: =+IFERROR(VLOOKUP($A55,'[1]III. TRANSPORTES'!$A:$B,6,FALSE),"") | M55: =IFERROR(ROUND(J55*K55,2),"")
A56: SUBTOTAL $ | M56: =ROUND(SUM(M51:M55),2) -> 9800
A58: IV. MANO DE OBRA
A60: TRABAJADOR | H60: JORNAL | I60: PRESTACIONES | J60: JORNAL TOTAL | K60: RENDIMIENTO | M60: Vr. UNITARIO
...

Sheet 4
B2: MUNICIPIO DE ANORI
B4: SECRETARÍA DE INFRAESTRUCTURA Y SERVICIOS PÚBLICOS
B5: SOLUCIÓN ACUEDUCTO ABASTOS VEREDALES
B6: ANÁLISIS DE PRECIOS UNITARIOS
A10: CONTRATO No. | J10: FECHA
A11: OBJETO DEL CONTRATO
A14: CONTRATISTA
A16: INTERVENTOR
A18: SUPERVISOR DEL CONTRATO
A20: FECHA CIERRE DE LICITACIÓN
A22: DATOS ESPECÍFICOS
A24: ITEM | B24: DESCRIPCIÓN | J24: GRUPO AJUSTE | K24: UNIDAD | M24: CANTIDAD
A25: 4 | B25: Perforaciones de concreto de bocatoma y desarenador para la instalaciones de la tuberia de aduccion de 2" | J25: =+IFERROR(VLOOKUP(A25,[1]PRESUPUESTO!C:R,2,0),"") | K25: UNIDAD | M25: 10
A27: I. EQUIPO
A29: DESCRIPCIÓN | F29: MARCA | H29: TIPO | J29: TARIFA/HORA | K29: RENDIMIENTO | M29: Vr. UNITARIO
A30: Taladro de Corona diamantada | F30: =+IFERROR(VLOOKUP($A30,'[1]I. EQUIPO'!$A:$D,2,FALSE),"") | H30: =+IFERROR(VLOOKUP($A30,'[1]I. EQUIPO'!$A:$D,3,FALSE),"") | J30: 64800 | K30: =1/0.15 -> 6.6666667 | M30: =IFERROR(ROUND(J30/K30,2),"") -> 9720
F31: =+IFERROR(VLOOKUP($A31,'[1]I. EQUIPO'!$A:$D,2,FALSE),"") | H31: =+IFERROR(VLOOKUP($A31,'[1]I. EQUIPO'!$A:$D,3,FALSE),"") | J31: =+IFERROR(VLOOKUP($A31,'[1]I. EQUIPO'!$A:$D,4,FALSE),"") | M31: =IFERROR(ROUND(J31/K31,2),"")
F32: =+IFERROR(VLOOKUP($A32,'[1]I. EQUIPO'!$A:$D,2,FALSE),"") | H32: =+IFERROR(VLOOKUP($A32,'[1]I. EQUIPO'!$A:$D,3,FALSE),"") | J32: =+IFERROR(VLOOKUP($A32,'[1]I. EQUIPO'!$A:$D,4,FALSE),"") | M32: =IFERROR(ROUND(J32/K32,2),"")
F33: =+IFERROR(VLOOKUP($A33,'[1]I. EQUIPO'!$A:$D,2,FALSE),"") | H33: =+IFERROR(VLOOKUP($A33,'[1]I. EQUIPO'!$A:$D,3,FALSE),"") | J33: =+IFERROR(VLOOKUP($A33,'[1]I. EQUIPO'!$A:$D,4,FALSE),"") | M33: =IFERROR(ROUND(J33/K33,2),"")
B34: =B32+1 -> 1 | F34: =+IFERROR(VLOOKUP($A34,'[1]I. EQUIPO'!$A:$D,2,FALSE),"") | H34: =+IFERROR(VLOOKUP($A34,'[1]I. EQUIPO'!$A:$D,3,FALSE),"") | J34: =+IFERROR(VLOOKUP($A34,'[1]I. EQUIPO'!$A:$D,4,FALSE),"") | M34: =IFERROR(ROUND(J34/K34,2),"")
A35: HERRAMIENTA MENOR (5% MO) | K35: 0.05 | M35: =ROUND(M66*K35,2) -> 5391.1
A36: SUBTOTAL $ | M36: =ROUND(SUM(M30:M35),2) -> 15111.1
A38: II. MATERIALES
A40: DESCRIPCIÓN | I40: UNIDAD | J40: CANTIDAD | K40: PRECIO UNIT. | M40: Vr. UNITARIO
I41: =+IFERROR(VLOOKUP($A41,'[1]II. MATERIALES'!$A:$C,2,FALSE),"") | K41: =+IFERROR(VLOOKUP($A41,'[1]II. MATERIALES'!$A:$C,3,FALSE),"") | L41: =+VLOOKUP($A41,'[1]II. MATERIALES'!$A:$C,2,FALSE) -> #N/A | M41: =IFERROR(ROUND(J41*K41,2),"")
I42: =+IFERROR(VLOOKUP($A42,'[1]II. MATERIALES'!$A:$C,2,FALSE),"") | K42: =+IFERROR(VLOOKUP($A42,'[1]II. MATERIALES'!$A:$C,3,FALSE),"") | L42: =+VLOOKUP($A42,'[1]II. MATERIALES'!$A:$C,2,FALSE) -> #N/A | M42: =IFERROR(ROUND(J42*K42,2),"")
I43: =+IFERROR(VLOOKUP($A43,'[1]II. MATERIALES'!$A:$C,2,FALSE),"") | K43: =+IFERROR(VLOOKUP($A43,'[1]II. MATERIALES'!$A:$C,3,FALSE),"") | L43: =+VLOOKUP($A43,'[1]II. MATERIALES'!$A:$C,2,FALSE) -> #N/A | M43: =IFERROR(ROUND(J43*K43,2),"")
I44: =+IFERROR(VLOOKUP($A44,'[1]II. MATERIALES'!$A:$C,2,FALSE),"") | K44: =+IFERROR(VLOOKUP($A44,'[1]II. MATERIALES'!$A:$C,3,FALSE),"") | L44: =+VLOOKUP($A44,'[1]II. MATERIALES'!$A:$C,2,FALSE) -> #N/A | M44: =IFERROR(ROUND(J44*K44,2),"")
I45: =+IFERROR(VLOOKUP($A45,'[1]II. MATERIALES'!$A:$C,2,FALSE),"") | K45: =+IFERROR(VLOOKUP($A45,'[1]II. MATERIALES'!$A:$C,3,FALSE),"") | L45: =+VLOOKUP($A45,'[1]II. MATERIALES'!$A:$C,2,FALSE) -> #N/A | M45: =IFERROR(ROUND(J45*K45,2),"")
A46: SUBTOTAL $ | M46: =ROUND(SUM(M41:M45),2) -> 0
A48: III. TRANSPORTES
A50: MATERIAL | H50: VOL. o PESO | I50: DISTANCIA | J50: M3 o Ton/Km | K50: TARIFA | M50: Vr. UNITARIO
A51: TRANSPORTE DEL MATERIAL | H51: 0.07 | I51: 40 | J51: =I51*H51 -> 2.8 | K51: 3500 | M51: =IFERROR(ROUND(J51*K51,2),"") -> 9800
K52: =+IFERROR(VLOOKUP($A52,'[1]III. TRANSPORTES'!$A:$B,6,FALSE),"") | M52: =IFERROR(ROUND(J52*K52,2),"")
K53: =+IFERROR(VLOOKUP($A53,'[1]III. TRANSPORTES'!$A:$B,6,FALSE),"") | M53: =IFERROR(ROUND(J53*K53,2),"")
K54: =+IFERROR(VLOOKUP($A54,'[1]III. TRANSPORTES'!$A:$B,6,FALSE),"") | M54: =IFERROR(ROUND(J54*K54,2),"")
K55: =+IFERROR(VLOOKUP($A55,'[1]III. TRANSPORTES'!$A:$B,6,FALSE),"") | M55: =IFERROR(ROUND(J55*K55,2),"")
A56: SUBTOTAL $ | M56: =ROUND(SUM(M51:M55),2) -> 9800
A58: IV. MANO DE OBRA
A60: TRABAJADOR | H60: JORNAL | I60: PRESTACIONES | J60: JORNAL TOTAL | K60: RENDIMIENTO | M60: Vr. UNITARIO
...

Sheet 5
B2: MUNICIPIO DE ANORI
B4: SECRETARÍA DE INFRAESTRUCTURA Y SERVICIOS PÚBLICOS
B5: SOLUCIÓN ACUEDUCTO Y ALCANTARILLADO ABASTOS VEREDALES
B6: ANÁLISIS DE PRECIOS UNITARIOS
A10: CONTRATO No. | J10: FECHA
A11: OBJETO DEL CONTRATO
A14: CONTRATISTA
A16: INTERVENTOR
A18: SUPERVISOR DEL CONTRATO
A20: FECHA CIERRE DE LICITACIÓN
A22: DATOS ESPECÍFICOS
A24: ITEM | B24: DESCRIPCIÓN | J24: GRUPO AJUSTE | K24: UNIDAD | M24: CANTIDAD
A25: 5 | B25: Demolicion de losa del desarenador y bocatoma | J25: =+IFERROR(VLOOKUP(A25,[1]PRESUPUESTO!C:R,2,0),"") | K25: UNIDAD | M25: 1
A27: I. EQUIPO
A29: DESCRIPCIÓN | F29: MARCA | H29: TIPO | J29: TARIFA/HORA | K29: RENDIMIENTO | M29: Vr. UNITARIO
A30: Cortadora de concreto | F30: =+IFERROR(VLOOKUP(#REF!,'[1]I. EQUIPO'!$A:$D,2,FALSE),"") | H30: =+IFERROR(VLOOKUP(#REF!,'[1]I. EQUIPO'!$A:$D,3,FALSE),"") | J30: 70200 | K30: 0.25 | M30: =IFERROR(ROUND(J30/K30,2),"") -> 280800
A31: Compresor Neumático con martillo demoledor o perforador en superficie, punta, combustible mas tranporte | F31: =+IFERROR(VLOOKUP(#REF!,'[1]I. EQUIPO'!$A:$D,2,FALSE),"") | H31: =+IFERROR(VLOOKUP(#REF!,'[1]I. EQUIPO'!$A:$D,3,FALSE),"") | J31: 129600 | K31: 0.25 | M31: =IFERROR(ROUND(J31/K31,2),"") -> 518400
F32: =+IFERROR(VLOOKUP($A32,'[1]I. EQUIPO'!$A:$D,2,FALSE),"") | H32: =+IFERROR(VLOOKUP($A32,'[1]I. EQUIPO'!$A:$D,3,FALSE),"") | J32: =+IFERROR(VLOOKUP($A32,'[1]I. EQUIPO'!$A:$D,4,FALSE),"") | M32: =IFERROR(ROUND(J32/K32,2),"")
F33: =+IFERROR(VLOOKUP($A33,'[1]I. EQUIPO'!$A:$D,2,FALSE),"") | H33: =+IFERROR(VLOOKUP($A33,'[1]I. EQUIPO'!$A:$D,3,FALSE),"") | J33: =+IFERROR(VLOOKUP($A33,'[1]I. EQUIPO'!$A:$D,4,FALSE),"") | M33: =IFERROR(ROUND(J33/K33,2),"")
B34: =B32+1 -> 1 | F34: =+IFERROR(VLOOKUP($A34,'[1]I. EQUIPO'!$A:$D,2,FALSE),"") | H34: =+IFERROR(VLOOKUP($A34,'[1]I. EQUIPO'!$A:$D,3,FALSE),"") | J34: =+IFERROR(VLOOKUP($A34,'[1]I. EQUIPO'!$A:$D,4,FALSE),"") | M34: =IFERROR(ROUND(J34/K34,2),"")
A35: HERRAMIENTA MENOR (5% MO) | K35: 0.05 | M35: =ROUND(M66*K35,2) -> 66303.24
A36: SUBTOTAL $ | M36: =ROUND(SUM(M30:M35),2) -> 865503.24
A38: II. MATERIALES
A40: DESCRIPCIÓN | I40: UNIDAD | J40: CANTIDAD | K40: PRECIO UNIT. | M40: Vr. UNITARIO
I41: =+IFERROR(VLOOKUP($A41,'[1]II. MATERIALES'!$A:$C,2,FALSE),"") | K41: =+IFERROR(VLOOKUP($A41,'[1]II. MATERIALES'!$A:$C,3,FALSE),"") | L41: =+VLOOKUP($A41,'[1]II. MATERIALES'!$A:$C,2,FALSE) -> #N/A | M41: =IFERROR(ROUND(J41*K41,2),"")
I42: =+IFERROR(VLOOKUP($A42,'[1]II. MATERIALES'!$A:$C,2,FALSE),"") | K42: =+IFERROR(VLOOKUP($A42,'[1]II. MATERIALES'!$A:$C,3,FALSE),"") | L42: =+VLOOKUP($A42,'[1]II. MATERIALES'!$A:$C,2,FALSE) -> #N/A | M42: =IFERROR(ROUND(J42*K42,2),"")
I43: =+IFERROR(VLOOKUP($A43,'[1]II. MATERIALES'!$A:$C,2,FALSE),"") | K43: =+IFERROR(VLOOKUP($A43,'[1]II. MATERIALES'!$A:$C,3,FALSE),"") | L43: =+VLOOKUP($A43,'[1]II. MATERIALES'!$A:$C,2,FALSE) -> #N/A | M43: =IFERROR(ROUND(J43*K43,2),"")
I44: =+IFERROR(VLOOKUP($A44,'[1]II. MATERIALES'!$A:$C,2,FALSE),"") | K44: =+IFERROR(VLOOKUP($A44,'[1]II. MATERIALES'!$A:$C,3,FALSE),"") | L44: =+VLOOKUP($A44,'[1]II. MATERIALES'!$A:$C,2,FALSE) -> #N/A | M44: =IFERROR(ROUND(J44*K44,2),"")
I45: =+IFERROR(VLOOKUP($A45,'[1]II. MATERIALES'!$A:$C,2,FALSE),"") | K45: =+IFERROR(VLOOKUP($A45,'[1]II. MATERIALES'!$A:$C,3,FALSE),"") | L45: =+VLOOKUP($A45,'[1]II. MATERIALES'!$A:$C,2,FALSE) -> #N/A | M45: =IFERROR(ROUND(J45*K45,2),"")
A46: SUBTOTAL $ | M46: =ROUND(SUM(M41:M45),2) -> 0
A48: III. TRANSPORTES
A50: MATERIAL | H50: VOL. o PESO | I50: DISTANCIA | J50: M3 o Ton/Km | K50: TARIFA | M50: Vr. UNITARIO
A51: TRANSPORTE DEL MATERIAL | H51: 0.07 | I51: 40 | J51: =I51*H51 -> 2.8 | K51: 3500 | M51: =IFERROR(ROUND(J51*K51,2),"") -> 9800
K52: =+IFERROR(VLOOKUP($A52,'[1]III. TRANSPORTES'!$A:$B,6,FALSE),"") | M52: =IFERROR(ROUND(J52*K52,2),"")
K53: =+IFERROR(VLOOKUP($A53,'[1]III. TRANSPORTES'!$A:$B,6,FALSE),"") | M53: =IFERROR(ROUND(J53*K53,2),"")
K54: =+IFERROR(VLOOKUP($A54,'[1]III. TRANSPORTES'!$A:$B,6,FALSE),"") | M54: =IFERROR(ROUND(J54*K54,2),"")
K55: =+IFERROR(VLOOKUP($A55,'[1]III. TRANSPORTES'!$A:$B,6,FALSE),"") | M55: =IFERROR(ROUND(J55*K55,2),"")
A56: SUBTOTAL $ | M56: =ROUND(SUM(M51:M55),2) -> 9800
A58: IV. MANO DE OBRA
A60: TRABAJADOR | H60: JORNAL | I60: PRESTACIONES | J60: JORNAL TOTAL | K60: RENDIMIENTO | M60: Vr. UNITARIO
...

Sheet 6
B2: MUNICIPIO DE ANORI
B4: SECRETARÍA DE INFRAESTRUCTURA Y SERVICIOS PÚBLICOS
B5: SOLUCIÓN ACUEDUCTO ABASTOS VEREDALES
B6: ANÁLISIS DE PRECIOS UNITARIOS
A10: CONTRATO No. | J10: FECHA
A11: OBJETO DEL CONTRATO
A14: CONTRATISTA
A16: INTERVENTOR
A18: SUPERVISOR DEL CONTRATO
A20: FECHA CIERRE DE LICITACIÓN
A22: DATOS ESPECÍFICOS
A24: ITEM | B24: DESCRIPCIÓN | J24: GRUPO AJUSTE | K24: UNIDAD | M24: CANTIDAD
A25: 6 | B25: Lleno con material comun de la zona | J25: =+IFERROR(VLOOKUP(A25,[1]PRESUPUESTO!C:R,2,0),"") | K25: m3 | M25: 10
A27: I. EQUIPO
A29: DESCRIPCIÓN | F29: MARCA | H29: TIPO | J29: TARIFA/HORA | K29: RENDIMIENTO | M29: Vr. UNITARIO
A30: COMPACTADOR DE PLACA - CANGURO MAS TRASPORTE | F30: =+IFERROR(VLOOKUP($A30,'[1]I. EQUIPO'!$A:$D,2,FALSE),"") | H30: =+IFERROR(VLOOKUP($A30,'[1]I. EQUIPO'!$A:$D,3,FALSE),"") | J30: 70000 | K30: 5 | M30: =IFERROR(ROUND(J30/K30,2),"") -> 14000
F31: =+IFERROR(VLOOKUP($A31,'[1]I. EQUIPO'!$A:$D,2,FALSE),"") | H31: =+IFERROR(VLOOKUP($A31,'[1]I. EQUIPO'!$A:$D,3,FALSE),"") | J31: =+IFERROR(VLOOKUP($A31,'[1]I. EQUIPO'!$A:$D,4,FALSE),"") | M31: =IFERROR(ROUND(J31/K31,2),"")
F32: =+IFERROR(VLOOKUP($A32,'[1]I. EQUIPO'!$A:$D,2,FALSE),"") | H32: =+IFERROR(VLOOKUP($A32,'[1]I. EQUIPO'!$A:$D,3,FALSE),"") | J32: =+IFERROR(VLOOKUP($A32,'[1]I. EQUIPO'!$A:$D,4,FALSE),"") | M32: =IFERROR(ROUND(J32/K32,2),"")
F33: =+IFERROR(VLOOKUP($A33,'[1]I. EQUIPO'!$A:$D,2,FALSE),"") | H33: =+IFERROR(VLOOKUP($A33,'[1]I. EQUIPO'!$A:$D,3,FALSE),"") | J33: =+IFERROR(VLOOKUP($A33,'[1]I. EQUIPO'!$A:$D,4,FALSE),"") | M33: =IFERROR(ROUND(J33/K33,2),"")
F34: =+IFERROR(VLOOKUP($A34,'[1]I. EQUIPO'!$A:$D,2,FALSE),"") | H34: =+IFERROR(VLOOKUP($A34,'[1]I. EQUIPO'!$A:$D,3,FALSE),"") | J34: =+IFERROR(VLOOKUP($A34,'[1]I. EQUIPO'!$A:$D,4,FALSE),"") | M34: =IFERROR(ROUND(J34/K34,2),"")
A35: HERRAMIENTA MENOR (5% MO) | K35: 0.05 | M35: =ROUND(M66*K35,2) -> 1928.57
A36: SUBTOTAL $ | M36: =ROUND(SUM(M30:M35),2) -> 15928.57
A38: II. MATERIALES
A40: DESCRIPCIÓN | I40: UNIDAD | J40: CANTIDAD | K40: PRECIO UNIT. | M40: Vr. UNITARIO
I41: =+IFERROR(VLOOKUP($A41,'[1]II. MATERIALES'!$A:$C,2,FALSE),"") | J41: 1.3 | K41: =+IFERROR(VLOOKUP($A41,'[1]II. MATERIALES'!$A:$C,3,FALSE),"") | L41: =+VLOOKUP($A41,'[1]II. MATERIALES'!$A:$C,2,FALSE) -> #N/A | M41: =IFERROR(ROUND(J41*K41,2),"")
I42: =+IFERROR(VLOOKUP($A42,'[1]II. MATERIALES'!$A:$C,2,FALSE),"") | K42: =+IFERROR(VLOOKUP($A42,'[1]II. MATERIALES'!$A:$C,3,FALSE),"") | L42: =+VLOOKUP($A42,'[1]II. MATERIALES'!$A:$C,2,FALSE) -> #N/A | M42: =IFERROR(ROUND(J42*K42,2),"")
I43: =+IFERROR(VLOOKUP($A43,'[1]II. MATERIALES'!$A:$C,2,FALSE),"") | K43: =+IFERROR(VLOOKUP($A43,'[1]II. MATERIALES'!$A:$C,3,FALSE),"") | L43: =+VLOOKUP($A43,'[1]II. MATERIALES'!$A:$C,2,FALSE) -> #N/A | M43: =IFERROR(ROUND(J43*K43,2),"")
I44: =+IFERROR(VLOOKUP($A44,'[1]II. MATERIALES'!$A:$C,2,FALSE),"") | K44: =+IFERROR(VLOOKUP($A44,'[1]II. MATERIALES'!$A:$C,3,FALSE),"") | L44: =+VLOOKUP($A44,'[1]II. MATERIALES'!$A:$C,2,FALSE) -> #N/A | M44: =IFERROR(ROUND(J44*K44,2),"")
I45: =+IFERROR(VLOOKUP($A45,'[1]II. MATERIALES'!$A:$C,2,FALSE),"") | K45: =+IFERROR(VLOOKUP($A45,'[1]II. MATERIALES'!$A:$C,3,FALSE),"") | L45: =+VLOOKUP($A45,'[1]II. MATERIALES'!$A:$C,2,FALSE) -> #N/A | M45: =IFERROR(ROUND(J45*K45,2),"")
A46: SUBTOTAL $ | M46: =ROUND(SUM(M41:M45),2) -> 0
A48: III. TRANSPORTES
A50: MATERIAL | H50: VOL. o PESO | I50: DISTANCIA | J50: M3 o Ton/Km | K50: TARIFA | M50: Vr. UNITARIO
J51: =I51*H51 -> 0 | K51: =+IFERROR(VLOOKUP($A51,'[1]III. TRANSPORTES'!$A:$B,6,FALSE),"") | M51: =IFERROR(ROUND(J51*K51,2),"")
K52: =+IFERROR(VLOOKUP($A52,'[1]III. TRANSPORTES'!$A:$B,6,FALSE),"") | M52: =IFERROR(ROUND(J52*K52,2),"")
K53: =+IFERROR(VLOOKUP($A53,'[1]III. TRANSPORTES'!$A:$B,6,FALSE),"") | M53: =IFERROR(ROUND(J53*K53,2),"")
K54: =+IFERROR(VLOOKUP($A54,'[1]III. TRANSPORTES'!$A:$B,6,FALSE),"") | M54: =IFERROR(ROUND(J54*K54,2),"")
K55: =+IFERROR(VLOOKUP($A55,'[1]III. TRANSPORTES'!$A:$B,6,FALSE),"") | M55: =IFERROR(ROUND(J55*K55,2),"")
A56: SUBTOTAL $ | M56: =ROUND(SUM(M51:M55),2) -> 0
A58: IV. MANO DE OBRA
A60: TRABAJADOR | H60: JORNAL | I60: PRESTACIONES | J60: JORNAL TOTAL | K60: RENDIMIENTO | M60: Vr. UNITARIO
...

Sheet 7
B2: MUNICIPIO DE ANORI
B4: SECRETARÍA DE INFRAESTRUCTURA Y SERVICIOS PÚBLICOS
B5: SOLUCIÓN ACUEDUCTO ABASTOS VEREDALES
B6: ANÁLISIS DE PRECIOS UNITARIOS
A10: CONTRATO No. | J10: FECHA
A11: OBJETO DEL CONTRATO
A14: CONTRATISTA
A16: INTERVENTOR
A18: SUPERVISOR DEL CONTRATO
A20: FECHA CIERRE DE LICITACIÓN
A22: DATOS ESPECÍFICOS
A24: ITEM | B24: DESCRIPCIÓN | J24: GRUPO AJUSTE | K24: UNIDAD | M24: CANTIDAD
A25: 7 | B25: Suministro, transporte e instalacion de ampliacion de rejilla de bocatoma en acero 0,30x1,20 incluye bisagra varilla y angulos | J25: =+IFERROR(VLOOKUP(A25,[1]PRESUPUESTO!C:R,2,0),"") | K25: UNIDAD | M25: 1
A27: I. EQUIPO
A29: DESCRIPCIÓN | F29: MARCA | H29: TIPO | J29: TARIFA/HORA | K29: RENDIMIENTO | M29: Vr. UNITARIO
F30: =+IFERROR(VLOOKUP($A30,'[1]I. EQUIPO'!$A:$D,2,FALSE),"") | H30: =+IFERROR(VLOOKUP($A30,'[1]I. EQUIPO'!$A:$D,3,FALSE),"") | J30: =+IFERROR(VLOOKUP($A30,'[1]I. EQUIPO'!$A:$D,4,FALSE),"") | M30: =IFERROR(ROUND(J30/K30,2),"")
F31: =+IFERROR(VLOOKUP($A31,'[1]I. EQUIPO'!$A:$D,2,FALSE),"") | H31: =+IFERROR(VLOOKUP($A31,'[1]I. EQUIPO'!$A:$D,3,FALSE),"") | J31: =+IFERROR(VLOOKUP($A31,'[1]I. EQUIPO'!$A:$D,4,FALSE),"") | M31: =IFERROR(ROUND(J31/K31,2),"")
F32: =+IFERROR(VLOOKUP($A32,'[1]I. EQUIPO'!$A:$D,2,FALSE),"") | H32: =+IFERROR(VLOOKUP($A32,'[1]I. EQUIPO'!$A:$D,3,FALSE),"") | J32: =+IFERROR(VLOOKUP($A32,'[1]I. EQUIPO'!$A:$D,4,FALSE),"") | M32: =IFERROR(ROUND(J32/K32,2),"")
F33: =+IFERROR(VLOOKUP($A33,'[1]I. EQUIPO'!$A:$D,2,FALSE),"") | H33: =+IFERROR(VLOOKUP($A33,'[1]I. EQUIPO'!$A:$D,3,FALSE),"") | J33: =+IFERROR(VLOOKUP($A33,'[1]I. EQUIPO'!$A:$D,4,FALSE),"") | M33: =IFERROR(ROUND(J33/K33,2),"")
F34: =+IFERROR(VLOOKUP($A34,'[1]I. EQUIPO'!$A:$D,2,FALSE),"") | H34: =+IFERROR(VLOOKUP($A34,'[1]I. EQUIPO'!$A:$D,3,FALSE),"") | J34: =+IFERROR(VLOOKUP($A34,'[1]I. EQUIPO'!$A:$D,4,FALSE),"") | M34: =IFERROR(ROUND(J34/K34,2),"")
A35: HERRAMIENTA MENOR (5% MO) | K35: 0.05 | M35: =ROUND(M66*K35,2) -> 3134.19
A36: SUBTOTAL $ | M36: =ROUND(SUM(M30:M35),2) -> 3134.19
A38: II. MATERIALES
A40: DESCRIPCIÓN | I40: UNIDAD | J40: CANTIDAD | K40: PRECIO UNIT. | M40: Vr. UNITARIO
A41: REJILLA METALICA PREFABRICADA PARA BOCATOMA 0,30x1,20 | I41: =+IFERROR(VLOOKUP($A41,'[1]II. MATERIALES'!$A:$C,2,FALSE),"") | J41: 1 | K41: 550000 | L41: =+VLOOKUP($A41,'[1]II. MATERIALES'!$A:$C,2,FALSE) -> #N/A | M41: =IFERROR(ROUND(J41*K41,2),"") -> 550000
I42: =+IFERROR(VLOOKUP($A42,'[1]II. MATERIALES'!$A:$C,2,FALSE),"") | K42: =+IFERROR(VLOOKUP($A42,'[1]II. MATERIALES'!$A:$C,3,FALSE),"") | L42: =+VLOOKUP($A42,'[1]II. MATERIALES'!$A:$C,2,FALSE) -> #N/A | M42: =IFERROR(ROUND(J42*K42,2),"")
I43: =+IFERROR(VLOOKUP($A43,'[1]II. MATERIALES'!$A:$C,2,FALSE),"") | K43: =+IFERROR(VLOOKUP($A43,'[1]II. MATERIALES'!$A:$C,3,FALSE),"") | L43: =+VLOOKUP($A43,'[1]II. MATERIALES'!$A:$C,2,FALSE) -> #N/A | M43: =IFERROR(ROUND(J43*K43,2),"")
I44: =+IFERROR(VLOOKUP($A44,'[1]II. MATERIALES'!$A:$C,2,FALSE),"") | K44: =+IFERROR(VLOOKUP($A44,'[1]II. MATERIALES'!$A:$C,3,FALSE),"") | L44: =+VLOOKUP($A44,'[1]II. MATERIALES'!$A:$C,2,FALSE) -> #N/A | M44: =IFERROR(ROUND(J44*K44,2),"")
I45: =+IFERROR(VLOOKUP($A45,'[1]II. MATERIALES'!$A:$C,2,FALSE),"") | K45: =+IFERROR(VLOOKUP($A45,'[1]II. MATERIALES'!$A:$C,3,FALSE),"") | L45: =+VLOOKUP($A45,'[1]II. MATERIALES'!$A:$C,2,FALSE) -> #N/A | M45: =IFERROR(ROUND(J45*K45,2),"")
A46: SUBTOTAL $ | M46: =ROUND(SUM(M41:M45),2) -> 550000
A48: III. TRANSPORTES
A50: MATERIAL | H50: VOL. o PESO | I50: DISTANCIA | J50: M3 o Ton/Km | K50: TARIFA | M50: Vr. UNITARIO
A51: TRANSPORTE DEL MATERIAL | H51: 0.005 | I51: 40 | J51: =I51*H51 -> 0.2 | K51: 3500 | M51: =IFERROR(ROUND(J51*K51,2),"") -> 700
K52: =+IFERROR(VLOOKUP($A52,'[1]III. TRANSPORTES'!$A:$B,2,FALSE),"") | M52: =IFERROR(ROUND(J52*K52,2),"")
K53: =+IFERROR(VLOOKUP($A53,'[1]III. TRANSPORTES'!$A:$B,2,FALSE),"") | M53: =IFERROR(ROUND(J53*K53,2),"")
K54: =+IFERROR(VLOOKUP($A54,'[1]III. TRANSPORTES'!$A:$B,2,FALSE),"") | M54: =IFERROR(ROUND(J54*K54,2),"")
K55: =+IFERROR(VLOOKUP($A55,'[1]III. TRANSPORTES'!$A:$B,2,FALSE),"") | M55: =IFERROR(ROUND(J55*K55,2),"")
A56: SUBTOTAL $ | M56: =ROUND(SUM(M51:M55),2) -> 700
A58: IV. MANO DE OBRA
A60: TRABAJADOR | H60: JORNAL | I60: PRESTACIONES | J60: JORNAL TOTAL | K60: RENDIMIENTO | M60: Vr. UNITARIO
...

Sheet 8
B2: MUNICIPIO DE ANORI
B4: SECRETARÍA DE INFRAESTRUCTURA Y SERVICIOS PÚBLICOS
B5: SOLUCIÓN ACUEDUCTO ABASTOS VEREDALES
B6: ANÁLISIS DE PRECIOS UNITARIOS
A10: CONTRATO No. | J10: FECHA
A11: OBJETO DEL CONTRATO
A14: CONTRATISTA
A16: INTERVENTOR
A18: SUPERVISOR DEL CONTRATO
A20: FECHA CIERRE DE LICITACIÓN
A22: DATOS ESPECÍFICOS
A24: ITEM | B24: DESCRIPCIÓN | J24: GRUPO AJUSTE | K24: UNIDAD | M24: CANTIDAD
A25: 8 | B25: Suministro, transporte e instalacion de tuberia de presion 60,000RD de 2" | J25: =+IFERROR(VLOOKUP(A25,[1]PRESUPUESTO!C:R,2,0),"") | K25: ml | M25: 50
A27: I. EQUIPO
A29: DESCRIPCIÓN | F29: MARCA | H29: TIPO | J29: TARIFA/HORA | K29: RENDIMIENTO | M29: Vr. UNITARIO
F30: =+IFERROR(VLOOKUP($A30,'[1]I. EQUIPO'!$A:$D,2,FALSE),"") | H30: =+IFERROR(VLOOKUP($A30,'[1]I. EQUIPO'!$A:$D,3,FALSE),"") | J30: =+IFERROR(VLOOKUP($A30,'[1]I. EQUIPO'!$A:$D,4,FALSE),"") | M30: =IFERROR(ROUND(J30/K30,2),"")
F31: =+IFERROR(VLOOKUP($A31,'[1]I. EQUIPO'!$A:$D,2,FALSE),"") | H31: =+IFERROR(VLOOKUP($A31,'[1]I. EQUIPO'!$A:$D,3,FALSE),"") | J31: =+IFERROR(VLOOKUP($A31,'[1]I. EQUIPO'!$A:$D,4,FALSE),"") | M31: =IFERROR(ROUND(J31/K31,2),"")
F32: =+IFERROR(VLOOKUP($A32,'[1]I. EQUIPO'!$A:$D,2,FALSE),"") | H32: =+IFERROR(VLOOKUP($A32,'[1]I. EQUIPO'!$A:$D,3,FALSE),"") | J32: =+IFERROR(VLOOKUP($A32,'[1]I. EQUIPO'!$A:$D,4,FALSE),"") | M32: =IFERROR(ROUND(J32/K32,2),"")
F33: =+IFERROR(VLOOKUP($A33,'[1]I. EQUIPO'!$A:$D,2,FALSE),"") | H33: =+IFERROR(VLOOKUP($A33,'[1]I. EQUIPO'!$A:$D,3,FALSE),"") | J33: =+IFERROR(VLOOKUP($A33,'[1]I. EQUIPO'!$A:$D,4,FALSE),"") | M33: =IFERROR(ROUND(J33/K33,2),"")
F34: =+IFERROR(VLOOKUP($A34,'[1]I. EQUIPO'!$A:$D,2,FALSE),"") | H34: =+IFERROR(VLOOKUP($A34,'[1]I. EQUIPO'!$A:$D,3,FALSE),"") | J34: =+IFERROR(VLOOKUP($A34,'[1]I. EQUIPO'!$A:$D,4,FALSE),"") | M34: =IFERROR(ROUND(J34/K34,2),"")
A35: HERRAMIENTA MENOR (5% MO) | K35: 0.05 | M35: =ROUND(M66*K35,2) -> 433.26
A36: SUBTOTAL $ | M36: =ROUND(SUM(M30:M35),2) -> 433.26
A38: II. MATERIALES
A40: DESCRIPCIÓN | I40: UNIDAD | J40: CANTIDAD | K40: PRECIO UNIT. | M40: Vr. UNITARIO
A41: tuberia de presion 60,000RD de 2" | I41: =+IFERROR(VLOOKUP($A41,'[1]II. MATERIALES'!$A:$C,2,FALSE),"") | J41: 1.05 | K41: 23300 | L41: =+VLOOKUP($A41,'[1]II. MATERIALES'!$A:$C,2,FALSE) -> #N/A | M41: =IFERROR(ROUND(J41*K41,2),"") -> 24465
I42: =+IFERROR(VLOOKUP($A42,'[1]II. MATERIALES'!$A:$C,2,FALSE),"") | K42: =+IFERROR(VLOOKUP($A42,'[1]II. MATERIALES'!$A:$C,3,FALSE),"") | L42: =+VLOOKUP($A42,'[1]II. MATERIALES'!$A:$C,2,FALSE) -> #N/A | M42: =IFERROR(ROUND(J42*K42,2),"")
M43: =IFERROR(ROUND(J43*K43,2),"") -> 0
M44: =IFERROR(ROUND(J44*K44,2),"") -> 0
M45: =IFERROR(ROUND(J45*K45,2),"") -> 0
M46: =IFERROR(ROUND(J46*K46,2),"") -> 0
M47: =IFERROR(ROUND(J47*K47,2),"") -> 0
M48: =IFERROR(ROUND(J48*K48,2),"") -> 0
M49: =ROUND(SUM(M41:M48),2) -> 24465
A51: III. TRANSPORTES
A53: MATERIAL | H53: VOL. o PESO | I53: DISTANCIA | J53: M3 o Ton/Km | K53: TARIFA | M53: Vr. UNITARIO
A54: TRANSPORTE DEL MATERIAL | H54: 0.01 | I54: 40 | J54: =I54*H54 -> 0.4 | K54: 3500 | M54: =IFERROR(ROUND(J54*K54,2),"") -> 1400
K55: =+IFERROR(VLOOKUP($A55,'[1]III. TRANSPORTES'!$A:$B,2,FALSE),"") | M55: =IFERROR(ROUND(J55*K55,2),"")
K56: =+IFERROR(VLOOKUP($A56,'[1]III. TRANSPORTES'!$A:$B,2,FALSE),"") | M56: =IFERROR(ROUND(J56*K56,2),"")
A57: SUBTOTAL $ | M57: =ROUND(SUM(M54:M56),2) -> 1400
A59: IV. MANO DE OBRA
...

Sheet 9
B2: MUNICIPIO DE ANORI
B4: SECRETARÍA DE INFRAESTRUCTURA Y SERVICIOS PÚBLICOS
B5: SOLUCIÓN ACUEDUCTO ABASTOS VEREDALES
B6: ANÁLISIS DE PRECIOS UNITARIOS
A10: CONTRATO No. | J10: FECHA
A11: OBJETO DEL CONTRATO
A14: CONTRATISTA
A16: INTERVENTOR
A18: SUPERVISOR DEL CONTRATO
A20: FECHA CIERRE DE LICITACIÓN
A22: DATOS ESPECÍFICOS
A24: ITEM | B24: DESCRIPCIÓN | J24: GRUPO AJUSTE | K24: UNIDAD | M24: CANTIDAD
A25: 9 | B25: Suministro, transporte e instalacion de codo de 45° de presion 60,000RD de 2" | J25: =+IFERROR(VLOOKUP(A25,[1]PRESUPUESTO!C:R,2,0),"") | K25: UNIDAD | M25: 5
A27: I. EQUIPO
A29: DESCRIPCIÓN | F29: MARCA | H29: TIPO | J29: TARIFA/HORA | K29: RENDIMIENTO | M29: Vr. UNITARIO
F30: =+IFERROR(VLOOKUP($A30,'[1]I. EQUIPO'!$A:$D,2,FALSE),"") | H30: =+IFERROR(VLOOKUP($A30,'[1]I. EQUIPO'!$A:$D,3,FALSE),"") | J30: =+IFERROR(VLOOKUP($A30,'[1]I. EQUIPO'!$A:$D,4,FALSE),"") | M30: =IFERROR(ROUND(J30/K30,2),"")
F31: =+IFERROR(VLOOKUP($A31,'[1]I. EQUIPO'!$A:$D,2,FALSE),"") | H31: =+IFERROR(VLOOKUP($A31,'[1]I. EQUIPO'!$A:$D,3,FALSE),"") | J31: =+IFERROR(VLOOKUP($A31,'[1]I. EQUIPO'!$A:$D,4,FALSE),"") | M31: =IFERROR(ROUND(J31/K31,2),"")
F32: =+IFERROR(VLOOKUP($A32,'[1]I. EQUIPO'!$A:$D,2,FALSE),"") | H32: =+IFERROR(VLOOKUP($A32,'[1]I. EQUIPO'!$A:$D,3,FALSE),"") | J32: =+IFERROR(VLOOKUP($A32,'[1]I. EQUIPO'!$A:$D,4,FALSE),"") | M32: =IFERROR(ROUND(J32/K32,2),"")
F33: =+IFERROR(VLOOKUP($A33,'[1]I. EQUIPO'!$A:$D,2,FALSE),"") | H33: =+IFERROR(VLOOKUP($A33,'[1]I. EQUIPO'!$A:$D,3,FALSE),"") | J33: =+IFERROR(VLOOKUP($A33,'[1]I. EQUIPO'!$A:$D,4,FALSE),"") | M33: =IFERROR(ROUND(J33/K33,2),"")
F34: =+IFERROR(VLOOKUP($A34,'[1]I. EQUIPO'!$A:$D,2,FALSE),"") | H34: =+IFERROR(VLOOKUP($A34,'[1]I. EQUIPO'!$A:$D,3,FALSE),"") | J34: =+IFERROR(VLOOKUP($A34,'[1]I. EQUIPO'!$A:$D,4,FALSE),"") | M34: =IFERROR(ROUND(J34/K34,2),"")
A35: HERRAMIENTA MENOR (5% MO) | K35: 0.05 | M35: =ROUND(M66*K35,2) -> 445.5
A36: SUBTOTAL $ | M36: =ROUND(SUM(M30:M35),2) -> 445.5
A38: II. MATERIALES
A40: DESCRIPCIÓN | I40: UNIDAD | J40: CANTIDAD | K40: PRECIO UNIT. | M40: Vr. UNITARIO
I41: =+IFERROR(VLOOKUP($A41,'[1]II. MATERIALES'!$A:$C,2,FALSE),"") | K41: =+IFERROR(VLOOKUP($A41,'[1]II. MATERIALES'!$A:$C,3,FALSE),"") | L41: =+VLOOKUP($A41,'[1]II. MATERIALES'!$A:$C,2,FALSE) -> #N/A | M41: =IFERROR(ROUND(J41*K41,2),"")
A42: ACCESORIOS codo de 45° de presion 60,000RD de 2" | I42: =+IFERROR(VLOOKUP($A42,'[1]II. MATERIALES'!$A:$C,2,FALSE),"") | J42: 1 | K42: 16800 | L42: =+VLOOKUP($A42,'[1]II. MATERIALES'!$A:$C,2,FALSE) -> #N/A | M42: =IFERROR(ROUND(J42*K42,2),"") -> 16800
M43: =IFERROR(ROUND(J43*K43,2),"") -> 0
M44: =IFERROR(ROUND(J44*K44,2),"") -> 0
M45: =IFERROR(ROUND(J45*K45,2),"") -> 0
M46: =IFERROR(ROUND(J46*K46,2),"") -> 0
M47: =IFERROR(ROUND(J47*K47,2),"") -> 0
M48: =IFERROR(ROUND(J48*K48,2),"") -> 0
M49: =ROUND(SUM(M41:M48),2) -> 16800
A51: III. TRANSPORTES
A53: MATERIAL | H53: VOL. o PESO | I53: DISTANCIA | J53: M3 o Ton/Km | K53: TARIFA | M53: Vr. UNITARIO
A54: TRANSPORTE DEL MATERIAL | H54: 0.01 | I54: 40 | J54: =I54*H54 -> 0.4 | K54: 3500 | M54: =IFERROR(ROUND(J54*K54,2),"") -> 1400
K55: =+IFERROR(VLOOKUP($A55,'[1]III. TRANSPORTES'!$A:$B,2,FALSE),"") | M55: =IFERROR(ROUND(J55*K55,2),"")
K56: =+IFERROR(VLOOKUP($A56,'[1]III. TRANSPORTES'!$A:$B,2,FALSE),"") | M56: =IFERROR(ROUND(J56*K56,2),"")
A57: SUBTOTAL $ | M57: =ROUND(SUM(M54:M56),2) -> 1400
A59: IV. MANO DE OBRA
...

Sheet 10
B2: MUNICIPIO DE ANORI
B4: SECRETARÍA DE INFRAESTRUCTURA Y SERVICIOS PÚBLICOS
B5: SOLUCIÓN ACUEDUCTO Y ALCANTARILLADO ABASTOS VEREDALES
B6: ANÁLISIS DE PRECIOS UNITARIOS
A10: CONTRATO No. | J10: FECHA
A11: OBJETO DEL CONTRATO
A14: CONTRATISTA
A16: INTERVENTOR
A18: SUPERVISOR DEL CONTRATO
A20: FECHA CIERRE DE LICITACIÓN
A22: DATOS ESPECÍFICOS
A24: ITEM | B24: DESCRIPCIÓN | J24: GRUPO AJUSTE | K24: UNIDAD | M24: CANTIDAD
A25: 10 | B25: Suministro, transporte e instalacion de rejilla tipo cúpula de 2" en acero inoxidable | J25: =+IFERROR(VLOOKUP(A25,[1]PRESUPUESTO!C:R,2,0),"") | K25: UNIDAD | M25: 1
A27: I. EQUIPO
A29: DESCRIPCIÓN | F29: MARCA | H29: TIPO | J29: TARIFA/HORA | K29: RENDIMIENTO | M29: Vr. UNITARIO
F30: =+IFERROR(VLOOKUP($A30,'[1]I. EQUIPO'!$A:$D,2,FALSE),"") | H30: =+IFERROR(VLOOKUP($A30,'[1]I. EQUIPO'!$A:$D,3,FALSE),"") | J30: =+IFERROR(VLOOKUP($A30,'[1]I. EQUIPO'!$A:$D,4,FALSE),"") | M30: =IFERROR(ROUND(J30/K30,2),"")
F31: =+IFERROR(VLOOKUP($A31,'[1]I. EQUIPO'!$A:$D,2,FALSE),"") | H31: =+IFERROR(VLOOKUP($A31,'[1]I. EQUIPO'!$A:$D,3,FALSE),"") | J31: =+IFERROR(VLOOKUP($A31,'[1]I. EQUIPO'!$A:$D,4,FALSE),"") | M31: =IFERROR(ROUND(J31/K31,2),"")
F32: =+IFERROR(VLOOKUP($A32,'[1]I. EQUIPO'!$A:$D,2,FALSE),"") | H32: =+IFERROR(VLOOKUP($A32,'[1]I. EQUIPO'!$A:$D,3,FALSE),"") | J32: =+IFERROR(VLOOKUP($A32,'[1]I. EQUIPO'!$A:$D,4,FALSE),"") | M32: =IFERROR(ROUND(J32/K32,2),"")
F33: =+IFERROR(VLOOKUP($A33,'[1]I. EQUIPO'!$A:$D,2,FALSE),"") | H33: =+IFERROR(VLOOKUP($A33,'[1]I. EQUIPO'!$A:$D,3,FALSE),"") | J33: =+IFERROR(VLOOKUP($A33,'[1]I. EQUIPO'!$A:$D,4,FALSE),"") | M33: =IFERROR(ROUND(J33/K33,2),"")
F34: =+IFERROR(VLOOKUP($A34,'[1]I. EQUIPO'!$A:$D,2,FALSE),"") | H34: =+IFERROR(VLOOKUP($A34,'[1]I. EQUIPO'!$A:$D,3,FALSE),"") | J34: =+IFERROR(VLOOKUP($A34,'[1]I. EQUIPO'!$A:$D,4,FALSE),"") | M34: =IFERROR(ROUND(J34/K34,2),"")
A35: HERRAMIENTA MENOR (5% MO) | K35: 0.05 | M35: =ROUND(M66*K35,2) -> 2324.35
A36: SUBTOTAL $ | M36: =ROUND(SUM(M30:M35),2) -> 2324.35
A38: II. MATERIALES
A40: DESCRIPCIÓN | I40: UNIDAD | J40: CANTIDAD | K40: PRECIO UNIT. | M40: Vr. UNITARIO
A42: ACCESORIOS rejilla tipo cúpula de 2" en acero inoxidable | I42: =+IFERROR(VLOOKUP($A42,'[1]II. MATERIALES'!$A:$C,2,FALSE),"") | J42: 1 | K42: 81000 | L42: =+VLOOKUP($A42,'[1]II. MATERIALES'!$A:$C,2,FALSE) -> #N/A | M42: =IFERROR(ROUND(J42*K42,2),"") -> 81000
M43: =IFERROR(ROUND(J43*K43,2),"") -> 0
M44: =IFERROR(ROUND(J44*K44,2),"") -> 0
M45: =IFERROR(ROUND(J45*K45,2),"") -> 0
M46: =IFERROR(ROUND(J46*K46,2),"") -> 0
M47: =IFERROR(ROUND(J47*K47,2),"") -> 0
M48: =IFERROR(ROUND(J48*K48,2),"") -> 0
M49: =ROUND(SUM(M41:M48),2) -> 81000
A51: III. TRANSPORTES
A53: MATERIAL | H53: VOL. o PESO | I53: DISTANCIA | J53: M3 o Ton/Km | K53: TARIFA | M53: Vr. UNITARIO
A54: TRANSPORTE DEL MATERIAL | H54: 0.01 | I54: 40 | J54: =I54*H54 -> 0.4 | K54: 1900 | M54: =IFERROR(ROUND(J54*K54,2),"") -> 760
K55: =+IFERROR(VLOOKUP($A55,'[1]III. TRANSPORTES'!$A:$B,2,FALSE),"") | M55: =IFERROR(ROUND(J55*K55,2),"")
K56: =+IFERROR(VLOOKUP($A56,'[1]III. TRANSPORTES'!$A:$B,2,FALSE),"") | M56: =IFERROR(ROUND(J56*K56,2),"")
A57: SUBTOTAL $ | M57: =ROUND(SUM(M54:M56),2) -> 760
A59: IV. MANO DE OBRA
A61: TRABAJADOR | H61: JORNAL | I61: PRESTACIONES | J61: JORNAL TOTAL | K61: RENDIMIENTO | M61: Vr. UNITARIO
...

Sheet 11
B2: MUNICIPIO DE ANORI
B4: SECRETARÍA DE INFRAESTRUCTURA Y SERVICIOS PÚBLICOS
B5: SOLUCIÓN ACUEDUCTO ABASTOS VEREDALES
B6: ANÁLISIS DE PRECIOS UNITARIOS
A10: CONTRATO No. | J10: FECHA
A11: OBJETO DEL CONTRATO
A14: CONTRATISTA
A16: INTERVENTOR
A18: SUPERVISOR DEL CONTRATO
A20: FECHA CIERRE DE LICITACIÓN
A22: DATOS ESPECÍFICOS
A24: ITEM | B24: DESCRIPCIÓN | J24: GRUPO AJUSTE | K24: UNIDAD | M24: CANTIDAD
A25: 11 | B25: Suministro, transporte e instalación de tapas en lamina alfajor de 1/4", incluye marco en angulo de 1/4" x 2" con pintura anticorrosivo y acabado en pintura epoxica para zonas con altra humedad, Tapas para desarenador y para bocatoma. Medidad de 60cm x 60cm. | J25: =+IFERROR(VLOOKUP(A25,[1]PRESUPUESTO!C:R,2,0),"") | K25: ml | M25: 2340
A27: I. EQUIPO
A29: DESCRIPCIÓN | F29: MARCA | H29: TIPO | J29: TARIFA/HORA | K29: RENDIMIENTO | M29: Vr. UNITARIO
F30: =+IFERROR(VLOOKUP($A30,'[1]I. EQUIPO'!$A:$D,2,FALSE),"") | H30: =+IFERROR(VLOOKUP($A30,'[1]I. EQUIPO'!$A:$D,3,FALSE),"") | J30: =+IFERROR(VLOOKUP($A30,'[1]I. EQUIPO'!$A:$D,4,FALSE),"") | K30: =+K62/8 -> 1.6301501 | M30: =IFERROR(ROUND(J30/K30,2),"")
F31: =+IFERROR(VLOOKUP($A31,'[1]I. EQUIPO'!$A:$D,2,FALSE),"") | H31: =+IFERROR(VLOOKUP($A31,'[1]I. EQUIPO'!$A:$D,3,FALSE),"") | J31: =+IFERROR(VLOOKUP($A31,'[1]I. EQUIPO'!$A:$D,4,FALSE),"") | M31: =IFERROR(ROUND(J31/K31,2),"")
F32: =+IFERROR(VLOOKUP($A32,'[1]I. EQUIPO'!$A:$D,2,FALSE),"") | H32: =+IFERROR(VLOOKUP($A32,'[1]I. EQUIPO'!$A:$D,3,FALSE),"") | J32: =+IFERROR(VLOOKUP($A32,'[1]I. EQUIPO'!$A:$D,4,FALSE),"") | M32: =IFERROR(ROUND(J32/K32,2),"")
F33: =+IFERROR(VLOOKUP($A33,'[1]I. EQUIPO'!$A:$D,2,FALSE),"") | H33: =+IFERROR(VLOOKUP($A33,'[1]I. EQUIPO'!$A:$D,3,FALSE),"") | J33: =+IFERROR(VLOOKUP($A33,'[1]I. EQUIPO'!$A:$D,4,FALSE),"") | M33: =IFERROR(ROUND(J33/K33,2),"")
F34: =+IFERROR(VLOOKUP($A34,'[1]I. EQUIPO'!$A:$D,2,FALSE),"") | H34: =+IFERROR(VLOOKUP($A34,'[1]I. EQUIPO'!$A:$D,3,FALSE),"") | J34: =+IFERROR(VLOOKUP($A34,'[1]I. EQUIPO'!$A:$D,4,FALSE),"") | M34: =IFERROR(ROUND(J34/K34,2),"")
A35: HERRAMIENTA MENOR (5% MO) | K35: 0.05 | M35: =ROUND(M66*K35,2) -> 1583.83
A36: SUBTOTAL $ | M36: =ROUND(SUM(M30:M35),2) -> 1583.83
A38: II. MATERIALES
A40: DESCRIPCIÓN | I40: UNIDAD | J40: CANTIDAD | K40: PRECIO UNIT. | M40: Vr. UNITARIO
A41: tapas en lamina alfajor de 1/4", incluye marco en angulo de 1/4" x 2" con pintura anticorrosivo y acabado en pintura epoxica para zonas con altra humedad, Tapas para desarenador y para bocatoma. Medidad de 60cm x 60cm. | I41: 1 | J41: 1 | K41: 345600 | L41: =+VLOOKUP($A41,'[1]II. MATERIALES'!$A:$C,2,FALSE) -> #N/A | M41: =IFERROR(ROUND(J41*K41,2),"") -> 345600
I42: =+IFERROR(VLOOKUP($A42,'[1]II. MATERIALES'!$A:$C,2,FALSE),"") | K42: =+IFERROR(VLOOKUP($A42,'[1]II. MATERIALES'!$A:$C,3,FALSE),"") | L42: =+VLOOKUP($A42,'[1]II. MATERIALES'!$A:$C,2,FALSE) -> #N/A | M42: =IFERROR(ROUND(J42*K42,2),"")
M43: =IFERROR(ROUND(J43*K43,2),"") -> 0
M44: =IFERROR(ROUND(J44*K44,2),"") -> 0
M45: =IFERROR(ROUND(J45*K45,2),"") -> 0
M46: =IFERROR(ROUND(J46*K46,2),"") -> 0
M47: =IFERROR(ROUND(J47*K47,2),"") -> 0
M48: =IFERROR(ROUND(J48*K48,2),"") -> 0
M49: =ROUND(SUM(M41:M48),2) -> 345600
A51: III. TRANSPORTES
A53: MATERIAL | H53: VOL. o PESO | I53: DISTANCIA | J53: M3 o Ton/Km | K53: TARIFA | M53: Vr. UNITARIO
K54: =+IFERROR(VLOOKUP($A54,'[1]III. TRANSPORTES'!$A:$B,2,FALSE),"") | M54: =IFERROR(ROUND(J54*K54,2),"")
K55: =+IFERROR(VLOOKUP($A55,'[1]III. TRANSPORTES'!$A:$B,2,FALSE),"") | M55: =IFERROR(ROUND(J55*K55,2),"")
K56: =+IFERROR(VLOOKUP($A56,'[1]III. TRANSPORTES'!$A:$B,2,FALSE),"") | M56: =IFERROR(ROUND(J56*K56,2),"")
A57: SUBTOTAL $ | M57: =ROUND(SUM(M54:M56),2) -> 0
A59: IV. MANO DE OBRA
...

Sheet 12
B2: MUNICIPIO DE ANORI
B4: SECRETARÍA DE INFRAESTRUCTURA Y SERVICIOS PÚBLICOS
B5: SOLUCIÓN ACUEDUCTO ABASTOS VEREDALES
B6: ANÁLISIS DE PRECIOS UNITARIOS
A10: CONTRATO No. | J10: FECHA
A11: OBJETO DEL CONTRATO
A14: CONTRATISTA
A16: INTERVENTOR
A18: SUPERVISOR DEL CONTRATO
A20: FECHA CIERRE DE LICITACIÓN
A22: DATOS ESPECÍFICOS
A24: ITEM | B24: DESCRIPCIÓN | J24: GRUPO AJUSTE | K24: UNIDAD | M24: CANTIDAD
A25: 12 | B25: Suministro, transporte e instalacion de tuberia de polietileno de 1" para agua potable de 16 PN | M25: =+PRESU!D14 -> 2340
A27: I. EQUIPO
A29: DESCRIPCIÓN | F29: MARCA | H29: TIPO | J29: TARIFA/HORA | K29: RENDIMIENTO | M29: Vr. UNITARIO
K30: =+K61 -> 83.704397 | M30: =IFERROR(ROUND(J30/K30,2),"")
M31: =IFERROR(ROUND(J31/K31,2),"")
M32: =IFERROR(ROUND(J32/K32,2),"")
M33: =IFERROR(ROUND(J33/K33,2),"")
M34: =IFERROR(ROUND(J34/K34,2),"")
A35: HERRAMIENTA MENOR (5% MO) | K35: 0.05 | M35: =ROUND(M66*K35,2) -> 333.85
A36: SUBTOTAL $ | M36: =ROUND(SUM(M30:M35),2) -> 333.85
A38: II. MATERIALES
A40: DESCRIPCIÓN | I40: UNIDAD | J40: CANTIDAD | K40: PRECIO UNIT. | M40: Vr. UNITARIO
A41: Tuberia de polietileno de 1" para agua potable de 16 PN | I41: ml | J41: 1 | K41: 4900 | M41: =IFERROR(ROUND(J41*K41,2),"") -> 4900
L42: #N/A | M42: =IFERROR(ROUND(J42*K42,2),"")
L43: #N/A | M43: =IFERROR(ROUND(J43*K43,2),"")
L44: #N/A | M44: =IFERROR(ROUND(J44*K44,2),"")
L45: #N/A | M45: =IFERROR(ROUND(J45*K45,2),"")
A46: SUBTOTAL $ | M46: =ROUND(SUM(M41:M45),2) -> 4900
A48: III. TRANSPORTES
A50: MATERIAL | H50: VOL. o PESO | I50: DISTANCIA | J50: M3 o Ton/Km | K50: TARIFA | M50: Vr. UNITARIO
A51: Transporte Mular | H51: 1 | I51: 1.5 | K51: 500 | M51: =+H51*I51*K51 -> 750
M52: =IFERROR(ROUND(J52*K52,2),"")
M53: =IFERROR(ROUND(J53*K53,2),"")
M54: =IFERROR(ROUND(J54*K54,2),"")
M55: =IFERROR(ROUND(J55*K55,2),"")
A56: SUBTOTAL $ | M56: =ROUND(SUM(M51:M55),2) -> 750
A58: IV. MANO DE OBRA
A60: TRABAJADOR | H60: JORNAL | I60: PRESTACIONES | J60: JORNAL TOTAL | K60: RENDIMIENTO | M60: Vr. UNITARIO
...

Sheet 13
B2: MUNICIPIO DE ANORI
B4: SECRETARÍA DE INFRAESTRUCTURA Y SERVICIOS PÚBLICOS
B5: SOLUCIÓN ACUEDUCTO ABASTOS VEREDALES
B6: ANÁLISIS DE PRECIOS UNITARIOS
A10: CONTRATO No. | J10: FECHA
A11: OBJETO DEL CONTRATO
A14: CONTRATISTA
A16: INTERVENTOR
A18: SUPERVISOR DEL CONTRATO
A20: FECHA CIERRE DE LICITACIÓN
A22: DATOS ESPECÍFICOS
A24: ITEM | B24: DESCRIPCIÓN | J24: GRUPO AJUSTE | K24: UNIDAD | M24: CANTIDAD
A25: 13 | B25: Suministro, transporte e instalacion de tuberia de polietileno de 1"1/2" para agua potable de 16 PN | K25: ml | M25: 1180
A27: I. EQUIPO
A29: DESCRIPCIÓN | F29: MARCA | H29: TIPO | J29: TARIFA/HORA | K29: RENDIMIENTO | M29: Vr. UNITARIO
M30: =IFERROR(ROUND(J30/K30,2),"")
M31: =IFERROR(ROUND(J31/K31,2),"")
M32: =IFERROR(ROUND(J32/K32,2),"")
M33: =IFERROR(ROUND(J33/K33,2),"")
M34: =IFERROR(ROUND(J34/K34,2),"")
A35: HERRAMIENTA MENOR (5% MO) | K35: 0.05 | M35: =ROUND(M66*K35,2) -> 344.46
A36: SUBTOTAL $ | M36: =ROUND(SUM(M30:M35),2) -> 344.46
A38: II. MATERIALES
A40: DESCRIPCIÓN | I40: UNIDAD | J40: CANTIDAD | K40: PRECIO UNIT. | M40: Vr. UNITARIO
A41: manguera de polietileno de 1"1/2" para agua potable de 16 PN | I41: ml | J41: 1 | K41: 11900 | M41: =IFERROR(ROUND(J41*K41,2),"") -> 11900
L42: #N/A | M42: =IFERROR(ROUND(J42*K42,2),"")
L43: #N/A | M43: =IFERROR(ROUND(J43*K43,2),"")
L44: #N/A | M44: =IFERROR(ROUND(J44*K44,2),"")
L45: #N/A | M45: =IFERROR(ROUND(J45*K45,2),"")
A46: SUBTOTAL $ | M46: =ROUND(SUM(M41:M45),2) -> 11900
A48: III. TRANSPORTES
A50: MATERIAL | H50: VOL. o PESO | I50: DISTANCIA | J50: M3 o Ton/Km | K50: TARIFA | M50: Vr. UNITARIO
A51: Transporte Mular | H51: 1 | I51: 1.5 | K51: 550 | M51: =+H51*I51*K51 -> 825
M52: =IFERROR(ROUND(J52*K52,2),"")
M53: =IFERROR(ROUND(J53*K53,2),"")
M54: =IFERROR(ROUND(J54*K54,2),"")
M55: =IFERROR(ROUND(J55*K55,2),"")
A56: SUBTOTAL $ | M56: =ROUND(SUM(M51:M55),2) -> 825
A58: IV. MANO DE OBRA
A60: TRABAJADOR | H60: JORNAL | I60: PRESTACIONES | J60: JORNAL TOTAL | K60: RENDIMIENTO | M60: Vr. UNITARIO
...

Sheet 14
B2: MUNICIPIO DE ANORI
B4: SECRETARÍA DE INFRAESTRUCTURA Y SERVICIOS PÚBLICOS
B5: SOLUCIÓN ACUEDUCTO ABASTOS VEREDALES
B6: ANÁLISIS DE PRECIOS UNITARIOS
A10: CONTRATO No. | J10: FECHA
A11: OBJETO DEL CONTRATO
A14: CONTRATISTA
A16: INTERVENTOR
A18: SUPERVISOR DEL CONTRATO
A20: FECHA CIERRE DE LICITACIÓN
A22: DATOS ESPECÍFICOS
A24: ITEM | B24: DESCRIPCIÓN | J24: GRUPO AJUSTE | K24: UNIDAD | M24: CANTIDAD
A25: 14 | B25: Suministro, transporte e instalacion de tuberia calibre 60 de polietileno de 2" para agua potable de 16 PN | K25: ml | M25: 480
A27: I. EQUIPO
A29: DESCRIPCIÓN | F29: MARCA | H29: TIPO | J29: TARIFA/HORA | K29: RENDIMIENTO | M29: Vr. UNITARIO
M30: =IFERROR(ROUND(J30/K30,2),"")
M31: =IFERROR(ROUND(J31/K31,2),"")
M32: =IFERROR(ROUND(J32/K32,2),"")
M33: =IFERROR(ROUND(J33/K33,2),"")
M34: =IFERROR(ROUND(J34/K34,2),"")
A35: HERRAMIENTA MENOR (5% MO) | K35: 0.05 | M35: =ROUND(M66*K35,2) -> 344.49
A36: SUBTOTAL $ | M36: =ROUND(SUM(M30:M35),2) -> 344.49
A38: II. MATERIALES
A40: DESCRIPCIÓN | I40: UNIDAD | J40: CANTIDAD | K40: PRECIO UNIT. | M40: Vr. UNITARIO
A41: Tuberia calibre 60 de polietileno de 2" para agua potable de 16 PN | I41: ml | J41: 1 | K41: 19200 | M41: =IFERROR(ROUND(J41*K41,2),"") -> 19200
L42: #N/A | M42: =IFERROR(ROUND(J42*K42,2),"")
L43: #N/A | M43: =IFERROR(ROUND(J43*K43,2),"")
L44: #N/A | M44: =IFERROR(ROUND(J44*K44,2),"")
L45: #N/A | M45: =IFERROR(ROUND(J45*K45,2),"")
A46: SUBTOTAL $ | M46: =ROUND(SUM(M41:M45),2) -> 19200
A48: III. TRANSPORTES
A50: MATERIAL | H50: VOL. o PESO | I50: DISTANCIA | J50: M3 o Ton/Km | K50: TARIFA | M50: Vr. UNITARIO
A51: Transporte Mular | H51: 1 | I51: 1.5 | K51: 600 | M51: =+H51*I51*K51 -> 900
M52: =IFERROR(ROUND(J52*K52,2),"")
M53: =IFERROR(ROUND(J53*K53,2),"")
M54: =IFERROR(ROUND(J54*K54,2),"")
M55: =IFERROR(ROUND(J55*K55,2),"")
A56: SUBTOTAL $ | M56: =ROUND(SUM(M51:M55),2) -> 900
A58: IV. MANO DE OBRA
A60: TRABAJADOR | H60: JORNAL | I60: PRESTACIONES | J60: JORNAL TOTAL | K60: RENDIMIENTO | M60: Vr. UNITARIO
...

Sheet 15
B2: MUNICIPIO DE ANORI
B4: SECRETARÍA DE INFRAESTRUCTURA Y SERVICIOS PÚBLICOS
B5: SOLUCIÓN ACUEDUCTO ABASTOS VEREDALES
B6: ANÁLISIS DE PRECIOS UNITARIOS
A10: CONTRATO No. | J10: FECHA
A11: OBJETO DEL CONTRATO
A14: CONTRATISTA
A16: INTERVENTOR
A18: SUPERVISOR DEL CONTRATO
A20: FECHA CIERRE DE LICITACIÓN
A22: DATOS ESPECÍFICOS
A24: ITEM | B24: DESCRIPCIÓN | J24: GRUPO AJUSTE | K24: UNIDAD | M24: CANTIDAD
A25: 15 | B25: suministo, transporte e instalacion de union rapida de 2" | K25: UNIDAD | M25: 10
A27: I. EQUIPO
A29: DESCRIPCIÓN | F29: MARCA | H29: TIPO | J29: TARIFA/HORA | K29: RENDIMIENTO | M29: Vr. UNITARIO
K30: =+K61/8 -> 2.7945541 | M30: =IFERROR(ROUND(J30/K30,2),"")
M31: =IFERROR(ROUND(J31/K31,2),"")
M32: =IFERROR(ROUND(J32/K32,2),"")
M33: =IFERROR(ROUND(J33/K33,2),"")
M34: =IFERROR(ROUND(J34/K34,2),"")
A35: HERRAMIENTA MENOR (5% MO) | K35: 0.05 | M35: =ROUND(M66*K35,2) -> 923.9
A36: SUBTOTAL $ | M36: =ROUND(SUM(M30:M35),2) -> 923.9
A38: II. MATERIALES
A40: DESCRIPCIÓN | I40: UNIDAD | J40: CANTIDAD | K40: PRECIO UNIT. | M40: Vr. UNITARIO
A41: union rapida de 2" | I41: UNIDAD | J41: 1 | K41: 48600 | M41: =IFERROR(ROUND(J41*K41,2),"") -> 48600
L42: #N/A | M42: =IFERROR(ROUND(J42*K42,2),"")
L43: #N/A | M43: =IFERROR(ROUND(J43*K43,2),"")
L44: #N/A | M44: =IFERROR(ROUND(J44*K44,2),"")
L45: #N/A | M45: =IFERROR(ROUND(J45*K45,2),"")
A46: SUBTOTAL $ | M46: =ROUND(SUM(M41:M45),2) -> 48600
A48: III. TRANSPORTES
A50: MATERIAL | H50: VOL. o PESO | I50: DISTANCIA | J50: M3 o Ton/Km | K50: TARIFA | M50: Vr. UNITARIO
M51: =IFERROR(ROUND(J51*K51,2),"") -> 0
M52: =IFERROR(ROUND(J52*K52,2),"")
M53: =IFERROR(ROUND(J53*K53,2),"")
M54: =IFERROR(ROUND(J54*K54,2),"")
M55: =IFERROR(ROUND(J55*K55,2),"")
A56: SUBTOTAL $ | M56: =ROUND(SUM(M51:M55),2) -> 0
A58: IV. MANO DE OBRA
A60: TRABAJADOR | H60: JORNAL | I60: PRESTACIONES | J60: JORNAL TOTAL | K60: RENDIMIENTO | M60: Vr. UNITARIO
...

Sheet 16
B2: MUNICIPIO DE ANORI
B4: SECRETARÍA DE INFRAESTRUCTURA Y SERVICIOS PÚBLICOS
B5: SOLUCIÓN ACUEDUCTO ABASTOS VEREDALES
B6: ANÁLISIS DE PRECIOS UNITARIOS
A10: CONTRATO No. | J10: FECHA
A11: OBJETO DEL CONTRATO
A14: CONTRATISTA
A16: INTERVENTOR
A18: SUPERVISOR DEL CONTRATO
A20: FECHA CIERRE DE LICITACIÓN
A22: DATOS ESPECÍFICOS
A24: ITEM | B24: DESCRIPCIÓN | J24: GRUPO AJUSTE | K24: UNIDAD | M24: CANTIDAD
A25: 16 | B25: suministo, transporte y colocacion de union rapida de 1"1/2" | K25: UNIDAD | M25: 12
A27: I. EQUIPO
A29: DESCRIPCIÓN | F29: MARCA | H29: TIPO | J29: TARIFA/HORA | K29: RENDIMIENTO | M29: Vr. UNITARIO
M30: =IFERROR(ROUND(J30/K30,2),"")
M31: =IFERROR(ROUND(J31/K31,2),"")
M32: =IFERROR(ROUND(J32/K32,2),"")
M33: =IFERROR(ROUND(J33/K33,2),"")
M34: =IFERROR(ROUND(J34/K34,2),"")
A35: HERRAMIENTA MENOR (5% MO) | K35: 0.05 | M35: =ROUND(M66*K35,2) -> 607.15
A36: SUBTOTAL $ | M36: =ROUND(SUM(M30:M35),2) -> 607.15
A38: II. MATERIALES
