Workbook
Name A: #REF!
Name A: #REF!
Name A: #REF!
Name A_impresión_IM: #REF!
Name A_impresión_IM: #REF!
Name A_impresión_IM: #REF!
Name aiu: #REF!
Name aiu: #REF!
Name C_: #REF!
Name C_: #REF!
Name C_: #REF!
Name CANT: #REF!
Name CANT: #REF!
Name CANT: #REF!
Name EQUIPO: #REF!
Name EQUIPO: #REF!
Name EQUIPO: #REF!
Name HOJA1: #REF!
Name HOJA1: #REF!
Name HOJA1: #REF!
Name I: #REF!
Name I: #REF!
Name I: #REF!
Name inf: #REF!
Name inf: #REF!
Name inf: #REF!
Name ITEM: #REF!
Name ITEM: #REF!
Name ITEM: #REF!
Name MAT: #REF!
Name MAT: #REF!
Name MAT: #REF!
Name PRE: #REF!
Name PRE: #REF!
Name PRE: #REF!
Name TABLA: #REF!
Name TABLA: #REF!
Name TABLA: #REF!
Name TITULO: #REF!
Name TITULO: #REF!
Name TITULO: #REF!
Name TOTAL: #REF!
Name TOTAL: #REF!
Name TOTAL: #REF!
Name TRAT: [1]desmonte!$E$48
Name U: #REF!
Name U: #REF!
Name U: #REF!
Name W: #REF!
Name W: #REF!
Name W: #REF!

Sheet INSTRUCTIVO AIU
A1: INSTRUCTIVO FORMATO DESGLOSE AIU
A2: SE DEBE ACTIVAR EL CÁLCULO ITERATIVO Ruta: (Archivo - Opciones - Fórmulas). ACTUALIZAR CELDAS DE SUBTOTALES POR CADA CAMBIO REALIZADO EN LA HOJA DE CÁLCULO, CON EL FIN DE ACTIVAR LAS REFERENCIAS CIRCULARES.
A3: A. ADMINISTRACIÓN DE OBRA: | B3: * Se debe establecer el personal mínimo requerido de acuerdo a la particularidad del proyecto. * El costo de honorarios se debe adoptar de la tabla de perfiles y honorarios del Municipio Acacias Meta el cual se emitió mediante Resolución No 017 del 12 de enero de 2024. De acuero a la particularidad del proyecto y/o del listado del A.I.M (Precios de referencia para la contratación de servicios de Consultoría e interventoría). * El costo total de los honorarios de cada profesional no debe exceder el valor establecido en los listados de honorarios adoptados y mencionados anteriormente. * El factor prestacional se establece de manera fija dentro del presente documento. * El tiempo debe coincidir con el establecido en la ejecución del contrato. * El porcentaje de dedicación esta sujeto a la particularidad del proyecto, el cual podrá ser modificado de manera concertada y técnica, soportado con el diagnóstico del mismo.
A4: OTROS RECURSOS | B4: * El costo de los ensayos de laboratorio corresponde al establecido en el listado de honorarios del AIM "PRECIOS DE REFRENCIA PARA LA CONTRATACIÓN DE SERVICIOS DE CONSULTORÍA E INTERVENTORÍA". *En caso de requerir trasporte, podrá tomar el valor del mismo listado mencionado anteriormente afectándolo de manera diaria, este se aceptará únicamente en proyectos que se encuentren fuera del casco urbano del municipio. * La cantidad está relacionada con la unidad de cada recurso, cuando se trate de unidad mes, será el establecido en la ejecución del contrato, si la unidad corresponde a un valor global, este valor de cantidad será 1.
A5: B. GARANTIAS | B5: * Corresponden a la afectación sobre la suma del Costo Directo + Administración + Imprevistos + Utilidad. Porcentajes adoptados de lo dispuesto por la AIM, según formato 110-GPY-FR-001-V06.
A6: C. IMPUESTOS Y DERECHOS | B6: * Son los descuentos fijos establecidos por la oficina de contabilidad bajo el acuerdo 595 de 2022.

Sheet DESGLOSE AIU
B2: DESGLOSE ADMINISTRACIÓN OBRA
B10: OBJETO DEL PROYECTO: | D10: PRESUPUESTO DE OBRA PARA LA ADECUACIÓN MENOR DEL CENTRO DE SALUD POPULAR DE ACACIAS, META.
B11: FECHA DE ELABORACIÓN | D11: 46066
B13: ANALISIS DEL AIU
B14: (A). COSTO DIRECTO + OTROS COSTOS | D14: 396400202 | M14: =+D14*0.28 -> 1.1099206e+08
B15: (A) + ADMINISTRACIÓN + IMPREVISTOS + UTILIDAD | D15: 535140273
B16: % AIU | C16: =+I65 -> 0.35 | D16: % ADMINISTRACION | E16: 0.28 | F16: % IMPREVISTOS | G16: 0.02 | H16: % UTILIDAD | I16: 0.05 | M16: 1.1099206e+08
B17: TOTAL AIU | C17: =+E17+G17+I17 -> 138740070 | D17: TOTAL ADMINISTRACION | E17: =G62 -> 1.1099206e+08 | F17: TOTAL IMPREVISTOS | G17: =G16*D14 -> 7928004 | H17: TOTAL UTILIDAD | I17: =I16*D14 -> 19820010
B19: DESCRIPCIÓN ADMINISTRACIÓN
B21: A. ADMINISTRACIÓN DE OBRA:
B23: PERSONAL
B25: No | C25: CARGO | D25: ASIGNACIÓN MENSUAL | G25: TIEMPO (EN MESES) | H25: DEDICACIÓN | I25: VALOR PARCIAL
D26: BASICO | E26: FACTOR PRESTACIONAL | F26: TOTAL
B27: 1 | C27: Director de Obra | D27: 3658536.6 | E27: 1.64 | F27: =+D27*E27 -> 6000000 | G27: 4 | H27: 0.5 | I27: =+B27*F27*G27*H27 -> 12000000
B28: 1 | C28: Residente de Obra | D28: 2743902.4 | E28: 1.64 | F28: =+D28*E28 -> 4500000 | G28: 4 | H28: 1 | I28: =+B28*F28*G28*H28 -> 18000000
B30: SUB TOTAL | I30: =SUM(I27:I29) -> 30000000
B32: OTROS RECURSOS
B34: N° | C34: DESCRIPCIÓN | E34: UNIDAD | F34: CANTIDAD | G34: VALOR UNITARIO | H34: DEDICACIÓN | I34: VALOR TOTAL
B36: 1 | C36: Valla Informativa | E36: GLOBAL | F36: 1 | G36: 400000 | H36: 1 | I36: =+B36*F36*G36*H36 -> 400000
B37: 1 | C37: Planos record de construcción, fotocopias, heliografías, fotografías, informes, Papeleria, computadores, impresoras, camaras, muebles, materiales de consumo y otros. | E37: MES | F37: 4 | G37: 615393.99 | H37: 1 | I37: =+B37*F37*G37*H37 -> 2461576
B39: SUB TOTAL | I39: =SUM(I36:I38) -> 2861576
B41: B. GARANTIAS
B42: NOTA: El Valor Unitario corresponde a la suma del Costo Directo + Administración + Imprevistos + Utilidad
B43: N° | C43: DESCRIPCIÓN | E43: UNIDAD | F43: CANTIDAD | G43: VALOR UNITARIO | I43: VALOR TOTAL
B45: 1 | C45: Cumplimiento - Cumplimiento del contrato | E45: % | F45: 0.0015 | G45: =+$D$15 -> 535140273 | I45: =+B45*F45*G45 -> 802710.41
B46: 1 | C46: Cumplimiento - Pago de salarios | E46: % | F46: 0.0015 | G46: =+$D$15 -> 535140273 | I46: =+B46*F46*G46 -> 802710.41
B47: 1 | C47: Cumplimiento - Estabilidad y calidad de la obra | E47: % | F47: 0.002 | G47: =+$D$15 -> 535140273 | I47: =+B47*F47*G47 -> 1070280.5
B48: 1 | C48: Responsabilidad civil extra contractual | E48: % | F48: 0.001 | G48: =+$D$15 -> 535140273 | I48: =+B48*F48*G48 -> 535140.27
B49: SUB TOTAL | I49: =SUM(I45:I48) -> 3210841.6
B51: C. IMPUESTOS Y DERECHOS
B53: N° | C53: DESCRIPCIÓN | E53: UNIDAD | F53: CANTIDAD | G53: VALOR UNITARIO | I53: VALOR TOTAL
B55: 1 | C55: Contribucion de seguridad - 5% | E55: % | F55: 0.05 | G55: =+$D$15 -> 535140273 | I55: =+B55*G55*F55 -> 26757014
B56: 1 | C56: Pro Cultura- 2% | E56: % | F56: 0.02 | G56: =+$D$15 -> 535140273 | I56: =+B56*G56*F56 -> 10702805
B57: 1 | C57: Pro adulto mayor - 3% | E57: % | F57: 0.03 | G57: =+$D$15 -> 535140273 | I57: =+B57*G57*F57 -> 16054208
B58: 1 | C58: Recreacion y deporte- 2% | E58: % | F58: 0.02 | G58: =+$D$15 -> 535140273 | I58: =+B58*G58*F58 -> 10702805
B59: 1 | C59: Pro Turismo - 2% | E59: % | F59: 0.02 | G59: =+$D$15 -> 535140273 | I59: =+B59*G59*F59 -> 10702805
B60: SUB TOTAL | I60: =SUM(I55:I59) -> 74919638
B62: VALOR TOTAL ADMINISTRACION | G62: =ROUND(I60+I49+I39+I30,2) -> 1.1099206e+08 | I62: =ROUND(E17/D14,2) -> 0.28
B63: VALOR DE IMPREVISTOS | G63: =+G17 -> 7928004 | I63: 0.02
B64: VALOR DE UTILIDAD | G64: =I17 -> 19820010 | I64: 0.05
...

Sheet FACTOR PRESTACIONAL
A1: ANALISIS DE COSTOS FACTOR PRESTACIONAL
B3: PRESTACIONES SOCIALES
B4: CONCEPTO | C4: FACTOR | D4: %
B5: SALARIO
A6: A | B6: Salario anual | D6: 1
A7: B | B7: PRESTACIONES
A8: a | B8: Cesantía anual (2) | C8: A/12 | D8: =+D6/12 -> 0.083333333
A9: b | B9: Intereses Cesantía | C9: a*12% | D9: =+D8*12% -> 0.01
A10: c | B10: Prima anual legal | C10: A/12 | D10: =+D6/12 -> 0.083333333
A11: d | B11: Vacaciones - 15 días | C11: (15/360*A) | D11: =0.0416666666666667*100% -> 0.041666667
A12: C | B12: OTROS COSTOS
B13: Botas, Overol y SST | C13: %A | D13: 0.05
A14: D | B14: SEGURIDAD SOCIAL
B15: Pensiones | C15: 0.12 | D15: 0.12
B16: Medicina Familiar - Salud | C16: 0.085 | D16: 0.085
B17: ARL - Profesionales | C17: %A | D17: 0.0696
B18: ARL - Oficina | C18: %A | D18: 0.0052
A19: E | B19: APORTES SENA
B20: Aporte Ordinario | C20: %A | D20: 0.02
A21: F | B21: OTROS APORTES
B22: I.C.B.F. | C22: %A | D22: 0.03
B23: Subsidio Familiar | C23: %A | D23: 0.04
A24: FACTOR PRETACIONAL | D24: =SUM(D6:D23) -> 1.6381333
A25: FACTOR PRETACIONAL - REDONDEADO | D25: =+ROUND(D24,2) -> 1.64
A27: Firma | C27: Firma
A28: Nombre: | C28: Nombre:
A29: Cargo: | C29: Cargo:

Sheet INSUMOS
B2: INSUMOS* | C2: FUENTE CONSULTADA | G2: PROMEDIO | H2: COSTO + INCREMENTO FACTOR ZONA 1,05 AIM 2023 | J2: ESPECIFICACIÓN
C3: ÉXITO | D3: ALKOSTO /KTRONIX | E3: FALABELLA | F3: HOMECENTER
B4: Resma De Papel Tamaño Carta Reprograf 500 Hojas 75gr | C4: 29900 | D4: 19900 | E4: 24100 | F4: 27900 | G4: =AVERAGE(C4:F4) -> 25450 | H4: =+G4*1.05 -> 26722.5
B5: Impresora Multifuncional HP Smart Tank 720 | C5: 1599000 | D5: 1599000 | E5: 1699900 | G5: =AVERAGE(C5:F5) -> 1632633.3 | H5: =+G5*1.05 -> 1714265 | J5: 2 AÑOS GARANTÍA
B6: Tinta hp gt53 para impresoras ink tank 315 415 gt5810 gt5820 kit x 4 | C6: 180000 | D6: 180900 | E6: 192900 | G6: =AVERAGE(C6:F6) -> 184600 | H6: =+G6*1.05 -> 193830 | J6: 6000 PAG RENDIMIENTO APROX
B7: SILLA DE ESCRITORIO (OFICINA) CON BRAZOS | C7: 529900 | D7: 499900 | E7: 479990 | F7: 599900 | G7: =AVERAGE(C7:F7) -> 527422.5 | H7: =+G7*1.05 -> 553793.62 | J7: 2 AÑOS GARANTÍA APROX
B8: SILLA INTERLOCUTORA (TIPO COMEDOR PARA REUNIONES) | C8: 369990 | D8: 399900 | E8: 309900 | F8: 279900 | G8: =AVERAGE(C8:F8) -> 339922.5 | H8: =+G8*1.05 -> 356918.62 | J8: 2 AÑOS GARANTÍA APROX
B9: ESCRITORIO VIDRIO - METAL -MELAMINA CON CAJONERA | C9: 763900 | E9: 900000 | F9: 749900 | G9: =AVERAGE(C9:F9) -> 804600 | H9: =+G9*1.05 -> 844830 | J9: 2 AÑOS GARANTÍA APROX
B10: MESA DE REUNIONES (TIPO COMEDOR 4 PUESTOS) | C10: 699900 | D10: 629900 | E10: 729990 | F10: 969900 | G10: =AVERAGE(C10:F10) -> 757422.5 | H10: =+G10*1.05 -> 795293.62 | J10: 18 MESES GARANTÍA APROX
B11: COMPUTADOR PRESTACIONES MEDIAS TIPO LENOVO 15,6". Intel Core i5 - Ryzen 5, 8 GB, RAM 512 GB SSD | C11: 3999000 | D11: 3299000 | E11: 2899900 | F11: 2899900 | G11: =AVERAGE(C11:F11) -> 3274450 | H11: =+G11*1.05 -> 3438172.5 | J11: 3 AÑOS GARANTÍA APROX
B12: PORTÁTIL PRESTACIONES ALTAS TIPO Lenovo Ideapad Slim 5 | Intel Core i7 - Ryzen7| 16GB de RAM | C12: 4699000 | D12: 4099000 | E12: 4099900 | F12: 4099900 | G12: =AVERAGE(C12:F12) -> 4249450 | H12: =+G12*1.05 -> 4461922.5 | J12: 3 AÑOS GARANTÍA APROX
B13: TV TIPO LG 55" 4K | C13: 3299900 | D13: 3399900 | E13: 3299900 | F13: 3299900 | G13: =AVERAGE(C13:F13) -> 3324900 | H13: =+G13*1.05 -> 3491145 | J13: 2 AÑOS GARANTÍA APROX
B15: * Las marcas se toman como referencia de costos, no indican su uso.

Sheet DESGLOSE OPERACIONALES
B2: DESGLOSE GASTOS OPERACIONALES OFICINA | E2: VIGENCIA 2024
B4: DESCRIPCIÓN | C4: COSTO INSUMO | D4: CANTIDAD/MES | E4: PORCENTAJE ESTIMADO POR USO | F4: SUBTOTAL
B5: PAPELERÍA
B6: RESMA | C6: =INSUMOS!H4 -> 26722.5 | D6: 2 | E6: 1 | F6: =C6*D6*E6 -> 53445
B7: IMPRESIONES Y FOTOCOPIAS BÁSICAS
B8: IMPRESORA | C8: =INSUMOS!H5 -> 1714265 | D8: 1 | E8: =1/24 -> 0.041666667 | F8: =C8*D8*E8 -> 71427.708
B9: TINTA | C9: =INSUMOS!H6 -> 193830 | D9: 1 | E9: =1/6 -> 0.16666667 | F9: =C9*D9*E9 -> 32305
B10: MOBILIARIO
B11: SILLA DE PRESTACIONES BÁSICAS | C11: =INSUMOS!H7 -> 553793.62 | D11: 3 | E11: =1/24 -> 0.041666667 | F11: =C11*D11*E11 -> 69224.203
B12: SILLA INTERLOCUTORA | C12: =INSUMOS!H8 -> 356918.62 | D12: 4 | E12: =1/24 -> 0.041666667 | F12: =C12*D12*E12 -> 59486.438
B13: PUESTO DE TRABAJO CON CAJONERA | C13: =INSUMOS!H9 -> 844830 | D13: 3 | E13: =1/24 -> 0.041666667 | F13: =C13*D13*E13 -> 105603.75
B14: MESA DE REUNIONES | C14: =INSUMOS!H10 -> 795293.62 | D14: 1 | E14: =1/18 -> 0.055555556 | F14: =C14*D14*E14 -> 44182.979
B15: EQUIPOS ELECTRÓNICOS
B16: COMPUTADOR PRESTACIONES MEDIAS PROCESADOR TIPO I5 | C16: =INSUMOS!H11 -> 3438172.5 | D16: 2 | E16: =1/36 -> 0.027777778 | F16: =C16*D16*E16 -> 191009.58
B17: COMPUTADOR PRESTACIONES MEDIAS PROCESADOR TIPO I7 | C17: =INSUMOS!H12 -> 4461922.5 | D17: 1 | E17: =1/36 -> 0.027777778 | F17: =C17*D17*E17 -> 123942.29
B18: TV 55" | C18: =INSUMOS!H13 -> 3491145 | D18: 1 | E18: =1/24 -> 0.041666667 | F18: =C18*D18*E18 -> 145464.38
B19: PLANOS RECORD
B20: IMPRESIÓN FORMATO PLIEGO | C20: 15000 | D20: 5 | F20: =C20*D20 -> 75000
E22: COSTO / MES | F22: =SUM(F6:F20) -> 971091.33
