Workbook

Sheet Formato Cronograma
A1: Cronograma de Actividades Contrato N° 1912- 2026 - UNIDAD PARA LA ATENCIÓN Y REPARACIÓN INTEGRAL A LAS VICTIMAS - ALDESARROLLO | N1: ENERO | AL1: FEBRERO | BI1: MARZO | CI1: ABRIL
A2: Ítem | B2: Actividad Académica | C2: Tipología | D2: Docente | E2: Coordinador logístico | F2: No. Participantes | G2: No. Horas | H2: No. Sesiones | I2: Lugar de ejecución | J2: Fecha de Inicio | K2: Fecha de Terminación | L2: Fecha Sesiones | M2: Horario | N2: Mi | O2: Ju | P2: Vi. | Q2: Lu. | R2: Ma. | S2: Mi. | T2: Ju. | U2: Vi. | V2: Lu. | W2: Ma. | X2: Mi. | Y2: Ju. | Z2: Vi. | AA2: Lu. | AB2: Ma. | AC2: Mi. | AD2: Ju. | AE2: Vi. | AF2: Sa | AG2: Lu. | AH2: Ma. | AI2: Mi. | AJ2: Ju. | AK2: Vi. | AL2: Lu. | AM2: Ma. | AN2: Mi. | AO2: Ju. | AP2: Vi. | AQ2: Sa | AR2: Lu. | AS2: Ma. | AT2: Mi. | AU2: Ju. | AV2: Vi. | AW2: Sa | AX2: Lu. | AY2: Ma. | AZ2: Mi. | BA2: Ju. | BB2: Vi. | BC2: Sa | BD2: Lu. | BE2: Ma. | BF2: Mi. | BG2: Ju. | BH2: Vi. | BI2: Sa | BJ2: Lu. | BK2: Ma. | BL2: Mi. | BM2: Ju. | BN2: Vi. | BO2: Sa. | BP2: Lu. | BQ2: Ma. | BR2: Mi. | BS2: Ju. | BT2: Vi. | BU2: Sa | BV2: Lu. | BW2: Ma. | BX2: Mi. | BY2: Ju. | BZ2: Vi. | CA2: Sa | CB2: Lu. | CC2: Ma. | CD2: Mi. | CE2: Ju. | CF2: Vi. | CG2: Sa | CH2: Lu. | CI2: Ma. | CJ2: Mi. | CK2: Ju. | CL2: Vi. | CM2: Sa | CN2: Lu. | CO2: Ma. | CP2: Mi. | CQ2: Ju. | CR2: Vi. | CS2: Sa | CT2: Lu. | CU2: Ma. | CV2: Mi. | CW2: Ju. | CX2: Vi. | CY2: Sa | CZ2: Lu. | DA2: Ma. | DB2: Mi. | DC2: Ju. | DD2: Vi. | DE2: Sa | DF2: Lu. | DG2: Ma. | DH2: Mi. | DI2: Ju. | DJ2: Vi. | DK2: Sa | DL2: Lu. | DM2: Ma. | DN2: Mi. | DO2: Ju. | DP2: Vi. | DQ2: Sa | DR2: Lu. | DS2: Ma. | DT2: Mi. | DU2: Ju. | DV2: Vi. | DW2: Sa | DX2: Lu. | DY2: Ma. | DZ2: Mi. | EA2: Ju. | EB2: Vi. | EC2: Sa | ED2: Lu. | EE2: Ma. | EF2: Mi. | EG2: Ju. | EH2: Vi. | EI2: Sa | EJ2: Lu. | EK2: Ma. | EL2: Mi. | EM2: Ju. | EN2: Vi. | EO2: Sa | EP2: Lu. | EQ2: Ma. | ER2: Mi. | ES2: Ju. | ET2: Vi. | EU2: Sa | EV2: Lu. | EW2: Ma. | EX2: Mi. | EY2: Ju. | EZ2: Vi. | FA2: Sa | FB2: Lu. | FC2: Ma. | FD2: Mi. | FE2: Ju. | FF2: Vi. | FG2: Sa | FH2: Lu. | FI2: Ma. | FJ2: Mi. | FK2: Ju. | FL2: Vi. | FM2: Sa | FN2: Lu. | FO2: Ma. | FP2: Mi. | FQ2: Ju. | FR2: Vi. | FS2: Sa | FT2: Lu. | FU2: Ma. | FV2: Mi. | FW2: Ju. | FX2: Vi. | FY2: Sa | FZ2: Lu. | GA2: Ma. | GB2: Mi. | GC2: Ju. | GD2: Vi. | GE2: Sa | GF2: Lu. | GG2: Ma. | GH2: Mi. | GI2: Ju. | GJ2: Vi. | GK2: Sa | GL2: Lu. | GM2: Ma. | GN2: Mi. | GO2: Ju. | GP2: Vi. | GQ2: Sa | GR2: Lu. | GS2: Ma. | GT2: Mi. | GU2: Ju. | GV2: Vi. | GW2: Sa | GX2: Lu. | GY2: Ma. | GZ2: Mi. | HA2: Ju. | HB2: Vi. | HC2: Sa | HD2: Lu. | HE2: Ma. | HF2: Mi. | HG2: Ju. | HH2: Vi. | HI2: Sa | HJ2: Lu. | HK2: Ma. | HL2: Mi. | HM2: Ju. | HN2: Vi. | HO2: Sa | HP2: Lu. | HQ2: Ma. | HR2: Mi. | HS2: Ju. | HT2: Vi. | HU2: Sa | HV2: Lu. | HW2: Ma. | HX2: Mi. | HY2: Ju. | HZ2: Vi. | IA2: Sa | IB2: Lu. | IC2: Ma. | ID2: Mi. | IE2: Ju. | IF2: Vi. | IG2: Sa | IH2: Lu. | II2: Ma. | IJ2: Mi. | IK2: Ju. | IL2: Vi. | IM2: Sa | IN2: Lu. | IO2: Ma. | IP2: Mi. | IQ2: Ju. | IR2: Vi. | IS2: Sa | IT2: Lu. | IU2: Ma. | IV2: Mi. | IW2: Ju. | IX2: Vi. | IY2: Sa | IZ2: Lu. | JA2: Ma. | JB2: Mi. | JC2: Ju. | JD2: Vi. | JE2: Sa | JF2: Lu. | JG2: Ma. | JH2: Mi. | JI2: Ju. | JJ2: Vi. | JK2: Sa | JL2: Lu. | JM2: Ma. | JN2: Mi. | JO2: Ju. | JP2: Vi. | JQ2: Sa | JR2: Lu. | JS2: Ma. | JT2: Mi. | JU2: Ju. | JV2: Vi. | JW2: Sa | JX2: Lu. | JY2: Ma. | JZ2: Mi. | KA2: Ju. | KB2: Vi. | KC2: Sa | KD2: Lu. | KE2: Ma. | KF2: Mi. | KG2: Ju. | KH2: Vi. | KI2: Sa | KJ2: Lu. | KK2: Ma. | KL2: Mi. | KM2: Ju. | KN2: Vi. | KO2: Sa | KP2: Lu. | KQ2: Ma. | KR2: Mi. | KS2: Ju. | KT2: Vi. | KU2: Sa | KV2: Lu. | KW2: Ma. | KX2: Mi. | KY2: Ju. | KZ2: Vi. | LA2: Sa | LB2: Lu. | LC2: Ma. | LD2: Mi. | LE2: Ju. | LF2: Vi. | LG2: Sa | LH2: Lu. | LI2: Ma. | LJ2: MI
N3: 1 | O3: 2 | P3: 3 | Q3: 6 | R3: 7 | S3: 8 | T3: =S3+1 -> 9 | U3: =T3+1 -> 10 | V3: 13 | W3: =V3+1 -> 14 | X3: 15 | Y3: =X3+1 -> 16 | Z3: =Y3+1 -> 17 | AA3: 20 | AB3: =AA3+1 -> 21 | AC3: 22 | AD3: =AC3+1 -> 23 | AE3: =AD3+1 -> 24 | AF3: 25 | AG3: 27 | AH3: =AG3+1 -> 28 | AI3: 29 | AJ3: =AI3+1 -> 30 | AK3: =AJ3+1 -> 31 | AL3: 3 | AM3: =AL3+1 -> 4 | AN3: 5 | AO3: =AN3+1 -> 6 | AP3: =AO3+1 -> 7 | AQ3: 8 | AR3: 10 | AS3: =AR3+1 -> 11 | AT3: 12 | AU3: =AT3+1 -> 13 | AV3: =AU3+1 -> 14 | AW3: 15 | AX3: 17 | AY3: =AX3+1 -> 18 | AZ3: 19 | BA3: =AZ3+1 -> 20 | BB3: =BA3+1 -> 21 | BC3: 22 | BD3: 24 | BE3: =BD3+1 -> 25 | BF3: 26 | BG3: =BF3+1 -> 27 | BH3: =BG3+1 -> 28 | BI3: 1 | BJ3: 3 | BK3: 4 | BL3: 5 | BM3: =BL3+1 -> 6 | BN3: =BM3+1 -> 7 | BO3: 8 | BP3: 10 | BQ3: =BP3+1 -> 11 | BR3: 12 | BS3: =BR3+1 -> 13 | BT3: =BS3+1 -> 14 | BU3: 15 | BV3: 17 | BW3: =BV3+1 -> 18 | BX3: 19 | BY3: =BX3+1 -> 20 | BZ3: =BY3+1 -> 21 | CA3: 22 | CB3: 24 | CC3: =CB3+1 -> 25 | CD3: 26 | CE3: =CD3+1 -> 27 | CF3: =CE3+1 -> 28 | CG3: =CF3+1 -> 29 | CH3: 31 | CI3: 1 | CJ3: 2 | CK3: =CJ3+1 -> 3 | CL3: =CK3+1 -> 4 | CM3: 5 | CN3: 7 | CO3: =CN3+1 -> 8 | CP3: 9 | CQ3: =CP3+1 -> 10 | CR3: =CQ3+1 -> 11 | CS3: 12 | CT3: 14 | CU3: =CT3+1 -> 15 | CV3: 16 | CW3: =CV3+1 -> 17 | CX3: =CW3+1 -> 18 | CY3: 19 | CZ3: 21 | DA3: =CZ3+1 -> 22 | DB3: 23 | DC3: =DB3+1 -> 24 | DD3: =DC3+1 -> 25 | DE3: 26 | DF3: 28 | DG3: =DF3+1 -> 29 | DH3: 30 | DI3: 1 | DJ3: 2 | DK3: 3 | DL3: 5 | DM3: =DL3+1 -> 6 | DN3: 7 | DO3: =DN3+1 -> 8 | DP3: =DO3+1 -> 9 | DQ3: 10 | DR3: 12 | DS3: =DR3+1 -> 13 | DT3: 14 | DU3: =DT3+1 -> 15 | DV3: =DU3+1 -> 16 | DW3: 17 | DX3: 19 | DY3: =DX3+1 -> 20 | DZ3: 21 | EA3: =DZ3+1 -> 22 | EB3: =EA3+1 -> 23 | EC3: 24 | ED3: 26 | EE3: =ED3+1 -> 27 | EF3: 28 | EG3: =EF3+1 -> 29 | EH3: =EG3+1 -> 30 | EI3: 31 | EJ3: 2 | EK3: =EJ3+1 -> 3 | EL3: 4 | EM3: =EL3+1 -> 5 | EN3: =EM3+1 -> 6 | EO3: 7 | EP3: 9 | EQ3: =EP3+1 -> 10 | ER3: 11 | ES3: =ER3+1 -> 12 | ET3: =ES3+1 -> 13 | EU3: 14 | EV3: 16 | EW3: =EV3+1 -> 17 | EX3: 18 | EY3: =EX3+1 -> 19 | EZ3: =EY3+1 -> 20 | FA3: 21 | FB3: 23 | FC3: =FB3+1 -> 24 | FD3: 25 | FE3: =FD3+1 -> 26 | FF3: =FE3+1 -> 27 | FG3: 28 | FH3: 30 | FI3: 1 | FJ3: 2 | FK3: =FJ3+1 -> 3 | FL3: =FK3+1 -> 4 | FM3: 5 | FN3: 7 | FO3: =FN3+1 -> 8 | FP3: 9 | FQ3: =FP3+1 -> 10 | FR3: =FQ3+1 -> 11 | FS3: 12 | FT3: 14 | FU3: =FT3+1 -> 15 | FV3: 16 | FW3: =FV3+1 -> 17 | FX3: =FW3+1 -> 18 | FY3: 19 | FZ3: 21 | GA3: =FZ3+1 -> 22 | GB3: 23 | GC3: =GB3+1 -> 24 | GD3: =GC3+1 -> 25 | GE3: 26 | GF3: 28 | GG3: =GF3+1 -> 29 | GH3: 30 | GI3: =GH3+1 -> 31 | GJ3: 1 | GK3: 2 | GL3: 4 | GM3: =GL3+1 -> 5 | GN3: 6 | GO3: =GN3+1 -> 7 | GP3: =GO3+1 -> 8 | GQ3: 9 | GR3: 11 | GS3: =GR3+1 -> 12 | GT3: 13 | GU3: 14 | GV3: =GU3+1 -> 15 | GW3: 16 | GX3: 18 | GY3: =GX3+1 -> 19 | GZ3: 20 | HA3: =GZ3+1 -> 21 | HB3: =HA3+1 -> 22 | HC3: 23 | HD3: 25 | HE3: =HD3+1 -> 26 | HF3: 27 | HG3: =HF3+1 -> 28 | HH3: =HG3+1 -> 29 | HI3: =HH3+1 -> 30 | HJ3: 1 | HK3: =HJ3+1 -> 2 | HL3: 3 | HM3: =HL3+1 -> 4 | HN3: =HM3+1 -> 5 | HO3: 6 | HP3: 8 | HQ3: =HP3+1 -> 9 | HR3: 10 | HS3: =HR3+1 -> 11 | HT3: =HS3+1 -> 12 | HU3: 13 | HV3: 15 | HW3: =HV3+1 -> 16 | HX3: 17 | HY3: =HX3+1 -> 18 | HZ3: =HY3+1 -> 19 | IA3: 20 | IB3: 22 | IC3: =IB3+1 -> 23 | ID3: 24 | IE3: =ID3+1 -> 25 | IF3: =IE3+1 -> 26 | IG3: 21 | IH3: 29 | II3: =IH3+1 -> 30 | IJ3: 1 | IK3: 2 | IL3: =IK3+1 -> 3 | IM3: 4 | IN3: 6 | IO3: =IN3+1 -> 7 | IP3: 8 | IQ3: =IP3+1 -> 9 | IR3: =IQ3+1 -> 10 | IS3: 11 | IT3: 13 | IU3: =IT3+1 -> 14 | IV3: 15 | IW3: =IV3+1 -> 16 | IX3: =IW3+1 -> 17 | IY3: 18 | IZ3: 20 | JA3: =IZ3+1 -> 21 | JB3: 22 | JC3: =JB3+1 -> 23 | JD3: =JC3+1 -> 24 | JE3: 25 | JF3: 27 | JG3: =JF3+1 -> 28 | JH3: 29 | JI3: =JH3+1 -> 30 | JJ3: =JI3+1 -> 31 | JK3: 1 | JL3: 3 | JM3: 4 | JN3: 5 | JO3: =JN3+1 -> 6 | JP3: =JO3+1 -> 7 | JQ3: 8 | JR3: 10 | JS3: =JR3+1 -> 11 | JT3: 12 | JU3: =JT3+1 -> 13 | JV3: =JU3+1 -> 14 | JW3: 15 | JX3: 17 | JY3: =JX3+1 -> 18 | JZ3: 19 | KA3: =JZ3+1 -> 20 | KB3: =KA3+1 -> 21 | KC3: 22 | KD3: 24 | KE3: =KD3+1 -> 25 | KF3: 26 | KG3: =KF3+1 -> 27 | KH3: =KG3+1 -> 28 | KI3: 29 | KJ3: 1 | KK3: =KJ3+1 -> 2 | KL3: 3 | KM3: =KL3+1 -> 4 | KN3: =KM3+1 -> 5 | KO3: 6 | KP3: 8 | KQ3: =KP3+1 -> 9 | KR3: 10 | KS3: =KR3+1 -> 11 | KT3: =KS3+1 -> 12 | KU3: 13 | KV3: 15 | KW3: =KV3+1 -> 16 | KX3: 17 | KY3: =KX3+1 -> 18 | KZ3: =KY3+1 -> 19 | LA3: 20 | LB3: 22 | LC3: =LB3+1 -> 23 | LD3: 24 | LE3: =LD3+1 -> 25 | LF3: 27 | LG3: 25 | LH3: 29 | LI3: =LH3+1 -> 30 | LJ3: 31
A4: 1 | B4: Diplomado- Atención y Reparación a víctimas (actualización plataforma Moodle). | C4: Virtual asincrónico | D4: Eduardo Gil -Edinsón Bohórquez | E4: David Pérez | F4: 200 | G4: 100 | H4: N/A | I4: Microsoft Teams | J4: 46127 | K4: 46225 | L4: Virtual asincrónico | M4: Virtual asincrónico
A5: 2 | B5: Derechos Humanos y Derecho Internacional Humanitario y Justicia Transicional. | C5: Presencial | D5: Edinsón Bohórquez | E5: David Pérez | F5: 30 | G5: 20 | H5: 5 | I5: Entidad | J5: 46126 | K5: 46140 | L5: 14-16- 21-23 y 28 de abril | M5: 8:00 am a 12m
A6: 3 | B6: Derechos Humanos y Derecho Internacional Humanitario y Justicia Transicional. | C6: Virtual sincrónico | D6: Edinsón Bohórquez | E6: David Pérez | F6: 30 | G6: 20 | H6: 5 | I6: Microsoft Teams | J6: 46125 | K6: 46139 | L6: 13-15-20-22 y 27 de abril | M6: 1:00 pm a 5.00 pm
A7: 4 | B7: Fortalecimiento de acción humanitaria. | C7: Virtual sincrónico | D7: Romelia Negrete | E7: David Pérez | F7: 30 | G7: 20 | H7: 5 | I7: Microsoft Teams | J7: 46094 | K7: 46108 | L7: 13-18-20-25 y 27 de marzo | M7: 1:00 pm a 5:00 pm
A8: 5 | B8: Fortalecimiento de acción humanitaria. | C8: Presencial | D8: Romelia Negrete | E8: David Pérez | F8: 30 | G8: 20 | H8: 5 | I8: Entidad | J8: 46093 | K8: 46107 | L8: 12-17-19 -24 y 26 de marzo | M8: 8:00 am a 12m
A9: 6 | B9: Herramientas gerenciales de planeación, seguimiento y evaluación. | C9: Virtual sincrónico | D9: Ricardo Trujillo | E9: David Pérez | F9: 60 | G9: 20 | H9: 5 | I9: Microsoft Teams | J9: 46156 | K9: 46170 | L9: 14-19-21-26 y 28 de mayo | M9: 8:00 am a 12m
A10: 7 | B10: Gestión de proyectos desde el mapeo participativo. | C10: Virtual sincrónico | D10: Jesús Eduardo Gil Cañón | E10: David Pérez | F10: 30 | G10: 20 | H10: 5 | I10: Microsoft Teams | J10: 46134 | K10: 6/05/206 | L10: 22,27,29 abril,4 y 6 de mayo | M10: 1:00 pm a 5pm
A11: 8 | B11: Reconocimiento de los impactos del conflicto armado en el Territorio. | C11: Virtual sincrónico | D11: Norberto Ardila | E11: David Pérez | F11: 40 | G11: 20 | H11: 5 | I11: Microsoft Teams | J11: 46148 | K11: 46162 | L11: 8-13-15-20 y 22 de mayo | M11: 1:00 pm a 5.00pm
A12: 9 | B12: Economía circular y desarrollo sostenible. | C12: Virtual sincrónico | D12: Viviana Palacios | E12: David Pérez | F12: 40 | G12: 20 | H12: 5 | I12: Microsoft Teams | J12: 46128 | K12: 46142 | L12: 16-21-23-28 y 30 Abril | M12: 1:00 pm a 5:00 pm
A13: 10 | B13: Innovación e Inteligencia artificial (IA). | C13: Virtual sincrónico | D13: Freddy Bocanegra | E13: David Pérez | F13: 120 | G13: 20 | H13: 5 | I13: Microsoft Teams | J13: 46182 | K13: 46196 | L13: 9-11-16-18 y 23 de junio | M13: 1:00 pm a 5:00 pm
A14: 11 | B14: Liderazgo transformacional. | C14: Virtual sincrónico | D14: Alejandro Millan | E14: David Pérez | F14: 40 | G14: 20 | H14: 5 | I14: Microsoft Teams | J14: 46174 | K14: 46189 | L14: 1-3-10-11 y 16 de junio | M14: 8:00 am a 12m
A15: 12 | B15: Nuevo modelo de la gerencia pública. | C15: Virtual sincrónico | D15: Héctor David Sanjuan P | E15: David Pérez | F15: 60 | G15: 20 | H15: 10 | I15: Microsoft Teams | M15: 8:00 am a 10:00 am
A16: 13 | B16: Habilidades blandas. | C16: Virtual sincrónico | D16: Angélica Leon | E16: David Pérez | F16: 30 | G16: 20 | H16: 5 | I16: Microsoft Teams | J16: 46148 | K16: 46162 | L16: 6-8-13-15 y 20 de mayo | M16: 1:00 am a 5:00 m
A17: 14 | B17: Habilidades blandas. | C17: Presencial | D17: Angélica Leon | E17: David Pérez | F17: 30 | G17: 20 | H17: 5 | I17: Entidad | J17: 46168 | K17: 46182 | L17: 26-28 mayo 2 -4 y 9 de junio | M17: 8:00 am a 12:00 m
A18: 15 | B18: Laboral colectiva. | C18: Virtual sincrónico | D18: Paola Zuluaga | E18: David Pérez | F18: 40 | G18: 20 | H18: 5 | I18: Microsoft Teams | J18: 46084 | K18: 46100 | L18: 03 - 05- 10 - 17 y 19 de marzo | M18: 8:00 am a 12m
A19: 16 | B19: Redacción clara y técnica de conceptos y respuestas de argumentación y síntesis. | C19: Presencial | D19: Paola Zuluaga | E19: David Pérez | F19: 40 | G19: 20 | H19: 5 | I19: Microsoft Teams | J19: 46183 | K19: 46197 | L19: 10-12-17-19 y 24 de junio | M19: 8:00 am a 12:00 m
A20: 17 | B20: Lenguaje de señas. | C20: Virtual sincrónico | D20: Germán Valcarcel | E20: David Pérez | F20: 30 | G20: 20 | H20: 5 | I20: Microsoft Teams | J20: 46198 | K20: 46212 | L20: 25-30 junio-2-7 y 9 de julio | M20: 1:00 am a 5:00 pm
A21: 18 | B21: Bilinguismo. | C21: Virtual asincrónico | D21: Externo | E21: David Pérez | F21: 30 | G21: 60 | H21: N/A | I21: Microsoft Teams | J21: Abril | K21: Julio | L21: Virtual asincrónico | M21: Virtual asincrónico
A22: 19 | B22: Supervisión de contratos. | C22: Virtual sincrónico | D22: Corina Duque | F22: 60 | G22: 20 | H22: 5 | I22: Microsoft Teams | J22: 46133 | K22: 46147 | L22: 20,21,27,28, y 4 de mayo | M22: 8:00 am a 12:00 m
A23: 20 | B23: Planeación Estratégica y Formulación de Políticas Públicas. | C23: Virtual sincrónico | D23: Héctor David Sanjuan P | E23: David Pérez | F23: 30 | G23: 20 | H23: 5 | I23: Microsoft Teams | J23: 46204 | K23: 46218 | L23: 1-3-8-10 y 15 de julio | M23: 8:00 am a 12:00 m
A24: 21 | B24: Planeación Estratégica y Formulación de Políticas Públicas. | C24: Presencial | D24: Edinsón Bohórquez | E24: David Pérez | F24: 30 | G24: 20 | H24: 5 | I24: Entidad | J24: 46205 | K24: 46219 | L24: 2-7-9-14 y 16 de julio | M24: 8:00 am a 12:00 m
A25: 22 | B25: Actualización, curso de inducción y reinducción (plataforma Moodle). | C25: Virtual sincrónico | D25: Angélica León | E25: David Pérez | F25: N/A | G25: N/A | H25: N/A | I25: Microsoft Teams | J25: Marzo | K25: Abril
A26: 23 | B26: Tributaria. | C26: Presencial | D26: Luis Hernando Gaitan | E26: David Pérez | F26: 30 | G26: 20 | H26: 5 | I26: Entidad | J26: 46083 | K26: 46097 | L26: 02- 04 - 09- 11 y 16 de marzo | M26: 8:00 am a 12:00 m

Sheet Hoja1

Sheet 33
A1: Actividad | B1: ='Formato Cronograma'!#REF! -> #REF!
A2: SESIÓN N° | B2: FECHA | C2: Modalidad | D2: Horario
A3: 1 | B3: =VLOOKUP((MATCH(A3,'Formato Cronograma'!#REF!,0)),Datos!A:D,4,FALSE) -> #REF! | C3: ='Formato Cronograma'!#REF! -> #REF! | D3: ='Formato Cronograma'!#REF! -> #REF!
A4: 2 | B4: =VLOOKUP((MATCH(A4,'Formato Cronograma'!#REF!,0)),Datos!A:D,4,FALSE) -> #REF! | C4: ='Formato Cronograma'!#REF! -> #REF! | D4: ='Formato Cronograma'!#REF! -> #REF!
A5: 3 | B5: =VLOOKUP((MATCH(A5,'Formato Cronograma'!#REF!,0)),Datos!A:D,4,FALSE) -> #REF! | C5: ='Formato Cronograma'!#REF! -> #REF! | D5: ='Formato Cronograma'!#REF! -> #REF!
A6: 4 | B6: =VLOOKUP((MATCH(A6,'Formato Cronograma'!#REF!,0)),Datos!A:D,4,FALSE) -> #REF! | C6: ='Formato Cronograma'!#REF! -> #REF! | D6: ='Formato Cronograma'!#REF! -> #REF!
A7: 5 | B7: =VLOOKUP((MATCH(A7,'Formato Cronograma'!#REF!,0)),Datos!A:D,4,FALSE) -> #REF! | C7: ='Formato Cronograma'!#REF! -> #REF! | D7: ='Formato Cronograma'!#REF! -> #REF!
A8: 6 | B8: =VLOOKUP((MATCH(A8,'Formato Cronograma'!#REF!,0)),Datos!A:D,4,FALSE) -> #REF! | C8: ='Formato Cronograma'!#REF! -> #REF! | D8: ='Formato Cronograma'!#REF! -> #REF!
A9: 7 | B9: =VLOOKUP((MATCH(A9,'Formato Cronograma'!#REF!,0)),Datos!A:D,4,FALSE) -> #REF! | C9: ='Formato Cronograma'!#REF! -> #REF! | D9: ='Formato Cronograma'!#REF! -> #REF!
A10: 8 | B10: =VLOOKUP((MATCH(A10,'Formato Cronograma'!#REF!,0)),Datos!A:D,4,FALSE) -> #REF! | C10: ='Formato Cronograma'!#REF! -> #REF! | D10: ='Formato Cronograma'!#REF! -> #REF!
A11: 9 | B11: =VLOOKUP((MATCH(A11,'Formato Cronograma'!#REF!,0)),Datos!A:D,4,FALSE) -> #REF! | C11: ='Formato Cronograma'!#REF! -> #REF! | D11: ='Formato Cronograma'!#REF! -> #REF!
A12: 10 | B12: =VLOOKUP((MATCH(A12,'Formato Cronograma'!#REF!,0)),Datos!A:D,4,FALSE) -> #REF! | C12: ='Formato Cronograma'!#REF! -> #REF! | D12: ='Formato Cronograma'!#REF! -> #REF!
A13: 11 | B13: =VLOOKUP((MATCH(A13,'Formato Cronograma'!#REF!,0)),Datos!A:D,4,FALSE) -> #REF! | C13: ='Formato Cronograma'!#REF! -> #REF! | D13: ='Formato Cronograma'!#REF! -> #REF!
A14: 12 | B14: =VLOOKUP((MATCH(A14,'Formato Cronograma'!#REF!,0)),Datos!A:D,4,FALSE) -> #REF! | C14: ='Formato Cronograma'!#REF! -> #REF! | D14: ='Formato Cronograma'!#REF! -> #REF!
... A32: 30 | B32: =VLOOKUP((MATCH(A32,'Formato Cronograma'!#REF!,0)),Datos!A:D,4,FALSE) -> #REF! | C32: ='Formato Cronograma'!#REF! -> #REF! | D32: ='Formato Cronograma'!#REF! -> #REF!

Sheet 34
A1: Actividad | B1: ='Formato Cronograma'!#REF! -> #REF!
A2: SESIÓN N° | B2: FECHA | C2: Modalidad | D2: Horario
A3: 1 | B3: =VLOOKUP((MATCH(A3,'Formato Cronograma'!#REF!,0)),Datos!A:D,4,FALSE) -> #REF! | C3: ='Formato Cronograma'!#REF! -> #REF! | D3: ='Formato Cronograma'!#REF! -> #REF!
A4: 2 | B4: =VLOOKUP((MATCH(A4,'Formato Cronograma'!#REF!,0)),Datos!A:D,4,FALSE) -> #REF! | C4: ='Formato Cronograma'!#REF! -> #REF! | D4: ='Formato Cronograma'!#REF! -> #REF!
A5: 3 | B5: =VLOOKUP((MATCH(A5,'Formato Cronograma'!#REF!,0)),Datos!A:D,4,FALSE) -> #REF! | C5: ='Formato Cronograma'!#REF! -> #REF! | D5: ='Formato Cronograma'!#REF! -> #REF!
A6: 4 | B6: =VLOOKUP((MATCH(A6,'Formato Cronograma'!#REF!,0)),Datos!A:D,4,FALSE) -> #REF! | C6: ='Formato Cronograma'!#REF! -> #REF! | D6: ='Formato Cronograma'!#REF! -> #REF!
A7: 5 | B7: =VLOOKUP((MATCH(A7,'Formato Cronograma'!#REF!,0)),Datos!A:D,4,FALSE) -> #REF! | C7: ='Formato Cronograma'!#REF! -> #REF! | D7: ='Formato Cronograma'!#REF! -> #REF!
A8: 6 | B8: =VLOOKUP((MATCH(A8,'Formato Cronograma'!#REF!,0)),Datos!A:D,4,FALSE) -> #REF! | C8: ='Formato Cronograma'!#REF! -> #REF! | D8: ='Formato Cronograma'!#REF! -> #REF!
A9: 7 | B9: =VLOOKUP((MATCH(A9,'Formato Cronograma'!#REF!,0)),Datos!A:D,4,FALSE) -> #REF! | C9: ='Formato Cronograma'!#REF! -> #REF! | D9: ='Formato Cronograma'!#REF! -> #REF!
A10: 8 | B10: =VLOOKUP((MATCH(A10,'Formato Cronograma'!#REF!,0)),Datos!A:D,4,FALSE) -> #REF! | C10: ='Formato Cronograma'!#REF! -> #REF! | D10: ='Formato Cronograma'!#REF! -> #REF!
A11: 9 | B11: =VLOOKUP((MATCH(A11,'Formato Cronograma'!#REF!,0)),Datos!A:D,4,FALSE) -> #REF! | C11: ='Formato Cronograma'!#REF! -> #REF! | D11: ='Formato Cronograma'!#REF! -> #REF!
A12: 10 | B12: =VLOOKUP((MATCH(A12,'Formato Cronograma'!#REF!,0)),Datos!A:D,4,FALSE) -> #REF! | C12: ='Formato Cronograma'!#REF! -> #REF! | D12: ='Formato Cronograma'!#REF! -> #REF!
A13: 11 | B13: =VLOOKUP((MATCH(A13,'Formato Cronograma'!#REF!,0)),Datos!A:D,4,FALSE) -> #REF! | C13: ='Formato Cronograma'!#REF! -> #REF! | D13: ='Formato Cronograma'!#REF! -> #REF!
A14: 12 | B14: =VLOOKUP((MATCH(A14,'Formato Cronograma'!#REF!,0)),Datos!A:D,4,FALSE) -> #REF! | C14: ='Formato Cronograma'!#REF! -> #REF! | D14: ='Formato Cronograma'!#REF! -> #REF!
... A32: 30 | B32: =VLOOKUP((MATCH(A32,'Formato Cronograma'!#REF!,0)),Datos!A:D,4,FALSE) -> #REF! | C32: ='Formato Cronograma'!#REF! -> #REF! | D32: ='Formato Cronograma'!#REF! -> #REF!

Sheet 35
A1: Actividad | B1: ='Formato Cronograma'!#REF! -> #REF!
A2: SESIÓN N° | B2: FECHA | C2: Modalidad | D2: Horario
A3: 1 | B3: =VLOOKUP((MATCH(A3,'Formato Cronograma'!#REF!,0)),Datos!A:D,4,FALSE) -> #REF! | C3: ='Formato Cronograma'!#REF! -> #REF! | D3: ='Formato Cronograma'!#REF! -> #REF!
A4: 2 | B4: =VLOOKUP((MATCH(A4,'Formato Cronograma'!#REF!,0)),Datos!A:D,4,FALSE) -> #REF! | C4: ='Formato Cronograma'!#REF! -> #REF! | D4: ='Formato Cronograma'!#REF! -> #REF!
A5: 3 | B5: =VLOOKUP((MATCH(A5,'Formato Cronograma'!#REF!,0)),Datos!A:D,4,FALSE) -> #REF! | C5: ='Formato Cronograma'!#REF! -> #REF! | D5: ='Formato Cronograma'!#REF! -> #REF!
A6: 4 | B6: =VLOOKUP((MATCH(A6,'Formato Cronograma'!#REF!,0)),Datos!A:D,4,FALSE) -> #REF! | C6: ='Formato Cronograma'!#REF! -> #REF! | D6: ='Formato Cronograma'!#REF! -> #REF!
A7: 5 | B7: =VLOOKUP((MATCH(A7,'Formato Cronograma'!#REF!,0)),Datos!A:D,4,FALSE) -> #REF! | C7: ='Formato Cronograma'!#REF! -> #REF! | D7: ='Formato Cronograma'!#REF! -> #REF!
A8: 6 | B8: =VLOOKUP((MATCH(A8,'Formato Cronograma'!#REF!,0)),Datos!A:D,4,FALSE) -> #REF! | C8: ='Formato Cronograma'!#REF! -> #REF! | D8: ='Formato Cronograma'!#REF! -> #REF!
A9: 7 | B9: =VLOOKUP((MATCH(A9,'Formato Cronograma'!#REF!,0)),Datos!A:D,4,FALSE) -> #REF! | C9: ='Formato Cronograma'!#REF! -> #REF! | D9: ='Formato Cronograma'!#REF! -> #REF!
A10: 8 | B10: =VLOOKUP((MATCH(A10,'Formato Cronograma'!#REF!,0)),Datos!A:D,4,FALSE) -> #REF! | C10: ='Formato Cronograma'!#REF! -> #REF! | D10: ='Formato Cronograma'!#REF! -> #REF!
A11: 9 | B11: =VLOOKUP((MATCH(A11,'Formato Cronograma'!#REF!,0)),Datos!A:D,4,FALSE) -> #REF! | C11: ='Formato Cronograma'!#REF! -> #REF! | D11: ='Formato Cronograma'!#REF! -> #REF!
A12: 10 | B12: =VLOOKUP((MATCH(A12,'Formato Cronograma'!#REF!,0)),Datos!A:D,4,FALSE) -> #REF! | C12: ='Formato Cronograma'!#REF! -> #REF! | D12: ='Formato Cronograma'!#REF! -> #REF!
A13: 11 | B13: =VLOOKUP((MATCH(A13,'Formato Cronograma'!#REF!,0)),Datos!A:D,4,FALSE) -> #REF! | C13: ='Formato Cronograma'!#REF! -> #REF! | D13: ='Formato Cronograma'!#REF! -> #REF!
A14: 12 | B14: =VLOOKUP((MATCH(A14,'Formato Cronograma'!#REF!,0)),Datos!A:D,4,FALSE) -> #REF! | C14: ='Formato Cronograma'!#REF! -> #REF! | D14: ='Formato Cronograma'!#REF! -> #REF!
... A32: 30 | B32: =VLOOKUP((MATCH(A32,'Formato Cronograma'!#REF!,0)),Datos!A:D,4,FALSE) -> #REF! | C32: ='Formato Cronograma'!#REF! -> #REF! | D32: ='Formato Cronograma'!#REF! -> #REF!

Sheet 36
A1: Actividad | B1: ='Formato Cronograma'!#REF! -> #REF!
A2: SESIÓN N° | B2: FECHA | C2: Modalidad | D2: Horario
A3: 1 | B3: =VLOOKUP((MATCH(A3,'Formato Cronograma'!#REF!,0)),Datos!A:D,4,FALSE) -> #REF! | C3: ='Formato Cronograma'!#REF! -> #REF! | D3: ='Formato Cronograma'!#REF! -> #REF!
A4: 2 | B4: =VLOOKUP((MATCH(A4,'Formato Cronograma'!#REF!,0)),Datos!A:D,4,FALSE) -> #REF! | C4: ='Formato Cronograma'!#REF! -> #REF! | D4: ='Formato Cronograma'!#REF! -> #REF!
A5: 3 | B5: =VLOOKUP((MATCH(A5,'Formato Cronograma'!#REF!,0)),Datos!A:D,4,FALSE) -> #REF! | C5: ='Formato Cronograma'!#REF! -> #REF! | D5: ='Formato Cronograma'!#REF! -> #REF!
A6: 4 | B6: =VLOOKUP((MATCH(A6,'Formato Cronograma'!#REF!,0)),Datos!A:D,4,FALSE) -> #REF! | C6: ='Formato Cronograma'!#REF! -> #REF! | D6: ='Formato Cronograma'!#REF! -> #REF!
A7: 5 | B7: =VLOOKUP((MATCH(A7,'Formato Cronograma'!#REF!,0)),Datos!A:D,4,FALSE) -> #REF! | C7: ='Formato Cronograma'!#REF! -> #REF! | D7: ='Formato Cronograma'!#REF! -> #REF!
A8: 6 | B8: =VLOOKUP((MATCH(A8,'Formato Cronograma'!#REF!,0)),Datos!A:D,4,FALSE) -> #REF! | C8: ='Formato Cronograma'!#REF! -> #REF! | D8: ='Formato Cronograma'!#REF! -> #REF!
A9: 7 | B9: =VLOOKUP((MATCH(A9,'Formato Cronograma'!#REF!,0)),Datos!A:D,4,FALSE) -> #REF! | C9: ='Formato Cronograma'!#REF! -> #REF! | D9: ='Formato Cronograma'!#REF! -> #REF!
A10: 8 | B10: =VLOOKUP((MATCH(A10,'Formato Cronograma'!#REF!,0)),Datos!A:D,4,FALSE) -> #REF! | C10: ='Formato Cronograma'!#REF! -> #REF! | D10: ='Formato Cronograma'!#REF! -> #REF!
A11: 9 | B11: =VLOOKUP((MATCH(A11,'Formato Cronograma'!#REF!,0)),Datos!A:D,4,FALSE) -> #REF! | C11: ='Formato Cronograma'!#REF! -> #REF! | D11: ='Formato Cronograma'!#REF! -> #REF!
A12: 10 | B12: =VLOOKUP((MATCH(A12,'Formato Cronograma'!#REF!,0)),Datos!A:D,4,FALSE) -> #REF! | C12: ='Formato Cronograma'!#REF! -> #REF! | D12: ='Formato Cronograma'!#REF! -> #REF!
A13: 11 | B13: =VLOOKUP((MATCH(A13,'Formato Cronograma'!#REF!,0)),Datos!A:D,4,FALSE) -> #REF! | C13: ='Formato Cronograma'!#REF! -> #REF! | D13: ='Formato Cronograma'!#REF! -> #REF!
A14: 12 | B14: =VLOOKUP((MATCH(A14,'Formato Cronograma'!#REF!,0)),Datos!A:D,4,FALSE) -> #REF! | C14: ='Formato Cronograma'!#REF! -> #REF! | D14: ='Formato Cronograma'!#REF! -> #REF!
... A32: 30 | B32: =VLOOKUP((MATCH(A32,'Formato Cronograma'!#REF!,0)),Datos!A:D,4,FALSE) -> #REF! | C32: ='Formato Cronograma'!#REF! -> #REF! | D32: ='Formato Cronograma'!#REF! -> #REF!

Sheet 37
A1: Actividad | B1: ='Formato Cronograma'!#REF! -> #REF!
A2: SESIÓN N° | B2: FECHA | C2: Modalidad | D2: Horario
A3: 1 | B3: =VLOOKUP((MATCH(A3,'Formato Cronograma'!#REF!,0)),Datos!A:D,4,FALSE) -> #REF! | C3: ='Formato Cronograma'!#REF! -> #REF! | D3: ='Formato Cronograma'!#REF! -> #REF!
A4: 2 | B4: =VLOOKUP((MATCH(A4,'Formato Cronograma'!#REF!,0)),Datos!A:D,4,FALSE) -> #REF! | C4: ='Formato Cronograma'!#REF! -> #REF! | D4: ='Formato Cronograma'!#REF! -> #REF!
A5: 3 | B5: =VLOOKUP((MATCH(A5,'Formato Cronograma'!#REF!,0)),Datos!A:D,4,FALSE) -> #REF! | C5: ='Formato Cronograma'!#REF! -> #REF! | D5: ='Formato Cronograma'!#REF! -> #REF!
A6: 4 | B6: =VLOOKUP((MATCH(A6,'Formato Cronograma'!#REF!,0)),Datos!A:D,4,FALSE) -> #REF! | C6: ='Formato Cronograma'!#REF! -> #REF! | D6: ='Formato Cronograma'!#REF! -> #REF!
A7: 5 | B7: =VLOOKUP((MATCH(A7,'Formato Cronograma'!#REF!,0)),Datos!A:D,4,FALSE) -> #REF! | C7: ='Formato Cronograma'!#REF! -> #REF! | D7: ='Formato Cronograma'!#REF! -> #REF!
A8: 6 | B8: =VLOOKUP((MATCH(A8,'Formato Cronograma'!#REF!,0)),Datos!A:D,4,FALSE) -> #REF! | C8: ='Formato Cronograma'!#REF! -> #REF! | D8: ='Formato Cronograma'!#REF! -> #REF!
A9: 7 | B9: =VLOOKUP((MATCH(A9,'Formato Cronograma'!#REF!,0)),Datos!A:D,4,FALSE) -> #REF! | C9: ='Formato Cronograma'!#REF! -> #REF! | D9: ='Formato Cronograma'!#REF! -> #REF!
A10: 8 | B10: =VLOOKUP((MATCH(A10,'Formato Cronograma'!#REF!,0)),Datos!A:D,4,FALSE) -> #REF! | C10: ='Formato Cronograma'!#REF! -> #REF! | D10: ='Formato Cronograma'!#REF! -> #REF!
A11: 9 | B11: =VLOOKUP((MATCH(A11,'Formato Cronograma'!#REF!,0)),Datos!A:D,4,FALSE) -> #REF! | C11: ='Formato Cronograma'!#REF! -> #REF! | D11: ='Formato Cronograma'!#REF! -> #REF!
A12: 10 | B12: =VLOOKUP((MATCH(A12,'Formato Cronograma'!#REF!,0)),Datos!A:D,4,FALSE) -> #REF! | C12: ='Formato Cronograma'!#REF! -> #REF! | D12: ='Formato Cronograma'!#REF! -> #REF!
A13: 11 | B13: =VLOOKUP((MATCH(A13,'Formato Cronograma'!#REF!,0)),Datos!A:D,4,FALSE) -> #REF! | C13: ='Formato Cronograma'!#REF! -> #REF! | D13: ='Formato Cronograma'!#REF! -> #REF!
A14: 12 | B14: =VLOOKUP((MATCH(A14,'Formato Cronograma'!#REF!,0)),Datos!A:D,4,FALSE) -> #REF! | C14: ='Formato Cronograma'!#REF! -> #REF! | D14: ='Formato Cronograma'!#REF! -> #REF!
... A32: 30 | B32: =VLOOKUP((MATCH(A32,'Formato Cronograma'!#REF!,0)),Datos!A:D,4,FALSE) -> #REF! | C32: ='Formato Cronograma'!#REF! -> #REF! | D32: ='Formato Cronograma'!#REF! -> #REF!

Sheet 38
A1: Actividad | B1: ='Formato Cronograma'!#REF! -> #REF!
A2: SESIÓN N° | B2: FECHA | C2: Modalidad | D2: Horario
A3: 1 | B3: =VLOOKUP((MATCH(A3,'Formato Cronograma'!#REF!,0)),Datos!A:D,4,FALSE) -> #REF! | C3: ='Formato Cronograma'!#REF! -> #REF! | D3: ='Formato Cronograma'!#REF! -> #REF!
A4: 2 | B4: =VLOOKUP((MATCH(A4,'Formato Cronograma'!#REF!,0)),Datos!A:D,4,FALSE) -> #REF! | C4: ='Formato Cronograma'!#REF! -> #REF! | D4: ='Formato Cronograma'!#REF! -> #REF!
A5: 3 | B5: =VLOOKUP((MATCH(A5,'Formato Cronograma'!#REF!,0)),Datos!A:D,4,FALSE) -> #REF! | C5: ='Formato Cronograma'!#REF! -> #REF! | D5: ='Formato Cronograma'!#REF! -> #REF!
A6: 4 | B6: =VLOOKUP((MATCH(A6,'Formato Cronograma'!#REF!,0)),Datos!A:D,4,FALSE) -> #REF! | C6: ='Formato Cronograma'!#REF! -> #REF! | D6: ='Formato Cronograma'!#REF! -> #REF!
A7: 5 | B7: =VLOOKUP((MATCH(A7,'Formato Cronograma'!#REF!,0)),Datos!A:D,4,FALSE) -> #REF! | C7: ='Formato Cronograma'!#REF! -> #REF! | D7: ='Formato Cronograma'!#REF! -> #REF!
A8: 6 | B8: =VLOOKUP((MATCH(A8,'Formato Cronograma'!#REF!,0)),Datos!A:D,4,FALSE) -> #REF! | C8: ='Formato Cronograma'!#REF! -> #REF! | D8: ='Formato Cronograma'!#REF! -> #REF!
A9: 7 | B9: =VLOOKUP((MATCH(A9,'Formato Cronograma'!#REF!,0)),Datos!A:D,4,FALSE) -> #REF! | C9: ='Formato Cronograma'!#REF! -> #REF! | D9: ='Formato Cronograma'!#REF! -> #REF!
A10: 8 | B10: =VLOOKUP((MATCH(A10,'Formato Cronograma'!#REF!,0)),Datos!A:D,4,FALSE) -> #REF! | C10: ='Formato Cronograma'!#REF! -> #REF! | D10: ='Formato Cronograma'!#REF! -> #REF!
A11: 9 | B11: =VLOOKUP((MATCH(A11,'Formato Cronograma'!#REF!,0)),Datos!A:D,4,FALSE) -> #REF! | C11: ='Formato Cronograma'!#REF! -> #REF! | D11: ='Formato Cronograma'!#REF! -> #REF!
A12: 10 | B12: =VLOOKUP((MATCH(A12,'Formato Cronograma'!#REF!,0)),Datos!A:D,4,FALSE) -> #REF! | C12: ='Formato Cronograma'!#REF! -> #REF! | D12: ='Formato Cronograma'!#REF! -> #REF!
A13: 11 | B13: =VLOOKUP((MATCH(A13,'Formato Cronograma'!#REF!,0)),Datos!A:D,4,FALSE) -> #REF! | C13: ='Formato Cronograma'!#REF! -> #REF! | D13: ='Formato Cronograma'!#REF! -> #REF!
A14: 12 | B14: =VLOOKUP((MATCH(A14,'Formato Cronograma'!#REF!,0)),Datos!A:D,4,FALSE) -> #REF! | C14: ='Formato Cronograma'!#REF! -> #REF! | D14: ='Formato Cronograma'!#REF! -> #REF!
... A32: 30 | B32: =VLOOKUP((MATCH(A32,'Formato Cronograma'!#REF!,0)),Datos!A:D,4,FALSE) -> #REF! | C32: ='Formato Cronograma'!#REF! -> #REF! | D32: ='Formato Cronograma'!#REF! -> #REF!

Sheet 39
A1: Actividad | B1: ='Formato Cronograma'!#REF! -> #REF!
A2: SESIÓN N° | B2: FECHA | C2: Modalidad | D2: Horario
A3: 1 | B3: =VLOOKUP((MATCH(A3,'Formato Cronograma'!#REF!,0)),Datos!A:D,4,FALSE) -> #REF! | C3: ='Formato Cronograma'!#REF! -> #REF! | D3: ='Formato Cronograma'!#REF! -> #REF!
A4: 2 | B4: =VLOOKUP((MATCH(A4,'Formato Cronograma'!#REF!,0)),Datos!A:D,4,FALSE) -> #REF! | C4: ='Formato Cronograma'!#REF! -> #REF! | D4: ='Formato Cronograma'!#REF! -> #REF!
A5: 3 | B5: =VLOOKUP((MATCH(A5,'Formato Cronograma'!#REF!,0)),Datos!A:D,4,FALSE) -> #REF! | C5: ='Formato Cronograma'!#REF! -> #REF! | D5: ='Formato Cronograma'!#REF! -> #REF!
A6: 4 | B6: =VLOOKUP((MATCH(A6,'Formato Cronograma'!#REF!,0)),Datos!A:D,4,FALSE) -> #REF! | C6: ='Formato Cronograma'!#REF! -> #REF! | D6: ='Formato Cronograma'!#REF! -> #REF!
A7: 5 | B7: =VLOOKUP((MATCH(A7,'Formato Cronograma'!#REF!,0)),Datos!A:D,4,FALSE) -> #REF! | C7: ='Formato Cronograma'!#REF! -> #REF! | D7: ='Formato Cronograma'!#REF! -> #REF!
A8: 6 | B8: =VLOOKUP((MATCH(A8,'Formato Cronograma'!#REF!,0)),Datos!A:D,4,FALSE) -> #REF! | C8: ='Formato Cronograma'!#REF! -> #REF! | D8: ='Formato Cronograma'!#REF! -> #REF!
A9: 7 | B9: =VLOOKUP((MATCH(A9,'Formato Cronograma'!#REF!,0)),Datos!A:D,4,FALSE) -> #REF! | C9: ='Formato Cronograma'!#REF! -> #REF! | D9: ='Formato Cronograma'!#REF! -> #REF!
A10: 8 | B10: =VLOOKUP((MATCH(A10,'Formato Cronograma'!#REF!,0)),Datos!A:D,4,FALSE) -> #REF! | C10: ='Formato Cronograma'!#REF! -> #REF! | D10: ='Formato Cronograma'!#REF! -> #REF!
A11: 9 | B11: =VLOOKUP((MATCH(A11,'Formato Cronograma'!#REF!,0)),Datos!A:D,4,FALSE) -> #REF! | C11: ='Formato Cronograma'!#REF! -> #REF! | D11: ='Formato Cronograma'!#REF! -> #REF!
A12: 10 | B12: =VLOOKUP((MATCH(A12,'Formato Cronograma'!#REF!,0)),Datos!A:D,4,FALSE) -> #REF! | C12: ='Formato Cronograma'!#REF! -> #REF! | D12: ='Formato Cronograma'!#REF! -> #REF!
A13: 11 | B13: =VLOOKUP((MATCH(A13,'Formato Cronograma'!#REF!,0)),Datos!A:D,4,FALSE) -> #REF! | C13: ='Formato Cronograma'!#REF! -> #REF! | D13: ='Formato Cronograma'!#REF! -> #REF!
A14: 12 | B14: =VLOOKUP((MATCH(A14,'Formato Cronograma'!#REF!,0)),Datos!A:D,4,FALSE) -> #REF! | C14: ='Formato Cronograma'!#REF! -> #REF! | D14: ='Formato Cronograma'!#REF! -> #REF!
... A32: 30 | B32: =VLOOKUP((MATCH(A32,'Formato Cronograma'!#REF!,0)),Datos!A:D,4,FALSE) -> #REF! | C32: ='Formato Cronograma'!#REF! -> #REF! | D32: ='Formato Cronograma'!#REF! -> #REF!

Sheet 40
A1: Actividad | B1: ='Formato Cronograma'!#REF! -> #REF!
A2: SESIÓN N° | B2: FECHA | C2: Modalidad | D2: Horario
A3: 1 | B3: =VLOOKUP((MATCH(A3,'Formato Cronograma'!#REF!,0)),Datos!A:D,4,FALSE) -> #REF! | C3: ='Formato Cronograma'!#REF! -> #REF! | D3: ='Formato Cronograma'!#REF! -> #REF!
A4: 2 | B4: =VLOOKUP((MATCH(A4,'Formato Cronograma'!#REF!,0)),Datos!A:D,4,FALSE) -> #REF! | C4: ='Formato Cronograma'!#REF! -> #REF! | D4: ='Formato Cronograma'!#REF! -> #REF!
A5: 3 | B5: =VLOOKUP((MATCH(A5,'Formato Cronograma'!#REF!,0)),Datos!A:D,4,FALSE) -> #REF! | C5: ='Formato Cronograma'!#REF! -> #REF! | D5: ='Formato Cronograma'!#REF! -> #REF!
A6: 4 | B6: =VLOOKUP((MATCH(A6,'Formato Cronograma'!#REF!,0)),Datos!A:D,4,FALSE) -> #REF! | C6: ='Formato Cronograma'!#REF! -> #REF! | D6: ='Formato Cronograma'!#REF! -> #REF!
A7: 5 | B7: =VLOOKUP((MATCH(A7,'Formato Cronograma'!#REF!,0)),Datos!A:D,4,FALSE) -> #REF! | C7: ='Formato Cronograma'!#REF! -> #REF! | D7: ='Formato Cronograma'!#REF! -> #REF!
A8: 6 | B8: =VLOOKUP((MATCH(A8,'Formato Cronograma'!#REF!,0)),Datos!A:D,4,FALSE) -> #REF! | C8: ='Formato Cronograma'!#REF! -> #REF! | D8: ='Formato Cronograma'!#REF! -> #REF!
A9: 7 | B9: =VLOOKUP((MATCH(A9,'Formato Cronograma'!#REF!,0)),Datos!A:D,4,FALSE) -> #REF! | C9: ='Formato Cronograma'!#REF! -> #REF! | D9: ='Formato Cronograma'!#REF! -> #REF!
A10: 8 | B10: =VLOOKUP((MATCH(A10,'Formato Cronograma'!#REF!,0)),Datos!A:D,4,FALSE) -> #REF! | C10: ='Formato Cronograma'!#REF! -> #REF! | D10: ='Formato Cronograma'!#REF! -> #REF!
A11: 9 | B11: =VLOOKUP((MATCH(A11,'Formato Cronograma'!#REF!,0)),Datos!A:D,4,FALSE) -> #REF! | C11: ='Formato Cronograma'!#REF! -> #REF! | D11: ='Formato Cronograma'!#REF! -> #REF!
A12: 10 | B12: =VLOOKUP((MATCH(A12,'Formato Cronograma'!#REF!,0)),Datos!A:D,4,FALSE) -> #REF! | C12: ='Formato Cronograma'!#REF! -> #REF! | D12: ='Formato Cronograma'!#REF! -> #REF!
A13: 11 | B13: =VLOOKUP((MATCH(A13,'Formato Cronograma'!#REF!,0)),Datos!A:D,4,FALSE) -> #REF! | C13: ='Formato Cronograma'!#REF! -> #REF! | D13: ='Formato Cronograma'!#REF! -> #REF!
A14: 12 | B14: =VLOOKUP((MATCH(A14,'Formato Cronograma'!#REF!,0)),Datos!A:D,4,FALSE) -> #REF! | C14: ='Formato Cronograma'!#REF! -> #REF! | D14: ='Formato Cronograma'!#REF! -> #REF!
... A32: 30 | B32: =VLOOKUP((MATCH(A32,'Formato Cronograma'!#REF!,0)),Datos!A:D,4,FALSE) -> #REF! | C32: ='Formato Cronograma'!#REF! -> #REF! | D32: ='Formato Cronograma'!#REF! -> #REF!

Sheet 41
A1: Actividad | B1: ='Formato Cronograma'!#REF! -> #REF!
A2: SESIÓN N° | B2: FECHA | C2: Modalidad | D2: Horario
A3: 1 | B3: =VLOOKUP((MATCH(A3,'Formato Cronograma'!#REF!,0)),Datos!A:D,4,FALSE) -> #REF! | C3: ='Formato Cronograma'!#REF! -> #REF! | D3: ='Formato Cronograma'!#REF! -> #REF!
A4: 2 | B4: =VLOOKUP((MATCH(A4,'Formato Cronograma'!#REF!,0)),Datos!A:D,4,FALSE) -> #REF! | C4: ='Formato Cronograma'!#REF! -> #REF! | D4: ='Formato Cronograma'!#REF! -> #REF!
A5: 3 | B5: =VLOOKUP((MATCH(A5,'Formato Cronograma'!#REF!,0)),Datos!A:D,4,FALSE) -> #REF! | C5: ='Formato Cronograma'!#REF! -> #REF! | D5: ='Formato Cronograma'!#REF! -> #REF!
A6: 4 | B6: =VLOOKUP((MATCH(A6,'Formato Cronograma'!#REF!,0)),Datos!A:D,4,FALSE) -> #REF! | C6: ='Formato Cronograma'!#REF! -> #REF! | D6: ='Formato Cronograma'!#REF! -> #REF!
A7: 5 | B7: =VLOOKUP((MATCH(A7,'Formato Cronograma'!#REF!,0)),Datos!A:D,4,FALSE) -> #REF! | C7: ='Formato Cronograma'!#REF! -> #REF! | D7: ='Formato Cronograma'!#REF! -> #REF!
A8: 6 | B8: =VLOOKUP((MATCH(A8,'Formato Cronograma'!#REF!,0)),Datos!A:D,4,FALSE) -> #REF! | C8: ='Formato Cronograma'!#REF! -> #REF! | D8: ='Formato Cronograma'!#REF! -> #REF!
A9: 7 | B9: =VLOOKUP((MATCH(A9,'Formato Cronograma'!#REF!,0)),Datos!A:D,4,FALSE) -> #REF! | C9: ='Formato Cronograma'!#REF! -> #REF! | D9: ='Formato Cronograma'!#REF! -> #REF!
A10: 8 | B10: =VLOOKUP((MATCH(A10,'Formato Cronograma'!#REF!,0)),Datos!A:D,4,FALSE) -> #REF! | C10: ='Formato Cronograma'!#REF! -> #REF! | D10: ='Formato Cronograma'!#REF! -> #REF!
A11: 9 | B11: =VLOOKUP((MATCH(A11,'Formato Cronograma'!#REF!,0)),Datos!A:D,4,FALSE) -> #REF! | C11: ='Formato Cronograma'!#REF! -> #REF! | D11: ='Formato Cronograma'!#REF! -> #REF!
A12: 10 | B12: =VLOOKUP((MATCH(A12,'Formato Cronograma'!#REF!,0)),Datos!A:D,4,FALSE) -> #REF! | C12: ='Formato Cronograma'!#REF! -> #REF! | D12: ='Formato Cronograma'!#REF! -> #REF!
A13: 11 | B13: =VLOOKUP((MATCH(A13,'Formato Cronograma'!#REF!,0)),Datos!A:D,4,FALSE) -> #REF! | C13: ='Formato Cronograma'!#REF! -> #REF! | D13: ='Formato Cronograma'!#REF! -> #REF!
A14: 12 | B14: =VLOOKUP((MATCH(A14,'Formato Cronograma'!#REF!,0)),Datos!A:D,4,FALSE) -> #REF! | C14: ='Formato Cronograma'!#REF! -> #REF! | D14: ='Formato Cronograma'!#REF! -> #REF!
... A32: 30 | B32: =VLOOKUP((MATCH(A32,'Formato Cronograma'!#REF!,0)),Datos!A:D,4,FALSE) -> #REF! | C32: ='Formato Cronograma'!#REF! -> #REF! | D32: ='Formato Cronograma'!#REF! -> #REF!

Sheet 42
A1: Actividad | B1: ='Formato Cronograma'!#REF! -> #REF!
A2: SESIÓN N° | B2: FECHA | C2: Modalidad | D2: Horario
A3: 1 | B3: =VLOOKUP((MATCH(A3,'Formato Cronograma'!#REF!,0)),Datos!A:D,4,FALSE) -> #REF! | C3: ='Formato Cronograma'!#REF! -> #REF! | D3: ='Formato Cronograma'!#REF! -> #REF!
A4: 2 | B4: =VLOOKUP((MATCH(A4,'Formato Cronograma'!#REF!,0)),Datos!A:D,4,FALSE) -> #REF! | C4: ='Formato Cronograma'!#REF! -> #REF! | D4: ='Formato Cronograma'!#REF! -> #REF!
A5: 3 | B5: =VLOOKUP((MATCH(A5,'Formato Cronograma'!#REF!,0)),Datos!A:D,4,FALSE) -> #REF! | C5: ='Formato Cronograma'!#REF! -> #REF! | D5: ='Formato Cronograma'!#REF! -> #REF!
A6: 4 | B6: =VLOOKUP((MATCH(A6,'Formato Cronograma'!#REF!,0)),Datos!A:D,4,FALSE) -> #REF! | C6: ='Formato Cronograma'!#REF! -> #REF! | D6: ='Formato Cronograma'!#REF! -> #REF!
A7: 5 | B7: =VLOOKUP((MATCH(A7,'Formato Cronograma'!#REF!,0)),Datos!A:D,4,FALSE) -> #REF! | C7: ='Formato Cronograma'!#REF! -> #REF! | D7: ='Formato Cronograma'!#REF! -> #REF!
A8: 6 | B8: =VLOOKUP((MATCH(A8,'Formato Cronograma'!#REF!,0)),Datos!A:D,4,FALSE) -> #REF! | C8: ='Formato Cronograma'!#REF! -> #REF! | D8: ='Formato Cronograma'!#REF! -> #REF!
A9: 7 | B9: =VLOOKUP((MATCH(A9,'Formato Cronograma'!#REF!,0)),Datos!A:D,4,FALSE) -> #REF! | C9: ='Formato Cronograma'!#REF! -> #REF! | D9: ='Formato Cronograma'!#REF! -> #REF!
A10: 8 | B10: =VLOOKUP((MATCH(A10,'Formato Cronograma'!#REF!,0)),Datos!A:D,4,FALSE) -> #REF! | C10: ='Formato Cronograma'!#REF! -> #REF! | D10: ='Formato Cronograma'!#REF! -> #REF!
A11: 9 | B11: =VLOOKUP((MATCH(A11,'Formato Cronograma'!#REF!,0)),Datos!A:D,4,FALSE) -> #REF! | C11: ='Formato Cronograma'!#REF! -> #REF! | D11: ='Formato Cronograma'!#REF! -> #REF!
A12: 10 | B12: =VLOOKUP((MATCH(A12,'Formato Cronograma'!#REF!,0)),Datos!A:D,4,FALSE) -> #REF! | C12: ='Formato Cronograma'!#REF! -> #REF! | D12: ='Formato Cronograma'!#REF! -> #REF!
A13: 11 | B13: =VLOOKUP((MATCH(A13,'Formato Cronograma'!#REF!,0)),Datos!A:D,4,FALSE) -> #REF! | C13: ='Formato Cronograma'!#REF! -> #REF! | D13: ='Formato Cronograma'!#REF! -> #REF!
A14: 12 | B14: =VLOOKUP((MATCH(A14,'Formato Cronograma'!#REF!,0)),Datos!A:D,4,FALSE) -> #REF! | C14: ='Formato Cronograma'!#REF! -> #REF! | D14: ='Formato Cronograma'!#REF! -> #REF!
... A32: 30 | B32: =VLOOKUP((MATCH(A32,'Formato Cronograma'!#REF!,0)),Datos!A:D,4,FALSE) -> #REF! | C32: ='Formato Cronograma'!#REF! -> #REF! | D32: ='Formato Cronograma'!#REF! -> #REF!

Sheet 43
A1: Actividad | B1: ='Formato Cronograma'!#REF! -> #REF!
A2: SESIÓN N° | B2: FECHA | C2: Modalidad | D2: Horario
A3: 1 | B3: =VLOOKUP((MATCH(A3,'Formato Cronograma'!#REF!,0)),Datos!A:D,4,FALSE) -> #REF! | C3: ='Formato Cronograma'!#REF! -> #REF! | D3: ='Formato Cronograma'!#REF! -> #REF!
A4: 2 | B4: =VLOOKUP((MATCH(A4,'Formato Cronograma'!#REF!,0)),Datos!A:D,4,FALSE) -> #REF! | C4: ='Formato Cronograma'!#REF! -> #REF! | D4: ='Formato Cronograma'!#REF! -> #REF!
A5: 3 | B5: =VLOOKUP((MATCH(A5,'Formato Cronograma'!#REF!,0)),Datos!A:D,4,FALSE) -> #REF! | C5: ='Formato Cronograma'!#REF! -> #REF! | D5: ='Formato Cronograma'!#REF! -> #REF!
A6: 4 | B6: =VLOOKUP((MATCH(A6,'Formato Cronograma'!#REF!,0)),Datos!A:D,4,FALSE) -> #REF! | C6: ='Formato Cronograma'!#REF! -> #REF! | D6: ='Formato Cronograma'!#REF! -> #REF!
A7: 5 | B7: =VLOOKUP((MATCH(A7,'Formato Cronograma'!#REF!,0)),Datos!A:D,4,FALSE) -> #REF! | C7: ='Formato Cronograma'!#REF! -> #REF! | D7: ='Formato Cronograma'!#REF! -> #REF!
A8: 6 | B8: =VLOOKUP((MATCH(A8,'Formato Cronograma'!#REF!,0)),Datos!A:D,4,FALSE) -> #REF! | C8: ='Formato Cronograma'!#REF! -> #REF! | D8: ='Formato Cronograma'!#REF! -> #REF!
A9: 7 | B9: =VLOOKUP((MATCH(A9,'Formato Cronograma'!#REF!,0)),Datos!A:D,4,FALSE) -> #REF! | C9: ='Formato Cronograma'!#REF! -> #REF! | D9: ='Formato Cronograma'!#REF! -> #REF!
A10: 8 | B10: =VLOOKUP((MATCH(A10,'Formato Cronograma'!#REF!,0)),Datos!A:D,4,FALSE) -> #REF! | C10: ='Formato Cronograma'!#REF! -> #REF! | D10: ='Formato Cronograma'!#REF! -> #REF!
A11: 9 | B11: =VLOOKUP((MATCH(A11,'Formato Cronograma'!#REF!,0)),Datos!A:D,4,FALSE) -> #REF! | C11: ='Formato Cronograma'!#REF! -> #REF! | D11: ='Formato Cronograma'!#REF! -> #REF!
A12: 10 | B12: =VLOOKUP((MATCH(A12,'Formato Cronograma'!#REF!,0)),Datos!A:D,4,FALSE) -> #REF! | C12: ='Formato Cronograma'!#REF! -> #REF! | D12: ='Formato Cronograma'!#REF! -> #REF!
A13: 11 | B13: =VLOOKUP((MATCH(A13,'Formato Cronograma'!#REF!,0)),Datos!A:D,4,FALSE) -> #REF! | C13: ='Formato Cronograma'!#REF! -> #REF! | D13: ='Formato Cronograma'!#REF! -> #REF!
A14: 12 | B14: =VLOOKUP((MATCH(A14,'Formato Cronograma'!#REF!,0)),Datos!A:D,4,FALSE) -> #REF! | C14: ='Formato Cronograma'!#REF! -> #REF! | D14: ='Formato Cronograma'!#REF! -> #REF!
... A32: 30 | B32: =VLOOKUP((MATCH(A32,'Formato Cronograma'!#REF!,0)),Datos!A:D,4,FALSE) -> #REF! | C32: ='Formato Cronograma'!#REF! -> #REF! | D32: ='Formato Cronograma'!#REF! -> #REF!

Sheet 44
A1: Actividad | B1: ='Formato Cronograma'!#REF! -> #REF!
A2: SESIÓN N° | B2: FECHA | C2: Modalidad | D2: Horario
A3: 1 | B3: =VLOOKUP((MATCH(A3,'Formato Cronograma'!#REF!,0)),Datos!A:D,4,FALSE) -> #REF! | C3: ='Formato Cronograma'!#REF! -> #REF! | D3: ='Formato Cronograma'!#REF! -> #REF!
A4: 2 | B4: =VLOOKUP((MATCH(A4,'Formato Cronograma'!#REF!,0)),Datos!A:D,4,FALSE) -> #REF! | C4: ='Formato Cronograma'!#REF! -> #REF! | D4: ='Formato Cronograma'!#REF! -> #REF!
A5: 3 | B5: =VLOOKUP((MATCH(A5,'Formato Cronograma'!#REF!,0)),Datos!A:D,4,FALSE) -> #REF! | C5: ='Formato Cronograma'!#REF! -> #REF! | D5: ='Formato Cronograma'!#REF! -> #REF!
A6: 4 | B6: =VLOOKUP((MATCH(A6,'Formato Cronograma'!#REF!,0)),Datos!A:D,4,FALSE) -> #REF! | C6: ='Formato Cronograma'!#REF! -> #REF! | D6: ='Formato Cronograma'!#REF! -> #REF!
A7: 5 | B7: =VLOOKUP((MATCH(A7,'Formato Cronograma'!#REF!,0)),Datos!A:D,4,FALSE) -> #REF! | C7: ='Formato Cronograma'!#REF! -> #REF! | D7: ='Formato Cronograma'!#REF! -> #REF!
A8: 6 | B8: =VLOOKUP((MATCH(A8,'Formato Cronograma'!#REF!,0)),Datos!A:D,4,FALSE) -> #REF! | C8: ='Formato Cronograma'!#REF! -> #REF! | D8: ='Formato Cronograma'!#REF! -> #REF!
A9: 7 | B9: =VLOOKUP((MATCH(A9,'Formato Cronograma'!#REF!,0)),Datos!A:D,4,FALSE) -> #REF! | C9: ='Formato Cronograma'!#REF! -> #REF! | D9: ='Formato Cronograma'!#REF! -> #REF!
A10: 8 | B10: =VLOOKUP((MATCH(A10,'Formato Cronograma'!#REF!,0)),Datos!A:D,4,FALSE) -> #REF! | C10: ='Formato Cronograma'!#REF! -> #REF! | D10: ='Formato Cronograma'!#REF! -> #REF!
A11: 9 | B11: =VLOOKUP((MATCH(A11,'Formato Cronograma'!#REF!,0)),Datos!A:D,4,FALSE) -> #REF! | C11: ='Formato Cronograma'!#REF! -> #REF! | D11: ='Formato Cronograma'!#REF! -> #REF!
A12: 10 | B12: =VLOOKUP((MATCH(A12,'Formato Cronograma'!#REF!,0)),Datos!A:D,4,FALSE) -> #REF! | C12: ='Formato Cronograma'!#REF! -> #REF! | D12: ='Formato Cronograma'!#REF! -> #REF!
A13: 11 | B13: =VLOOKUP((MATCH(A13,'Formato Cronograma'!#REF!,0)),Datos!A:D,4,FALSE) -> #REF! | C13: ='Formato Cronograma'!#REF! -> #REF! | D13: ='Formato Cronograma'!#REF! -> #REF!
A14: 12 | B14: =VLOOKUP((MATCH(A14,'Formato Cronograma'!#REF!,0)),Datos!A:D,4,FALSE) -> #REF! | C14: ='Formato Cronograma'!#REF! -> #REF! | D14: ='Formato Cronograma'!#REF! -> #REF!
... A32: 30 | B32: =VLOOKUP((MATCH(A32,'Formato Cronograma'!#REF!,0)),Datos!A:D,4,FALSE) -> #REF! | C32: ='Formato Cronograma'!#REF! -> #REF! | D32: ='Formato Cronograma'!#REF! -> #REF!

Sheet 45
A1: Actividad | B1: ='Formato Cronograma'!#REF! -> #REF!
A2: SESIÓN N° | B2: FECHA | C2: Modalidad | D2: Horario
A3: 1 | B3: =VLOOKUP((MATCH(A3,'Formato Cronograma'!#REF!,0)),Datos!A:D,4,FALSE) -> #REF! | C3: ='Formato Cronograma'!#REF! -> #REF! | D3: ='Formato Cronograma'!#REF! -> #REF!
A4: 2 | B4: =VLOOKUP((MATCH(A4,'Formato Cronograma'!#REF!,0)),Datos!A:D,4,FALSE) -> #REF! | C4: ='Formato Cronograma'!#REF! -> #REF! | D4: ='Formato Cronograma'!#REF! -> #REF!
A5: 3 | B5: =VLOOKUP((MATCH(A5,'Formato Cronograma'!#REF!,0)),Datos!A:D,4,FALSE) -> #REF! | C5: ='Formato Cronograma'!#REF! -> #REF! | D5: ='Formato Cronograma'!#REF! -> #REF!
A6: 4 | B6: =VLOOKUP((MATCH(A6,'Formato Cronograma'!#REF!,0)),Datos!A:D,4,FALSE) -> #REF! | C6: ='Formato Cronograma'!#REF! -> #REF! | D6: ='Formato Cronograma'!#REF! -> #REF!
A7: 5 | B7: =VLOOKUP((MATCH(A7,'Formato Cronograma'!#REF!,0)),Datos!A:D,4,FALSE) -> #REF! | C7: ='Formato Cronograma'!#REF! -> #REF! | D7: ='Formato Cronograma'!#REF! -> #REF!
A8: 6 | B8: =VLOOKUP((MATCH(A8,'Formato Cronograma'!#REF!,0)),Datos!A:D,4,FALSE) -> #REF! | C8: ='Formato Cronograma'!#REF! -> #REF! | D8: ='Formato Cronograma'!#REF! -> #REF!
A9: 7 | B9: =VLOOKUP((MATCH(A9,'Formato Cronograma'!#REF!,0)),Datos!A:D,4,FALSE) -> #REF! | C9: ='Formato Cronograma'!#REF! -> #REF! | D9: ='Formato Cronograma'!#REF! -> #REF!
A10: 8 | B10: =VLOOKUP((MATCH(A10,'Formato Cronograma'!#REF!,0)),Datos!A:D,4,FALSE) -> #REF! | C10: ='Formato Cronograma'!#REF! -> #REF! | D10: ='Formato Cronograma'!#REF! -> #REF!
A11: 9 | B11: =VLOOKUP((MATCH(A11,'Formato Cronograma'!#REF!,0)),Datos!A:D,4,FALSE) -> #REF! | C11: ='Formato Cronograma'!#REF! -> #REF! | D11: ='Formato Cronograma'!#REF! -> #REF!
A12: 10 | B12: =VLOOKUP((MATCH(A12,'Formato Cronograma'!#REF!,0)),Datos!A:D,4,FALSE) -> #REF! | C12: ='Formato Cronograma'!#REF! -> #REF! | D12: ='Formato Cronograma'!#REF! -> #REF!
A13: 11 | B13: =VLOOKUP((MATCH(A13,'Formato Cronograma'!#REF!,0)),Datos!A:D,4,FALSE) -> #REF! | C13: ='Formato Cronograma'!#REF! -> #REF! | D13: ='Formato Cronograma'!#REF! -> #REF!
A14: 12 | B14: =VLOOKUP((MATCH(A14,'Formato Cronograma'!#REF!,0)),Datos!A:D,4,FALSE) -> #REF! | C14: ='Formato Cronograma'!#REF! -> #REF! | D14: ='Formato Cronograma'!#REF! -> #REF!
... A32: 30 | B32: =VLOOKUP((MATCH(A32,'Formato Cronograma'!#REF!,0)),Datos!A:D,4,FALSE) -> #REF! | C32: ='Formato Cronograma'!#REF! -> #REF! | D32: ='Formato Cronograma'!#REF! -> #REF!

Sheet 46
A1: Actividad | B1: ='Formato Cronograma'!#REF! -> #REF!
A2: SESIÓN N° | B2: FECHA | C2: Modalidad | D2: Horario
A3: 1 | B3: =VLOOKUP((MATCH(A3,'Formato Cronograma'!#REF!,0)),Datos!A:D,4,FALSE) -> #REF! | C3: ='Formato Cronograma'!#REF! -> #REF! | D3: ='Formato Cronograma'!#REF! -> #REF!
A4: 2 | B4: =VLOOKUP((MATCH(A4,'Formato Cronograma'!#REF!,0)),Datos!A:D,4,FALSE) -> #REF! | C4: ='Formato Cronograma'!#REF! -> #REF! | D4: ='Formato Cronograma'!#REF! -> #REF!
A5: 3 | B5: =VLOOKUP((MATCH(A5,'Formato Cronograma'!#REF!,0)),Datos!A:D,4,FALSE) -> #REF! | C5: ='Formato Cronograma'!#REF! -> #REF! | D5: ='Formato Cronograma'!#REF! -> #REF!
A6: 4 | B6: =VLOOKUP((MATCH(A6,'Formato Cronograma'!#REF!,0)),Datos!A:D,4,FALSE) -> #REF! | C6: ='Formato Cronograma'!#REF! -> #REF! | D6: ='Formato Cronograma'!#REF! -> #REF!
A7: 5 | B7: =VLOOKUP((MATCH(A7,'Formato Cronograma'!#REF!,0)),Datos!A:D,4,FALSE) -> #REF! | C7: ='Formato Cronograma'!#REF! -> #REF! | D7: ='Formato Cronograma'!#REF! -> #REF!
A8: 6 | B8: =VLOOKUP((MATCH(A8,'Formato Cronograma'!#REF!,0)),Datos!A:D,4,FALSE) -> #REF! | C8: ='Formato Cronograma'!#REF! -> #REF! | D8: ='Formato Cronograma'!#REF! -> #REF!
A9: 7 | B9: =VLOOKUP((MATCH(A9,'Formato Cronograma'!#REF!,0)),Datos!A:D,4,FALSE) -> #REF! | C9: ='Formato Cronograma'!#REF! -> #REF! | D9: ='Formato Cronograma'!#REF! -> #REF!
A10: 8 | B10: =VLOOKUP((MATCH(A10,'Formato Cronograma'!#REF!,0)),Datos!A:D,4,FALSE) -> #REF! | C10: ='Formato Cronograma'!#REF! -> #REF! | D10: ='Formato Cronograma'!#REF! -> #REF!
A11: 9 | B11: =VLOOKUP((MATCH(A11,'Formato Cronograma'!#REF!,0)),Datos!A:D,4,FALSE) -> #REF! | C11: ='Formato Cronograma'!#REF! -> #REF! | D11: ='Formato Cronograma'!#REF! -> #REF!
A12: 10 | B12: =VLOOKUP((MATCH(A12,'Formato Cronograma'!#REF!,0)),Datos!A:D,4,FALSE) -> #REF! | C12: ='Formato Cronograma'!#REF! -> #REF! | D12: ='Formato Cronograma'!#REF! -> #REF!
A13: 11 | B13: =VLOOKUP((MATCH(A13,'Formato Cronograma'!#REF!,0)),Datos!A:D,4,FALSE) -> #REF! | C13: ='Formato Cronograma'!#REF! -> #REF! | D13: ='Formato Cronograma'!#REF! -> #REF!
A14: 12 | B14: =VLOOKUP((MATCH(A14,'Formato Cronograma'!#REF!,0)),Datos!A:D,4,FALSE) -> #REF! | C14: ='Formato Cronograma'!#REF! -> #REF! | D14: ='Formato Cronograma'!#REF! -> #REF!
... A32: 30 | B32: =VLOOKUP((MATCH(A32,'Formato Cronograma'!#REF!,0)),Datos!A:D,4,FALSE) -> #REF! | C32: ='Formato Cronograma'!#REF! -> #REF! | D32: ='Formato Cronograma'!#REF! -> #REF!

Sheet 47
A1: Actividad | B1: ='Formato Cronograma'!#REF! -> #REF!
A2: SESIÓN N° | B2: FECHA | C2: Modalidad | D2: Horario
A3: 1 | B3: =VLOOKUP((MATCH(A3,'Formato Cronograma'!#REF!,0)),Datos!A:D,4,FALSE) -> #REF! | C3: ='Formato Cronograma'!#REF! -> #REF! | D3: ='Formato Cronograma'!#REF! -> #REF!
A4: 2 | B4: =VLOOKUP((MATCH(A4,'Formato Cronograma'!#REF!,0)),Datos!A:D,4,FALSE) -> #REF! | C4: ='Formato Cronograma'!#REF! -> #REF! | D4: ='Formato Cronograma'!#REF! -> #REF!
A5: 3 | B5: =VLOOKUP((MATCH(A5,'Formato Cronograma'!#REF!,0)),Datos!A:D,4,FALSE) -> #REF! | C5: ='Formato Cronograma'!#REF! -> #REF! | D5: ='Formato Cronograma'!#REF! -> #REF!
A6: 4 | B6: =VLOOKUP((MATCH(A6,'Formato Cronograma'!#REF!,0)),Datos!A:D,4,FALSE) -> #REF! | C6: ='Formato Cronograma'!#REF! -> #REF! | D6: ='Formato Cronograma'!#REF! -> #REF!
A7: 5 | B7: =VLOOKUP((MATCH(A7,'Formato Cronograma'!#REF!,0)),Datos!A:D,4,FALSE) -> #REF! | C7: ='Formato Cronograma'!#REF! -> #REF! | D7: ='Formato Cronograma'!#REF! -> #REF!
A8: 6 | B8: =VLOOKUP((MATCH(A8,'Formato Cronograma'!#REF!,0)),Datos!A:D,4,FALSE) -> #REF! | C8: ='Formato Cronograma'!#REF! -> #REF! | D8: ='Formato Cronograma'!#REF! -> #REF!
A9: 7 | B9: =VLOOKUP((MATCH(A9,'Formato Cronograma'!#REF!,0)),Datos!A:D,4,FALSE) -> #REF! | C9: ='Formato Cronograma'!#REF! -> #REF! | D9: ='Formato Cronograma'!#REF! -> #REF!
A10: 8 | B10: =VLOOKUP((MATCH(A10,'Formato Cronograma'!#REF!,0)),Datos!A:D,4,FALSE) -> #REF! | C10: ='Formato Cronograma'!#REF! -> #REF! | D10: ='Formato Cronograma'!#REF! -> #REF!
A11: 9 | B11: =VLOOKUP((MATCH(A11,'Formato Cronograma'!#REF!,0)),Datos!A:D,4,FALSE) -> #REF! | C11: ='Formato Cronograma'!#REF! -> #REF! | D11: ='Formato Cronograma'!#REF! -> #REF!
A12: 10 | B12: =VLOOKUP((MATCH(A12,'Formato Cronograma'!#REF!,0)),Datos!A:D,4,FALSE) -> #REF! | C12: ='Formato Cronograma'!#REF! -> #REF! | D12: ='Formato Cronograma'!#REF! -> #REF!
A13: 11 | B13: =VLOOKUP((MATCH(A13,'Formato Cronograma'!#REF!,0)),Datos!A:D,4,FALSE) -> #REF! | C13: ='Formato Cronograma'!#REF! -> #REF! | D13: ='Formato Cronograma'!#REF! -> #REF!
A14: 12 | B14: =VLOOKUP((MATCH(A14,'Formato Cronograma'!#REF!,0)),Datos!A:D,4,FALSE) -> #REF! | C14: ='Formato Cronograma'!#REF! -> #REF! | D14: ='Formato Cronograma'!#REF! -> #REF!
... A32: 30 | B32: =VLOOKUP((MATCH(A32,'Formato Cronograma'!#REF!,0)),Datos!A:D,4,FALSE) -> #REF! | C32: ='Formato Cronograma'!#REF! -> #REF! | D32: ='Formato Cronograma'!#REF! -> #REF!

Sheet 48
A1: Actividad | B1: ='Formato Cronograma'!#REF! -> #REF!
A2: SESIÓN N° | B2: FECHA | C2: Modalidad | D2: Horario
A3: 1 | B3: =VLOOKUP((MATCH(A3,'Formato Cronograma'!#REF!,0)),Datos!A:D,4,FALSE) -> #REF! | C3: ='Formato Cronograma'!#REF! -> #REF! | D3: ='Formato Cronograma'!#REF! -> #REF!
A4: 2 | B4: =VLOOKUP((MATCH(A4,'Formato Cronograma'!#REF!,0)),Datos!A:D,4,FALSE) -> #REF! | C4: ='Formato Cronograma'!#REF! -> #REF! | D4: ='Formato Cronograma'!#REF! -> #REF!
A5: 3 | B5: =VLOOKUP((MATCH(A5,'Formato Cronograma'!#REF!,0)),Datos!A:D,4,FALSE) -> #REF! | C5: ='Formato Cronograma'!#REF! -> #REF! | D5: ='Formato Cronograma'!#REF! -> #REF!
A6: 4 | B6: =VLOOKUP((MATCH(A6,'Formato Cronograma'!#REF!,0)),Datos!A:D,4,FALSE) -> #REF! | C6: ='Formato Cronograma'!#REF! -> #REF! | D6: ='Formato Cronograma'!#REF! -> #REF!
A7: 5 | B7: =VLOOKUP((MATCH(A7,'Formato Cronograma'!#REF!,0)),Datos!A:D,4,FALSE) -> #REF! | C7: ='Formato Cronograma'!#REF! -> #REF! | D7: ='Formato Cronograma'!#REF! -> #REF!
A8: 6 | B8: =VLOOKUP((MATCH(A8,'Formato Cronograma'!#REF!,0)),Datos!A:D,4,FALSE) -> #REF! | C8: ='Formato Cronograma'!#REF! -> #REF! | D8: ='Formato Cronograma'!#REF! -> #REF!
A9: 7 | B9: =VLOOKUP((MATCH(A9,'Formato Cronograma'!#REF!,0)),Datos!A:D,4,FALSE) -> #REF! | C9: ='Formato Cronograma'!#REF! -> #REF! | D9: ='Formato Cronograma'!#REF! -> #REF!
A10: 8 | B10: =VLOOKUP((MATCH(A10,'Formato Cronograma'!#REF!,0)),Datos!A:D,4,FALSE) -> #REF! | C10: ='Formato Cronograma'!#REF! -> #REF! | D10: ='Formato Cronograma'!#REF! -> #REF!
A11: 9 | B11: =VLOOKUP((MATCH(A11,'Formato Cronograma'!#REF!,0)),Datos!A:D,4,FALSE) -> #REF! | C11: ='Formato Cronograma'!#REF! -> #REF! | D11: ='Formato Cronograma'!#REF! -> #REF!
A12: 10 | B12: =VLOOKUP((MATCH(A12,'Formato Cronograma'!#REF!,0)),Datos!A:D,4,FALSE) -> #REF! | C12: ='Formato Cronograma'!#REF! -> #REF! | D12: ='Formato Cronograma'!#REF! -> #REF!
A13: 11 | B13: =VLOOKUP((MATCH(A13,'Formato Cronograma'!#REF!,0)),Datos!A:D,4,FALSE) -> #REF! | C13: ='Formato Cronograma'!#REF! -> #REF! | D13: ='Formato Cronograma'!#REF! -> #REF!
A14: 12 | B14: =VLOOKUP((MATCH(A14,'Formato Cronograma'!#REF!,0)),Datos!A:D,4,FALSE) -> #REF! | C14: ='Formato Cronograma'!#REF! -> #REF! | D14: ='Formato Cronograma'!#REF! -> #REF!
... A32: 30 | B32: =VLOOKUP((MATCH(A32,'Formato Cronograma'!#REF!,0)),Datos!A:D,4,FALSE) -> #REF! | C32: ='Formato Cronograma'!#REF! -> #REF! | D32: ='Formato Cronograma'!#REF! -> #REF!

Sheet 49
A1: Actividad | B1: ='Formato Cronograma'!#REF! -> #REF!
A2: SESIÓN N° | B2: FECHA | C2: Modalidad | D2: Horario
A3: 1 | B3: =VLOOKUP((MATCH(A3,'Formato Cronograma'!#REF!,0)),Datos!A:D,4,FALSE) -> #REF! | C3: ='Formato Cronograma'!#REF! -> #REF! | D3: ='Formato Cronograma'!#REF! -> #REF!
A4: 2 | B4: =VLOOKUP((MATCH(A4,'Formato Cronograma'!#REF!,0)),Datos!A:D,4,FALSE) -> #REF! | C4: ='Formato Cronograma'!#REF! -> #REF! | D4: ='Formato Cronograma'!#REF! -> #REF!
A5: 3 | B5: =VLOOKUP((MATCH(A5,'Formato Cronograma'!#REF!,0)),Datos!A:D,4,FALSE) -> #REF! | C5: ='Formato Cronograma'!#REF! -> #REF! | D5: ='Formato Cronograma'!#REF! -> #REF!
A6: 4 | B6: =VLOOKUP((MATCH(A6,'Formato Cronograma'!#REF!,0)),Datos!A:D,4,FALSE) -> #REF! | C6: ='Formato Cronograma'!#REF! -> #REF! | D6: ='Formato Cronograma'!#REF! -> #REF!
A7: 5 | B7: =VLOOKUP((MATCH(A7,'Formato Cronograma'!#REF!,0)),Datos!A:D,4,FALSE) -> #REF! | C7: ='Formato Cronograma'!#REF! -> #REF! | D7: ='Formato Cronograma'!#REF! -> #REF!
A8: 6 | B8: =VLOOKUP((MATCH(A8,'Formato Cronograma'!#REF!,0)),Datos!A:D,4,FALSE) -> #REF! | C8: ='Formato Cronograma'!#REF! -> #REF! | D8: ='Formato Cronograma'!#REF! -> #REF!
A9: 7 | B9: =VLOOKUP((MATCH(A9,'Formato Cronograma'!#REF!,0)),Datos!A:D,4,FALSE) -> #REF! | C9: ='Formato Cronograma'!#REF! -> #REF! | D9: ='Formato Cronograma'!#REF! -> #REF!
A10: 8 | B10: =VLOOKUP((MATCH(A10,'Formato Cronograma'!#REF!,0)),Datos!A:D,4,FALSE) -> #REF! | C10: ='Formato Cronograma'!#REF! -> #REF! | D10: ='Formato Cronograma'!#REF! -> #REF!
A11: 9 | B11: =VLOOKUP((MATCH(A11,'Formato Cronograma'!#REF!,0)),Datos!A:D,4,FALSE) -> #REF! | C11: ='Formato Cronograma'!#REF! -> #REF! | D11: ='Formato Cronograma'!#REF! -> #REF!
A12: 10 | B12: =VLOOKUP((MATCH(A12,'Formato Cronograma'!#REF!,0)),Datos!A:D,4,FALSE) -> #REF! | C12: ='Formato Cronograma'!#REF! -> #REF! | D12: ='Formato Cronograma'!#REF! -> #REF!
A13: 11 | B13: =VLOOKUP((MATCH(A13,'Formato Cronograma'!#REF!,0)),Datos!A:D,4,FALSE) -> #REF! | C13: ='Formato Cronograma'!#REF! -> #REF! | D13: ='Formato Cronograma'!#REF! -> #REF!
A14: 12 | B14: =VLOOKUP((MATCH(A14,'Formato Cronograma'!#REF!,0)),Datos!A:D,4,FALSE) -> #REF! | C14: ='Formato Cronograma'!#REF! -> #REF! | D14: ='Formato Cronograma'!#REF! -> #REF!
... A32: 30 | B32: =VLOOKUP((MATCH(A32,'Formato Cronograma'!#REF!,0)),Datos!A:D,4,FALSE) -> #REF! | C32: ='Formato Cronograma'!#REF! -> #REF! | D32: ='Formato Cronograma'!#REF! -> #REF!

Sheet 50
A1: Actividad | B1: ='Formato Cronograma'!#REF! -> #REF!
A2: SESIÓN N° | B2: FECHA | C2: Modalidad | D2: Horario
A3: 1 | B3: =VLOOKUP((MATCH(A3,'Formato Cronograma'!#REF!,0)),Datos!A:D,4,FALSE) -> #REF! | C3: ='Formato Cronograma'!#REF! -> #REF! | D3: ='Formato Cronograma'!#REF! -> #REF!
A4: 2 | B4: =VLOOKUP((MATCH(A4,'Formato Cronograma'!#REF!,0)),Datos!A:D,4,FALSE) -> #REF! | C4: ='Formato Cronograma'!#REF! -> #REF! | D4: ='Formato Cronograma'!#REF! -> #REF!
A5: 3 | B5: =VLOOKUP((MATCH(A5,'Formato Cronograma'!#REF!,0)),Datos!A:D,4,FALSE) -> #REF! | C5: ='Formato Cronograma'!#REF! -> #REF! | D5: ='Formato Cronograma'!#REF! -> #REF!
A6: 4 | B6: =VLOOKUP((MATCH(A6,'Formato Cronograma'!#REF!,0)),Datos!A:D,4,FALSE) -> #REF! | C6: ='Formato Cronograma'!#REF! -> #REF! | D6: ='Formato Cronograma'!#REF! -> #REF!
A7: 5 | B7: =VLOOKUP((MATCH(A7,'Formato Cronograma'!#REF!,0)),Datos!A:D,4,FALSE) -> #REF! | C7: ='Formato Cronograma'!#REF! -> #REF! | D7: ='Formato Cronograma'!#REF! -> #REF!
A8: 6 | B8: =VLOOKUP((MATCH(A8,'Formato Cronograma'!#REF!,0)),Datos!A:D,4,FALSE) -> #REF! | C8: ='Formato Cronograma'!#REF! -> #REF! | D8: ='Formato Cronograma'!#REF! -> #REF!
A9: 7 | B9: =VLOOKUP((MATCH(A9,'Formato Cronograma'!#REF!,0)),Datos!A:D,4,FALSE) -> #REF! | C9: ='Formato Cronograma'!#REF! -> #REF! | D9: ='Formato Cronograma'!#REF! -> #REF!
A10: 8 | B10: =VLOOKUP((MATCH(A10,'Formato Cronograma'!#REF!,0)),Datos!A:D,4,FALSE) -> #REF! | C10: ='Formato Cronograma'!#REF! -> #REF! | D10: ='Formato Cronograma'!#REF! -> #REF!
A11: 9 | B11: =VLOOKUP((MATCH(A11,'Formato Cronograma'!#REF!,0)),Datos!A:D,4,FALSE) -> #REF! | C11: ='Formato Cronograma'!#REF! -> #REF! | D11: ='Formato Cronograma'!#REF! -> #REF!
A12: 10 | B12: =VLOOKUP((MATCH(A12,'Formato Cronograma'!#REF!,0)),Datos!A:D,4,FALSE) -> #REF! | C12: ='Formato Cronograma'!#REF! -> #REF! | D12: ='Formato Cronograma'!#REF! -> #REF!
A13: 11 | B13: =VLOOKUP((MATCH(A13,'Formato Cronograma'!#REF!,0)),Datos!A:D,4,FALSE) -> #REF! | C13: ='Formato Cronograma'!#REF! -> #REF! | D13: ='Formato Cronograma'!#REF! -> #REF!
A14: 12 | B14: =VLOOKUP((MATCH(A14,'Formato Cronograma'!#REF!,0)),Datos!A:D,4,FALSE) -> #REF! | C14: ='Formato Cronograma'!#REF! -> #REF! | D14: ='Formato Cronograma'!#REF! -> #REF!
... A32: 30 | B32: =VLOOKUP((MATCH(A32,'Formato Cronograma'!#REF!,0)),Datos!A:D,4,FALSE) -> #REF! | C32: ='Formato Cronograma'!#REF! -> #REF! | D32: ='Formato Cronograma'!#REF! -> #REF!

Sheet 51
A1: Actividad | B1: ='Formato Cronograma'!#REF! -> #REF!
A2: SESIÓN N° | B2: FECHA | C2: Modalidad | D2: Horario
A3: 1 | B3: =VLOOKUP((MATCH(A3,'Formato Cronograma'!#REF!,0)),Datos!A:D,4,FALSE) -> #REF! | C3: ='Formato Cronograma'!#REF! -> #REF! | D3: ='Formato Cronograma'!#REF! -> #REF!
A4: 2 | B4: =VLOOKUP((MATCH(A4,'Formato Cronograma'!#REF!,0)),Datos!A:D,4,FALSE) -> #REF! | C4: ='Formato Cronograma'!#REF! -> #REF! | D4: ='Formato Cronograma'!#REF! -> #REF!
A5: 3 | B5: =VLOOKUP((MATCH(A5,'Formato Cronograma'!#REF!,0)),Datos!A:D,4,FALSE) -> #REF! | C5: ='Formato Cronograma'!#REF! -> #REF! | D5: ='Formato Cronograma'!#REF! -> #REF!
A6: 4 | B6: =VLOOKUP((MATCH(A6,'Formato Cronograma'!#REF!,0)),Datos!A:D,4,FALSE) -> #REF! | C6: ='Formato Cronograma'!#REF! -> #REF! | D6: ='Formato Cronograma'!#REF! -> #REF!
A7: 5 | B7: =VLOOKUP((MATCH(A7,'Formato Cronograma'!#REF!,0)),Datos!A:D,4,FALSE) -> #REF! | C7: ='Formato Cronograma'!#REF! -> #REF! | D7: ='Formato Cronograma'!#REF! -> #REF!
A8: 6 | B8: =VLOOKUP((MATCH(A8,'Formato Cronograma'!#REF!,0)),Datos!A:D,4,FALSE) -> #REF! | C8: ='Formato Cronograma'!#REF! -> #REF! | D8: ='Formato Cronograma'!#REF! -> #REF!
A9: 7 | B9: =VLOOKUP((MATCH(A9,'Formato Cronograma'!#REF!,0)),Datos!A:D,4,FALSE) -> #REF! | C9: ='Formato Cronograma'!#REF! -> #REF! | D9: ='Formato Cronograma'!#REF! -> #REF!
A10: 8 | B10: =VLOOKUP((MATCH(A10,'Formato Cronograma'!#REF!,0)),Datos!A:D,4,FALSE) -> #REF! | C10: ='Formato Cronograma'!#REF! -> #REF! | D10: ='Formato Cronograma'!#REF! -> #REF!
A11: 9 | B11: =VLOOKUP((MATCH(A11,'Formato Cronograma'!#REF!,0)),Datos!A:D,4,FALSE) -> #REF! | C11: ='Formato Cronograma'!#REF! -> #REF! | D11: ='Formato Cronograma'!#REF! -> #REF!
A12: 10 | B12: =VLOOKUP((MATCH(A12,'Formato Cronograma'!#REF!,0)),Datos!A:D,4,FALSE) -> #REF! | C12: ='Formato Cronograma'!#REF! -> #REF! | D12: ='Formato Cronograma'!#REF! -> #REF!
A13: 11 | B13: =VLOOKUP((MATCH(A13,'Formato Cronograma'!#REF!,0)),Datos!A:D,4,FALSE) -> #REF! | C13: ='Formato Cronograma'!#REF! -> #REF! | D13: ='Formato Cronograma'!#REF! -> #REF!
A14: 12 | B14: =VLOOKUP((MATCH(A14,'Formato Cronograma'!#REF!,0)),Datos!A:D,4,FALSE) -> #REF! | C14: ='Formato Cronograma'!#REF! -> #REF! | D14: ='Formato Cronograma'!#REF! -> #REF!
... A32: 30 | B32: =VLOOKUP((MATCH(A32,'Formato Cronograma'!#REF!,0)),Datos!A:D,4,FALSE) -> #REF! | C32: ='Formato Cronograma'!#REF! -> #REF! | D32: ='Formato Cronograma'!#REF! -> #REF!

Sheet 52
A1: Actividad | B1: ='Formato Cronograma'!#REF! -> #REF!
A2: SESIÓN N° | B2: FECHA | C2: Modalidad | D2: Horario
A3: 1 | B3: =VLOOKUP((MATCH(A3,'Formato Cronograma'!#REF!,0)),Datos!A:D,4,FALSE) -> #REF! | C3: ='Formato Cronograma'!#REF! -> #REF! | D3: ='Formato Cronograma'!#REF! -> #REF!
A4: 2 | B4: =VLOOKUP((MATCH(A4,'Formato Cronograma'!#REF!,0)),Datos!A:D,4,FALSE) -> #REF! | C4: ='Formato Cronograma'!#REF! -> #REF! | D4: ='Formato Cronograma'!#REF! -> #REF!
A5: 3 | B5: =VLOOKUP((MATCH(A5,'Formato Cronograma'!#REF!,0)),Datos!A:D,4,FALSE) -> #REF! | C5: ='Formato Cronograma'!#REF! -> #REF! | D5: ='Formato Cronograma'!#REF! -> #REF!
A6: 4 | B6: =VLOOKUP((MATCH(A6,'Formato Cronograma'!#REF!,0)),Datos!A:D,4,FALSE) -> #REF! | C6: ='Formato Cronograma'!#REF! -> #REF! | D6: ='Formato Cronograma'!#REF! -> #REF!
A7: 5 | B7: =VLOOKUP((MATCH(A7,'Formato Cronograma'!#REF!,0)),Datos!A:D,4,FALSE) -> #REF! | C7: ='Formato Cronograma'!#REF! -> #REF! | D7: ='Formato Cronograma'!#REF! -> #REF!
A8: 6 | B8: =VLOOKUP((MATCH(A8,'Formato Cronograma'!#REF!,0)),Datos!A:D,4,FALSE) -> #REF! | C8: ='Formato Cronograma'!#REF! -> #REF! | D8: ='Formato Cronograma'!#REF! -> #REF!
A9: 7 | B9: =VLOOKUP((MATCH(A9,'Formato Cronograma'!#REF!,0)),Datos!A:D,4,FALSE) -> #REF! | C9: ='Formato Cronograma'!#REF! -> #REF! | D9: ='Formato Cronograma'!#REF! -> #REF!
A10: 8 | B10: =VLOOKUP((MATCH(A10,'Formato Cronograma'!#REF!,0)),Datos!A:D,4,FALSE) -> #REF! | C10: ='Formato Cronograma'!#REF! -> #REF! | D10: ='Formato Cronograma'!#REF! -> #REF!
A11: 9 | B11: =VLOOKUP((MATCH(A11,'Formato Cronograma'!#REF!,0)),Datos!A:D,4,FALSE) -> #REF! | C11: ='Formato Cronograma'!#REF! -> #REF! | D11: ='Formato Cronograma'!#REF! -> #REF!
A12: 10 | B12: =VLOOKUP((MATCH(A12,'Formato Cronograma'!#REF!,0)),Datos!A:D,4,FALSE) -> #REF! | C12: ='Formato Cronograma'!#REF! -> #REF! | D12: ='Formato Cronograma'!#REF! -> #REF!
A13: 11 | B13: =VLOOKUP((MATCH(A13,'Formato Cronograma'!#REF!,0)),Datos!A:D,4,FALSE) -> #REF! | C13: ='Formato Cronograma'!#REF! -> #REF! | D13: ='Formato Cronograma'!#REF! -> #REF!
A14: 12 | B14: =VLOOKUP((MATCH(A14,'Formato Cronograma'!#REF!,0)),Datos!A:D,4,FALSE) -> #REF! | C14: ='Formato Cronograma'!#REF! -> #REF! | D14: ='Formato Cronograma'!#REF! -> #REF!
... A32: 30 | B32: =VLOOKUP((MATCH(A32,'Formato Cronograma'!#REF!,0)),Datos!A:D,4,FALSE) -> #REF! | C32: ='Formato Cronograma'!#REF! -> #REF! | D32: ='Formato Cronograma'!#REF! -> #REF!

Sheet 53
A1: Actividad | B1: ='Formato Cronograma'!#REF! -> #REF!
A2: SESIÓN N° | B2: FECHA | C2: Modalidad | D2: Horario
A3: 1 | B3: =VLOOKUP((MATCH(A3,'Formato Cronograma'!#REF!,0)),Datos!A:D,4,FALSE) -> #REF! | C3: ='Formato Cronograma'!#REF! -> #REF! | D3: ='Formato Cronograma'!#REF! -> #REF!
A4: 2 | B4: =VLOOKUP((MATCH(A4,'Formato Cronograma'!#REF!,0)),Datos!A:D,4,FALSE) -> #REF! | C4: ='Formato Cronograma'!#REF! -> #REF! | D4: ='Formato Cronograma'!#REF! -> #REF!
A5: 3 | B5: =VLOOKUP((MATCH(A5,'Formato Cronograma'!#REF!,0)),Datos!A:D,4,FALSE) -> #REF! | C5: ='Formato Cronograma'!#REF! -> #REF! | D5: ='Formato Cronograma'!#REF! -> #REF!
A6: 4 | B6: =VLOOKUP((MATCH(A6,'Formato Cronograma'!#REF!,0)),Datos!A:D,4,FALSE) -> #REF! | C6: ='Formato Cronograma'!#REF! -> #REF! | D6: ='Formato Cronograma'!#REF! -> #REF!
A7: 5 | B7: =VLOOKUP((MATCH(A7,'Formato Cronograma'!#REF!,0)),Datos!A:D,4,FALSE) -> #REF! | C7: ='Formato Cronograma'!#REF! -> #REF! | D7: ='Formato Cronograma'!#REF! -> #REF!
A8: 6 | B8: =VLOOKUP((MATCH(A8,'Formato Cronograma'!#REF!,0)),Datos!A:D,4,FALSE) -> #REF! | C8: ='Formato Cronograma'!#REF! -> #REF! | D8: ='Formato Cronograma'!#REF! -> #REF!
A9: 7 | B9: =VLOOKUP((MATCH(A9,'Formato Cronograma'!#REF!,0)),Datos!A:D,4,FALSE) -> #REF! | C9: ='Formato Cronograma'!#REF! -> #REF! | D9: ='Formato Cronograma'!#REF! -> #REF!
A10: 8 | B10: =VLOOKUP((MATCH(A10,'Formato Cronograma'!#REF!,0)),Datos!A:D,4,FALSE) -> #REF! | C10: ='Formato Cronograma'!#REF! -> #REF! | D10: ='Formato Cronograma'!#REF! -> #REF!
A11: 9 | B11: =VLOOKUP((MATCH(A11,'Formato Cronograma'!#REF!,0)),Datos!A:D,4,FALSE) -> #REF! | C11: ='Formato Cronograma'!#REF! -> #REF! | D11: ='Formato Cronograma'!#REF! -> #REF!
A12: 10 | B12: =VLOOKUP((MATCH(A12,'Formato Cronograma'!#REF!,0)),Datos!A:D,4,FALSE) -> #REF! | C12: ='Formato Cronograma'!#REF! -> #REF! | D12: ='Formato Cronograma'!#REF! -> #REF!
A13: 11 | B13: =VLOOKUP((MATCH(A13,'Formato Cronograma'!#REF!,0)),Datos!A:D,4,FALSE) -> #REF! | C13: ='Formato Cronograma'!#REF! -> #REF! | D13: ='Formato Cronograma'!#REF! -> #REF!
A14: 12 | B14: =VLOOKUP((MATCH(A14,'Formato Cronograma'!#REF!,0)),Datos!A:D,4,FALSE) -> #REF! | C14: ='Formato Cronograma'!#REF! -> #REF! | D14: ='Formato Cronograma'!#REF! -> #REF!
... A32: 30 | B32: =VLOOKUP((MATCH(A32,'Formato Cronograma'!#REF!,0)),Datos!A:D,4,FALSE) -> #REF! | C32: ='Formato Cronograma'!#REF! -> #REF! | D32: ='Formato Cronograma'!#REF! -> #REF!

Sheet 54
A1: Actividad | B1: ='Formato Cronograma'!#REF! -> #REF!
A2: SESIÓN N° | B2: FECHA | C2: Modalidad | D2: Horario
A3: 1 | B3: =VLOOKUP((MATCH(A3,'Formato Cronograma'!#REF!,0)),Datos!A:D,4,FALSE) -> #REF! | C3: ='Formato Cronograma'!#REF! -> #REF! | D3: ='Formato Cronograma'!#REF! -> #REF!
A4: 2 | B4: =VLOOKUP((MATCH(A4,'Formato Cronograma'!#REF!,0)),Datos!A:D,4,FALSE) -> #REF! | C4: ='Formato Cronograma'!#REF! -> #REF! | D4: ='Formato Cronograma'!#REF! -> #REF!
A5: 3 | B5: =VLOOKUP((MATCH(A5,'Formato Cronograma'!#REF!,0)),Datos!A:D,4,FALSE) -> #REF! | C5: ='Formato Cronograma'!#REF! -> #REF! | D5: ='Formato Cronograma'!#REF! -> #REF!
A6: 4 | B6: =VLOOKUP((MATCH(A6,'Formato Cronograma'!#REF!,0)),Datos!A:D,4,FALSE) -> #REF! | C6: ='Formato Cronograma'!#REF! -> #REF! | D6: ='Formato Cronograma'!#REF! -> #REF!
A7: 5 | B7: =VLOOKUP((MATCH(A7,'Formato Cronograma'!#REF!,0)),Datos!A:D,4,FALSE) -> #REF! | C7: ='Formato Cronograma'!#REF! -> #REF! | D7: ='Formato Cronograma'!#REF! -> #REF!
A8: 6 | B8: =VLOOKUP((MATCH(A8,'Formato Cronograma'!#REF!,0)),Datos!A:D,4,FALSE) -> #REF! | C8: ='Formato Cronograma'!#REF! -> #REF! | D8: ='Formato Cronograma'!#REF! -> #REF!
A9: 7 | B9: =VLOOKUP((MATCH(A9,'Formato Cronograma'!#REF!,0)),Datos!A:D,4,FALSE) -> #REF! | C9: ='Formato Cronograma'!#REF! -> #REF! | D9: ='Formato Cronograma'!#REF! -> #REF!
A10: 8 | B10: =VLOOKUP((MATCH(A10,'Formato Cronograma'!#REF!,0)),Datos!A:D,4,FALSE) -> #REF! | C10: ='Formato Cronograma'!#REF! -> #REF! | D10: ='Formato Cronograma'!#REF! -> #REF!
A11: 9 | B11: =VLOOKUP((MATCH(A11,'Formato Cronograma'!#REF!,0)),Datos!A:D,4,FALSE) -> #REF! | C11: ='Formato Cronograma'!#REF! -> #REF! | D11: ='Formato Cronograma'!#REF! -> #REF!
A12: 10 | B12: =VLOOKUP((MATCH(A12,'Formato Cronograma'!#REF!,0)),Datos!A:D,4,FALSE) -> #REF! | C12: ='Formato Cronograma'!#REF! -> #REF! | D12: ='Formato Cronograma'!#REF! -> #REF!
A13: 11 | B13: =VLOOKUP((MATCH(A13,'Formato Cronograma'!#REF!,0)),Datos!A:D,4,FALSE) -> #REF! | C13: ='Formato Cronograma'!#REF! -> #REF! | D13: ='Formato Cronograma'!#REF! -> #REF!
A14: 12 | B14: =VLOOKUP((MATCH(A14,'Formato Cronograma'!#REF!,0)),Datos!A:D,4,FALSE) -> #REF! | C14: ='Formato Cronograma'!#REF! -> #REF! | D14: ='Formato Cronograma'!#REF! -> #REF!
... A32: 30 | B32: =VLOOKUP((MATCH(A32,'Formato Cronograma'!#REF!,0)),Datos!A:D,4,FALSE) -> #REF! | C32: ='Formato Cronograma'!#REF! -> #REF! | D32: ='Formato Cronograma'!#REF! -> #REF!

Sheet 55
A1: Actividad | B1: ='Formato Cronograma'!#REF! -> #REF!
A2: SESIÓN N° | B2: FECHA | C2: Modalidad | D2: Horario
A3: 1 | B3: =VLOOKUP((MATCH(A3,'Formato Cronograma'!#REF!,0)),Datos!A:D,4,FALSE) -> #REF! | C3: ='Formato Cronograma'!#REF! -> #REF! | D3: ='Formato Cronograma'!#REF! -> #REF!
A4: 2 | B4: =VLOOKUP((MATCH(A4,'Formato Cronograma'!#REF!,0)),Datos!A:D,4,FALSE) -> #REF! | C4: ='Formato Cronograma'!#REF! -> #REF! | D4: ='Formato Cronograma'!#REF! -> #REF!
A5: 3 | B5: =VLOOKUP((MATCH(A5,'Formato Cronograma'!#REF!,0)),Datos!A:D,4,FALSE) -> #REF! | C5: ='Formato Cronograma'!#REF! -> #REF! | D5: ='Formato Cronograma'!#REF! -> #REF!
A6: 4 | B6: =VLOOKUP((MATCH(A6,'Formato Cronograma'!#REF!,0)),Datos!A:D,4,FALSE) -> #REF! | C6: ='Formato Cronograma'!#REF! -> #REF! | D6: ='Formato Cronograma'!#REF! -> #REF!
A7: 5 | B7: =VLOOKUP((MATCH(A7,'Formato Cronograma'!#REF!,0)),Datos!A:D,4,FALSE) -> #REF! | C7: ='Formato Cronograma'!#REF! -> #REF! | D7: ='Formato Cronograma'!#REF! -> #REF!
A8: 6 | B8: =VLOOKUP((MATCH(A8,'Formato Cronograma'!#REF!,0)),Datos!A:D,4,FALSE) -> #REF! | C8: ='Formato Cronograma'!#REF! -> #REF! | D8: ='Formato Cronograma'!#REF! -> #REF!
A9: 7 | B9: =VLOOKUP((MATCH(A9,'Formato Cronograma'!#REF!,0)),Datos!A:D,4,FALSE) -> #REF! | C9: ='Formato Cronograma'!#REF! -> #REF! | D9: ='Formato Cronograma'!#REF! -> #REF!
A10: 8 | B10: =VLOOKUP((MATCH(A10,'Formato Cronograma'!#REF!,0)),Datos!A:D,4,FALSE) -> #REF! | C10: ='Formato Cronograma'!#REF! -> #REF! | D10: ='Formato Cronograma'!#REF! -> #REF!
A11: 9 | B11: =VLOOKUP((MATCH(A11,'Formato Cronograma'!#REF!,0)),Datos!A:D,4,FALSE) -> #REF! | C11: ='Formato Cronograma'!#REF! -> #REF! | D11: ='Formato Cronograma'!#REF! -> #REF!
A12: 10 | B12: =VLOOKUP((MATCH(A12,'Formato Cronograma'!#REF!,0)),Datos!A:D,4,FALSE) -> #REF! | C12: ='Formato Cronograma'!#REF! -> #REF! | D12: ='Formato Cronograma'!#REF! -> #REF!
A13: 11 | B13: =VLOOKUP((MATCH(A13,'Formato Cronograma'!#REF!,0)),Datos!A:D,4,FALSE) -> #REF! | C13: ='Formato Cronograma'!#REF! -> #REF! | D13: ='Formato Cronograma'!#REF! -> #REF!
A14: 12 | B14: =VLOOKUP((MATCH(A14,'Formato Cronograma'!#REF!,0)),Datos!A:D,4,FALSE) -> #REF! | C14: ='Formato Cronograma'!#REF! -> #REF! | D14: ='Formato Cronograma'!#REF! -> #REF!
... A32: 30 | B32: =VLOOKUP((MATCH(A32,'Formato Cronograma'!#REF!,0)),Datos!A:D,4,FALSE) -> #REF! | C32: ='Formato Cronograma'!#REF! -> #REF! | D32: ='Formato Cronograma'!#REF! -> #REF!

Sheet 56
A1: Actividad | B1: ='Formato Cronograma'!#REF! -> #REF!
A2: SESIÓN N° | B2: FECHA | C2: Modalidad | D2: Horario
A3: 1 | B3: =VLOOKUP((MATCH(A3,'Formato Cronograma'!#REF!,0)),Datos!A:D,4,FALSE) -> #REF! | C3: ='Formato Cronograma'!#REF! -> #REF! | D3: ='Formato Cronograma'!#REF! -> #REF!
A4: 2 | B4: =VLOOKUP((MATCH(A4,'Formato Cronograma'!#REF!,0)),Datos!A:D,4,FALSE) -> #REF! | C4: ='Formato Cronograma'!#REF! -> #REF! | D4: ='Formato Cronograma'!#REF! -> #REF!
A5: 3 | B5: =VLOOKUP((MATCH(A5,'Formato Cronograma'!#REF!,0)),Datos!A:D,4,FALSE) -> #REF! | C5: ='Formato Cronograma'!#REF! -> #REF! | D5: ='Formato Cronograma'!#REF! -> #REF!
A6: 4 | B6: =VLOOKUP((MATCH(A6,'Formato Cronograma'!#REF!,0)),Datos!A:D,4,FALSE) -> #REF! | C6: ='Formato Cronograma'!#REF! -> #REF! | D6: ='Formato Cronograma'!#REF! -> #REF!
A7: 5 | B7: =VLOOKUP((MATCH(A7,'Formato Cronograma'!#REF!,0)),Datos!A:D,4,FALSE) -> #REF! | C7: ='Formato Cronograma'!#REF! -> #REF! | D7: ='Formato Cronograma'!#REF! -> #REF!
A8: 6 | B8: =VLOOKUP((MATCH(A8,'Formato Cronograma'!#REF!,0)),Datos!A:D,4,FALSE) -> #REF! | C8: ='Formato Cronograma'!#REF! -> #REF! | D8: ='Formato Cronograma'!#REF! -> #REF!
A9: 7 | B9: =VLOOKUP((MATCH(A9,'Formato Cronograma'!#REF!,0)),Datos!A:D,4,FALSE) -> #REF! | C9: ='Formato Cronograma'!#REF! -> #REF! | D9: ='Formato Cronograma'!#REF! -> #REF!
A10: 8 | B10: =VLOOKUP((MATCH(A10,'Formato Cronograma'!#REF!,0)),Datos!A:D,4,FALSE) -> #REF! | C10: ='Formato Cronograma'!#REF! -> #REF! | D10: ='Formato Cronograma'!#REF! -> #REF!
A11: 9 | B11: =VLOOKUP((MATCH(A11,'Formato Cronograma'!#REF!,0)),Datos!A:D,4,FALSE) -> #REF! | C11: ='Formato Cronograma'!#REF! -> #REF! | D11: ='Formato Cronograma'!#REF! -> #REF!
A12: 10 | B12: =VLOOKUP((MATCH(A12,'Formato Cronograma'!#REF!,0)),Datos!A:D,4,FALSE) -> #REF! | C12: ='Formato Cronograma'!#REF! -> #REF! | D12: ='Formato Cronograma'!#REF! -> #REF!
A13: 11 | B13: =VLOOKUP((MATCH(A13,'Formato Cronograma'!#REF!,0)),Datos!A:D,4,FALSE) -> #REF! | C13: ='Formato Cronograma'!#REF! -> #REF! | D13: ='Formato Cronograma'!#REF! -> #REF!
A14: 12 | B14: =VLOOKUP((MATCH(A14,'Formato Cronograma'!#REF!,0)),Datos!A:D,4,FALSE) -> #REF! | C14: ='Formato Cronograma'!#REF! -> #REF! | D14: ='Formato Cronograma'!#REF! -> #REF!
... A32: 30 | B32: =VLOOKUP((MATCH(A32,'Formato Cronograma'!#REF!,0)),Datos!A:D,4,FALSE) -> #REF! | C32: ='Formato Cronograma'!#REF! -> #REF! | D32: ='Formato Cronograma'!#REF! -> #REF!

Sheet 57
A1: Actividad | B1: ='Formato Cronograma'!#REF! -> #REF!
A2: SESIÓN N° | B2: FECHA | C2: Modalidad | D2: Horario
A3: 1 | B3: =VLOOKUP((MATCH(A3,'Formato Cronograma'!#REF!,0)),Datos!A:D,4,FALSE) -> #REF! | C3: ='Formato Cronograma'!#REF! -> #REF! | D3: ='Formato Cronograma'!#REF! -> #REF!
A4: 2 | B4: =VLOOKUP((MATCH(A4,'Formato Cronograma'!#REF!,0)),Datos!A:D,4,FALSE) -> #REF! | C4: ='Formato Cronograma'!#REF! -> #REF! | D4: ='Formato Cronograma'!#REF! -> #REF!
A5: 3 | B5: =VLOOKUP((MATCH(A5,'Formato Cronograma'!#REF!,0)),Datos!A:D,4,FALSE) -> #REF! | C5: ='Formato Cronograma'!#REF! -> #REF! | D5: ='Formato Cronograma'!#REF! -> #REF!
A6: 4 | B6: =VLOOKUP((MATCH(A6,'Formato Cronograma'!#REF!,0)),Datos!A:D,4,FALSE) -> #REF! | C6: ='Formato Cronograma'!#REF! -> #REF! | D6: ='Formato Cronograma'!#REF! -> #REF!
A7: 5 | B7: =VLOOKUP((MATCH(A7,'Formato Cronograma'!#REF!,0)),Datos!A:D,4,FALSE) -> #REF! | C7: ='Formato Cronograma'!#REF! -> #REF! | D7: ='Formato Cronograma'!#REF! -> #REF!
A8: 6 | B8: =VLOOKUP((MATCH(A8,'Formato Cronograma'!#REF!,0)),Datos!A:D,4,FALSE) -> #REF! | C8: ='Formato Cronograma'!#REF! -> #REF! | D8: ='Formato Cronograma'!#REF! -> #REF!
A9: 7 | B9: =VLOOKUP((MATCH(A9,'Formato Cronograma'!#REF!,0)),Datos!A:D,4,FALSE) -> #REF! | C9: ='Formato Cronograma'!#REF! -> #REF! | D9: ='Formato Cronograma'!#REF! -> #REF!
A10: 8 | B10: =VLOOKUP((MATCH(A10,'Formato Cronograma'!#REF!,0)),Datos!A:D,4,FALSE) -> #REF! | C10: ='Formato Cronograma'!#REF! -> #REF! | D10: ='Formato Cronograma'!#REF! -> #REF!
A11: 9 | B11: =VLOOKUP((MATCH(A11,'Formato Cronograma'!#REF!,0)),Datos!A:D,4,FALSE) -> #REF! | C11: ='Formato Cronograma'!#REF! -> #REF! | D11: ='Formato Cronograma'!#REF! -> #REF!
A12: 10 | B12: =VLOOKUP((MATCH(A12,'Formato Cronograma'!#REF!,0)),Datos!A:D,4,FALSE) -> #REF! | C12: ='Formato Cronograma'!#REF! -> #REF! | D12: ='Formato Cronograma'!#REF! -> #REF!
A13: 11 | B13: =VLOOKUP((MATCH(A13,'Formato Cronograma'!#REF!,0)),Datos!A:D,4,FALSE) -> #REF! | C13: ='Formato Cronograma'!#REF! -> #REF! | D13: ='Formato Cronograma'!#REF! -> #REF!
A14: 12 | B14: =VLOOKUP((MATCH(A14,'Formato Cronograma'!#REF!,0)),Datos!A:D,4,FALSE) -> #REF! | C14: ='Formato Cronograma'!#REF! -> #REF! | D14: ='Formato Cronograma'!#REF! -> #REF!
... A32: 30 | B32: =VLOOKUP((MATCH(A32,'Formato Cronograma'!#REF!,0)),Datos!A:D,4,FALSE) -> #REF! | C32: ='Formato Cronograma'!#REF! -> #REF! | D32: ='Formato Cronograma'!#REF! -> #REF!

Sheet 58
A1: Actividad | B1: ='Formato Cronograma'!#REF! -> #REF!
A2: SESIÓN N° | B2: FECHA | C2: Modalidad | D2: Horario
A3: 1 | B3: =VLOOKUP((MATCH(A3,'Formato Cronograma'!#REF!,0)),Datos!A:D,4,FALSE) -> #REF! | C3: ='Formato Cronograma'!#REF! -> #REF! | D3: ='Formato Cronograma'!#REF! -> #REF!
A4: 2 | B4: =VLOOKUP((MATCH(A4,'Formato Cronograma'!#REF!,0)),Datos!A:D,4,FALSE) -> #REF! | C4: ='Formato Cronograma'!#REF! -> #REF! | D4: ='Formato Cronograma'!#REF! -> #REF!
A5: 3 | B5: =VLOOKUP((MATCH(A5,'Formato Cronograma'!#REF!,0)),Datos!A:D,4,FALSE) -> #REF! | C5: ='Formato Cronograma'!#REF! -> #REF! | D5: ='Formato Cronograma'!#REF! -> #REF!
A6: 4 | B6: =VLOOKUP((MATCH(A6,'Formato Cronograma'!#REF!,0)),Datos!A:D,4,FALSE) -> #REF! | C6: ='Formato Cronograma'!#REF! -> #REF! | D6: ='Formato Cronograma'!#REF! -> #REF!
A7: 5 | B7: =VLOOKUP((MATCH(A7,'Formato Cronograma'!#REF!,0)),Datos!A:D,4,FALSE) -> #REF! | C7: ='Formato Cronograma'!#REF! -> #REF! | D7: ='Formato Cronograma'!#REF! -> #REF!
A8: 6 | B8: =VLOOKUP((MATCH(A8,'Formato Cronograma'!#REF!,0)),Datos!A:D,4,FALSE) -> #REF! | C8: ='Formato Cronograma'!#REF! -> #REF! | D8: ='Formato Cronograma'!#REF! -> #REF!
A9: 7 | B9: =VLOOKUP((MATCH(A9,'Formato Cronograma'!#REF!,0)),Datos!A:D,4,FALSE) -> #REF! | C9: ='Formato Cronograma'!#REF! -> #REF! | D9: ='Formato Cronograma'!#REF! -> #REF!
A10: 8 | B10: =VLOOKUP((MATCH(A10,'Formato Cronograma'!#REF!,0)),Datos!A:D,4,FALSE) -> #REF! | C10: ='Formato Cronograma'!#REF! -> #REF! | D10: ='Formato Cronograma'!#REF! -> #REF!
A11: 9 | B11: =VLOOKUP((MATCH(A11,'Formato Cronograma'!#REF!,0)),Datos!A:D,4,FALSE) -> #REF! | C11: ='Formato Cronograma'!#REF! -> #REF! | D11: ='Formato Cronograma'!#REF! -> #REF!
A12: 10 | B12: =VLOOKUP((MATCH(A12,'Formato Cronograma'!#REF!,0)),Datos!A:D,4,FALSE) -> #REF! | C12: ='Formato Cronograma'!#REF! -> #REF! | D12: ='Formato Cronograma'!#REF! -> #REF!
A13: 11 | B13: =VLOOKUP((MATCH(A13,'Formato Cronograma'!#REF!,0)),Datos!A:D,4,FALSE) -> #REF! | C13: ='Formato Cronograma'!#REF! -> #REF! | D13: ='Formato Cronograma'!#REF! -> #REF!
A14: 12 | B14: =VLOOKUP((MATCH(A14,'Formato Cronograma'!#REF!,0)),Datos!A:D,4,FALSE) -> #REF! | C14: ='Formato Cronograma'!#REF! -> #REF! | D14: ='Formato Cronograma'!#REF! -> #REF!
... A32: 30 | B32: =VLOOKUP((MATCH(A32,'Formato Cronograma'!#REF!,0)),Datos!A:D,4,FALSE) -> #REF! | C32: ='Formato Cronograma'!#REF! -> #REF! | D32: ='Formato Cronograma'!#REF! -> #REF!

Sheet 59
A1: Actividad | B1: ='Formato Cronograma'!#REF! -> #REF!
A2: SESIÓN N° | B2: FECHA | C2: Modalidad | D2: Horario
A3: 1 | B3: =VLOOKUP((MATCH(A3,'Formato Cronograma'!#REF!,0)),Datos!A:D,4,FALSE) -> #REF! | C3: ='Formato Cronograma'!#REF! -> #REF! | D3: ='Formato Cronograma'!#REF! -> #REF!
A4: 2 | B4: =VLOOKUP((MATCH(A4,'Formato Cronograma'!#REF!,0)),Datos!A:D,4,FALSE) -> #REF! | C4: ='Formato Cronograma'!#REF! -> #REF! | D4: ='Formato Cronograma'!#REF! -> #REF!
A5: 3 | B5: =VLOOKUP((MATCH(A5,'Formato Cronograma'!#REF!,0)),Datos!A:D,4,FALSE) -> #REF! | C5: ='Formato Cronograma'!#REF! -> #REF! | D5: ='Formato Cronograma'!#REF! -> #REF!
A6: 4 | B6: =VLOOKUP((MATCH(A6,'Formato Cronograma'!#REF!,0)),Datos!A:D,4,FALSE) -> #REF! | C6: ='Formato Cronograma'!#REF! -> #REF! | D6: ='Formato Cronograma'!#REF! -> #REF!
A7: 5 | B7: =VLOOKUP((MATCH(A7,'Formato Cronograma'!#REF!,0)),Datos!A:D,4,FALSE) -> #REF! | C7: ='Formato Cronograma'!#REF! -> #REF! | D7: ='Formato Cronograma'!#REF! -> #REF!
A8: 6 | B8: =VLOOKUP((MATCH(A8,'Formato Cronograma'!#REF!,0)),Datos!A:D,4,FALSE) -> #REF! | C8: ='Formato Cronograma'!#REF! -> #REF! | D8: ='Formato Cronograma'!#REF! -> #REF!
A9: 7 | B9: =VLOOKUP((MATCH(A9,'Formato Cronograma'!#REF!,0)),Datos!A:D,4,FALSE) -> #REF! | C9: ='Formato Cronograma'!#REF! -> #REF! | D9: ='Formato Cronograma'!#REF! -> #REF!
A10: 8 | B10: =VLOOKUP((MATCH(A10,'Formato Cronograma'!#REF!,0)),Datos!A:D,4,FALSE) -> #REF! | C10: ='Formato Cronograma'!#REF! -> #REF! | D10: ='Formato Cronograma'!#REF! -> #REF!
A11: 9 | B11: =VLOOKUP((MATCH(A11,'Formato Cronograma'!#REF!,0)),Datos!A:D,4,FALSE) -> #REF! | C11: ='Formato Cronograma'!#REF! -> #REF! | D11: ='Formato Cronograma'!#REF! -> #REF!
A12: 10 | B12: =VLOOKUP((MATCH(A12,'Formato Cronograma'!#REF!,0)),Datos!A:D,4,FALSE) -> #REF! | C12: ='Formato Cronograma'!#REF! -> #REF! | D12: ='Formato Cronograma'!#REF! -> #REF!
A13: 11 | B13: =VLOOKUP((MATCH(A13,'Formato Cronograma'!#REF!,0)),Datos!A:D,4,FALSE) -> #REF! | C13: ='Formato Cronograma'!#REF! -> #REF! | D13: ='Formato Cronograma'!#REF! -> #REF!
A14: 12 | B14: =VLOOKUP((MATCH(A14,'Formato Cronograma'!#REF!,0)),Datos!A:D,4,FALSE) -> #REF! | C14: ='Formato Cronograma'!#REF! -> #REF! | D14: ='Formato Cronograma'!#REF! -> #REF!
... A32: 30 | B32: =VLOOKUP((MATCH(A32,'Formato Cronograma'!#REF!,0)),Datos!A:D,4,FALSE) -> #REF! | C32: ='Formato Cronograma'!#REF! -> #REF! | D32: ='Formato Cronograma'!#REF! -> #REF!

Sheet 60
A1: Actividad | B1: ='Formato Cronograma'!#REF! -> #REF!
A2: SESIÓN N° | B2: FECHA | C2: Modalidad | D2: Horario
A3: 1 | B3: =VLOOKUP((MATCH(A3,'Formato Cronograma'!#REF!,0)),Datos!A:D,4,FALSE) -> #REF! | C3: ='Formato Cronograma'!#REF! -> #REF! | D3: ='Formato Cronograma'!#REF! -> #REF!
A4: 2 | B4: =VLOOKUP((MATCH(A4,'Formato Cronograma'!#REF!,0)),Datos!A:D,4,FALSE) -> #REF! | C4: ='Formato Cronograma'!#REF! -> #REF! | D4: ='Formato Cronograma'!#REF! -> #REF!
A5: 3 | B5: =VLOOKUP((MATCH(A5,'Formato Cronograma'!#REF!,0)),Datos!A:D,4,FALSE) -> #REF! | C5: ='Formato Cronograma'!#REF! -> #REF! | D5: ='Formato Cronograma'!#REF! -> #REF!
A6: 4 | B6: =VLOOKUP((MATCH(A6,'Formato Cronograma'!#REF!,0)),Datos!A:D,4,FALSE) -> #REF! | C6: ='Formato Cronograma'!#REF! -> #REF! | D6: ='Formato Cronograma'!#REF! -> #REF!
A7: 5 | B7: =VLOOKUP((MATCH(A7,'Formato Cronograma'!#REF!,0)),Datos!A:D,4,FALSE) -> #REF! | C7: ='Formato Cronograma'!#REF! -> #REF! | D7: ='Formato Cronograma'!#REF! -> #REF!
A8: 6 | B8: =VLOOKUP((MATCH(A8,'Formato Cronograma'!#REF!,0)),Datos!A:D,4,FALSE) -> #REF! | C8: ='Formato Cronograma'!#REF! -> #REF! | D8: ='Formato Cronograma'!#REF! -> #REF!
A9: 7 | B9: =VLOOKUP((MATCH(A9,'Formato Cronograma'!#REF!,0)),Datos!A:D,4,FALSE) -> #REF! | C9: ='Formato Cronograma'!#REF! -> #REF! | D9: ='Formato Cronograma'!#REF! -> #REF!
A10: 8 | B10: =VLOOKUP((MATCH(A10,'Formato Cronograma'!#REF!,0)),Datos!A:D,4,FALSE) -> #REF! | C10: ='Formato Cronograma'!#REF! -> #REF! | D10: ='Formato Cronograma'!#REF! -> #REF!
A11: 9 | B11: =VLOOKUP((MATCH(A11,'Formato Cronograma'!#REF!,0)),Datos!A:D,4,FALSE) -> #REF! | C11: ='Formato Cronograma'!#REF! -> #REF! | D11: ='Formato Cronograma'!#REF! -> #REF!
A12: 10 | B12: =VLOOKUP((MATCH(A12,'Formato Cronograma'!#REF!,0)),Datos!A:D,4,FALSE) -> #REF! | C12: ='Formato Cronograma'!#REF! -> #REF! | D12: ='Formato Cronograma'!#REF! -> #REF!
A13: 11 | B13: =VLOOKUP((MATCH(A13,'Formato Cronograma'!#REF!,0)),Datos!A:D,4,FALSE) -> #REF! | C13: ='Formato Cronograma'!#REF! -> #REF! | D13: ='Formato Cronograma'!#REF! -> #REF!
A14: 12 | B14: =VLOOKUP((MATCH(A14,'Formato Cronograma'!#REF!,0)),Datos!A:D,4,FALSE) -> #REF! | C14: ='Formato Cronograma'!#REF! -> #REF! | D14: ='Formato Cronograma'!#REF! -> #REF!
... A32: 30 | B32: =VLOOKUP((MATCH(A32,'Formato Cronograma'!#REF!,0)),Datos!A:D,4,FALSE) -> #REF! | C32: ='Formato Cronograma'!#REF! -> #REF! | D32: ='Formato Cronograma'!#REF! -> #REF!

Sheet 61
A1: Actividad | B1: ='Formato Cronograma'!#REF! -> #REF!
A2: SESIÓN N° | B2: FECHA | C2: Modalidad | D2: Horario
A3: 1 | B3: =VLOOKUP((MATCH(A3,'Formato Cronograma'!#REF!,0)),Datos!A:D,4,FALSE) -> #REF! | C3: ='Formato Cronograma'!#REF! -> #REF! | D3: ='Formato Cronograma'!#REF! -> #REF!
A4: 2 | B4: =VLOOKUP((MATCH(A4,'Formato Cronograma'!#REF!,0)),Datos!A:D,4,FALSE) -> #REF! | C4: ='Formato Cronograma'!#REF! -> #REF! | D4: ='Formato Cronograma'!#REF! -> #REF!
A5: 3 | B5: =VLOOKUP((MATCH(A5,'Formato Cronograma'!#REF!,0)),Datos!A:D,4,FALSE) -> #REF! | C5: ='Formato Cronograma'!#REF! -> #REF! | D5: ='Formato Cronograma'!#REF! -> #REF!
A6: 4 | B6: =VLOOKUP((MATCH(A6,'Formato Cronograma'!#REF!,0)),Datos!A:D,4,FALSE) -> #REF! | C6: ='Formato Cronograma'!#REF! -> #REF! | D6: ='Formato Cronograma'!#REF! -> #REF!
A7: 5 | B7: =VLOOKUP((MATCH(A7,'Formato Cronograma'!#REF!,0)),Datos!A:D,4,FALSE) -> #REF! | C7: ='Formato Cronograma'!#REF! -> #REF! | D7: ='Formato Cronograma'!#REF! -> #REF!
A8: 6 | B8: =VLOOKUP((MATCH(A8,'Formato Cronograma'!#REF!,0)),Datos!A:D,4,FALSE) -> #REF! | C8: ='Formato Cronograma'!#REF! -> #REF! | D8: ='Formato Cronograma'!#REF! -> #REF!
A9: 7 | B9: =VLOOKUP((MATCH(A9,'Formato Cronograma'!#REF!,0)),Datos!A:D,4,FALSE) -> #REF! | C9: ='Formato Cronograma'!#REF! -> #REF! | D9: ='Formato Cronograma'!#REF! -> #REF!
A10: 8 | B10: =VLOOKUP((MATCH(A10,'Formato Cronograma'!#REF!,0)),Datos!A:D,4,FALSE) -> #REF! | C10: ='Formato Cronograma'!#REF! -> #REF! | D10: ='Formato Cronograma'!#REF! -> #REF!
A11: 9 | B11: =VLOOKUP((MATCH(A11,'Formato Cronograma'!#REF!,0)),Datos!A:D,4,FALSE) -> #REF! | C11: ='Formato Cronograma'!#REF! -> #REF! | D11: ='Formato Cronograma'!#REF! -> #REF!
A12: 10 | B12: =VLOOKUP((MATCH(A12,'Formato Cronograma'!#REF!,0)),Datos!A:D,4,FALSE) -> #REF! | C12: ='Formato Cronograma'!#REF! -> #REF! | D12: ='Formato Cronograma'!#REF! -> #REF!
A13: 11 | B13: =VLOOKUP((MATCH(A13,'Formato Cronograma'!#REF!,0)),Datos!A:D,4,FALSE) -> #REF! | C13: ='Formato Cronograma'!#REF! -> #REF! | D13: ='Formato Cronograma'!#REF! -> #REF!
A14: 12 | B14: =VLOOKUP((MATCH(A14,'Formato Cronograma'!#REF!,0)),Datos!A:D,4,FALSE) -> #REF! | C14: ='Formato Cronograma'!#REF! -> #REF! | D14: ='Formato Cronograma'!#REF! -> #REF!
... A32: 30 | B32: =VLOOKUP((MATCH(A32,'Formato Cronograma'!#REF!,0)),Datos!A:D,4,FALSE) -> #REF! | C32: ='Formato Cronograma'!#REF! -> #REF! | D32: ='Formato Cronograma'!#REF! -> #REF!

Sheet 62
A1: Actividad | B1: ='Formato Cronograma'!#REF! -> #REF!
A2: SESIÓN N° | B2: FECHA | C2: Modalidad | D2: Horario
A3: 1 | B3: =VLOOKUP((MATCH(A3,'Formato Cronograma'!#REF!,0)),Datos!A:D,4,FALSE) -> #REF! | C3: ='Formato Cronograma'!#REF! -> #REF! | D3: ='Formato Cronograma'!#REF! -> #REF!
A4: 2 | B4: =VLOOKUP((MATCH(A4,'Formato Cronograma'!#REF!,0)),Datos!A:D,4,FALSE) -> #REF! | C4: ='Formato Cronograma'!#REF! -> #REF! | D4: ='Formato Cronograma'!#REF! -> #REF!
A5: 3 | B5: =VLOOKUP((MATCH(A5,'Formato Cronograma'!#REF!,0)),Datos!A:D,4,FALSE) -> #REF! | C5: ='Formato Cronograma'!#REF! -> #REF! | D5: ='Formato Cronograma'!#REF! -> #REF!
A6: 4 | B6: =VLOOKUP((MATCH(A6,'Formato Cronograma'!#REF!,0)),Datos!A:D,4,FALSE) -> #REF! | C6: ='Formato Cronograma'!#REF! -> #REF! | D6: ='Formato Cronograma'!#REF! -> #REF!
A7: 5 | B7: =VLOOKUP((MATCH(A7,'Formato Cronograma'!#REF!,0)),Datos!A:D,4,FALSE) -> #REF! | C7: ='Formato Cronograma'!#REF! -> #REF! | D7: ='Formato Cronograma'!#REF! -> #REF!
A8: 6 | B8: =VLOOKUP((MATCH(A8,'Formato Cronograma'!#REF!,0)),Datos!A:D,4,FALSE) -> #REF! | C8: ='Formato Cronograma'!#REF! -> #REF! | D8: ='Formato Cronograma'!#REF! -> #REF!
A9: 7 | B9: =VLOOKUP((MATCH(A9,'Formato Cronograma'!#REF!,0)),Datos!A:D,4,FALSE) -> #REF! | C9: ='Formato Cronograma'!#REF! -> #REF! | D9: ='Formato Cronograma'!#REF! -> #REF!
A10: 8 | B10: =VLOOKUP((MATCH(A10,'Formato Cronograma'!#REF!,0)),Datos!A:D,4,FALSE) -> #REF! | C10: ='Formato Cronograma'!#REF! -> #REF! | D10: ='Formato Cronograma'!#REF! -> #REF!
A11: 9 | B11: =VLOOKUP((MATCH(A11,'Formato Cronograma'!#REF!,0)),Datos!A:D,4,FALSE) -> #REF! | C11: ='Formato Cronograma'!#REF! -> #REF! | D11: ='Formato Cronograma'!#REF! -> #REF!
A12: 10 | B12: =VLOOKUP((MATCH(A12,'Formato Cronograma'!#REF!,0)),Datos!A:D,4,FALSE) -> #REF! | C12: ='Formato Cronograma'!#REF! -> #REF! | D12: ='Formato Cronograma'!#REF! -> #REF!
A13: 11 | B13: =VLOOKUP((MATCH(A13,'Formato Cronograma'!#REF!,0)),Datos!A:D,4,FALSE) -> #REF! | C13: ='Formato Cronograma'!#REF! -> #REF! | D13: ='Formato Cronograma'!#REF! -> #REF!
A14: 12 | B14: =VLOOKUP((MATCH(A14,'Formato Cronograma'!#REF!,0)),Datos!A:D,4,FALSE) -> #REF! | C14: ='Formato Cronograma'!#REF! -> #REF! | D14: ='Formato Cronograma'!#REF! -> #REF!
... A32: 30 | B32: =VLOOKUP((MATCH(A32,'Formato Cronograma'!#REF!,0)),Datos!A:D,4,FALSE) -> #REF! | C32: ='Formato Cronograma'!#REF! -> #REF! | D32: ='Formato Cronograma'!#REF! -> #REF!

Sheet 63
A1: Actividad | B1: ='Formato Cronograma'!#REF! -> #REF!
A2: SESIÓN N° | B2: FECHA | C2: Modalidad | D2: Horario
A3: 1 | B3: =VLOOKUP((MATCH(A3,'Formato Cronograma'!#REF!,0)),Datos!A:D,4,FALSE) -> #REF! | C3: ='Formato Cronograma'!#REF! -> #REF! | D3: ='Formato Cronograma'!#REF! -> #REF!
A4: 2 | B4: =VLOOKUP((MATCH(A4,'Formato Cronograma'!#REF!,0)),Datos!A:D,4,FALSE) -> #REF! | C4: ='Formato Cronograma'!#REF! -> #REF! | D4: ='Formato Cronograma'!#REF! -> #REF!
A5: 3 | B5: =VLOOKUP((MATCH(A5,'Formato Cronograma'!#REF!,0)),Datos!A:D,4,FALSE) -> #REF! | C5: ='Formato Cronograma'!#REF! -> #REF! | D5: ='Formato Cronograma'!#REF! -> #REF!
A6: 4 | B6: =VLOOKUP((MATCH(A6,'Formato Cronograma'!#REF!,0)),Datos!A:D,4,FALSE) -> #REF! | C6: ='Formato Cronograma'!#REF! -> #REF! | D6: ='Formato Cronograma'!#REF! -> #REF!
A7: 5 | B7: =VLOOKUP((MATCH(A7,'Formato Cronograma'!#REF!,0)),Datos!A:D,4,FALSE) -> #REF! | C7: ='Formato Cronograma'!#REF! -> #REF! | D7: ='Formato Cronograma'!#REF! -> #REF!
A8: 6 | B8: =VLOOKUP((MATCH(A8,'Formato Cronograma'!#REF!,0)),Datos!A:D,4,FALSE) -> #REF! | C8: ='Formato Cronograma'!#REF! -> #REF! | D8: ='Formato Cronograma'!#REF! -> #REF!
A9: 7 | B9: =VLOOKUP((MATCH(A9,'Formato Cronograma'!#REF!,0)),Datos!A:D,4,FALSE) -> #REF! | C9: ='Formato Cronograma'!#REF! -> #REF! | D9: ='Formato Cronograma'!#REF! -> #REF!
A10: 8 | B10: =VLOOKUP((MATCH(A10,'Formato Cronograma'!#REF!,0)),Datos!A:D,4,FALSE) -> #REF! | C10: ='Formato Cronograma'!#REF! -> #REF! | D10: ='Formato Cronograma'!#REF! -> #REF!
A11: 9 | B11: =VLOOKUP((MATCH(A11,'Formato Cronograma'!#REF!,0)),Datos!A:D,4,FALSE) -> #REF! | C11: ='Formato Cronograma'!#REF! -> #REF! | D11: ='Formato Cronograma'!#REF! -> #REF!
A12: 10 | B12: =VLOOKUP((MATCH(A12,'Formato Cronograma'!#REF!,0)),Datos!A:D,4,FALSE) -> #REF! | C12: ='Formato Cronograma'!#REF! -> #REF! | D12: ='Formato Cronograma'!#REF! -> #REF!
A13: 11 | B13: =VLOOKUP((MATCH(A13,'Formato Cronograma'!#REF!,0)),Datos!A:D,4,FALSE) -> #REF! | C13: ='Formato Cronograma'!#REF! -> #REF! | D13: ='Formato Cronograma'!#REF! -> #REF!
A14: 12 | B14: =VLOOKUP((MATCH(A14,'Formato Cronograma'!#REF!,0)),Datos!A:D,4,FALSE) -> #REF! | C14: ='Formato Cronograma'!#REF! -> #REF! | D14: ='Formato Cronograma'!#REF! -> #REF!
... A32: 30 | B32: =VLOOKUP((MATCH(A32,'Formato Cronograma'!#REF!,0)),Datos!A:D,4,FALSE) -> #REF! | C32: ='Formato Cronograma'!#REF! -> #REF! | D32: ='Formato Cronograma'!#REF! -> #REF!

Sheet 64
A1: Actividad | B1: ='Formato Cronograma'!#REF! -> #REF!
A2: SESIÓN N° | B2: FECHA | C2: Modalidad | D2: Horario
A3: 1 | B3: =VLOOKUP((MATCH(A3,'Formato Cronograma'!#REF!,0)),Datos!A:D,4,FALSE) -> #REF! | C3: ='Formato Cronograma'!#REF! -> #REF! | D3: ='Formato Cronograma'!#REF! -> #REF!
A4: 2 | B4: =VLOOKUP((MATCH(A4,'Formato Cronograma'!#REF!,0)),Datos!A:D,4,FALSE) -> #REF! | C4: ='Formato Cronograma'!#REF! -> #REF! | D4: ='Formato Cronograma'!#REF! -> #REF!
A5: 3 | B5: =VLOOKUP((MATCH(A5,'Formato Cronograma'!#REF!,0)),Datos!A:D,4,FALSE) -> #REF! | C5: ='Formato Cronograma'!#REF! -> #REF! | D5: ='Formato Cronograma'!#REF! -> #REF!
A6: 4 | B6: =VLOOKUP((MATCH(A6,'Formato Cronograma'!#REF!,0)),Datos!A:D,4,FALSE) -> #REF! | C6: ='Formato Cronograma'!#REF! -> #REF! | D6: ='Formato Cronograma'!#REF! -> #REF!
A7: 5 | B7: =VLOOKUP((MATCH(A7,'Formato Cronograma'!#REF!,0)),Datos!A:D,4,FALSE) -> #REF! | C7: ='Formato Cronograma'!#REF! -> #REF! | D7: ='Formato Cronograma'!#REF! -> #REF!
A8: 6 | B8: =VLOOKUP((MATCH(A8,'Formato Cronograma'!#REF!,0)),Datos!A:D,4,FALSE) -> #REF! | C8: ='Formato Cronograma'!#REF! -> #REF! | D8: ='Formato Cronograma'!#REF! -> #REF!
A9: 7 | B9: =VLOOKUP((MATCH(A9,'Formato Cronograma'!#REF!,0)),Datos!A:D,4,FALSE) -> #REF! | C9: ='Formato Cronograma'!#REF! -> #REF! | D9: ='Formato Cronograma'!#REF! -> #REF!
A10: 8 | B10: =VLOOKUP((MATCH(A10,'Formato Cronograma'!#REF!,0)),Datos!A:D,4,FALSE) -> #REF! | C10: ='Formato Cronograma'!#REF! -> #REF! | D10: ='Formato Cronograma'!#REF! -> #REF!
A11: 9 | B11: =VLOOKUP((MATCH(A11,'Formato Cronograma'!#REF!,0)),Datos!A:D,4,FALSE) -> #REF! | C11: ='Formato Cronograma'!#REF! -> #REF! | D11: ='Formato Cronograma'!#REF! -> #REF!
A12: 10 | B12: =VLOOKUP((MATCH(A12,'Formato Cronograma'!#REF!,0)),Datos!A:D,4,FALSE) -> #REF! | C12: ='Formato Cronograma'!#REF! -> #REF! | D12: ='Formato Cronograma'!#REF! -> #REF!
A13: 11 | B13: =VLOOKUP((MATCH(A13,'Formato Cronograma'!#REF!,0)),Datos!A:D,4,FALSE) -> #REF! | C13: ='Formato Cronograma'!#REF! -> #REF! | D13: ='Formato Cronograma'!#REF! -> #REF!
A14: 12 | B14: =VLOOKUP((MATCH(A14,'Formato Cronograma'!#REF!,0)),Datos!A:D,4,FALSE) -> #REF! | C14: ='Formato Cronograma'!#REF! -> #REF! | D14: ='Formato Cronograma'!#REF! -> #REF!
... A32: 30 | B32: =VLOOKUP((MATCH(A32,'Formato Cronograma'!#REF!,0)),Datos!A:D,4,FALSE) -> #REF! | C32: ='Formato Cronograma'!#REF! -> #REF! | D32: ='Formato Cronograma'!#REF! -> #REF!

Sheet 65
A1: Actividad | B1: ='Formato Cronograma'!#REF! -> #REF!
A2: SESIÓN N° | B2: FECHA | C2: Modalidad | D2: Horario
A3: 1 | B3: =VLOOKUP((MATCH(A3,'Formato Cronograma'!#REF!,0)),Datos!A:D,4,FALSE) -> #REF! | C3: ='Formato Cronograma'!#REF! -> #REF! | D3: ='Formato Cronograma'!#REF! -> #REF!
A4: 2 | B4: =VLOOKUP((MATCH(A4,'Formato Cronograma'!#REF!,0)),Datos!A:D,4,FALSE) -> #REF! | C4: ='Formato Cronograma'!#REF! -> #REF! | D4: ='Formato Cronograma'!#REF! -> #REF!
A5: 3 | B5: =VLOOKUP((MATCH(A5,'Formato Cronograma'!#REF!,0)),Datos!A:D,4,FALSE) -> #REF! | C5: ='Formato Cronograma'!#REF! -> #REF! | D5: ='Formato Cronograma'!#REF! -> #REF!
A6: 4 | B6: =VLOOKUP((MATCH(A6,'Formato Cronograma'!#REF!,0)),Datos!A:D,4,FALSE) -> #REF! | C6: ='Formato Cronograma'!#REF! -> #REF! | D6: ='Formato Cronograma'!#REF! -> #REF!
A7: 5 | B7: =VLOOKUP((MATCH(A7,'Formato Cronograma'!#REF!,0)),Datos!A:D,4,FALSE) -> #REF! | C7: ='Formato Cronograma'!#REF! -> #REF! | D7: ='Formato Cronograma'!#REF! -> #REF!
A8: 6 | B8: =VLOOKUP((MATCH(A8,'Formato Cronograma'!#REF!,0)),Datos!A:D,4,FALSE) -> #REF! | C8: ='Formato Cronograma'!#REF! -> #REF! | D8: ='Formato Cronograma'!#REF! -> #REF!
A9: 7 | B9: =VLOOKUP((MATCH(A9,'Formato Cronograma'!#REF!,0)),Datos!A:D,4,FALSE) -> #REF! | C9: ='Formato Cronograma'!#REF! -> #REF! | D9: ='Formato Cronograma'!#REF! -> #REF!
A10: 8 | B10: =VLOOKUP((MATCH(A10,'Formato Cronograma'!#REF!,0)),Datos!A:D,4,FALSE) -> #REF! | C10: ='Formato Cronograma'!#REF! -> #REF! | D10: ='Formato Cronograma'!#REF! -> #REF!
A11: 9 | B11: =VLOOKUP((MATCH(A11,'Formato Cronograma'!#REF!,0)),Datos!A:D,4,FALSE) -> #REF! | C11: ='Formato Cronograma'!#REF! -> #REF! | D11: ='Formato Cronograma'!#REF! -> #REF!
A12: 10 | B12: =VLOOKUP((MATCH(A12,'Formato Cronograma'!#REF!,0)),Datos!A:D,4,FALSE) -> #REF! | C12: ='Formato Cronograma'!#REF! -> #REF! | D12: ='Formato Cronograma'!#REF! -> #REF!
A13: 11 | B13: =VLOOKUP((MATCH(A13,'Formato Cronograma'!#REF!,0)),Datos!A:D,4,FALSE) -> #REF! | C13: ='Formato Cronograma'!#REF! -> #REF! | D13: ='Formato Cronograma'!#REF! -> #REF!
A14: 12 | B14: =VLOOKUP((MATCH(A14,'Formato Cronograma'!#REF!,0)),Datos!A:D,4,FALSE) -> #REF! | C14: ='Formato Cronograma'!#REF! -> #REF! | D14: ='Formato Cronograma'!#REF! -> #REF!
... A32: 30 | B32: =VLOOKUP((MATCH(A32,'Formato Cronograma'!#REF!,0)),Datos!A:D,4,FALSE) -> #REF! | C32: ='Formato Cronograma'!#REF! -> #REF! | D32: ='Formato Cronograma'!#REF! -> #REF!

Sheet 66
A1: Actividad | B1: ='Formato Cronograma'!#REF! -> #REF!
A2: SESIÓN N° | B2: FECHA | C2: Modalidad | D2: Horario
A3: 1 | B3: =VLOOKUP((MATCH(A3,'Formato Cronograma'!#REF!,0)),Datos!A:D,4,FALSE) -> #REF! | C3: ='Formato Cronograma'!#REF! -> #REF! | D3: ='Formato Cronograma'!#REF! -> #REF!
A4: 2 | B4: =VLOOKUP((MATCH(A4,'Formato Cronograma'!#REF!,0)),Datos!A:D,4,FALSE) -> #REF! | C4: ='Formato Cronograma'!#REF! -> #REF! | D4: ='Formato Cronograma'!#REF! -> #REF!
A5: 3 | B5: =VLOOKUP((MATCH(A5,'Formato Cronograma'!#REF!,0)),Datos!A:D,4,FALSE) -> #REF! | C5: ='Formato Cronograma'!#REF! -> #REF! | D5: ='Formato Cronograma'!#REF! -> #REF!
A6: 4 | B6: =VLOOKUP((MATCH(A6,'Formato Cronograma'!#REF!,0)),Datos!A:D,4,FALSE) -> #REF! | C6: ='Formato Cronograma'!#REF! -> #REF! | D6: ='Formato Cronograma'!#REF! -> #REF!
A7: 5 | B7: =VLOOKUP((MATCH(A7,'Formato Cronograma'!#REF!,0)),Datos!A:D,4,FALSE) -> #REF! | C7: ='Formato Cronograma'!#REF! -> #REF! | D7: ='Formato Cronograma'!#REF! -> #REF!
A8: 6 | B8: =VLOOKUP((MATCH(A8,'Formato Cronograma'!#REF!,0)),Datos!A:D,4,FALSE) -> #REF! | C8: ='Formato Cronograma'!#REF! -> #REF! | D8: ='Formato Cronograma'!#REF! -> #REF!
A9: 7 | B9: =VLOOKUP((MATCH(A9,'Formato Cronograma'!#REF!,0)),Datos!A:D,4,FALSE) -> #REF! | C9: ='Formato Cronograma'!#REF! -> #REF! | D9: ='Formato Cronograma'!#REF! -> #REF!
A10: 8 | B10: =VLOOKUP((MATCH(A10,'Formato Cronograma'!#REF!,0)),Datos!A:D,4,FALSE) -> #REF! | C10: ='Formato Cronograma'!#REF! -> #REF! | D10: ='Formato Cronograma'!#REF! -> #REF!
A11: 9 | B11: =VLOOKUP((MATCH(A11,'Formato Cronograma'!#REF!,0)),Datos!A:D,4,FALSE) -> #REF! | C11: ='Formato Cronograma'!#REF! -> #REF! | D11: ='Formato Cronograma'!#REF! -> #REF!
A12: 10 | B12: =VLOOKUP((MATCH(A12,'Formato Cronograma'!#REF!,0)),Datos!A:D,4,FALSE) -> #REF! | C12: ='Formato Cronograma'!#REF! -> #REF! | D12: ='Formato Cronograma'!#REF! -> #REF!
A13: 11 | B13: =VLOOKUP((MATCH(A13,'Formato Cronograma'!#REF!,0)),Datos!A:D,4,FALSE) -> #REF! | C13: ='Formato Cronograma'!#REF! -> #REF! | D13: ='Formato Cronograma'!#REF! -> #REF!
A14: 12 | B14: =VLOOKUP((MATCH(A14,'Formato Cronograma'!#REF!,0)),Datos!A:D,4,FALSE) -> #REF! | C14: ='Formato Cronograma'!#REF! -> #REF! | D14: ='Formato Cronograma'!#REF! -> #REF!
... A32: 30 | B32: =VLOOKUP((MATCH(A32,'Formato Cronograma'!#REF!,0)),Datos!A:D,4,FALSE) -> #REF! | C32: ='Formato Cronograma'!#REF! -> #REF! | D32: ='Formato Cronograma'!#REF! -> #REF!

Sheet 67
A1: Actividad | B1: ='Formato Cronograma'!#REF! -> #REF!
A2: SESIÓN N° | B2: FECHA | C2: Modalidad | D2: Horario
A3: 1 | B3: =VLOOKUP((MATCH(A3,'Formato Cronograma'!#REF!,0)),Datos!A:D,4,FALSE) -> #REF! | C3: ='Formato Cronograma'!#REF! -> #REF! | D3: ='Formato Cronograma'!#REF! -> #REF!
A4: 2 | B4: =VLOOKUP((MATCH(A4,'Formato Cronograma'!#REF!,0)),Datos!A:D,4,FALSE) -> #REF! | C4: ='Formato Cronograma'!#REF! -> #REF! | D4: ='Formato Cronograma'!#REF! -> #REF!
A5: 3 | B5: =VLOOKUP((MATCH(A5,'Formato Cronograma'!#REF!,0)),Datos!A:D,4,FALSE) -> #REF! | C5: ='Formato Cronograma'!#REF! -> #REF! | D5: ='Formato Cronograma'!#REF! -> #REF!
A6: 4 | B6: =VLOOKUP((MATCH(A6,'Formato Cronograma'!#REF!,0)),Datos!A:D,4,FALSE) -> #REF! | C6: ='Formato Cronograma'!#REF! -> #REF! | D6: ='Formato Cronograma'!#REF! -> #REF!
A7: 5 | B7: =VLOOKUP((MATCH(A7,'Formato Cronograma'!#REF!,0)),Datos!A:D,4,FALSE) -> #REF! | C7: ='Formato Cronograma'!#REF! -> #REF! | D7: ='Formato Cronograma'!#REF! -> #REF!
A8: 6 | B8: =VLOOKUP((MATCH(A8,'Formato Cronograma'!#REF!,0)),Datos!A:D,4,FALSE) -> #REF! | C8: ='Formato Cronograma'!#REF! -> #REF! | D8: ='Formato Cronograma'!#REF! -> #REF!
A9: 7 | B9: =VLOOKUP((MATCH(A9,'Formato Cronograma'!#REF!,0)),Datos!A:D,4,FALSE) -> #REF! | C9: ='Formato Cronograma'!#REF! -> #REF! | D9: ='Formato Cronograma'!#REF! -> #REF!
A10: 8 | B10: =VLOOKUP((MATCH(A10,'Formato Cronograma'!#REF!,0)),Datos!A:D,4,FALSE) -> #REF! | C10: ='Formato Cronograma'!#REF! -> #REF! | D10: ='Formato Cronograma'!#REF! -> #REF!
A11: 9 | B11: =VLOOKUP((MATCH(A11,'Formato Cronograma'!#REF!,0)),Datos!A:D,4,FALSE) -> #REF! | C11: ='Formato Cronograma'!#REF! -> #REF! | D11: ='Formato Cronograma'!#REF! -> #REF!
A12: 10 | B12: =VLOOKUP((MATCH(A12,'Formato Cronograma'!#REF!,0)),Datos!A:D,4,FALSE) -> #REF! | C12: ='Formato Cronograma'!#REF! -> #REF! | D12: ='Formato Cronograma'!#REF! -> #REF!
A13: 11 | B13: =VLOOKUP((MATCH(A13,'Formato Cronograma'!#REF!,0)),Datos!A:D,4,FALSE) -> #REF! | C13: ='Formato Cronograma'!#REF! -> #REF! | D13: ='Formato Cronograma'!#REF! -> #REF!
A14: 12 | B14: =VLOOKUP((MATCH(A14,'Formato Cronograma'!#REF!,0)),Datos!A:D,4,FALSE) -> #REF! | C14: ='Formato Cronograma'!#REF! -> #REF! | D14: ='Formato Cronograma'!#REF! -> #REF!
... A32: 30 | B32: =VLOOKUP((MATCH(A32,'Formato Cronograma'!#REF!,0)),Datos!A:D,4,FALSE) -> #REF! | C32: ='Formato Cronograma'!#REF! -> #REF! | D32: ='Formato Cronograma'!#REF! -> #REF!

Sheet 68
A1: Actividad | B1: ='Formato Cronograma'!#REF! -> #REF!
A2: SESIÓN N° | B2: FECHA | C2: Modalidad | D2: Horario
A3: 1 | B3: =VLOOKUP((MATCH(A3,'Formato Cronograma'!#REF!,0)),Datos!A:D,4,FALSE) -> #REF! | C3: ='Formato Cronograma'!#REF! -> #REF! | D3: ='Formato Cronograma'!#REF! -> #REF!
A4: 2 | B4: =VLOOKUP((MATCH(A4,'Formato Cronograma'!#REF!,0)),Datos!A:D,4,FALSE) -> #REF! | C4: ='Formato Cronograma'!#REF! -> #REF! | D4: ='Formato Cronograma'!#REF! -> #REF!
A5: 3 | B5: =VLOOKUP((MATCH(A5,'Formato Cronograma'!#REF!,0)),Datos!A:D,4,FALSE) -> #REF! | C5: ='Formato Cronograma'!#REF! -> #REF! | D5: ='Formato Cronograma'!#REF! -> #REF!
A6: 4 | B6: =VLOOKUP((MATCH(A6,'Formato Cronograma'!#REF!,0)),Datos!A:D,4,FALSE) -> #REF! | C6: ='Formato Cronograma'!#REF! -> #REF! | D6: ='Formato Cronograma'!#REF! -> #REF!
A7: 5 | B7: =VLOOKUP((MATCH(A7,'Formato Cronograma'!#REF!,0)),Datos!A:D,4,FALSE) -> #REF! | C7: ='Formato Cronograma'!#REF! -> #REF! | D7: ='Formato Cronograma'!#REF! -> #REF!
A8: 6 | B8: =VLOOKUP((MATCH(A8,'Formato Cronograma'!#REF!,0)),Datos!A:D,4,FALSE) -> #REF! | C8: ='Formato Cronograma'!#REF! -> #REF! | D8: ='Formato Cronograma'!#REF! -> #REF!
A9: 7 | B9: =VLOOKUP((MATCH(A9,'Formato Cronograma'!#REF!,0)),Datos!A:D,4,FALSE) -> #REF! | C9: ='Formato Cronograma'!#REF! -> #REF! | D9: ='Formato Cronograma'!#REF! -> #REF!
A10: 8 | B10: =VLOOKUP((MATCH(A10,'Formato Cronograma'!#REF!,0)),Datos!A:D,4,FALSE) -> #REF! | C10: ='Formato Cronograma'!#REF! -> #REF! | D10: ='Formato Cronograma'!#REF! -> #REF!
A11: 9 | B11: =VLOOKUP((MATCH(A11,'Formato Cronograma'!#REF!,0)),Datos!A:D,4,FALSE) -> #REF! | C11: ='Formato Cronograma'!#REF! -> #REF! | D11: ='Formato Cronograma'!#REF! -> #REF!
A12: 10 | B12: =VLOOKUP((MATCH(A12,'Formato Cronograma'!#REF!,0)),Datos!A:D,4,FALSE) -> #REF! | C12: ='Formato Cronograma'!#REF! -> #REF! | D12: ='Formato Cronograma'!#REF! -> #REF!
A13: 11 | B13: =VLOOKUP((MATCH(A13,'Formato Cronograma'!#REF!,0)),Datos!A:D,4,FALSE) -> #REF! | C13: ='Formato Cronograma'!#REF! -> #REF! | D13: ='Formato Cronograma'!#REF! -> #REF!
A14: 12 | B14: =VLOOKUP((MATCH(A14,'Formato Cronograma'!#REF!,0)),Datos!A:D,4,FALSE) -> #REF! | C14: ='Formato Cronograma'!#REF! -> #REF! | D14: ='Formato Cronograma'!#REF! -> #REF!
... A32: 30 | B32: =VLOOKUP((MATCH(A32,'Formato Cronograma'!#REF!,0)),Datos!A:D,4,FALSE) -> #REF! | C32: ='Formato Cronograma'!#REF! -> #REF! | D32: ='Formato Cronograma'!#REF! -> #REF!

Sheet 69
A1: Actividad | B1: ='Formato Cronograma'!#REF! -> #REF!
A2: SESIÓN N° | B2: FECHA | C2: Modalidad | D2: Horario
A3: 1 | B3: =VLOOKUP((MATCH(A3,'Formato Cronograma'!#REF!,0)),Datos!A:D,4,FALSE) -> #REF! | C3: ='Formato Cronograma'!#REF! -> #REF! | D3: ='Formato Cronograma'!#REF! -> #REF!
A4: 2 | B4: =VLOOKUP((MATCH(A4,'Formato Cronograma'!#REF!,0)),Datos!A:D,4,FALSE) -> #REF! | C4: ='Formato Cronograma'!#REF! -> #REF! | D4: ='Formato Cronograma'!#REF! -> #REF!
A5: 3 | B5: =VLOOKUP((MATCH(A5,'Formato Cronograma'!#REF!,0)),Datos!A:D,4,FALSE) -> #REF! | C5: ='Formato Cronograma'!#REF! -> #REF! | D5: ='Formato Cronograma'!#REF! -> #REF!
A6: 4 | B6: =VLOOKUP((MATCH(A6,'Formato Cronograma'!#REF!,0)),Datos!A:D,4,FALSE) -> #REF! | C6: ='Formato Cronograma'!#REF! -> #REF! | D6: ='Formato Cronograma'!#REF! -> #REF!
A7: 5 | B7: =VLOOKUP((MATCH(A7,'Formato Cronograma'!#REF!,0)),Datos!A:D,4,FALSE) -> #REF! | C7: ='Formato Cronograma'!#REF! -> #REF! | D7: ='Formato Cronograma'!#REF! -> #REF!
A8: 6 | B8: =VLOOKUP((MATCH(A8,'Formato Cronograma'!#REF!,0)),Datos!A:D,4,FALSE) -> #REF! | C8: ='Formato Cronograma'!#REF! -> #REF! | D8: ='Formato Cronograma'!#REF! -> #REF!
A9: 7 | B9: =VLOOKUP((MATCH(A9,'Formato Cronograma'!#REF!,0)),Datos!A:D,4,FALSE) -> #REF! | C9: ='Formato Cronograma'!#REF! -> #REF! | D9: ='Formato Cronograma'!#REF! -> #REF!
A10: 8 | B10: =VLOOKUP((MATCH(A10,'Formato Cronograma'!#REF!,0)),Datos!A:D,4,FALSE) -> #REF! | C10: ='Formato Cronograma'!#REF! -> #REF! | D10: ='Formato Cronograma'!#REF! -> #REF!
A11: 9 | B11: =VLOOKUP((MATCH(A11,'Formato Cronograma'!#REF!,0)),Datos!A:D,4,FALSE) -> #REF! | C11: ='Formato Cronograma'!#REF! -> #REF! | D11: ='Formato Cronograma'!#REF! -> #REF!
A12: 10 | B12: =VLOOKUP((MATCH(A12,'Formato Cronograma'!#REF!,0)),Datos!A:D,4,FALSE) -> #REF! | C12: ='Formato Cronograma'!#REF! -> #REF! | D12: ='Formato Cronograma'!#REF! -> #REF!
A13: 11 | B13: =VLOOKUP((MATCH(A13,'Formato Cronograma'!#REF!,0)),Datos!A:D,4,FALSE) -> #REF! | C13: ='Formato Cronograma'!#REF! -> #REF! | D13: ='Formato Cronograma'!#REF! -> #REF!
A14: 12 | B14: =VLOOKUP((MATCH(A14,'Formato Cronograma'!#REF!,0)),Datos!A:D,4,FALSE) -> #REF! | C14: ='Formato Cronograma'!#REF! -> #REF! | D14: ='Formato Cronograma'!#REF! -> #REF!
... A32: 30 | B32: =VLOOKUP((MATCH(A32,'Formato Cronograma'!#REF!,0)),Datos!A:D,4,FALSE) -> #REF! | C32: ='Formato Cronograma'!#REF! -> #REF! | D32: ='Formato Cronograma'!#REF! -> #REF!

Sheet 70
A1: Actividad | B1: ='Formato Cronograma'!#REF! -> #REF!
A2: SESIÓN N° | B2: FECHA | C2: Modalidad | D2: Horario
A3: 1 | B3: =VLOOKUP((MATCH(A3,'Formato Cronograma'!#REF!,0)),Datos!A:D,4,FALSE) -> #REF! | C3: ='Formato Cronograma'!#REF! -> #REF! | D3: ='Formato Cronograma'!#REF! -> #REF!
A4: 2 | B4: =VLOOKUP((MATCH(A4,'Formato Cronograma'!#REF!,0)),Datos!A:D,4,FALSE) -> #REF! | C4: ='Formato Cronograma'!#REF! -> #REF! | D4: ='Formato Cronograma'!#REF! -> #REF!
A5: 3 | B5: =VLOOKUP((MATCH(A5,'Formato Cronograma'!#REF!,0)),Datos!A:D,4,FALSE) -> #REF! | C5: ='Formato Cronograma'!#REF! -> #REF! | D5: ='Formato Cronograma'!#REF! -> #REF!
A6: 4 | B6: =VLOOKUP((MATCH(A6,'Formato Cronograma'!#REF!,0)),Datos!A:D,4,FALSE) -> #REF! | C6: ='Formato Cronograma'!#REF! -> #REF! | D6: ='Formato Cronograma'!#REF! -> #REF!
A7: 5 | B7: =VLOOKUP((MATCH(A7,'Formato Cronograma'!#REF!,0)),Datos!A:D,4,FALSE) -> #REF! | C7: ='Formato Cronograma'!#REF! -> #REF! | D7: ='Formato Cronograma'!#REF! -> #REF!
A8: 6 | B8: =VLOOKUP((MATCH(A8,'Formato Cronograma'!#REF!,0)),Datos!A:D,4,FALSE) -> #REF! | C8: ='Formato Cronograma'!#REF! -> #REF! | D8: ='Formato Cronograma'!#REF! -> #REF!
A9: 7 | B9: =VLOOKUP((MATCH(A9,'Formato Cronograma'!#REF!,0)),Datos!A:D,4,FALSE) -> #REF! | C9: ='Formato Cronograma'!#REF! -> #REF! | D9: ='Formato Cronograma'!#REF! -> #REF!
A10: 8 | B10: =VLOOKUP((MATCH(A10,'Formato Cronograma'!#REF!,0)),Datos!A:D,4,FALSE) -> #REF! | C10: ='Formato Cronograma'!#REF! -> #REF! | D10: ='Formato Cronograma'!#REF! -> #REF!
A11: 9 | B11: =VLOOKUP((MATCH(A11,'Formato Cronograma'!#REF!,0)),Datos!A:D,4,FALSE) -> #REF! | C11: ='Formato Cronograma'!#REF! -> #REF! | D11: ='Formato Cronograma'!#REF! -> #REF!
A12: 10 | B12: =VLOOKUP((MATCH(A12,'Formato Cronograma'!#REF!,0)),Datos!A:D,4,FALSE) -> #REF! | C12: ='Formato Cronograma'!#REF! -> #REF! | D12: ='Formato Cronograma'!#REF! -> #REF!
A13: 11 | B13: =VLOOKUP((MATCH(A13,'Formato Cronograma'!#REF!,0)),Datos!A:D,4,FALSE) -> #REF! | C13: ='Formato Cronograma'!#REF! -> #REF! | D13: ='Formato Cronograma'!#REF! -> #REF!
A14: 12 | B14: =VLOOKUP((MATCH(A14,'Formato Cronograma'!#REF!,0)),Datos!A:D,4,FALSE) -> #REF! | C14: ='Formato Cronograma'!#REF! -> #REF! | D14: ='Formato Cronograma'!#REF! -> #REF!
... A32: 30 | B32: =VLOOKUP((MATCH(A32,'Formato Cronograma'!#REF!,0)),Datos!A:D,4,FALSE) -> #REF! | C32: ='Formato Cronograma'!#REF! -> #REF! | D32: ='Formato Cronograma'!#REF! -> #REF!

Sheet 71
A1: Actividad | B1: ='Formato Cronograma'!#REF! -> #REF!
A2: SESIÓN N° | B2: FECHA | C2: Modalidad | D2: Horario
A3: 1 | B3: =VLOOKUP((MATCH(A3,'Formato Cronograma'!#REF!,0)),Datos!A:D,4,FALSE) -> #REF! | C3: ='Formato Cronograma'!#REF! -> #REF! | D3: ='Formato Cronograma'!#REF! -> #REF!
A4: 2 | B4: =VLOOKUP((MATCH(A4,'Formato Cronograma'!#REF!,0)),Datos!A:D,4,FALSE) -> #REF! | C4: ='Formato Cronograma'!#REF! -> #REF! | D4: ='Formato Cronograma'!#REF! -> #REF!
A5: 3 | B5: =VLOOKUP((MATCH(A5,'Formato Cronograma'!#REF!,0)),Datos!A:D,4,FALSE) -> #REF! | C5: ='Formato Cronograma'!#REF! -> #REF! | D5: ='Formato Cronograma'!#REF! -> #REF!
A6: 4 | B6: =VLOOKUP((MATCH(A6,'Formato Cronograma'!#REF!,0)),Datos!A:D,4,FALSE) -> #REF! | C6: ='Formato Cronograma'!#REF! -> #REF! | D6: ='Formato Cronograma'!#REF! -> #REF!
A7: 5 | B7: =VLOOKUP((MATCH(A7,'Formato Cronograma'!#REF!,0)),Datos!A:D,4,FALSE) -> #REF! | C7: ='Formato Cronograma'!#REF! -> #REF! | D7: ='Formato Cronograma'!#REF! -> #REF!
A8: 6 | B8: =VLOOKUP((MATCH(A8,'Formato Cronograma'!#REF!,0)),Datos!A:D,4,FALSE) -> #REF! | C8: ='Formato Cronograma'!#REF! -> #REF! | D8: ='Formato Cronograma'!#REF! -> #REF!
A9: 7 | B9: =VLOOKUP((MATCH(A9,'Formato Cronograma'!#REF!,0)),Datos!A:D,4,FALSE) -> #REF! | C9: ='Formato Cronograma'!#REF! -> #REF! | D9: ='Formato Cronograma'!#REF! -> #REF!
A10: 8 | B10: =VLOOKUP((MATCH(A10,'Formato Cronograma'!#REF!,0)),Datos!A:D,4,FALSE) -> #REF! | C10: ='Formato Cronograma'!#REF! -> #REF! | D10: ='Formato Cronograma'!#REF! -> #REF!
A11: 9 | B11: =VLOOKUP((MATCH(A11,'Formato Cronograma'!#REF!,0)),Datos!A:D,4,FALSE) -> #REF! | C11: ='Formato Cronograma'!#REF! -> #REF! | D11: ='Formato Cronograma'!#REF! -> #REF!
A12: 10 | B12: =VLOOKUP((MATCH(A12,'Formato Cronograma'!#REF!,0)),Datos!A:D,4,FALSE) -> #REF! | C12: ='Formato Cronograma'!#REF! -> #REF! | D12: ='Formato Cronograma'!#REF! -> #REF!
A13: 11 | B13: =VLOOKUP((MATCH(A13,'Formato Cronograma'!#REF!,0)),Datos!A:D,4,FALSE) -> #REF! | C13: ='Formato Cronograma'!#REF! -> #REF! | D13: ='Formato Cronograma'!#REF! -> #REF!
A14: 12 | B14: =VLOOKUP((MATCH(A14,'Formato Cronograma'!#REF!,0)),Datos!A:D,4,FALSE) -> #REF! | C14: ='Formato Cronograma'!#REF! -> #REF! | D14: ='Formato Cronograma'!#REF! -> #REF!
... A32: 30 | B32: =VLOOKUP((MATCH(A32,'Formato Cronograma'!#REF!,0)),Datos!A:D,4,FALSE) -> #REF! | C32: ='Formato Cronograma'!#REF! -> #REF! | D32: ='Formato Cronograma'!#REF! -> #REF!

Sheet 72
A1: Actividad | B1: ='Formato Cronograma'!#REF! -> #REF!
A2: SESIÓN N° | B2: FECHA | C2: Modalidad | D2: Horario
A3: 1 | B3: =VLOOKUP((MATCH(A3,'Formato Cronograma'!#REF!,0)),Datos!A:D,4,FALSE) -> #REF! | C3: ='Formato Cronograma'!#REF! -> #REF! | D3: ='Formato Cronograma'!#REF! -> #REF!
A4: 2 | B4: =VLOOKUP((MATCH(A4,'Formato Cronograma'!#REF!,0)),Datos!A:D,4,FALSE) -> #REF! | C4: ='Formato Cronograma'!#REF! -> #REF! | D4: ='Formato Cronograma'!#REF! -> #REF!
A5: 3 | B5: =VLOOKUP((MATCH(A5,'Formato Cronograma'!#REF!,0)),Datos!A:D,4,FALSE) -> #REF! | C5: ='Formato Cronograma'!#REF! -> #REF! | D5: ='Formato Cronograma'!#REF! -> #REF!
A6: 4 | B6: =VLOOKUP((MATCH(A6,'Formato Cronograma'!#REF!,0)),Datos!A:D,4,FALSE) -> #REF! | C6: ='Formato Cronograma'!#REF! -> #REF! | D6: ='Formato Cronograma'!#REF! -> #REF!
A7: 5 | B7: =VLOOKUP((MATCH(A7,'Formato Cronograma'!#REF!,0)),Datos!A:D,4,FALSE) -> #REF! | C7: ='Formato Cronograma'!#REF! -> #REF! | D7: ='Formato Cronograma'!#REF! -> #REF!
A8: 6 | B8: =VLOOKUP((MATCH(A8,'Formato Cronograma'!#REF!,0)),Datos!A:D,4,FALSE) -> #REF! | C8: ='Formato Cronograma'!#REF! -> #REF! | D8: ='Formato Cronograma'!#REF! -> #REF!
A9: 7 | B9: =VLOOKUP((MATCH(A9,'Formato Cronograma'!#REF!,0)),Datos!A:D,4,FALSE) -> #REF! | C9: ='Formato Cronograma'!#REF! -> #REF! | D9: ='Formato Cronograma'!#REF! -> #REF!
A10: 8 | B10: =VLOOKUP((MATCH(A10,'Formato Cronograma'!#REF!,0)),Datos!A:D,4,FALSE) -> #REF! | C10: ='Formato Cronograma'!#REF! -> #REF! | D10: ='Formato Cronograma'!#REF! -> #REF!
A11: 9 | B11: =VLOOKUP((MATCH(A11,'Formato Cronograma'!#REF!,0)),Datos!A:D,4,FALSE) -> #REF! | C11: ='Formato Cronograma'!#REF! -> #REF! | D11: ='Formato Cronograma'!#REF! -> #REF!
A12: 10 | B12: =VLOOKUP((MATCH(A12,'Formato Cronograma'!#REF!,0)),Datos!A:D,4,FALSE) -> #REF! | C12: ='Formato Cronograma'!#REF! -> #REF! | D12: ='Formato Cronograma'!#REF! -> #REF!
A13: 11 | B13: =VLOOKUP((MATCH(A13,'Formato Cronograma'!#REF!,0)),Datos!A:D,4,FALSE) -> #REF! | C13: ='Formato Cronograma'!#REF! -> #REF! | D13: ='Formato Cronograma'!#REF! -> #REF!
A14: 12 | B14: =VLOOKUP((MATCH(A14,'Formato Cronograma'!#REF!,0)),Datos!A:D,4,FALSE) -> #REF! | C14: ='Formato Cronograma'!#REF! -> #REF! | D14: ='Formato Cronograma'!#REF! -> #REF!
... A32: 30 | B32: =VLOOKUP((MATCH(A32,'Formato Cronograma'!#REF!,0)),Datos!A:D,4,FALSE) -> #REF! | C32: ='Formato Cronograma'!#REF! -> #REF! | D32: ='Formato Cronograma'!#REF! -> #REF!

Sheet 73
A1: Actividad | B1: ='Formato Cronograma'!#REF! -> #REF!
A2: SESIÓN N° | B2: FECHA | C2: Modalidad | D2: Horario
A3: 1 | B3: =VLOOKUP((MATCH(A3,'Formato Cronograma'!#REF!,0)),Datos!A:D,4,FALSE) -> #REF! | C3: ='Formato Cronograma'!#REF! -> #REF! | D3: ='Formato Cronograma'!#REF! -> #REF!
A4: 2 | B4: =VLOOKUP((MATCH(A4,'Formato Cronograma'!#REF!,0)),Datos!A:D,4,FALSE) -> #REF! | C4: ='Formato Cronograma'!#REF! -> #REF! | D4: ='Formato Cronograma'!#REF! -> #REF!
A5: 3 | B5: =VLOOKUP((MATCH(A5,'Formato Cronograma'!#REF!,0)),Datos!A:D,4,FALSE) -> #REF! | C5: ='Formato Cronograma'!#REF! -> #REF! | D5: ='Formato Cronograma'!#REF! -> #REF!
A6: 4 | B6: =VLOOKUP((MATCH(A6,'Formato Cronograma'!#REF!,0)),Datos!A:D,4,FALSE) -> #REF! | C6: ='Formato Cronograma'!#REF! -> #REF! | D6: ='Formato Cronograma'!#REF! -> #REF!
A7: 5 | B7: =VLOOKUP((MATCH(A7,'Formato Cronograma'!#REF!,0)),Datos!A:D,4,FALSE) -> #REF! | C7: ='Formato Cronograma'!#REF! -> #REF! | D7: ='Formato Cronograma'!#REF! -> #REF!
A8: 6 | B8: =VLOOKUP((MATCH(A8,'Formato Cronograma'!#REF!,0)),Datos!A:D,4,FALSE) -> #REF! | C8: ='Formato Cronograma'!#REF! -> #REF! | D8: ='Formato Cronograma'!#REF! -> #REF!
A9: 7 | B9: =VLOOKUP((MATCH(A9,'Formato Cronograma'!#REF!,0)),Datos!A:D,4,FALSE) -> #REF! | C9: ='Formato Cronograma'!#REF! -> #REF! | D9: ='Formato Cronograma'!#REF! -> #REF!
A10: 8 | B10: =VLOOKUP((MATCH(A10,'Formato Cronograma'!#REF!,0)),Datos!A:D,4,FALSE) -> #REF! | C10: ='Formato Cronograma'!#REF! -> #REF! | D10: ='Formato Cronograma'!#REF! -> #REF!
A11: 9 | B11: =VLOOKUP((MATCH(A11,'Formato Cronograma'!#REF!,0)),Datos!A:D,4,FALSE) -> #REF! | C11: ='Formato Cronograma'!#REF! -> #REF! | D11: ='Formato Cronograma'!#REF! -> #REF!
A12: 10 | B12: =VLOOKUP((MATCH(A12,'Formato Cronograma'!#REF!,0)),Datos!A:D,4,FALSE) -> #REF! | C12: ='Formato Cronograma'!#REF! -> #REF! | D12: ='Formato Cronograma'!#REF! -> #REF!
A13: 11 | B13: =VLOOKUP((MATCH(A13,'Formato Cronograma'!#REF!,0)),Datos!A:D,4,FALSE) -> #REF! | C13: ='Formato Cronograma'!#REF! -> #REF! | D13: ='Formato Cronograma'!#REF! -> #REF!
A14: 12 | B14: =VLOOKUP((MATCH(A14,'Formato Cronograma'!#REF!,0)),Datos!A:D,4,FALSE) -> #REF! | C14: ='Formato Cronograma'!#REF! -> #REF! | D14: ='Formato Cronograma'!#REF! -> #REF!
... A32: 30 | B32: =VLOOKUP((MATCH(A32,'Formato Cronograma'!#REF!,0)),Datos!A:D,4,FALSE) -> #REF! | C32: ='Formato Cronograma'!#REF! -> #REF! | D32: ='Formato Cronograma'!#REF! -> #REF!

Sheet 74
A1: Actividad | B1: ='Formato Cronograma'!#REF! -> #REF!
A2: SESIÓN N° | B2: FECHA | C2: Modalidad | D2: Horario
A3: 1 | B3: =VLOOKUP((MATCH(A3,'Formato Cronograma'!#REF!,0)),Datos!A:D,4,FALSE) -> #REF! | C3: ='Formato Cronograma'!#REF! -> #REF! | D3: ='Formato Cronograma'!#REF! -> #REF!
A4: 2 | B4: =VLOOKUP((MATCH(A4,'Formato Cronograma'!#REF!,0)),Datos!A:D,4,FALSE) -> #REF! | C4: ='Formato Cronograma'!#REF! -> #REF! | D4: ='Formato Cronograma'!#REF! -> #REF!
A5: 3 | B5: =VLOOKUP((MATCH(A5,'Formato Cronograma'!#REF!,0)),Datos!A:D,4,FALSE) -> #REF! | C5: ='Formato Cronograma'!#REF! -> #REF! | D5: ='Formato Cronograma'!#REF! -> #REF!
A6: 4 | B6: =VLOOKUP((MATCH(A6,'Formato Cronograma'!#REF!,0)),Datos!A:D,4,FALSE) -> #REF! | C6: ='Formato Cronograma'!#REF! -> #REF! | D6: ='Formato Cronograma'!#REF! -> #REF!
A7: 5 | B7: =VLOOKUP((MATCH(A7,'Formato Cronograma'!#REF!,0)),Datos!A:D,4,FALSE) -> #REF! | C7: ='Formato Cronograma'!#REF! -> #REF! | D7: ='Formato Cronograma'!#REF! -> #REF!
A8: 6 | B8: =VLOOKUP((MATCH(A8,'Formato Cronograma'!#REF!,0)),Datos!A:D,4,FALSE) -> #REF! | C8: ='Formato Cronograma'!#REF! -> #REF! | D8: ='Formato Cronograma'!#REF! -> #REF!
A9: 7 | B9: =VLOOKUP((MATCH(A9,'Formato Cronograma'!#REF!,0)),Datos!A:D,4,FALSE) -> #REF! | C9: ='Formato Cronograma'!#REF! -> #REF! | D9: ='Formato Cronograma'!#REF! -> #REF!
A10: 8 | B10: =VLOOKUP((MATCH(A10,'Formato Cronograma'!#REF!,0)),Datos!A:D,4,FALSE) -> #REF! | C10: ='Formato Cronograma'!#REF! -> #REF! | D10: ='Formato Cronograma'!#REF! -> #REF!
A11: 9 | B11: =VLOOKUP((MATCH(A11,'Formato Cronograma'!#REF!,0)),Datos!A:D,4,FALSE) -> #REF! | C11: ='Formato Cronograma'!#REF! -> #REF! | D11: ='Formato Cronograma'!#REF! -> #REF!
A12: 10 | B12: =VLOOKUP((MATCH(A12,'Formato Cronograma'!#REF!,0)),Datos!A:D,4,FALSE) -> #REF! | C12: ='Formato Cronograma'!#REF! -> #REF! | D12: ='Formato Cronograma'!#REF! -> #REF!
A13: 11 | B13: =VLOOKUP((MATCH(A13,'Formato Cronograma'!#REF!,0)),Datos!A:D,4,FALSE) -> #REF! | C13: ='Formato Cronograma'!#REF! -> #REF! | D13: ='Formato Cronograma'!#REF! -> #REF!
A14: 12 | B14: =VLOOKUP((MATCH(A14,'Formato Cronograma'!#REF!,0)),Datos!A:D,4,FALSE) -> #REF! | C14: ='Formato Cronograma'!#REF! -> #REF! | D14: ='Formato Cronograma'!#REF! -> #REF!
... A32: 30 | B32: =VLOOKUP((MATCH(A32,'Formato Cronograma'!#REF!,0)),Datos!A:D,4,FALSE) -> #REF! | C32: ='Formato Cronograma'!#REF! -> #REF! | D32: ='Formato Cronograma'!#REF! -> #REF!

Sheet 75
A1: Actividad | B1: ='Formato Cronograma'!#REF! -> #REF!
A2: SESIÓN N° | B2: FECHA | C2: Modalidad | D2: Horario
A3: 1 | B3: =VLOOKUP((MATCH(A3,'Formato Cronograma'!#REF!,0)),Datos!A:D,4,FALSE) -> #REF! | C3: ='Formato Cronograma'!#REF! -> #REF! | D3: ='Formato Cronograma'!#REF! -> #REF!
A4: 2 | B4: =VLOOKUP((MATCH(A4,'Formato Cronograma'!$N$9:$LJ$9,0)),Datos!A:D,4,FALSE) -> #N/A | C4: ='Formato Cronograma'!$C$9 -> Virtual sincrónico | D4: ='Formato Cronograma'!$M$9 -> 8:00 am a 12m
A5: 3 | B5: =VLOOKUP((MATCH(A5,'Formato Cronograma'!$N$9:$LJ$9,0)),Datos!A:D,4,FALSE) -> #N/A | C5: ='Formato Cronograma'!$C$9 -> Virtual sincrónico | D5: ='Formato Cronograma'!$M$9 -> 8:00 am a 12m
A6: 4 | B6: =VLOOKUP((MATCH(A6,'Formato Cronograma'!$N$9:$LJ$9,0)),Datos!A:D,4,FALSE) -> #N/A | C6: ='Formato Cronograma'!$C$9 -> Virtual sincrónico | D6: ='Formato Cronograma'!$M$9 -> 8:00 am a 12m
A7: 5 | B7: =VLOOKUP((MATCH(A7,'Formato Cronograma'!$N$9:$LJ$9,0)),Datos!A:D,4,FALSE) -> #N/A | C7: ='Formato Cronograma'!$C$9 -> Virtual sincrónico | D7: ='Formato Cronograma'!$M$9 -> 8:00 am a 12m
A8: 6 | B8: =VLOOKUP((MATCH(A8,'Formato Cronograma'!$N$9:$LJ$9,0)),Datos!A:D,4,FALSE) -> #N/A | C8: ='Formato Cronograma'!$C$9 -> Virtual sincrónico | D8: ='Formato Cronograma'!$M$9 -> 8:00 am a 12m
A9: 7 | B9: =VLOOKUP((MATCH(A9,'Formato Cronograma'!$N$9:$LJ$9,0)),Datos!A:D,4,FALSE) -> #N/A | C9: ='Formato Cronograma'!$C$9 -> Virtual sincrónico | D9: ='Formato Cronograma'!$M$9 -> 8:00 am a 12m
A10: 8 | B10: =VLOOKUP((MATCH(A10,'Formato Cronograma'!$N$9:$LJ$9,0)),Datos!A:D,4,FALSE) -> #N/A | C10: ='Formato Cronograma'!$C$9 -> Virtual sincrónico | D10: ='Formato Cronograma'!$M$9 -> 8:00 am a 12m
A11: 9 | B11: =VLOOKUP((MATCH(A11,'Formato Cronograma'!$N$9:$LJ$9,0)),Datos!A:D,4,FALSE) -> #N/A | C11: ='Formato Cronograma'!$C$9 -> Virtual sincrónico | D11: ='Formato Cronograma'!$M$9 -> 8:00 am a 12m
A12: 10 | B12: =VLOOKUP((MATCH(A12,'Formato Cronograma'!$N$9:$LJ$9,0)),Datos!A:D,4,FALSE) -> #N/A | C12: ='Formato Cronograma'!$C$9 -> Virtual sincrónico | D12: ='Formato Cronograma'!$M$9 -> 8:00 am a 12m
A13: 11 | B13: =VLOOKUP((MATCH(A13,'Formato Cronograma'!$N$9:$LJ$9,0)),Datos!A:D,4,FALSE) -> #N/A | C13: ='Formato Cronograma'!$C$9 -> Virtual sincrónico | D13: ='Formato Cronograma'!$M$9 -> 8:00 am a 12m
A14: 12 | B14: =VLOOKUP((MATCH(A14,'Formato Cronograma'!$N$9:$LJ$9,0)),Datos!A:D,4,FALSE) -> #N/A | C14: ='Formato Cronograma'!$C$9 -> Virtual sincrónico | D14: ='Formato Cronograma'!$M$9 -> 8:00 am a 12m
A15: 13 | B15: =VLOOKUP((MATCH(A15,'Formato Cronograma'!$N$9:$LJ$9,0)),Datos!A:D,4,FALSE) -> #N/A | C15: ='Formato Cronograma'!$C$9 -> Virtual sincrónico | D15: ='Formato Cronograma'!$M$9 -> 8:00 am a 12m
... A32: 30 | B32: =VLOOKUP((MATCH(A32,'Formato Cronograma'!$N$9:$LJ$9,0)),Datos!A:D,4,FALSE) -> #N/A | C32: ='Formato Cronograma'!$C$9 -> Virtual sincrónico | D32: ='Formato Cronograma'!$M$9 -> 8:00 am a 12m

Sheet Datos
A1: 1 | B1: Mi | C1: 1 | D1: 45658
A2: 2 | B2: Ju | C2: 2 | D2: 45659
A3: 3 | B3: Vi. | C3: 3 | D3: 45660
A4: 4 | B4: Lu. | C4: 6 | D4: 45663
A5: 5 | B5: Ma. | C5: 7 | D5: 45664
A6: 6 | B6: Mi. | C6: 8 | D6: 45665
A7: 7 | B7: Ju. | C7: =C6+1 -> 9 | D7: 45666
A8: 8 | B8: Vi. | C8: =C7+1 -> 10 | D8: 45667
A9: 9 | B9: Lu. | C9: 13 | D9: 45670
A10: 10 | B10: Ma. | C10: =C9+1 -> 14 | D10: 45671
A11: 11 | B11: Mi. | C11: 15 | D11: 45672
A12: 12 | B12: Ju. | C12: =C11+1 -> 16 | D12: 45673
A13: 13 | B13: Vi. | C13: =C12+1 -> 17 | D13: 45674
A14: 14 | B14: Lu. | C14: 20 | D14: 45677
A15: 15 | B15: Ma. | C15: =C14+1 -> 21 | D15: 45678
A16: 16 | B16: Mi. | C16: 22 | D16: 45679
A17: 17 | B17: Ju. | C17: =C16+1 -> 23 | D17: 45680
A18: 18 | B18: Vi. | C18: =C17+1 -> 24 | D18: 45681
A19: 19 | B19: Sa | C19: 25 | D19: 45682
A20: 20 | B20: Lu. | C20: 27 | D20: 45684
A21: 21 | B21: Ma. | C21: =C20+1 -> 28 | D21: 45685
A22: 22 | B22: Mi. | C22: 29 | D22: 45686
A23: 23 | B23: Ju. | C23: =C22+1 -> 30 | D23: 45687
A24: 24 | B24: Vi. | C24: =C23+1 -> 31 | D24: 45688
A25: 25 | B25: Lu. | C25: 3 | D25: 45691
A26: 26 | B26: Ma. | C26: =C25+1 -> 4 | D26: =+D25+1 -> 45692
A27: 27 | B27: Mi. | C27: 5 | D27: =+D26+1 -> 45693
A28: 28 | B28: Ju. | C28: =C27+1 -> 6 | D28: =+D27+1 -> 45694
A29: 29 | B29: Vi. | C29: =C28+1 -> 7 | D29: =+D28+1 -> 45695
A30: 30 | B30: Sa | C30: 8 | D30: =+D29+1 -> 45696
A31: 31 | B31: Lu. | C31: 10 | D31: =+D30+2 -> 45698
A32: 32 | B32: Ma. | C32: =C31+1 -> 11 | D32: =+D31+1 -> 45699
A33: 33 | B33: Mi. | C33: 12 | D33: =+D32+1 -> 45700
A34: 34 | B34: Ju. | C34: =C33+1 -> 13 | D34: =+D33+1 -> 45701
A35: 35 | B35: Vi. | C35: =C34+1 -> 14 | D35: =+D34+1 -> 45702
A36: 36 | B36: Sa | C36: 15 | D36: =+D35+1 -> 45703
A37: 37 | B37: Lu. | C37: 17 | D37: =+D36+2 -> 45705
A38: 38 | B38: Ma. | C38: =C37+1 -> 18 | D38: =+D37+1 -> 45706
A39: 39 | B39: Mi. | C39: 19 | D39: =+D38+1 -> 45707
A40: 40 | B40: Ju. | C40: =C39+1 -> 20 | D40: =+D39+1 -> 45708
A41: 41 | B41: Vi. | C41: =C40+1 -> 21 | D41: =+D40+1 -> 45709
A42: 42 | B42: Sa | C42: 22 | D42: =+D41+1 -> 45710
A43: 43 | B43: Lu. | C43: 24 | D43: =+D42+2 -> 45712
A44: 44 | B44: Ma. | C44: =C43+1 -> 25 | D44: =+D43+1 -> 45713
A45: 45 | B45: Mi. | C45: 26 | D45: =+D44+1 -> 45714
A46: 46 | B46: Ju. | C46: =C45+1 -> 27 | D46: =+D45+1 -> 45715
A47: 47 | B47: Vi. | C47: =C46+1 -> 28 | D47: =+D46+1 -> 45716
A48: 48 | B48: Sa | C48: 1 | D48: =+D47+1 -> 45717
A49: 49 | B49: Lu. | C49: 3 | D49: =+D48+2 -> 45719
A50: 50 | B50: Ma. | C50: 4 | D50: =+D49+1 -> 45720
A51: 51 | B51: Mi. | C51: 5 | D51: =+D50+1 -> 45721
A52: 52 | B52: Ju. | C52: =C51+1 -> 6 | D52: =+D51+1 -> 45722
A53: 53 | B53: Vi. | C53: =C52+1 -> 7 | D53: =+D52+1 -> 45723
A54: 54 | B54: Sa. | C54: 8 | D54: =+D53+1 -> 45724
A55: 55 | B55: Lu. | C55: 10 | D55: =+D54+2 -> 45726
A56: 56 | B56: Ma. | C56: =C55+1 -> 11 | D56: =+D55+1 -> 45727
A57: 57 | B57: Mi. | C57: 12 | D57: =+D56+1 -> 45728
A58: 58 | B58: Ju. | C58: =C57+1 -> 13 | D58: =+D57+1 -> 45729
A59: 59 | B59: Vi. | C59: =C58+1 -> 14 | D59: =+D58+1 -> 45730
A60: 60 | B60: Sa | C60: 15 | D60: =+D59+1 -> 45731
A61: 61 | B61: Lu. | C61: 17 | D61: =+D60+2 -> 45733
A62: 62 | B62: Ma. | C62: =C61+1 -> 18 | D62: =+D61+1 -> 45734
A63: 63 | B63: Mi. | C63: 19 | D63: =+D62+1 -> 45735
A64: 64 | B64: Ju. | C64: =C63+1 -> 20 | D64: =+D63+1 -> 45736
A65: 65 | B65: Vi. | C65: =C64+1 -> 21 | D65: =+D64+1 -> 45737
A66: 66 | B66: Sa | C66: 22 | D66: =+D65+1 -> 45738
A67: 67 | B67: Lu. | C67: 24 | D67: =+D66+2 -> 45740
A68: 68 | B68: Ma. | C68: =C67+1 -> 25 | D68: =+D67+1 -> 45741
A69: 69 | B69: Mi. | C69: 26 | D69: =+D68+1 -> 45742
A70: 70 | B70: Ju. | C70: =C69+1 -> 27 | D70: =+D69+1 -> 45743
A71: 71 | B71: Vi. | C71: =C70+1 -> 28 | D71: =+D70+1 -> 45744
A72: 72 | B72: Sa | C72: =C71+1 -> 29 | D72: =+D71+1 -> 45745
A73: 73 | B73: Lu. | C73: 31 | D73: =+D72+2 -> 45747
A74: 74 | B74: Ma. | C74: 1 | D74: =+D73+1 -> 45748
A75: 75 | B75: Mi. | C75: 2 | D75: =+D74+1 -> 45749
A76: 76 | B76: Ju. | C76: =C75+1 -> 3 | D76: =+D75+1 -> 45750
A77: 77 | B77: Vi. | C77: =C76+1 -> 4 | D77: =+D76+1 -> 45751
A78: 78 | B78: Sa | C78: 5 | D78: =+D77+1 -> 45752
A79: 79 | B79: Lu. | C79: 7 | D79: =+D78+2 -> 45754
A80: 80 | B80: Ma. | C80: =C79+1 -> 8 | D80: =+D79+1 -> 45755
A81: 81 | B81: Mi. | C81: 9 | D81: =+D80+1 -> 45756
A82: 82 | B82: Ju. | C82: =C81+1 -> 10 | D82: =+D81+1 -> 45757
A83: 83 | B83: Vi. | C83: =C82+1 -> 11 | D83: =+D82+1 -> 45758
A84: 84 | B84: Sa | C84: 12 | D84: =+D83+1 -> 45759
A85: 85 | B85: Lu. | C85: 14 | D85: =+D84+2 -> 45761
A86: 86 | B86: Ma. | C86: =C85+1 -> 15 | D86: =+D85+1 -> 45762
A87: 87 | B87: Mi. | C87: 16 | D87: =+D86+1 -> 45763
A88: 88 | B88: Ju. | C88: =C87+1 -> 17 | D88: =+D87+1 -> 45764
A89: 89 | B89: Vi. | C89: =C88+1 -> 18 | D89: =+D88+1 -> 45765
A90: 90 | B90: Sa | C90: 19 | D90: =+D89+1 -> 45766
A91: 91 | B91: Lu. | C91: 21 | D91: =+D90+2 -> 45768
A92: 92 | B92: Ma. | C92: =C91+1 -> 22 | D92: =+D91+1 -> 45769
A93: 93 | B93: Mi. | C93: 23 | D93: =+D92+1 -> 45770
A94: 94 | B94: Ju. | C94: =C93+1 -> 24 | D94: =+D93+1 -> 45771
A95: 95 | B95: Vi. | C95: =C94+1 -> 25 | D95: =+D94+1 -> 45772
A96: 96 | B96: Sa | C96: 26 | D96: =+D95+1 -> 45773
A97: 97 | B97: Lu. | C97: 28 | D97: =+D96+2 -> 45775
A98: 98 | B98: Ma. | C98: =C97+1 -> 29 | D98: =+D97+1 -> 45776
A99: 99 | B99: Mi. | C99: 30 | D99: =+D98+1 -> 45777
A100: 100 | B100: Ju. | C100: 1 | D100: =+D99+1 -> 45778
...
