Workbook

Sheet 2025
A1: CONTRATACIÓN DEL MANTENIMIENTO PREVENTIVO Y CORRECTIVO DE LOS SISTEMAS HIDRÁULICO E HIDRONEUMÁTICO DE AGUA POTABLE, REDES SANITARIAS Y DE AGUAS LLUVIAS DEL CENTRO DE INDUSTRIA Y CONSTRUCCIÓN REGIONAL TOLIMA
A3: ítem | B3: CODIGOS UNSPC | C3: Descripción | D3: UNIDAD DE MEDIDA | E3: CANTIDAD
A4: 1 | B4: 72101510 | C4: Suministro y reemplazo de sellos hidráulicos de motobombas | D4: UND | E4: 2
A5: 2 | B5: 72101510 | C5: Mantenimiento preventivo de motores eléctricos (Cambio de rodamiento y terminales eléctricos) de 5 HP | D5: UND | E5: 2
A6: 3 | B6: 72101510 | C6: Suministro y reemplazo de Contactores trifásicos de 30 Amperios | D6: UND | E6: 2
A7: 4 | B7: 72101510 | C7: Suministro e instalación de vigilante de tensión | D7: UND | E7: 1
A8: 5 | B8: 72101510 | C8: Suministro e instalación de protección termomagnética tripolar | D8: UND | E8: 1
A9: 6 | B9: 72101510 | C9: Suministro e instalación de protección termomagnética monopolar | D9: UND | E9: 1
A10: 7 | B10: 72101510 | C10: Suministro y reemplazo de cable encauchado 4x12 x metro | D10: UND | E10: 8
A11: 8 | B11: 72101510 | C11: Mantenimiento general de sistema electrohidráulico de 2 motobombas en alternancia; inspeccion y verificacion del buen funcionamiento, limpieza, ajuste de elementos de sujeción y lubricación de partes moviles. | D11: UND | E11: 1 | F11: explicar en que consiste el mantenimiento general
A12: 9 | B12: 72101510 | C12: Mantenimiento general de tuberías de la cisterna; inspeccion y verificacion del buen funcionamiento, limpieza, ajuste de elementos de sujeción. | D12: UND | E12: 1 | F12: explicar en que consiste el mantenimiento general
A13: 10 | B13: 72101510 | C13: Inspección y mantenimiento general de la placa superior de la cisterna | D13: UND | E13: 1
A14: 11 | B14: 72101510 | C14: Suministro y reemplazo de ductos de toma de agua de motobombas de 3 metros x 2 pulgadas | D14: UND | E14: 2
A15: 12 | B15: 72101510 | C15: Suministro y reemplazo de válvulas de pie 2 pulgadas | D15: UND | E15: 2
A16: 13 | B16: 72101510 | C16: Mantenimiento general de compuerta de cisterna 1,2 metros x 1,2 metros | D16: UND | E16: 1
A17: 14 | B17: 72101510 | C17: Suministro y reemplazo de sensores de nivel | D17: UND | E17: 2
A18: 15 | B18: 72101510 | C18: Verificación y mantenimiento de tanque Hidro Flow de 300 L; Inspeccion y correccion de fugas, ajuste de presión neumática, verificacion del medidro de presion y valvulas, verificación de funcionamiento de válvula de purga. | D18: UND | E18: 2 | F18: explicar mantenimiento y verificación en qué consiste
A19: 16 | B19: 72101510 | C19: Verificación y mantenimiento de vejigas de tanque Hidro Flow de 300 L; Verificacion de fugas de la vejiga del tanque hidroflow, mantenimiento o reemplazo de vlavula de espiga de entrada de aire para calibración. | D19: UND | E19: 2 | F19: explicar mantenimiento y verificación en qué consiste
A20: 17 | B20: 72101510 | C20: Suministro y reemplazo de presóstato convencional con calibración de rango y límite de presión | D20: UND | E20: 2
A21: 18 | B21: 72101510 | C21: Mantenimiento general de tuberías de distribución de agua | D21: UND | E21: 1
A22: 19 | B22: 72101510 | C22: Suministro y reemplazo de medidor de presión, manómetro de 0 a 300 PSI | D22: UND | E22: 1
A23: 20 | B23: 72101510 | C23: Elaboración y suministro de plano eléctrico en gabinete eléctrico | D23: UND | E23: 1
A24: 21 | B24: 72101510 | C24: Calibración de presiones hidráulicas de motobombas | D24: UND | E24: 1
A25: 22 | B25: 72101510 | C25: Calibración de presión neumática de tanque Hidro Flow | D25: UND | E25: 2
A26: 23 | B26: 72101510 | C26: LIMPIEZA REVISION Y MANTENIMIENTO de CANALES de aguas lluvias - Incluye todos los elementos y materiales necesarios para la correcta ejecución | D26: ML | E26: 1046.75
A27: 24 | B27: 72101510 | C27: LIMPIEZA REVISION Y MANTENIMIENTO de BAJANTES de aguas lluvias - Incluye todos los elementos y materiales necesarios para la correcta ejecución | D27: ML | E27: 559.58
A28: 25 | B28: 72101510 | C28: LIMPIEZA REVISION Y MANTENIMIENTO de SUMIDEROS de aguas lluvias - Incluye todos los elementos y materiales necesarios para la correcta ejecución | D28: UND | E28: 40
A29: 26 | B29: 72101510 | C29: LIMPIEZA REVISION Y MANTENIMIENTO de CUNETAS de aguas lluvias - Incluye todos los elementos y materiales necesarios para la correcta ejecución | D29: ML | E29: 392
A30: 27 | B30: 72101510 | C30: LIMPIEZA REVISION Y MANTENIMIENTO de CAJAS DE DISTRIBUCION de aguas lluvias. Incluye todos los elementos y materiales necesarios para la correcta ejecución | D30: UND | E30: 70
A31: 28 | B31: 72101510 | C31: LIMPIEZA REVISION Y MANTENIMIENTO de RED de aguas lluvias. Incluye todos los elementos y materiales necesarios para la correcta ejecución | D31: ML | E31: 3000
A32: 29 | B32: 72101510 | C32: ASEO GENERAL DE OBRA CENTRO INDUSTRIA Y CONSTRUCCION incluye todos los elementos y materiales necesarios para la correcta ejecución | D32: UND | E32: 1

Sheet 2026
B1: CENTRO DE INDUSTRIA Y CONSTRUCCIÓN - SENA REGIONAL TOLIMA
B2: FORMATO OFERTA ECONÓMICA
B3: MC-CIC-9226-356-2026
B4: OBJETO: Obra consistente en mantenimiento preventivo y correctivo del sistema hidráulico e hidroneumático de agua potable, redes sanitarias y aguas lluvias del Centro De Industria Y Construcción.
B5: MANTENIMIENTO DE LAS UNIDADES SANITARIAS DE LOS DIFERENTES AMBIENTES DEL CENTRO DE INDUSTRIA Y CONSTRUCCION
B6: ÍTEM | C6: CLASIFICACIÓN DEL ITEM | D6: CÓDIGO UNSPSC | E6: NOMBRE | F6: DESCRIPCIÓN DETALLADA | G6: UND | H6: CANT | I6: V/UNITARIO | J6: V/TOTAL | L6: V/UNITARIO
B7: 1 | C7: No aplica (no es bien, es servicio) | D7: 72154022 | E7: Servicios de instalación y mantenimiento de equipos hidráulicos | F7: Servicio que incluye el suministro y reemplazo de sellos hidráulicos de motobombas, con desmontaje, limpieza, verificación de asientos y prueba de estanqueidad; incluye insumos y mano de obra. | G7: UND | H7: 2 | I7: =L7-(L7*7%) -> 442708.83 | J7: =I7*H7 -> 885417.66 | L7: 476031
B8: 2 | C8: No aplica (no es bien, es servicio) | D8: 72154302 | E8: Servicio de instalación y mantenimiento de motores | F8: Mantenimiento preventivo de motores eléctricos de 5 HP, que incluye cambio de rodamientos y terminales eléctricos, limpieza, pruebas de giro y verificación de aislamiento. | G8: UND | H8: 2 | I8: =L8-(L8*7%) -> 595722.66 | J8: =I8*H8 -> 1191445.3 | L8: 640562
B9: 3 | C9: Bien Devolutivo | D9: 40141610 | E9: Válvulas de flotación | F9: Kit de válvula flotadora en bronce de 3", con accesorios: flotador y varilla de instalación. Para control de nivel en sistemas hidráulicos. | G9: UND | H9: 1 | I9: =L9-(L9*7%) -> 365732.11 | J9: =I9*H9 -> 365732.11 | L9: 393260.33
B10: 4 | C10: Bien Devolutivo | D10: 40141634 | E10: Válvulas de retención oscilante (swing check valves) | F10: Válvula de retención oscilante 2" en bronce, tipo vertical, para evitar flujo inverso en líneas de agua. | G10: UND | H10: 2 | I10: =L10-(L10*7%) -> 210826.58 | J10: =I10*H10 -> 421653.16 | L10: 226695.25
B11: 5 | C11: Bien Devolutivo | D11: 40141634 | E11: Válvulas de retención oscilante (swing check valves) | F11: Válvula de retención oscilante 1 1/2" en bronce, instalación horizontal, para prevención de reflujo en tuberías. | G11: UND | H11: 1 | I11: =L11-(L11*7%) -> 172009.27 | J11: =I11*H11 -> 172009.27 | L11: 184956.2
B12: 6 | C12: Bien Devolutivo | D12: 40141607 | E12: Válvulas de bola | F12: Válvula de cierre tipo bola de 3" en bronce, para aislamiento rápido de línea. | G12: UND | H12: 1 | I12: =L12-(L12*7%) -> 470963.53 | J12: =I12*H12 -> 470963.53 | L12: 506412.4
B13: 7 | C13: Bien Devolutivo | D13: 40141659 | E13: Válvula de retención de elevación (lift check valve) | F13: Válvula de retención tipo lift check de 2" en bronce, montaje vertical, con provisión para 2 manómetros. | G13: UND | H13: 2 | I13: =L13-(L13*7%) -> 359054.67 | J13: =I13*H13 -> 718109.33 | L13: 386080.29
B14: 8 | C14: Bien Devolutivo | D14: 40141634 | E14: Válvulas de retención oscilante (swing check valves) | F14: Válvula de retención oscilante 3" en bronce, instalación horizontal, para control de retorno de flujo. | G14: UND | H14: 1 | I14: =L14-(L14*7%) -> 557473.52 | J14: =I14*H14 -> 557473.52 | L14: 599433.89
B15: 9 | C15: Bien Devolutivo | D15: 40141613 | E15: Válvulas de compuerta | F15: Válvula de compuerta 2", para apertura/cierre completo de la conducción. | G15: UND | H15: 2 | I15: =L15-(L15*7%) -> 202456.58 | J15: =I15*H15 -> 404913.16 | L15: 217695.25
B16: 10 | C16: Bien Devolutivo | D16: 40141613 | E16: Válvulas de compuerta | F16: Válvula de compuerta 1 1/2", para corte general de línea. | G16: UND | H16: 2 | I16: =L16-(L16*7%) -> 172939.27 | J16: =I16*H16 -> 345878.53 | L16: 185956.2
B17: 11 | C17: Bien Devolutivo | D17: 40141611 | E17: Válvulas de globo | F17: Válvula de globo 1", para regulación de caudal en la línea. | G17: UND | H17: 1 | I17: =L17-(L17*7%) -> 151711.06 | J17: =I17*H17 -> 151711.06 | L17: 163130.17
B18: 12 | C18: No aplica (no es bien, es servicio) | D18: 72151500 | E18: Servicios de sistemas eléctricos | F18: Suministro e instalación de cable encauchado 4×12 AWG, por metro instalado; incluye retiro del cable existente, tendido, conexionado y pruebas de continuidad. | G18: ML | H18: 8 | I18: =L18-(L18*7%) -> 32246.646 | J18: =I18*H18 -> 257973.17 | L18: 34673.812
... B38: 32 | C38: No aplica (no es un bien) | D38: 76111500 | E38: Servicios de limpieza y mantenimiento de edificios generales y de oficinas | F38: Aseo general de obra (Centro Industria y Construcción): recolección de escombros menores, barrido, retiro de residuos y entrega de áreas limpias. Incluye todos los elementos y materiales necesarios. Entrega a satisfacción. | G38: UND | H38: 1 | I38: =L38-(L38*7%) -> 729309.1 | J38: =I38*H38 -> 729309.1 | L38: 784203.33
G39: SUBTOTAL | J39: =SUM(J7:J38) -> 46505114
G40: ADMINISTRACION (19%) | J40: =+J39*0.19 -> 8835971.6
G41: IMPREVISTOS (1%) | J41: =+J39*0.01 -> 465051.14
G42: UTILIDAD (5%) | J42: =+J39*0.05 -> 2325255.7
G43: IVA SOBRE UTILIDAD | J43: =+J42*0.19 -> 441798.58
G44: VALOR TOTAL | J44: =+J39+J40+J41+J42+J43 -> 58573191
E47: FIRMA REPRESENTANTE LEGAL
E48: NIT

Sheet Hoja1
B2: ÍTEM | C2: CLASIFICACIÓN DEL ITEM | D2: CÓDIGO UNSPSC | E2: NOMBRE | F2: DESCRIPCIÓN DETALLADA | G2: UND | H2: CANT | I2: V/UNITARIO | J2: V/TOTAL
B3: 1 | C3: No aplica (no es bien, es servicio) | D3: 72154022 | E3: Servicios de instalación y mantenimiento de equipos hidráulicos | F3: Servicio que incluye el suministro y reemplazo de sellos hidráulicos de motobombas, con desmontaje, limpieza, verificación de asientos y prueba de estanqueidad; incluye insumos y mano de obra. | G3: UND | H3: 2 | I3: =+[1]APU!T38 -> 476031 | J3: =+H3*I3 -> 952062
B4: 2 | C4: No aplica (no es bien, es servicio) | D4: 72154302 | E4: Servicio de instalación y mantenimiento de motores | F4: Mantenimiento preventivo de motores eléctricos de 5 HP, que incluye cambio de rodamientos y terminales eléctricos, limpieza, pruebas de giro y verificación de aislamiento. | G4: UND | H4: 2 | I4: =+[1]APU!T80 -> 640562 | J4: =+H4*I4 -> 1281124
B5: 3 | C5: Bien Devolutivo | D5: 40141610 | E5: Válvulas de flotación | F5: Kit de válvula flotadora en bronce de 3", con accesorios: flotador y varilla de instalación. Para control de nivel en sistemas hidráulicos. | G5: UND | H5: 1 | I5: =+[1]APU!T122 -> 393260.33 | J5: =+H5*I5 -> 393260.33
B6: 4 | C6: Bien Devolutivo | D6: 40141634 | E6: Válvulas de retención oscilante (swing check valves) | F6: Válvula de retención oscilante 2" en bronce, tipo vertical, para evitar flujo inverso en líneas de agua. | G6: UND | H6: 2 | I6: =+[1]APU!T164 -> 226695.25 | J6: =+H6*I6 -> 453390.5
B7: 5 | C7: Bien Devolutivo | D7: 40141634 | E7: Válvulas de retención oscilante (swing check valves) | F7: Válvula de retención oscilante 1 1/2" en bronce, instalación horizontal, para prevención de reflujo en tuberías. | G7: UND | H7: 1 | I7: =+[1]APU!T206 -> 184956.2 | J7: =+H7*I7 -> 184956.2
B8: 6 | C8: Bien Devolutivo | D8: 40141607 | E8: Válvulas de bola | F8: Válvula de cierre tipo bola de 3" en bronce, para aislamiento rápido de línea. | G8: UND | H8: 1 | I8: =+[1]APU!T248 -> 506412.4 | J8: =+H8*I8 -> 506412.4
B9: 7 | C9: Bien Devolutivo | D9: 40141659 | E9: Válvula de retención de elevación (lift check valve) | F9: Válvula de retención tipo lift check de 2" en bronce, montaje vertical, con provisión para 2 manómetros. | G9: UND | H9: 2 | I9: =+[1]APU!T292 -> 386080.29 | J9: =+H9*I9 -> 772160.57
B10: 8 | C10: Bien Devolutivo | D10: 40141634 | E10: Válvulas de retención oscilante (swing check valves) | F10: Válvula de retención oscilante 3" en bronce, instalación horizontal, para control de retorno de flujo. | G10: UND | H10: 1 | I10: =+[1]APU!T334 -> 599433.89 | J10: =+H10*I10 -> 599433.89
B11: 9 | C11: Bien Devolutivo | D11: 40141613 | E11: Válvulas de compuerta | F11: Válvula de compuerta 2", para apertura/cierre completo de la conducción. | G11: UND | H11: 2 | I11: =+[1]APU!T376 -> 217695.25 | J11: =+H11*I11 -> 435390.5
B12: 10 | C12: Bien Devolutivo | D12: 40141613 | E12: Válvulas de compuerta | F12: Válvula de compuerta 1 1/2", para corte general de línea. | G12: UND | H12: 2 | I12: =+[1]APU!T418 -> 185956.2 | J12: =+H12*I12 -> 371912.4
B13: 11 | C13: Bien Devolutivo | D13: 40141611 | E13: Válvulas de globo | F13: Válvula de globo 1", para regulación de caudal en la línea. | G13: UND | H13: 1 | I13: =+[1]APU!T460 -> 163130.17 | J13: =+H13*I13 -> 163130.17
B14: 12 | C14: No aplica (no es bien, es servicio) | D14: 72151500 | E14: Servicios de sistemas eléctricos | F14: Suministro e instalación de cable encauchado 4×12 AWG, por metro instalado; incluye retiro del cable existente, tendido, conexionado y pruebas de continuidad. | G14: ML | H14: 8 | I14: =+[1]APU!T506 -> 34673.812 | J14: =+H14*I14 -> 277390.5
B15: 13 | C15: No aplica (no es bien, es servicio) | D15: 72151100 | E15: Servicios de construcción de plomería | F15: Suministro E instalación de puntos hidráulicos de 1/2 pulgada pvc incluye accesorios y todo lo necesario para su correcta ejecución y su funcionamiento | G15: UND | H15: 34 | I15: =+[1]APU!T548 -> 68290.143 | J15: =+H15*I15 -> 2321864.9
B16: 14 | C16: No aplica (no es bien, es servicio) | D16: 72151100 | E16: Servicios de construcción de plomería | F16: Suministro E instalación de válvulas de paso de ½ pulgada pvc cierre rápido, para corte de flujo, incluye accesorios y todo lo necesario para su correcta ejecución y su funcionamiento | G16: UND | H16: 0 | I16: =+[1]APU!T590 -> 58086.778 | J16: =+H16*I16 -> 0
B17: 15 | C17: No aplica (no es bien, es servicio) | D17: 72151100 | E17: Servicios de construcción de plomería | F17: Suministro E instalación de válvulas de paso de 1 pulgada pvc cierre rápido, para corte de flujo, incluye accesorios y todo lo necesario para su correcta ejecución y su funcionamiento | G17: UND | H17: 0 | I17: =+[1]APU!T633 -> 124556.2 | J17: =+H17*I17 -> 0
B18: 16 | C18: No aplica (no es bien, es servicio) | D18: 72151100 | E18: Servicios de construcción de plomería | F18: Suministro E instalación de válvulas de paso de 2 pulgadas pvc cierre rápido, para corte de flujo, incluye accesorios y todo lo necesario para su correcta ejecución y su funcionamiento | G18: UND | H18: 0 | I18: =+[1]APU!T676 -> 129556.2 | J18: =+H18*I18 -> 0
B19: 17 | C19: No aplica (no es bien, es servicio) | D19: 72152700 | E19: Servicios de instalación y reparación de concreto | F19: Suministro e instalación de cajillas prefabricadas en concreto con refuerzo en acero y tapa resistente, de 20×20×20 cm, para alojar válvulas de paso; incluye excavación menor, nivelación, anclaje tapa y puesta en servicio. | G19: UND | H19: 0 | I19: =+[1]APU!T719 -> 196718.64 | J19: =+H19*I19 -> 0
B20: 18 | C20: No aplica (no es bien, es servicio) | D20: 72151100 | E20: Servicios de construcción de plomería | F20: Suministro e instalación de red hidráulica de 1/2" en PVC, con todos los accesorios y elementos necesarios para su correcta ejecución y funcionamiento. Medición por metro lineal instalado. entrega a satisfacción y funcionando. | G20: ML | H20: 0 | I20: =+[1]APU!T762 -> 9827.3556 | J20: =+H20*I20 -> 0
B21: 19 | C21: Servicio | D21: 72153600 | E21: Servicios de pintura y acabados | F21: Suministro y aplicación de pintura azul para demarcar perimetralmente cajillas de válvulas de corte o de paso (dimensiones 20 x 20 cm). Incluye preparación de superficie, limpieza, delimitación, aplicación y entrega a satisfacción. | G21: UND | H21: 0 | I21: =+[1]APU!T804 -> 26802.067 | J21: =+H21*I21 -> 0
B22: 20 | C22: Servicio | D22: 72153600 | E22: Servicios de pintura y acabados | F22: Suministro y aplicación de pintura azul para demarcar perimetralmente cajillas de válvulas de corte o de paso (dimensiones 70 x 70 cm). Incluye preparación de superficie, limpieza, delimitación, aplicación y entrega a satisfacción. | G22: UND | H22: 0 | I22: =+[1]APU!T846 -> 52578.1 | J22: =+H22*I22 -> 0
B23: 21 | C23: Servicio | D23: 72153600 | E23: Servicios de pintura y acabados | F23: Suministro y aplicación de pintura azul para demarcar perimetralmente cajillas de válvulas de corte o de paso (dimensiones 40 x 40 cm). Incluye preparación de superficie, limpieza, delimitación, aplicación y entrega a satisfacción. | G23: UND | H23: 0 | I23: =+[1]APU!T888 -> 40715.083 | J23: =+H23*I23 -> 0
B24: 22 | C24: Servicio | D24: 72153600 | E24: Servicios de pintura y acabados | F24: Suministro y aplicación de pintura azul para demarcar perimetralmente cajillas de válvulas de corte o de paso (dimensiones 150 x 150 cm). Incluye preparación de superficie, limpieza, delimitación, aplicación y entrega a satisfacción. | G24: UND | H24: 0 | I24: =+[1]APU!T930 -> 89940.143 | J24: =+H24*I24 -> 0
B25: 23 | C25: No aplica (no es un bien) | D25: 72154022 | E25: Servicios de instalación y mantenimiento de equipos hidráulicos | F25: Mantenimiento general del sistema electrohidráulico (2 motobombas en alternancia): inspección funcional, limpieza, ajuste de sujeciones y lubricación de partes móviles. Entrega a satisfacción y funcionamiento | G25: UND | H25: 1 | I25: =+[1]APU!T971 -> 1291405 | J25: =+H25*I25 -> 1291405
B26: 24 | C26: No aplica (no es un bien) | D26: 72101510 | E26: Mantenimiento o reparación del sistema de plomería | F26: Mantenimiento general de tuberías de cisterna: inspección, verificación de funcionamiento, limpieza y ajuste de elementos de sujeción. Entrega a satisfacción y funcionamiento | G26: UND | H26: 1 | I26: =+[1]APU!T1012 -> 1056624 | J26: =+H26*I26 -> 1056624
B27: 25 | C27: No aplica (no es un bien) | D27: 72101510 | E27: Mantenimiento o reparación del sistema de plomería | F27: Inspección y mantenimiento de la placa superior de la cisterna, con limpieza, ajuste de fijaciones y sellos. Entrega a satisfacción y funcionamiento. | G27: UND | H27: 1 | I27: =+[1]APU!T1053 -> 344681 | J27: =+H27*I27 -> 344681
B28: 26 | C28: No aplica (no es un bien) | D28: 72101510 | E28: Mantenimiento o reparación del sistema de plomería | F28: Suministro y reemplazo de ductos de toma para motobombas (3 m × 2"), con desmontaje e instalación. Entrega a satisfacción y funcionamiento | G28: UND | H28: 2 | I28: =+[1]APU!T1096 -> 1154886.4 | J28: =+H28*I28 -> 2309772.7
B29: 27 | C29: No aplica (no es un bien) | D29: 72101510 | E29: Mantenimiento o reparación del sistema de plomería | F29: Suministro y reemplazo de válvula de pie 2" para succión de motobombas, con pruebas de estanqueidad. Entrega a satisfacción y funcionamiento | G29: UND | H29: 2 | I29: =+[1]APU!T1138 -> 319510.33 | J29: =+H29*I29 -> 639020.67
B30: 28 | C30: No aplica (no es un bien) | D30: 72101510 | E30: Mantenimiento o reparación del sistema de plomería | F30: Mantenimiento de compuerta de cisterna (1,2 m × 1,2 m): limpieza, ajuste y verificación de cierre. | G30: UND | H30: 1 | I30: =+[1]APU!T1179 -> 1049024 | J30: =+H30*I30 -> 1049024
B31: 29 | C31: No aplica (no es un bien) | D31: 72154022 | E31: Servicios de instalación y mantenimiento de equipos hidráulicos | F31: Verificación y mantenimiento de tanque presurizado Hidro Flow 300 L: detección y corrección de fugas, ajuste de presión neumática, verificación de manómetro y válvulas, y prueba de válvula de purga. Entrega a satisfacción y funcionamiento. | G31: UND | H31: 2 | I31: =+[1]APU!T1220 -> 780702.86 | J31: =+H31*I31 -> 1561405.7
B32: 30 | C32: No aplica (no es un bien) | D32: 72154022 | E32: Servicios de instalación y mantenimiento de equipos hidráulicos | F32: Verificación y mantenimiento de vejigas de tanque Hidro Flow 300 L: detección de fugas, mantenimiento o reemplazo de válvula de espiga de entrada de aire para calibración. Entrega a satisfacción y funcionamiento | G32: UND | H32: 2 | I32: =+[1]APU!T1261 -> 344681 | J32: =+H32*I32 -> 689362
B33: 31 | C33: No aplica (no es un bien) | D33: 72154022 | E33: Servicios de instalación y mantenimiento de equipos hidráulicos | F33: Suministro y reemplazo de presóstato convencional, con calibración de rango y límite de presión. Entrega a satisfacción y funcionamiento | G33: UND | H33: 2 | I33: =+[1]APU!T1302 -> 319260.33 | J33: =+H33*I33 -> 638520.67
B34: 32 | C34: No aplica (no es un bien) | D34: 72101510 | E34: Mantenimiento o reparación del sistema de plomería | F34: Mantenimiento general de tuberías de distribución de agua, con inspección, limpieza y ajuste de uniones. Entrega a satisfacción y funcionamiento | G34: UND | H34: 1 | I34: =+[1]APU!T1343 -> 1177086.4 | J34: =+H34*I34 -> 1177086.4
B35: 33 | C35: No aplica (no es un bien) | D35: 72101510 | E35: Mantenimiento o reparación del sistema de plomería | F35: Suministro y reemplazo de manómetro 0 –200 PSI, con instalación y prueba de estanqueidad. Entrega a satisfacción y funcionamiento | G35: UND | H35: 4 | I35: =+[1]APU!T1384 -> 324423.56 | J35: =+H35*I35 -> 1297694.2
B36: 34 | C36: No aplica (no es un bien) | D36: 72154022 | E36: Servicios de instalación y mantenimiento de equipos hidráulicos | F36: Calibración de presiones hidráulicas del conjunto de motobombas, con reporte de parámetros finales. Entrega a satisfacción y funcionamiento. | G36: UND | H36: 1 | I36: =+[1]APU!T1425 -> 194770.67 | J36: =+H36*I36 -> 194770.67
B37: 35 | C37: No aplica (no es un bien) | D37: 72154022 | E37: Servicios de instalación y mantenimiento de equipos hidráulicos | F37: Calibración de presión neumática de tanque Hidro Flow, con registro de valores antes y después. Entrega a satisfacción y funcionamiento | G37: UND | H37: 2 | I37: =+[1]APU!T1466 -> 194770.67 | J37: =+H37*I37 -> 389541.33
B38: 36 | C38: No aplica (no es un bien) | D38: 72101510 | E38: Mantenimiento o reparación del sistema de plomería | F38: Limpieza, revisión y mantenimiento de canales de aguas lluvias. Incluye herramientas, retiro de residuos y disposición adecuada; ejecución conforme a buenas prácticas para garantizar flujo y drenaje. Entrega a satisfacción y funcionamiento | G38: ML | H38: 910 | I38: =+[1]APU!T1509 -> 4209.3378 | J38: =+H38*I38 -> 3830497.4
B39: 37 | C39: No aplica (no es un bien) | D39: 72101510 | E39: Mantenimiento o reparación del sistema de plomería | F39: Limpieza, revisión y mantenimiento de bajantes de aguas lluvias. Incluye herramientas, retiro de residuos y disposición adecuada; ejecución conforme a buenas prácticas para garantizar flujo y drenaje. Entrega a satisfacción y funcionamiento | G39: ML | H39: 860 | I39: =+[1]APU!T1552 -> 4209.3378 | J39: =+H39*I39 -> 3620030.5
B40: 38 | C40: No aplica (no es un bien) | D40: 72101510 | E40: Mantenimiento o reparación del sistema de plomería | F40: Limpieza, revisión y mantenimiento de sumideros de aguas lluvias. Incluye herramientas, retiro de residuos y disposición adecuada; ejecución conforme a buenas prácticas para garantizar flujo y drenaje. Entrega a satisfacción y funcionamiento | G40: UND | I40: =+[1]APU!T1595 -> 175511.85 | J40: =+H40*I40 -> 0
B41: 39 | C41: No aplica (no es un bien) | D41: 72101510 | E41: Mantenimiento o reparación del sistema de plomería | F41: Limpieza, revisión y mantenimiento de cunetas de aguas lluvias. Incluye herramientas, retiro de residuos y disposición adecuada; ejecución conforme a buenas prácticas para garantizar flujo y drenaje. Entrega a satisfacción y funcionamiento | G41: ML | H41: 845 | I41: =+[1]APU!T1638 -> 9426.0333 | J41: =+H41*I41 -> 7964998.2
...

Sheet APU
E1: DIRECCIÓN ADMINISTRATIVA Y FINANCIERA GRUPO CONSTRUCCIONES | T1: GIL-F-061 V.1
E4: ANÁLISIS DE PRECIOS UNITARIOS (Hoja 2 de 2)
A6: B. DATOS ESPECIFICOS
A7: Item | C7: Descripción | R7: Unidad | T7: Cantidad
A8: =+'2026'!B7 -> 1 | C8: =+'2026'!F7 -> Servicio que incluye el suministro y reemplazo de sellos hidráulicos de motobombas, con desmontaje, limpieza, verificación de asientos y prueba de estanqueidad; incluye insumos y mano de obra. | R8: =+'2026'!G7 -> UND
A10: 1. Equipo
A11: Descripción | H11: Marca | K11: Tipo | O11: Tarifa/Hora | R11: Rendimiento | T11: Vr. Unitario
A12: Herramienta menor | T12: 15000
A13: Equipo de Prueba | O13: 250000 | R13: 8 | T13: =+O13/R13 -> 31250
A15: SUBTOTAL | T15: =+SUM(T12:V14) -> 46250
A17: 2. Materiales
A18: Descripción | M18: Unidad | O18: Cantidad | Q18: Precio Unit. | T18: Vr Unitario
A19: SELLO MECANICO | M19: UND | O19: 1 | Q19: 150000 | T19: =+O19*Q19 -> 150000
A20: GRASA/LUBRICANTES | M20: UND | O20: 0.1 | Q20: 25000 | T20: =+O20*Q20 -> 2500
A21: LIMPIADOR INDUSTRIAL | M21: UND | O21: 0.1 | Q21: 25000 | T21: =+O21*Q21 -> 2500
A22: EMPAQUE | M22: UND | O22: 1 | Q22: 40000 | T22: =+O22*Q22 -> 40000
A23: SUBTOTAL | T23: =+SUM(T19:V22) -> 195000
A25: 3. Transportes
A26: Material | K26: Vol. o Peso | M26: Distancia | O26: m2 o Ton/Km | R26: Tarifa | T26: Vr. Unitario
A30: SUBTOTAL
A32: 4. Mano de Obra
A33: Trabajador | J33: Cant. | N33: Jornal + Prestaciones | Q33: Rendimiento | T33: Vr. Unitario
A34: Tecnico Especializado | J34: 1 | N34: 139345 | Q34: 1 | T34: =+(J34*N34)/Q34 -> 139345
A35: Ayudante | J35: 1 | N35: 95436 | Q35: 1 | T35: =+(J35*N35)/Q35 -> 95436
A37: SUBTOTAL | T37: =+SUM(T34:V35) -> 234781
A38: TOTAL COSTO DIRECTO | T38: =+T37+T30+T23+T15 -> 476031
A39: AIU CONTRACTUAL | E39: 0.25 | S39: TOTAL COSTO INDIRECTO | T39: =+T38*E39 -> 119007.75
A40: VALOR TOTAL ACTIVIDAD | T40: =+T39+T38 -> 595038.75
E43: DIRECCIÓN ADMINISTRATIVA Y FINANCIERA GRUPO CONSTRUCCIONES | T43: GIL-F-061 V.1
E46: ANÁLISIS DE PRECIOS UNITARIOS (Hoja 2 de 2)
A48: B. DATOS ESPECIFICOS
A49: Item | C49: Descripción | R49: Unidad | T49: Cantidad
A50: =+'2026'!B8 -> 2 | C50: =+'2026'!F8 -> Mantenimiento preventivo de motores eléctricos de 5 HP, que incluye cambio de rodamientos y terminales eléctricos, limpieza, pruebas de giro y verificación de aislamiento. | R50: =+'2026'!G8 -> UND
A52: 1. Equipo
A53: Descripción | H53: Marca | K53: Tipo | O53: Tarifa/Hora | R53: Rendimiento | T53: Vr. Unitario
A54: Herramienta menor | T54: 25000
A55: Equipo de Prueba | O55: 120000 | R55: 8 | T55: =+O55/R55 -> 15000
A56: Extractor de rodamientos | O56: 80000 | R56: 8 | T56: =+O56/R56 -> 10000
A57: SUBTOTAL | T57: =+SUM(T54:V56) -> 50000
A59: 2. Materiales
...
