Workbook
Name tblMainTable_trRowMiddle_tdCell1_tblForm_trGridRow_tdCell1_grdResultList_tdContractBuyerNameCol_lnkEntityLink_4: CONTRATO!$D$11

Sheet CONTRATO
C10: FORMATO | D10: INFORMACION CONTRATO
C11: ENTIDAD | D11: AUNAP
C14: NUMERO DE CONTRATO | D14: CTO 464-2026
C15: VALOR CONTRATO | D15: 565000000
C16: FECHA DE INICIO | D16: 46140
C17: FECHA DE FINALIZACIÓN | D17: 46387
C18: FECHA DE FINALIZACIÓN PRORROGA
C19: MODIFICACIONES AL CONTRATO
C22: ASESOR | D22: PLATAFORMA
C23: PLATAFORMA | D23: CON ASESOR LINA GARCIA
C25: CONDICIONES
C26: DESCUENTO | D26: 8% TARIFA NETA DEL TIQUETE
C29: FACTURACION | D29: INCLUIDO DESCUENTO EN FACTURA
C30: CODIGO OLIMPIA

Sheet 01-23 MAYO 
B2: FECHA DE ELABORACION | C2: 46158
B3: NOMBRE DE LA ENTIDAD | C3: =+CONTRATO!D11 -> AUNAP
B4: SUMINISTRO DE TIQUETES | C4: CORTE DEL 01-15 MAYO
B5: RELACION No. | C5: 1
B6: ELABORADO POR | C6: DIANA FONSECA
B7: REVISADO POR | C7: VALERIA TRUJILLO
B8: CONTRATO No. SUMINISTRO No. CTO 464-2026 | C8: =+CONTRATO!D15 -> 565000000
B9: FECHA INICIAL | C9: =+CONTRATO!D16 -> 46140
B10: FECHA FINAL | C10: 46387
B13: REMISION | C13: FACTURA | D13: FECHA | E13: CEDULA | F13: NOMBRE DE PASAJERO | G13: AEROLINEA | H13: TIQUETE | I13: RUTA | J13: NAC/INT | K13: FECHA DE IDA | L13: FECHA DE REGRESO | M13: TARIFA NETA | N13: COMBUSTIBLE | O13: IVA | P13: TASA AEROPORTUARIA | Q13: OTROS IMPUESTOS | R13: TARIFA ADMIN | S13: IVA T.A | T13: DESCUENTO 8% | U13: TOTAL | V13: REVISADOS | W13: OBSERVACIONES
B14: 32380 | C14: V45195 | D14: 46149 | E14: 1003431122 | F14: BENITEZ RIVAS / JUAN CAMILO | G14: LATAM | H14: 9479688397 | I14: BAQ/BOG | J14: NAC | K14: 46151.892 | L14: 46151.892 | M14: 290137 | N14: 41000 | O14: 62914 | P14: 25200 | Q14: 0 | R14: 46100 | S14: 8759 | T14: -23211 | U14: =SUM(M14:T14) -> 450899
B15: 32381 | C15: V45195 | D15: 46149 | E15: 13070103 | F15: TEPUD VERDUGO/ WILLYAM ARBEY | G15: LATAM | H15: 9479688398 | I15: BAQ/BOG | J15: NAC | K15: 46151.892 | L15: 46151.892 | M15: 290137 | N15: 41000 | O15: 62914 | P15: 25200 | Q15: 0 | R15: 46100 | S15: 8759 | T15: -23211 | U15: =SUM(M15:T15) -> 450899
B16: 32498 | C16: V45195 | D16: 46153 | E16: 13070103 | F16: TEPUD VERDUGO / WILLYAM ARBEY MR | G16: AVIANCA | H16: 9479710630 | I16: NVA/BOG | J16: NAC | K16: 46155.625 | L16: 46155.625 | M16: 742840 | N16: 32700 | O16: 147350 | P16: 25200 | Q16: 0 | R16: 46100 | S16: 8759 | T16: -59427 | U16: =SUM(M16:T16) -> 943522
B17: 32504 | C17: V45195 | D17: 46153 | E17: 13070103 | F17: TEPUD VERDUGO/WILLYAM ARBEY | G17: CLIC | H17: 333273506 | I17: BOG/NVA | J17: NAC | K17: 46154.806 | L17: 46154.806 | M17: 970840 | N17: 0 | O17: 184460 | P17: 23700 | Q17: 0 | R17: 46100 | S17: 8759 | T17: -77667 | U17: =SUM(M17:T17) -> 1156192
B18: 32534 | C18: V45195 | D18: 46154 | E18: 67026411 | F18: ANGELICA MARIA / DIAZ RAMIREZ | G18: JETSMART | H18: 9479710658 | I18: BOG/CLO | J18: NAC | K18: 46155.615 | L18: 46155.615 | M18: 523700 | N18: 4110 | O18: 100284 | P18: 23700 | Q18: 0 | R18: 46100 | S18: 8759 | T18: -41896 | U18: =SUM(M18:T18) -> 664757
B19: 32535 | C19: V45195 | D19: 46154 | E19: 52184867 | F19: PUCHE CABRERA / DIANA PATRICIA | G19: JETSMART | H19: 9479710660 | I19: BOG/CLO | J19: NAC | K19: 46155.615 | L19: 46155.615 | M19: 523700 | N19: 4110 | O19: 100284 | P19: 23700 | Q19: 0 | R19: 46100 | S19: 8759 | T19: -41896 | U19: =SUM(M19:T19) -> 664757
B20: 32536 | C20: V45195 | D20: 46154 | E20: 667466683 | F20: JIMENEZ JARAMILLO / MARIA FERNANDA | G20: JETSMART | H20: 9479710659 | I20: BOG/CLO | J20: NAC | K20: 46155.615 | L20: 46155.615 | M20: 523700 | N20: 4110 | O20: 100284 | P20: 23700 | Q20: 0 | R20: 46100 | S20: 8759 | T20: -41896 | U20: =SUM(M20:T20) -> 664757
B21: 32537 | C21: V45195 | D21: 46154 | E21: 67026411 | F21: DIAZ RAMIREZ / ANGELICA MARIA | G21: JETSMART | H21: 9479710662 | I21: CLO/BOG | J21: NAC | K21: 46158.348 | L21: 46158.348 | M21: 467800 | N21: 4110 | O21: 89664 | P21: 25200 | Q21: 0 | R21: 46100 | S21: 8759 | T21: -37424 | U21: =SUM(M21:T21) -> 604209
B22: 32538 | C22: V45195 | D22: 46154 | E22: 66746663 | F22: JIMENEZ JARAMILLO / MARIA FERNANDA | G22: JETSMART | H22: 9479710663 | I22: CLO/BOG | J22: NAC | K22: 46158.348 | L22: 46158.348 | M22: 467800 | N22: 4110 | O22: 89664 | P22: 25200 | Q22: 0 | R22: 46100 | S22: 8759 | T22: -37424 | U22: =SUM(M22:T22) -> 604209
B23: 32539 | C23: V45195 | D23: 46154 | E23: 52184867 | F23: PUCHE CABRERA / DIANA PATRICIA | G23: JETSMART | H23: 9479710664 | I23: CLO/BOG | J23: NAC | K23: 46158.348 | L23: 46158.348 | M23: 467800 | N23: 4110 | O23: 89664 | P23: 25200 | Q23: 0 | R23: 46100 | S23: 8759 | T23: -37424 | U23: =SUM(M23:T23) -> 604209
B24: 32540 | C24: V45195 | D24: 46154 | E24: 13070103 | F24: TEPUD VERDUGO / WILLYAM ARBEY | G24: AVIANCA | H24: 9479710666 | I24: BOG/BAQ | J24: NAC | K24: 46155.92 | L24: 46155.92 | M24: 437221 | N24: 32700 | O24: 89283 | P24: 23700 | Q24: 0 | R24: 46100 | S24: 8759 | T24: -34979 | U24: =SUM(M24:T24) -> 602784
B25: 32569 | C25: V45195 | D25: 46155 | E25: 50967354 | F25: NOVOA PERALTA / MILENA | G25: LATAM | H25: 9479710683 | I25: BOG/BAQ | J25: NAC | K25: 46156.208 | L25: 46156.208 | M25: 740100 | N25: 41800 | O25: 148561 | P25: 23700 | Q25: 0 | R25: 83700 | S25: 15903 | T25: -59208 | U25: =SUM(M25:T25) -> 994556
B26: 32572 | C26: V45195 | D26: 46155 | E26: 130070103 | F26: TEPUD VERDUGO / WILLYAM ARBEY | G26: AVIANCA | H26: 9479710692 | I26: MTR/BOG | J26: NAC | K26: 46157.92 | L26: 46157.92 | M26: 459700 | N26: 32700 | O26: 93553 | P26: 24800 | Q26: 0 | R26: 46100 | S26: 8759 | T26: -36776 | U26: =SUM(M26:T26) -> 628836
B27: 32579 | C27: V45195 | D27: 46155 | E27: 50967354 | F27: NOVOA PERALTA / MILENA | G27: AVIANCA | H27: 9479710696 | I27: MTR/BOG | J27: NAC | K27: 46157.837 | L27: 46157.837 | M27: 615700 | N27: 32700 | O27: 123193 | P27: 24800 | Q27: 0 | R27: 46100 | S27: 8759 | T27: -49256 | U27: =SUM(M27:T27) -> 801996
B28: 32649 | C28: V45195 | D28: 46156 | E28: 1099961126 | F28: OSORIO PATRON / JORGE ARMANDO | G28: AVIANCA | H28: 9479735302 | I28: BOG/CTG/BOG | J28: NAC | K28: 46162.74 | L28: 46164.375 | M28: 586700 | N28: 65400 | O28: 123903 | P28: 48400 | Q28: 0 | R28: 83700 | S28: 15903 | T28: -46936 | U28: =SUM(M28:T28) -> 877070
B29: 32817 | C29: V45195 | D29: 46161 | E29: 13070103 | F29: TEPUD VERDUGO / WILLYAM ARBEY | G29: AVIANCA | H29: 9479748921 | I29: BOG/CTG/BOG | J29: NAC | K29: 46162.865 | L29: 46164.507 | M29: 1384700 | N29: 65400 | O29: 275523 | P29: 48400 | Q29: 0 | R29: 83700 | S29: 15903 | T29: -110776 | U29: =SUM(M29:T29) -> 1762850
... B32: 32876 | C32: V45195 | D32: 46162 | E32: 51958365 | F32: SANCHEZ PAEZ / CLAUDIA LILIANA | G32: LATAM | H32: 9479771181 | I32: BOG/CLO/BOG | J32: NAC | K32: 46167.493 | L32: 46168.778 | M32: 505700 | N32: 84000 | O32: 112043 | P32: 48900 | Q32: 0 | R32: 83700 | S32: 15903 | T32: -40456 | U32: =SUM(M32:T32) -> 809790
B33: 32929 | C33: V45195 | D33: 46163 | E33: 13070103 | F33: TEPUD VERDUGO / WILLYAM ARBEY | G33: AVIANCA | H33: 9479771220 | I33: CTG/BOG | J33: NAC | K33: 46164.788 | L33: 46164.788 | M33: 100000 | N33: 0 | O33: 0 | P33: 0 | Q33: 0 | R33: 83700 | S33: 15903 | T33: -8000 | U33: =SUM(M33:T33) -> 191603 | V33: Doc.Rev 134 9479 748921 $0.00
B34: 32929 | C34: V45195 | D34: 46163 | E34: 13070103 | F34: TEPUD VERDUGO / WILLYAM ARBEY | G34: AVIANCA | H34: 1943613364 | J34: NAC | M34: 125000 | N34: 0 | O34: 0 | P34: 0 | Q34: 0 | R34: 0 | S34: 0 | T34: 0 | U34: =SUM(M34:T34) -> 125000
B35: 32939 | C35: V45195 | D35: 46163 | E35: 16490482 | F35: ANGULO VIVEROS / WILBERTO | G35: LATAM | H35: 9479771250 | I35: BOG/CLO/BOG | J35: NAC | K35: 46167.375 | L35: 46168.837 | M35: 526700 | N35: 82600 | O35: 115767 | P35: 48900 | Q35: 0 | R35: 83700 | S35: 15903 | T35: -42136 | U35: =SUM(M35:T35) -> 831434
B36: 32940 | C36: V45195 | D36: 46163 | E36: 50967354 | F36: NOVOA PERALTA / MILENA | G36: LATAM | H36: 9479771251 | I36: BOG/CTG/BOG | J36: NAC | K36: 46164.233 | L36: 46164.896 | M36: 1116300 | N36: 82600 | O36: 227787 | P36: 48400 | Q36: 0 | R36: 83700 | S36: 15903 | T36: -89304 | U36: =SUM(M36:T36) -> 1485386
B37: 32941 | C37: V45195 | D37: 46163 | E37: 1064985963 | F37: MORALES SOTO / PAULA ANDREA | G37: AVIANCA | H37: 9479771254 | I37: BOG/BAQ/BOG | J37: NAC | K37: 46169.25 | L37: 46171.806 | M37: 774700 | N37: 65400 | O37: 159623 | P37: 48900 | Q37: 0 | R37: 83700 | S37: 15903 | T37: -61976 | U37: =SUM(M37:T37) -> 1086250
B38: 32942 | C38: V45195 | D38: 46163 | E38: 1003431122 | F38: BENITEZ RIVAS / JUAN CAMILO | G38: AVIANCA | H38: 9479771255 | I38: BOG/CTG/BOG | J38: NAC | K38: 46164.229 | L38: 46164.726 | M38: 1205700 | N38: 65400 | O38: 241513 | P38: 48400 | Q38: 0 | R38: 83700 | S38: 15903 | T38: -96456 | U38: =SUM(M38:T38) -> 1564160
B39: 32961 | C39: V45195 | D39: 46163 | E39: 66730236 | F39: PINEDA RUIZ HECY MAGDA | G39: CLIC | H39: 0333292113 | I39: CLO/PSO/CLO | J39: NAC | K39: 46167.347 | L39: 46171.399 | M39: 1286050 | N39: 0 | O39: 244350 | P39: 50400 | Q39: 0 | R39: 83700 | S39: 15903 | T39: -102884 | U39: =SUM(M39:T39) -> 1577519
B40: 32962 | C40: V45195 | D40: 46163 | E40: 1130589610 | F40: RAMIREZ MARTINEZ/ GUSTAVO ADOLFO | G40: CLIC | H40: 0333292114 | I40: CLO/PSO/CLO | J40: NAC | K40: 46167.347 | L40: 46171.399 | M40: 1286050 | N40: 0 | O40: 244350 | P40: 50400 | Q40: 0 | R40: 83700 | S40: 15903 | T40: -102884 | U40: =SUM(M40:T40) -> 1577519
B41: 32963 | C41: V45195 | D41: 46163 | E41: 12913087 | F41: ORTIZ FERRIN OMAR OLIMPO | G41: CLIC | H41: 0333292118 | I41: TCO/CLO/TCO | J41: NAC | K41: 46167.312 | L41: 46169.694 | M41: 706050 | N41: 0 | O41: 134150 | P41: 50400 | Q41: 0 | R41: 83700 | S41: 15903 | T41: -56484 | U41: =SUM(M41:T41) -> 933719
B42: 32979 | C42: V45195 | D42: 46164 | E42: 19365810 | F42: BARRETO REYES / CARLOS GUILLERMO | G42: LATAM | H42: 9479771275 | I42: BOG/CLO/BOG | J42: NAC | K42: 46167.493 | L42: 46199.778 | M42: 789900 | N42: 82000 | O42: 165663 | P42: 48900 | Q42: 0 | R42: 83700 | S42: 15903 | T42: -63192 | U42: =SUM(M42:T42) -> 1122874
B43: 32980 | C43: V45195 | D43: 46164 | E43: 53907243 | F43: GONZALEZ JEREZ / CLAUDIA BIBIANA | G43: LATAM | H43: 9479783627 | I43: BOG/CLO/BOG | J43: NAC | K43: 46167.493 | L43: 46199.778 | M43: 789900 | N43: 82000 | O43: 165663 | P43: 48900 | Q43: 0 | R43: 83700 | S43: 15903 | T43: -63192 | U43: =SUM(M43:T43) -> 1122874
B44: 32983 | C44: V45195 | D44: 46164 | E44: 11341658 | F44: ANGARITA REYES / WILSON ENRIQUE | G44: LATAM | H44: 9479783637 | I44: BOG/CLO/BOG | J44: NAC | K44: 46176.375 | L44: 46178.91 | M44: 437700 | N44: 82000 | O44: 98743 | P44: 48900 | Q44: 0 | R44: 83700 | S44: 15903 | T44: -35016 | U44: =SUM(M44:T44) -> 731930
B45: 32987 | C45: V45195 | D45: 46164 | E45: 66741664 | F45: OCHOA HINOJOSA/ROCIO | G45: SATENA | H45: 2463359510 | I45: PPN/GPI/PPN | J45: NAC | K45: 46169.476 | L45: 46171.434 | M45: 510000 | N45: 0 | O45: 0 | P45: 38200 | Q45: 0 | R45: 83700 | S45: 15903 | T45: -40800 | U45: =SUM(M45:T45) -> 607003
...

Sheet 24 MAY-15 JUN
B2: FECHA DE ELABORACION | C2: 46190
B3: NOMBRE DE LA ENTIDAD | C3: =+CONTRATO!D11 -> AUNAP
B4: SUMINISTRO DE TIQUETES | C4: CORTE DEL 24 DE MAYO- 15 JUNIO
B5: RELACION No. | C5: 2
B6: ELABORADO POR | C6: DIANA FONSECA
B7: REVISADO POR | C7: VALERIA TRUJILLO
B8: CONTRATO No. SUMINISTRO No. CTO 464-2026 | C8: =+CONTRATO!D15 -> 565000000
B9: FECHA INICIAL | C9: =+CONTRATO!D16 -> 46140
B10: FECHA FINAL | C10: 46387
B13: REMISION | C13: FACTURA | D13: FECHA | E13: CEDULA | F13: NOMBRE DE PASAJERO | G13: AEROLINEA | H13: TIQUETE | I13: RUTA | J13: NAC/INT | K13: FECHA DE IDA | L13: FECHA DE REGRESO | M13: TARIFA NETA | N13: COMBUSTIBLE | O13: IVA | P13: TASA AEROPORTUARIA | Q13: OTROS IMPUESTOS | R13: TARIFA ADMIN | S13: IVA T.A | T13: DESCUENTO 8% | U13: TOTAL | V13: REVISADOS | W13: OBSERVACIONES
B14: 33181 | C14: V45267 | D14: 46162 | E14: 67026411 | F14: DIAZ RAMIREZ / ANGELICA MARIA | G14: LATAM | H14: 9479771207 | I14: BOG/RCH | J14: NAC | K14: 46163.42 | L14: 46163.42 | M14: 548703 | N14: 42000 | O14: 0 | P14: 23700 | Q14: 0 | R14: 46100 | S14: 8759 | T14: -43896 | U14: =SUM(M14:T14) -> 625366
B15: 33182 | C15: V45267 | D15: 46162 | E15: 52184867 | F15: PUCHE CABRERA / DIANA PATRICIA | G15: LATAM | H15: 9479771208 | I15: BOG/RCH | J15: NAC | K15: 46163.42 | L15: 46163.42 | M15: 548703 | N15: 42000 | O15: 0 | P15: 23700 | Q15: 0 | R15: 46100 | S15: 8759 | T15: -43896 | U15: =SUM(M15:T15) -> 625366
B16: 33183 | C16: V45267 | D16: 46162 | E16: 67026411 | F16: DIAZ RAMIREZ / ANGELICA MARIA | G16: AVIANCA | H16: 9479771209 | I16: RCH/BOG | J16: NAC | K16: 46164.837 | L16: 46164.837 | M16: 649603 | N16: 32700 | O16: 0 | P16: 24700 | Q16: 5300 | R16: 46100 | S16: 8759 | T16: -51968 | U16: =SUM(M16:T16) -> 715194
B17: 33184 | C17: V45267 | D17: 46162 | E17: 52184867 | F17: PUCHE CABRERA / DIANA PATRICIA | G17: AVIANCA | H17: 9479771210 | I17: RCH/BOG | J17: NAC | K17: 46164.837 | L17: 46164.837 | M17: 649603 | N17: 32700 | O17: 0 | P17: 24700 | Q17: 5300 | R17: 46100 | S17: 8759 | T17: -51968 | U17: =SUM(M17:T17) -> 715194
B18: 33049 | C18: V45267 | D18: 46167 | E18: 1018479407 | F18: ALVARADO DANIELS / CARLOS SEBASTIAN | G18: LATAM | H18: 9479783687 | I18: BOG/MDE/BOG | J18: NAC | K18: 46169.562 | L18: 46171.5 | M18: 570700 | N18: 81200 | O18: 123861 | P18: 48500 | Q18: 0 | R18: 83700 | S18: 15903 | T18: -45656 | U18: =SUM(M18:T18) -> 878208
B19: 33074 | C19: V45267 | D19: 46167 | E19: 79357452 | F19: PLATA GONZALEZ / JAVIER | G19: AVIANCA | H19: 9479783705 | I19: BOG/CTG/BOG | J19: NAC | K19: 46168.229 | L19: 46170.667 | M19: 1121700 | N19: 65400 | O19: 225553 | P19: 48400 | Q19: 0 | R19: 83700 | S19: 15903 | T19: -89736 | U19: =SUM(M19:T19) -> 1470920
B20: 33075 | C20: V45267 | D20: 46167 | E20: 1015411255 | F20: TAPIA PENATES / CARLOS DAVID | G20: AVIANCA | H20: 9479783708 | I20: BOG/MTR/BOG | J20: NAC | K20: 46169.337 | L20: 46171.837 | M20: 786700 | N20: 65400 | O20: 161903 | P20: 48500 | Q20: 0 | R20: 83700 | S20: 15903 | T20: -62936 | U20: =SUM(M20:T20) -> 1099170
B21: 33076 | C21: V45267 | D21: 46167 | E21: 78759892 | F21: TOBIO CARDENAS / ALEXANDER RAFAEL | G21: AVIANCA | H21: 9479783709 | I21: BOG/MTR/BOG | J21: NAC | K21: 46169.337 | L21: 46171.837 | M21: 786700 | N21: 65400 | O21: 161903 | P21: 48500 | Q21: 0 | R21: 83700 | S21: 15903 | T21: -62936 | U21: =SUM(M21:T21) -> 1099170
B22: 33091 | C22: V45267 | D22: 46167 | E22: 1031159982 | F22: HIGUERA CUERVO / ANDRO SEBASTIAN | G22: LATAM | H22: 9479783721 | I22: BOG/BAQ | J22: NAC | K22: 46168.208 | L22: 46168.208 | M22: 382700 | N22: 40600 | O22: 80427 | P22: 23700 | Q22: 0 | R22: 46100 | S22: 8759 | T22: -30616 | U22: =SUM(M22:T22) -> 551670
B23: 33092 | C23: V45267 | D23: 46167 | E23: 1031159982 | F23: HIGUERA CUERVO / ANDRO SEBASTIAN | G23: LATAM | H23: 9479783722 | I23: SMR/BOG | J23: NAC | K23: 46169.576 | L23: 46169.576 | M23: 356700 | N23: 40600 | O23: 75487 | P23: 24700 | Q23: 0 | R23: 46100 | S23: 8759 | T23: -28536 | U23: =SUM(M23:T23) -> 523810
B24: 33150 | C24: V45267 | D24: 46168 | E24: 1099961126 | F24: OSORIO PATRON / JORGE ARMANDO | G24: LATAM | H24: 9479802529 | I24: BOG/MTR/BOG | J24: NAC | K24: 46169.316 | L24: 46172.462 | M24: 778700 | N24: 81200 | O24: 163381 | P24: 48500 | Q24: 0 | R24: 83700 | S24: 15903 | T24: -62296 | U24: =SUM(M24:T24) -> 1109088
B25: 33155 | C25: V45267 | D25: 46168 | E25: 1064985963 | F25: MORALES SOTO / PAULA ANDREA | G25: AVIANCA | H25: 9479802521 | I25: BOG/MDE/BOG | J25: NAC | K25: 46176.521 | L25: 46178.444 | M25: 582700 | N25: 65400 | O25: 123143 | P25: 48500 | Q25: 0 | R25: 83700 | S25: 15903 | T25: -46616 | U25: =SUM(M25:T25) -> 872730
... B59: 33788 | C59: V45267 | D59: 46182 | E59: 1152436061 | F59: CASTILLO MENDOZA/SUATH ELENARNANDA | G59: SATENA | H59: 2463378992 | I59: BOG/CZU/BOG | J59: NAC | K59: 46183.785 | L59: 46185.876 | M59: 876050 | N59: 0 | O59: 166450 | P59: 36100 | Q59: 0 | R59: 83700 | S59: 15903 | T59: -70084 | U59: =SUM(M59:T59) -> 1108119
B60: 33839 | C60: V45267 | D60: 46183 | F60: AVILES BERNAL / MONICA | G60: AVIANCA | H60: 4856156423 | I60: BOG/FLA/BOG | J60: NAC | K60: 46190.347 | L60: 46192.812 | M60: 944600 | N60: 65400 | O60: 191903 | P60: 48900 | Q60: 0 | R60: 83700 | S60: 15903 | T60: -75568 | U60: =SUM(M60:T60) -> 1274838
B61: 33842 | C61: V45267 | D61: 46183 | E61: 85450509 | F61: MUNOZ DIAZ / EDWIN MARTIN | G61: AVIANCA | H61: 4856156426 | I61: MDE/BOG | J61: NAC | K61: 46184.497 | L61: 46184.497 | M61: 308700 | N61: 32700 | O61: 64863 | P61: 24800 | Q61: 0 | R61: 46100 | S61: 8759 | T61: -24696 | U61: =SUM(M61:T61) -> 461226
B62: 33871 | C62: V45267 | D62: 46183 | E62: 26366989 | F62: MORENO MURILLO/ANNE ILSE | G62: SATENA | H62: 2463380950 | I62: BSC/EOH/BOG | J62: NAC | K62: 46184.493 | L62: 46184.662 | M62: 831169 | N62: 0 | O62: 73372 | P62: 13000 | Q62: 0 | R62: 46100 | S62: 8759 | T62: -66494 | U62: =SUM(M62:T62) -> 905906
B63: 33882 | C63: V45267 | D63: 46184 | E63: 1064985963 | F63: MORALES SOTO / PAULA ANDREA | G63: LATAM | H63: 4856156460 | I63: BOG/CTG/BOG | J63: NAC | K63: 46189.375 | L63: 46191.705 | M63: 1176700 | N63: 79000 | O63: 238583 | P63: 48400 | Q63: 0 | R63: 83700 | S63: 15903 | T63: -94136 | U63: =SUM(M63:T63) -> 1548150
B64: 33893 | C64: V45267 | D64: 46184 | E64: 1064985963 | F64: MURILLO LOZANO / GUILLERMO | G64: AVIANCA | H64: 4856156471 | I64: BOG/EJA/BOG | J64: NAC | K64: 46190.278 | L64: 46192.726 | M64: 692700 | N64: 65400 | O64: 144043 | P64: 48400 | Q64: 0 | R64: 83700 | S64: 15903 | T64: -55416 | U64: =SUM(M64:T64) -> 994730
B65: 33944 | C65: V45267 | D65: 46185 | E65: 1099961126 | F65: OSORIO PATRON / JORGE ARMANDO | G65: AVIANCA | H65: 4856172564 | I65: BOG/MTR | J65: NAC | K65: 46189.753 | L65: 46189.753 | M65: 441700 | N65: 32700 | O65: 90133 | P65: 23700 | Q65: 0 | R65: 46100 | S65: 8759 | T65: -35336 | U65: =SUM(M65:T65) -> 607756
B66: 33944 | C66: V45267 | D66: 46185 | E66: 1099961126 | F66: OSORIO PATRON / JORGE ARMANDO | G66: LATAM | H66: 4856172565 | I66: MTR/BOG | J66: NAC | K66: 46192.681 | L66: 46192.681 | M66: 283700 | N66: 38900 | O66: 61294 | P66: 24800 | Q66: 0 | R66: 46100 | S66: 8759 | T66: -22696 | U66: =SUM(M66:T66) -> 440857
B67: 33961 | C67: V45267 | D67: 46185 | E67: 9146407 | F67: GOMEZ PACHECO / HENRY GABRIEL | G67: AVIANCA | H67: 4856172584 | I67: BOG/EJA/BOG | J67: NAC | K67: 46190.278 | L67: 46192.726 | M67: 842700 | N67: 65400 | O67: 172543 | P67: 48400 | Q67: 0 | R67: 83700 | S67: 15903 | T67: -67416 | U67: =SUM(M67:T67) -> 1161230
U68: =SUM(M68:T68) -> 0
B69: TOTAL | M69: =SUM(M14:M68) -> 34768744 | N69: =SUM(N14:N68) -> 2545100 | O69: =SUM(O14:O68) -> 6361784 | P69: =SUM(P14:P68) -> 1958000 | Q69: =SUM(Q14:Q68) -> 10600 | R69: =SUM(R14:R68) -> 3692600 | S69: =SUM(S14:S68) -> 701594 | T69: =SUM(T14:T68) -> -2782042 | U69: =SUM(U14:U68) -> 47256380
C71: 1
B72: VALOR CTO 464-2026 | C72: =+CONTRATO!D15 -> 565000000
B73: CORTE 24 MAYO - 15 JUNIO | C73: =+U69 -> 47256380
B74: TOTAL CONSUMO ACUMULADO | C74: =+'01-23 MAYO '!C61+'24 MAY-15 JUN'!C73 -> 84943420
B75: ESTADO DE CARTERA | C75: =+'01-23 MAYO '!C61+'24 MAY-15 JUN'!C73 -> 84943420
B76: VALOR POR EJECUTAR | C76: =C72-C74 -> 480056580
C78: =(C74*C71)/C72 -> 0.15034234
...
